{"text_format":"1","workbook":"xlsx","n_sheets":6,"sheets":["BX Language acquisition","RocketEng","Anki","В > BX Language acquisition","Найти WAV","Найти JPG"],"not_rendered":{"charts":0,"images":0,"macros":1,"external_links":0,"defined_names":0,"comments":0,"pivot_tables":0},"unopened":[],"bounds":{"document_bytes":16777216,"sheet_cells":100000,"rows_first":2000,"rows_last":500,"rows_between":2000,"halvings":0,"cell_chars":16384,"cell_head_chars":4096},"cells_cut":0,"cells_raw":0,"read":"whole","date_system":"1900"}

{"sheet":"BX Language acquisition","index":0,"n_rows":101,"n_cols":5,"rows_kept":101,"cut":false,"hidden":false,"merged":[[0,0,0,3]]}
["Данные из бесплатной программы «BX Language acquisition» http://bxmemo.com/  (обратно можно сохранить если кодировка TXT будет UTF-16 LE BOM и расширение словаря bxd Должны быть поля: слово, перевод, транскрипция, пример, перевод примера)"]
["aboard","[ǝʹbɔ:d]","на борту, вдоль","АБОРТ ей сделали на борту самолета"]
["about","[ǝʹbaut]","о, около, вокруг","О чем репортаж? Да вокру все ЭБАНУТые"]
["above","[ǝʹbʌv]","над, до","А БОг Выше нас всех находится"]
["according to","[ǝʹkɔ:dıŋ tu:]","в соответствии с","Учительница музыки говорит ученику: Возьми АКОРД согласно нотам","to"]
["across","[ǝʹkrɔs]","через, поперек","А КРОСС всемирный собрал всех бегунов через препятствие"]
["after","[ʹɑ:ftǝ]","после","После АВТО-мобиля следует мотоцикл"]
["against","[ǝʹgenst]","против","Против работников ЭГЕНСТва (агентства) недвижимости выдвинуто обвинение"]
["along","[ǝʹlɔŋ]","вдоль, по","ЭшЕЛОНг шел вдоль леса по шпалам"]
["among","[ǝʹmʌŋ]","среди","А МАНГолы среди узкоглазых самые ускоглазые."]
["around","[ǝʹraund]","около, вокруг","хотя пЕрвый РАУНД еще не начался, вокруг ринга уже собралось много народа"]
["as","[æz]","как","Так как ЭЗбука Морзе придумана гениально…"]
["at","[æt]","в, у (где?)","на кАТке, в хАТе"]
["because of","[bıʹkɔz ɔv]","из-за","ПолюБИшь и КОЗла потому что любовь зла! (be-быть, cause-причинять, вызывать)","of"]
["before","[bıʹfɔ:]","до, прежде","ЛюБИ ФОрель прежде чем стать рыбаком"]
["behind","[bıʹhaınd]","за, позади","Сзади он ее ПИХАЕТ"]
["below","[bıʹlǝu]","ниже","Внизу все БЕЛО"]
["beside","[bıʹsaıd]","рядом","БЕСЕДка рядом с домом~ садись рядом будем БЕСЕДовать"]
["besides","[bıʹsaıdz]","кроме того","кроме того, ваша собака Была в САДу и повредила лапу"]
["between","[bıʹtwi:n]","между","Среди БИТВы между ИНвалидами, я чувствовал себя неуютно~ БЕДУИН между ног почесал себе"]
["beyond","[bıʹjɔnd]","за, по ту сторону","За забором лежит БИЙОНДца (пьяница)"]
["but","[bʌt]","но, кроме","Но кроме БАТона он ничего не принес на закуску~ Но, БАТый ведь новый уже у стен кремля?"]
["by","[baı]","по, около, у","мы ночуем у БАЙкала"]
["down","[daun]","вниз","при болезни ДАУНа развитие идет не вверх, а вниз~ Болезнь ДАУНа вниз бросает людей"]
["during","[ʹdjuǝrıŋ]","во время","Во время учебы мы валяли ДЙУРИКа и от того ничего и не знаем"]
["following","[ʹfɔlǝuıŋ]","после, следующий","Все женщины следуют за крепким ФОЛОУсом (фалосом)"]
["for","[fɔ:]","для, за","для ФОРмулы, за ней есть описание"]
["from","[frɔm]","от, из","гость из ФРанции отказался от рОМа"]
["in","[ın]","в","в ИНкубаторе"]
["inside","[ʹınʹsaıd]","внутри","И НаСАДили внутри рассаду"]
["into","[ʹıntu]","во, в, внутрь","Внутри каждого человека живет ИНТУиция"]
["like","[laık]","как, нравится, подобно","Мне нравится ЛАЙКа~ Ему нравится ЛАЙКовая куртка"]
["near","[nıǝ]","около","НИ Я рядом был~ Ни я был рядом с ней"]
["next","[nekst]","рядом, следующий","Вы пришли НЕ КСТати, в следующий раз приходите"]
["of","[ɔv]","из, от, к","OFицер из штаба?"]
["off","[ɔf]","от, выкл., прочь","прочь из Афгана"]
["on","[ɔn]","на","ON находиться на высокой крыше"]
["out","[aut]","из, вне, снаружи","АУТсайдер - вне жизни оказывается"]
["outside","[ʹautʹsaıd]","за пределами","За пределами дома - снаружи стороны дома (out - снуружи, side - сторона)"]
["over","[ʹǝuvǝ]","над, выше, более","Он ОУВЭжает (уважает) только тех, кто стоит над ним"]
["past","[pɑ:st]","мимо, за, после","В прошлом ПАСТы зубной не было"]
["per","[pǝ:]","по, согласно","ПЭ - по"]
["round","[raund]","кругом, вокруг","Весь РАУНД арбитр крутился вокруг боксеров"]
["since","[sıns]","с тех пор","С тех пор СИНСация (сенсация) следовала за сенсацией"]
["through","[Өru:]","через","Через колодезный СРУб достали воду"]
["till","[tıl]","до, пока","потерпи пока не доберёмся до ТЫЛа"]
["to","[tu:]","к","ТУда "]
["under","[ʹʌndǝ]","под","Под горы АНДЫ заложена бомба"]
["until","[ǝnʹtıl]","до того как","До тех пор пока не съем ЭНТИЛопу (антилопу), не успокоюсь"]
["up","[ʌp]","вверх по","Собаке кричим: АП! АП! и вверх она прыгает"]
["with","[wıð]","с","УВИЗите его с вещами"]
["within","[wıʹðın]","внутри, в пределах","ВИжу дЖИН внутри - жизнь хороша (with - c, in - в)"]
["without","[wıʹðaut]","без, снаружи","ВЯЗАТь без спиц трудно"]
["I","[aı]","я","АЙ, какой Я парень"]
["all","[ɔ:l]","все, весь, вся, всё","Все ОЛи хороши"]
["another","[ǝʹnʌðǝ]","другой, другие","ОНА дошла до ЗАбора по другой тропинке (any - любой, there - там - нам другой)"]
["any","[ʹenı]","какой-то, любой","В лЕНИ любой мечтает жить"]
["both","[bǝuӨ]","оба","Они оба у БОФСа (босса) должны быть"]
["each","[i:tʃ]","каждый","Вирусом вИЧ каждая шлюха заражена!~ Вирус ИЧ поразил каждого."]
["either","[ʹaıðǝ]","тот или другой, и тот и другой","оба АЗЕРбайджанцы (амер. [ʹıðǝr])"]
["every","[ʹevrı]","каждый, всякий","ЭВРИка! Каждый раз кричал Архимед~ каждый знает что ЭВИРест (Эверест) высочайшая вершина"]
["few","[fju:]","мало, немногие","я ФЬЮ (пью) мало и немного, сказал заплетающимся языком пьяница"]
["he","[hi:]","он","Он ХИтёр, как чёрт"]
["her","[hǝ:]","её","он (he) чей? Он хеё"]
["him","[hım]","ему, его (кого?)","ему - хим-у"]
["his","[hız]","его, свой (чей?)","Хи-с его (-s на конце может обозначать принадлежность предмета кому-либо)"]
["it","[ıt]","это, он, она, оно (неуд.)","И Тварь это оно"]
["its","[ıts]","его, её ( для it)"," (-s на конце может обозначать принадлежность предмета кому-либо)"]
["little","[ʹlıtl]","мало, немногие","Самолёт маленький ЛИТаЛ в облаках"]
["many","[ʹmenı]","много, многие","В МЕНИатюре (миниатюре) много цветов"]
["me","[mi:]","мне, меня","МИмо меня"]
["mine","[maın]","мой, моя, мое, мои","книга Гитлера Майн Кампф - Моя борьба."]
["much","[mʌtʃ]","много","Футбольный МАТЧ много зрителей собрал"]
["my","[maı]","мой, моя, мое, мои","мой МАЙ"]
["myself","[maıʹself]","себя (сам)","(my - мой, self - личность = себя)"]
["neither","[ʹnaıðǝ]","ни тот, ни другой","НИ ЗА тот, НИ ЗА другой вариант никто голосовать не будет"]
["no","[nǝu]","нет, никакой","НО У меня нет денег!"]
["none","[nʌn]","ни один из, никто","у хорошей НЯНьки – никто не шалит~ НАНька никто для  меня"]
["one","[wʌn]","один, некто, кто-то","У ВАНи один рубль всего"]
["our","[ʹauǝ]","наш, наша, наше, наши","Ау, Э! Тут все наши!"]
["same","[seım]","тот же самый, то же","В Польше тот же самый СЕЙМ, что и раньше."]
["she","[ʃi:]","она","Она ШИпит как змея"]
["some","[sʌm]","какой-то, некоторые, немного","Некоторые проблемы ты реши САМ"]
["such","[sʌtʃ]","такой","Ты такой САЧок (сленг - Человек, отлынивающий от выполнения своих обязанностей)"]
["that","[ðæt]","тот (далеко)","я трогаю тот ЗАД и в тот же час получил по ЗАДу"]
["their","[ðɛǝ]","их (чей?)","Их дети ЗЕЯдлые курильщики~ это их THEIRно (ЗЕРно)"]
["them","[ðǝm]","их (кого?), им","Их в ЗЕМлю закопай!~ (опустить) их наЗЕМь"]
["these","[ði:z]","эти (рядом)","это старый ржавый автомобиль THESE (ЗИС)"]
["they","[ðeı]","они","Они в КолиЗЕЙ заехали~ они взяли друЗЕЙ и пошли в муЗЕЙ, где стоял ротоЗЕЙ"]
["this","[ðıs]","этот (рядом)","Этот ДИСк для этой ДИСкуссии не подойдет"]
["those","[ðǝuz]","те (далеко)","те THOSE(СОУСы) густые и горячие"]
["us","[ʌs]","нас, нам","АС (мастер) научил нас"]
["we","[wi:]","мы","уВИ - это мы"]
["what","[wɔt]","что, какой","уВОТ, какой рассеянный с улицы Бассейной"]
["whatever","[wɔtʹevǝ]","какой бы ни","В ОТТАВЕ (столица их) любой канадец хоккеист (дословно перевод - что каждый)"]
["which","[wıtʃ]","который, какой, кто, что","Вирус ВИЧ который миллион людей уничтожил?~ ВЫ Чудо, которое я буду помнить всю жизнь"]
["who","[hu:]","кто","с ХУтора кто?~ ХУдожественный фильм, который получил 'оскар"]
["whose","[hu:z]","чей","саддам ХУСейн чей-то родственник~ ГУСь чей?"]
["you","[ju:d]","ты, вы, вас, вам","Вы - люди Юморные~ ты Юнгой будешь"]
["your","[jɔ:]","ваш, ваша, ваше, ваши","твой маЙОР"]
["yourself","[jɔ:ʹself]","сами, самим собой","(your - ваш, self - личность = себя)"]

{"sheet":"RocketEng","index":1,"n_rows":5000,"n_cols":7,"rows_kept":5000,"cut":false,"hidden":false,"merged":[]}
["Данные для программы «RocketEng» Обязательно Версия: 1.5.4 Premium https://4pda.to/forum/index.php?showtopic=973831 Формат полей там такой:"]
["word","translation 1; translation 2","transcription","example 1","example 1 translation","example 2","example 2 translation"]
["Если будут \" то обязательно берите их 2 раза \"\". Тест можно копировать в файл TXT с 5 строки (UTF-8 кодировка). В начале слова специально сделан 1 пробел, чтобы было со строчной буквы"]
[]
[{"$f":"\"\"\" \"& 'BX Language acquisition'!A2 & \"\"\",\"\"\" & 'BX Language acquisition'!C2 & \"\"\",\"\"\" & 'BX Language acquisition'!B2 & \"\"\",\"\"\" & 'BX Language acquisition'!D2 & \"\"\"\"","v":"\" aboard\",\"на борту, вдоль\",\"[ǝʹbɔ:d]\",\"АБОРТ ей сделали на борту самолета\""}]
[{"$f":"\"\"\" \"& 'BX Language acquisition'!A3 & \"\"\",\"\"\" & 'BX Language acquisition'!C3 & \"\"\",\"\"\" & 'BX Language acquisition'!B3 & \"\"\",\"\"\" & 'BX Language acquisition'!D3 & \"\"\"\"","v":"\" about\",\"о, около, вокруг\",\"[ǝʹbaut]\",\"О чем репортаж? Да вокру все ЭБАНУТые\""}]
[{"$f":"\"\"\" \"& 'BX Language acquisition'!A4 & \"\"\",\"\"\" & 'BX Language acquisition'!C4 & \"\"\",\"\"\" & 'BX Language acquisition'!B4 & \"\"\",\"\"\" & 'BX Language acquisition'!D4 & \"\"\"\"","v":"\" above\",\"над, до\",\"[ǝʹbʌv]\",\"А БОг Выше нас всех находится\""}]
[{"$f":"\"\"\" \"& 'BX Language acquisition'!A5 & \"\"\",\"\"\" & 'BX Language acquisition'!C5 & \"\"\",\"\"\" & 'BX Language acquisition'!B5 & \"\"\",\"\"\" & 'BX Language acquisition'!D5 & \"\"\"\"","v":"\" according to\",\"в соответствии с\",\"[ǝʹkɔ:dıŋ tu:]\",\"Учительница музыки говорит ученику: Возьми АКОРД согласно нотам\""}]
[{"$f":"\"\"\" \"& 'BX Language acquisition'!A6 & \"\"\",\"\"\" & 'BX Language acquisition'!C6 & \"\"\",\"\"\" & 'BX Language acquisition'!B6 & \"\"\",\"\"\" & 'BX Language acquisition'!D6 & \"\"\"\"","v":"\" across\",\"через, поперек\",\"[ǝʹkrɔs]\",\"А КРОСС всемирный собрал всех бегунов через препятствие\""}]
[{"$f":"\"\"\" \"& 'BX Language acquisition'!A7 & \"\"\",\"\"\" & 'BX Language acquisition'!C7 & \"\"\",\"\"\" & 'BX Language acquisition'!B7 & \"\"\",\"\"\" & 'BX Language acquisition'!D7 & \"\"\"\"","v":"\" after\",\"после\",\"[ʹɑ:ftǝ]\",\"После АВТО-мобиля следует мотоцикл\""}]
[{"$f":"\"\"\" \"& 'BX Language acquisition'!A8 & \"\"\",\"\"\" & 'BX Language acquisition'!C8 & \"\"\",\"\"\" & 'BX Language acquisition'!B8 & \"\"\",\"\"\" & 'BX Language acquisition'!D8 & \"\"\"\"","v":"\" against\",\"против\",\"[ǝʹgenst]\",\"Против работников ЭГЕНСТва (агентства) недвижимости выдвинуто обвинение\""}]
[{"$f":"\"\"\" \"& 'BX Language acquisition'!A9 & \"\"\",\"\"\" & 'BX Language acquisition'!C9 & \"\"\",\"\"\" & 'BX Language acquisition'!B9 & \"\"\",\"\"\" & 'BX Language acquisition'!D9 & \"\"\"\"","v":"\" along\",\"вдоль, по\",\"[ǝʹlɔŋ]\",\"ЭшЕЛОНг шел вдоль леса по шпалам\""}]
[{"$f":"\"\"\" \"& 'BX Language acquisition'!A10 & \"\"\",\"\"\" & 'BX Language acquisition'!C10 & \"\"\",\"\"\" & 'BX Language acquisition'!B10 & \"\"\",\"\"\" & 'BX Language acquisition'!D10 & \"\"\"\"","v":"\" among\",\"среди\",\"[ǝʹmʌŋ]\",\"А МАНГолы среди узкоглазых самые ускоглазые.\""}]
[{"$f":"\"\"\" \"& 'BX Language acquisition'!A11 & \"\"\",\"\"\" & 'BX Language acquisition'!C11 & \"\"\",\"\"\" & 'BX Language acquisition'!B11 & \"\"\",\"\"\" & 'BX Language acquisition'!D11 & \"\"\"\"","v":"\" around\",\"около, вокруг\",\"[ǝʹraund]\",\"хотя пЕрвый РАУНД еще не начался, вокруг ринга уже собралось много народа\""}]
[{"$f":"\"\"\" \"& 'BX Language acquisition'!A12 & \"\"\",\"\"\" & 'BX Language acquisition'!C12 & \"\"\",\"\"\" & 'BX Language acquisition'!B12 & \"\"\",\"\"\" & 'BX Language acquisition'!D12 & \"\"\"\"","v":"\" as\",\"как\",\"[æz]\",\"Так как ЭЗбука Морзе придумана гениально…\""}]
[{"$f":"\"\"\" \"& 'BX Language acquisition'!A13 & \"\"\",\"\"\" & 'BX Language acquisition'!C13 & \"\"\",\"\"\" & 'BX Language acquisition'!B13 & \"\"\",\"\"\" & 'BX Language acquisition'!D13 & \"\"\"\"","v":"\" at\",\"в, у (где?)\",\"[æt]\",\"на кАТке, в хАТе\""}]
[{"$f":"\"\"\" \"& 'BX Language acquisition'!A14 & \"\"\",\"\"\" & 'BX Language acquisition'!C14 & \"\"\",\"\"\" & 'BX Language acquisition'!B14 & \"\"\",\"\"\" & 'BX Language acquisition'!D14 & \"\"\"\"","v":"\" because of\",\"из-за\",\"[bıʹkɔz ɔv]\",\"ПолюБИшь и КОЗла потому что любовь зла! (be-быть, cause-причинять, вызывать)\""}]
[{"$f":"\"\"\" \"& 'BX Language acquisition'!A15 & \"\"\",\"\"\" & 'BX Language acquisition'!C15 & \"\"\",\"\"\" & 'BX Language acquisition'!B15 & \"\"\",\"\"\" & 'BX Language acquisition'!D15 & \"\"\"\"","v":"\" before\",\"до, прежде\",\"[bıʹfɔ:]\",\"ЛюБИ ФОрель прежде чем стать рыбаком\""}]
[{"$f":"\"\"\" \"& 'BX Language acquisition'!A16 & \"\"\",\"\"\" & 'BX Language acquisition'!C16 & \"\"\",\"\"\" & 'BX Language acquisition'!B16 & \"\"\",\"\"\" & 'BX Language acquisition'!D16 & \"\"\"\"","v":"\" behind\",\"за, позади\",\"[bıʹhaınd]\",\"Сзади он ее ПИХАЕТ\""}]
[{"$f":"\"\"\" \"& 'BX Language acquisition'!A17 & \"\"\",\"\"\" & 'BX Language acquisition'!C17 & \"\"\",\"\"\" & 'BX Language acquisition'!B17 & \"\"\",\"\"\" & 'BX Language acquisition'!D17 & \"\"\"\"","v":"\" below\",\"ниже\",\"[bıʹlǝu]\",\"Внизу все БЕЛО\""}]
[{"$f":"\"\"\" \"& 'BX Language acquisition'!A18 & \"\"\",\"\"\" & 'BX Language acquisition'!C18 & \"\"\",\"\"\" & 'BX Language acquisition'!B18 & \"\"\",\"\"\" & 'BX Language acquisition'!D18 & \"\"\"\"","v":"\" beside\",\"рядом\",\"[bıʹsaıd]\",\"БЕСЕДка рядом с домом~ садись рядом будем БЕСЕДовать\""}]
[{"$f":"\"\"\" \"& 'BX Language acquisition'!A19 & \"\"\",\"\"\" & 'BX Language acquisition'!C19 & \"\"\",\"\"\" & 'BX Language acquisition'!B19 & \"\"\",\"\"\" & 'BX Language acquisition'!D19 & \"\"\"\"","v":"\" besides\",\"кроме того\",\"[bıʹsaıdz]\",\"кроме того, ваша собака Была в САДу и повредила лапу\""}]
[{"$f":"\"\"\" \"& 'BX Language acquisition'!A20 & \"\"\",\"\"\" & 'BX Language acquisition'!C20 & \"\"\",\"\"\" & 'BX Language acquisition'!B20 & \"\"\",\"\"\" & 'BX Language acquisition'!D20 & \"\"\"\"","v":"\" between\",\"между\",\"[bıʹtwi:n]\",\"Среди БИТВы между ИНвалидами, я чувствовал себя неуютно~ БЕДУИН между ног почесал себе\""}]
[{"$f":"\"\"\" \"& 'BX Language acquisition'!A21 & \"\"\",\"\"\" & 'BX Language acquisition'!C21 & \"\"\",\"\"\" & 'BX Language acquisition'!B21 & \"\"\",\"\"\" & 'BX Language acquisition'!D21 & \"\"\"\"","v":"\" beyond\",\"за, по ту сторону\",\"[bıʹjɔnd]\",\"За забором лежит БИЙОНДца (пьяница)\""}]
[{"$f":"\"\"\" \"& 'BX Language acquisition'!A22 & \"\"\",\"\"\" & 'BX Language acquisition'!C22 & \"\"\",\"\"\" & 'BX Language acquisition'!B22 & \"\"\",\"\"\" & 'BX Language acquisition'!D22 & \"\"\"\"","v":"\" but\",\"но, кроме\",\"[bʌt]\",\"Но кроме БАТона он ничего не принес на закуску~ Но, БАТый ведь новый уже у стен кремля?\""}]
[{"$f":"\"\"\" \"& 'BX Language acquisition'!A23 & \"\"\",\"\"\" & 'BX Language acquisition'!C23 & \"\"\",\"\"\" & 'BX Language acquisition'!B23 & \"\"\",\"\"\" & 'BX Language acquisition'!D23 & \"\"\"\"","v":"\" by\",\"по, около, у\",\"[baı]\",\"мы ночуем у БАЙкала\""}]
[{"$f":"\"\"\" \"& 'BX Language acquisition'!A24 & \"\"\",\"\"\" & 'BX Language acquisition'!C24 & \"\"\",\"\"\" & 'BX Language acquisition'!B24 & \"\"\",\"\"\" & 'BX Language acquisition'!D24 & \"\"\"\"","v":"\" down\",\"вниз\",\"[daun]\",\"при болезни ДАУНа развитие идет не вверх, а вниз~ Болезнь ДАУНа вниз бросает людей\""}]
[{"$f":"\"\"\" \"& 'BX Language acquisition'!A25 & \"\"\",\"\"\" & 'BX Language acquisition'!C25 & \"\"\",\"\"\" & 'BX Language acquisition'!B25 & \"\"\",\"\"\" & 'BX Language acquisition'!D25 & \"\"\"\"","v":"\" during\",\"во время\",\"[ʹdjuǝrıŋ]\",\"Во время учебы мы валяли ДЙУРИКа и от того ничего и не знаем\""}]
[{"$f":"\"\"\" \"& 'BX Language acquisition'!A26 & \"\"\",\"\"\" & 'BX Language acquisition'!C26 & \"\"\",\"\"\" & 'BX Language acquisition'!B26 & \"\"\",\"\"\" & 'BX Language acquisition'!D26 & \"\"\"\"","v":"\" following\",\"после, следующий\",\"[ʹfɔlǝuıŋ]\",\"Все женщины следуют за крепким ФОЛОУсом (фалосом)\""}]
[{"$f":"\"\"\" \"& 'BX Language acquisition'!A27 & \"\"\",\"\"\" & 'BX Language acquisition'!C27 & \"\"\",\"\"\" & 'BX Language acquisition'!B27 & \"\"\",\"\"\" & 'BX Language acquisition'!D27 & \"\"\"\"","v":"\" for\",\"для, за\",\"[fɔ:]\",\"для ФОРмулы, за ней есть описание\""}]
[{"$f":"\"\"\" \"& 'BX Language acquisition'!A28 & \"\"\",\"\"\" & 'BX Language acquisition'!C28 & \"\"\",\"\"\" & 'BX Language acquisition'!B28 & \"\"\",\"\"\" & 'BX Language acquisition'!D28 & \"\"\"\"","v":"\" from\",\"от, из\",\"[frɔm]\",\"гость из ФРанции отказался от рОМа\""}]
[{"$f":"\"\"\" \"& 'BX Language acquisition'!A29 & \"\"\",\"\"\" & 'BX Language acquisition'!C29 & \"\"\",\"\"\" & 'BX Language acquisition'!B29 & \"\"\",\"\"\" & 'BX Language acquisition'!D29 & \"\"\"\"","v":"\" in\",\"в\",\"[ın]\",\"в ИНкубаторе\""}]
[{"$f":"\"\"\" \"& 'BX Language acquisition'!A30 & \"\"\",\"\"\" & 'BX Language acquisition'!C30 & \"\"\",\"\"\" & 'BX Language acquisition'!B30 & \"\"\",\"\"\" & 'BX Language acquisition'!D30 & \"\"\"\"","v":"\" inside\",\"внутри\",\"[ʹınʹsaıd]\",\"И НаСАДили внутри рассаду\""}]
[{"$f":"\"\"\" \"& 'BX Language acquisition'!A31 & \"\"\",\"\"\" & 'BX Language acquisition'!C31 & \"\"\",\"\"\" & 'BX Language acquisition'!B31 & \"\"\",\"\"\" & 'BX Language acquisition'!D31 & \"\"\"\"","v":"\" into\",\"во, в, внутрь\",\"[ʹıntu]\",\"Внутри каждого человека живет ИНТУиция\""}]
[{"$f":"\"\"\" \"& 'BX Language acquisition'!A32 & \"\"\",\"\"\" & 'BX Language acquisition'!C32 & \"\"\",\"\"\" & 'BX Language acquisition'!B32 & \"\"\",\"\"\" & 'BX Language acquisition'!D32 & \"\"\"\"","v":"\" like\",\"как, нравится, подобно\",\"[laık]\",\"Мне нравится ЛАЙКа~ Ему нравится ЛАЙКовая куртка\""}]
[{"$f":"\"\"\" \"& 'BX Language acquisition'!A33 & \"\"\",\"\"\" & 'BX Language acquisition'!C33 & \"\"\",\"\"\" & 'BX Language acquisition'!B33 & \"\"\",\"\"\" & 'BX Language acquisition'!D33 & \"\"\"\"","v":"\" near\",\"около\",\"[nıǝ]\",\"НИ Я рядом был~ Ни я был рядом с ней\""}]
[{"$f":"\"\"\" \"& 'BX Language acquisition'!A34 & \"\"\",\"\"\" & 'BX Language acquisition'!C34 & \"\"\",\"\"\" & 'BX Language acquisition'!B34 & \"\"\",\"\"\" & 'BX Language acquisition'!D34 & \"\"\"\"","v":"\" next\",\"рядом, следующий\",\"[nekst]\",\"Вы пришли НЕ КСТати, в следующий раз приходите\""}]
[{"$f":"\"\"\" \"& 'BX Language acquisition'!A35 & \"\"\",\"\"\" & 'BX Language acquisition'!C35 & \"\"\",\"\"\" & 'BX Language acquisition'!B35 & \"\"\",\"\"\" & 'BX Language acquisition'!D35 & \"\"\"\"","v":"\" of\",\"из, от, к\",\"[ɔv]\",\"OFицер из штаба?\""}]
[{"$f":"\"\"\" \"& 'BX Language acquisition'!A36 & \"\"\",\"\"\" & 'BX Language acquisition'!C36 & \"\"\",\"\"\" & 'BX Language acquisition'!B36 & \"\"\",\"\"\" & 'BX Language acquisition'!D36 & \"\"\"\"","v":"\" off\",\"от, выкл., прочь\",\"[ɔf]\",\"прочь из Афгана\""}]
[{"$f":"\"\"\" \"& 'BX Language acquisition'!A37 & \"\"\",\"\"\" & 'BX Language acquisition'!C37 & \"\"\",\"\"\" & 'BX Language acquisition'!B37 & \"\"\",\"\"\" & 'BX Language acquisition'!D37 & \"\"\"\"","v":"\" on\",\"на\",\"[ɔn]\",\"ON находиться на высокой крыше\""}]
[{"$f":"\"\"\" \"& 'BX Language acquisition'!A38 & \"\"\",\"\"\" & 'BX Language acquisition'!C38 & \"\"\",\"\"\" & 'BX Language acquisition'!B38 & \"\"\",\"\"\" & 'BX Language acquisition'!D38 & \"\"\"\"","v":"\" out\",\"из, вне, снаружи\",\"[aut]\",\"АУТсайдер - вне жизни оказывается\""}]
[{"$f":"\"\"\" \"& 'BX Language acquisition'!A39 & \"\"\",\"\"\" & 'BX Language acquisition'!C39 & \"\"\",\"\"\" & 'BX Language acquisition'!B39 & \"\"\",\"\"\" & 'BX Language acquisition'!D39 & \"\"\"\"","v":"\" outside\",\"за пределами\",\"[ʹautʹsaıd]\",\"За пределами дома - снаружи стороны дома (out - снуружи, side - сторона)\""}]
[{"$f":"\"\"\" \"& 'BX Language acquisition'!A40 & \"\"\",\"\"\" & 'BX Language acquisition'!C40 & \"\"\",\"\"\" & 'BX Language acquisition'!B40 & \"\"\",\"\"\" & 'BX Language acquisition'!D40 & \"\"\"\"","v":"\" over\",\"над, выше, более\",\"[ʹǝuvǝ]\",\"Он ОУВЭжает (уважает) только тех, кто стоит над ним\""}]
[{"$f":"\"\"\" \"& 'BX Language acquisition'!A41 & \"\"\",\"\"\" & 'BX Language acquisition'!C41 & \"\"\",\"\"\" & 'BX Language acquisition'!B41 & \"\"\",\"\"\" & 'BX Language acquisition'!D41 & \"\"\"\"","v":"\" past\",\"мимо, за, после\",\"[pɑ:st]\",\"В прошлом ПАСТы зубной не было\""}]
[{"$f":"\"\"\" \"& 'BX Language acquisition'!A42 & \"\"\",\"\"\" & 'BX Language acquisition'!C42 & \"\"\",\"\"\" & 'BX Language acquisition'!B42 & \"\"\",\"\"\" & 'BX Language acquisition'!D42 & \"\"\"\"","v":"\" per\",\"по, согласно\",\"[pǝ:]\",\"ПЭ - по\""}]
[{"$f":"\"\"\" \"& 'BX Language acquisition'!A43 & \"\"\",\"\"\" & 'BX Language acquisition'!C43 & \"\"\",\"\"\" & 'BX Language acquisition'!B43 & \"\"\",\"\"\" & 'BX Language acquisition'!D43 & \"\"\"\"","v":"\" round\",\"кругом, вокруг\",\"[raund]\",\"Весь РАУНД арбитр крутился вокруг боксеров\""}]
[{"$f":"\"\"\" \"& 'BX Language acquisition'!A44 & \"\"\",\"\"\" & 'BX Language acquisition'!C44 & \"\"\",\"\"\" & 'BX Language acquisition'!B44 & \"\"\",\"\"\" & 'BX Language acquisition'!D44 & \"\"\"\"","v":"\" since\",\"с тех пор\",\"[sıns]\",\"С тех пор СИНСация (сенсация) следовала за сенсацией\""}]
[{"$f":"\"\"\" \"& 'BX Language acquisition'!A45 & \"\"\",\"\"\" & 'BX Language acquisition'!C45 & \"\"\",\"\"\" & 'BX Language acquisition'!B45 & \"\"\",\"\"\" & 'BX Language acquisition'!D45 & \"\"\"\"","v":"\" through\",\"через\",\"[Өru:]\",\"Через колодезный СРУб достали воду\""}]
[{"$f":"\"\"\" \"& 'BX Language acquisition'!A46 & \"\"\",\"\"\" & 'BX Language acquisition'!C46 & \"\"\",\"\"\" & 'BX Language acquisition'!B46 & \"\"\",\"\"\" & 'BX Language acquisition'!D46 & \"\"\"\"","v":"\" till\",\"до, пока\",\"[tıl]\",\"потерпи пока не доберёмся до ТЫЛа\""}]
[{"$f":"\"\"\" \"& 'BX Language acquisition'!A47 & \"\"\",\"\"\" & 'BX Language acquisition'!C47 & \"\"\",\"\"\" & 'BX Language acquisition'!B47 & \"\"\",\"\"\" & 'BX Language acquisition'!D47 & \"\"\"\"","v":"\" to\",\"к\",\"[tu:]\",\"ТУда \""}]
[{"$f":"\"\"\" \"& 'BX Language acquisition'!A48 & \"\"\",\"\"\" & 'BX Language acquisition'!C48 & \"\"\",\"\"\" & 'BX Language acquisition'!B48 & \"\"\",\"\"\" & 'BX Language acquisition'!D48 & \"\"\"\"","v":"\" under\",\"под\",\"[ʹʌndǝ]\",\"Под горы АНДЫ заложена бомба\""}]
[{"$f":"\"\"\" \"& 'BX Language acquisition'!A49 & \"\"\",\"\"\" & 'BX Language acquisition'!C49 & \"\"\",\"\"\" & 'BX Language acquisition'!B49 & \"\"\",\"\"\" & 'BX Language acquisition'!D49 & \"\"\"\"","v":"\" until\",\"до того как\",\"[ǝnʹtıl]\",\"До тех пор пока не съем ЭНТИЛопу (антилопу), не успокоюсь\""}]
[{"$f":"\"\"\" \"& 'BX Language acquisition'!A50 & \"\"\",\"\"\" & 'BX Language acquisition'!C50 & \"\"\",\"\"\" & 'BX Language acquisition'!B50 & \"\"\",\"\"\" & 'BX Language acquisition'!D50 & \"\"\"\"","v":"\" up\",\"вверх по\",\"[ʌp]\",\"Собаке кричим: АП! АП! и вверх она прыгает\""}]
[{"$f":"\"\"\" \"& 'BX Language acquisition'!A51 & \"\"\",\"\"\" & 'BX Language acquisition'!C51 & \"\"\",\"\"\" & 'BX Language acquisition'!B51 & \"\"\",\"\"\" & 'BX Language acquisition'!D51 & \"\"\"\"","v":"\" with\",\"с\",\"[wıð]\",\"УВИЗите его с вещами\""}]
[{"$f":"\"\"\" \"& 'BX Language acquisition'!A52 & \"\"\",\"\"\" & 'BX Language acquisition'!C52 & \"\"\",\"\"\" & 'BX Language acquisition'!B52 & \"\"\",\"\"\" & 'BX Language acquisition'!D52 & \"\"\"\"","v":"\" within\",\"внутри, в пределах\",\"[wıʹðın]\",\"ВИжу дЖИН внутри - жизнь хороша (with - c, in - в)\""}]
[{"$f":"\"\"\" \"& 'BX Language acquisition'!A53 & \"\"\",\"\"\" & 'BX Language acquisition'!C53 & \"\"\",\"\"\" & 'BX Language acquisition'!B53 & \"\"\",\"\"\" & 'BX Language acquisition'!D53 & \"\"\"\"","v":"\" without\",\"без, снаружи\",\"[wıʹðaut]\",\"ВЯЗАТь без спиц трудно\""}]
[{"$f":"\"\"\" \"& 'BX Language acquisition'!A54 & \"\"\",\"\"\" & 'BX Language acquisition'!C54 & \"\"\",\"\"\" & 'BX Language acquisition'!B54 & \"\"\",\"\"\" & 'BX Language acquisition'!D54 & \"\"\"\"","v":"\" I\",\"я\",\"[aı]\",\"АЙ, какой Я парень\""}]
[{"$f":"\"\"\" \"& 'BX Language acquisition'!A55 & \"\"\",\"\"\" & 'BX Language acquisition'!C55 & \"\"\",\"\"\" & 'BX Language acquisition'!B55 & \"\"\",\"\"\" & 'BX Language acquisition'!D55 & \"\"\"\"","v":"\" all\",\"все, весь, вся, всё\",\"[ɔ:l]\",\"Все ОЛи хороши\""}]
[{"$f":"\"\"\" \"& 'BX Language acquisition'!A56 & \"\"\",\"\"\" & 'BX Language acquisition'!C56 & \"\"\",\"\"\" & 'BX Language acquisition'!B56 & \"\"\",\"\"\" & 'BX Language acquisition'!D56 & \"\"\"\"","v":"\" another\",\"другой, другие\",\"[ǝʹnʌðǝ]\",\"ОНА дошла до ЗАбора по другой тропинке (any - любой, there - там - нам другой)\""}]
[{"$f":"\"\"\" \"& 'BX Language acquisition'!A57 & \"\"\",\"\"\" & 'BX Language acquisition'!C57 & \"\"\",\"\"\" & 'BX Language acquisition'!B57 & \"\"\",\"\"\" & 'BX Language acquisition'!D57 & \"\"\"\"","v":"\" any\",\"какой-то, любой\",\"[ʹenı]\",\"В лЕНИ любой мечтает жить\""}]
[{"$f":"\"\"\" \"& 'BX Language acquisition'!A58 & \"\"\",\"\"\" & 'BX Language acquisition'!C58 & \"\"\",\"\"\" & 'BX Language acquisition'!B58 & \"\"\",\"\"\" & 'BX Language acquisition'!D58 & \"\"\"\"","v":"\" both\",\"оба\",\"[bǝuӨ]\",\"Они оба у БОФСа (босса) должны быть\""}]
[{"$f":"\"\"\" \"& 'BX Language acquisition'!A59 & \"\"\",\"\"\" & 'BX Language acquisition'!C59 & \"\"\",\"\"\" & 'BX Language acquisition'!B59 & \"\"\",\"\"\" & 'BX Language acquisition'!D59 & \"\"\"\"","v":"\" each\",\"каждый\",\"[i:tʃ]\",\"Вирусом вИЧ каждая шлюха заражена!~ Вирус ИЧ поразил каждого.\""}]
[{"$f":"\"\"\" \"& 'BX Language acquisition'!A60 & \"\"\",\"\"\" & 'BX Language acquisition'!C60 & \"\"\",\"\"\" & 'BX Language acquisition'!B60 & \"\"\",\"\"\" & 'BX Language acquisition'!D60 & \"\"\"\"","v":"\" either\",\"тот или другой, и тот и другой\",\"[ʹaıðǝ]\",\"оба АЗЕРбайджанцы (амер. [ʹıðǝr])\""}]
[{"$f":"\"\"\" \"& 'BX Language acquisition'!A61 & \"\"\",\"\"\" & 'BX Language acquisition'!C61 & \"\"\",\"\"\" & 'BX Language acquisition'!B61 & \"\"\",\"\"\" & 'BX Language acquisition'!D61 & \"\"\"\"","v":"\" every\",\"каждый, всякий\",\"[ʹevrı]\",\"ЭВРИка! Каждый раз кричал Архимед~ каждый знает что ЭВИРест (Эверест) высочайшая вершина\""}]
[{"$f":"\"\"\" \"& 'BX Language acquisition'!A62 & \"\"\",\"\"\" & 'BX Language acquisition'!C62 & \"\"\",\"\"\" & 'BX Language acquisition'!B62 & \"\"\",\"\"\" & 'BX Language acquisition'!D62 & \"\"\"\"","v":"\" few\",\"мало, немногие\",\"[fju:]\",\"я ФЬЮ (пью) мало и немного, сказал заплетающимся языком пьяница\""}]
[{"$f":"\"\"\" \"& 'BX Language acquisition'!A63 & \"\"\",\"\"\" & 'BX Language acquisition'!C63 & \"\"\",\"\"\" & 'BX Language acquisition'!B63 & \"\"\",\"\"\" & 'BX Language acquisition'!D63 & \"\"\"\"","v":"\" he\",\"он\",\"[hi:]\",\"Он ХИтёр, как чёрт\""}]
[{"$f":"\"\"\" \"& 'BX Language acquisition'!A64 & \"\"\",\"\"\" & 'BX Language acquisition'!C64 & \"\"\",\"\"\" & 'BX Language acquisition'!B64 & \"\"\",\"\"\" & 'BX Language acquisition'!D64 & \"\"\"\"","v":"\" her\",\"её\",\"[hǝ:]\",\"он (he) чей? Он хеё\""}]
[{"$f":"\"\"\" \"& 'BX Language acquisition'!A65 & \"\"\",\"\"\" & 'BX Language acquisition'!C65 & \"\"\",\"\"\" & 'BX Language acquisition'!B65 & \"\"\",\"\"\" & 'BX Language acquisition'!D65 & \"\"\"\"","v":"\" him\",\"ему, его (кого?)\",\"[hım]\",\"ему - хим-у\""}]
[{"$f":"\"\"\" \"& 'BX Language acquisition'!A66 & \"\"\",\"\"\" & 'BX Language acquisition'!C66 & \"\"\",\"\"\" & 'BX Language acquisition'!B66 & \"\"\",\"\"\" & 'BX Language acquisition'!D66 & \"\"\"\"","v":"\" his\",\"его, свой (чей?)\",\"[hız]\",\"Хи-с его (-s на конце может обозначать принадлежность предмета кому-либо)\""}]
[{"$f":"\"\"\" \"& 'BX Language acquisition'!A67 & \"\"\",\"\"\" & 'BX Language acquisition'!C67 & \"\"\",\"\"\" & 'BX Language acquisition'!B67 & \"\"\",\"\"\" & 'BX Language acquisition'!D67 & \"\"\"\"","v":"\" it\",\"это, он, она, оно (неуд.)\",\"[ıt]\",\"И Тварь это оно\""}]
[{"$f":"\"\"\" \"& 'BX Language acquisition'!A68 & \"\"\",\"\"\" & 'BX Language acquisition'!C68 & \"\"\",\"\"\" & 'BX Language acquisition'!B68 & \"\"\",\"\"\" & 'BX Language acquisition'!D68 & \"\"\"\"","v":"\" its\",\"его, её ( для it)\",\"[ıts]\",\" (-s на конце может обозначать принадлежность предмета кому-либо)\""}]
[{"$f":"\"\"\" \"& 'BX Language acquisition'!A69 & \"\"\",\"\"\" & 'BX Language acquisition'!C69 & \"\"\",\"\"\" & 'BX Language acquisition'!B69 & \"\"\",\"\"\" & 'BX Language acquisition'!D69 & \"\"\"\"","v":"\" little\",\"мало, немногие\",\"[ʹlıtl]\",\"Самолёт маленький ЛИТаЛ в облаках\""}]
[{"$f":"\"\"\" \"& 'BX Language acquisition'!A70 & \"\"\",\"\"\" & 'BX Language acquisition'!C70 & \"\"\",\"\"\" & 'BX Language acquisition'!B70 & \"\"\",\"\"\" & 'BX Language acquisition'!D70 & \"\"\"\"","v":"\" many\",\"много, многие\",\"[ʹmenı]\",\"В МЕНИатюре (миниатюре) много цветов\""}]
[{"$f":"\"\"\" \"& 'BX Language acquisition'!A71 & \"\"\",\"\"\" & 'BX Language acquisition'!C71 & \"\"\",\"\"\" & 'BX Language acquisition'!B71 & \"\"\",\"\"\" & 'BX Language acquisition'!D71 & \"\"\"\"","v":"\" me\",\"мне, меня\",\"[mi:]\",\"МИмо меня\""}]
[{"$f":"\"\"\" \"& 'BX Language acquisition'!A72 & \"\"\",\"\"\" & 'BX Language acquisition'!C72 & \"\"\",\"\"\" & 'BX Language acquisition'!B72 & \"\"\",\"\"\" & 'BX Language acquisition'!D72 & \"\"\"\"","v":"\" mine\",\"мой, моя, мое, мои\",\"[maın]\",\"книга Гитлера Майн Кампф - Моя борьба.\""}]
[{"$f":"\"\"\" \"& 'BX Language acquisition'!A73 & \"\"\",\"\"\" & 'BX Language acquisition'!C73 & \"\"\",\"\"\" & 'BX Language acquisition'!B73 & \"\"\",\"\"\" & 'BX Language acquisition'!D73 & \"\"\"\"","v":"\" much\",\"много\",\"[mʌtʃ]\",\"Футбольный МАТЧ много зрителей собрал\""}]
[{"$f":"\"\"\" \"& 'BX Language acquisition'!A74 & \"\"\",\"\"\" & 'BX Language acquisition'!C74 & \"\"\",\"\"\" & 'BX Language acquisition'!B74 & \"\"\",\"\"\" & 'BX Language acquisition'!D74 & \"\"\"\"","v":"\" my\",\"мой, моя, мое, мои\",\"[maı]\",\"мой МАЙ\""}]
[{"$f":"\"\"\" \"& 'BX Language acquisition'!A75 & \"\"\",\"\"\" & 'BX Language acquisition'!C75 & \"\"\",\"\"\" & 'BX Language acquisition'!B75 & \"\"\",\"\"\" & 'BX Language acquisition'!D75 & \"\"\"\"","v":"\" myself\",\"себя (сам)\",\"[maıʹself]\",\"(my - мой, self - личность = себя)\""}]
[{"$f":"\"\"\" \"& 'BX Language acquisition'!A76 & \"\"\",\"\"\" & 'BX Language acquisition'!C76 & \"\"\",\"\"\" & 'BX Language acquisition'!B76 & \"\"\",\"\"\" & 'BX Language acquisition'!D76 & \"\"\"\"","v":"\" neither\",\"ни тот, ни другой\",\"[ʹnaıðǝ]\",\"НИ ЗА тот, НИ ЗА другой вариант никто голосовать не будет\""}]
[{"$f":"\"\"\" \"& 'BX Language acquisition'!A77 & \"\"\",\"\"\" & 'BX Language acquisition'!C77 & \"\"\",\"\"\" & 'BX Language acquisition'!B77 & \"\"\",\"\"\" & 'BX Language acquisition'!D77 & \"\"\"\"","v":"\" no\",\"нет, никакой\",\"[nǝu]\",\"НО У меня нет денег!\""}]
[{"$f":"\"\"\" \"& 'BX Language acquisition'!A78 & \"\"\",\"\"\" & 'BX Language acquisition'!C78 & \"\"\",\"\"\" & 'BX Language acquisition'!B78 & \"\"\",\"\"\" & 'BX Language acquisition'!D78 & \"\"\"\"","v":"\" none\",\"ни один из, никто\",\"[nʌn]\",\"у хорошей НЯНьки – никто не шалит~ НАНька никто для  меня\""}]
[{"$f":"\"\"\" \"& 'BX Language acquisition'!A79 & \"\"\",\"\"\" & 'BX Language acquisition'!C79 & \"\"\",\"\"\" & 'BX Language acquisition'!B79 & \"\"\",\"\"\" & 'BX Language acquisition'!D79 & \"\"\"\"","v":"\" one\",\"один, некто, кто-то\",\"[wʌn]\",\"У ВАНи один рубль всего\""}]
[{"$f":"\"\"\" \"& 'BX Language acquisition'!A80 & \"\"\",\"\"\" & 'BX Language acquisition'!C80 & \"\"\",\"\"\" & 'BX Language acquisition'!B80 & \"\"\",\"\"\" & 'BX Language acquisition'!D80 & \"\"\"\"","v":"\" our\",\"наш, наша, наше, наши\",\"[ʹauǝ]\",\"Ау, Э! Тут все наши!\""}]
[{"$f":"\"\"\" \"& 'BX Language acquisition'!A81 & \"\"\",\"\"\" & 'BX Language acquisition'!C81 & \"\"\",\"\"\" & 'BX Language acquisition'!B81 & \"\"\",\"\"\" & 'BX Language acquisition'!D81 & \"\"\"\"","v":"\" same\",\"тот же самый, то же\",\"[seım]\",\"В Польше тот же самый СЕЙМ, что и раньше.\""}]
[{"$f":"\"\"\" \"& 'BX Language acquisition'!A82 & \"\"\",\"\"\" & 'BX Language acquisition'!C82 & \"\"\",\"\"\" & 'BX Language acquisition'!B82 & \"\"\",\"\"\" & 'BX Language acquisition'!D82 & \"\"\"\"","v":"\" she\",\"она\",\"[ʃi:]\",\"Она ШИпит как змея\""}]
[{"$f":"\"\"\" \"& 'BX Language acquisition'!A83 & \"\"\",\"\"\" & 'BX Language acquisition'!C83 & \"\"\",\"\"\" & 'BX Language acquisition'!B83 & \"\"\",\"\"\" & 'BX Language acquisition'!D83 & \"\"\"\"","v":"\" some\",\"какой-то, некоторые, немного\",\"[sʌm]\",\"Некоторые проблемы ты реши САМ\""}]
[{"$f":"\"\"\" \"& 'BX Language acquisition'!A84 & \"\"\",\"\"\" & 'BX Language acquisition'!C84 & \"\"\",\"\"\" & 'BX Language acquisition'!B84 & \"\"\",\"\"\" & 'BX Language acquisition'!D84 & \"\"\"\"","v":"\" such\",\"такой\",\"[sʌtʃ]\",\"Ты такой САЧок (сленг - Человек, отлынивающий от выполнения своих обязанностей)\""}]
[{"$f":"\"\"\" \"& 'BX Language acquisition'!A85 & \"\"\",\"\"\" & 'BX Language acquisition'!C85 & \"\"\",\"\"\" & 'BX Language acquisition'!B85 & \"\"\",\"\"\" & 'BX Language acquisition'!D85 & \"\"\"\"","v":"\" that\",\"тот (далеко)\",\"[ðæt]\",\"я трогаю тот ЗАД и в тот же час получил по ЗАДу\""}]
[{"$f":"\"\"\" \"& 'BX Language acquisition'!A86 & \"\"\",\"\"\" & 'BX Language acquisition'!C86 & \"\"\",\"\"\" & 'BX Language acquisition'!B86 & \"\"\",\"\"\" & 'BX Language acquisition'!D86 & \"\"\"\"","v":"\" their\",\"их (чей?)\",\"[ðɛǝ]\",\"Их дети ЗЕЯдлые курильщики~ это их THEIRно (ЗЕРно)\""}]
[{"$f":"\"\"\" \"& 'BX Language acquisition'!A87 & \"\"\",\"\"\" & 'BX Language acquisition'!C87 & \"\"\",\"\"\" & 'BX Language acquisition'!B87 & \"\"\",\"\"\" & 'BX Language acquisition'!D87 & \"\"\"\"","v":"\" them\",\"их (кого?), им\",\"[ðǝm]\",\"Их в ЗЕМлю закопай!~ (опустить) их наЗЕМь\""}]
[{"$f":"\"\"\" \"& 'BX Language acquisition'!A88 & \"\"\",\"\"\" & 'BX Language acquisition'!C88 & \"\"\",\"\"\" & 'BX Language acquisition'!B88 & \"\"\",\"\"\" & 'BX Language acquisition'!D88 & \"\"\"\"","v":"\" these\",\"эти (рядом)\",\"[ði:z]\",\"это старый ржавый автомобиль THESE (ЗИС)\""}]
[{"$f":"\"\"\" \"& 'BX Language acquisition'!A89 & \"\"\",\"\"\" & 'BX Language acquisition'!C89 & \"\"\",\"\"\" & 'BX Language acquisition'!B89 & \"\"\",\"\"\" & 'BX Language acquisition'!D89 & \"\"\"\"","v":"\" they\",\"они\",\"[ðeı]\",\"Они в КолиЗЕЙ заехали~ они взяли друЗЕЙ и пошли в муЗЕЙ, где стоял ротоЗЕЙ\""}]
[{"$f":"\"\"\" \"& 'BX Language acquisition'!A90 & \"\"\",\"\"\" & 'BX Language acquisition'!C90 & \"\"\",\"\"\" & 'BX Language acquisition'!B90 & \"\"\",\"\"\" & 'BX Language acquisition'!D90 & \"\"\"\"","v":"\" this\",\"этот (рядом)\",\"[ðıs]\",\"Этот ДИСк для этой ДИСкуссии не подойдет\""}]
[{"$f":"\"\"\" \"& 'BX Language acquisition'!A91 & \"\"\",\"\"\" & 'BX Language acquisition'!C91 & \"\"\",\"\"\" & 'BX Language acquisition'!B91 & \"\"\",\"\"\" & 'BX Language acquisition'!D91 & \"\"\"\"","v":"\" those\",\"те (далеко)\",\"[ðǝuz]\",\"те THOSE(СОУСы) густые и горячие\""}]
[{"$f":"\"\"\" \"& 'BX Language acquisition'!A92 & \"\"\",\"\"\" & 'BX Language acquisition'!C92 & \"\"\",\"\"\" & 'BX Language acquisition'!B92 & \"\"\",\"\"\" & 'BX Language acquisition'!D92 & \"\"\"\"","v":"\" us\",\"нас, нам\",\"[ʌs]\",\"АС (мастер) научил нас\""}]
[{"$f":"\"\"\" \"& 'BX Language acquisition'!A93 & \"\"\",\"\"\" & 'BX Language acquisition'!C93 & \"\"\",\"\"\" & 'BX Language acquisition'!B93 & \"\"\",\"\"\" & 'BX Language acquisition'!D93 & \"\"\"\"","v":"\" we\",\"мы\",\"[wi:]\",\"уВИ - это мы\""}]
[{"$f":"\"\"\" \"& 'BX Language acquisition'!A94 & \"\"\",\"\"\" & 'BX Language acquisition'!C94 & \"\"\",\"\"\" & 'BX Language acquisition'!B94 & \"\"\",\"\"\" & 'BX Language acquisition'!D94 & \"\"\"\"","v":"\" what\",\"что, какой\",\"[wɔt]\",\"уВОТ, какой рассеянный с улицы Бассейной\""}]
[{"$f":"\"\"\" \"& 'BX Language acquisition'!A95 & \"\"\",\"\"\" & 'BX Language acquisition'!C95 & \"\"\",\"\"\" & 'BX Language acquisition'!B95 & \"\"\",\"\"\" & 'BX Language acquisition'!D95 & \"\"\"\"","v":"\" whatever\",\"какой бы ни\",\"[wɔtʹevǝ]\",\"В ОТТАВЕ (столица их) любой канадец хоккеист (дословно перевод - что каждый)\""}]
[{"$f":"\"\"\" \"& 'BX Language acquisition'!A96 & \"\"\",\"\"\" & 'BX Language acquisition'!C96 & \"\"\",\"\"\" & 'BX Language acquisition'!B96 & \"\"\",\"\"\" & 'BX Language acquisition'!D96 & \"\"\"\"","v":"\" which\",\"который, какой, кто, что\",\"[wıtʃ]\",\"Вирус ВИЧ который миллион людей уничтожил?~ ВЫ Чудо, которое я буду помнить всю жизнь\""}]
[{"$f":"\"\"\" \"& 'BX Language acquisition'!A97 & \"\"\",\"\"\" & 'BX Language acquisition'!C97 & \"\"\",\"\"\" & 'BX Language acquisition'!B97 & \"\"\",\"\"\" & 'BX Language acquisition'!D97 & \"\"\"\"","v":"\" who\",\"кто\",\"[hu:]\",\"с ХУтора кто?~ ХУдожественный фильм, который получил 'оскар\""}]
[{"$f":"\"\"\" \"& 'BX Language acquisition'!A98 & \"\"\",\"\"\" & 'BX Language acquisition'!C98 & \"\"\",\"\"\" & 'BX Language acquisition'!B98 & \"\"\",\"\"\" & 'BX Language acquisition'!D98 & \"\"\"\"","v":"\" whose\",\"чей\",\"[hu:z]\",\"саддам ХУСейн чей-то родственник~ ГУСь чей?\""}]
[{"$f":"\"\"\" \"& 'BX Language acquisition'!A99 & \"\"\",\"\"\" & 'BX Language acquisition'!C99 & \"\"\",\"\"\" & 'BX Language acquisition'!B99 & \"\"\",\"\"\" & 'BX Language acquisition'!D99 & \"\"\"\"","v":"\" you\",\"ты, вы, вас, вам\",\"[ju:d]\",\"Вы - люди Юморные~ ты Юнгой будешь\""}]
[{"$f":"\"\"\" \"& 'BX Language acquisition'!A100 & \"\"\",\"\"\" & 'BX Language acquisition'!C100 & \"\"\",\"\"\" & 'BX Language acquisition'!B100 & \"\"\",\"\"\" & 'BX Language acquisition'!D100 & \"\"\"\"","v":"\" your\",\"ваш, ваша, ваше, ваши\",\"[jɔ:]\",\"твой маЙОР\""}]
[{"$f":"\"\"\" \"& 'BX Language acquisition'!A101 & \"\"\",\"\"\" & 'BX Language acquisition'!C101 & \"\"\",\"\"\" & 'BX Language acquisition'!B101 & \"\"\",\"\"\" & 'BX Language acquisition'!D101 & \"\"\"\"","v":"\" yourself\",\"сами, самим собой\",\"[jɔ:ʹself]\",\"(your - ваш, self - личность = себя)\""}]
[{"$f":"\"\"\" \"& 'BX Language acquisition'!A102 & \"\"\",\"\"\" & 'BX Language acquisition'!C102 & \"\"\",\"\"\" & 'BX Language acquisition'!B102 & \"\"\",\"\"\" & 'BX Language acquisition'!D102 & \"\"\"\"","v":"\" \",\"\",\"\",\"\""}]
[{"$f":"\"\"\" \"& 'BX Language acquisition'!A103 & \"\"\",\"\"\" & 'BX Language acquisition'!C103 & \"\"\",\"\"\" & 'BX Language acquisition'!B103 & \"\"\",\"\"\" & 'BX Language acquisition'!D103 & \"\"\"\"","v":"\" \",\"\",\"\",\"\""}]
[{"$f":"\"\"\" \"& 'BX Language acquisition'!A104 & \"\"\",\"\"\" & 'BX Language acquisition'!C104 & \"\"\",\"\"\" & 'BX Language acquisition'!B104 & \"\"\",\"\"\" & 'BX Language acquisition'!D104 & \"\"\"\"","v":"\" \",\"\",\"\",\"\""}]
[{"$f":"\"\"\" \"& 'BX Language acquisition'!A105 & \"\"\",\"\"\" & 'BX Language acquisition'!C105 & \"\"\",\"\"\" & 'BX Language acquisition'!B105 & \"\"\",\"\"\" & 'BX Language acquisition'!D105 & \"\"\"\"","v":"\" \",\"\",\"\",\"\""}]
[{"$f":"\"\"\" \"& 'BX Language acquisition'!A106 & \"\"\",\"\"\" & 'BX Language acquisition'!C106 & \"\"\",\"\"\" & 'BX Language acquisition'!B106 & \"\"\",\"\"\" & 'BX Language acquisition'!D106 & \"\"\"\"","v":"\" \",\"\",\"\",\"\""}]
[{"$f":"\"\"\" \"& 'BX Language acquisition'!A107 & \"\"\",\"\"\" & 'BX Language acquisition'!C107 & \"\"\",\"\"\" & 'BX Language acquisition'!B107 & \"\"\",\"\"\" & 'BX Language acquisition'!D107 & \"\"\"\"","v":"\" \",\"\",\"\",\"\""}]
[{"$f":"\"\"\" \"& 'BX Language acquisition'!A108 & \"\"\",\"\"\" & 'BX Language acquisition'!C108 & \"\"\",\"\"\" & 'BX Language acquisition'!B108 & \"\"\",\"\"\" & 'BX Language acquisition'!D108 & \"\"\"\"","v":"\" \",\"\",\"\",\"\""}]
[{"$f":"\"\"\" \"& 'BX Language acquisition'!A109 & \"\"\",\"\"\" & 'BX Language acquisition'!C109 & \"\"\",\"\"\" & 'BX Language acquisition'!B109 & \"\"\",\"\"\" & 'BX Language acquisition'!D109 & \"\"\"\"","v":"\" \",\"\",\"\",\"\""}]
[{"$f":"\"\"\" \"& 'BX Language acquisition'!A110 & \"\"\",\"\"\" & 'BX Language acquisition'!C110 & \"\"\",\"\"\" & 'BX Language acquisition'!B110 & \"\"\",\"\"\" & 'BX Language acquisition'!D110 & \"\"\"\"","v":"\" \",\"\",\"\",\"\""}]
[{"$f":"\"\"\" \"& 'BX Language acquisition'!A111 & \"\"\",\"\"\" & 'BX Language acquisition'!C111 & \"\"\",\"\"\" & 'BX Language acquisition'!B111 & \"\"\",\"\"\" & 'BX Language acquisition'!D111 & \"\"\"\"","v":"\" \",\"\",\"\",\"\""}]
[{"$f":"\"\"\" \"& 'BX Language acquisition'!A112 & \"\"\",\"\"\" & 'BX Language acquisition'!C112 & \"\"\",\"\"\" & 'BX Language acquisition'!B112 & \"\"\",\"\"\" & 'BX Language acquisition'!D112 & \"\"\"\"","v":"\" \",\"\",\"\",\"\""}]
[{"$f":"\"\"\" \"& 'BX Language acquisition'!A113 & \"\"\",\"\"\" & 'BX Language acquisition'!C113 & \"\"\",\"\"\" & 'BX Language acquisition'!B113 & \"\"\",\"\"\" & 'BX Language acquisition'!D113 & \"\"\"\"","v":"\" \",\"\",\"\",\"\""}]
[{"$f":"\"\"\" \"& 'BX Language acquisition'!A114 & \"\"\",\"\"\" & 'BX Language acquisition'!C114 & \"\"\",\"\"\" & 'BX Language acquisition'!B114 & \"\"\",\"\"\" & 'BX Language acquisition'!D114 & \"\"\"\"","v":"\" \",\"\",\"\",\"\""}]
[{"$f":"\"\"\" \"& 'BX Language acquisition'!A115 & \"\"\",\"\"\" & 'BX Language acquisition'!C115 & \"\"\",\"\"\" & 'BX Language acquisition'!B115 & \"\"\",\"\"\" & 'BX Language acquisition'!D115 & \"\"\"\"","v":"\" \",\"\",\"\",\"\""}]
[{"$f":"\"\"\" \"& 'BX Language acquisition'!A116 & \"\"\",\"\"\" & 'BX Language acquisition'!C116 & \"\"\",\"\"\" & 'BX Language acquisition'!B116 & \"\"\",\"\"\" & 'BX Language acquisition'!D116 & \"\"\"\"","v":"\" \",\"\",\"\",\"\""}]
[{"$f":"\"\"\" \"& 'BX Language acquisition'!A117 & \"\"\",\"\"\" & 'BX Language acquisition'!C117 & \"\"\",\"\"\" & 'BX Language acquisition'!B117 & \"\"\",\"\"\" & 'BX Language acquisition'!D117 & \"\"\"\"","v":"\" \",\"\",\"\",\"\""}]
[{"$f":"\"\"\" \"& 'BX Language acquisition'!A118 & \"\"\",\"\"\" & 'BX Language acquisition'!C118 & \"\"\",\"\"\" & 'BX Language acquisition'!B118 & \"\"\",\"\"\" & 'BX Language acquisition'!D118 & \"\"\"\"","v":"\" \",\"\",\"\",\"\""}]
[{"$f":"\"\"\" \"& 'BX Language acquisition'!A119 & \"\"\",\"\"\" & 'BX Language acquisition'!C119 & \"\"\",\"\"\" & 'BX Language acquisition'!B119 & \"\"\",\"\"\" & 'BX Language acquisition'!D119 & \"\"\"\"","v":"\" \",\"\",\"\",\"\""}]
[{"$f":"\"\"\" \"& 'BX Language acquisition'!A120 & \"\"\",\"\"\" & 'BX Language acquisition'!C120 & \"\"\",\"\"\" & 'BX Language acquisition'!B120 & \"\"\",\"\"\" & 'BX Language acquisition'!D120 & \"\"\"\"","v":"\" \",\"\",\"\",\"\""}]
[{"$f":"\"\"\" \"& 'BX Language acquisition'!A121 & \"\"\",\"\"\" & 'BX Language acquisition'!C121 & \"\"\",\"\"\" & 'BX Language acquisition'!B121 & \"\"\",\"\"\" & 'BX Language acquisition'!D121 & \"\"\"\"","v":"\" \",\"\",\"\",\"\""}]
[{"$f":"\"\"\" \"& 'BX Language acquisition'!A122 & \"\"\",\"\"\" & 'BX Language acquisition'!C122 & \"\"\",\"\"\" & 'BX Language acquisition'!B122 & \"\"\",\"\"\" & 'BX Language acquisition'!D122 & \"\"\"\"","v":"\" \",\"\",\"\",\"\""}]
[{"$f":"\"\"\" \"& 'BX Language acquisition'!A123 & \"\"\",\"\"\" & 'BX Language acquisition'!C123 & \"\"\",\"\"\" & 'BX Language acquisition'!B123 & \"\"\",\"\"\" & 'BX Language acquisition'!D123 & \"\"\"\"","v":"\" \",\"\",\"\",\"\""}]
[{"$f":"\"\"\" \"& 'BX Language acquisition'!A124 & \"\"\",\"\"\" & 'BX Language acquisition'!C124 & \"\"\",\"\"\" & 'BX Language acquisition'!B124 & \"\"\",\"\"\" & 'BX Language acquisition'!D124 & \"\"\"\"","v":"\" \",\"\",\"\",\"\""}]
[{"$f":"\"\"\" \"& 'BX Language acquisition'!A125 & \"\"\",\"\"\" & 'BX Language acquisition'!C125 & \"\"\",\"\"\" & 'BX Language acquisition'!B125 & \"\"\",\"\"\" & 'BX Language acquisition'!D125 & \"\"\"\"","v":"\" \",\"\",\"\",\"\""}]
[{"$f":"\"\"\" \"& 'BX Language acquisition'!A126 & \"\"\",\"\"\" & 'BX Language acquisition'!C126 & \"\"\",\"\"\" & 'BX Language acquisition'!B126 & \"\"\",\"\"\" & 'BX Language acquisition'!D126 & \"\"\"\"","v":"\" \",\"\",\"\",\"\""}]
[{"$f":"\"\"\" \"& 'BX Language acquisition'!A127 & \"\"\",\"\"\" & 'BX Language acquisition'!C127 & \"\"\",\"\"\" & 'BX Language acquisition'!B127 & \"\"\",\"\"\" & 'BX Language acquisition'!D127 & \"\"\"\"","v":"\" \",\"\",\"\",\"\""}]
[{"$f":"\"\"\" \"& 'BX Language acquisition'!A128 & \"\"\",\"\"\" & 'BX Language acquisition'!C128 & \"\"\",\"\"\" & 'BX Language acquisition'!B128 & \"\"\",\"\"\" & 'BX Language acquisition'!D128 & \"\"\"\"","v":"\" \",\"\",\"\",\"\""}]
[{"$f":"\"\"\" \"& 'BX Language acquisition'!A129 & \"\"\",\"\"\" & 'BX Language acquisition'!C129 & \"\"\",\"\"\" & 'BX Language acquisition'!B129 & \"\"\",\"\"\" & 'BX Language acquisition'!D129 & \"\"\"\"","v":"\" \",\"\",\"\",\"\""}]
[{"$f":"\"\"\" \"& 'BX Language acquisition'!A130 & \"\"\",\"\"\" & 'BX Language acquisition'!C130 & \"\"\",\"\"\" & 'BX Language acquisition'!B130 & \"\"\",\"\"\" & 'BX Language acquisition'!D130 & \"\"\"\"","v":"\" \",\"\",\"\",\"\""}]
[{"$f":"\"\"\" \"& 'BX Language acquisition'!A131 & \"\"\",\"\"\" & 'BX Language acquisition'!C131 & \"\"\",\"\"\" & 'BX Language acquisition'!B131 & \"\"\",\"\"\" & 'BX Language acquisition'!D131 & \"\"\"\"","v":"\" \",\"\",\"\",\"\""}]
[{"$f":"\"\"\" \"& 'BX Language acquisition'!A132 & \"\"\",\"\"\" & 'BX Language acquisition'!C132 & \"\"\",\"\"\" & 'BX Language acquisition'!B132 & \"\"\",\"\"\" & 'BX Language acquisition'!D132 & \"\"\"\"","v":"\" \",\"\",\"\",\"\""}]
[{"$f":"\"\"\" \"& 'BX Language acquisition'!A133 & \"\"\",\"\"\" & 'BX Language acquisition'!C133 & \"\"\",\"\"\" & 'BX Language acquisition'!B133 & \"\"\",\"\"\" & 'BX Language acquisition'!D133 & \"\"\"\"","v":"\" \",\"\",\"\",\"\""}]
[{"$f":"\"\"\" \"& 'BX Language acquisition'!A134 & \"\"\",\"\"\" & 'BX Language acquisition'!C134 & \"\"\",\"\"\" & 'BX Language acquisition'!B134 & \"\"\",\"\"\" & 'BX Language acquisition'!D134 & \"\"\"\"","v":"\" \",\"\",\"\",\"\""}]
[{"$f":"\"\"\" \"& 'BX Language acquisition'!A135 & \"\"\",\"\"\" & 'BX Language acquisition'!C135 & \"\"\",\"\"\" & 'BX Language acquisition'!B135 & \"\"\",\"\"\" & 'BX Language acquisition'!D135 & \"\"\"\"","v":"\" \",\"\",\"\",\"\""}]
[{"$f":"\"\"\" \"& 'BX Language acquisition'!A136 & \"\"\",\"\"\" & 'BX Language acquisition'!C136 & \"\"\",\"\"\" & 'BX Language acquisition'!B136 & \"\"\",\"\"\" & 'BX Language acquisition'!D136 & \"\"\"\"","v":"\" \",\"\",\"\",\"\""}]
[{"$f":"\"\"\" \"& 'BX Language acquisition'!A137 & \"\"\",\"\"\" & 'BX Language acquisition'!C137 & \"\"\",\"\"\" & 'BX Language acquisition'!B137 & \"\"\",\"\"\" & 'BX Language acquisition'!D137 & \"\"\"\"","v":"\" \",\"\",\"\",\"\""}]
[{"$f":"\"\"\" \"& 'BX Language acquisition'!A138 & \"\"\",\"\"\" & 'BX Language acquisition'!C138 & \"\"\",\"\"\" & 'BX Language acquisition'!B138 & \"\"\",\"\"\" & 'BX Language acquisition'!D138 & \"\"\"\"","v":"\" \",\"\",\"\",\"\""}]
[{"$f":"\"\"\" \"& 'BX Language acquisition'!A139 & \"\"\",\"\"\" & 'BX Language acquisition'!C139 & \"\"\",\"\"\" & 'BX Language acquisition'!B139 & \"\"\",\"\"\" & 'BX Language acquisition'!D139 & \"\"\"\"","v":"\" \",\"\",\"\",\"\""}]
[{"$f":"\"\"\" \"& 'BX Language acquisition'!A140 & \"\"\",\"\"\" & 'BX Language acquisition'!C140 & \"\"\",\"\"\" & 'BX Language acquisition'!B140 & \"\"\",\"\"\" & 'BX Language acquisition'!D140 & \"\"\"\"","v":"\" \",\"\",\"\",\"\""}]
[{"$f":"\"\"\" \"& 'BX Language acquisition'!A141 & \"\"\",\"\"\" & 'BX Language acquisition'!C141 & \"\"\",\"\"\" & 'BX Language acquisition'!B141 & \"\"\",\"\"\" & 'BX Language acquisition'!D141 & \"\"\"\"","v":"\" \",\"\",\"\",\"\""}]
[{"$f":"\"\"\" \"& 'BX Language acquisition'!A142 & \"\"\",\"\"\" & 'BX Language acquisition'!C142 & \"\"\",\"\"\" & 'BX Language acquisition'!B142 & \"\"\",\"\"\" & 'BX Language acquisition'!D142 & \"\"\"\"","v":"\" \",\"\",\"\",\"\""}]
[{"$f":"\"\"\" \"& 'BX Language acquisition'!A143 & \"\"\",\"\"\" & 'BX Language acquisition'!C143 & \"\"\",\"\"\" & 'BX Language acquisition'!B143 & \"\"\",\"\"\" & 'BX Language acquisition'!D143 & \"\"\"\"","v":"\" \",\"\",\"\",\"\""}]
[{"$f":"\"\"\" \"& 'BX Language acquisition'!A144 & \"\"\",\"\"\" & 'BX Language acquisition'!C144 & \"\"\",\"\"\" & 'BX Language acquisition'!B144 & \"\"\",\"\"\" & 'BX Language acquisition'!D144 & \"\"\"\"","v":"\" \",\"\",\"\",\"\""}]
[{"$f":"\"\"\" \"& 'BX Language acquisition'!A145 & \"\"\",\"\"\" & 'BX Language acquisition'!C145 & \"\"\",\"\"\" & 'BX Language acquisition'!B145 & \"\"\",\"\"\" & 'BX Language acquisition'!D145 & \"\"\"\"","v":"\" \",\"\",\"\",\"\""}]
[{"$f":"\"\"\" \"& 'BX Language acquisition'!A146 & \"\"\",\"\"\" & 'BX Language acquisition'!C146 & \"\"\",\"\"\" & 'BX Language acquisition'!B146 & \"\"\",\"\"\" & 'BX Language acquisition'!D146 & \"\"\"\"","v":"\" \",\"\",\"\",\"\""}]
[{"$f":"\"\"\" \"& 'BX Language acquisition'!A147 & \"\"\",\"\"\" & 'BX Language acquisition'!C147 & \"\"\",\"\"\" & 'BX Language acquisition'!B147 & \"\"\",\"\"\" & 'BX Language acquisition'!D147 & \"\"\"\"","v":"\" \",\"\",\"\",\"\""}]
[{"$f":"\"\"\" \"& 'BX Language acquisition'!A148 & \"\"\",\"\"\" & 'BX Language acquisition'!C148 & \"\"\",\"\"\" & 'BX Language acquisition'!B148 & \"\"\",\"\"\" & 'BX Language acquisition'!D148 & \"\"\"\"","v":"\" \",\"\",\"\",\"\""}]
[{"$f":"\"\"\" \"& 'BX Language acquisition'!A149 & \"\"\",\"\"\" & 'BX Language acquisition'!C149 & \"\"\",\"\"\" & 'BX Language acquisition'!B149 & \"\"\",\"\"\" & 'BX Language acquisition'!D149 & \"\"\"\"","v":"\" \",\"\",\"\",\"\""}]
[{"$f":"\"\"\" \"& 'BX Language acquisition'!A150 & \"\"\",\"\"\" & 'BX Language acquisition'!C150 & \"\"\",\"\"\" & 'BX Language acquisition'!B150 & \"\"\",\"\"\" & 'BX Language acquisition'!D150 & \"\"\"\"","v":"\" \",\"\",\"\",\"\""}]
[{"$f":"\"\"\" \"& 'BX Language acquisition'!A151 & \"\"\",\"\"\" & 'BX Language acquisition'!C151 & \"\"\",\"\"\" & 'BX Language acquisition'!B151 & \"\"\",\"\"\" & 'BX Language acquisition'!D151 & \"\"\"\"","v":"\" \",\"\",\"\",\"\""}]
[{"$f":"\"\"\" \"& 'BX Language acquisition'!A152 & \"\"\",\"\"\" & 'BX Language acquisition'!C152 & \"\"\",\"\"\" & 'BX Language acquisition'!B152 & \"\"\",\"\"\" & 'BX Language acquisition'!D152 & \"\"\"\"","v":"\" \",\"\",\"\",\"\""}]
[{"$f":"\"\"\" \"& 'BX Language acquisition'!A153 & \"\"\",\"\"\" & 'BX Language acquisition'!C153 & \"\"\",\"\"\" & 'BX Language acquisition'!B153 & \"\"\",\"\"\" & 'BX Language acquisition'!D153 & \"\"\"\"","v":"\" \",\"\",\"\",\"\""}]
[{"$f":"\"\"\" \"& 'BX Language acquisition'!A154 & \"\"\",\"\"\" & 'BX Language acquisition'!C154 & \"\"\",\"\"\" & 'BX Language acquisition'!B154 & \"\"\",\"\"\" & 'BX Language acquisition'!D154 & \"\"\"\"","v":"\" \",\"\",\"\",\"\""}]
[{"$f":"\"\"\" \"& 'BX Language acquisition'!A155 & \"\"\",\"\"\" & 'BX Language acquisition'!C155 & \"\"\",\"\"\" & 'BX Language acquisition'!B155 & \"\"\",\"\"\" & 'BX Language acquisition'!D155 & \"\"\"\"","v":"\" \",\"\",\"\",\"\""}]
[{"$f":"\"\"\" \"& 'BX Language acquisition'!A156 & \"\"\",\"\"\" & 'BX Language acquisition'!C156 & \"\"\",\"\"\" & 'BX Language acquisition'!B156 & \"\"\",\"\"\" & 'BX Language acquisition'!D156 & \"\"\"\"","v":"\" \",\"\",\"\",\"\""}]
[{"$f":"\"\"\" \"& 'BX Language acquisition'!A157 & \"\"\",\"\"\" & 'BX Language acquisition'!C157 & \"\"\",\"\"\" & 'BX Language acquisition'!B157 & \"\"\",\"\"\" & 'BX Language acquisition'!D157 & \"\"\"\"","v":"\" \",\"\",\"\",\"\""}]
[{"$f":"\"\"\" \"& 'BX Language acquisition'!A158 & \"\"\",\"\"\" & 'BX Language acquisition'!C158 & \"\"\",\"\"\" & 'BX Language acquisition'!B158 & \"\"\",\"\"\" & 'BX Language acquisition'!D158 & \"\"\"\"","v":"\" \",\"\",\"\",\"\""}]
[{"$f":"\"\"\" \"& 'BX Language acquisition'!A159 & \"\"\",\"\"\" & 'BX Language acquisition'!C159 & \"\"\",\"\"\" & 'BX Language acquisition'!B159 & \"\"\",\"\"\" & 'BX Language acquisition'!D159 & \"\"\"\"","v":"\" \",\"\",\"\",\"\""}]
[{"$f":"\"\"\" \"& 'BX Language acquisition'!A160 & \"\"\",\"\"\" & 'BX Language acquisition'!C160 & \"\"\",\"\"\" & 'BX Language acquisition'!B160 & \"\"\",\"\"\" & 'BX Language acquisition'!D160 & \"\"\"\"","v":"\" \",\"\",\"\",\"\""}]
[{"$f":"\"\"\" \"& 'BX Language acquisition'!A161 & \"\"\",\"\"\" & 'BX Language acquisition'!C161 & \"\"\",\"\"\" & 'BX Language acquisition'!B161 & \"\"\",\"\"\" & 'BX Language acquisition'!D161 & \"\"\"\"","v":"\" \",\"\",\"\",\"\""}]
[{"$f":"\"\"\" \"& 'BX Language acquisition'!A162 & \"\"\",\"\"\" & 'BX Language acquisition'!C162 & \"\"\",\"\"\" & 'BX Language acquisition'!B162 & \"\"\",\"\"\" & 'BX Language acquisition'!D162 & \"\"\"\"","v":"\" \",\"\",\"\",\"\""}]
[{"$f":"\"\"\" \"& 'BX Language acquisition'!A163 & \"\"\",\"\"\" & 'BX Language acquisition'!C163 & \"\"\",\"\"\" & 'BX Language acquisition'!B163 & \"\"\",\"\"\" & 'BX Language acquisition'!D163 & \"\"\"\"","v":"\" \",\"\",\"\",\"\""}]
[{"$f":"\"\"\" \"& 'BX Language acquisition'!A164 & \"\"\",\"\"\" & 'BX Language acquisition'!C164 & \"\"\",\"\"\" & 'BX Language acquisition'!B164 & \"\"\",\"\"\" & 'BX Language acquisition'!D164 & \"\"\"\"","v":"\" \",\"\",\"\",\"\""}]
[{"$f":"\"\"\" \"& 'BX Language acquisition'!A165 & \"\"\",\"\"\" & 'BX Language acquisition'!C165 & \"\"\",\"\"\" & 'BX Language acquisition'!B165 & \"\"\",\"\"\" & 'BX Language acquisition'!D165 & \"\"\"\"","v":"\" \",\"\",\"\",\"\""}]
[{"$f":"\"\"\" \"& 'BX Language acquisition'!A166 & \"\"\",\"\"\" & 'BX Language acquisition'!C166 & \"\"\",\"\"\" & 'BX Language acquisition'!B166 & \"\"\",\"\"\" & 'BX Language acquisition'!D166 & \"\"\"\"","v":"\" \",\"\",\"\",\"\""}]
[{"$f":"\"\"\" \"& 'BX Language acquisition'!A167 & \"\"\",\"\"\" & 'BX Language acquisition'!C167 & \"\"\",\"\"\" & 'BX Language acquisition'!B167 & \"\"\",\"\"\" & 'BX Language acquisition'!D167 & \"\"\"\"","v":"\" \",\"\",\"\",\"\""}]
[{"$f":"\"\"\" \"& 'BX Language acquisition'!A168 & \"\"\",\"\"\" & 'BX Language acquisition'!C168 & \"\"\",\"\"\" & 'BX Language acquisition'!B168 & \"\"\",\"\"\" & 'BX Language acquisition'!D168 & \"\"\"\"","v":"\" \",\"\",\"\",\"\""}]
[{"$f":"\"\"\" \"& 'BX Language acquisition'!A169 & \"\"\",\"\"\" & 'BX Language acquisition'!C169 & \"\"\",\"\"\" & 'BX Language acquisition'!B169 & \"\"\",\"\"\" & 'BX Language acquisition'!D169 & \"\"\"\"","v":"\" \",\"\",\"\",\"\""}]
[{"$f":"\"\"\" \"& 'BX Language acquisition'!A170 & \"\"\",\"\"\" & 'BX Language acquisition'!C170 & \"\"\",\"\"\" & 'BX Language acquisition'!B170 & \"\"\",\"\"\" & 'BX Language acquisition'!D170 & \"\"\"\"","v":"\" \",\"\",\"\",\"\""}]
[{"$f":"\"\"\" \"& 'BX Language acquisition'!A171 & \"\"\",\"\"\" & 'BX Language acquisition'!C171 & \"\"\",\"\"\" & 'BX Language acquisition'!B171 & \"\"\",\"\"\" & 'BX Language acquisition'!D171 & \"\"\"\"","v":"\" \",\"\",\"\",\"\""}]
[{"$f":"\"\"\" \"& 'BX Language acquisition'!A172 & \"\"\",\"\"\" & 'BX Language acquisition'!C172 & \"\"\",\"\"\" & 'BX Language acquisition'!B172 & \"\"\",\"\"\" & 'BX Language acquisition'!D172 & \"\"\"\"","v":"\" \",\"\",\"\",\"\""}]
[{"$f":"\"\"\" \"& 'BX Language acquisition'!A173 & \"\"\",\"\"\" & 'BX Language acquisition'!C173 & \"\"\",\"\"\" & 'BX Language acquisition'!B173 & \"\"\",\"\"\" & 'BX Language acquisition'!D173 & \"\"\"\"","v":"\" \",\"\",\"\",\"\""}]
[{"$f":"\"\"\" \"& 'BX Language acquisition'!A174 & \"\"\",\"\"\" & 'BX Language acquisition'!C174 & \"\"\",\"\"\" & 'BX Language acquisition'!B174 & \"\"\",\"\"\" & 'BX Language acquisition'!D174 & \"\"\"\"","v":"\" \",\"\",\"\",\"\""}]
[{"$f":"\"\"\" \"& 'BX Language acquisition'!A175 & \"\"\",\"\"\" & 'BX Language acquisition'!C175 & \"\"\",\"\"\" & 'BX Language acquisition'!B175 & \"\"\",\"\"\" & 'BX Language acquisition'!D175 & \"\"\"\"","v":"\" \",\"\",\"\",\"\""}]
[{"$f":"\"\"\" \"& 'BX Language acquisition'!A176 & \"\"\",\"\"\" & 'BX Language acquisition'!C176 & \"\"\",\"\"\" & 'BX Language acquisition'!B176 & \"\"\",\"\"\" & 'BX Language acquisition'!D176 & \"\"\"\"","v":"\" \",\"\",\"\",\"\""}]
[{"$f":"\"\"\" \"& 'BX Language acquisition'!A177 & \"\"\",\"\"\" & 'BX Language acquisition'!C177 & \"\"\",\"\"\" & 'BX Language acquisition'!B177 & \"\"\",\"\"\" & 'BX Language acquisition'!D177 & \"\"\"\"","v":"\" \",\"\",\"\",\"\""}]
[{"$f":"\"\"\" \"& 'BX Language acquisition'!A178 & \"\"\",\"\"\" & 'BX Language acquisition'!C178 & \"\"\",\"\"\" & 'BX Language acquisition'!B178 & \"\"\",\"\"\" & 'BX Language acquisition'!D178 & \"\"\"\"","v":"\" \",\"\",\"\",\"\""}]
[{"$f":"\"\"\" \"& 'BX Language acquisition'!A179 & \"\"\",\"\"\" & 'BX Language acquisition'!C179 & \"\"\",\"\"\" & 'BX Language acquisition'!B179 & \"\"\",\"\"\" & 'BX Language acquisition'!D179 & \"\"\"\"","v":"\" \",\"\",\"\",\"\""}]
[{"$f":"\"\"\" \"& 'BX Language acquisition'!A180 & \"\"\",\"\"\" & 'BX Language acquisition'!C180 & \"\"\",\"\"\" & 'BX Language acquisition'!B180 & \"\"\",\"\"\" & 'BX Language acquisition'!D180 & \"\"\"\"","v":"\" \",\"\",\"\",\"\""}]
[{"$f":"\"\"\" \"& 'BX Language acquisition'!A181 & \"\"\",\"\"\" & 'BX Language acquisition'!C181 & \"\"\",\"\"\" & 'BX Language acquisition'!B181 & \"\"\",\"\"\" & 'BX Language acquisition'!D181 & \"\"\"\"","v":"\" \",\"\",\"\",\"\""}]
[{"$f":"\"\"\" \"& 'BX Language acquisition'!A182 & \"\"\",\"\"\" & 'BX Language acquisition'!C182 & \"\"\",\"\"\" & 'BX Language acquisition'!B182 & \"\"\",\"\"\" & 'BX Language acquisition'!D182 & \"\"\"\"","v":"\" \",\"\",\"\",\"\""}]
[{"$f":"\"\"\" \"& 'BX Language acquisition'!A183 & \"\"\",\"\"\" & 'BX Language acquisition'!C183 & \"\"\",\"\"\" & 'BX Language acquisition'!B183 & \"\"\",\"\"\" & 'BX Language acquisition'!D183 & \"\"\"\"","v":"\" \",\"\",\"\",\"\""}]
[{"$f":"\"\"\" \"& 'BX Language acquisition'!A184 & \"\"\",\"\"\" & 'BX Language acquisition'!C184 & \"\"\",\"\"\" & 'BX Language acquisition'!B184 & \"\"\",\"\"\" & 'BX Language acquisition'!D184 & \"\"\"\"","v":"\" \",\"\",\"\",\"\""}]
[{"$f":"\"\"\" \"& 'BX Language acquisition'!A185 & \"\"\",\"\"\" & 'BX Language acquisition'!C185 & \"\"\",\"\"\" & 'BX Language acquisition'!B185 & \"\"\",\"\"\" & 'BX Language acquisition'!D185 & \"\"\"\"","v":"\" \",\"\",\"\",\"\""}]
[{"$f":"\"\"\" \"& 'BX Language acquisition'!A186 & \"\"\",\"\"\" & 'BX Language acquisition'!C186 & \"\"\",\"\"\" & 'BX Language acquisition'!B186 & \"\"\",\"\"\" & 'BX Language acquisition'!D186 & \"\"\"\"","v":"\" \",\"\",\"\",\"\""}]
[{"$f":"\"\"\" \"& 'BX Language acquisition'!A187 & \"\"\",\"\"\" & 'BX Language acquisition'!C187 & \"\"\",\"\"\" & 'BX Language acquisition'!B187 & \"\"\",\"\"\" & 'BX Language acquisition'!D187 & \"\"\"\"","v":"\" \",\"\",\"\",\"\""}]
[{"$f":"\"\"\" \"& 'BX Language acquisition'!A188 & \"\"\",\"\"\" & 'BX Language acquisition'!C188 & \"\"\",\"\"\" & 'BX Language acquisition'!B188 & \"\"\",\"\"\" & 'BX Language acquisition'!D188 & \"\"\"\"","v":"\" \",\"\",\"\",\"\""}]
[{"$f":"\"\"\" \"& 'BX Language acquisition'!A189 & \"\"\",\"\"\" & 'BX Language acquisition'!C189 & \"\"\",\"\"\" & 'BX Language acquisition'!B189 & \"\"\",\"\"\" & 'BX Language acquisition'!D189 & \"\"\"\"","v":"\" \",\"\",\"\",\"\""}]
[{"$f":"\"\"\" \"& 'BX Language acquisition'!A190 & \"\"\",\"\"\" & 'BX Language acquisition'!C190 & \"\"\",\"\"\" & 'BX Language acquisition'!B190 & \"\"\",\"\"\" & 'BX Language acquisition'!D190 & \"\"\"\"","v":"\" \",\"\",\"\",\"\""}]
[{"$f":"\"\"\" \"& 'BX Language acquisition'!A191 & \"\"\",\"\"\" & 'BX Language acquisition'!C191 & \"\"\",\"\"\" & 'BX Language acquisition'!B191 & \"\"\",\"\"\" & 'BX Language acquisition'!D191 & \"\"\"\"","v":"\" \",\"\",\"\",\"\""}]
[{"$f":"\"\"\" \"& 'BX Language acquisition'!A192 & \"\"\",\"\"\" & 'BX Language acquisition'!C192 & \"\"\",\"\"\" & 'BX Language acquisition'!B192 & \"\"\",\"\"\" & 'BX Language acquisition'!D192 & \"\"\"\"","v":"\" \",\"\",\"\",\"\""}]
[{"$f":"\"\"\" \"& 'BX Language acquisition'!A193 & \"\"\",\"\"\" & 'BX Language acquisition'!C193 & \"\"\",\"\"\" & 'BX Language acquisition'!B193 & \"\"\",\"\"\" & 'BX Language acquisition'!D193 & \"\"\"\"","v":"\" \",\"\",\"\",\"\""}]
[{"$f":"\"\"\" \"& 'BX Language acquisition'!A194 & \"\"\",\"\"\" & 'BX Language acquisition'!C194 & \"\"\",\"\"\" & 'BX Language acquisition'!B194 & \"\"\",\"\"\" & 'BX Language acquisition'!D194 & \"\"\"\"","v":"\" \",\"\",\"\",\"\""}]
[{"$f":"\"\"\" \"& 'BX Language acquisition'!A195 & \"\"\",\"\"\" & 'BX Language acquisition'!C195 & \"\"\",\"\"\" & 'BX Language acquisition'!B195 & \"\"\",\"\"\" & 'BX Language acquisition'!D195 & \"\"\"\"","v":"\" \",\"\",\"\",\"\""}]
[{"$f":"\"\"\" \"& 'BX Language acquisition'!A196 & \"\"\",\"\"\" & 'BX Language acquisition'!C196 & \"\"\",\"\"\" & 'BX Language acquisition'!B196 & \"\"\",\"\"\" & 'BX Language acquisition'!D196 & \"\"\"\"","v":"\" \",\"\",\"\",\"\""}]
[{"$f":"\"\"\" \"& 'BX Language acquisition'!A197 & \"\"\",\"\"\" & 'BX Language acquisition'!C197 & \"\"\",\"\"\" & 'BX Language acquisition'!B197 & \"\"\",\"\"\" & 'BX Language acquisition'!D197 & \"\"\"\"","v":"\" \",\"\",\"\",\"\""}]
[{"$f":"\"\"\" \"& 'BX Language acquisition'!A198 & \"\"\",\"\"\" & 'BX Language acquisition'!C198 & \"\"\",\"\"\" & 'BX Language acquisition'!B198 & \"\"\",\"\"\" & 'BX Language acquisition'!D198 & \"\"\"\"","v":"\" \",\"\",\"\",\"\""}]
[{"$f":"\"\"\" \"& 'BX Language acquisition'!A199 & \"\"\",\"\"\" & 'BX Language acquisition'!C199 & \"\"\",\"\"\" & 'BX Language acquisition'!B199 & \"\"\",\"\"\" & 'BX Language acquisition'!D199 & \"\"\"\"","v":"\" \",\"\",\"\",\"\""}]
[{"$f":"\"\"\" \"& 'BX Language acquisition'!A200 & \"\"\",\"\"\" & 'BX Language acquisition'!C200 & \"\"\",\"\"\" & 'BX Language acquisition'!B200 & \"\"\",\"\"\" & 'BX Language acquisition'!D200 & \"\"\"\"","v":"\" \",\"\",\"\",\"\""}]
[{"$f":"\"\"\" \"& 'BX Language acquisition'!A201 & \"\"\",\"\"\" & 'BX Language acquisition'!C201 & \"\"\",\"\"\" & 'BX Language acquisition'!B201 & \"\"\",\"\"\" & 'BX Language acquisition'!D201 & \"\"\"\"","v":"\" \",\"\",\"\",\"\""}]
[{"$f":"\"\"\" \"& 'BX Language acquisition'!A202 & \"\"\",\"\"\" & 'BX Language acquisition'!C202 & \"\"\",\"\"\" & 'BX Language acquisition'!B202 & \"\"\",\"\"\" & 'BX Language acquisition'!D202 & \"\"\"\"","v":"\" \",\"\",\"\",\"\""}]
[{"$f":"\"\"\" \"& 'BX Language acquisition'!A203 & \"\"\",\"\"\" & 'BX Language acquisition'!C203 & \"\"\",\"\"\" & 'BX Language acquisition'!B203 & \"\"\",\"\"\" & 'BX Language acquisition'!D203 & \"\"\"\"","v":"\" \",\"\",\"\",\"\""}]
[{"$f":"\"\"\" \"& 'BX Language acquisition'!A204 & \"\"\",\"\"\" & 'BX Language acquisition'!C204 & \"\"\",\"\"\" & 'BX Language acquisition'!B204 & \"\"\",\"\"\" & 'BX Language acquisition'!D204 & \"\"\"\"","v":"\" \",\"\",\"\",\"\""}]
[{"$f":"\"\"\" \"& 'BX Language acquisition'!A205 & \"\"\",\"\"\" & 'BX Language acquisition'!C205 & \"\"\",\"\"\" & 'BX Language acquisition'!B205 & \"\"\",\"\"\" & 'BX Language acquisition'!D205 & \"\"\"\"","v":"\" \",\"\",\"\",\"\""}]
[{"$f":"\"\"\" \"& 'BX Language acquisition'!A206 & \"\"\",\"\"\" & 'BX Language acquisition'!C206 & \"\"\",\"\"\" & 'BX Language acquisition'!B206 & \"\"\",\"\"\" & 'BX Language acquisition'!D206 & \"\"\"\"","v":"\" \",\"\",\"\",\"\""}]
[{"$f":"\"\"\" \"& 'BX Language acquisition'!A207 & \"\"\",\"\"\" & 'BX Language acquisition'!C207 & \"\"\",\"\"\" & 'BX Language acquisition'!B207 & \"\"\",\"\"\" & 'BX Language acquisition'!D207 & \"\"\"\"","v":"\" \",\"\",\"\",\"\""}]
[{"$f":"\"\"\" \"& 'BX Language acquisition'!A208 & \"\"\",\"\"\" & 'BX Language acquisition'!C208 & \"\"\",\"\"\" & 'BX Language acquisition'!B208 & \"\"\",\"\"\" & 'BX Language acquisition'!D208 & \"\"\"\"","v":"\" \",\"\",\"\",\"\""}]
[{"$f":"\"\"\" \"& 'BX Language acquisition'!A209 & \"\"\",\"\"\" & 'BX Language acquisition'!C209 & \"\"\",\"\"\" & 'BX Language acquisition'!B209 & \"\"\",\"\"\" & 'BX Language acquisition'!D209 & \"\"\"\"","v":"\" \",\"\",\"\",\"\""}]
[{"$f":"\"\"\" \"& 'BX Language acquisition'!A210 & \"\"\",\"\"\" & 'BX Language acquisition'!C210 & \"\"\",\"\"\" & 'BX Language acquisition'!B210 & \"\"\",\"\"\" & 'BX Language acquisition'!D210 & \"\"\"\"","v":"\" \",\"\",\"\",\"\""}]
[{"$f":"\"\"\" \"& 'BX Language acquisition'!A211 & \"\"\",\"\"\" & 'BX Language acquisition'!C211 & \"\"\",\"\"\" & 'BX Language acquisition'!B211 & \"\"\",\"\"\" & 'BX Language acquisition'!D211 & \"\"\"\"","v":"\" \",\"\",\"\",\"\""}]
[{"$f":"\"\"\" \"& 'BX Language acquisition'!A212 & \"\"\",\"\"\" & 'BX Language acquisition'!C212 & \"\"\",\"\"\" & 'BX Language acquisition'!B212 & \"\"\",\"\"\" & 'BX Language acquisition'!D212 & \"\"\"\"","v":"\" \",\"\",\"\",\"\""}]
[{"$f":"\"\"\" \"& 'BX Language acquisition'!A213 & \"\"\",\"\"\" & 'BX Language acquisition'!C213 & \"\"\",\"\"\" & 'BX Language acquisition'!B213 & \"\"\",\"\"\" & 'BX Language acquisition'!D213 & \"\"\"\"","v":"\" \",\"\",\"\",\"\""}]
[{"$f":"\"\"\" \"& 'BX Language acquisition'!A214 & \"\"\",\"\"\" & 'BX Language acquisition'!C214 & \"\"\",\"\"\" & 'BX Language acquisition'!B214 & \"\"\",\"\"\" & 'BX Language acquisition'!D214 & \"\"\"\"","v":"\" \",\"\",\"\",\"\""}]
[{"$f":"\"\"\" \"& 'BX Language acquisition'!A215 & \"\"\",\"\"\" & 'BX Language acquisition'!C215 & \"\"\",\"\"\" & 'BX Language acquisition'!B215 & \"\"\",\"\"\" & 'BX Language acquisition'!D215 & \"\"\"\"","v":"\" \",\"\",\"\",\"\""}]
[{"$f":"\"\"\" \"& 'BX Language acquisition'!A216 & \"\"\",\"\"\" & 'BX Language acquisition'!C216 & \"\"\",\"\"\" & 'BX Language acquisition'!B216 & \"\"\",\"\"\" & 'BX Language acquisition'!D216 & \"\"\"\"","v":"\" \",\"\",\"\",\"\""}]
[{"$f":"\"\"\" \"& 'BX Language acquisition'!A217 & \"\"\",\"\"\" & 'BX Language acquisition'!C217 & \"\"\",\"\"\" & 'BX Language acquisition'!B217 & \"\"\",\"\"\" & 'BX Language acquisition'!D217 & \"\"\"\"","v":"\" \",\"\",\"\",\"\""}]
[{"$f":"\"\"\" \"& 'BX Language acquisition'!A218 & \"\"\",\"\"\" & 'BX Language acquisition'!C218 & \"\"\",\"\"\" & 'BX Language acquisition'!B218 & \"\"\",\"\"\" & 'BX Language acquisition'!D218 & \"\"\"\"","v":"\" \",\"\",\"\",\"\""}]
[{"$f":"\"\"\" \"& 'BX Language acquisition'!A219 & \"\"\",\"\"\" & 'BX Language acquisition'!C219 & \"\"\",\"\"\" & 'BX Language acquisition'!B219 & \"\"\",\"\"\" & 'BX Language acquisition'!D219 & \"\"\"\"","v":"\" \",\"\",\"\",\"\""}]
[{"$f":"\"\"\" \"& 'BX Language acquisition'!A220 & \"\"\",\"\"\" & 'BX Language acquisition'!C220 & \"\"\",\"\"\" & 'BX Language acquisition'!B220 & \"\"\",\"\"\" & 'BX Language acquisition'!D220 & \"\"\"\"","v":"\" \",\"\",\"\",\"\""}]
[{"$f":"\"\"\" \"& 'BX Language acquisition'!A221 & \"\"\",\"\"\" & 'BX Language acquisition'!C221 & \"\"\",\"\"\" & 'BX Language acquisition'!B221 & \"\"\",\"\"\" & 'BX Language acquisition'!D221 & \"\"\"\"","v":"\" \",\"\",\"\",\"\""}]
[{"$f":"\"\"\" \"& 'BX Language acquisition'!A222 & \"\"\",\"\"\" & 'BX Language acquisition'!C222 & \"\"\",\"\"\" & 'BX Language acquisition'!B222 & \"\"\",\"\"\" & 'BX Language acquisition'!D222 & \"\"\"\"","v":"\" \",\"\",\"\",\"\""}]
[{"$f":"\"\"\" \"& 'BX Language acquisition'!A223 & \"\"\",\"\"\" & 'BX Language acquisition'!C223 & \"\"\",\"\"\" & 'BX Language acquisition'!B223 & \"\"\",\"\"\" & 'BX Language acquisition'!D223 & \"\"\"\"","v":"\" \",\"\",\"\",\"\""}]
[{"$f":"\"\"\" \"& 'BX Language acquisition'!A224 & \"\"\",\"\"\" & 'BX Language acquisition'!C224 & \"\"\",\"\"\" & 'BX Language acquisition'!B224 & \"\"\",\"\"\" & 'BX Language acquisition'!D224 & \"\"\"\"","v":"\" \",\"\",\"\",\"\""}]
[{"$f":"\"\"\" \"& 'BX Language acquisition'!A225 & \"\"\",\"\"\" & 'BX Language acquisition'!C225 & \"\"\",\"\"\" & 'BX Language acquisition'!B225 & \"\"\",\"\"\" & 'BX Language acquisition'!D225 & \"\"\"\"","v":"\" \",\"\",\"\",\"\""}]
[{"$f":"\"\"\" \"& 'BX Language acquisition'!A226 & \"\"\",\"\"\" & 'BX Language acquisition'!C226 & \"\"\",\"\"\" & 'BX Language acquisition'!B226 & \"\"\",\"\"\" & 'BX Language acquisition'!D226 & \"\"\"\"","v":"\" \",\"\",\"\",\"\""}]
[{"$f":"\"\"\" \"& 'BX Language acquisition'!A227 & \"\"\",\"\"\" & 'BX Language acquisition'!C227 & \"\"\",\"\"\" & 'BX Language acquisition'!B227 & \"\"\",\"\"\" & 'BX Language acquisition'!D227 & \"\"\"\"","v":"\" \",\"\",\"\",\"\""}]
[{"$f":"\"\"\" \"& 'BX Language acquisition'!A228 & \"\"\",\"\"\" & 'BX Language acquisition'!C228 & \"\"\",\"\"\" & 'BX Language acquisition'!B228 & \"\"\",\"\"\" & 'BX Language acquisition'!D228 & \"\"\"\"","v":"\" \",\"\",\"\",\"\""}]
[{"$f":"\"\"\" \"& 'BX Language acquisition'!A229 & \"\"\",\"\"\" & 'BX Language acquisition'!C229 & \"\"\",\"\"\" & 'BX Language acquisition'!B229 & \"\"\",\"\"\" & 'BX Language acquisition'!D229 & \"\"\"\"","v":"\" \",\"\",\"\",\"\""}]
[{"$f":"\"\"\" \"& 'BX Language acquisition'!A230 & \"\"\",\"\"\" & 'BX Language acquisition'!C230 & \"\"\",\"\"\" & 'BX Language acquisition'!B230 & \"\"\",\"\"\" & 'BX Language acquisition'!D230 & \"\"\"\"","v":"\" \",\"\",\"\",\"\""}]
[{"$f":"\"\"\" \"& 'BX Language acquisition'!A231 & \"\"\",\"\"\" & 'BX Language acquisition'!C231 & \"\"\",\"\"\" & 'BX Language acquisition'!B231 & \"\"\",\"\"\" & 'BX Language acquisition'!D231 & \"\"\"\"","v":"\" \",\"\",\"\",\"\""}]
[{"$f":"\"\"\" \"& 'BX Language acquisition'!A232 & \"\"\",\"\"\" & 'BX Language acquisition'!C232 & \"\"\",\"\"\" & 'BX Language acquisition'!B232 & \"\"\",\"\"\" & 'BX Language acquisition'!D232 & \"\"\"\"","v":"\" \",\"\",\"\",\"\""}]
[{"$f":"\"\"\" \"& 'BX Language acquisition'!A233 & \"\"\",\"\"\" & 'BX Language acquisition'!C233 & \"\"\",\"\"\" & 'BX Language acquisition'!B233 & \"\"\",\"\"\" & 'BX Language acquisition'!D233 & \"\"\"\"","v":"\" \",\"\",\"\",\"\""}]
[{"$f":"\"\"\" \"& 'BX Language acquisition'!A234 & \"\"\",\"\"\" & 'BX Language acquisition'!C234 & \"\"\",\"\"\" & 'BX Language acquisition'!B234 & \"\"\",\"\"\" & 'BX Language acquisition'!D234 & \"\"\"\"","v":"\" \",\"\",\"\",\"\""}]
[{"$f":"\"\"\" \"& 'BX Language acquisition'!A235 & \"\"\",\"\"\" & 'BX Language acquisition'!C235 & \"\"\",\"\"\" & 'BX Language acquisition'!B235 & \"\"\",\"\"\" & 'BX Language acquisition'!D235 & \"\"\"\"","v":"\" \",\"\",\"\",\"\""}]
[{"$f":"\"\"\" \"& 'BX Language acquisition'!A236 & \"\"\",\"\"\" & 'BX Language acquisition'!C236 & \"\"\",\"\"\" & 'BX Language acquisition'!B236 & \"\"\",\"\"\" & 'BX Language acquisition'!D236 & \"\"\"\"","v":"\" \",\"\",\"\",\"\""}]
[{"$f":"\"\"\" \"& 'BX Language acquisition'!A237 & \"\"\",\"\"\" & 'BX Language acquisition'!C237 & \"\"\",\"\"\" & 'BX Language acquisition'!B237 & \"\"\",\"\"\" & 'BX Language acquisition'!D237 & \"\"\"\"","v":"\" \",\"\",\"\",\"\""}]
[{"$f":"\"\"\" \"& 'BX Language acquisition'!A238 & \"\"\",\"\"\" & 'BX Language acquisition'!C238 & \"\"\",\"\"\" & 'BX Language acquisition'!B238 & \"\"\",\"\"\" & 'BX Language acquisition'!D238 & \"\"\"\"","v":"\" \",\"\",\"\",\"\""}]
[{"$f":"\"\"\" \"& 'BX Language acquisition'!A239 & \"\"\",\"\"\" & 'BX Language acquisition'!C239 & \"\"\",\"\"\" & 'BX Language acquisition'!B239 & \"\"\",\"\"\" & 'BX Language acquisition'!D239 & \"\"\"\"","v":"\" \",\"\",\"\",\"\""}]
[{"$f":"\"\"\" \"& 'BX Language acquisition'!A240 & \"\"\",\"\"\" & 'BX Language acquisition'!C240 & \"\"\",\"\"\" & 'BX Language acquisition'!B240 & \"\"\",\"\"\" & 'BX Language acquisition'!D240 & \"\"\"\"","v":"\" \",\"\",\"\",\"\""}]
[{"$f":"\"\"\" \"& 'BX Language acquisition'!A241 & \"\"\",\"\"\" & 'BX Language acquisition'!C241 & \"\"\",\"\"\" & 'BX Language acquisition'!B241 & \"\"\",\"\"\" & 'BX Language acquisition'!D241 & \"\"\"\"","v":"\" \",\"\",\"\",\"\""}]
[{"$f":"\"\"\" \"& 'BX Language acquisition'!A242 & \"\"\",\"\"\" & 'BX Language acquisition'!C242 & \"\"\",\"\"\" & 'BX Language acquisition'!B242 & \"\"\",\"\"\" & 'BX Language acquisition'!D242 & \"\"\"\"","v":"\" \",\"\",\"\",\"\""}]
[{"$f":"\"\"\" \"& 'BX Language acquisition'!A243 & \"\"\",\"\"\" & 'BX Language acquisition'!C243 & \"\"\",\"\"\" & 'BX Language acquisition'!B243 & \"\"\",\"\"\" & 'BX Language acquisition'!D243 & \"\"\"\"","v":"\" \",\"\",\"\",\"\""}]
[{"$f":"\"\"\" \"& 'BX Language acquisition'!A244 & \"\"\",\"\"\" & 'BX Language acquisition'!C244 & \"\"\",\"\"\" & 'BX Language acquisition'!B244 & \"\"\",\"\"\" & 'BX Language acquisition'!D244 & \"\"\"\"","v":"\" \",\"\",\"\",\"\""}]
[{"$f":"\"\"\" \"& 'BX Language acquisition'!A245 & \"\"\",\"\"\" & 'BX Language acquisition'!C245 & \"\"\",\"\"\" & 'BX Language acquisition'!B245 & \"\"\",\"\"\" & 'BX Language acquisition'!D245 & \"\"\"\"","v":"\" \",\"\",\"\",\"\""}]
[{"$f":"\"\"\" \"& 'BX Language acquisition'!A246 & \"\"\",\"\"\" & 'BX Language acquisition'!C246 & \"\"\",\"\"\" & 'BX Language acquisition'!B246 & \"\"\",\"\"\" & 'BX Language acquisition'!D246 & \"\"\"\"","v":"\" \",\"\",\"\",\"\""}]
[{"$f":"\"\"\" \"& 'BX Language acquisition'!A247 & \"\"\",\"\"\" & 'BX Language acquisition'!C247 & \"\"\",\"\"\" & 'BX Language acquisition'!B247 & \"\"\",\"\"\" & 'BX Language acquisition'!D247 & \"\"\"\"","v":"\" \",\"\",\"\",\"\""}]
[{"$f":"\"\"\" \"& 'BX Language acquisition'!A248 & \"\"\",\"\"\" & 'BX Language acquisition'!C248 & \"\"\",\"\"\" & 'BX Language acquisition'!B248 & \"\"\",\"\"\" & 'BX Language acquisition'!D248 & \"\"\"\"","v":"\" \",\"\",\"\",\"\""}]
[{"$f":"\"\"\" \"& 'BX Language acquisition'!A249 & \"\"\",\"\"\" & 'BX Language acquisition'!C249 & \"\"\",\"\"\" & 'BX Language acquisition'!B249 & \"\"\",\"\"\" & 'BX Language acquisition'!D249 & \"\"\"\"","v":"\" \",\"\",\"\",\"\""}]
[{"$f":"\"\"\" \"& 'BX Language acquisition'!A250 & \"\"\",\"\"\" & 'BX Language acquisition'!C250 & \"\"\",\"\"\" & 'BX Language acquisition'!B250 & \"\"\",\"\"\" & 'BX Language acquisition'!D250 & \"\"\"\"","v":"\" \",\"\",\"\",\"\""}]
[{"$f":"\"\"\" \"& 'BX Language acquisition'!A251 & \"\"\",\"\"\" & 'BX Language acquisition'!C251 & \"\"\",\"\"\" & 'BX Language acquisition'!B251 & \"\"\",\"\"\" & 'BX Language acquisition'!D251 & \"\"\"\"","v":"\" \",\"\",\"\",\"\""}]
[{"$f":"\"\"\" \"& 'BX Language acquisition'!A252 & \"\"\",\"\"\" & 'BX Language acquisition'!C252 & \"\"\",\"\"\" & 'BX Language acquisition'!B252 & \"\"\",\"\"\" & 'BX Language acquisition'!D252 & \"\"\"\"","v":"\" \",\"\",\"\",\"\""}]
[{"$f":"\"\"\" \"& 'BX Language acquisition'!A253 & \"\"\",\"\"\" & 'BX Language acquisition'!C253 & \"\"\",\"\"\" & 'BX Language acquisition'!B253 & \"\"\",\"\"\" & 'BX Language acquisition'!D253 & \"\"\"\"","v":"\" \",\"\",\"\",\"\""}]
[{"$f":"\"\"\" \"& 'BX Language acquisition'!A254 & \"\"\",\"\"\" & 'BX Language acquisition'!C254 & \"\"\",\"\"\" & 'BX Language acquisition'!B254 & \"\"\",\"\"\" & 'BX Language acquisition'!D254 & \"\"\"\"","v":"\" \",\"\",\"\",\"\""}]
[{"$f":"\"\"\" \"& 'BX Language acquisition'!A255 & \"\"\",\"\"\" & 'BX Language acquisition'!C255 & \"\"\",\"\"\" & 'BX Language acquisition'!B255 & \"\"\",\"\"\" & 'BX Language acquisition'!D255 & \"\"\"\"","v":"\" \",\"\",\"\",\"\""}]
[{"$f":"\"\"\" \"& 'BX Language acquisition'!A256 & \"\"\",\"\"\" & 'BX Language acquisition'!C256 & \"\"\",\"\"\" & 'BX Language acquisition'!B256 & \"\"\",\"\"\" & 'BX Language acquisition'!D256 & \"\"\"\"","v":"\" \",\"\",\"\",\"\""}]
[{"$f":"\"\"\" \"& 'BX Language acquisition'!A257 & \"\"\",\"\"\" & 'BX Language acquisition'!C257 & \"\"\",\"\"\" & 'BX Language acquisition'!B257 & \"\"\",\"\"\" & 'BX Language acquisition'!D257 & \"\"\"\"","v":"\" \",\"\",\"\",\"\""}]
[{"$f":"\"\"\" \"& 'BX Language acquisition'!A258 & \"\"\",\"\"\" & 'BX Language acquisition'!C258 & \"\"\",\"\"\" & 'BX Language acquisition'!B258 & \"\"\",\"\"\" & 'BX Language acquisition'!D258 & \"\"\"\"","v":"\" \",\"\",\"\",\"\""}]
[{"$f":"\"\"\" \"& 'BX Language acquisition'!A259 & \"\"\",\"\"\" & 'BX Language acquisition'!C259 & \"\"\",\"\"\" & 'BX Language acquisition'!B259 & \"\"\",\"\"\" & 'BX Language acquisition'!D259 & \"\"\"\"","v":"\" \",\"\",\"\",\"\""}]
[{"$f":"\"\"\" \"& 'BX Language acquisition'!A260 & \"\"\",\"\"\" & 'BX Language acquisition'!C260 & \"\"\",\"\"\" & 'BX Language acquisition'!B260 & \"\"\",\"\"\" & 'BX Language acquisition'!D260 & \"\"\"\"","v":"\" \",\"\",\"\",\"\""}]
[{"$f":"\"\"\" \"& 'BX Language acquisition'!A261 & \"\"\",\"\"\" & 'BX Language acquisition'!C261 & \"\"\",\"\"\" & 'BX Language acquisition'!B261 & \"\"\",\"\"\" & 'BX Language acquisition'!D261 & \"\"\"\"","v":"\" \",\"\",\"\",\"\""}]
[{"$f":"\"\"\" \"& 'BX Language acquisition'!A262 & \"\"\",\"\"\" & 'BX Language acquisition'!C262 & \"\"\",\"\"\" & 'BX Language acquisition'!B262 & \"\"\",\"\"\" & 'BX Language acquisition'!D262 & \"\"\"\"","v":"\" \",\"\",\"\",\"\""}]
[{"$f":"\"\"\" \"& 'BX Language acquisition'!A263 & \"\"\",\"\"\" & 'BX Language acquisition'!C263 & \"\"\",\"\"\" & 'BX Language acquisition'!B263 & \"\"\",\"\"\" & 'BX Language acquisition'!D263 & \"\"\"\"","v":"\" \",\"\",\"\",\"\""}]
[{"$f":"\"\"\" \"& 'BX Language acquisition'!A264 & \"\"\",\"\"\" & 'BX Language acquisition'!C264 & \"\"\",\"\"\" & 'BX Language acquisition'!B264 & \"\"\",\"\"\" & 'BX Language acquisition'!D264 & \"\"\"\"","v":"\" \",\"\",\"\",\"\""}]
[{"$f":"\"\"\" \"& 'BX Language acquisition'!A265 & \"\"\",\"\"\" & 'BX Language acquisition'!C265 & \"\"\",\"\"\" & 'BX Language acquisition'!B265 & \"\"\",\"\"\" & 'BX Language acquisition'!D265 & \"\"\"\"","v":"\" \",\"\",\"\",\"\""}]
[{"$f":"\"\"\" \"& 'BX Language acquisition'!A266 & \"\"\",\"\"\" & 'BX Language acquisition'!C266 & \"\"\",\"\"\" & 'BX Language acquisition'!B266 & \"\"\",\"\"\" & 'BX Language acquisition'!D266 & \"\"\"\"","v":"\" \",\"\",\"\",\"\""}]
[{"$f":"\"\"\" \"& 'BX Language acquisition'!A267 & \"\"\",\"\"\" & 'BX Language acquisition'!C267 & \"\"\",\"\"\" & 'BX Language acquisition'!B267 & \"\"\",\"\"\" & 'BX Language acquisition'!D267 & \"\"\"\"","v":"\" \",\"\",\"\",\"\""}]
[{"$f":"\"\"\" \"& 'BX Language acquisition'!A268 & \"\"\",\"\"\" & 'BX Language acquisition'!C268 & \"\"\",\"\"\" & 'BX Language acquisition'!B268 & \"\"\",\"\"\" & 'BX Language acquisition'!D268 & \"\"\"\"","v":"\" \",\"\",\"\",\"\""}]
[{"$f":"\"\"\" \"& 'BX Language acquisition'!A269 & \"\"\",\"\"\" & 'BX Language acquisition'!C269 & \"\"\",\"\"\" & 'BX Language acquisition'!B269 & \"\"\",\"\"\" & 'BX Language acquisition'!D269 & \"\"\"\"","v":"\" \",\"\",\"\",\"\""}]
[{"$f":"\"\"\" \"& 'BX Language acquisition'!A270 & \"\"\",\"\"\" & 'BX Language acquisition'!C270 & \"\"\",\"\"\" & 'BX Language acquisition'!B270 & \"\"\",\"\"\" & 'BX Language acquisition'!D270 & \"\"\"\"","v":"\" \",\"\",\"\",\"\""}]
[{"$f":"\"\"\" \"& 'BX Language acquisition'!A271 & \"\"\",\"\"\" & 'BX Language acquisition'!C271 & \"\"\",\"\"\" & 'BX Language acquisition'!B271 & \"\"\",\"\"\" & 'BX Language acquisition'!D271 & \"\"\"\"","v":"\" \",\"\",\"\",\"\""}]
[{"$f":"\"\"\" \"& 'BX Language acquisition'!A272 & \"\"\",\"\"\" & 'BX Language acquisition'!C272 & \"\"\",\"\"\" & 'BX Language acquisition'!B272 & \"\"\",\"\"\" & 'BX Language acquisition'!D272 & \"\"\"\"","v":"\" \",\"\",\"\",\"\""}]
[{"$f":"\"\"\" \"& 'BX Language acquisition'!A273 & \"\"\",\"\"\" & 'BX Language acquisition'!C273 & \"\"\",\"\"\" & 'BX Language acquisition'!B273 & \"\"\",\"\"\" & 'BX Language acquisition'!D273 & \"\"\"\"","v":"\" \",\"\",\"\",\"\""}]
[{"$f":"\"\"\" \"& 'BX Language acquisition'!A274 & \"\"\",\"\"\" & 'BX Language acquisition'!C274 & \"\"\",\"\"\" & 'BX Language acquisition'!B274 & \"\"\",\"\"\" & 'BX Language acquisition'!D274 & \"\"\"\"","v":"\" \",\"\",\"\",\"\""}]
[{"$f":"\"\"\" \"& 'BX Language acquisition'!A275 & \"\"\",\"\"\" & 'BX Language acquisition'!C275 & \"\"\",\"\"\" & 'BX Language acquisition'!B275 & \"\"\",\"\"\" & 'BX Language acquisition'!D275 & \"\"\"\"","v":"\" \",\"\",\"\",\"\""}]
[{"$f":"\"\"\" \"& 'BX Language acquisition'!A276 & \"\"\",\"\"\" & 'BX Language acquisition'!C276 & \"\"\",\"\"\" & 'BX Language acquisition'!B276 & \"\"\",\"\"\" & 'BX Language acquisition'!D276 & \"\"\"\"","v":"\" \",\"\",\"\",\"\""}]
[{"$f":"\"\"\" \"& 'BX Language acquisition'!A277 & \"\"\",\"\"\" & 'BX Language acquisition'!C277 & \"\"\",\"\"\" & 'BX Language acquisition'!B277 & \"\"\",\"\"\" & 'BX Language acquisition'!D277 & \"\"\"\"","v":"\" \",\"\",\"\",\"\""}]
[{"$f":"\"\"\" \"& 'BX Language acquisition'!A278 & \"\"\",\"\"\" & 'BX Language acquisition'!C278 & \"\"\",\"\"\" & 'BX Language acquisition'!B278 & \"\"\",\"\"\" & 'BX Language acquisition'!D278 & \"\"\"\"","v":"\" \",\"\",\"\",\"\""}]
[{"$f":"\"\"\" \"& 'BX Language acquisition'!A279 & \"\"\",\"\"\" & 'BX Language acquisition'!C279 & \"\"\",\"\"\" & 'BX Language acquisition'!B279 & \"\"\",\"\"\" & 'BX Language acquisition'!D279 & \"\"\"\"","v":"\" \",\"\",\"\",\"\""}]
[{"$f":"\"\"\" \"& 'BX Language acquisition'!A280 & \"\"\",\"\"\" & 'BX Language acquisition'!C280 & \"\"\",\"\"\" & 'BX Language acquisition'!B280 & \"\"\",\"\"\" & 'BX Language acquisition'!D280 & \"\"\"\"","v":"\" \",\"\",\"\",\"\""}]
[{"$f":"\"\"\" \"& 'BX Language acquisition'!A281 & \"\"\",\"\"\" & 'BX Language acquisition'!C281 & \"\"\",\"\"\" & 'BX Language acquisition'!B281 & \"\"\",\"\"\" & 'BX Language acquisition'!D281 & \"\"\"\"","v":"\" \",\"\",\"\",\"\""}]
[{"$f":"\"\"\" \"& 'BX Language acquisition'!A282 & \"\"\",\"\"\" & 'BX Language acquisition'!C282 & \"\"\",\"\"\" & 'BX Language acquisition'!B282 & \"\"\",\"\"\" & 'BX Language acquisition'!D282 & \"\"\"\"","v":"\" \",\"\",\"\",\"\""}]
[{"$f":"\"\"\" \"& 'BX Language acquisition'!A283 & \"\"\",\"\"\" & 'BX Language acquisition'!C283 & \"\"\",\"\"\" & 'BX Language acquisition'!B283 & \"\"\",\"\"\" & 'BX Language acquisition'!D283 & \"\"\"\"","v":"\" \",\"\",\"\",\"\""}]
[{"$f":"\"\"\" \"& 'BX Language acquisition'!A284 & \"\"\",\"\"\" & 'BX Language acquisition'!C284 & \"\"\",\"\"\" & 'BX Language acquisition'!B284 & \"\"\",\"\"\" & 'BX Language acquisition'!D284 & \"\"\"\"","v":"\" \",\"\",\"\",\"\""}]
[{"$f":"\"\"\" \"& 'BX Language acquisition'!A285 & \"\"\",\"\"\" & 'BX Language acquisition'!C285 & \"\"\",\"\"\" & 'BX Language acquisition'!B285 & \"\"\",\"\"\" & 'BX Language acquisition'!D285 & \"\"\"\"","v":"\" \",\"\",\"\",\"\""}]
[{"$f":"\"\"\" \"& 'BX Language acquisition'!A286 & \"\"\",\"\"\" & 'BX Language acquisition'!C286 & \"\"\",\"\"\" & 'BX Language acquisition'!B286 & \"\"\",\"\"\" & 'BX Language acquisition'!D286 & \"\"\"\"","v":"\" \",\"\",\"\",\"\""}]
[{"$f":"\"\"\" \"& 'BX Language acquisition'!A287 & \"\"\",\"\"\" & 'BX Language acquisition'!C287 & \"\"\",\"\"\" & 'BX Language acquisition'!B287 & \"\"\",\"\"\" & 'BX Language acquisition'!D287 & \"\"\"\"","v":"\" \",\"\",\"\",\"\""}]
[{"$f":"\"\"\" \"& 'BX Language acquisition'!A288 & \"\"\",\"\"\" & 'BX Language acquisition'!C288 & \"\"\",\"\"\" & 'BX Language acquisition'!B288 & \"\"\",\"\"\" & 'BX Language acquisition'!D288 & \"\"\"\"","v":"\" \",\"\",\"\",\"\""}]
[{"$f":"\"\"\" \"& 'BX Language acquisition'!A289 & \"\"\",\"\"\" & 'BX Language acquisition'!C289 & \"\"\",\"\"\" & 'BX Language acquisition'!B289 & \"\"\",\"\"\" & 'BX Language acquisition'!D289 & \"\"\"\"","v":"\" \",\"\",\"\",\"\""}]
[{"$f":"\"\"\" \"& 'BX Language acquisition'!A290 & \"\"\",\"\"\" & 'BX Language acquisition'!C290 & \"\"\",\"\"\" & 'BX Language acquisition'!B290 & \"\"\",\"\"\" & 'BX Language acquisition'!D290 & \"\"\"\"","v":"\" \",\"\",\"\",\"\""}]
[{"$f":"\"\"\" \"& 'BX Language acquisition'!A291 & \"\"\",\"\"\" & 'BX Language acquisition'!C291 & \"\"\",\"\"\" & 'BX Language acquisition'!B291 & \"\"\",\"\"\" & 'BX Language acquisition'!D291 & \"\"\"\"","v":"\" \",\"\",\"\",\"\""}]
[{"$f":"\"\"\" \"& 'BX Language acquisition'!A292 & \"\"\",\"\"\" & 'BX Language acquisition'!C292 & \"\"\",\"\"\" & 'BX Language acquisition'!B292 & \"\"\",\"\"\" & 'BX Language acquisition'!D292 & \"\"\"\"","v":"\" \",\"\",\"\",\"\""}]
[{"$f":"\"\"\" \"& 'BX Language acquisition'!A293 & \"\"\",\"\"\" & 'BX Language acquisition'!C293 & \"\"\",\"\"\" & 'BX Language acquisition'!B293 & \"\"\",\"\"\" & 'BX Language acquisition'!D293 & \"\"\"\"","v":"\" \",\"\",\"\",\"\""}]
[{"$f":"\"\"\" \"& 'BX Language acquisition'!A294 & \"\"\",\"\"\" & 'BX Language acquisition'!C294 & \"\"\",\"\"\" & 'BX Language acquisition'!B294 & \"\"\",\"\"\" & 'BX Language acquisition'!D294 & \"\"\"\"","v":"\" \",\"\",\"\",\"\""}]
[{"$f":"\"\"\" \"& 'BX Language acquisition'!A295 & \"\"\",\"\"\" & 'BX Language acquisition'!C295 & \"\"\",\"\"\" & 'BX Language acquisition'!B295 & \"\"\",\"\"\" & 'BX Language acquisition'!D295 & \"\"\"\"","v":"\" \",\"\",\"\",\"\""}]
[{"$f":"\"\"\" \"& 'BX Language acquisition'!A296 & \"\"\",\"\"\" & 'BX Language acquisition'!C296 & \"\"\",\"\"\" & 'BX Language acquisition'!B296 & \"\"\",\"\"\" & 'BX Language acquisition'!D296 & \"\"\"\"","v":"\" \",\"\",\"\",\"\""}]
[{"$f":"\"\"\" \"& 'BX Language acquisition'!A297 & \"\"\",\"\"\" & 'BX Language acquisition'!C297 & \"\"\",\"\"\" & 'BX Language acquisition'!B297 & \"\"\",\"\"\" & 'BX Language acquisition'!D297 & \"\"\"\"","v":"\" \",\"\",\"\",\"\""}]
[{"$f":"\"\"\" \"& 'BX Language acquisition'!A298 & \"\"\",\"\"\" & 'BX Language acquisition'!C298 & \"\"\",\"\"\" & 'BX Language acquisition'!B298 & \"\"\",\"\"\" & 'BX Language acquisition'!D298 & \"\"\"\"","v":"\" \",\"\",\"\",\"\""}]
[{"$f":"\"\"\" \"& 'BX Language acquisition'!A299 & \"\"\",\"\"\" & 'BX Language acquisition'!C299 & \"\"\",\"\"\" & 'BX Language acquisition'!B299 & \"\"\",\"\"\" & 'BX Language acquisition'!D299 & \"\"\"\"","v":"\" \",\"\",\"\",\"\""}]
[{"$f":"\"\"\" \"& 'BX Language acquisition'!A300 & \"\"\",\"\"\" & 'BX Language acquisition'!C300 & \"\"\",\"\"\" & 'BX Language acquisition'!B300 & \"\"\",\"\"\" & 'BX Language acquisition'!D300 & \"\"\"\"","v":"\" \",\"\",\"\",\"\""}]
[{"$f":"\"\"\" \"& 'BX Language acquisition'!A301 & \"\"\",\"\"\" & 'BX Language acquisition'!C301 & \"\"\",\"\"\" & 'BX Language acquisition'!B301 & \"\"\",\"\"\" & 'BX Language acquisition'!D301 & \"\"\"\"","v":"\" \",\"\",\"\",\"\""}]
[{"$f":"\"\"\" \"& 'BX Language acquisition'!A302 & \"\"\",\"\"\" & 'BX Language acquisition'!C302 & \"\"\",\"\"\" & 'BX Language acquisition'!B302 & \"\"\",\"\"\" & 'BX Language acquisition'!D302 & \"\"\"\"","v":"\" \",\"\",\"\",\"\""}]
[{"$f":"\"\"\" \"& 'BX Language acquisition'!A303 & \"\"\",\"\"\" & 'BX Language acquisition'!C303 & \"\"\",\"\"\" & 'BX Language acquisition'!B303 & \"\"\",\"\"\" & 'BX Language acquisition'!D303 & \"\"\"\"","v":"\" \",\"\",\"\",\"\""}]
[{"$f":"\"\"\" \"& 'BX Language acquisition'!A304 & \"\"\",\"\"\" & 'BX Language acquisition'!C304 & \"\"\",\"\"\" & 'BX Language acquisition'!B304 & \"\"\",\"\"\" & 'BX Language acquisition'!D304 & \"\"\"\"","v":"\" \",\"\",\"\",\"\""}]
[{"$f":"\"\"\" \"& 'BX Language acquisition'!A305 & \"\"\",\"\"\" & 'BX Language acquisition'!C305 & \"\"\",\"\"\" & 'BX Language acquisition'!B305 & \"\"\",\"\"\" & 'BX Language acquisition'!D305 & \"\"\"\"","v":"\" \",\"\",\"\",\"\""}]
[{"$f":"\"\"\" \"& 'BX Language acquisition'!A306 & \"\"\",\"\"\" & 'BX Language acquisition'!C306 & \"\"\",\"\"\" & 'BX Language acquisition'!B306 & \"\"\",\"\"\" & 'BX Language acquisition'!D306 & \"\"\"\"","v":"\" \",\"\",\"\",\"\""}]
[{"$f":"\"\"\" \"& 'BX Language acquisition'!A307 & \"\"\",\"\"\" & 'BX Language acquisition'!C307 & \"\"\",\"\"\" & 'BX Language acquisition'!B307 & \"\"\",\"\"\" & 'BX Language acquisition'!D307 & \"\"\"\"","v":"\" \",\"\",\"\",\"\""}]
[{"$f":"\"\"\" \"& 'BX Language acquisition'!A308 & \"\"\",\"\"\" & 'BX Language acquisition'!C308 & \"\"\",\"\"\" & 'BX Language acquisition'!B308 & \"\"\",\"\"\" & 'BX Language acquisition'!D308 & \"\"\"\"","v":"\" \",\"\",\"\",\"\""}]
[{"$f":"\"\"\" \"& 'BX Language acquisition'!A309 & \"\"\",\"\"\" & 'BX Language acquisition'!C309 & \"\"\",\"\"\" & 'BX Language acquisition'!B309 & \"\"\",\"\"\" & 'BX Language acquisition'!D309 & \"\"\"\"","v":"\" \",\"\",\"\",\"\""}]
[{"$f":"\"\"\" \"& 'BX Language acquisition'!A310 & \"\"\",\"\"\" & 'BX Language acquisition'!C310 & \"\"\",\"\"\" & 'BX Language acquisition'!B310 & \"\"\",\"\"\" & 'BX Language acquisition'!D310 & \"\"\"\"","v":"\" \",\"\",\"\",\"\""}]
[{"$f":"\"\"\" \"& 'BX Language acquisition'!A311 & \"\"\",\"\"\" & 'BX Language acquisition'!C311 & \"\"\",\"\"\" & 'BX Language acquisition'!B311 & \"\"\",\"\"\" & 'BX Language acquisition'!D311 & \"\"\"\"","v":"\" \",\"\",\"\",\"\""}]
[{"$f":"\"\"\" \"& 'BX Language acquisition'!A312 & \"\"\",\"\"\" & 'BX Language acquisition'!C312 & \"\"\",\"\"\" & 'BX Language acquisition'!B312 & \"\"\",\"\"\" & 'BX Language acquisition'!D312 & \"\"\"\"","v":"\" \",\"\",\"\",\"\""}]
[{"$f":"\"\"\" \"& 'BX Language acquisition'!A313 & \"\"\",\"\"\" & 'BX Language acquisition'!C313 & \"\"\",\"\"\" & 'BX Language acquisition'!B313 & \"\"\",\"\"\" & 'BX Language acquisition'!D313 & \"\"\"\"","v":"\" \",\"\",\"\",\"\""}]
[{"$f":"\"\"\" \"& 'BX Language acquisition'!A314 & \"\"\",\"\"\" & 'BX Language acquisition'!C314 & \"\"\",\"\"\" & 'BX Language acquisition'!B314 & \"\"\",\"\"\" & 'BX Language acquisition'!D314 & \"\"\"\"","v":"\" \",\"\",\"\",\"\""}]
[{"$f":"\"\"\" \"& 'BX Language acquisition'!A315 & \"\"\",\"\"\" & 'BX Language acquisition'!C315 & \"\"\",\"\"\" & 'BX Language acquisition'!B315 & \"\"\",\"\"\" & 'BX Language acquisition'!D315 & \"\"\"\"","v":"\" \",\"\",\"\",\"\""}]
[{"$f":"\"\"\" \"& 'BX Language acquisition'!A316 & \"\"\",\"\"\" & 'BX Language acquisition'!C316 & \"\"\",\"\"\" & 'BX Language acquisition'!B316 & \"\"\",\"\"\" & 'BX Language acquisition'!D316 & \"\"\"\"","v":"\" \",\"\",\"\",\"\""}]
[{"$f":"\"\"\" \"& 'BX Language acquisition'!A317 & \"\"\",\"\"\" & 'BX Language acquisition'!C317 & \"\"\",\"\"\" & 'BX Language acquisition'!B317 & \"\"\",\"\"\" & 'BX Language acquisition'!D317 & \"\"\"\"","v":"\" \",\"\",\"\",\"\""}]
[{"$f":"\"\"\" \"& 'BX Language acquisition'!A318 & \"\"\",\"\"\" & 'BX Language acquisition'!C318 & \"\"\",\"\"\" & 'BX Language acquisition'!B318 & \"\"\",\"\"\" & 'BX Language acquisition'!D318 & \"\"\"\"","v":"\" \",\"\",\"\",\"\""}]
[{"$f":"\"\"\" \"& 'BX Language acquisition'!A319 & \"\"\",\"\"\" & 'BX Language acquisition'!C319 & \"\"\",\"\"\" & 'BX Language acquisition'!B319 & \"\"\",\"\"\" & 'BX Language acquisition'!D319 & \"\"\"\"","v":"\" \",\"\",\"\",\"\""}]
[{"$f":"\"\"\" \"& 'BX Language acquisition'!A320 & \"\"\",\"\"\" & 'BX Language acquisition'!C320 & \"\"\",\"\"\" & 'BX Language acquisition'!B320 & \"\"\",\"\"\" & 'BX Language acquisition'!D320 & \"\"\"\"","v":"\" \",\"\",\"\",\"\""}]
[{"$f":"\"\"\" \"& 'BX Language acquisition'!A321 & \"\"\",\"\"\" & 'BX Language acquisition'!C321 & \"\"\",\"\"\" & 'BX Language acquisition'!B321 & \"\"\",\"\"\" & 'BX Language acquisition'!D321 & \"\"\"\"","v":"\" \",\"\",\"\",\"\""}]
[{"$f":"\"\"\" \"& 'BX Language acquisition'!A322 & \"\"\",\"\"\" & 'BX Language acquisition'!C322 & \"\"\",\"\"\" & 'BX Language acquisition'!B322 & \"\"\",\"\"\" & 'BX Language acquisition'!D322 & \"\"\"\"","v":"\" \",\"\",\"\",\"\""}]
[{"$f":"\"\"\" \"& 'BX Language acquisition'!A323 & \"\"\",\"\"\" & 'BX Language acquisition'!C323 & \"\"\",\"\"\" & 'BX Language acquisition'!B323 & \"\"\",\"\"\" & 'BX Language acquisition'!D323 & \"\"\"\"","v":"\" \",\"\",\"\",\"\""}]
[{"$f":"\"\"\" \"& 'BX Language acquisition'!A324 & \"\"\",\"\"\" & 'BX Language acquisition'!C324 & \"\"\",\"\"\" & 'BX Language acquisition'!B324 & \"\"\",\"\"\" & 'BX Language acquisition'!D324 & \"\"\"\"","v":"\" \",\"\",\"\",\"\""}]
[{"$f":"\"\"\" \"& 'BX Language acquisition'!A325 & \"\"\",\"\"\" & 'BX Language acquisition'!C325 & \"\"\",\"\"\" & 'BX Language acquisition'!B325 & \"\"\",\"\"\" & 'BX Language acquisition'!D325 & \"\"\"\"","v":"\" \",\"\",\"\",\"\""}]
[{"$f":"\"\"\" \"& 'BX Language acquisition'!A326 & \"\"\",\"\"\" & 'BX Language acquisition'!C326 & \"\"\",\"\"\" & 'BX Language acquisition'!B326 & \"\"\",\"\"\" & 'BX Language acquisition'!D326 & \"\"\"\"","v":"\" \",\"\",\"\",\"\""}]
[{"$f":"\"\"\" \"& 'BX Language acquisition'!A327 & \"\"\",\"\"\" & 'BX Language acquisition'!C327 & \"\"\",\"\"\" & 'BX Language acquisition'!B327 & \"\"\",\"\"\" & 'BX Language acquisition'!D327 & \"\"\"\"","v":"\" \",\"\",\"\",\"\""}]
[{"$f":"\"\"\" \"& 'BX Language acquisition'!A328 & \"\"\",\"\"\" & 'BX Language acquisition'!C328 & \"\"\",\"\"\" & 'BX Language acquisition'!B328 & \"\"\",\"\"\" & 'BX Language acquisition'!D328 & \"\"\"\"","v":"\" \",\"\",\"\",\"\""}]
[{"$f":"\"\"\" \"& 'BX Language acquisition'!A329 & \"\"\",\"\"\" & 'BX Language acquisition'!C329 & \"\"\",\"\"\" & 'BX Language acquisition'!B329 & \"\"\",\"\"\" & 'BX Language acquisition'!D329 & \"\"\"\"","v":"\" \",\"\",\"\",\"\""}]
[{"$f":"\"\"\" \"& 'BX Language acquisition'!A330 & \"\"\",\"\"\" & 'BX Language acquisition'!C330 & \"\"\",\"\"\" & 'BX Language acquisition'!B330 & \"\"\",\"\"\" & 'BX Language acquisition'!D330 & \"\"\"\"","v":"\" \",\"\",\"\",\"\""}]
[{"$f":"\"\"\" \"& 'BX Language acquisition'!A331 & \"\"\",\"\"\" & 'BX Language acquisition'!C331 & \"\"\",\"\"\" & 'BX Language acquisition'!B331 & \"\"\",\"\"\" & 'BX Language acquisition'!D331 & \"\"\"\"","v":"\" \",\"\",\"\",\"\""}]
[{"$f":"\"\"\" \"& 'BX Language acquisition'!A332 & \"\"\",\"\"\" & 'BX Language acquisition'!C332 & \"\"\",\"\"\" & 'BX Language acquisition'!B332 & \"\"\",\"\"\" & 'BX Language acquisition'!D332 & \"\"\"\"","v":"\" \",\"\",\"\",\"\""}]
[{"$f":"\"\"\" \"& 'BX Language acquisition'!A333 & \"\"\",\"\"\" & 'BX Language acquisition'!C333 & \"\"\",\"\"\" & 'BX Language acquisition'!B333 & \"\"\",\"\"\" & 'BX Language acquisition'!D333 & \"\"\"\"","v":"\" \",\"\",\"\",\"\""}]
[{"$f":"\"\"\" \"& 'BX Language acquisition'!A334 & \"\"\",\"\"\" & 'BX Language acquisition'!C334 & \"\"\",\"\"\" & 'BX Language acquisition'!B334 & \"\"\",\"\"\" & 'BX Language acquisition'!D334 & \"\"\"\"","v":"\" \",\"\",\"\",\"\""}]
[{"$f":"\"\"\" \"& 'BX Language acquisition'!A335 & \"\"\",\"\"\" & 'BX Language acquisition'!C335 & \"\"\",\"\"\" & 'BX Language acquisition'!B335 & \"\"\",\"\"\" & 'BX Language acquisition'!D335 & \"\"\"\"","v":"\" \",\"\",\"\",\"\""}]
[{"$f":"\"\"\" \"& 'BX Language acquisition'!A336 & \"\"\",\"\"\" & 'BX Language acquisition'!C336 & \"\"\",\"\"\" & 'BX Language acquisition'!B336 & \"\"\",\"\"\" & 'BX Language acquisition'!D336 & \"\"\"\"","v":"\" \",\"\",\"\",\"\""}]
[{"$f":"\"\"\" \"& 'BX Language acquisition'!A337 & \"\"\",\"\"\" & 'BX Language acquisition'!C337 & \"\"\",\"\"\" & 'BX Language acquisition'!B337 & \"\"\",\"\"\" & 'BX Language acquisition'!D337 & \"\"\"\"","v":"\" \",\"\",\"\",\"\""}]
[{"$f":"\"\"\" \"& 'BX Language acquisition'!A338 & \"\"\",\"\"\" & 'BX Language acquisition'!C338 & \"\"\",\"\"\" & 'BX Language acquisition'!B338 & \"\"\",\"\"\" & 'BX Language acquisition'!D338 & \"\"\"\"","v":"\" \",\"\",\"\",\"\""}]
[{"$f":"\"\"\" \"& 'BX Language acquisition'!A339 & \"\"\",\"\"\" & 'BX Language acquisition'!C339 & \"\"\",\"\"\" & 'BX Language acquisition'!B339 & \"\"\",\"\"\" & 'BX Language acquisition'!D339 & \"\"\"\"","v":"\" \",\"\",\"\",\"\""}]
[{"$f":"\"\"\" \"& 'BX Language acquisition'!A340 & \"\"\",\"\"\" & 'BX Language acquisition'!C340 & \"\"\",\"\"\" & 'BX Language acquisition'!B340 & \"\"\",\"\"\" & 'BX Language acquisition'!D340 & \"\"\"\"","v":"\" \",\"\",\"\",\"\""}]
[{"$f":"\"\"\" \"& 'BX Language acquisition'!A341 & \"\"\",\"\"\" & 'BX Language acquisition'!C341 & \"\"\",\"\"\" & 'BX Language acquisition'!B341 & \"\"\",\"\"\" & 'BX Language acquisition'!D341 & \"\"\"\"","v":"\" \",\"\",\"\",\"\""}]
[{"$f":"\"\"\" \"& 'BX Language acquisition'!A342 & \"\"\",\"\"\" & 'BX Language acquisition'!C342 & \"\"\",\"\"\" & 'BX Language acquisition'!B342 & \"\"\",\"\"\" & 'BX Language acquisition'!D342 & \"\"\"\"","v":"\" \",\"\",\"\",\"\""}]
[{"$f":"\"\"\" \"& 'BX Language acquisition'!A343 & \"\"\",\"\"\" & 'BX Language acquisition'!C343 & \"\"\",\"\"\" & 'BX Language acquisition'!B343 & \"\"\",\"\"\" & 'BX Language acquisition'!D343 & \"\"\"\"","v":"\" \",\"\",\"\",\"\""}]
[{"$f":"\"\"\" \"& 'BX Language acquisition'!A344 & \"\"\",\"\"\" & 'BX Language acquisition'!C344 & \"\"\",\"\"\" & 'BX Language acquisition'!B344 & \"\"\",\"\"\" & 'BX Language acquisition'!D344 & \"\"\"\"","v":"\" \",\"\",\"\",\"\""}]
[{"$f":"\"\"\" \"& 'BX Language acquisition'!A345 & \"\"\",\"\"\" & 'BX Language acquisition'!C345 & \"\"\",\"\"\" & 'BX Language acquisition'!B345 & \"\"\",\"\"\" & 'BX Language acquisition'!D345 & \"\"\"\"","v":"\" \",\"\",\"\",\"\""}]
[{"$f":"\"\"\" \"& 'BX Language acquisition'!A346 & \"\"\",\"\"\" & 'BX Language acquisition'!C346 & \"\"\",\"\"\" & 'BX Language acquisition'!B346 & \"\"\",\"\"\" & 'BX Language acquisition'!D346 & \"\"\"\"","v":"\" \",\"\",\"\",\"\""}]
[{"$f":"\"\"\" \"& 'BX Language acquisition'!A347 & \"\"\",\"\"\" & 'BX Language acquisition'!C347 & \"\"\",\"\"\" & 'BX Language acquisition'!B347 & \"\"\",\"\"\" & 'BX Language acquisition'!D347 & \"\"\"\"","v":"\" \",\"\",\"\",\"\""}]
[{"$f":"\"\"\" \"& 'BX Language acquisition'!A348 & \"\"\",\"\"\" & 'BX Language acquisition'!C348 & \"\"\",\"\"\" & 'BX Language acquisition'!B348 & \"\"\",\"\"\" & 'BX Language acquisition'!D348 & \"\"\"\"","v":"\" \",\"\",\"\",\"\""}]
[{"$f":"\"\"\" \"& 'BX Language acquisition'!A349 & \"\"\",\"\"\" & 'BX Language acquisition'!C349 & \"\"\",\"\"\" & 'BX Language acquisition'!B349 & \"\"\",\"\"\" & 'BX Language acquisition'!D349 & \"\"\"\"","v":"\" \",\"\",\"\",\"\""}]
[{"$f":"\"\"\" \"& 'BX Language acquisition'!A350 & \"\"\",\"\"\" & 'BX Language acquisition'!C350 & \"\"\",\"\"\" & 'BX Language acquisition'!B350 & \"\"\",\"\"\" & 'BX Language acquisition'!D350 & \"\"\"\"","v":"\" \",\"\",\"\",\"\""}]
[{"$f":"\"\"\" \"& 'BX Language acquisition'!A351 & \"\"\",\"\"\" & 'BX Language acquisition'!C351 & \"\"\",\"\"\" & 'BX Language acquisition'!B351 & \"\"\",\"\"\" & 'BX Language acquisition'!D351 & \"\"\"\"","v":"\" \",\"\",\"\",\"\""}]
[{"$f":"\"\"\" \"& 'BX Language acquisition'!A352 & \"\"\",\"\"\" & 'BX Language acquisition'!C352 & \"\"\",\"\"\" & 'BX Language acquisition'!B352 & \"\"\",\"\"\" & 'BX Language acquisition'!D352 & \"\"\"\"","v":"\" \",\"\",\"\",\"\""}]
[{"$f":"\"\"\" \"& 'BX Language acquisition'!A353 & \"\"\",\"\"\" & 'BX Language acquisition'!C353 & \"\"\",\"\"\" & 'BX Language acquisition'!B353 & \"\"\",\"\"\" & 'BX Language acquisition'!D353 & \"\"\"\"","v":"\" \",\"\",\"\",\"\""}]
[{"$f":"\"\"\" \"& 'BX Language acquisition'!A354 & \"\"\",\"\"\" & 'BX Language acquisition'!C354 & \"\"\",\"\"\" & 'BX Language acquisition'!B354 & \"\"\",\"\"\" & 'BX Language acquisition'!D354 & \"\"\"\"","v":"\" \",\"\",\"\",\"\""}]
[{"$f":"\"\"\" \"& 'BX Language acquisition'!A355 & \"\"\",\"\"\" & 'BX Language acquisition'!C355 & \"\"\",\"\"\" & 'BX Language acquisition'!B355 & \"\"\",\"\"\" & 'BX Language acquisition'!D355 & \"\"\"\"","v":"\" \",\"\",\"\",\"\""}]
[{"$f":"\"\"\" \"& 'BX Language acquisition'!A356 & \"\"\",\"\"\" & 'BX Language acquisition'!C356 & \"\"\",\"\"\" & 'BX Language acquisition'!B356 & \"\"\",\"\"\" & 'BX Language acquisition'!D356 & \"\"\"\"","v":"\" \",\"\",\"\",\"\""}]
[{"$f":"\"\"\" \"& 'BX Language acquisition'!A357 & \"\"\",\"\"\" & 'BX Language acquisition'!C357 & \"\"\",\"\"\" & 'BX Language acquisition'!B357 & \"\"\",\"\"\" & 'BX Language acquisition'!D357 & \"\"\"\"","v":"\" \",\"\",\"\",\"\""}]
[{"$f":"\"\"\" \"& 'BX Language acquisition'!A358 & \"\"\",\"\"\" & 'BX Language acquisition'!C358 & \"\"\",\"\"\" & 'BX Language acquisition'!B358 & \"\"\",\"\"\" & 'BX Language acquisition'!D358 & \"\"\"\"","v":"\" \",\"\",\"\",\"\""}]
[{"$f":"\"\"\" \"& 'BX Language acquisition'!A359 & \"\"\",\"\"\" & 'BX Language acquisition'!C359 & \"\"\",\"\"\" & 'BX Language acquisition'!B359 & \"\"\",\"\"\" & 'BX Language acquisition'!D359 & \"\"\"\"","v":"\" \",\"\",\"\",\"\""}]
[{"$f":"\"\"\" \"& 'BX Language acquisition'!A360 & \"\"\",\"\"\" & 'BX Language acquisition'!C360 & \"\"\",\"\"\" & 'BX Language acquisition'!B360 & \"\"\",\"\"\" & 'BX Language acquisition'!D360 & \"\"\"\"","v":"\" \",\"\",\"\",\"\""}]
[{"$f":"\"\"\" \"& 'BX Language acquisition'!A361 & \"\"\",\"\"\" & 'BX Language acquisition'!C361 & \"\"\",\"\"\" & 'BX Language acquisition'!B361 & \"\"\",\"\"\" & 'BX Language acquisition'!D361 & \"\"\"\"","v":"\" \",\"\",\"\",\"\""}]
[{"$f":"\"\"\" \"& 'BX Language acquisition'!A362 & \"\"\",\"\"\" & 'BX Language acquisition'!C362 & \"\"\",\"\"\" & 'BX Language acquisition'!B362 & \"\"\",\"\"\" & 'BX Language acquisition'!D362 & \"\"\"\"","v":"\" \",\"\",\"\",\"\""}]
[{"$f":"\"\"\" \"& 'BX Language acquisition'!A363 & \"\"\",\"\"\" & 'BX Language acquisition'!C363 & \"\"\",\"\"\" & 'BX Language acquisition'!B363 & \"\"\",\"\"\" & 'BX Language acquisition'!D363 & \"\"\"\"","v":"\" \",\"\",\"\",\"\""}]
[{"$f":"\"\"\" \"& 'BX Language acquisition'!A364 & \"\"\",\"\"\" & 'BX Language acquisition'!C364 & \"\"\",\"\"\" & 'BX Language acquisition'!B364 & \"\"\",\"\"\" & 'BX Language acquisition'!D364 & \"\"\"\"","v":"\" \",\"\",\"\",\"\""}]
[{"$f":"\"\"\" \"& 'BX Language acquisition'!A365 & \"\"\",\"\"\" & 'BX Language acquisition'!C365 & \"\"\",\"\"\" & 'BX Language acquisition'!B365 & \"\"\",\"\"\" & 'BX Language acquisition'!D365 & \"\"\"\"","v":"\" \",\"\",\"\",\"\""}]
[{"$f":"\"\"\" \"& 'BX Language acquisition'!A366 & \"\"\",\"\"\" & 'BX Language acquisition'!C366 & \"\"\",\"\"\" & 'BX Language acquisition'!B366 & \"\"\",\"\"\" & 'BX Language acquisition'!D366 & \"\"\"\"","v":"\" \",\"\",\"\",\"\""}]
[{"$f":"\"\"\" \"& 'BX Language acquisition'!A367 & \"\"\",\"\"\" & 'BX Language acquisition'!C367 & \"\"\",\"\"\" & 'BX Language acquisition'!B367 & \"\"\",\"\"\" & 'BX Language acquisition'!D367 & \"\"\"\"","v":"\" \",\"\",\"\",\"\""}]
[{"$f":"\"\"\" \"& 'BX Language acquisition'!A368 & \"\"\",\"\"\" & 'BX Language acquisition'!C368 & \"\"\",\"\"\" & 'BX Language acquisition'!B368 & \"\"\",\"\"\" & 'BX Language acquisition'!D368 & \"\"\"\"","v":"\" \",\"\",\"\",\"\""}]
[{"$f":"\"\"\" \"& 'BX Language acquisition'!A369 & \"\"\",\"\"\" & 'BX Language acquisition'!C369 & \"\"\",\"\"\" & 'BX Language acquisition'!B369 & \"\"\",\"\"\" & 'BX Language acquisition'!D369 & \"\"\"\"","v":"\" \",\"\",\"\",\"\""}]
[{"$f":"\"\"\" \"& 'BX Language acquisition'!A370 & \"\"\",\"\"\" & 'BX Language acquisition'!C370 & \"\"\",\"\"\" & 'BX Language acquisition'!B370 & \"\"\",\"\"\" & 'BX Language acquisition'!D370 & \"\"\"\"","v":"\" \",\"\",\"\",\"\""}]
[{"$f":"\"\"\" \"& 'BX Language acquisition'!A371 & \"\"\",\"\"\" & 'BX Language acquisition'!C371 & \"\"\",\"\"\" & 'BX Language acquisition'!B371 & \"\"\",\"\"\" & 'BX Language acquisition'!D371 & \"\"\"\"","v":"\" \",\"\",\"\",\"\""}]
[{"$f":"\"\"\" \"& 'BX Language acquisition'!A372 & \"\"\",\"\"\" & 'BX Language acquisition'!C372 & \"\"\",\"\"\" & 'BX Language acquisition'!B372 & \"\"\",\"\"\" & 'BX Language acquisition'!D372 & \"\"\"\"","v":"\" \",\"\",\"\",\"\""}]
[{"$f":"\"\"\" \"& 'BX Language acquisition'!A373 & \"\"\",\"\"\" & 'BX Language acquisition'!C373 & \"\"\",\"\"\" & 'BX Language acquisition'!B373 & \"\"\",\"\"\" & 'BX Language acquisition'!D373 & \"\"\"\"","v":"\" \",\"\",\"\",\"\""}]
[{"$f":"\"\"\" \"& 'BX Language acquisition'!A374 & \"\"\",\"\"\" & 'BX Language acquisition'!C374 & \"\"\",\"\"\" & 'BX Language acquisition'!B374 & \"\"\",\"\"\" & 'BX Language acquisition'!D374 & \"\"\"\"","v":"\" \",\"\",\"\",\"\""}]
[{"$f":"\"\"\" \"& 'BX Language acquisition'!A375 & \"\"\",\"\"\" & 'BX Language acquisition'!C375 & \"\"\",\"\"\" & 'BX Language acquisition'!B375 & \"\"\",\"\"\" & 'BX Language acquisition'!D375 & \"\"\"\"","v":"\" \",\"\",\"\",\"\""}]
[{"$f":"\"\"\" \"& 'BX Language acquisition'!A376 & \"\"\",\"\"\" & 'BX Language acquisition'!C376 & \"\"\",\"\"\" & 'BX Language acquisition'!B376 & \"\"\",\"\"\" & 'BX Language acquisition'!D376 & \"\"\"\"","v":"\" \",\"\",\"\",\"\""}]
[{"$f":"\"\"\" \"& 'BX Language acquisition'!A377 & \"\"\",\"\"\" & 'BX Language acquisition'!C377 & \"\"\",\"\"\" & 'BX Language acquisition'!B377 & \"\"\",\"\"\" & 'BX Language acquisition'!D377 & \"\"\"\"","v":"\" \",\"\",\"\",\"\""}]
[{"$f":"\"\"\" \"& 'BX Language acquisition'!A378 & \"\"\",\"\"\" & 'BX Language acquisition'!C378 & \"\"\",\"\"\" & 'BX Language acquisition'!B378 & \"\"\",\"\"\" & 'BX Language acquisition'!D378 & \"\"\"\"","v":"\" \",\"\",\"\",\"\""}]
[{"$f":"\"\"\" \"& 'BX Language acquisition'!A379 & \"\"\",\"\"\" & 'BX Language acquisition'!C379 & \"\"\",\"\"\" & 'BX Language acquisition'!B379 & \"\"\",\"\"\" & 'BX Language acquisition'!D379 & \"\"\"\"","v":"\" \",\"\",\"\",\"\""}]
[{"$f":"\"\"\" \"& 'BX Language acquisition'!A380 & \"\"\",\"\"\" & 'BX Language acquisition'!C380 & \"\"\",\"\"\" & 'BX Language acquisition'!B380 & \"\"\",\"\"\" & 'BX Language acquisition'!D380 & \"\"\"\"","v":"\" \",\"\",\"\",\"\""}]
[{"$f":"\"\"\" \"& 'BX Language acquisition'!A381 & \"\"\",\"\"\" & 'BX Language acquisition'!C381 & \"\"\",\"\"\" & 'BX Language acquisition'!B381 & \"\"\",\"\"\" & 'BX Language acquisition'!D381 & \"\"\"\"","v":"\" \",\"\",\"\",\"\""}]
[{"$f":"\"\"\" \"& 'BX Language acquisition'!A382 & \"\"\",\"\"\" & 'BX Language acquisition'!C382 & \"\"\",\"\"\" & 'BX Language acquisition'!B382 & \"\"\",\"\"\" & 'BX Language acquisition'!D382 & \"\"\"\"","v":"\" \",\"\",\"\",\"\""}]
[{"$f":"\"\"\" \"& 'BX Language acquisition'!A383 & \"\"\",\"\"\" & 'BX Language acquisition'!C383 & \"\"\",\"\"\" & 'BX Language acquisition'!B383 & \"\"\",\"\"\" & 'BX Language acquisition'!D383 & \"\"\"\"","v":"\" \",\"\",\"\",\"\""}]
[{"$f":"\"\"\" \"& 'BX Language acquisition'!A384 & \"\"\",\"\"\" & 'BX Language acquisition'!C384 & \"\"\",\"\"\" & 'BX Language acquisition'!B384 & \"\"\",\"\"\" & 'BX Language acquisition'!D384 & \"\"\"\"","v":"\" \",\"\",\"\",\"\""}]
[{"$f":"\"\"\" \"& 'BX Language acquisition'!A385 & \"\"\",\"\"\" & 'BX Language acquisition'!C385 & \"\"\",\"\"\" & 'BX Language acquisition'!B385 & \"\"\",\"\"\" & 'BX Language acquisition'!D385 & \"\"\"\"","v":"\" \",\"\",\"\",\"\""}]
[{"$f":"\"\"\" \"& 'BX Language acquisition'!A386 & \"\"\",\"\"\" & 'BX Language acquisition'!C386 & \"\"\",\"\"\" & 'BX Language acquisition'!B386 & \"\"\",\"\"\" & 'BX Language acquisition'!D386 & \"\"\"\"","v":"\" \",\"\",\"\",\"\""}]
[{"$f":"\"\"\" \"& 'BX Language acquisition'!A387 & \"\"\",\"\"\" & 'BX Language acquisition'!C387 & \"\"\",\"\"\" & 'BX Language acquisition'!B387 & \"\"\",\"\"\" & 'BX Language acquisition'!D387 & \"\"\"\"","v":"\" \",\"\",\"\",\"\""}]
[{"$f":"\"\"\" \"& 'BX Language acquisition'!A388 & \"\"\",\"\"\" & 'BX Language acquisition'!C388 & \"\"\",\"\"\" & 'BX Language acquisition'!B388 & \"\"\",\"\"\" & 'BX Language acquisition'!D388 & \"\"\"\"","v":"\" \",\"\",\"\",\"\""}]
[{"$f":"\"\"\" \"& 'BX Language acquisition'!A389 & \"\"\",\"\"\" & 'BX Language acquisition'!C389 & \"\"\",\"\"\" & 'BX Language acquisition'!B389 & \"\"\",\"\"\" & 'BX Language acquisition'!D389 & \"\"\"\"","v":"\" \",\"\",\"\",\"\""}]
[{"$f":"\"\"\" \"& 'BX Language acquisition'!A390 & \"\"\",\"\"\" & 'BX Language acquisition'!C390 & \"\"\",\"\"\" & 'BX Language acquisition'!B390 & \"\"\",\"\"\" & 'BX Language acquisition'!D390 & \"\"\"\"","v":"\" \",\"\",\"\",\"\""}]
[{"$f":"\"\"\" \"& 'BX Language acquisition'!A391 & \"\"\",\"\"\" & 'BX Language acquisition'!C391 & \"\"\",\"\"\" & 'BX Language acquisition'!B391 & \"\"\",\"\"\" & 'BX Language acquisition'!D391 & \"\"\"\"","v":"\" \",\"\",\"\",\"\""}]
[{"$f":"\"\"\" \"& 'BX Language acquisition'!A392 & \"\"\",\"\"\" & 'BX Language acquisition'!C392 & \"\"\",\"\"\" & 'BX Language acquisition'!B392 & \"\"\",\"\"\" & 'BX Language acquisition'!D392 & \"\"\"\"","v":"\" \",\"\",\"\",\"\""}]
[{"$f":"\"\"\" \"& 'BX Language acquisition'!A393 & \"\"\",\"\"\" & 'BX Language acquisition'!C393 & \"\"\",\"\"\" & 'BX Language acquisition'!B393 & \"\"\",\"\"\" & 'BX Language acquisition'!D393 & \"\"\"\"","v":"\" \",\"\",\"\",\"\""}]
[{"$f":"\"\"\" \"& 'BX Language acquisition'!A394 & \"\"\",\"\"\" & 'BX Language acquisition'!C394 & \"\"\",\"\"\" & 'BX Language acquisition'!B394 & \"\"\",\"\"\" & 'BX Language acquisition'!D394 & \"\"\"\"","v":"\" \",\"\",\"\",\"\""}]
[{"$f":"\"\"\" \"& 'BX Language acquisition'!A395 & \"\"\",\"\"\" & 'BX Language acquisition'!C395 & \"\"\",\"\"\" & 'BX Language acquisition'!B395 & \"\"\",\"\"\" & 'BX Language acquisition'!D395 & \"\"\"\"","v":"\" \",\"\",\"\",\"\""}]
[{"$f":"\"\"\" \"& 'BX Language acquisition'!A396 & \"\"\",\"\"\" & 'BX Language acquisition'!C396 & \"\"\",\"\"\" & 'BX Language acquisition'!B396 & \"\"\",\"\"\" & 'BX Language acquisition'!D396 & \"\"\"\"","v":"\" \",\"\",\"\",\"\""}]
[{"$f":"\"\"\" \"& 'BX Language acquisition'!A397 & \"\"\",\"\"\" & 'BX Language acquisition'!C397 & \"\"\",\"\"\" & 'BX Language acquisition'!B397 & \"\"\",\"\"\" & 'BX Language acquisition'!D397 & \"\"\"\"","v":"\" \",\"\",\"\",\"\""}]
[{"$f":"\"\"\" \"& 'BX Language acquisition'!A398 & \"\"\",\"\"\" & 'BX Language acquisition'!C398 & \"\"\",\"\"\" & 'BX Language acquisition'!B398 & \"\"\",\"\"\" & 'BX Language acquisition'!D398 & \"\"\"\"","v":"\" \",\"\",\"\",\"\""}]
[{"$f":"\"\"\" \"& 'BX Language acquisition'!A399 & \"\"\",\"\"\" & 'BX Language acquisition'!C399 & \"\"\",\"\"\" & 'BX Language acquisition'!B399 & \"\"\",\"\"\" & 'BX Language acquisition'!D399 & \"\"\"\"","v":"\" \",\"\",\"\",\"\""}]
[{"$f":"\"\"\" \"& 'BX Language acquisition'!A400 & \"\"\",\"\"\" & 'BX Language acquisition'!C400 & \"\"\",\"\"\" & 'BX Language acquisition'!B400 & \"\"\",\"\"\" & 'BX Language acquisition'!D400 & \"\"\"\"","v":"\" \",\"\",\"\",\"\""}]
[{"$f":"\"\"\" \"& 'BX Language acquisition'!A401 & \"\"\",\"\"\" & 'BX Language acquisition'!C401 & \"\"\",\"\"\" & 'BX Language acquisition'!B401 & \"\"\",\"\"\" & 'BX Language acquisition'!D401 & \"\"\"\"","v":"\" \",\"\",\"\",\"\""}]
[{"$f":"\"\"\" \"& 'BX Language acquisition'!A402 & \"\"\",\"\"\" & 'BX Language acquisition'!C402 & \"\"\",\"\"\" & 'BX Language acquisition'!B402 & \"\"\",\"\"\" & 'BX Language acquisition'!D402 & \"\"\"\"","v":"\" \",\"\",\"\",\"\""}]
[{"$f":"\"\"\" \"& 'BX Language acquisition'!A403 & \"\"\",\"\"\" & 'BX Language acquisition'!C403 & \"\"\",\"\"\" & 'BX Language acquisition'!B403 & \"\"\",\"\"\" & 'BX Language acquisition'!D403 & \"\"\"\"","v":"\" \",\"\",\"\",\"\""}]
[{"$f":"\"\"\" \"& 'BX Language acquisition'!A404 & \"\"\",\"\"\" & 'BX Language acquisition'!C404 & \"\"\",\"\"\" & 'BX Language acquisition'!B404 & \"\"\",\"\"\" & 'BX Language acquisition'!D404 & \"\"\"\"","v":"\" \",\"\",\"\",\"\""}]
[{"$f":"\"\"\" \"& 'BX Language acquisition'!A405 & \"\"\",\"\"\" & 'BX Language acquisition'!C405 & \"\"\",\"\"\" & 'BX Language acquisition'!B405 & \"\"\",\"\"\" & 'BX Language acquisition'!D405 & \"\"\"\"","v":"\" \",\"\",\"\",\"\""}]
[{"$f":"\"\"\" \"& 'BX Language acquisition'!A406 & \"\"\",\"\"\" & 'BX Language acquisition'!C406 & \"\"\",\"\"\" & 'BX Language acquisition'!B406 & \"\"\",\"\"\" & 'BX Language acquisition'!D406 & \"\"\"\"","v":"\" \",\"\",\"\",\"\""}]
[{"$f":"\"\"\" \"& 'BX Language acquisition'!A407 & \"\"\",\"\"\" & 'BX Language acquisition'!C407 & \"\"\",\"\"\" & 'BX Language acquisition'!B407 & \"\"\",\"\"\" & 'BX Language acquisition'!D407 & \"\"\"\"","v":"\" \",\"\",\"\",\"\""}]
[{"$f":"\"\"\" \"& 'BX Language acquisition'!A408 & \"\"\",\"\"\" & 'BX Language acquisition'!C408 & \"\"\",\"\"\" & 'BX Language acquisition'!B408 & \"\"\",\"\"\" & 'BX Language acquisition'!D408 & \"\"\"\"","v":"\" \",\"\",\"\",\"\""}]
[{"$f":"\"\"\" \"& 'BX Language acquisition'!A409 & \"\"\",\"\"\" & 'BX Language acquisition'!C409 & \"\"\",\"\"\" & 'BX Language acquisition'!B409 & \"\"\",\"\"\" & 'BX Language acquisition'!D409 & \"\"\"\"","v":"\" \",\"\",\"\",\"\""}]
[{"$f":"\"\"\" \"& 'BX Language acquisition'!A410 & \"\"\",\"\"\" & 'BX Language acquisition'!C410 & \"\"\",\"\"\" & 'BX Language acquisition'!B410 & \"\"\",\"\"\" & 'BX Language acquisition'!D410 & \"\"\"\"","v":"\" \",\"\",\"\",\"\""}]
[{"$f":"\"\"\" \"& 'BX Language acquisition'!A411 & \"\"\",\"\"\" & 'BX Language acquisition'!C411 & \"\"\",\"\"\" & 'BX Language acquisition'!B411 & \"\"\",\"\"\" & 'BX Language acquisition'!D411 & \"\"\"\"","v":"\" \",\"\",\"\",\"\""}]
[{"$f":"\"\"\" \"& 'BX Language acquisition'!A412 & \"\"\",\"\"\" & 'BX Language acquisition'!C412 & \"\"\",\"\"\" & 'BX Language acquisition'!B412 & \"\"\",\"\"\" & 'BX Language acquisition'!D412 & \"\"\"\"","v":"\" \",\"\",\"\",\"\""}]
[{"$f":"\"\"\" \"& 'BX Language acquisition'!A413 & \"\"\",\"\"\" & 'BX Language acquisition'!C413 & \"\"\",\"\"\" & 'BX Language acquisition'!B413 & \"\"\",\"\"\" & 'BX Language acquisition'!D413 & \"\"\"\"","v":"\" \",\"\",\"\",\"\""}]
[{"$f":"\"\"\" \"& 'BX Language acquisition'!A414 & \"\"\",\"\"\" & 'BX Language acquisition'!C414 & \"\"\",\"\"\" & 'BX Language acquisition'!B414 & \"\"\",\"\"\" & 'BX Language acquisition'!D414 & \"\"\"\"","v":"\" \",\"\",\"\",\"\""}]
[{"$f":"\"\"\" \"& 'BX Language acquisition'!A415 & \"\"\",\"\"\" & 'BX Language acquisition'!C415 & \"\"\",\"\"\" & 'BX Language acquisition'!B415 & \"\"\",\"\"\" & 'BX Language acquisition'!D415 & \"\"\"\"","v":"\" \",\"\",\"\",\"\""}]
[{"$f":"\"\"\" \"& 'BX Language acquisition'!A416 & \"\"\",\"\"\" & 'BX Language acquisition'!C416 & \"\"\",\"\"\" & 'BX Language acquisition'!B416 & \"\"\",\"\"\" & 'BX Language acquisition'!D416 & \"\"\"\"","v":"\" \",\"\",\"\",\"\""}]
[{"$f":"\"\"\" \"& 'BX Language acquisition'!A417 & \"\"\",\"\"\" & 'BX Language acquisition'!C417 & \"\"\",\"\"\" & 'BX Language acquisition'!B417 & \"\"\",\"\"\" & 'BX Language acquisition'!D417 & \"\"\"\"","v":"\" \",\"\",\"\",\"\""}]
[{"$f":"\"\"\" \"& 'BX Language acquisition'!A418 & \"\"\",\"\"\" & 'BX Language acquisition'!C418 & \"\"\",\"\"\" & 'BX Language acquisition'!B418 & \"\"\",\"\"\" & 'BX Language acquisition'!D418 & \"\"\"\"","v":"\" \",\"\",\"\",\"\""}]
[{"$f":"\"\"\" \"& 'BX Language acquisition'!A419 & \"\"\",\"\"\" & 'BX Language acquisition'!C419 & \"\"\",\"\"\" & 'BX Language acquisition'!B419 & \"\"\",\"\"\" & 'BX Language acquisition'!D419 & \"\"\"\"","v":"\" \",\"\",\"\",\"\""}]
[{"$f":"\"\"\" \"& 'BX Language acquisition'!A420 & \"\"\",\"\"\" & 'BX Language acquisition'!C420 & \"\"\",\"\"\" & 'BX Language acquisition'!B420 & \"\"\",\"\"\" & 'BX Language acquisition'!D420 & \"\"\"\"","v":"\" \",\"\",\"\",\"\""}]
[{"$f":"\"\"\" \"& 'BX Language acquisition'!A421 & \"\"\",\"\"\" & 'BX Language acquisition'!C421 & \"\"\",\"\"\" & 'BX Language acquisition'!B421 & \"\"\",\"\"\" & 'BX Language acquisition'!D421 & \"\"\"\"","v":"\" \",\"\",\"\",\"\""}]
[{"$f":"\"\"\" \"& 'BX Language acquisition'!A422 & \"\"\",\"\"\" & 'BX Language acquisition'!C422 & \"\"\",\"\"\" & 'BX Language acquisition'!B422 & \"\"\",\"\"\" & 'BX Language acquisition'!D422 & \"\"\"\"","v":"\" \",\"\",\"\",\"\""}]
[{"$f":"\"\"\" \"& 'BX Language acquisition'!A423 & \"\"\",\"\"\" & 'BX Language acquisition'!C423 & \"\"\",\"\"\" & 'BX Language acquisition'!B423 & \"\"\",\"\"\" & 'BX Language acquisition'!D423 & \"\"\"\"","v":"\" \",\"\",\"\",\"\""}]
[{"$f":"\"\"\" \"& 'BX Language acquisition'!A424 & \"\"\",\"\"\" & 'BX Language acquisition'!C424 & \"\"\",\"\"\" & 'BX Language acquisition'!B424 & \"\"\",\"\"\" & 'BX Language acquisition'!D424 & \"\"\"\"","v":"\" \",\"\",\"\",\"\""}]
[{"$f":"\"\"\" \"& 'BX Language acquisition'!A425 & \"\"\",\"\"\" & 'BX Language acquisition'!C425 & \"\"\",\"\"\" & 'BX Language acquisition'!B425 & \"\"\",\"\"\" & 'BX Language acquisition'!D425 & \"\"\"\"","v":"\" \",\"\",\"\",\"\""}]
[{"$f":"\"\"\" \"& 'BX Language acquisition'!A426 & \"\"\",\"\"\" & 'BX Language acquisition'!C426 & \"\"\",\"\"\" & 'BX Language acquisition'!B426 & \"\"\",\"\"\" & 'BX Language acquisition'!D426 & \"\"\"\"","v":"\" \",\"\",\"\",\"\""}]
[{"$f":"\"\"\" \"& 'BX Language acquisition'!A427 & \"\"\",\"\"\" & 'BX Language acquisition'!C427 & \"\"\",\"\"\" & 'BX Language acquisition'!B427 & \"\"\",\"\"\" & 'BX Language acquisition'!D427 & \"\"\"\"","v":"\" \",\"\",\"\",\"\""}]
[{"$f":"\"\"\" \"& 'BX Language acquisition'!A428 & \"\"\",\"\"\" & 'BX Language acquisition'!C428 & \"\"\",\"\"\" & 'BX Language acquisition'!B428 & \"\"\",\"\"\" & 'BX Language acquisition'!D428 & \"\"\"\"","v":"\" \",\"\",\"\",\"\""}]
[{"$f":"\"\"\" \"& 'BX Language acquisition'!A429 & \"\"\",\"\"\" & 'BX Language acquisition'!C429 & \"\"\",\"\"\" & 'BX Language acquisition'!B429 & \"\"\",\"\"\" & 'BX Language acquisition'!D429 & \"\"\"\"","v":"\" \",\"\",\"\",\"\""}]
[{"$f":"\"\"\" \"& 'BX Language acquisition'!A430 & \"\"\",\"\"\" & 'BX Language acquisition'!C430 & \"\"\",\"\"\" & 'BX Language acquisition'!B430 & \"\"\",\"\"\" & 'BX Language acquisition'!D430 & \"\"\"\"","v":"\" \",\"\",\"\",\"\""}]
[{"$f":"\"\"\" \"& 'BX Language acquisition'!A431 & \"\"\",\"\"\" & 'BX Language acquisition'!C431 & \"\"\",\"\"\" & 'BX Language acquisition'!B431 & \"\"\",\"\"\" & 'BX Language acquisition'!D431 & \"\"\"\"","v":"\" \",\"\",\"\",\"\""}]
[{"$f":"\"\"\" \"& 'BX Language acquisition'!A432 & \"\"\",\"\"\" & 'BX Language acquisition'!C432 & \"\"\",\"\"\" & 'BX Language acquisition'!B432 & \"\"\",\"\"\" & 'BX Language acquisition'!D432 & \"\"\"\"","v":"\" \",\"\",\"\",\"\""}]
[{"$f":"\"\"\" \"& 'BX Language acquisition'!A433 & \"\"\",\"\"\" & 'BX Language acquisition'!C433 & \"\"\",\"\"\" & 'BX Language acquisition'!B433 & \"\"\",\"\"\" & 'BX Language acquisition'!D433 & \"\"\"\"","v":"\" \",\"\",\"\",\"\""}]
[{"$f":"\"\"\" \"& 'BX Language acquisition'!A434 & \"\"\",\"\"\" & 'BX Language acquisition'!C434 & \"\"\",\"\"\" & 'BX Language acquisition'!B434 & \"\"\",\"\"\" & 'BX Language acquisition'!D434 & \"\"\"\"","v":"\" \",\"\",\"\",\"\""}]
[{"$f":"\"\"\" \"& 'BX Language acquisition'!A435 & \"\"\",\"\"\" & 'BX Language acquisition'!C435 & \"\"\",\"\"\" & 'BX Language acquisition'!B435 & \"\"\",\"\"\" & 'BX Language acquisition'!D435 & \"\"\"\"","v":"\" \",\"\",\"\",\"\""}]
[{"$f":"\"\"\" \"& 'BX Language acquisition'!A436 & \"\"\",\"\"\" & 'BX Language acquisition'!C436 & \"\"\",\"\"\" & 'BX Language acquisition'!B436 & \"\"\",\"\"\" & 'BX Language acquisition'!D436 & \"\"\"\"","v":"\" \",\"\",\"\",\"\""}]
[{"$f":"\"\"\" \"& 'BX Language acquisition'!A437 & \"\"\",\"\"\" & 'BX Language acquisition'!C437 & \"\"\",\"\"\" & 'BX Language acquisition'!B437 & \"\"\",\"\"\" & 'BX Language acquisition'!D437 & \"\"\"\"","v":"\" \",\"\",\"\",\"\""}]
[{"$f":"\"\"\" \"& 'BX Language acquisition'!A438 & \"\"\",\"\"\" & 'BX Language acquisition'!C438 & \"\"\",\"\"\" & 'BX Language acquisition'!B438 & \"\"\",\"\"\" & 'BX Language acquisition'!D438 & \"\"\"\"","v":"\" \",\"\",\"\",\"\""}]
[{"$f":"\"\"\" \"& 'BX Language acquisition'!A439 & \"\"\",\"\"\" & 'BX Language acquisition'!C439 & \"\"\",\"\"\" & 'BX Language acquisition'!B439 & \"\"\",\"\"\" & 'BX Language acquisition'!D439 & \"\"\"\"","v":"\" \",\"\",\"\",\"\""}]
[{"$f":"\"\"\" \"& 'BX Language acquisition'!A440 & \"\"\",\"\"\" & 'BX Language acquisition'!C440 & \"\"\",\"\"\" & 'BX Language acquisition'!B440 & \"\"\",\"\"\" & 'BX Language acquisition'!D440 & \"\"\"\"","v":"\" \",\"\",\"\",\"\""}]
[{"$f":"\"\"\" \"& 'BX Language acquisition'!A441 & \"\"\",\"\"\" & 'BX Language acquisition'!C441 & \"\"\",\"\"\" & 'BX Language acquisition'!B441 & \"\"\",\"\"\" & 'BX Language acquisition'!D441 & \"\"\"\"","v":"\" \",\"\",\"\",\"\""}]
[{"$f":"\"\"\" \"& 'BX Language acquisition'!A442 & \"\"\",\"\"\" & 'BX Language acquisition'!C442 & \"\"\",\"\"\" & 'BX Language acquisition'!B442 & \"\"\",\"\"\" & 'BX Language acquisition'!D442 & \"\"\"\"","v":"\" \",\"\",\"\",\"\""}]
[{"$f":"\"\"\" \"& 'BX Language acquisition'!A443 & \"\"\",\"\"\" & 'BX Language acquisition'!C443 & \"\"\",\"\"\" & 'BX Language acquisition'!B443 & \"\"\",\"\"\" & 'BX Language acquisition'!D443 & \"\"\"\"","v":"\" \",\"\",\"\",\"\""}]
[{"$f":"\"\"\" \"& 'BX Language acquisition'!A444 & \"\"\",\"\"\" & 'BX Language acquisition'!C444 & \"\"\",\"\"\" & 'BX Language acquisition'!B444 & \"\"\",\"\"\" & 'BX Language acquisition'!D444 & \"\"\"\"","v":"\" \",\"\",\"\",\"\""}]
[{"$f":"\"\"\" \"& 'BX Language acquisition'!A445 & \"\"\",\"\"\" & 'BX Language acquisition'!C445 & \"\"\",\"\"\" & 'BX Language acquisition'!B445 & \"\"\",\"\"\" & 'BX Language acquisition'!D445 & \"\"\"\"","v":"\" \",\"\",\"\",\"\""}]
[{"$f":"\"\"\" \"& 'BX Language acquisition'!A446 & \"\"\",\"\"\" & 'BX Language acquisition'!C446 & \"\"\",\"\"\" & 'BX Language acquisition'!B446 & \"\"\",\"\"\" & 'BX Language acquisition'!D446 & \"\"\"\"","v":"\" \",\"\",\"\",\"\""}]
[{"$f":"\"\"\" \"& 'BX Language acquisition'!A447 & \"\"\",\"\"\" & 'BX Language acquisition'!C447 & \"\"\",\"\"\" & 'BX Language acquisition'!B447 & \"\"\",\"\"\" & 'BX Language acquisition'!D447 & \"\"\"\"","v":"\" \",\"\",\"\",\"\""}]
[{"$f":"\"\"\" \"& 'BX Language acquisition'!A448 & \"\"\",\"\"\" & 'BX Language acquisition'!C448 & \"\"\",\"\"\" & 'BX Language acquisition'!B448 & \"\"\",\"\"\" & 'BX Language acquisition'!D448 & \"\"\"\"","v":"\" \",\"\",\"\",\"\""}]
[{"$f":"\"\"\" \"& 'BX Language acquisition'!A449 & \"\"\",\"\"\" & 'BX Language acquisition'!C449 & \"\"\",\"\"\" & 'BX Language acquisition'!B449 & \"\"\",\"\"\" & 'BX Language acquisition'!D449 & \"\"\"\"","v":"\" \",\"\",\"\",\"\""}]
[{"$f":"\"\"\" \"& 'BX Language acquisition'!A450 & \"\"\",\"\"\" & 'BX Language acquisition'!C450 & \"\"\",\"\"\" & 'BX Language acquisition'!B450 & \"\"\",\"\"\" & 'BX Language acquisition'!D450 & \"\"\"\"","v":"\" \",\"\",\"\",\"\""}]
[{"$f":"\"\"\" \"& 'BX Language acquisition'!A451 & \"\"\",\"\"\" & 'BX Language acquisition'!C451 & \"\"\",\"\"\" & 'BX Language acquisition'!B451 & \"\"\",\"\"\" & 'BX Language acquisition'!D451 & \"\"\"\"","v":"\" \",\"\",\"\",\"\""}]
[{"$f":"\"\"\" \"& 'BX Language acquisition'!A452 & \"\"\",\"\"\" & 'BX Language acquisition'!C452 & \"\"\",\"\"\" & 'BX Language acquisition'!B452 & \"\"\",\"\"\" & 'BX Language acquisition'!D452 & \"\"\"\"","v":"\" \",\"\",\"\",\"\""}]
[{"$f":"\"\"\" \"& 'BX Language acquisition'!A453 & \"\"\",\"\"\" & 'BX Language acquisition'!C453 & \"\"\",\"\"\" & 'BX Language acquisition'!B453 & \"\"\",\"\"\" & 'BX Language acquisition'!D453 & \"\"\"\"","v":"\" \",\"\",\"\",\"\""}]
[{"$f":"\"\"\" \"& 'BX Language acquisition'!A454 & \"\"\",\"\"\" & 'BX Language acquisition'!C454 & \"\"\",\"\"\" & 'BX Language acquisition'!B454 & \"\"\",\"\"\" & 'BX Language acquisition'!D454 & \"\"\"\"","v":"\" \",\"\",\"\",\"\""}]
[{"$f":"\"\"\" \"& 'BX Language acquisition'!A455 & \"\"\",\"\"\" & 'BX Language acquisition'!C455 & \"\"\",\"\"\" & 'BX Language acquisition'!B455 & \"\"\",\"\"\" & 'BX Language acquisition'!D455 & \"\"\"\"","v":"\" \",\"\",\"\",\"\""}]
[{"$f":"\"\"\" \"& 'BX Language acquisition'!A456 & \"\"\",\"\"\" & 'BX Language acquisition'!C456 & \"\"\",\"\"\" & 'BX Language acquisition'!B456 & \"\"\",\"\"\" & 'BX Language acquisition'!D456 & \"\"\"\"","v":"\" \",\"\",\"\",\"\""}]
[{"$f":"\"\"\" \"& 'BX Language acquisition'!A457 & \"\"\",\"\"\" & 'BX Language acquisition'!C457 & \"\"\",\"\"\" & 'BX Language acquisition'!B457 & \"\"\",\"\"\" & 'BX Language acquisition'!D457 & \"\"\"\"","v":"\" \",\"\",\"\",\"\""}]
[{"$f":"\"\"\" \"& 'BX Language acquisition'!A458 & \"\"\",\"\"\" & 'BX Language acquisition'!C458 & \"\"\",\"\"\" & 'BX Language acquisition'!B458 & \"\"\",\"\"\" & 'BX Language acquisition'!D458 & \"\"\"\"","v":"\" \",\"\",\"\",\"\""}]
[{"$f":"\"\"\" \"& 'BX Language acquisition'!A459 & \"\"\",\"\"\" & 'BX Language acquisition'!C459 & \"\"\",\"\"\" & 'BX Language acquisition'!B459 & \"\"\",\"\"\" & 'BX Language acquisition'!D459 & \"\"\"\"","v":"\" \",\"\",\"\",\"\""}]
[{"$f":"\"\"\" \"& 'BX Language acquisition'!A460 & \"\"\",\"\"\" & 'BX Language acquisition'!C460 & \"\"\",\"\"\" & 'BX Language acquisition'!B460 & \"\"\",\"\"\" & 'BX Language acquisition'!D460 & \"\"\"\"","v":"\" \",\"\",\"\",\"\""}]
[{"$f":"\"\"\" \"& 'BX Language acquisition'!A461 & \"\"\",\"\"\" & 'BX Language acquisition'!C461 & \"\"\",\"\"\" & 'BX Language acquisition'!B461 & \"\"\",\"\"\" & 'BX Language acquisition'!D461 & \"\"\"\"","v":"\" \",\"\",\"\",\"\""}]
[{"$f":"\"\"\" \"& 'BX Language acquisition'!A462 & \"\"\",\"\"\" & 'BX Language acquisition'!C462 & \"\"\",\"\"\" & 'BX Language acquisition'!B462 & \"\"\",\"\"\" & 'BX Language acquisition'!D462 & \"\"\"\"","v":"\" \",\"\",\"\",\"\""}]
[{"$f":"\"\"\" \"& 'BX Language acquisition'!A463 & \"\"\",\"\"\" & 'BX Language acquisition'!C463 & \"\"\",\"\"\" & 'BX Language acquisition'!B463 & \"\"\",\"\"\" & 'BX Language acquisition'!D463 & \"\"\"\"","v":"\" \",\"\",\"\",\"\""}]
[{"$f":"\"\"\" \"& 'BX Language acquisition'!A464 & \"\"\",\"\"\" & 'BX Language acquisition'!C464 & \"\"\",\"\"\" & 'BX Language acquisition'!B464 & \"\"\",\"\"\" & 'BX Language acquisition'!D464 & \"\"\"\"","v":"\" \",\"\",\"\",\"\""}]
[{"$f":"\"\"\" \"& 'BX Language acquisition'!A465 & \"\"\",\"\"\" & 'BX Language acquisition'!C465 & \"\"\",\"\"\" & 'BX Language acquisition'!B465 & \"\"\",\"\"\" & 'BX Language acquisition'!D465 & \"\"\"\"","v":"\" \",\"\",\"\",\"\""}]
[{"$f":"\"\"\" \"& 'BX Language acquisition'!A466 & \"\"\",\"\"\" & 'BX Language acquisition'!C466 & \"\"\",\"\"\" & 'BX Language acquisition'!B466 & \"\"\",\"\"\" & 'BX Language acquisition'!D466 & \"\"\"\"","v":"\" \",\"\",\"\",\"\""}]
[{"$f":"\"\"\" \"& 'BX Language acquisition'!A467 & \"\"\",\"\"\" & 'BX Language acquisition'!C467 & \"\"\",\"\"\" & 'BX Language acquisition'!B467 & \"\"\",\"\"\" & 'BX Language acquisition'!D467 & \"\"\"\"","v":"\" \",\"\",\"\",\"\""}]
[{"$f":"\"\"\" \"& 'BX Language acquisition'!A468 & \"\"\",\"\"\" & 'BX Language acquisition'!C468 & \"\"\",\"\"\" & 'BX Language acquisition'!B468 & \"\"\",\"\"\" & 'BX Language acquisition'!D468 & \"\"\"\"","v":"\" \",\"\",\"\",\"\""}]
[{"$f":"\"\"\" \"& 'BX Language acquisition'!A469 & \"\"\",\"\"\" & 'BX Language acquisition'!C469 & \"\"\",\"\"\" & 'BX Language acquisition'!B469 & \"\"\",\"\"\" & 'BX Language acquisition'!D469 & \"\"\"\"","v":"\" \",\"\",\"\",\"\""}]
[{"$f":"\"\"\" \"& 'BX Language acquisition'!A470 & \"\"\",\"\"\" & 'BX Language acquisition'!C470 & \"\"\",\"\"\" & 'BX Language acquisition'!B470 & \"\"\",\"\"\" & 'BX Language acquisition'!D470 & \"\"\"\"","v":"\" \",\"\",\"\",\"\""}]
[{"$f":"\"\"\" \"& 'BX Language acquisition'!A471 & \"\"\",\"\"\" & 'BX Language acquisition'!C471 & \"\"\",\"\"\" & 'BX Language acquisition'!B471 & \"\"\",\"\"\" & 'BX Language acquisition'!D471 & \"\"\"\"","v":"\" \",\"\",\"\",\"\""}]
[{"$f":"\"\"\" \"& 'BX Language acquisition'!A472 & \"\"\",\"\"\" & 'BX Language acquisition'!C472 & \"\"\",\"\"\" & 'BX Language acquisition'!B472 & \"\"\",\"\"\" & 'BX Language acquisition'!D472 & \"\"\"\"","v":"\" \",\"\",\"\",\"\""}]
[{"$f":"\"\"\" \"& 'BX Language acquisition'!A473 & \"\"\",\"\"\" & 'BX Language acquisition'!C473 & \"\"\",\"\"\" & 'BX Language acquisition'!B473 & \"\"\",\"\"\" & 'BX Language acquisition'!D473 & \"\"\"\"","v":"\" \",\"\",\"\",\"\""}]
[{"$f":"\"\"\" \"& 'BX Language acquisition'!A474 & \"\"\",\"\"\" & 'BX Language acquisition'!C474 & \"\"\",\"\"\" & 'BX Language acquisition'!B474 & \"\"\",\"\"\" & 'BX Language acquisition'!D474 & \"\"\"\"","v":"\" \",\"\",\"\",\"\""}]
[{"$f":"\"\"\" \"& 'BX Language acquisition'!A475 & \"\"\",\"\"\" & 'BX Language acquisition'!C475 & \"\"\",\"\"\" & 'BX Language acquisition'!B475 & \"\"\",\"\"\" & 'BX Language acquisition'!D475 & \"\"\"\"","v":"\" \",\"\",\"\",\"\""}]
[{"$f":"\"\"\" \"& 'BX Language acquisition'!A476 & \"\"\",\"\"\" & 'BX Language acquisition'!C476 & \"\"\",\"\"\" & 'BX Language acquisition'!B476 & \"\"\",\"\"\" & 'BX Language acquisition'!D476 & \"\"\"\"","v":"\" \",\"\",\"\",\"\""}]
[{"$f":"\"\"\" \"& 'BX Language acquisition'!A477 & \"\"\",\"\"\" & 'BX Language acquisition'!C477 & \"\"\",\"\"\" & 'BX Language acquisition'!B477 & \"\"\",\"\"\" & 'BX Language acquisition'!D477 & \"\"\"\"","v":"\" \",\"\",\"\",\"\""}]
[{"$f":"\"\"\" \"& 'BX Language acquisition'!A478 & \"\"\",\"\"\" & 'BX Language acquisition'!C478 & \"\"\",\"\"\" & 'BX Language acquisition'!B478 & \"\"\",\"\"\" & 'BX Language acquisition'!D478 & \"\"\"\"","v":"\" \",\"\",\"\",\"\""}]
[{"$f":"\"\"\" \"& 'BX Language acquisition'!A479 & \"\"\",\"\"\" & 'BX Language acquisition'!C479 & \"\"\",\"\"\" & 'BX Language acquisition'!B479 & \"\"\",\"\"\" & 'BX Language acquisition'!D479 & \"\"\"\"","v":"\" \",\"\",\"\",\"\""}]
[{"$f":"\"\"\" \"& 'BX Language acquisition'!A480 & \"\"\",\"\"\" & 'BX Language acquisition'!C480 & \"\"\",\"\"\" & 'BX Language acquisition'!B480 & \"\"\",\"\"\" & 'BX Language acquisition'!D480 & \"\"\"\"","v":"\" \",\"\",\"\",\"\""}]
[{"$f":"\"\"\" \"& 'BX Language acquisition'!A481 & \"\"\",\"\"\" & 'BX Language acquisition'!C481 & \"\"\",\"\"\" & 'BX Language acquisition'!B481 & \"\"\",\"\"\" & 'BX Language acquisition'!D481 & \"\"\"\"","v":"\" \",\"\",\"\",\"\""}]
[{"$f":"\"\"\" \"& 'BX Language acquisition'!A482 & \"\"\",\"\"\" & 'BX Language acquisition'!C482 & \"\"\",\"\"\" & 'BX Language acquisition'!B482 & \"\"\",\"\"\" & 'BX Language acquisition'!D482 & \"\"\"\"","v":"\" \",\"\",\"\",\"\""}]
[{"$f":"\"\"\" \"& 'BX Language acquisition'!A483 & \"\"\",\"\"\" & 'BX Language acquisition'!C483 & \"\"\",\"\"\" & 'BX Language acquisition'!B483 & \"\"\",\"\"\" & 'BX Language acquisition'!D483 & \"\"\"\"","v":"\" \",\"\",\"\",\"\""}]
[{"$f":"\"\"\" \"& 'BX Language acquisition'!A484 & \"\"\",\"\"\" & 'BX Language acquisition'!C484 & \"\"\",\"\"\" & 'BX Language acquisition'!B484 & \"\"\",\"\"\" & 'BX Language acquisition'!D484 & \"\"\"\"","v":"\" \",\"\",\"\",\"\""}]
[{"$f":"\"\"\" \"& 'BX Language acquisition'!A485 & \"\"\",\"\"\" & 'BX Language acquisition'!C485 & \"\"\",\"\"\" & 'BX Language acquisition'!B485 & \"\"\",\"\"\" & 'BX Language acquisition'!D485 & \"\"\"\"","v":"\" \",\"\",\"\",\"\""}]
[{"$f":"\"\"\" \"& 'BX Language acquisition'!A486 & \"\"\",\"\"\" & 'BX Language acquisition'!C486 & \"\"\",\"\"\" & 'BX Language acquisition'!B486 & \"\"\",\"\"\" & 'BX Language acquisition'!D486 & \"\"\"\"","v":"\" \",\"\",\"\",\"\""}]
[{"$f":"\"\"\" \"& 'BX Language acquisition'!A487 & \"\"\",\"\"\" & 'BX Language acquisition'!C487 & \"\"\",\"\"\" & 'BX Language acquisition'!B487 & \"\"\",\"\"\" & 'BX Language acquisition'!D487 & \"\"\"\"","v":"\" \",\"\",\"\",\"\""}]
[{"$f":"\"\"\" \"& 'BX Language acquisition'!A488 & \"\"\",\"\"\" & 'BX Language acquisition'!C488 & \"\"\",\"\"\" & 'BX Language acquisition'!B488 & \"\"\",\"\"\" & 'BX Language acquisition'!D488 & \"\"\"\"","v":"\" \",\"\",\"\",\"\""}]
[{"$f":"\"\"\" \"& 'BX Language acquisition'!A489 & \"\"\",\"\"\" & 'BX Language acquisition'!C489 & \"\"\",\"\"\" & 'BX Language acquisition'!B489 & \"\"\",\"\"\" & 'BX Language acquisition'!D489 & \"\"\"\"","v":"\" \",\"\",\"\",\"\""}]
[{"$f":"\"\"\" \"& 'BX Language acquisition'!A490 & \"\"\",\"\"\" & 'BX Language acquisition'!C490 & \"\"\",\"\"\" & 'BX Language acquisition'!B490 & \"\"\",\"\"\" & 'BX Language acquisition'!D490 & \"\"\"\"","v":"\" \",\"\",\"\",\"\""}]
[{"$f":"\"\"\" \"& 'BX Language acquisition'!A491 & \"\"\",\"\"\" & 'BX Language acquisition'!C491 & \"\"\",\"\"\" & 'BX Language acquisition'!B491 & \"\"\",\"\"\" & 'BX Language acquisition'!D491 & \"\"\"\"","v":"\" \",\"\",\"\",\"\""}]
[{"$f":"\"\"\" \"& 'BX Language acquisition'!A492 & \"\"\",\"\"\" & 'BX Language acquisition'!C492 & \"\"\",\"\"\" & 'BX Language acquisition'!B492 & \"\"\",\"\"\" & 'BX Language acquisition'!D492 & \"\"\"\"","v":"\" \",\"\",\"\",\"\""}]
[{"$f":"\"\"\" \"& 'BX Language acquisition'!A493 & \"\"\",\"\"\" & 'BX Language acquisition'!C493 & \"\"\",\"\"\" & 'BX Language acquisition'!B493 & \"\"\",\"\"\" & 'BX Language acquisition'!D493 & \"\"\"\"","v":"\" \",\"\",\"\",\"\""}]
[{"$f":"\"\"\" \"& 'BX Language acquisition'!A494 & \"\"\",\"\"\" & 'BX Language acquisition'!C494 & \"\"\",\"\"\" & 'BX Language acquisition'!B494 & \"\"\",\"\"\" & 'BX Language acquisition'!D494 & \"\"\"\"","v":"\" \",\"\",\"\",\"\""}]
[{"$f":"\"\"\" \"& 'BX Language acquisition'!A495 & \"\"\",\"\"\" & 'BX Language acquisition'!C495 & \"\"\",\"\"\" & 'BX Language acquisition'!B495 & \"\"\",\"\"\" & 'BX Language acquisition'!D495 & \"\"\"\"","v":"\" \",\"\",\"\",\"\""}]
[{"$f":"\"\"\" \"& 'BX Language acquisition'!A496 & \"\"\",\"\"\" & 'BX Language acquisition'!C496 & \"\"\",\"\"\" & 'BX Language acquisition'!B496 & \"\"\",\"\"\" & 'BX Language acquisition'!D496 & \"\"\"\"","v":"\" \",\"\",\"\",\"\""}]
[{"$f":"\"\"\" \"& 'BX Language acquisition'!A497 & \"\"\",\"\"\" & 'BX Language acquisition'!C497 & \"\"\",\"\"\" & 'BX Language acquisition'!B497 & \"\"\",\"\"\" & 'BX Language acquisition'!D497 & \"\"\"\"","v":"\" \",\"\",\"\",\"\""}]
[{"$f":"\"\"\" \"& 'BX Language acquisition'!A498 & \"\"\",\"\"\" & 'BX Language acquisition'!C498 & \"\"\",\"\"\" & 'BX Language acquisition'!B498 & \"\"\",\"\"\" & 'BX Language acquisition'!D498 & \"\"\"\"","v":"\" \",\"\",\"\",\"\""}]
[{"$f":"\"\"\" \"& 'BX Language acquisition'!A499 & \"\"\",\"\"\" & 'BX Language acquisition'!C499 & \"\"\",\"\"\" & 'BX Language acquisition'!B499 & \"\"\",\"\"\" & 'BX Language acquisition'!D499 & \"\"\"\"","v":"\" \",\"\",\"\",\"\""}]
[{"$f":"\"\"\" \"& 'BX Language acquisition'!A500 & \"\"\",\"\"\" & 'BX Language acquisition'!C500 & \"\"\",\"\"\" & 'BX Language acquisition'!B500 & \"\"\",\"\"\" & 'BX Language acquisition'!D500 & \"\"\"\"","v":"\" \",\"\",\"\",\"\""}]
[{"$f":"\"\"\" \"& 'BX Language acquisition'!A501 & \"\"\",\"\"\" & 'BX Language acquisition'!C501 & \"\"\",\"\"\" & 'BX Language acquisition'!B501 & \"\"\",\"\"\" & 'BX Language acquisition'!D501 & \"\"\"\"","v":"\" \",\"\",\"\",\"\""}]
[{"$f":"\"\"\" \"& 'BX Language acquisition'!A502 & \"\"\",\"\"\" & 'BX Language acquisition'!C502 & \"\"\",\"\"\" & 'BX Language acquisition'!B502 & \"\"\",\"\"\" & 'BX Language acquisition'!D502 & \"\"\"\"","v":"\" \",\"\",\"\",\"\""}]
[{"$f":"\"\"\" \"& 'BX Language acquisition'!A503 & \"\"\",\"\"\" & 'BX Language acquisition'!C503 & \"\"\",\"\"\" & 'BX Language acquisition'!B503 & \"\"\",\"\"\" & 'BX Language acquisition'!D503 & \"\"\"\"","v":"\" \",\"\",\"\",\"\""}]
[{"$f":"\"\"\" \"& 'BX Language acquisition'!A504 & \"\"\",\"\"\" & 'BX Language acquisition'!C504 & \"\"\",\"\"\" & 'BX Language acquisition'!B504 & \"\"\",\"\"\" & 'BX Language acquisition'!D504 & \"\"\"\"","v":"\" \",\"\",\"\",\"\""}]
[{"$f":"\"\"\" \"& 'BX Language acquisition'!A505 & \"\"\",\"\"\" & 'BX Language acquisition'!C505 & \"\"\",\"\"\" & 'BX Language acquisition'!B505 & \"\"\",\"\"\" & 'BX Language acquisition'!D505 & \"\"\"\"","v":"\" \",\"\",\"\",\"\""}]
[{"$f":"\"\"\" \"& 'BX Language acquisition'!A506 & \"\"\",\"\"\" & 'BX Language acquisition'!C506 & \"\"\",\"\"\" & 'BX Language acquisition'!B506 & \"\"\",\"\"\" & 'BX Language acquisition'!D506 & \"\"\"\"","v":"\" \",\"\",\"\",\"\""}]
[{"$f":"\"\"\" \"& 'BX Language acquisition'!A507 & \"\"\",\"\"\" & 'BX Language acquisition'!C507 & \"\"\",\"\"\" & 'BX Language acquisition'!B507 & \"\"\",\"\"\" & 'BX Language acquisition'!D507 & \"\"\"\"","v":"\" \",\"\",\"\",\"\""}]
[{"$f":"\"\"\" \"& 'BX Language acquisition'!A508 & \"\"\",\"\"\" & 'BX Language acquisition'!C508 & \"\"\",\"\"\" & 'BX Language acquisition'!B508 & \"\"\",\"\"\" & 'BX Language acquisition'!D508 & \"\"\"\"","v":"\" \",\"\",\"\",\"\""}]
[{"$f":"\"\"\" \"& 'BX Language acquisition'!A509 & \"\"\",\"\"\" & 'BX Language acquisition'!C509 & \"\"\",\"\"\" & 'BX Language acquisition'!B509 & \"\"\",\"\"\" & 'BX Language acquisition'!D509 & \"\"\"\"","v":"\" \",\"\",\"\",\"\""}]
[{"$f":"\"\"\" \"& 'BX Language acquisition'!A510 & \"\"\",\"\"\" & 'BX Language acquisition'!C510 & \"\"\",\"\"\" & 'BX Language acquisition'!B510 & \"\"\",\"\"\" & 'BX Language acquisition'!D510 & \"\"\"\"","v":"\" \",\"\",\"\",\"\""}]
[{"$f":"\"\"\" \"& 'BX Language acquisition'!A511 & \"\"\",\"\"\" & 'BX Language acquisition'!C511 & \"\"\",\"\"\" & 'BX Language acquisition'!B511 & \"\"\",\"\"\" & 'BX Language acquisition'!D511 & \"\"\"\"","v":"\" \",\"\",\"\",\"\""}]
[{"$f":"\"\"\" \"& 'BX Language acquisition'!A512 & \"\"\",\"\"\" & 'BX Language acquisition'!C512 & \"\"\",\"\"\" & 'BX Language acquisition'!B512 & \"\"\",\"\"\" & 'BX Language acquisition'!D512 & \"\"\"\"","v":"\" \",\"\",\"\",\"\""}]
[{"$f":"\"\"\" \"& 'BX Language acquisition'!A513 & \"\"\",\"\"\" & 'BX Language acquisition'!C513 & \"\"\",\"\"\" & 'BX Language acquisition'!B513 & \"\"\",\"\"\" & 'BX Language acquisition'!D513 & \"\"\"\"","v":"\" \",\"\",\"\",\"\""}]
[{"$f":"\"\"\" \"& 'BX Language acquisition'!A514 & \"\"\",\"\"\" & 'BX Language acquisition'!C514 & \"\"\",\"\"\" & 'BX Language acquisition'!B514 & \"\"\",\"\"\" & 'BX Language acquisition'!D514 & \"\"\"\"","v":"\" \",\"\",\"\",\"\""}]
[{"$f":"\"\"\" \"& 'BX Language acquisition'!A515 & \"\"\",\"\"\" & 'BX Language acquisition'!C515 & \"\"\",\"\"\" & 'BX Language acquisition'!B515 & \"\"\",\"\"\" & 'BX Language acquisition'!D515 & \"\"\"\"","v":"\" \",\"\",\"\",\"\""}]
[{"$f":"\"\"\" \"& 'BX Language acquisition'!A516 & \"\"\",\"\"\" & 'BX Language acquisition'!C516 & \"\"\",\"\"\" & 'BX Language acquisition'!B516 & \"\"\",\"\"\" & 'BX Language acquisition'!D516 & \"\"\"\"","v":"\" \",\"\",\"\",\"\""}]
[{"$f":"\"\"\" \"& 'BX Language acquisition'!A517 & \"\"\",\"\"\" & 'BX Language acquisition'!C517 & \"\"\",\"\"\" & 'BX Language acquisition'!B517 & \"\"\",\"\"\" & 'BX Language acquisition'!D517 & \"\"\"\"","v":"\" \",\"\",\"\",\"\""}]
[{"$f":"\"\"\" \"& 'BX Language acquisition'!A518 & \"\"\",\"\"\" & 'BX Language acquisition'!C518 & \"\"\",\"\"\" & 'BX Language acquisition'!B518 & \"\"\",\"\"\" & 'BX Language acquisition'!D518 & \"\"\"\"","v":"\" \",\"\",\"\",\"\""}]
[{"$f":"\"\"\" \"& 'BX Language acquisition'!A519 & \"\"\",\"\"\" & 'BX Language acquisition'!C519 & \"\"\",\"\"\" & 'BX Language acquisition'!B519 & \"\"\",\"\"\" & 'BX Language acquisition'!D519 & \"\"\"\"","v":"\" \",\"\",\"\",\"\""}]
[{"$f":"\"\"\" \"& 'BX Language acquisition'!A520 & \"\"\",\"\"\" & 'BX Language acquisition'!C520 & \"\"\",\"\"\" & 'BX Language acquisition'!B520 & \"\"\",\"\"\" & 'BX Language acquisition'!D520 & \"\"\"\"","v":"\" \",\"\",\"\",\"\""}]
[{"$f":"\"\"\" \"& 'BX Language acquisition'!A521 & \"\"\",\"\"\" & 'BX Language acquisition'!C521 & \"\"\",\"\"\" & 'BX Language acquisition'!B521 & \"\"\",\"\"\" & 'BX Language acquisition'!D521 & \"\"\"\"","v":"\" \",\"\",\"\",\"\""}]
[{"$f":"\"\"\" \"& 'BX Language acquisition'!A522 & \"\"\",\"\"\" & 'BX Language acquisition'!C522 & \"\"\",\"\"\" & 'BX Language acquisition'!B522 & \"\"\",\"\"\" & 'BX Language acquisition'!D522 & \"\"\"\"","v":"\" \",\"\",\"\",\"\""}]
[{"$f":"\"\"\" \"& 'BX Language acquisition'!A523 & \"\"\",\"\"\" & 'BX Language acquisition'!C523 & \"\"\",\"\"\" & 'BX Language acquisition'!B523 & \"\"\",\"\"\" & 'BX Language acquisition'!D523 & \"\"\"\"","v":"\" \",\"\",\"\",\"\""}]
[{"$f":"\"\"\" \"& 'BX Language acquisition'!A524 & \"\"\",\"\"\" & 'BX Language acquisition'!C524 & \"\"\",\"\"\" & 'BX Language acquisition'!B524 & \"\"\",\"\"\" & 'BX Language acquisition'!D524 & \"\"\"\"","v":"\" \",\"\",\"\",\"\""}]
[{"$f":"\"\"\" \"& 'BX Language acquisition'!A525 & \"\"\",\"\"\" & 'BX Language acquisition'!C525 & \"\"\",\"\"\" & 'BX Language acquisition'!B525 & \"\"\",\"\"\" & 'BX Language acquisition'!D525 & \"\"\"\"","v":"\" \",\"\",\"\",\"\""}]
[{"$f":"\"\"\" \"& 'BX Language acquisition'!A526 & \"\"\",\"\"\" & 'BX Language acquisition'!C526 & \"\"\",\"\"\" & 'BX Language acquisition'!B526 & \"\"\",\"\"\" & 'BX Language acquisition'!D526 & \"\"\"\"","v":"\" \",\"\",\"\",\"\""}]
[{"$f":"\"\"\" \"& 'BX Language acquisition'!A527 & \"\"\",\"\"\" & 'BX Language acquisition'!C527 & \"\"\",\"\"\" & 'BX Language acquisition'!B527 & \"\"\",\"\"\" & 'BX Language acquisition'!D527 & \"\"\"\"","v":"\" \",\"\",\"\",\"\""}]
[{"$f":"\"\"\" \"& 'BX Language acquisition'!A528 & \"\"\",\"\"\" & 'BX Language acquisition'!C528 & \"\"\",\"\"\" & 'BX Language acquisition'!B528 & \"\"\",\"\"\" & 'BX Language acquisition'!D528 & \"\"\"\"","v":"\" \",\"\",\"\",\"\""}]
[{"$f":"\"\"\" \"& 'BX Language acquisition'!A529 & \"\"\",\"\"\" & 'BX Language acquisition'!C529 & \"\"\",\"\"\" & 'BX Language acquisition'!B529 & \"\"\",\"\"\" & 'BX Language acquisition'!D529 & \"\"\"\"","v":"\" \",\"\",\"\",\"\""}]
[{"$f":"\"\"\" \"& 'BX Language acquisition'!A530 & \"\"\",\"\"\" & 'BX Language acquisition'!C530 & \"\"\",\"\"\" & 'BX Language acquisition'!B530 & \"\"\",\"\"\" & 'BX Language acquisition'!D530 & \"\"\"\"","v":"\" \",\"\",\"\",\"\""}]
[{"$f":"\"\"\" \"& 'BX Language acquisition'!A531 & \"\"\",\"\"\" & 'BX Language acquisition'!C531 & \"\"\",\"\"\" & 'BX Language acquisition'!B531 & \"\"\",\"\"\" & 'BX Language acquisition'!D531 & \"\"\"\"","v":"\" \",\"\",\"\",\"\""}]
[{"$f":"\"\"\" \"& 'BX Language acquisition'!A532 & \"\"\",\"\"\" & 'BX Language acquisition'!C532 & \"\"\",\"\"\" & 'BX Language acquisition'!B532 & \"\"\",\"\"\" & 'BX Language acquisition'!D532 & \"\"\"\"","v":"\" \",\"\",\"\",\"\""}]
[{"$f":"\"\"\" \"& 'BX Language acquisition'!A533 & \"\"\",\"\"\" & 'BX Language acquisition'!C533 & \"\"\",\"\"\" & 'BX Language acquisition'!B533 & \"\"\",\"\"\" & 'BX Language acquisition'!D533 & \"\"\"\"","v":"\" \",\"\",\"\",\"\""}]
[{"$f":"\"\"\" \"& 'BX Language acquisition'!A534 & \"\"\",\"\"\" & 'BX Language acquisition'!C534 & \"\"\",\"\"\" & 'BX Language acquisition'!B534 & \"\"\",\"\"\" & 'BX Language acquisition'!D534 & \"\"\"\"","v":"\" \",\"\",\"\",\"\""}]
[{"$f":"\"\"\" \"& 'BX Language acquisition'!A535 & \"\"\",\"\"\" & 'BX Language acquisition'!C535 & \"\"\",\"\"\" & 'BX Language acquisition'!B535 & \"\"\",\"\"\" & 'BX Language acquisition'!D535 & \"\"\"\"","v":"\" \",\"\",\"\",\"\""}]
[{"$f":"\"\"\" \"& 'BX Language acquisition'!A536 & \"\"\",\"\"\" & 'BX Language acquisition'!C536 & \"\"\",\"\"\" & 'BX Language acquisition'!B536 & \"\"\",\"\"\" & 'BX Language acquisition'!D536 & \"\"\"\"","v":"\" \",\"\",\"\",\"\""}]
[{"$f":"\"\"\" \"& 'BX Language acquisition'!A537 & \"\"\",\"\"\" & 'BX Language acquisition'!C537 & \"\"\",\"\"\" & 'BX Language acquisition'!B537 & \"\"\",\"\"\" & 'BX Language acquisition'!D537 & \"\"\"\"","v":"\" \",\"\",\"\",\"\""}]
[{"$f":"\"\"\" \"& 'BX Language acquisition'!A538 & \"\"\",\"\"\" & 'BX Language acquisition'!C538 & \"\"\",\"\"\" & 'BX Language acquisition'!B538 & \"\"\",\"\"\" & 'BX Language acquisition'!D538 & \"\"\"\"","v":"\" \",\"\",\"\",\"\""}]
[{"$f":"\"\"\" \"& 'BX Language acquisition'!A539 & \"\"\",\"\"\" & 'BX Language acquisition'!C539 & \"\"\",\"\"\" & 'BX Language acquisition'!B539 & \"\"\",\"\"\" & 'BX Language acquisition'!D539 & \"\"\"\"","v":"\" \",\"\",\"\",\"\""}]
[{"$f":"\"\"\" \"& 'BX Language acquisition'!A540 & \"\"\",\"\"\" & 'BX Language acquisition'!C540 & \"\"\",\"\"\" & 'BX Language acquisition'!B540 & \"\"\",\"\"\" & 'BX Language acquisition'!D540 & \"\"\"\"","v":"\" \",\"\",\"\",\"\""}]
[{"$f":"\"\"\" \"& 'BX Language acquisition'!A541 & \"\"\",\"\"\" & 'BX Language acquisition'!C541 & \"\"\",\"\"\" & 'BX Language acquisition'!B541 & \"\"\",\"\"\" & 'BX Language acquisition'!D541 & \"\"\"\"","v":"\" \",\"\",\"\",\"\""}]
[{"$f":"\"\"\" \"& 'BX Language acquisition'!A542 & \"\"\",\"\"\" & 'BX Language acquisition'!C542 & \"\"\",\"\"\" & 'BX Language acquisition'!B542 & \"\"\",\"\"\" & 'BX Language acquisition'!D542 & \"\"\"\"","v":"\" \",\"\",\"\",\"\""}]
[{"$f":"\"\"\" \"& 'BX Language acquisition'!A543 & \"\"\",\"\"\" & 'BX Language acquisition'!C543 & \"\"\",\"\"\" & 'BX Language acquisition'!B543 & \"\"\",\"\"\" & 'BX Language acquisition'!D543 & \"\"\"\"","v":"\" \",\"\",\"\",\"\""}]
[{"$f":"\"\"\" \"& 'BX Language acquisition'!A544 & \"\"\",\"\"\" & 'BX Language acquisition'!C544 & \"\"\",\"\"\" & 'BX Language acquisition'!B544 & \"\"\",\"\"\" & 'BX Language acquisition'!D544 & \"\"\"\"","v":"\" \",\"\",\"\",\"\""}]
[{"$f":"\"\"\" \"& 'BX Language acquisition'!A545 & \"\"\",\"\"\" & 'BX Language acquisition'!C545 & \"\"\",\"\"\" & 'BX Language acquisition'!B545 & \"\"\",\"\"\" & 'BX Language acquisition'!D545 & \"\"\"\"","v":"\" \",\"\",\"\",\"\""}]
[{"$f":"\"\"\" \"& 'BX Language acquisition'!A546 & \"\"\",\"\"\" & 'BX Language acquisition'!C546 & \"\"\",\"\"\" & 'BX Language acquisition'!B546 & \"\"\",\"\"\" & 'BX Language acquisition'!D546 & \"\"\"\"","v":"\" \",\"\",\"\",\"\""}]
[{"$f":"\"\"\" \"& 'BX Language acquisition'!A547 & \"\"\",\"\"\" & 'BX Language acquisition'!C547 & \"\"\",\"\"\" & 'BX Language acquisition'!B547 & \"\"\",\"\"\" & 'BX Language acquisition'!D547 & \"\"\"\"","v":"\" \",\"\",\"\",\"\""}]
[{"$f":"\"\"\" \"& 'BX Language acquisition'!A548 & \"\"\",\"\"\" & 'BX Language acquisition'!C548 & \"\"\",\"\"\" & 'BX Language acquisition'!B548 & \"\"\",\"\"\" & 'BX Language acquisition'!D548 & \"\"\"\"","v":"\" \",\"\",\"\",\"\""}]
[{"$f":"\"\"\" \"& 'BX Language acquisition'!A549 & \"\"\",\"\"\" & 'BX Language acquisition'!C549 & \"\"\",\"\"\" & 'BX Language acquisition'!B549 & \"\"\",\"\"\" & 'BX Language acquisition'!D549 & \"\"\"\"","v":"\" \",\"\",\"\",\"\""}]
[{"$f":"\"\"\" \"& 'BX Language acquisition'!A550 & \"\"\",\"\"\" & 'BX Language acquisition'!C550 & \"\"\",\"\"\" & 'BX Language acquisition'!B550 & \"\"\",\"\"\" & 'BX Language acquisition'!D550 & \"\"\"\"","v":"\" \",\"\",\"\",\"\""}]
[{"$f":"\"\"\" \"& 'BX Language acquisition'!A551 & \"\"\",\"\"\" & 'BX Language acquisition'!C551 & \"\"\",\"\"\" & 'BX Language acquisition'!B551 & \"\"\",\"\"\" & 'BX Language acquisition'!D551 & \"\"\"\"","v":"\" \",\"\",\"\",\"\""}]
[{"$f":"\"\"\" \"& 'BX Language acquisition'!A552 & \"\"\",\"\"\" & 'BX Language acquisition'!C552 & \"\"\",\"\"\" & 'BX Language acquisition'!B552 & \"\"\",\"\"\" & 'BX Language acquisition'!D552 & \"\"\"\"","v":"\" \",\"\",\"\",\"\""}]
[{"$f":"\"\"\" \"& 'BX Language acquisition'!A553 & \"\"\",\"\"\" & 'BX Language acquisition'!C553 & \"\"\",\"\"\" & 'BX Language acquisition'!B553 & \"\"\",\"\"\" & 'BX Language acquisition'!D553 & \"\"\"\"","v":"\" \",\"\",\"\",\"\""}]
[{"$f":"\"\"\" \"& 'BX Language acquisition'!A554 & \"\"\",\"\"\" & 'BX Language acquisition'!C554 & \"\"\",\"\"\" & 'BX Language acquisition'!B554 & \"\"\",\"\"\" & 'BX Language acquisition'!D554 & \"\"\"\"","v":"\" \",\"\",\"\",\"\""}]
[{"$f":"\"\"\" \"& 'BX Language acquisition'!A555 & \"\"\",\"\"\" & 'BX Language acquisition'!C555 & \"\"\",\"\"\" & 'BX Language acquisition'!B555 & \"\"\",\"\"\" & 'BX Language acquisition'!D555 & \"\"\"\"","v":"\" \",\"\",\"\",\"\""}]
[{"$f":"\"\"\" \"& 'BX Language acquisition'!A556 & \"\"\",\"\"\" & 'BX Language acquisition'!C556 & \"\"\",\"\"\" & 'BX Language acquisition'!B556 & \"\"\",\"\"\" & 'BX Language acquisition'!D556 & \"\"\"\"","v":"\" \",\"\",\"\",\"\""}]
[{"$f":"\"\"\" \"& 'BX Language acquisition'!A557 & \"\"\",\"\"\" & 'BX Language acquisition'!C557 & \"\"\",\"\"\" & 'BX Language acquisition'!B557 & \"\"\",\"\"\" & 'BX Language acquisition'!D557 & \"\"\"\"","v":"\" \",\"\",\"\",\"\""}]
[{"$f":"\"\"\" \"& 'BX Language acquisition'!A558 & \"\"\",\"\"\" & 'BX Language acquisition'!C558 & \"\"\",\"\"\" & 'BX Language acquisition'!B558 & \"\"\",\"\"\" & 'BX Language acquisition'!D558 & \"\"\"\"","v":"\" \",\"\",\"\",\"\""}]
[{"$f":"\"\"\" \"& 'BX Language acquisition'!A559 & \"\"\",\"\"\" & 'BX Language acquisition'!C559 & \"\"\",\"\"\" & 'BX Language acquisition'!B559 & \"\"\",\"\"\" & 'BX Language acquisition'!D559 & \"\"\"\"","v":"\" \",\"\",\"\",\"\""}]
[{"$f":"\"\"\" \"& 'BX Language acquisition'!A560 & \"\"\",\"\"\" & 'BX Language acquisition'!C560 & \"\"\",\"\"\" & 'BX Language acquisition'!B560 & \"\"\",\"\"\" & 'BX Language acquisition'!D560 & \"\"\"\"","v":"\" \",\"\",\"\",\"\""}]
[{"$f":"\"\"\" \"& 'BX Language acquisition'!A561 & \"\"\",\"\"\" & 'BX Language acquisition'!C561 & \"\"\",\"\"\" & 'BX Language acquisition'!B561 & \"\"\",\"\"\" & 'BX Language acquisition'!D561 & \"\"\"\"","v":"\" \",\"\",\"\",\"\""}]
[{"$f":"\"\"\" \"& 'BX Language acquisition'!A562 & \"\"\",\"\"\" & 'BX Language acquisition'!C562 & \"\"\",\"\"\" & 'BX Language acquisition'!B562 & \"\"\",\"\"\" & 'BX Language acquisition'!D562 & \"\"\"\"","v":"\" \",\"\",\"\",\"\""}]
[{"$f":"\"\"\" \"& 'BX Language acquisition'!A563 & \"\"\",\"\"\" & 'BX Language acquisition'!C563 & \"\"\",\"\"\" & 'BX Language acquisition'!B563 & \"\"\",\"\"\" & 'BX Language acquisition'!D563 & \"\"\"\"","v":"\" \",\"\",\"\",\"\""}]
[{"$f":"\"\"\" \"& 'BX Language acquisition'!A564 & \"\"\",\"\"\" & 'BX Language acquisition'!C564 & \"\"\",\"\"\" & 'BX Language acquisition'!B564 & \"\"\",\"\"\" & 'BX Language acquisition'!D564 & \"\"\"\"","v":"\" \",\"\",\"\",\"\""}]
[{"$f":"\"\"\" \"& 'BX Language acquisition'!A565 & \"\"\",\"\"\" & 'BX Language acquisition'!C565 & \"\"\",\"\"\" & 'BX Language acquisition'!B565 & \"\"\",\"\"\" & 'BX Language acquisition'!D565 & \"\"\"\"","v":"\" \",\"\",\"\",\"\""}]
[{"$f":"\"\"\" \"& 'BX Language acquisition'!A566 & \"\"\",\"\"\" & 'BX Language acquisition'!C566 & \"\"\",\"\"\" & 'BX Language acquisition'!B566 & \"\"\",\"\"\" & 'BX Language acquisition'!D566 & \"\"\"\"","v":"\" \",\"\",\"\",\"\""}]
[{"$f":"\"\"\" \"& 'BX Language acquisition'!A567 & \"\"\",\"\"\" & 'BX Language acquisition'!C567 & \"\"\",\"\"\" & 'BX Language acquisition'!B567 & \"\"\",\"\"\" & 'BX Language acquisition'!D567 & \"\"\"\"","v":"\" \",\"\",\"\",\"\""}]
[{"$f":"\"\"\" \"& 'BX Language acquisition'!A568 & \"\"\",\"\"\" & 'BX Language acquisition'!C568 & \"\"\",\"\"\" & 'BX Language acquisition'!B568 & \"\"\",\"\"\" & 'BX Language acquisition'!D568 & \"\"\"\"","v":"\" \",\"\",\"\",\"\""}]
[{"$f":"\"\"\" \"& 'BX Language acquisition'!A569 & \"\"\",\"\"\" & 'BX Language acquisition'!C569 & \"\"\",\"\"\" & 'BX Language acquisition'!B569 & \"\"\",\"\"\" & 'BX Language acquisition'!D569 & \"\"\"\"","v":"\" \",\"\",\"\",\"\""}]
[{"$f":"\"\"\" \"& 'BX Language acquisition'!A570 & \"\"\",\"\"\" & 'BX Language acquisition'!C570 & \"\"\",\"\"\" & 'BX Language acquisition'!B570 & \"\"\",\"\"\" & 'BX Language acquisition'!D570 & \"\"\"\"","v":"\" \",\"\",\"\",\"\""}]
[{"$f":"\"\"\" \"& 'BX Language acquisition'!A571 & \"\"\",\"\"\" & 'BX Language acquisition'!C571 & \"\"\",\"\"\" & 'BX Language acquisition'!B571 & \"\"\",\"\"\" & 'BX Language acquisition'!D571 & \"\"\"\"","v":"\" \",\"\",\"\",\"\""}]
[{"$f":"\"\"\" \"& 'BX Language acquisition'!A572 & \"\"\",\"\"\" & 'BX Language acquisition'!C572 & \"\"\",\"\"\" & 'BX Language acquisition'!B572 & \"\"\",\"\"\" & 'BX Language acquisition'!D572 & \"\"\"\"","v":"\" \",\"\",\"\",\"\""}]
[{"$f":"\"\"\" \"& 'BX Language acquisition'!A573 & \"\"\",\"\"\" & 'BX Language acquisition'!C573 & \"\"\",\"\"\" & 'BX Language acquisition'!B573 & \"\"\",\"\"\" & 'BX Language acquisition'!D573 & \"\"\"\"","v":"\" \",\"\",\"\",\"\""}]
[{"$f":"\"\"\" \"& 'BX Language acquisition'!A574 & \"\"\",\"\"\" & 'BX Language acquisition'!C574 & \"\"\",\"\"\" & 'BX Language acquisition'!B574 & \"\"\",\"\"\" & 'BX Language acquisition'!D574 & \"\"\"\"","v":"\" \",\"\",\"\",\"\""}]
[{"$f":"\"\"\" \"& 'BX Language acquisition'!A575 & \"\"\",\"\"\" & 'BX Language acquisition'!C575 & \"\"\",\"\"\" & 'BX Language acquisition'!B575 & \"\"\",\"\"\" & 'BX Language acquisition'!D575 & \"\"\"\"","v":"\" \",\"\",\"\",\"\""}]
[{"$f":"\"\"\" \"& 'BX Language acquisition'!A576 & \"\"\",\"\"\" & 'BX Language acquisition'!C576 & \"\"\",\"\"\" & 'BX Language acquisition'!B576 & \"\"\",\"\"\" & 'BX Language acquisition'!D576 & \"\"\"\"","v":"\" \",\"\",\"\",\"\""}]
[{"$f":"\"\"\" \"& 'BX Language acquisition'!A577 & \"\"\",\"\"\" & 'BX Language acquisition'!C577 & \"\"\",\"\"\" & 'BX Language acquisition'!B577 & \"\"\",\"\"\" & 'BX Language acquisition'!D577 & \"\"\"\"","v":"\" \",\"\",\"\",\"\""}]
[{"$f":"\"\"\" \"& 'BX Language acquisition'!A578 & \"\"\",\"\"\" & 'BX Language acquisition'!C578 & \"\"\",\"\"\" & 'BX Language acquisition'!B578 & \"\"\",\"\"\" & 'BX Language acquisition'!D578 & \"\"\"\"","v":"\" \",\"\",\"\",\"\""}]
[{"$f":"\"\"\" \"& 'BX Language acquisition'!A579 & \"\"\",\"\"\" & 'BX Language acquisition'!C579 & \"\"\",\"\"\" & 'BX Language acquisition'!B579 & \"\"\",\"\"\" & 'BX Language acquisition'!D579 & \"\"\"\"","v":"\" \",\"\",\"\",\"\""}]
[{"$f":"\"\"\" \"& 'BX Language acquisition'!A580 & \"\"\",\"\"\" & 'BX Language acquisition'!C580 & \"\"\",\"\"\" & 'BX Language acquisition'!B580 & \"\"\",\"\"\" & 'BX Language acquisition'!D580 & \"\"\"\"","v":"\" \",\"\",\"\",\"\""}]
[{"$f":"\"\"\" \"& 'BX Language acquisition'!A581 & \"\"\",\"\"\" & 'BX Language acquisition'!C581 & \"\"\",\"\"\" & 'BX Language acquisition'!B581 & \"\"\",\"\"\" & 'BX Language acquisition'!D581 & \"\"\"\"","v":"\" \",\"\",\"\",\"\""}]
[{"$f":"\"\"\" \"& 'BX Language acquisition'!A582 & \"\"\",\"\"\" & 'BX Language acquisition'!C582 & \"\"\",\"\"\" & 'BX Language acquisition'!B582 & \"\"\",\"\"\" & 'BX Language acquisition'!D582 & \"\"\"\"","v":"\" \",\"\",\"\",\"\""}]
[{"$f":"\"\"\" \"& 'BX Language acquisition'!A583 & \"\"\",\"\"\" & 'BX Language acquisition'!C583 & \"\"\",\"\"\" & 'BX Language acquisition'!B583 & \"\"\",\"\"\" & 'BX Language acquisition'!D583 & \"\"\"\"","v":"\" \",\"\",\"\",\"\""}]
[{"$f":"\"\"\" \"& 'BX Language acquisition'!A584 & \"\"\",\"\"\" & 'BX Language acquisition'!C584 & \"\"\",\"\"\" & 'BX Language acquisition'!B584 & \"\"\",\"\"\" & 'BX Language acquisition'!D584 & \"\"\"\"","v":"\" \",\"\",\"\",\"\""}]
[{"$f":"\"\"\" \"& 'BX Language acquisition'!A585 & \"\"\",\"\"\" & 'BX Language acquisition'!C585 & \"\"\",\"\"\" & 'BX Language acquisition'!B585 & \"\"\",\"\"\" & 'BX Language acquisition'!D585 & \"\"\"\"","v":"\" \",\"\",\"\",\"\""}]
[{"$f":"\"\"\" \"& 'BX Language acquisition'!A586 & \"\"\",\"\"\" & 'BX Language acquisition'!C586 & \"\"\",\"\"\" & 'BX Language acquisition'!B586 & \"\"\",\"\"\" & 'BX Language acquisition'!D586 & \"\"\"\"","v":"\" \",\"\",\"\",\"\""}]
[{"$f":"\"\"\" \"& 'BX Language acquisition'!A587 & \"\"\",\"\"\" & 'BX Language acquisition'!C587 & \"\"\",\"\"\" & 'BX Language acquisition'!B587 & \"\"\",\"\"\" & 'BX Language acquisition'!D587 & \"\"\"\"","v":"\" \",\"\",\"\",\"\""}]
[{"$f":"\"\"\" \"& 'BX Language acquisition'!A588 & \"\"\",\"\"\" & 'BX Language acquisition'!C588 & \"\"\",\"\"\" & 'BX Language acquisition'!B588 & \"\"\",\"\"\" & 'BX Language acquisition'!D588 & \"\"\"\"","v":"\" \",\"\",\"\",\"\""}]
[{"$f":"\"\"\" \"& 'BX Language acquisition'!A589 & \"\"\",\"\"\" & 'BX Language acquisition'!C589 & \"\"\",\"\"\" & 'BX Language acquisition'!B589 & \"\"\",\"\"\" & 'BX Language acquisition'!D589 & \"\"\"\"","v":"\" \",\"\",\"\",\"\""}]
[{"$f":"\"\"\" \"& 'BX Language acquisition'!A590 & \"\"\",\"\"\" & 'BX Language acquisition'!C590 & \"\"\",\"\"\" & 'BX Language acquisition'!B590 & \"\"\",\"\"\" & 'BX Language acquisition'!D590 & \"\"\"\"","v":"\" \",\"\",\"\",\"\""}]
[{"$f":"\"\"\" \"& 'BX Language acquisition'!A591 & \"\"\",\"\"\" & 'BX Language acquisition'!C591 & \"\"\",\"\"\" & 'BX Language acquisition'!B591 & \"\"\",\"\"\" & 'BX Language acquisition'!D591 & \"\"\"\"","v":"\" \",\"\",\"\",\"\""}]
[{"$f":"\"\"\" \"& 'BX Language acquisition'!A592 & \"\"\",\"\"\" & 'BX Language acquisition'!C592 & \"\"\",\"\"\" & 'BX Language acquisition'!B592 & \"\"\",\"\"\" & 'BX Language acquisition'!D592 & \"\"\"\"","v":"\" \",\"\",\"\",\"\""}]
[{"$f":"\"\"\" \"& 'BX Language acquisition'!A593 & \"\"\",\"\"\" & 'BX Language acquisition'!C593 & \"\"\",\"\"\" & 'BX Language acquisition'!B593 & \"\"\",\"\"\" & 'BX Language acquisition'!D593 & \"\"\"\"","v":"\" \",\"\",\"\",\"\""}]
[{"$f":"\"\"\" \"& 'BX Language acquisition'!A594 & \"\"\",\"\"\" & 'BX Language acquisition'!C594 & \"\"\",\"\"\" & 'BX Language acquisition'!B594 & \"\"\",\"\"\" & 'BX Language acquisition'!D594 & \"\"\"\"","v":"\" \",\"\",\"\",\"\""}]
[{"$f":"\"\"\" \"& 'BX Language acquisition'!A595 & \"\"\",\"\"\" & 'BX Language acquisition'!C595 & \"\"\",\"\"\" & 'BX Language acquisition'!B595 & \"\"\",\"\"\" & 'BX Language acquisition'!D595 & \"\"\"\"","v":"\" \",\"\",\"\",\"\""}]
[{"$f":"\"\"\" \"& 'BX Language acquisition'!A596 & \"\"\",\"\"\" & 'BX Language acquisition'!C596 & \"\"\",\"\"\" & 'BX Language acquisition'!B596 & \"\"\",\"\"\" & 'BX Language acquisition'!D596 & \"\"\"\"","v":"\" \",\"\",\"\",\"\""}]
[{"$f":"\"\"\" \"& 'BX Language acquisition'!A597 & \"\"\",\"\"\" & 'BX Language acquisition'!C597 & \"\"\",\"\"\" & 'BX Language acquisition'!B597 & \"\"\",\"\"\" & 'BX Language acquisition'!D597 & \"\"\"\"","v":"\" \",\"\",\"\",\"\""}]
[{"$f":"\"\"\" \"& 'BX Language acquisition'!A598 & \"\"\",\"\"\" & 'BX Language acquisition'!C598 & \"\"\",\"\"\" & 'BX Language acquisition'!B598 & \"\"\",\"\"\" & 'BX Language acquisition'!D598 & \"\"\"\"","v":"\" \",\"\",\"\",\"\""}]
[{"$f":"\"\"\" \"& 'BX Language acquisition'!A599 & \"\"\",\"\"\" & 'BX Language acquisition'!C599 & \"\"\",\"\"\" & 'BX Language acquisition'!B599 & \"\"\",\"\"\" & 'BX Language acquisition'!D599 & \"\"\"\"","v":"\" \",\"\",\"\",\"\""}]
[{"$f":"\"\"\" \"& 'BX Language acquisition'!A600 & \"\"\",\"\"\" & 'BX Language acquisition'!C600 & \"\"\",\"\"\" & 'BX Language acquisition'!B600 & \"\"\",\"\"\" & 'BX Language acquisition'!D600 & \"\"\"\"","v":"\" \",\"\",\"\",\"\""}]
[{"$f":"\"\"\" \"& 'BX Language acquisition'!A601 & \"\"\",\"\"\" & 'BX Language acquisition'!C601 & \"\"\",\"\"\" & 'BX Language acquisition'!B601 & \"\"\",\"\"\" & 'BX Language acquisition'!D601 & \"\"\"\"","v":"\" \",\"\",\"\",\"\""}]
[{"$f":"\"\"\" \"& 'BX Language acquisition'!A602 & \"\"\",\"\"\" & 'BX Language acquisition'!C602 & \"\"\",\"\"\" & 'BX Language acquisition'!B602 & \"\"\",\"\"\" & 'BX Language acquisition'!D602 & \"\"\"\"","v":"\" \",\"\",\"\",\"\""}]
[{"$f":"\"\"\" \"& 'BX Language acquisition'!A603 & \"\"\",\"\"\" & 'BX Language acquisition'!C603 & \"\"\",\"\"\" & 'BX Language acquisition'!B603 & \"\"\",\"\"\" & 'BX Language acquisition'!D603 & \"\"\"\"","v":"\" \",\"\",\"\",\"\""}]
[{"$f":"\"\"\" \"& 'BX Language acquisition'!A604 & \"\"\",\"\"\" & 'BX Language acquisition'!C604 & \"\"\",\"\"\" & 'BX Language acquisition'!B604 & \"\"\",\"\"\" & 'BX Language acquisition'!D604 & \"\"\"\"","v":"\" \",\"\",\"\",\"\""}]
[{"$f":"\"\"\" \"& 'BX Language acquisition'!A605 & \"\"\",\"\"\" & 'BX Language acquisition'!C605 & \"\"\",\"\"\" & 'BX Language acquisition'!B605 & \"\"\",\"\"\" & 'BX Language acquisition'!D605 & \"\"\"\"","v":"\" \",\"\",\"\",\"\""}]
[{"$f":"\"\"\" \"& 'BX Language acquisition'!A606 & \"\"\",\"\"\" & 'BX Language acquisition'!C606 & \"\"\",\"\"\" & 'BX Language acquisition'!B606 & \"\"\",\"\"\" & 'BX Language acquisition'!D606 & \"\"\"\"","v":"\" \",\"\",\"\",\"\""}]
[{"$f":"\"\"\" \"& 'BX Language acquisition'!A607 & \"\"\",\"\"\" & 'BX Language acquisition'!C607 & \"\"\",\"\"\" & 'BX Language acquisition'!B607 & \"\"\",\"\"\" & 'BX Language acquisition'!D607 & \"\"\"\"","v":"\" \",\"\",\"\",\"\""}]
[{"$f":"\"\"\" \"& 'BX Language acquisition'!A608 & \"\"\",\"\"\" & 'BX Language acquisition'!C608 & \"\"\",\"\"\" & 'BX Language acquisition'!B608 & \"\"\",\"\"\" & 'BX Language acquisition'!D608 & \"\"\"\"","v":"\" \",\"\",\"\",\"\""}]
[{"$f":"\"\"\" \"& 'BX Language acquisition'!A609 & \"\"\",\"\"\" & 'BX Language acquisition'!C609 & \"\"\",\"\"\" & 'BX Language acquisition'!B609 & \"\"\",\"\"\" & 'BX Language acquisition'!D609 & \"\"\"\"","v":"\" \",\"\",\"\",\"\""}]
[{"$f":"\"\"\" \"& 'BX Language acquisition'!A610 & \"\"\",\"\"\" & 'BX Language acquisition'!C610 & \"\"\",\"\"\" & 'BX Language acquisition'!B610 & \"\"\",\"\"\" & 'BX Language acquisition'!D610 & \"\"\"\"","v":"\" \",\"\",\"\",\"\""}]
[{"$f":"\"\"\" \"& 'BX Language acquisition'!A611 & \"\"\",\"\"\" & 'BX Language acquisition'!C611 & \"\"\",\"\"\" & 'BX Language acquisition'!B611 & \"\"\",\"\"\" & 'BX Language acquisition'!D611 & \"\"\"\"","v":"\" \",\"\",\"\",\"\""}]
[{"$f":"\"\"\" \"& 'BX Language acquisition'!A612 & \"\"\",\"\"\" & 'BX Language acquisition'!C612 & \"\"\",\"\"\" & 'BX Language acquisition'!B612 & \"\"\",\"\"\" & 'BX Language acquisition'!D612 & \"\"\"\"","v":"\" \",\"\",\"\",\"\""}]
[{"$f":"\"\"\" \"& 'BX Language acquisition'!A613 & \"\"\",\"\"\" & 'BX Language acquisition'!C613 & \"\"\",\"\"\" & 'BX Language acquisition'!B613 & \"\"\",\"\"\" & 'BX Language acquisition'!D613 & \"\"\"\"","v":"\" \",\"\",\"\",\"\""}]
[{"$f":"\"\"\" \"& 'BX Language acquisition'!A614 & \"\"\",\"\"\" & 'BX Language acquisition'!C614 & \"\"\",\"\"\" & 'BX Language acquisition'!B614 & \"\"\",\"\"\" & 'BX Language acquisition'!D614 & \"\"\"\"","v":"\" \",\"\",\"\",\"\""}]
[{"$f":"\"\"\" \"& 'BX Language acquisition'!A615 & \"\"\",\"\"\" & 'BX Language acquisition'!C615 & \"\"\",\"\"\" & 'BX Language acquisition'!B615 & \"\"\",\"\"\" & 'BX Language acquisition'!D615 & \"\"\"\"","v":"\" \",\"\",\"\",\"\""}]
[{"$f":"\"\"\" \"& 'BX Language acquisition'!A616 & \"\"\",\"\"\" & 'BX Language acquisition'!C616 & \"\"\",\"\"\" & 'BX Language acquisition'!B616 & \"\"\",\"\"\" & 'BX Language acquisition'!D616 & \"\"\"\"","v":"\" \",\"\",\"\",\"\""}]
[{"$f":"\"\"\" \"& 'BX Language acquisition'!A617 & \"\"\",\"\"\" & 'BX Language acquisition'!C617 & \"\"\",\"\"\" & 'BX Language acquisition'!B617 & \"\"\",\"\"\" & 'BX Language acquisition'!D617 & \"\"\"\"","v":"\" \",\"\",\"\",\"\""}]
[{"$f":"\"\"\" \"& 'BX Language acquisition'!A618 & \"\"\",\"\"\" & 'BX Language acquisition'!C618 & \"\"\",\"\"\" & 'BX Language acquisition'!B618 & \"\"\",\"\"\" & 'BX Language acquisition'!D618 & \"\"\"\"","v":"\" \",\"\",\"\",\"\""}]
[{"$f":"\"\"\" \"& 'BX Language acquisition'!A619 & \"\"\",\"\"\" & 'BX Language acquisition'!C619 & \"\"\",\"\"\" & 'BX Language acquisition'!B619 & \"\"\",\"\"\" & 'BX Language acquisition'!D619 & \"\"\"\"","v":"\" \",\"\",\"\",\"\""}]
[{"$f":"\"\"\" \"& 'BX Language acquisition'!A620 & \"\"\",\"\"\" & 'BX Language acquisition'!C620 & \"\"\",\"\"\" & 'BX Language acquisition'!B620 & \"\"\",\"\"\" & 'BX Language acquisition'!D620 & \"\"\"\"","v":"\" \",\"\",\"\",\"\""}]
[{"$f":"\"\"\" \"& 'BX Language acquisition'!A621 & \"\"\",\"\"\" & 'BX Language acquisition'!C621 & \"\"\",\"\"\" & 'BX Language acquisition'!B621 & \"\"\",\"\"\" & 'BX Language acquisition'!D621 & \"\"\"\"","v":"\" \",\"\",\"\",\"\""}]
[{"$f":"\"\"\" \"& 'BX Language acquisition'!A622 & \"\"\",\"\"\" & 'BX Language acquisition'!C622 & \"\"\",\"\"\" & 'BX Language acquisition'!B622 & \"\"\",\"\"\" & 'BX Language acquisition'!D622 & \"\"\"\"","v":"\" \",\"\",\"\",\"\""}]
[{"$f":"\"\"\" \"& 'BX Language acquisition'!A623 & \"\"\",\"\"\" & 'BX Language acquisition'!C623 & \"\"\",\"\"\" & 'BX Language acquisition'!B623 & \"\"\",\"\"\" & 'BX Language acquisition'!D623 & \"\"\"\"","v":"\" \",\"\",\"\",\"\""}]
[{"$f":"\"\"\" \"& 'BX Language acquisition'!A624 & \"\"\",\"\"\" & 'BX Language acquisition'!C624 & \"\"\",\"\"\" & 'BX Language acquisition'!B624 & \"\"\",\"\"\" & 'BX Language acquisition'!D624 & \"\"\"\"","v":"\" \",\"\",\"\",\"\""}]
[{"$f":"\"\"\" \"& 'BX Language acquisition'!A625 & \"\"\",\"\"\" & 'BX Language acquisition'!C625 & \"\"\",\"\"\" & 'BX Language acquisition'!B625 & \"\"\",\"\"\" & 'BX Language acquisition'!D625 & \"\"\"\"","v":"\" \",\"\",\"\",\"\""}]
[{"$f":"\"\"\" \"& 'BX Language acquisition'!A626 & \"\"\",\"\"\" & 'BX Language acquisition'!C626 & \"\"\",\"\"\" & 'BX Language acquisition'!B626 & \"\"\",\"\"\" & 'BX Language acquisition'!D626 & \"\"\"\"","v":"\" \",\"\",\"\",\"\""}]
[{"$f":"\"\"\" \"& 'BX Language acquisition'!A627 & \"\"\",\"\"\" & 'BX Language acquisition'!C627 & \"\"\",\"\"\" & 'BX Language acquisition'!B627 & \"\"\",\"\"\" & 'BX Language acquisition'!D627 & \"\"\"\"","v":"\" \",\"\",\"\",\"\""}]
[{"$f":"\"\"\" \"& 'BX Language acquisition'!A628 & \"\"\",\"\"\" & 'BX Language acquisition'!C628 & \"\"\",\"\"\" & 'BX Language acquisition'!B628 & \"\"\",\"\"\" & 'BX Language acquisition'!D628 & \"\"\"\"","v":"\" \",\"\",\"\",\"\""}]
[{"$f":"\"\"\" \"& 'BX Language acquisition'!A629 & \"\"\",\"\"\" & 'BX Language acquisition'!C629 & \"\"\",\"\"\" & 'BX Language acquisition'!B629 & \"\"\",\"\"\" & 'BX Language acquisition'!D629 & \"\"\"\"","v":"\" \",\"\",\"\",\"\""}]
[{"$f":"\"\"\" \"& 'BX Language acquisition'!A630 & \"\"\",\"\"\" & 'BX Language acquisition'!C630 & \"\"\",\"\"\" & 'BX Language acquisition'!B630 & \"\"\",\"\"\" & 'BX Language acquisition'!D630 & \"\"\"\"","v":"\" \",\"\",\"\",\"\""}]
[{"$f":"\"\"\" \"& 'BX Language acquisition'!A631 & \"\"\",\"\"\" & 'BX Language acquisition'!C631 & \"\"\",\"\"\" & 'BX Language acquisition'!B631 & \"\"\",\"\"\" & 'BX Language acquisition'!D631 & \"\"\"\"","v":"\" \",\"\",\"\",\"\""}]
[{"$f":"\"\"\" \"& 'BX Language acquisition'!A632 & \"\"\",\"\"\" & 'BX Language acquisition'!C632 & \"\"\",\"\"\" & 'BX Language acquisition'!B632 & \"\"\",\"\"\" & 'BX Language acquisition'!D632 & \"\"\"\"","v":"\" \",\"\",\"\",\"\""}]
[{"$f":"\"\"\" \"& 'BX Language acquisition'!A633 & \"\"\",\"\"\" & 'BX Language acquisition'!C633 & \"\"\",\"\"\" & 'BX Language acquisition'!B633 & \"\"\",\"\"\" & 'BX Language acquisition'!D633 & \"\"\"\"","v":"\" \",\"\",\"\",\"\""}]
[{"$f":"\"\"\" \"& 'BX Language acquisition'!A634 & \"\"\",\"\"\" & 'BX Language acquisition'!C634 & \"\"\",\"\"\" & 'BX Language acquisition'!B634 & \"\"\",\"\"\" & 'BX Language acquisition'!D634 & \"\"\"\"","v":"\" \",\"\",\"\",\"\""}]
[{"$f":"\"\"\" \"& 'BX Language acquisition'!A635 & \"\"\",\"\"\" & 'BX Language acquisition'!C635 & \"\"\",\"\"\" & 'BX Language acquisition'!B635 & \"\"\",\"\"\" & 'BX Language acquisition'!D635 & \"\"\"\"","v":"\" \",\"\",\"\",\"\""}]
[{"$f":"\"\"\" \"& 'BX Language acquisition'!A636 & \"\"\",\"\"\" & 'BX Language acquisition'!C636 & \"\"\",\"\"\" & 'BX Language acquisition'!B636 & \"\"\",\"\"\" & 'BX Language acquisition'!D636 & \"\"\"\"","v":"\" \",\"\",\"\",\"\""}]
[{"$f":"\"\"\" \"& 'BX Language acquisition'!A637 & \"\"\",\"\"\" & 'BX Language acquisition'!C637 & \"\"\",\"\"\" & 'BX Language acquisition'!B637 & \"\"\",\"\"\" & 'BX Language acquisition'!D637 & \"\"\"\"","v":"\" \",\"\",\"\",\"\""}]
[{"$f":"\"\"\" \"& 'BX Language acquisition'!A638 & \"\"\",\"\"\" & 'BX Language acquisition'!C638 & \"\"\",\"\"\" & 'BX Language acquisition'!B638 & \"\"\",\"\"\" & 'BX Language acquisition'!D638 & \"\"\"\"","v":"\" \",\"\",\"\",\"\""}]
[{"$f":"\"\"\" \"& 'BX Language acquisition'!A639 & \"\"\",\"\"\" & 'BX Language acquisition'!C639 & \"\"\",\"\"\" & 'BX Language acquisition'!B639 & \"\"\",\"\"\" & 'BX Language acquisition'!D639 & \"\"\"\"","v":"\" \",\"\",\"\",\"\""}]
[{"$f":"\"\"\" \"& 'BX Language acquisition'!A640 & \"\"\",\"\"\" & 'BX Language acquisition'!C640 & \"\"\",\"\"\" & 'BX Language acquisition'!B640 & \"\"\",\"\"\" & 'BX Language acquisition'!D640 & \"\"\"\"","v":"\" \",\"\",\"\",\"\""}]
[{"$f":"\"\"\" \"& 'BX Language acquisition'!A641 & \"\"\",\"\"\" & 'BX Language acquisition'!C641 & \"\"\",\"\"\" & 'BX Language acquisition'!B641 & \"\"\",\"\"\" & 'BX Language acquisition'!D641 & \"\"\"\"","v":"\" \",\"\",\"\",\"\""}]
[{"$f":"\"\"\" \"& 'BX Language acquisition'!A642 & \"\"\",\"\"\" & 'BX Language acquisition'!C642 & \"\"\",\"\"\" & 'BX Language acquisition'!B642 & \"\"\",\"\"\" & 'BX Language acquisition'!D642 & \"\"\"\"","v":"\" \",\"\",\"\",\"\""}]
[{"$f":"\"\"\" \"& 'BX Language acquisition'!A643 & \"\"\",\"\"\" & 'BX Language acquisition'!C643 & \"\"\",\"\"\" & 'BX Language acquisition'!B643 & \"\"\",\"\"\" & 'BX Language acquisition'!D643 & \"\"\"\"","v":"\" \",\"\",\"\",\"\""}]
[{"$f":"\"\"\" \"& 'BX Language acquisition'!A644 & \"\"\",\"\"\" & 'BX Language acquisition'!C644 & \"\"\",\"\"\" & 'BX Language acquisition'!B644 & \"\"\",\"\"\" & 'BX Language acquisition'!D644 & \"\"\"\"","v":"\" \",\"\",\"\",\"\""}]
[{"$f":"\"\"\" \"& 'BX Language acquisition'!A645 & \"\"\",\"\"\" & 'BX Language acquisition'!C645 & \"\"\",\"\"\" & 'BX Language acquisition'!B645 & \"\"\",\"\"\" & 'BX Language acquisition'!D645 & \"\"\"\"","v":"\" \",\"\",\"\",\"\""}]
[{"$f":"\"\"\" \"& 'BX Language acquisition'!A646 & \"\"\",\"\"\" & 'BX Language acquisition'!C646 & \"\"\",\"\"\" & 'BX Language acquisition'!B646 & \"\"\",\"\"\" & 'BX Language acquisition'!D646 & \"\"\"\"","v":"\" \",\"\",\"\",\"\""}]
[{"$f":"\"\"\" \"& 'BX Language acquisition'!A647 & \"\"\",\"\"\" & 'BX Language acquisition'!C647 & \"\"\",\"\"\" & 'BX Language acquisition'!B647 & \"\"\",\"\"\" & 'BX Language acquisition'!D647 & \"\"\"\"","v":"\" \",\"\",\"\",\"\""}]
[{"$f":"\"\"\" \"& 'BX Language acquisition'!A648 & \"\"\",\"\"\" & 'BX Language acquisition'!C648 & \"\"\",\"\"\" & 'BX Language acquisition'!B648 & \"\"\",\"\"\" & 'BX Language acquisition'!D648 & \"\"\"\"","v":"\" \",\"\",\"\",\"\""}]
[{"$f":"\"\"\" \"& 'BX Language acquisition'!A649 & \"\"\",\"\"\" & 'BX Language acquisition'!C649 & \"\"\",\"\"\" & 'BX Language acquisition'!B649 & \"\"\",\"\"\" & 'BX Language acquisition'!D649 & \"\"\"\"","v":"\" \",\"\",\"\",\"\""}]
[{"$f":"\"\"\" \"& 'BX Language acquisition'!A650 & \"\"\",\"\"\" & 'BX Language acquisition'!C650 & \"\"\",\"\"\" & 'BX Language acquisition'!B650 & \"\"\",\"\"\" & 'BX Language acquisition'!D650 & \"\"\"\"","v":"\" \",\"\",\"\",\"\""}]
[{"$f":"\"\"\" \"& 'BX Language acquisition'!A651 & \"\"\",\"\"\" & 'BX Language acquisition'!C651 & \"\"\",\"\"\" & 'BX Language acquisition'!B651 & \"\"\",\"\"\" & 'BX Language acquisition'!D651 & \"\"\"\"","v":"\" \",\"\",\"\",\"\""}]
[{"$f":"\"\"\" \"& 'BX Language acquisition'!A652 & \"\"\",\"\"\" & 'BX Language acquisition'!C652 & \"\"\",\"\"\" & 'BX Language acquisition'!B652 & \"\"\",\"\"\" & 'BX Language acquisition'!D652 & \"\"\"\"","v":"\" \",\"\",\"\",\"\""}]
[{"$f":"\"\"\" \"& 'BX Language acquisition'!A653 & \"\"\",\"\"\" & 'BX Language acquisition'!C653 & \"\"\",\"\"\" & 'BX Language acquisition'!B653 & \"\"\",\"\"\" & 'BX Language acquisition'!D653 & \"\"\"\"","v":"\" \",\"\",\"\",\"\""}]
[{"$f":"\"\"\" \"& 'BX Language acquisition'!A654 & \"\"\",\"\"\" & 'BX Language acquisition'!C654 & \"\"\",\"\"\" & 'BX Language acquisition'!B654 & \"\"\",\"\"\" & 'BX Language acquisition'!D654 & \"\"\"\"","v":"\" \",\"\",\"\",\"\""}]
[{"$f":"\"\"\" \"& 'BX Language acquisition'!A655 & \"\"\",\"\"\" & 'BX Language acquisition'!C655 & \"\"\",\"\"\" & 'BX Language acquisition'!B655 & \"\"\",\"\"\" & 'BX Language acquisition'!D655 & \"\"\"\"","v":"\" \",\"\",\"\",\"\""}]
[{"$f":"\"\"\" \"& 'BX Language acquisition'!A656 & \"\"\",\"\"\" & 'BX Language acquisition'!C656 & \"\"\",\"\"\" & 'BX Language acquisition'!B656 & \"\"\",\"\"\" & 'BX Language acquisition'!D656 & \"\"\"\"","v":"\" \",\"\",\"\",\"\""}]
[{"$f":"\"\"\" \"& 'BX Language acquisition'!A657 & \"\"\",\"\"\" & 'BX Language acquisition'!C657 & \"\"\",\"\"\" & 'BX Language acquisition'!B657 & \"\"\",\"\"\" & 'BX Language acquisition'!D657 & \"\"\"\"","v":"\" \",\"\",\"\",\"\""}]
[{"$f":"\"\"\" \"& 'BX Language acquisition'!A658 & \"\"\",\"\"\" & 'BX Language acquisition'!C658 & \"\"\",\"\"\" & 'BX Language acquisition'!B658 & \"\"\",\"\"\" & 'BX Language acquisition'!D658 & \"\"\"\"","v":"\" \",\"\",\"\",\"\""}]
[{"$f":"\"\"\" \"& 'BX Language acquisition'!A659 & \"\"\",\"\"\" & 'BX Language acquisition'!C659 & \"\"\",\"\"\" & 'BX Language acquisition'!B659 & \"\"\",\"\"\" & 'BX Language acquisition'!D659 & \"\"\"\"","v":"\" \",\"\",\"\",\"\""}]
[{"$f":"\"\"\" \"& 'BX Language acquisition'!A660 & \"\"\",\"\"\" & 'BX Language acquisition'!C660 & \"\"\",\"\"\" & 'BX Language acquisition'!B660 & \"\"\",\"\"\" & 'BX Language acquisition'!D660 & \"\"\"\"","v":"\" \",\"\",\"\",\"\""}]
[{"$f":"\"\"\" \"& 'BX Language acquisition'!A661 & \"\"\",\"\"\" & 'BX Language acquisition'!C661 & \"\"\",\"\"\" & 'BX Language acquisition'!B661 & \"\"\",\"\"\" & 'BX Language acquisition'!D661 & \"\"\"\"","v":"\" \",\"\",\"\",\"\""}]
[{"$f":"\"\"\" \"& 'BX Language acquisition'!A662 & \"\"\",\"\"\" & 'BX Language acquisition'!C662 & \"\"\",\"\"\" & 'BX Language acquisition'!B662 & \"\"\",\"\"\" & 'BX Language acquisition'!D662 & \"\"\"\"","v":"\" \",\"\",\"\",\"\""}]
[{"$f":"\"\"\" \"& 'BX Language acquisition'!A663 & \"\"\",\"\"\" & 'BX Language acquisition'!C663 & \"\"\",\"\"\" & 'BX Language acquisition'!B663 & \"\"\",\"\"\" & 'BX Language acquisition'!D663 & \"\"\"\"","v":"\" \",\"\",\"\",\"\""}]
[{"$f":"\"\"\" \"& 'BX Language acquisition'!A664 & \"\"\",\"\"\" & 'BX Language acquisition'!C664 & \"\"\",\"\"\" & 'BX Language acquisition'!B664 & \"\"\",\"\"\" & 'BX Language acquisition'!D664 & \"\"\"\"","v":"\" \",\"\",\"\",\"\""}]
[{"$f":"\"\"\" \"& 'BX Language acquisition'!A665 & \"\"\",\"\"\" & 'BX Language acquisition'!C665 & \"\"\",\"\"\" & 'BX Language acquisition'!B665 & \"\"\",\"\"\" & 'BX Language acquisition'!D665 & \"\"\"\"","v":"\" \",\"\",\"\",\"\""}]
[{"$f":"\"\"\" \"& 'BX Language acquisition'!A666 & \"\"\",\"\"\" & 'BX Language acquisition'!C666 & \"\"\",\"\"\" & 'BX Language acquisition'!B666 & \"\"\",\"\"\" & 'BX Language acquisition'!D666 & \"\"\"\"","v":"\" \",\"\",\"\",\"\""}]
[{"$f":"\"\"\" \"& 'BX Language acquisition'!A667 & \"\"\",\"\"\" & 'BX Language acquisition'!C667 & \"\"\",\"\"\" & 'BX Language acquisition'!B667 & \"\"\",\"\"\" & 'BX Language acquisition'!D667 & \"\"\"\"","v":"\" \",\"\",\"\",\"\""}]
[{"$f":"\"\"\" \"& 'BX Language acquisition'!A668 & \"\"\",\"\"\" & 'BX Language acquisition'!C668 & \"\"\",\"\"\" & 'BX Language acquisition'!B668 & \"\"\",\"\"\" & 'BX Language acquisition'!D668 & \"\"\"\"","v":"\" \",\"\",\"\",\"\""}]
[{"$f":"\"\"\" \"& 'BX Language acquisition'!A669 & \"\"\",\"\"\" & 'BX Language acquisition'!C669 & \"\"\",\"\"\" & 'BX Language acquisition'!B669 & \"\"\",\"\"\" & 'BX Language acquisition'!D669 & \"\"\"\"","v":"\" \",\"\",\"\",\"\""}]
[{"$f":"\"\"\" \"& 'BX Language acquisition'!A670 & \"\"\",\"\"\" & 'BX Language acquisition'!C670 & \"\"\",\"\"\" & 'BX Language acquisition'!B670 & \"\"\",\"\"\" & 'BX Language acquisition'!D670 & \"\"\"\"","v":"\" \",\"\",\"\",\"\""}]
[{"$f":"\"\"\" \"& 'BX Language acquisition'!A671 & \"\"\",\"\"\" & 'BX Language acquisition'!C671 & \"\"\",\"\"\" & 'BX Language acquisition'!B671 & \"\"\",\"\"\" & 'BX Language acquisition'!D671 & \"\"\"\"","v":"\" \",\"\",\"\",\"\""}]
[{"$f":"\"\"\" \"& 'BX Language acquisition'!A672 & \"\"\",\"\"\" & 'BX Language acquisition'!C672 & \"\"\",\"\"\" & 'BX Language acquisition'!B672 & \"\"\",\"\"\" & 'BX Language acquisition'!D672 & \"\"\"\"","v":"\" \",\"\",\"\",\"\""}]
[{"$f":"\"\"\" \"& 'BX Language acquisition'!A673 & \"\"\",\"\"\" & 'BX Language acquisition'!C673 & \"\"\",\"\"\" & 'BX Language acquisition'!B673 & \"\"\",\"\"\" & 'BX Language acquisition'!D673 & \"\"\"\"","v":"\" \",\"\",\"\",\"\""}]
[{"$f":"\"\"\" \"& 'BX Language acquisition'!A674 & \"\"\",\"\"\" & 'BX Language acquisition'!C674 & \"\"\",\"\"\" & 'BX Language acquisition'!B674 & \"\"\",\"\"\" & 'BX Language acquisition'!D674 & \"\"\"\"","v":"\" \",\"\",\"\",\"\""}]
[{"$f":"\"\"\" \"& 'BX Language acquisition'!A675 & \"\"\",\"\"\" & 'BX Language acquisition'!C675 & \"\"\",\"\"\" & 'BX Language acquisition'!B675 & \"\"\",\"\"\" & 'BX Language acquisition'!D675 & \"\"\"\"","v":"\" \",\"\",\"\",\"\""}]
[{"$f":"\"\"\" \"& 'BX Language acquisition'!A676 & \"\"\",\"\"\" & 'BX Language acquisition'!C676 & \"\"\",\"\"\" & 'BX Language acquisition'!B676 & \"\"\",\"\"\" & 'BX Language acquisition'!D676 & \"\"\"\"","v":"\" \",\"\",\"\",\"\""}]
[{"$f":"\"\"\" \"& 'BX Language acquisition'!A677 & \"\"\",\"\"\" & 'BX Language acquisition'!C677 & \"\"\",\"\"\" & 'BX Language acquisition'!B677 & \"\"\",\"\"\" & 'BX Language acquisition'!D677 & \"\"\"\"","v":"\" \",\"\",\"\",\"\""}]
[{"$f":"\"\"\" \"& 'BX Language acquisition'!A678 & \"\"\",\"\"\" & 'BX Language acquisition'!C678 & \"\"\",\"\"\" & 'BX Language acquisition'!B678 & \"\"\",\"\"\" & 'BX Language acquisition'!D678 & \"\"\"\"","v":"\" \",\"\",\"\",\"\""}]
[{"$f":"\"\"\" \"& 'BX Language acquisition'!A679 & \"\"\",\"\"\" & 'BX Language acquisition'!C679 & \"\"\",\"\"\" & 'BX Language acquisition'!B679 & \"\"\",\"\"\" & 'BX Language acquisition'!D679 & \"\"\"\"","v":"\" \",\"\",\"\",\"\""}]
[{"$f":"\"\"\" \"& 'BX Language acquisition'!A680 & \"\"\",\"\"\" & 'BX Language acquisition'!C680 & \"\"\",\"\"\" & 'BX Language acquisition'!B680 & \"\"\",\"\"\" & 'BX Language acquisition'!D680 & \"\"\"\"","v":"\" \",\"\",\"\",\"\""}]
[{"$f":"\"\"\" \"& 'BX Language acquisition'!A681 & \"\"\",\"\"\" & 'BX Language acquisition'!C681 & \"\"\",\"\"\" & 'BX Language acquisition'!B681 & \"\"\",\"\"\" & 'BX Language acquisition'!D681 & \"\"\"\"","v":"\" \",\"\",\"\",\"\""}]
[{"$f":"\"\"\" \"& 'BX Language acquisition'!A682 & \"\"\",\"\"\" & 'BX Language acquisition'!C682 & \"\"\",\"\"\" & 'BX Language acquisition'!B682 & \"\"\",\"\"\" & 'BX Language acquisition'!D682 & \"\"\"\"","v":"\" \",\"\",\"\",\"\""}]
[{"$f":"\"\"\" \"& 'BX Language acquisition'!A683 & \"\"\",\"\"\" & 'BX Language acquisition'!C683 & \"\"\",\"\"\" & 'BX Language acquisition'!B683 & \"\"\",\"\"\" & 'BX Language acquisition'!D683 & \"\"\"\"","v":"\" \",\"\",\"\",\"\""}]
[{"$f":"\"\"\" \"& 'BX Language acquisition'!A684 & \"\"\",\"\"\" & 'BX Language acquisition'!C684 & \"\"\",\"\"\" & 'BX Language acquisition'!B684 & \"\"\",\"\"\" & 'BX Language acquisition'!D684 & \"\"\"\"","v":"\" \",\"\",\"\",\"\""}]
[{"$f":"\"\"\" \"& 'BX Language acquisition'!A685 & \"\"\",\"\"\" & 'BX Language acquisition'!C685 & \"\"\",\"\"\" & 'BX Language acquisition'!B685 & \"\"\",\"\"\" & 'BX Language acquisition'!D685 & \"\"\"\"","v":"\" \",\"\",\"\",\"\""}]
[{"$f":"\"\"\" \"& 'BX Language acquisition'!A686 & \"\"\",\"\"\" & 'BX Language acquisition'!C686 & \"\"\",\"\"\" & 'BX Language acquisition'!B686 & \"\"\",\"\"\" & 'BX Language acquisition'!D686 & \"\"\"\"","v":"\" \",\"\",\"\",\"\""}]
[{"$f":"\"\"\" \"& 'BX Language acquisition'!A687 & \"\"\",\"\"\" & 'BX Language acquisition'!C687 & \"\"\",\"\"\" & 'BX Language acquisition'!B687 & \"\"\",\"\"\" & 'BX Language acquisition'!D687 & \"\"\"\"","v":"\" \",\"\",\"\",\"\""}]
[{"$f":"\"\"\" \"& 'BX Language acquisition'!A688 & \"\"\",\"\"\" & 'BX Language acquisition'!C688 & \"\"\",\"\"\" & 'BX Language acquisition'!B688 & \"\"\",\"\"\" & 'BX Language acquisition'!D688 & \"\"\"\"","v":"\" \",\"\",\"\",\"\""}]
[{"$f":"\"\"\" \"& 'BX Language acquisition'!A689 & \"\"\",\"\"\" & 'BX Language acquisition'!C689 & \"\"\",\"\"\" & 'BX Language acquisition'!B689 & \"\"\",\"\"\" & 'BX Language acquisition'!D689 & \"\"\"\"","v":"\" \",\"\",\"\",\"\""}]
[{"$f":"\"\"\" \"& 'BX Language acquisition'!A690 & \"\"\",\"\"\" & 'BX Language acquisition'!C690 & \"\"\",\"\"\" & 'BX Language acquisition'!B690 & \"\"\",\"\"\" & 'BX Language acquisition'!D690 & \"\"\"\"","v":"\" \",\"\",\"\",\"\""}]
[{"$f":"\"\"\" \"& 'BX Language acquisition'!A691 & \"\"\",\"\"\" & 'BX Language acquisition'!C691 & \"\"\",\"\"\" & 'BX Language acquisition'!B691 & \"\"\",\"\"\" & 'BX Language acquisition'!D691 & \"\"\"\"","v":"\" \",\"\",\"\",\"\""}]
[{"$f":"\"\"\" \"& 'BX Language acquisition'!A692 & \"\"\",\"\"\" & 'BX Language acquisition'!C692 & \"\"\",\"\"\" & 'BX Language acquisition'!B692 & \"\"\",\"\"\" & 'BX Language acquisition'!D692 & \"\"\"\"","v":"\" \",\"\",\"\",\"\""}]
[{"$f":"\"\"\" \"& 'BX Language acquisition'!A693 & \"\"\",\"\"\" & 'BX Language acquisition'!C693 & \"\"\",\"\"\" & 'BX Language acquisition'!B693 & \"\"\",\"\"\" & 'BX Language acquisition'!D693 & \"\"\"\"","v":"\" \",\"\",\"\",\"\""}]
[{"$f":"\"\"\" \"& 'BX Language acquisition'!A694 & \"\"\",\"\"\" & 'BX Language acquisition'!C694 & \"\"\",\"\"\" & 'BX Language acquisition'!B694 & \"\"\",\"\"\" & 'BX Language acquisition'!D694 & \"\"\"\"","v":"\" \",\"\",\"\",\"\""}]
[{"$f":"\"\"\" \"& 'BX Language acquisition'!A695 & \"\"\",\"\"\" & 'BX Language acquisition'!C695 & \"\"\",\"\"\" & 'BX Language acquisition'!B695 & \"\"\",\"\"\" & 'BX Language acquisition'!D695 & \"\"\"\"","v":"\" \",\"\",\"\",\"\""}]
[{"$f":"\"\"\" \"& 'BX Language acquisition'!A696 & \"\"\",\"\"\" & 'BX Language acquisition'!C696 & \"\"\",\"\"\" & 'BX Language acquisition'!B696 & \"\"\",\"\"\" & 'BX Language acquisition'!D696 & \"\"\"\"","v":"\" \",\"\",\"\",\"\""}]
[{"$f":"\"\"\" \"& 'BX Language acquisition'!A697 & \"\"\",\"\"\" & 'BX Language acquisition'!C697 & \"\"\",\"\"\" & 'BX Language acquisition'!B697 & \"\"\",\"\"\" & 'BX Language acquisition'!D697 & \"\"\"\"","v":"\" \",\"\",\"\",\"\""}]
[{"$f":"\"\"\" \"& 'BX Language acquisition'!A698 & \"\"\",\"\"\" & 'BX Language acquisition'!C698 & \"\"\",\"\"\" & 'BX Language acquisition'!B698 & \"\"\",\"\"\" & 'BX Language acquisition'!D698 & \"\"\"\"","v":"\" \",\"\",\"\",\"\""}]
[{"$f":"\"\"\" \"& 'BX Language acquisition'!A699 & \"\"\",\"\"\" & 'BX Language acquisition'!C699 & \"\"\",\"\"\" & 'BX Language acquisition'!B699 & \"\"\",\"\"\" & 'BX Language acquisition'!D699 & \"\"\"\"","v":"\" \",\"\",\"\",\"\""}]
[{"$f":"\"\"\" \"& 'BX Language acquisition'!A700 & \"\"\",\"\"\" & 'BX Language acquisition'!C700 & \"\"\",\"\"\" & 'BX Language acquisition'!B700 & \"\"\",\"\"\" & 'BX Language acquisition'!D700 & \"\"\"\"","v":"\" \",\"\",\"\",\"\""}]
[{"$f":"\"\"\" \"& 'BX Language acquisition'!A701 & \"\"\",\"\"\" & 'BX Language acquisition'!C701 & \"\"\",\"\"\" & 'BX Language acquisition'!B701 & \"\"\",\"\"\" & 'BX Language acquisition'!D701 & \"\"\"\"","v":"\" \",\"\",\"\",\"\""}]
[{"$f":"\"\"\" \"& 'BX Language acquisition'!A702 & \"\"\",\"\"\" & 'BX Language acquisition'!C702 & \"\"\",\"\"\" & 'BX Language acquisition'!B702 & \"\"\",\"\"\" & 'BX Language acquisition'!D702 & \"\"\"\"","v":"\" \",\"\",\"\",\"\""}]
[{"$f":"\"\"\" \"& 'BX Language acquisition'!A703 & \"\"\",\"\"\" & 'BX Language acquisition'!C703 & \"\"\",\"\"\" & 'BX Language acquisition'!B703 & \"\"\",\"\"\" & 'BX Language acquisition'!D703 & \"\"\"\"","v":"\" \",\"\",\"\",\"\""}]
[{"$f":"\"\"\" \"& 'BX Language acquisition'!A704 & \"\"\",\"\"\" & 'BX Language acquisition'!C704 & \"\"\",\"\"\" & 'BX Language acquisition'!B704 & \"\"\",\"\"\" & 'BX Language acquisition'!D704 & \"\"\"\"","v":"\" \",\"\",\"\",\"\""}]
[{"$f":"\"\"\" \"& 'BX Language acquisition'!A705 & \"\"\",\"\"\" & 'BX Language acquisition'!C705 & \"\"\",\"\"\" & 'BX Language acquisition'!B705 & \"\"\",\"\"\" & 'BX Language acquisition'!D705 & \"\"\"\"","v":"\" \",\"\",\"\",\"\""}]
[{"$f":"\"\"\" \"& 'BX Language acquisition'!A706 & \"\"\",\"\"\" & 'BX Language acquisition'!C706 & \"\"\",\"\"\" & 'BX Language acquisition'!B706 & \"\"\",\"\"\" & 'BX Language acquisition'!D706 & \"\"\"\"","v":"\" \",\"\",\"\",\"\""}]
[{"$f":"\"\"\" \"& 'BX Language acquisition'!A707 & \"\"\",\"\"\" & 'BX Language acquisition'!C707 & \"\"\",\"\"\" & 'BX Language acquisition'!B707 & \"\"\",\"\"\" & 'BX Language acquisition'!D707 & \"\"\"\"","v":"\" \",\"\",\"\",\"\""}]
[{"$f":"\"\"\" \"& 'BX Language acquisition'!A708 & \"\"\",\"\"\" & 'BX Language acquisition'!C708 & \"\"\",\"\"\" & 'BX Language acquisition'!B708 & \"\"\",\"\"\" & 'BX Language acquisition'!D708 & \"\"\"\"","v":"\" \",\"\",\"\",\"\""}]
[{"$f":"\"\"\" \"& 'BX Language acquisition'!A709 & \"\"\",\"\"\" & 'BX Language acquisition'!C709 & \"\"\",\"\"\" & 'BX Language acquisition'!B709 & \"\"\",\"\"\" & 'BX Language acquisition'!D709 & \"\"\"\"","v":"\" \",\"\",\"\",\"\""}]
[{"$f":"\"\"\" \"& 'BX Language acquisition'!A710 & \"\"\",\"\"\" & 'BX Language acquisition'!C710 & \"\"\",\"\"\" & 'BX Language acquisition'!B710 & \"\"\",\"\"\" & 'BX Language acquisition'!D710 & \"\"\"\"","v":"\" \",\"\",\"\",\"\""}]
[{"$f":"\"\"\" \"& 'BX Language acquisition'!A711 & \"\"\",\"\"\" & 'BX Language acquisition'!C711 & \"\"\",\"\"\" & 'BX Language acquisition'!B711 & \"\"\",\"\"\" & 'BX Language acquisition'!D711 & \"\"\"\"","v":"\" \",\"\",\"\",\"\""}]
[{"$f":"\"\"\" \"& 'BX Language acquisition'!A712 & \"\"\",\"\"\" & 'BX Language acquisition'!C712 & \"\"\",\"\"\" & 'BX Language acquisition'!B712 & \"\"\",\"\"\" & 'BX Language acquisition'!D712 & \"\"\"\"","v":"\" \",\"\",\"\",\"\""}]
[{"$f":"\"\"\" \"& 'BX Language acquisition'!A713 & \"\"\",\"\"\" & 'BX Language acquisition'!C713 & \"\"\",\"\"\" & 'BX Language acquisition'!B713 & \"\"\",\"\"\" & 'BX Language acquisition'!D713 & \"\"\"\"","v":"\" \",\"\",\"\",\"\""}]
[{"$f":"\"\"\" \"& 'BX Language acquisition'!A714 & \"\"\",\"\"\" & 'BX Language acquisition'!C714 & \"\"\",\"\"\" & 'BX Language acquisition'!B714 & \"\"\",\"\"\" & 'BX Language acquisition'!D714 & \"\"\"\"","v":"\" \",\"\",\"\",\"\""}]
[{"$f":"\"\"\" \"& 'BX Language acquisition'!A715 & \"\"\",\"\"\" & 'BX Language acquisition'!C715 & \"\"\",\"\"\" & 'BX Language acquisition'!B715 & \"\"\",\"\"\" & 'BX Language acquisition'!D715 & \"\"\"\"","v":"\" \",\"\",\"\",\"\""}]
[{"$f":"\"\"\" \"& 'BX Language acquisition'!A716 & \"\"\",\"\"\" & 'BX Language acquisition'!C716 & \"\"\",\"\"\" & 'BX Language acquisition'!B716 & \"\"\",\"\"\" & 'BX Language acquisition'!D716 & \"\"\"\"","v":"\" \",\"\",\"\",\"\""}]
[{"$f":"\"\"\" \"& 'BX Language acquisition'!A717 & \"\"\",\"\"\" & 'BX Language acquisition'!C717 & \"\"\",\"\"\" & 'BX Language acquisition'!B717 & \"\"\",\"\"\" & 'BX Language acquisition'!D717 & \"\"\"\"","v":"\" \",\"\",\"\",\"\""}]
[{"$f":"\"\"\" \"& 'BX Language acquisition'!A718 & \"\"\",\"\"\" & 'BX Language acquisition'!C718 & \"\"\",\"\"\" & 'BX Language acquisition'!B718 & \"\"\",\"\"\" & 'BX Language acquisition'!D718 & \"\"\"\"","v":"\" \",\"\",\"\",\"\""}]
[{"$f":"\"\"\" \"& 'BX Language acquisition'!A719 & \"\"\",\"\"\" & 'BX Language acquisition'!C719 & \"\"\",\"\"\" & 'BX Language acquisition'!B719 & \"\"\",\"\"\" & 'BX Language acquisition'!D719 & \"\"\"\"","v":"\" \",\"\",\"\",\"\""}]
[{"$f":"\"\"\" \"& 'BX Language acquisition'!A720 & \"\"\",\"\"\" & 'BX Language acquisition'!C720 & \"\"\",\"\"\" & 'BX Language acquisition'!B720 & \"\"\",\"\"\" & 'BX Language acquisition'!D720 & \"\"\"\"","v":"\" \",\"\",\"\",\"\""}]
[{"$f":"\"\"\" \"& 'BX Language acquisition'!A721 & \"\"\",\"\"\" & 'BX Language acquisition'!C721 & \"\"\",\"\"\" & 'BX Language acquisition'!B721 & \"\"\",\"\"\" & 'BX Language acquisition'!D721 & \"\"\"\"","v":"\" \",\"\",\"\",\"\""}]
[{"$f":"\"\"\" \"& 'BX Language acquisition'!A722 & \"\"\",\"\"\" & 'BX Language acquisition'!C722 & \"\"\",\"\"\" & 'BX Language acquisition'!B722 & \"\"\",\"\"\" & 'BX Language acquisition'!D722 & \"\"\"\"","v":"\" \",\"\",\"\",\"\""}]
[{"$f":"\"\"\" \"& 'BX Language acquisition'!A723 & \"\"\",\"\"\" & 'BX Language acquisition'!C723 & \"\"\",\"\"\" & 'BX Language acquisition'!B723 & \"\"\",\"\"\" & 'BX Language acquisition'!D723 & \"\"\"\"","v":"\" \",\"\",\"\",\"\""}]
[{"$f":"\"\"\" \"& 'BX Language acquisition'!A724 & \"\"\",\"\"\" & 'BX Language acquisition'!C724 & \"\"\",\"\"\" & 'BX Language acquisition'!B724 & \"\"\",\"\"\" & 'BX Language acquisition'!D724 & \"\"\"\"","v":"\" \",\"\",\"\",\"\""}]
[{"$f":"\"\"\" \"& 'BX Language acquisition'!A725 & \"\"\",\"\"\" & 'BX Language acquisition'!C725 & \"\"\",\"\"\" & 'BX Language acquisition'!B725 & \"\"\",\"\"\" & 'BX Language acquisition'!D725 & \"\"\"\"","v":"\" \",\"\",\"\",\"\""}]
[{"$f":"\"\"\" \"& 'BX Language acquisition'!A726 & \"\"\",\"\"\" & 'BX Language acquisition'!C726 & \"\"\",\"\"\" & 'BX Language acquisition'!B726 & \"\"\",\"\"\" & 'BX Language acquisition'!D726 & \"\"\"\"","v":"\" \",\"\",\"\",\"\""}]
[{"$f":"\"\"\" \"& 'BX Language acquisition'!A727 & \"\"\",\"\"\" & 'BX Language acquisition'!C727 & \"\"\",\"\"\" & 'BX Language acquisition'!B727 & \"\"\",\"\"\" & 'BX Language acquisition'!D727 & \"\"\"\"","v":"\" \",\"\",\"\",\"\""}]
[{"$f":"\"\"\" \"& 'BX Language acquisition'!A728 & \"\"\",\"\"\" & 'BX Language acquisition'!C728 & \"\"\",\"\"\" & 'BX Language acquisition'!B728 & \"\"\",\"\"\" & 'BX Language acquisition'!D728 & \"\"\"\"","v":"\" \",\"\",\"\",\"\""}]
[{"$f":"\"\"\" \"& 'BX Language acquisition'!A729 & \"\"\",\"\"\" & 'BX Language acquisition'!C729 & \"\"\",\"\"\" & 'BX Language acquisition'!B729 & \"\"\",\"\"\" & 'BX Language acquisition'!D729 & \"\"\"\"","v":"\" \",\"\",\"\",\"\""}]
[{"$f":"\"\"\" \"& 'BX Language acquisition'!A730 & \"\"\",\"\"\" & 'BX Language acquisition'!C730 & \"\"\",\"\"\" & 'BX Language acquisition'!B730 & \"\"\",\"\"\" & 'BX Language acquisition'!D730 & \"\"\"\"","v":"\" \",\"\",\"\",\"\""}]
[{"$f":"\"\"\" \"& 'BX Language acquisition'!A731 & \"\"\",\"\"\" & 'BX Language acquisition'!C731 & \"\"\",\"\"\" & 'BX Language acquisition'!B731 & \"\"\",\"\"\" & 'BX Language acquisition'!D731 & \"\"\"\"","v":"\" \",\"\",\"\",\"\""}]
[{"$f":"\"\"\" \"& 'BX Language acquisition'!A732 & \"\"\",\"\"\" & 'BX Language acquisition'!C732 & \"\"\",\"\"\" & 'BX Language acquisition'!B732 & \"\"\",\"\"\" & 'BX Language acquisition'!D732 & \"\"\"\"","v":"\" \",\"\",\"\",\"\""}]
[{"$f":"\"\"\" \"& 'BX Language acquisition'!A733 & \"\"\",\"\"\" & 'BX Language acquisition'!C733 & \"\"\",\"\"\" & 'BX Language acquisition'!B733 & \"\"\",\"\"\" & 'BX Language acquisition'!D733 & \"\"\"\"","v":"\" \",\"\",\"\",\"\""}]
[{"$f":"\"\"\" \"& 'BX Language acquisition'!A734 & \"\"\",\"\"\" & 'BX Language acquisition'!C734 & \"\"\",\"\"\" & 'BX Language acquisition'!B734 & \"\"\",\"\"\" & 'BX Language acquisition'!D734 & \"\"\"\"","v":"\" \",\"\",\"\",\"\""}]
[{"$f":"\"\"\" \"& 'BX Language acquisition'!A735 & \"\"\",\"\"\" & 'BX Language acquisition'!C735 & \"\"\",\"\"\" & 'BX Language acquisition'!B735 & \"\"\",\"\"\" & 'BX Language acquisition'!D735 & \"\"\"\"","v":"\" \",\"\",\"\",\"\""}]
[{"$f":"\"\"\" \"& 'BX Language acquisition'!A736 & \"\"\",\"\"\" & 'BX Language acquisition'!C736 & \"\"\",\"\"\" & 'BX Language acquisition'!B736 & \"\"\",\"\"\" & 'BX Language acquisition'!D736 & \"\"\"\"","v":"\" \",\"\",\"\",\"\""}]
[{"$f":"\"\"\" \"& 'BX Language acquisition'!A737 & \"\"\",\"\"\" & 'BX Language acquisition'!C737 & \"\"\",\"\"\" & 'BX Language acquisition'!B737 & \"\"\",\"\"\" & 'BX Language acquisition'!D737 & \"\"\"\"","v":"\" \",\"\",\"\",\"\""}]
[{"$f":"\"\"\" \"& 'BX Language acquisition'!A738 & \"\"\",\"\"\" & 'BX Language acquisition'!C738 & \"\"\",\"\"\" & 'BX Language acquisition'!B738 & \"\"\",\"\"\" & 'BX Language acquisition'!D738 & \"\"\"\"","v":"\" \",\"\",\"\",\"\""}]
[{"$f":"\"\"\" \"& 'BX Language acquisition'!A739 & \"\"\",\"\"\" & 'BX Language acquisition'!C739 & \"\"\",\"\"\" & 'BX Language acquisition'!B739 & \"\"\",\"\"\" & 'BX Language acquisition'!D739 & \"\"\"\"","v":"\" \",\"\",\"\",\"\""}]
[{"$f":"\"\"\" \"& 'BX Language acquisition'!A740 & \"\"\",\"\"\" & 'BX Language acquisition'!C740 & \"\"\",\"\"\" & 'BX Language acquisition'!B740 & \"\"\",\"\"\" & 'BX Language acquisition'!D740 & \"\"\"\"","v":"\" \",\"\",\"\",\"\""}]
[{"$f":"\"\"\" \"& 'BX Language acquisition'!A741 & \"\"\",\"\"\" & 'BX Language acquisition'!C741 & \"\"\",\"\"\" & 'BX Language acquisition'!B741 & \"\"\",\"\"\" & 'BX Language acquisition'!D741 & \"\"\"\"","v":"\" \",\"\",\"\",\"\""}]
[{"$f":"\"\"\" \"& 'BX Language acquisition'!A742 & \"\"\",\"\"\" & 'BX Language acquisition'!C742 & \"\"\",\"\"\" & 'BX Language acquisition'!B742 & \"\"\",\"\"\" & 'BX Language acquisition'!D742 & \"\"\"\"","v":"\" \",\"\",\"\",\"\""}]
[{"$f":"\"\"\" \"& 'BX Language acquisition'!A743 & \"\"\",\"\"\" & 'BX Language acquisition'!C743 & \"\"\",\"\"\" & 'BX Language acquisition'!B743 & \"\"\",\"\"\" & 'BX Language acquisition'!D743 & \"\"\"\"","v":"\" \",\"\",\"\",\"\""}]
[{"$f":"\"\"\" \"& 'BX Language acquisition'!A744 & \"\"\",\"\"\" & 'BX Language acquisition'!C744 & \"\"\",\"\"\" & 'BX Language acquisition'!B744 & \"\"\",\"\"\" & 'BX Language acquisition'!D744 & \"\"\"\"","v":"\" \",\"\",\"\",\"\""}]
[{"$f":"\"\"\" \"& 'BX Language acquisition'!A745 & \"\"\",\"\"\" & 'BX Language acquisition'!C745 & \"\"\",\"\"\" & 'BX Language acquisition'!B745 & \"\"\",\"\"\" & 'BX Language acquisition'!D745 & \"\"\"\"","v":"\" \",\"\",\"\",\"\""}]
[{"$f":"\"\"\" \"& 'BX Language acquisition'!A746 & \"\"\",\"\"\" & 'BX Language acquisition'!C746 & \"\"\",\"\"\" & 'BX Language acquisition'!B746 & \"\"\",\"\"\" & 'BX Language acquisition'!D746 & \"\"\"\"","v":"\" \",\"\",\"\",\"\""}]
[{"$f":"\"\"\" \"& 'BX Language acquisition'!A747 & \"\"\",\"\"\" & 'BX Language acquisition'!C747 & \"\"\",\"\"\" & 'BX Language acquisition'!B747 & \"\"\",\"\"\" & 'BX Language acquisition'!D747 & \"\"\"\"","v":"\" \",\"\",\"\",\"\""}]
[{"$f":"\"\"\" \"& 'BX Language acquisition'!A748 & \"\"\",\"\"\" & 'BX Language acquisition'!C748 & \"\"\",\"\"\" & 'BX Language acquisition'!B748 & \"\"\",\"\"\" & 'BX Language acquisition'!D748 & \"\"\"\"","v":"\" \",\"\",\"\",\"\""}]
[{"$f":"\"\"\" \"& 'BX Language acquisition'!A749 & \"\"\",\"\"\" & 'BX Language acquisition'!C749 & \"\"\",\"\"\" & 'BX Language acquisition'!B749 & \"\"\",\"\"\" & 'BX Language acquisition'!D749 & \"\"\"\"","v":"\" \",\"\",\"\",\"\""}]
[{"$f":"\"\"\" \"& 'BX Language acquisition'!A750 & \"\"\",\"\"\" & 'BX Language acquisition'!C750 & \"\"\",\"\"\" & 'BX Language acquisition'!B750 & \"\"\",\"\"\" & 'BX Language acquisition'!D750 & \"\"\"\"","v":"\" \",\"\",\"\",\"\""}]
[{"$f":"\"\"\" \"& 'BX Language acquisition'!A751 & \"\"\",\"\"\" & 'BX Language acquisition'!C751 & \"\"\",\"\"\" & 'BX Language acquisition'!B751 & \"\"\",\"\"\" & 'BX Language acquisition'!D751 & \"\"\"\"","v":"\" \",\"\",\"\",\"\""}]
[{"$f":"\"\"\" \"& 'BX Language acquisition'!A752 & \"\"\",\"\"\" & 'BX Language acquisition'!C752 & \"\"\",\"\"\" & 'BX Language acquisition'!B752 & \"\"\",\"\"\" & 'BX Language acquisition'!D752 & \"\"\"\"","v":"\" \",\"\",\"\",\"\""}]
[{"$f":"\"\"\" \"& 'BX Language acquisition'!A753 & \"\"\",\"\"\" & 'BX Language acquisition'!C753 & \"\"\",\"\"\" & 'BX Language acquisition'!B753 & \"\"\",\"\"\" & 'BX Language acquisition'!D753 & \"\"\"\"","v":"\" \",\"\",\"\",\"\""}]
[{"$f":"\"\"\" \"& 'BX Language acquisition'!A754 & \"\"\",\"\"\" & 'BX Language acquisition'!C754 & \"\"\",\"\"\" & 'BX Language acquisition'!B754 & \"\"\",\"\"\" & 'BX Language acquisition'!D754 & \"\"\"\"","v":"\" \",\"\",\"\",\"\""}]
[{"$f":"\"\"\" \"& 'BX Language acquisition'!A755 & \"\"\",\"\"\" & 'BX Language acquisition'!C755 & \"\"\",\"\"\" & 'BX Language acquisition'!B755 & \"\"\",\"\"\" & 'BX Language acquisition'!D755 & \"\"\"\"","v":"\" \",\"\",\"\",\"\""}]
[{"$f":"\"\"\" \"& 'BX Language acquisition'!A756 & \"\"\",\"\"\" & 'BX Language acquisition'!C756 & \"\"\",\"\"\" & 'BX Language acquisition'!B756 & \"\"\",\"\"\" & 'BX Language acquisition'!D756 & \"\"\"\"","v":"\" \",\"\",\"\",\"\""}]
[{"$f":"\"\"\" \"& 'BX Language acquisition'!A757 & \"\"\",\"\"\" & 'BX Language acquisition'!C757 & \"\"\",\"\"\" & 'BX Language acquisition'!B757 & \"\"\",\"\"\" & 'BX Language acquisition'!D757 & \"\"\"\"","v":"\" \",\"\",\"\",\"\""}]
[{"$f":"\"\"\" \"& 'BX Language acquisition'!A758 & \"\"\",\"\"\" & 'BX Language acquisition'!C758 & \"\"\",\"\"\" & 'BX Language acquisition'!B758 & \"\"\",\"\"\" & 'BX Language acquisition'!D758 & \"\"\"\"","v":"\" \",\"\",\"\",\"\""}]
[{"$f":"\"\"\" \"& 'BX Language acquisition'!A759 & \"\"\",\"\"\" & 'BX Language acquisition'!C759 & \"\"\",\"\"\" & 'BX Language acquisition'!B759 & \"\"\",\"\"\" & 'BX Language acquisition'!D759 & \"\"\"\"","v":"\" \",\"\",\"\",\"\""}]
[{"$f":"\"\"\" \"& 'BX Language acquisition'!A760 & \"\"\",\"\"\" & 'BX Language acquisition'!C760 & \"\"\",\"\"\" & 'BX Language acquisition'!B760 & \"\"\",\"\"\" & 'BX Language acquisition'!D760 & \"\"\"\"","v":"\" \",\"\",\"\",\"\""}]
[{"$f":"\"\"\" \"& 'BX Language acquisition'!A761 & \"\"\",\"\"\" & 'BX Language acquisition'!C761 & \"\"\",\"\"\" & 'BX Language acquisition'!B761 & \"\"\",\"\"\" & 'BX Language acquisition'!D761 & \"\"\"\"","v":"\" \",\"\",\"\",\"\""}]
[{"$f":"\"\"\" \"& 'BX Language acquisition'!A762 & \"\"\",\"\"\" & 'BX Language acquisition'!C762 & \"\"\",\"\"\" & 'BX Language acquisition'!B762 & \"\"\",\"\"\" & 'BX Language acquisition'!D762 & \"\"\"\"","v":"\" \",\"\",\"\",\"\""}]
[{"$f":"\"\"\" \"& 'BX Language acquisition'!A763 & \"\"\",\"\"\" & 'BX Language acquisition'!C763 & \"\"\",\"\"\" & 'BX Language acquisition'!B763 & \"\"\",\"\"\" & 'BX Language acquisition'!D763 & \"\"\"\"","v":"\" \",\"\",\"\",\"\""}]
[{"$f":"\"\"\" \"& 'BX Language acquisition'!A764 & \"\"\",\"\"\" & 'BX Language acquisition'!C764 & \"\"\",\"\"\" & 'BX Language acquisition'!B764 & \"\"\",\"\"\" & 'BX Language acquisition'!D764 & \"\"\"\"","v":"\" \",\"\",\"\",\"\""}]
[{"$f":"\"\"\" \"& 'BX Language acquisition'!A765 & \"\"\",\"\"\" & 'BX Language acquisition'!C765 & \"\"\",\"\"\" & 'BX Language acquisition'!B765 & \"\"\",\"\"\" & 'BX Language acquisition'!D765 & \"\"\"\"","v":"\" \",\"\",\"\",\"\""}]
[{"$f":"\"\"\" \"& 'BX Language acquisition'!A766 & \"\"\",\"\"\" & 'BX Language acquisition'!C766 & \"\"\",\"\"\" & 'BX Language acquisition'!B766 & \"\"\",\"\"\" & 'BX Language acquisition'!D766 & \"\"\"\"","v":"\" \",\"\",\"\",\"\""}]
[{"$f":"\"\"\" \"& 'BX Language acquisition'!A767 & \"\"\",\"\"\" & 'BX Language acquisition'!C767 & \"\"\",\"\"\" & 'BX Language acquisition'!B767 & \"\"\",\"\"\" & 'BX Language acquisition'!D767 & \"\"\"\"","v":"\" \",\"\",\"\",\"\""}]
[{"$f":"\"\"\" \"& 'BX Language acquisition'!A768 & \"\"\",\"\"\" & 'BX Language acquisition'!C768 & \"\"\",\"\"\" & 'BX Language acquisition'!B768 & \"\"\",\"\"\" & 'BX Language acquisition'!D768 & \"\"\"\"","v":"\" \",\"\",\"\",\"\""}]
[{"$f":"\"\"\" \"& 'BX Language acquisition'!A769 & \"\"\",\"\"\" & 'BX Language acquisition'!C769 & \"\"\",\"\"\" & 'BX Language acquisition'!B769 & \"\"\",\"\"\" & 'BX Language acquisition'!D769 & \"\"\"\"","v":"\" \",\"\",\"\",\"\""}]
[{"$f":"\"\"\" \"& 'BX Language acquisition'!A770 & \"\"\",\"\"\" & 'BX Language acquisition'!C770 & \"\"\",\"\"\" & 'BX Language acquisition'!B770 & \"\"\",\"\"\" & 'BX Language acquisition'!D770 & \"\"\"\"","v":"\" \",\"\",\"\",\"\""}]
[{"$f":"\"\"\" \"& 'BX Language acquisition'!A771 & \"\"\",\"\"\" & 'BX Language acquisition'!C771 & \"\"\",\"\"\" & 'BX Language acquisition'!B771 & \"\"\",\"\"\" & 'BX Language acquisition'!D771 & \"\"\"\"","v":"\" \",\"\",\"\",\"\""}]
[{"$f":"\"\"\" \"& 'BX Language acquisition'!A772 & \"\"\",\"\"\" & 'BX Language acquisition'!C772 & \"\"\",\"\"\" & 'BX Language acquisition'!B772 & \"\"\",\"\"\" & 'BX Language acquisition'!D772 & \"\"\"\"","v":"\" \",\"\",\"\",\"\""}]
[{"$f":"\"\"\" \"& 'BX Language acquisition'!A773 & \"\"\",\"\"\" & 'BX Language acquisition'!C773 & \"\"\",\"\"\" & 'BX Language acquisition'!B773 & \"\"\",\"\"\" & 'BX Language acquisition'!D773 & \"\"\"\"","v":"\" \",\"\",\"\",\"\""}]
[{"$f":"\"\"\" \"& 'BX Language acquisition'!A774 & \"\"\",\"\"\" & 'BX Language acquisition'!C774 & \"\"\",\"\"\" & 'BX Language acquisition'!B774 & \"\"\",\"\"\" & 'BX Language acquisition'!D774 & \"\"\"\"","v":"\" \",\"\",\"\",\"\""}]
[{"$f":"\"\"\" \"& 'BX Language acquisition'!A775 & \"\"\",\"\"\" & 'BX Language acquisition'!C775 & \"\"\",\"\"\" & 'BX Language acquisition'!B775 & \"\"\",\"\"\" & 'BX Language acquisition'!D775 & \"\"\"\"","v":"\" \",\"\",\"\",\"\""}]
[{"$f":"\"\"\" \"& 'BX Language acquisition'!A776 & \"\"\",\"\"\" & 'BX Language acquisition'!C776 & \"\"\",\"\"\" & 'BX Language acquisition'!B776 & \"\"\",\"\"\" & 'BX Language acquisition'!D776 & \"\"\"\"","v":"\" \",\"\",\"\",\"\""}]
[{"$f":"\"\"\" \"& 'BX Language acquisition'!A777 & \"\"\",\"\"\" & 'BX Language acquisition'!C777 & \"\"\",\"\"\" & 'BX Language acquisition'!B777 & \"\"\",\"\"\" & 'BX Language acquisition'!D777 & \"\"\"\"","v":"\" \",\"\",\"\",\"\""}]
[{"$f":"\"\"\" \"& 'BX Language acquisition'!A778 & \"\"\",\"\"\" & 'BX Language acquisition'!C778 & \"\"\",\"\"\" & 'BX Language acquisition'!B778 & \"\"\",\"\"\" & 'BX Language acquisition'!D778 & \"\"\"\"","v":"\" \",\"\",\"\",\"\""}]
[{"$f":"\"\"\" \"& 'BX Language acquisition'!A779 & \"\"\",\"\"\" & 'BX Language acquisition'!C779 & \"\"\",\"\"\" & 'BX Language acquisition'!B779 & \"\"\",\"\"\" & 'BX Language acquisition'!D779 & \"\"\"\"","v":"\" \",\"\",\"\",\"\""}]
[{"$f":"\"\"\" \"& 'BX Language acquisition'!A780 & \"\"\",\"\"\" & 'BX Language acquisition'!C780 & \"\"\",\"\"\" & 'BX Language acquisition'!B780 & \"\"\",\"\"\" & 'BX Language acquisition'!D780 & \"\"\"\"","v":"\" \",\"\",\"\",\"\""}]
[{"$f":"\"\"\" \"& 'BX Language acquisition'!A781 & \"\"\",\"\"\" & 'BX Language acquisition'!C781 & \"\"\",\"\"\" & 'BX Language acquisition'!B781 & \"\"\",\"\"\" & 'BX Language acquisition'!D781 & \"\"\"\"","v":"\" \",\"\",\"\",\"\""}]
[{"$f":"\"\"\" \"& 'BX Language acquisition'!A782 & \"\"\",\"\"\" & 'BX Language acquisition'!C782 & \"\"\",\"\"\" & 'BX Language acquisition'!B782 & \"\"\",\"\"\" & 'BX Language acquisition'!D782 & \"\"\"\"","v":"\" \",\"\",\"\",\"\""}]
[{"$f":"\"\"\" \"& 'BX Language acquisition'!A783 & \"\"\",\"\"\" & 'BX Language acquisition'!C783 & \"\"\",\"\"\" & 'BX Language acquisition'!B783 & \"\"\",\"\"\" & 'BX Language acquisition'!D783 & \"\"\"\"","v":"\" \",\"\",\"\",\"\""}]
[{"$f":"\"\"\" \"& 'BX Language acquisition'!A784 & \"\"\",\"\"\" & 'BX Language acquisition'!C784 & \"\"\",\"\"\" & 'BX Language acquisition'!B784 & \"\"\",\"\"\" & 'BX Language acquisition'!D784 & \"\"\"\"","v":"\" \",\"\",\"\",\"\""}]
[{"$f":"\"\"\" \"& 'BX Language acquisition'!A785 & \"\"\",\"\"\" & 'BX Language acquisition'!C785 & \"\"\",\"\"\" & 'BX Language acquisition'!B785 & \"\"\",\"\"\" & 'BX Language acquisition'!D785 & \"\"\"\"","v":"\" \",\"\",\"\",\"\""}]
[{"$f":"\"\"\" \"& 'BX Language acquisition'!A786 & \"\"\",\"\"\" & 'BX Language acquisition'!C786 & \"\"\",\"\"\" & 'BX Language acquisition'!B786 & \"\"\",\"\"\" & 'BX Language acquisition'!D786 & \"\"\"\"","v":"\" \",\"\",\"\",\"\""}]
[{"$f":"\"\"\" \"& 'BX Language acquisition'!A787 & \"\"\",\"\"\" & 'BX Language acquisition'!C787 & \"\"\",\"\"\" & 'BX Language acquisition'!B787 & \"\"\",\"\"\" & 'BX Language acquisition'!D787 & \"\"\"\"","v":"\" \",\"\",\"\",\"\""}]
[{"$f":"\"\"\" \"& 'BX Language acquisition'!A788 & \"\"\",\"\"\" & 'BX Language acquisition'!C788 & \"\"\",\"\"\" & 'BX Language acquisition'!B788 & \"\"\",\"\"\" & 'BX Language acquisition'!D788 & \"\"\"\"","v":"\" \",\"\",\"\",\"\""}]
[{"$f":"\"\"\" \"& 'BX Language acquisition'!A789 & \"\"\",\"\"\" & 'BX Language acquisition'!C789 & \"\"\",\"\"\" & 'BX Language acquisition'!B789 & \"\"\",\"\"\" & 'BX Language acquisition'!D789 & \"\"\"\"","v":"\" \",\"\",\"\",\"\""}]
[{"$f":"\"\"\" \"& 'BX Language acquisition'!A790 & \"\"\",\"\"\" & 'BX Language acquisition'!C790 & \"\"\",\"\"\" & 'BX Language acquisition'!B790 & \"\"\",\"\"\" & 'BX Language acquisition'!D790 & \"\"\"\"","v":"\" \",\"\",\"\",\"\""}]
[{"$f":"\"\"\" \"& 'BX Language acquisition'!A791 & \"\"\",\"\"\" & 'BX Language acquisition'!C791 & \"\"\",\"\"\" & 'BX Language acquisition'!B791 & \"\"\",\"\"\" & 'BX Language acquisition'!D791 & \"\"\"\"","v":"\" \",\"\",\"\",\"\""}]
[{"$f":"\"\"\" \"& 'BX Language acquisition'!A792 & \"\"\",\"\"\" & 'BX Language acquisition'!C792 & \"\"\",\"\"\" & 'BX Language acquisition'!B792 & \"\"\",\"\"\" & 'BX Language acquisition'!D792 & \"\"\"\"","v":"\" \",\"\",\"\",\"\""}]
[{"$f":"\"\"\" \"& 'BX Language acquisition'!A793 & \"\"\",\"\"\" & 'BX Language acquisition'!C793 & \"\"\",\"\"\" & 'BX Language acquisition'!B793 & \"\"\",\"\"\" & 'BX Language acquisition'!D793 & \"\"\"\"","v":"\" \",\"\",\"\",\"\""}]
[{"$f":"\"\"\" \"& 'BX Language acquisition'!A794 & \"\"\",\"\"\" & 'BX Language acquisition'!C794 & \"\"\",\"\"\" & 'BX Language acquisition'!B794 & \"\"\",\"\"\" & 'BX Language acquisition'!D794 & \"\"\"\"","v":"\" \",\"\",\"\",\"\""}]
[{"$f":"\"\"\" \"& 'BX Language acquisition'!A795 & \"\"\",\"\"\" & 'BX Language acquisition'!C795 & \"\"\",\"\"\" & 'BX Language acquisition'!B795 & \"\"\",\"\"\" & 'BX Language acquisition'!D795 & \"\"\"\"","v":"\" \",\"\",\"\",\"\""}]
[{"$f":"\"\"\" \"& 'BX Language acquisition'!A796 & \"\"\",\"\"\" & 'BX Language acquisition'!C796 & \"\"\",\"\"\" & 'BX Language acquisition'!B796 & \"\"\",\"\"\" & 'BX Language acquisition'!D796 & \"\"\"\"","v":"\" \",\"\",\"\",\"\""}]
[{"$f":"\"\"\" \"& 'BX Language acquisition'!A797 & \"\"\",\"\"\" & 'BX Language acquisition'!C797 & \"\"\",\"\"\" & 'BX Language acquisition'!B797 & \"\"\",\"\"\" & 'BX Language acquisition'!D797 & \"\"\"\"","v":"\" \",\"\",\"\",\"\""}]
[{"$f":"\"\"\" \"& 'BX Language acquisition'!A798 & \"\"\",\"\"\" & 'BX Language acquisition'!C798 & \"\"\",\"\"\" & 'BX Language acquisition'!B798 & \"\"\",\"\"\" & 'BX Language acquisition'!D798 & \"\"\"\"","v":"\" \",\"\",\"\",\"\""}]
[{"$f":"\"\"\" \"& 'BX Language acquisition'!A799 & \"\"\",\"\"\" & 'BX Language acquisition'!C799 & \"\"\",\"\"\" & 'BX Language acquisition'!B799 & \"\"\",\"\"\" & 'BX Language acquisition'!D799 & \"\"\"\"","v":"\" \",\"\",\"\",\"\""}]
[{"$f":"\"\"\" \"& 'BX Language acquisition'!A800 & \"\"\",\"\"\" & 'BX Language acquisition'!C800 & \"\"\",\"\"\" & 'BX Language acquisition'!B800 & \"\"\",\"\"\" & 'BX Language acquisition'!D800 & \"\"\"\"","v":"\" \",\"\",\"\",\"\""}]
[{"$f":"\"\"\" \"& 'BX Language acquisition'!A801 & \"\"\",\"\"\" & 'BX Language acquisition'!C801 & \"\"\",\"\"\" & 'BX Language acquisition'!B801 & \"\"\",\"\"\" & 'BX Language acquisition'!D801 & \"\"\"\"","v":"\" \",\"\",\"\",\"\""}]
[{"$f":"\"\"\" \"& 'BX Language acquisition'!A802 & \"\"\",\"\"\" & 'BX Language acquisition'!C802 & \"\"\",\"\"\" & 'BX Language acquisition'!B802 & \"\"\",\"\"\" & 'BX Language acquisition'!D802 & \"\"\"\"","v":"\" \",\"\",\"\",\"\""}]
[{"$f":"\"\"\" \"& 'BX Language acquisition'!A803 & \"\"\",\"\"\" & 'BX Language acquisition'!C803 & \"\"\",\"\"\" & 'BX Language acquisition'!B803 & \"\"\",\"\"\" & 'BX Language acquisition'!D803 & \"\"\"\"","v":"\" \",\"\",\"\",\"\""}]
[{"$f":"\"\"\" \"& 'BX Language acquisition'!A804 & \"\"\",\"\"\" & 'BX Language acquisition'!C804 & \"\"\",\"\"\" & 'BX Language acquisition'!B804 & \"\"\",\"\"\" & 'BX Language acquisition'!D804 & \"\"\"\"","v":"\" \",\"\",\"\",\"\""}]
[{"$f":"\"\"\" \"& 'BX Language acquisition'!A805 & \"\"\",\"\"\" & 'BX Language acquisition'!C805 & \"\"\",\"\"\" & 'BX Language acquisition'!B805 & \"\"\",\"\"\" & 'BX Language acquisition'!D805 & \"\"\"\"","v":"\" \",\"\",\"\",\"\""}]
[{"$f":"\"\"\" \"& 'BX Language acquisition'!A806 & \"\"\",\"\"\" & 'BX Language acquisition'!C806 & \"\"\",\"\"\" & 'BX Language acquisition'!B806 & \"\"\",\"\"\" & 'BX Language acquisition'!D806 & \"\"\"\"","v":"\" \",\"\",\"\",\"\""}]
[{"$f":"\"\"\" \"& 'BX Language acquisition'!A807 & \"\"\",\"\"\" & 'BX Language acquisition'!C807 & \"\"\",\"\"\" & 'BX Language acquisition'!B807 & \"\"\",\"\"\" & 'BX Language acquisition'!D807 & \"\"\"\"","v":"\" \",\"\",\"\",\"\""}]
[{"$f":"\"\"\" \"& 'BX Language acquisition'!A808 & \"\"\",\"\"\" & 'BX Language acquisition'!C808 & \"\"\",\"\"\" & 'BX Language acquisition'!B808 & \"\"\",\"\"\" & 'BX Language acquisition'!D808 & \"\"\"\"","v":"\" \",\"\",\"\",\"\""}]
[{"$f":"\"\"\" \"& 'BX Language acquisition'!A809 & \"\"\",\"\"\" & 'BX Language acquisition'!C809 & \"\"\",\"\"\" & 'BX Language acquisition'!B809 & \"\"\",\"\"\" & 'BX Language acquisition'!D809 & \"\"\"\"","v":"\" \",\"\",\"\",\"\""}]
[{"$f":"\"\"\" \"& 'BX Language acquisition'!A810 & \"\"\",\"\"\" & 'BX Language acquisition'!C810 & \"\"\",\"\"\" & 'BX Language acquisition'!B810 & \"\"\",\"\"\" & 'BX Language acquisition'!D810 & \"\"\"\"","v":"\" \",\"\",\"\",\"\""}]
[{"$f":"\"\"\" \"& 'BX Language acquisition'!A811 & \"\"\",\"\"\" & 'BX Language acquisition'!C811 & \"\"\",\"\"\" & 'BX Language acquisition'!B811 & \"\"\",\"\"\" & 'BX Language acquisition'!D811 & \"\"\"\"","v":"\" \",\"\",\"\",\"\""}]
[{"$f":"\"\"\" \"& 'BX Language acquisition'!A812 & \"\"\",\"\"\" & 'BX Language acquisition'!C812 & \"\"\",\"\"\" & 'BX Language acquisition'!B812 & \"\"\",\"\"\" & 'BX Language acquisition'!D812 & \"\"\"\"","v":"\" \",\"\",\"\",\"\""}]
[{"$f":"\"\"\" \"& 'BX Language acquisition'!A813 & \"\"\",\"\"\" & 'BX Language acquisition'!C813 & \"\"\",\"\"\" & 'BX Language acquisition'!B813 & \"\"\",\"\"\" & 'BX Language acquisition'!D813 & \"\"\"\"","v":"\" \",\"\",\"\",\"\""}]
[{"$f":"\"\"\" \"& 'BX Language acquisition'!A814 & \"\"\",\"\"\" & 'BX Language acquisition'!C814 & \"\"\",\"\"\" & 'BX Language acquisition'!B814 & \"\"\",\"\"\" & 'BX Language acquisition'!D814 & \"\"\"\"","v":"\" \",\"\",\"\",\"\""}]
[{"$f":"\"\"\" \"& 'BX Language acquisition'!A815 & \"\"\",\"\"\" & 'BX Language acquisition'!C815 & \"\"\",\"\"\" & 'BX Language acquisition'!B815 & \"\"\",\"\"\" & 'BX Language acquisition'!D815 & \"\"\"\"","v":"\" \",\"\",\"\",\"\""}]
[{"$f":"\"\"\" \"& 'BX Language acquisition'!A816 & \"\"\",\"\"\" & 'BX Language acquisition'!C816 & \"\"\",\"\"\" & 'BX Language acquisition'!B816 & \"\"\",\"\"\" & 'BX Language acquisition'!D816 & \"\"\"\"","v":"\" \",\"\",\"\",\"\""}]
[{"$f":"\"\"\" \"& 'BX Language acquisition'!A817 & \"\"\",\"\"\" & 'BX Language acquisition'!C817 & \"\"\",\"\"\" & 'BX Language acquisition'!B817 & \"\"\",\"\"\" & 'BX Language acquisition'!D817 & \"\"\"\"","v":"\" \",\"\",\"\",\"\""}]
[{"$f":"\"\"\" \"& 'BX Language acquisition'!A818 & \"\"\",\"\"\" & 'BX Language acquisition'!C818 & \"\"\",\"\"\" & 'BX Language acquisition'!B818 & \"\"\",\"\"\" & 'BX Language acquisition'!D818 & \"\"\"\"","v":"\" \",\"\",\"\",\"\""}]
[{"$f":"\"\"\" \"& 'BX Language acquisition'!A819 & \"\"\",\"\"\" & 'BX Language acquisition'!C819 & \"\"\",\"\"\" & 'BX Language acquisition'!B819 & \"\"\",\"\"\" & 'BX Language acquisition'!D819 & \"\"\"\"","v":"\" \",\"\",\"\",\"\""}]
[{"$f":"\"\"\" \"& 'BX Language acquisition'!A820 & \"\"\",\"\"\" & 'BX Language acquisition'!C820 & \"\"\",\"\"\" & 'BX Language acquisition'!B820 & \"\"\",\"\"\" & 'BX Language acquisition'!D820 & \"\"\"\"","v":"\" \",\"\",\"\",\"\""}]
[{"$f":"\"\"\" \"& 'BX Language acquisition'!A821 & \"\"\",\"\"\" & 'BX Language acquisition'!C821 & \"\"\",\"\"\" & 'BX Language acquisition'!B821 & \"\"\",\"\"\" & 'BX Language acquisition'!D821 & \"\"\"\"","v":"\" \",\"\",\"\",\"\""}]
[{"$f":"\"\"\" \"& 'BX Language acquisition'!A822 & \"\"\",\"\"\" & 'BX Language acquisition'!C822 & \"\"\",\"\"\" & 'BX Language acquisition'!B822 & \"\"\",\"\"\" & 'BX Language acquisition'!D822 & \"\"\"\"","v":"\" \",\"\",\"\",\"\""}]
[{"$f":"\"\"\" \"& 'BX Language acquisition'!A823 & \"\"\",\"\"\" & 'BX Language acquisition'!C823 & \"\"\",\"\"\" & 'BX Language acquisition'!B823 & \"\"\",\"\"\" & 'BX Language acquisition'!D823 & \"\"\"\"","v":"\" \",\"\",\"\",\"\""}]
[{"$f":"\"\"\" \"& 'BX Language acquisition'!A824 & \"\"\",\"\"\" & 'BX Language acquisition'!C824 & \"\"\",\"\"\" & 'BX Language acquisition'!B824 & \"\"\",\"\"\" & 'BX Language acquisition'!D824 & \"\"\"\"","v":"\" \",\"\",\"\",\"\""}]
[{"$f":"\"\"\" \"& 'BX Language acquisition'!A825 & \"\"\",\"\"\" & 'BX Language acquisition'!C825 & \"\"\",\"\"\" & 'BX Language acquisition'!B825 & \"\"\",\"\"\" & 'BX Language acquisition'!D825 & \"\"\"\"","v":"\" \",\"\",\"\",\"\""}]
[{"$f":"\"\"\" \"& 'BX Language acquisition'!A826 & \"\"\",\"\"\" & 'BX Language acquisition'!C826 & \"\"\",\"\"\" & 'BX Language acquisition'!B826 & \"\"\",\"\"\" & 'BX Language acquisition'!D826 & \"\"\"\"","v":"\" \",\"\",\"\",\"\""}]
[{"$f":"\"\"\" \"& 'BX Language acquisition'!A827 & \"\"\",\"\"\" & 'BX Language acquisition'!C827 & \"\"\",\"\"\" & 'BX Language acquisition'!B827 & \"\"\",\"\"\" & 'BX Language acquisition'!D827 & \"\"\"\"","v":"\" \",\"\",\"\",\"\""}]
[{"$f":"\"\"\" \"& 'BX Language acquisition'!A828 & \"\"\",\"\"\" & 'BX Language acquisition'!C828 & \"\"\",\"\"\" & 'BX Language acquisition'!B828 & \"\"\",\"\"\" & 'BX Language acquisition'!D828 & \"\"\"\"","v":"\" \",\"\",\"\",\"\""}]
[{"$f":"\"\"\" \"& 'BX Language acquisition'!A829 & \"\"\",\"\"\" & 'BX Language acquisition'!C829 & \"\"\",\"\"\" & 'BX Language acquisition'!B829 & \"\"\",\"\"\" & 'BX Language acquisition'!D829 & \"\"\"\"","v":"\" \",\"\",\"\",\"\""}]
[{"$f":"\"\"\" \"& 'BX Language acquisition'!A830 & \"\"\",\"\"\" & 'BX Language acquisition'!C830 & \"\"\",\"\"\" & 'BX Language acquisition'!B830 & \"\"\",\"\"\" & 'BX Language acquisition'!D830 & \"\"\"\"","v":"\" \",\"\",\"\",\"\""}]
[{"$f":"\"\"\" \"& 'BX Language acquisition'!A831 & \"\"\",\"\"\" & 'BX Language acquisition'!C831 & \"\"\",\"\"\" & 'BX Language acquisition'!B831 & \"\"\",\"\"\" & 'BX Language acquisition'!D831 & \"\"\"\"","v":"\" \",\"\",\"\",\"\""}]
[{"$f":"\"\"\" \"& 'BX Language acquisition'!A832 & \"\"\",\"\"\" & 'BX Language acquisition'!C832 & \"\"\",\"\"\" & 'BX Language acquisition'!B832 & \"\"\",\"\"\" & 'BX Language acquisition'!D832 & \"\"\"\"","v":"\" \",\"\",\"\",\"\""}]
[{"$f":"\"\"\" \"& 'BX Language acquisition'!A833 & \"\"\",\"\"\" & 'BX Language acquisition'!C833 & \"\"\",\"\"\" & 'BX Language acquisition'!B833 & \"\"\",\"\"\" & 'BX Language acquisition'!D833 & \"\"\"\"","v":"\" \",\"\",\"\",\"\""}]
[{"$f":"\"\"\" \"& 'BX Language acquisition'!A834 & \"\"\",\"\"\" & 'BX Language acquisition'!C834 & \"\"\",\"\"\" & 'BX Language acquisition'!B834 & \"\"\",\"\"\" & 'BX Language acquisition'!D834 & \"\"\"\"","v":"\" \",\"\",\"\",\"\""}]
[{"$f":"\"\"\" \"& 'BX Language acquisition'!A835 & \"\"\",\"\"\" & 'BX Language acquisition'!C835 & \"\"\",\"\"\" & 'BX Language acquisition'!B835 & \"\"\",\"\"\" & 'BX Language acquisition'!D835 & \"\"\"\"","v":"\" \",\"\",\"\",\"\""}]
[{"$f":"\"\"\" \"& 'BX Language acquisition'!A836 & \"\"\",\"\"\" & 'BX Language acquisition'!C836 & \"\"\",\"\"\" & 'BX Language acquisition'!B836 & \"\"\",\"\"\" & 'BX Language acquisition'!D836 & \"\"\"\"","v":"\" \",\"\",\"\",\"\""}]
[{"$f":"\"\"\" \"& 'BX Language acquisition'!A837 & \"\"\",\"\"\" & 'BX Language acquisition'!C837 & \"\"\",\"\"\" & 'BX Language acquisition'!B837 & \"\"\",\"\"\" & 'BX Language acquisition'!D837 & \"\"\"\"","v":"\" \",\"\",\"\",\"\""}]
[{"$f":"\"\"\" \"& 'BX Language acquisition'!A838 & \"\"\",\"\"\" & 'BX Language acquisition'!C838 & \"\"\",\"\"\" & 'BX Language acquisition'!B838 & \"\"\",\"\"\" & 'BX Language acquisition'!D838 & \"\"\"\"","v":"\" \",\"\",\"\",\"\""}]
[{"$f":"\"\"\" \"& 'BX Language acquisition'!A839 & \"\"\",\"\"\" & 'BX Language acquisition'!C839 & \"\"\",\"\"\" & 'BX Language acquisition'!B839 & \"\"\",\"\"\" & 'BX Language acquisition'!D839 & \"\"\"\"","v":"\" \",\"\",\"\",\"\""}]
[{"$f":"\"\"\" \"& 'BX Language acquisition'!A840 & \"\"\",\"\"\" & 'BX Language acquisition'!C840 & \"\"\",\"\"\" & 'BX Language acquisition'!B840 & \"\"\",\"\"\" & 'BX Language acquisition'!D840 & \"\"\"\"","v":"\" \",\"\",\"\",\"\""}]
[{"$f":"\"\"\" \"& 'BX Language acquisition'!A841 & \"\"\",\"\"\" & 'BX Language acquisition'!C841 & \"\"\",\"\"\" & 'BX Language acquisition'!B841 & \"\"\",\"\"\" & 'BX Language acquisition'!D841 & \"\"\"\"","v":"\" \",\"\",\"\",\"\""}]
[{"$f":"\"\"\" \"& 'BX Language acquisition'!A842 & \"\"\",\"\"\" & 'BX Language acquisition'!C842 & \"\"\",\"\"\" & 'BX Language acquisition'!B842 & \"\"\",\"\"\" & 'BX Language acquisition'!D842 & \"\"\"\"","v":"\" \",\"\",\"\",\"\""}]
[{"$f":"\"\"\" \"& 'BX Language acquisition'!A843 & \"\"\",\"\"\" & 'BX Language acquisition'!C843 & \"\"\",\"\"\" & 'BX Language acquisition'!B843 & \"\"\",\"\"\" & 'BX Language acquisition'!D843 & \"\"\"\"","v":"\" \",\"\",\"\",\"\""}]
[{"$f":"\"\"\" \"& 'BX Language acquisition'!A844 & \"\"\",\"\"\" & 'BX Language acquisition'!C844 & \"\"\",\"\"\" & 'BX Language acquisition'!B844 & \"\"\",\"\"\" & 'BX Language acquisition'!D844 & \"\"\"\"","v":"\" \",\"\",\"\",\"\""}]
[{"$f":"\"\"\" \"& 'BX Language acquisition'!A845 & \"\"\",\"\"\" & 'BX Language acquisition'!C845 & \"\"\",\"\"\" & 'BX Language acquisition'!B845 & \"\"\",\"\"\" & 'BX Language acquisition'!D845 & \"\"\"\"","v":"\" \",\"\",\"\",\"\""}]
[{"$f":"\"\"\" \"& 'BX Language acquisition'!A846 & \"\"\",\"\"\" & 'BX Language acquisition'!C846 & \"\"\",\"\"\" & 'BX Language acquisition'!B846 & \"\"\",\"\"\" & 'BX Language acquisition'!D846 & \"\"\"\"","v":"\" \",\"\",\"\",\"\""}]
[{"$f":"\"\"\" \"& 'BX Language acquisition'!A847 & \"\"\",\"\"\" & 'BX Language acquisition'!C847 & \"\"\",\"\"\" & 'BX Language acquisition'!B847 & \"\"\",\"\"\" & 'BX Language acquisition'!D847 & \"\"\"\"","v":"\" \",\"\",\"\",\"\""}]
[{"$f":"\"\"\" \"& 'BX Language acquisition'!A848 & \"\"\",\"\"\" & 'BX Language acquisition'!C848 & \"\"\",\"\"\" & 'BX Language acquisition'!B848 & \"\"\",\"\"\" & 'BX Language acquisition'!D848 & \"\"\"\"","v":"\" \",\"\",\"\",\"\""}]
[{"$f":"\"\"\" \"& 'BX Language acquisition'!A849 & \"\"\",\"\"\" & 'BX Language acquisition'!C849 & \"\"\",\"\"\" & 'BX Language acquisition'!B849 & \"\"\",\"\"\" & 'BX Language acquisition'!D849 & \"\"\"\"","v":"\" \",\"\",\"\",\"\""}]
[{"$f":"\"\"\" \"& 'BX Language acquisition'!A850 & \"\"\",\"\"\" & 'BX Language acquisition'!C850 & \"\"\",\"\"\" & 'BX Language acquisition'!B850 & \"\"\",\"\"\" & 'BX Language acquisition'!D850 & \"\"\"\"","v":"\" \",\"\",\"\",\"\""}]
[{"$f":"\"\"\" \"& 'BX Language acquisition'!A851 & \"\"\",\"\"\" & 'BX Language acquisition'!C851 & \"\"\",\"\"\" & 'BX Language acquisition'!B851 & \"\"\",\"\"\" & 'BX Language acquisition'!D851 & \"\"\"\"","v":"\" \",\"\",\"\",\"\""}]
[{"$f":"\"\"\" \"& 'BX Language acquisition'!A852 & \"\"\",\"\"\" & 'BX Language acquisition'!C852 & \"\"\",\"\"\" & 'BX Language acquisition'!B852 & \"\"\",\"\"\" & 'BX Language acquisition'!D852 & \"\"\"\"","v":"\" \",\"\",\"\",\"\""}]
[{"$f":"\"\"\" \"& 'BX Language acquisition'!A853 & \"\"\",\"\"\" & 'BX Language acquisition'!C853 & \"\"\",\"\"\" & 'BX Language acquisition'!B853 & \"\"\",\"\"\" & 'BX Language acquisition'!D853 & \"\"\"\"","v":"\" \",\"\",\"\",\"\""}]
[{"$f":"\"\"\" \"& 'BX Language acquisition'!A854 & \"\"\",\"\"\" & 'BX Language acquisition'!C854 & \"\"\",\"\"\" & 'BX Language acquisition'!B854 & \"\"\",\"\"\" & 'BX Language acquisition'!D854 & \"\"\"\"","v":"\" \",\"\",\"\",\"\""}]
[{"$f":"\"\"\" \"& 'BX Language acquisition'!A855 & \"\"\",\"\"\" & 'BX Language acquisition'!C855 & \"\"\",\"\"\" & 'BX Language acquisition'!B855 & \"\"\",\"\"\" & 'BX Language acquisition'!D855 & \"\"\"\"","v":"\" \",\"\",\"\",\"\""}]
[{"$f":"\"\"\" \"& 'BX Language acquisition'!A856 & \"\"\",\"\"\" & 'BX Language acquisition'!C856 & \"\"\",\"\"\" & 'BX Language acquisition'!B856 & \"\"\",\"\"\" & 'BX Language acquisition'!D856 & \"\"\"\"","v":"\" \",\"\",\"\",\"\""}]
[{"$f":"\"\"\" \"& 'BX Language acquisition'!A857 & \"\"\",\"\"\" & 'BX Language acquisition'!C857 & \"\"\",\"\"\" & 'BX Language acquisition'!B857 & \"\"\",\"\"\" & 'BX Language acquisition'!D857 & \"\"\"\"","v":"\" \",\"\",\"\",\"\""}]
[{"$f":"\"\"\" \"& 'BX Language acquisition'!A858 & \"\"\",\"\"\" & 'BX Language acquisition'!C858 & \"\"\",\"\"\" & 'BX Language acquisition'!B858 & \"\"\",\"\"\" & 'BX Language acquisition'!D858 & \"\"\"\"","v":"\" \",\"\",\"\",\"\""}]
[{"$f":"\"\"\" \"& 'BX Language acquisition'!A859 & \"\"\",\"\"\" & 'BX Language acquisition'!C859 & \"\"\",\"\"\" & 'BX Language acquisition'!B859 & \"\"\",\"\"\" & 'BX Language acquisition'!D859 & \"\"\"\"","v":"\" \",\"\",\"\",\"\""}]
[{"$f":"\"\"\" \"& 'BX Language acquisition'!A860 & \"\"\",\"\"\" & 'BX Language acquisition'!C860 & \"\"\",\"\"\" & 'BX Language acquisition'!B860 & \"\"\",\"\"\" & 'BX Language acquisition'!D860 & \"\"\"\"","v":"\" \",\"\",\"\",\"\""}]
[{"$f":"\"\"\" \"& 'BX Language acquisition'!A861 & \"\"\",\"\"\" & 'BX Language acquisition'!C861 & \"\"\",\"\"\" & 'BX Language acquisition'!B861 & \"\"\",\"\"\" & 'BX Language acquisition'!D861 & \"\"\"\"","v":"\" \",\"\",\"\",\"\""}]
[{"$f":"\"\"\" \"& 'BX Language acquisition'!A862 & \"\"\",\"\"\" & 'BX Language acquisition'!C862 & \"\"\",\"\"\" & 'BX Language acquisition'!B862 & \"\"\",\"\"\" & 'BX Language acquisition'!D862 & \"\"\"\"","v":"\" \",\"\",\"\",\"\""}]
[{"$f":"\"\"\" \"& 'BX Language acquisition'!A863 & \"\"\",\"\"\" & 'BX Language acquisition'!C863 & \"\"\",\"\"\" & 'BX Language acquisition'!B863 & \"\"\",\"\"\" & 'BX Language acquisition'!D863 & \"\"\"\"","v":"\" \",\"\",\"\",\"\""}]
[{"$f":"\"\"\" \"& 'BX Language acquisition'!A864 & \"\"\",\"\"\" & 'BX Language acquisition'!C864 & \"\"\",\"\"\" & 'BX Language acquisition'!B864 & \"\"\",\"\"\" & 'BX Language acquisition'!D864 & \"\"\"\"","v":"\" \",\"\",\"\",\"\""}]
[{"$f":"\"\"\" \"& 'BX Language acquisition'!A865 & \"\"\",\"\"\" & 'BX Language acquisition'!C865 & \"\"\",\"\"\" & 'BX Language acquisition'!B865 & \"\"\",\"\"\" & 'BX Language acquisition'!D865 & \"\"\"\"","v":"\" \",\"\",\"\",\"\""}]
[{"$f":"\"\"\" \"& 'BX Language acquisition'!A866 & \"\"\",\"\"\" & 'BX Language acquisition'!C866 & \"\"\",\"\"\" & 'BX Language acquisition'!B866 & \"\"\",\"\"\" & 'BX Language acquisition'!D866 & \"\"\"\"","v":"\" \",\"\",\"\",\"\""}]
[{"$f":"\"\"\" \"& 'BX Language acquisition'!A867 & \"\"\",\"\"\" & 'BX Language acquisition'!C867 & \"\"\",\"\"\" & 'BX Language acquisition'!B867 & \"\"\",\"\"\" & 'BX Language acquisition'!D867 & \"\"\"\"","v":"\" \",\"\",\"\",\"\""}]
[{"$f":"\"\"\" \"& 'BX Language acquisition'!A868 & \"\"\",\"\"\" & 'BX Language acquisition'!C868 & \"\"\",\"\"\" & 'BX Language acquisition'!B868 & \"\"\",\"\"\" & 'BX Language acquisition'!D868 & \"\"\"\"","v":"\" \",\"\",\"\",\"\""}]
[{"$f":"\"\"\" \"& 'BX Language acquisition'!A869 & \"\"\",\"\"\" & 'BX Language acquisition'!C869 & \"\"\",\"\"\" & 'BX Language acquisition'!B869 & \"\"\",\"\"\" & 'BX Language acquisition'!D869 & \"\"\"\"","v":"\" \",\"\",\"\",\"\""}]
[{"$f":"\"\"\" \"& 'BX Language acquisition'!A870 & \"\"\",\"\"\" & 'BX Language acquisition'!C870 & \"\"\",\"\"\" & 'BX Language acquisition'!B870 & \"\"\",\"\"\" & 'BX Language acquisition'!D870 & \"\"\"\"","v":"\" \",\"\",\"\",\"\""}]
[{"$f":"\"\"\" \"& 'BX Language acquisition'!A871 & \"\"\",\"\"\" & 'BX Language acquisition'!C871 & \"\"\",\"\"\" & 'BX Language acquisition'!B871 & \"\"\",\"\"\" & 'BX Language acquisition'!D871 & \"\"\"\"","v":"\" \",\"\",\"\",\"\""}]
[{"$f":"\"\"\" \"& 'BX Language acquisition'!A872 & \"\"\",\"\"\" & 'BX Language acquisition'!C872 & \"\"\",\"\"\" & 'BX Language acquisition'!B872 & \"\"\",\"\"\" & 'BX Language acquisition'!D872 & \"\"\"\"","v":"\" \",\"\",\"\",\"\""}]
[{"$f":"\"\"\" \"& 'BX Language acquisition'!A873 & \"\"\",\"\"\" & 'BX Language acquisition'!C873 & \"\"\",\"\"\" & 'BX Language acquisition'!B873 & \"\"\",\"\"\" & 'BX Language acquisition'!D873 & \"\"\"\"","v":"\" \",\"\",\"\",\"\""}]
[{"$f":"\"\"\" \"& 'BX Language acquisition'!A874 & \"\"\",\"\"\" & 'BX Language acquisition'!C874 & \"\"\",\"\"\" & 'BX Language acquisition'!B874 & \"\"\",\"\"\" & 'BX Language acquisition'!D874 & \"\"\"\"","v":"\" \",\"\",\"\",\"\""}]
[{"$f":"\"\"\" \"& 'BX Language acquisition'!A875 & \"\"\",\"\"\" & 'BX Language acquisition'!C875 & \"\"\",\"\"\" & 'BX Language acquisition'!B875 & \"\"\",\"\"\" & 'BX Language acquisition'!D875 & \"\"\"\"","v":"\" \",\"\",\"\",\"\""}]
[{"$f":"\"\"\" \"& 'BX Language acquisition'!A876 & \"\"\",\"\"\" & 'BX Language acquisition'!C876 & \"\"\",\"\"\" & 'BX Language acquisition'!B876 & \"\"\",\"\"\" & 'BX Language acquisition'!D876 & \"\"\"\"","v":"\" \",\"\",\"\",\"\""}]
[{"$f":"\"\"\" \"& 'BX Language acquisition'!A877 & \"\"\",\"\"\" & 'BX Language acquisition'!C877 & \"\"\",\"\"\" & 'BX Language acquisition'!B877 & \"\"\",\"\"\" & 'BX Language acquisition'!D877 & \"\"\"\"","v":"\" \",\"\",\"\",\"\""}]
[{"$f":"\"\"\" \"& 'BX Language acquisition'!A878 & \"\"\",\"\"\" & 'BX Language acquisition'!C878 & \"\"\",\"\"\" & 'BX Language acquisition'!B878 & \"\"\",\"\"\" & 'BX Language acquisition'!D878 & \"\"\"\"","v":"\" \",\"\",\"\",\"\""}]
[{"$f":"\"\"\" \"& 'BX Language acquisition'!A879 & \"\"\",\"\"\" & 'BX Language acquisition'!C879 & \"\"\",\"\"\" & 'BX Language acquisition'!B879 & \"\"\",\"\"\" & 'BX Language acquisition'!D879 & \"\"\"\"","v":"\" \",\"\",\"\",\"\""}]
[{"$f":"\"\"\" \"& 'BX Language acquisition'!A880 & \"\"\",\"\"\" & 'BX Language acquisition'!C880 & \"\"\",\"\"\" & 'BX Language acquisition'!B880 & \"\"\",\"\"\" & 'BX Language acquisition'!D880 & \"\"\"\"","v":"\" \",\"\",\"\",\"\""}]
[{"$f":"\"\"\" \"& 'BX Language acquisition'!A881 & \"\"\",\"\"\" & 'BX Language acquisition'!C881 & \"\"\",\"\"\" & 'BX Language acquisition'!B881 & \"\"\",\"\"\" & 'BX Language acquisition'!D881 & \"\"\"\"","v":"\" \",\"\",\"\",\"\""}]
[{"$f":"\"\"\" \"& 'BX Language acquisition'!A882 & \"\"\",\"\"\" & 'BX Language acquisition'!C882 & \"\"\",\"\"\" & 'BX Language acquisition'!B882 & \"\"\",\"\"\" & 'BX Language acquisition'!D882 & \"\"\"\"","v":"\" \",\"\",\"\",\"\""}]
[{"$f":"\"\"\" \"& 'BX Language acquisition'!A883 & \"\"\",\"\"\" & 'BX Language acquisition'!C883 & \"\"\",\"\"\" & 'BX Language acquisition'!B883 & \"\"\",\"\"\" & 'BX Language acquisition'!D883 & \"\"\"\"","v":"\" \",\"\",\"\",\"\""}]
[{"$f":"\"\"\" \"& 'BX Language acquisition'!A884 & \"\"\",\"\"\" & 'BX Language acquisition'!C884 & \"\"\",\"\"\" & 'BX Language acquisition'!B884 & \"\"\",\"\"\" & 'BX Language acquisition'!D884 & \"\"\"\"","v":"\" \",\"\",\"\",\"\""}]
[{"$f":"\"\"\" \"& 'BX Language acquisition'!A885 & \"\"\",\"\"\" & 'BX Language acquisition'!C885 & \"\"\",\"\"\" & 'BX Language acquisition'!B885 & \"\"\",\"\"\" & 'BX Language acquisition'!D885 & \"\"\"\"","v":"\" \",\"\",\"\",\"\""}]
[{"$f":"\"\"\" \"& 'BX Language acquisition'!A886 & \"\"\",\"\"\" & 'BX Language acquisition'!C886 & \"\"\",\"\"\" & 'BX Language acquisition'!B886 & \"\"\",\"\"\" & 'BX Language acquisition'!D886 & \"\"\"\"","v":"\" \",\"\",\"\",\"\""}]
[{"$f":"\"\"\" \"& 'BX Language acquisition'!A887 & \"\"\",\"\"\" & 'BX Language acquisition'!C887 & \"\"\",\"\"\" & 'BX Language acquisition'!B887 & \"\"\",\"\"\" & 'BX Language acquisition'!D887 & \"\"\"\"","v":"\" \",\"\",\"\",\"\""}]
[{"$f":"\"\"\" \"& 'BX Language acquisition'!A888 & \"\"\",\"\"\" & 'BX Language acquisition'!C888 & \"\"\",\"\"\" & 'BX Language acquisition'!B888 & \"\"\",\"\"\" & 'BX Language acquisition'!D888 & \"\"\"\"","v":"\" \",\"\",\"\",\"\""}]
[{"$f":"\"\"\" \"& 'BX Language acquisition'!A889 & \"\"\",\"\"\" & 'BX Language acquisition'!C889 & \"\"\",\"\"\" & 'BX Language acquisition'!B889 & \"\"\",\"\"\" & 'BX Language acquisition'!D889 & \"\"\"\"","v":"\" \",\"\",\"\",\"\""}]
[{"$f":"\"\"\" \"& 'BX Language acquisition'!A890 & \"\"\",\"\"\" & 'BX Language acquisition'!C890 & \"\"\",\"\"\" & 'BX Language acquisition'!B890 & \"\"\",\"\"\" & 'BX Language acquisition'!D890 & \"\"\"\"","v":"\" \",\"\",\"\",\"\""}]
[{"$f":"\"\"\" \"& 'BX Language acquisition'!A891 & \"\"\",\"\"\" & 'BX Language acquisition'!C891 & \"\"\",\"\"\" & 'BX Language acquisition'!B891 & \"\"\",\"\"\" & 'BX Language acquisition'!D891 & \"\"\"\"","v":"\" \",\"\",\"\",\"\""}]
[{"$f":"\"\"\" \"& 'BX Language acquisition'!A892 & \"\"\",\"\"\" & 'BX Language acquisition'!C892 & \"\"\",\"\"\" & 'BX Language acquisition'!B892 & \"\"\",\"\"\" & 'BX Language acquisition'!D892 & \"\"\"\"","v":"\" \",\"\",\"\",\"\""}]
[{"$f":"\"\"\" \"& 'BX Language acquisition'!A893 & \"\"\",\"\"\" & 'BX Language acquisition'!C893 & \"\"\",\"\"\" & 'BX Language acquisition'!B893 & \"\"\",\"\"\" & 'BX Language acquisition'!D893 & \"\"\"\"","v":"\" \",\"\",\"\",\"\""}]
[{"$f":"\"\"\" \"& 'BX Language acquisition'!A894 & \"\"\",\"\"\" & 'BX Language acquisition'!C894 & \"\"\",\"\"\" & 'BX Language acquisition'!B894 & \"\"\",\"\"\" & 'BX Language acquisition'!D894 & \"\"\"\"","v":"\" \",\"\",\"\",\"\""}]
[{"$f":"\"\"\" \"& 'BX Language acquisition'!A895 & \"\"\",\"\"\" & 'BX Language acquisition'!C895 & \"\"\",\"\"\" & 'BX Language acquisition'!B895 & \"\"\",\"\"\" & 'BX Language acquisition'!D895 & \"\"\"\"","v":"\" \",\"\",\"\",\"\""}]
[{"$f":"\"\"\" \"& 'BX Language acquisition'!A896 & \"\"\",\"\"\" & 'BX Language acquisition'!C896 & \"\"\",\"\"\" & 'BX Language acquisition'!B896 & \"\"\",\"\"\" & 'BX Language acquisition'!D896 & \"\"\"\"","v":"\" \",\"\",\"\",\"\""}]
[{"$f":"\"\"\" \"& 'BX Language acquisition'!A897 & \"\"\",\"\"\" & 'BX Language acquisition'!C897 & \"\"\",\"\"\" & 'BX Language acquisition'!B897 & \"\"\",\"\"\" & 'BX Language acquisition'!D897 & \"\"\"\"","v":"\" \",\"\",\"\",\"\""}]
[{"$f":"\"\"\" \"& 'BX Language acquisition'!A898 & \"\"\",\"\"\" & 'BX Language acquisition'!C898 & \"\"\",\"\"\" & 'BX Language acquisition'!B898 & \"\"\",\"\"\" & 'BX Language acquisition'!D898 & \"\"\"\"","v":"\" \",\"\",\"\",\"\""}]
[{"$f":"\"\"\" \"& 'BX Language acquisition'!A899 & \"\"\",\"\"\" & 'BX Language acquisition'!C899 & \"\"\",\"\"\" & 'BX Language acquisition'!B899 & \"\"\",\"\"\" & 'BX Language acquisition'!D899 & \"\"\"\"","v":"\" \",\"\",\"\",\"\""}]
[{"$f":"\"\"\" \"& 'BX Language acquisition'!A900 & \"\"\",\"\"\" & 'BX Language acquisition'!C900 & \"\"\",\"\"\" & 'BX Language acquisition'!B900 & \"\"\",\"\"\" & 'BX Language acquisition'!D900 & \"\"\"\"","v":"\" \",\"\",\"\",\"\""}]
[{"$f":"\"\"\" \"& 'BX Language acquisition'!A901 & \"\"\",\"\"\" & 'BX Language acquisition'!C901 & \"\"\",\"\"\" & 'BX Language acquisition'!B901 & \"\"\",\"\"\" & 'BX Language acquisition'!D901 & \"\"\"\"","v":"\" \",\"\",\"\",\"\""}]
[{"$f":"\"\"\" \"& 'BX Language acquisition'!A902 & \"\"\",\"\"\" & 'BX Language acquisition'!C902 & \"\"\",\"\"\" & 'BX Language acquisition'!B902 & \"\"\",\"\"\" & 'BX Language acquisition'!D902 & \"\"\"\"","v":"\" \",\"\",\"\",\"\""}]
[{"$f":"\"\"\" \"& 'BX Language acquisition'!A903 & \"\"\",\"\"\" & 'BX Language acquisition'!C903 & \"\"\",\"\"\" & 'BX Language acquisition'!B903 & \"\"\",\"\"\" & 'BX Language acquisition'!D903 & \"\"\"\"","v":"\" \",\"\",\"\",\"\""}]
[{"$f":"\"\"\" \"& 'BX Language acquisition'!A904 & \"\"\",\"\"\" & 'BX Language acquisition'!C904 & \"\"\",\"\"\" & 'BX Language acquisition'!B904 & \"\"\",\"\"\" & 'BX Language acquisition'!D904 & \"\"\"\"","v":"\" \",\"\",\"\",\"\""}]
[{"$f":"\"\"\" \"& 'BX Language acquisition'!A905 & \"\"\",\"\"\" & 'BX Language acquisition'!C905 & \"\"\",\"\"\" & 'BX Language acquisition'!B905 & \"\"\",\"\"\" & 'BX Language acquisition'!D905 & \"\"\"\"","v":"\" \",\"\",\"\",\"\""}]
[{"$f":"\"\"\" \"& 'BX Language acquisition'!A906 & \"\"\",\"\"\" & 'BX Language acquisition'!C906 & \"\"\",\"\"\" & 'BX Language acquisition'!B906 & \"\"\",\"\"\" & 'BX Language acquisition'!D906 & \"\"\"\"","v":"\" \",\"\",\"\",\"\""}]
[{"$f":"\"\"\" \"& 'BX Language acquisition'!A907 & \"\"\",\"\"\" & 'BX Language acquisition'!C907 & \"\"\",\"\"\" & 'BX Language acquisition'!B907 & \"\"\",\"\"\" & 'BX Language acquisition'!D907 & \"\"\"\"","v":"\" \",\"\",\"\",\"\""}]
[{"$f":"\"\"\" \"& 'BX Language acquisition'!A908 & \"\"\",\"\"\" & 'BX Language acquisition'!C908 & \"\"\",\"\"\" & 'BX Language acquisition'!B908 & \"\"\",\"\"\" & 'BX Language acquisition'!D908 & \"\"\"\"","v":"\" \",\"\",\"\",\"\""}]
[{"$f":"\"\"\" \"& 'BX Language acquisition'!A909 & \"\"\",\"\"\" & 'BX Language acquisition'!C909 & \"\"\",\"\"\" & 'BX Language acquisition'!B909 & \"\"\",\"\"\" & 'BX Language acquisition'!D909 & \"\"\"\"","v":"\" \",\"\",\"\",\"\""}]
[{"$f":"\"\"\" \"& 'BX Language acquisition'!A910 & \"\"\",\"\"\" & 'BX Language acquisition'!C910 & \"\"\",\"\"\" & 'BX Language acquisition'!B910 & \"\"\",\"\"\" & 'BX Language acquisition'!D910 & \"\"\"\"","v":"\" \",\"\",\"\",\"\""}]
[{"$f":"\"\"\" \"& 'BX Language acquisition'!A911 & \"\"\",\"\"\" & 'BX Language acquisition'!C911 & \"\"\",\"\"\" & 'BX Language acquisition'!B911 & \"\"\",\"\"\" & 'BX Language acquisition'!D911 & \"\"\"\"","v":"\" \",\"\",\"\",\"\""}]
[{"$f":"\"\"\" \"& 'BX Language acquisition'!A912 & \"\"\",\"\"\" & 'BX Language acquisition'!C912 & \"\"\",\"\"\" & 'BX Language acquisition'!B912 & \"\"\",\"\"\" & 'BX Language acquisition'!D912 & \"\"\"\"","v":"\" \",\"\",\"\",\"\""}]
[{"$f":"\"\"\" \"& 'BX Language acquisition'!A913 & \"\"\",\"\"\" & 'BX Language acquisition'!C913 & \"\"\",\"\"\" & 'BX Language acquisition'!B913 & \"\"\",\"\"\" & 'BX Language acquisition'!D913 & \"\"\"\"","v":"\" \",\"\",\"\",\"\""}]
[{"$f":"\"\"\" \"& 'BX Language acquisition'!A914 & \"\"\",\"\"\" & 'BX Language acquisition'!C914 & \"\"\",\"\"\" & 'BX Language acquisition'!B914 & \"\"\",\"\"\" & 'BX Language acquisition'!D914 & \"\"\"\"","v":"\" \",\"\",\"\",\"\""}]
[{"$f":"\"\"\" \"& 'BX Language acquisition'!A915 & \"\"\",\"\"\" & 'BX Language acquisition'!C915 & \"\"\",\"\"\" & 'BX Language acquisition'!B915 & \"\"\",\"\"\" & 'BX Language acquisition'!D915 & \"\"\"\"","v":"\" \",\"\",\"\",\"\""}]
[{"$f":"\"\"\" \"& 'BX Language acquisition'!A916 & \"\"\",\"\"\" & 'BX Language acquisition'!C916 & \"\"\",\"\"\" & 'BX Language acquisition'!B916 & \"\"\",\"\"\" & 'BX Language acquisition'!D916 & \"\"\"\"","v":"\" \",\"\",\"\",\"\""}]
[{"$f":"\"\"\" \"& 'BX Language acquisition'!A917 & \"\"\",\"\"\" & 'BX Language acquisition'!C917 & \"\"\",\"\"\" & 'BX Language acquisition'!B917 & \"\"\",\"\"\" & 'BX Language acquisition'!D917 & \"\"\"\"","v":"\" \",\"\",\"\",\"\""}]
[{"$f":"\"\"\" \"& 'BX Language acquisition'!A918 & \"\"\",\"\"\" & 'BX Language acquisition'!C918 & \"\"\",\"\"\" & 'BX Language acquisition'!B918 & \"\"\",\"\"\" & 'BX Language acquisition'!D918 & \"\"\"\"","v":"\" \",\"\",\"\",\"\""}]
[{"$f":"\"\"\" \"& 'BX Language acquisition'!A919 & \"\"\",\"\"\" & 'BX Language acquisition'!C919 & \"\"\",\"\"\" & 'BX Language acquisition'!B919 & \"\"\",\"\"\" & 'BX Language acquisition'!D919 & \"\"\"\"","v":"\" \",\"\",\"\",\"\""}]
[{"$f":"\"\"\" \"& 'BX Language acquisition'!A920 & \"\"\",\"\"\" & 'BX Language acquisition'!C920 & \"\"\",\"\"\" & 'BX Language acquisition'!B920 & \"\"\",\"\"\" & 'BX Language acquisition'!D920 & \"\"\"\"","v":"\" \",\"\",\"\",\"\""}]
[{"$f":"\"\"\" \"& 'BX Language acquisition'!A921 & \"\"\",\"\"\" & 'BX Language acquisition'!C921 & \"\"\",\"\"\" & 'BX Language acquisition'!B921 & \"\"\",\"\"\" & 'BX Language acquisition'!D921 & \"\"\"\"","v":"\" \",\"\",\"\",\"\""}]
[{"$f":"\"\"\" \"& 'BX Language acquisition'!A922 & \"\"\",\"\"\" & 'BX Language acquisition'!C922 & \"\"\",\"\"\" & 'BX Language acquisition'!B922 & \"\"\",\"\"\" & 'BX Language acquisition'!D922 & \"\"\"\"","v":"\" \",\"\",\"\",\"\""}]
[{"$f":"\"\"\" \"& 'BX Language acquisition'!A923 & \"\"\",\"\"\" & 'BX Language acquisition'!C923 & \"\"\",\"\"\" & 'BX Language acquisition'!B923 & \"\"\",\"\"\" & 'BX Language acquisition'!D923 & \"\"\"\"","v":"\" \",\"\",\"\",\"\""}]
[{"$f":"\"\"\" \"& 'BX Language acquisition'!A924 & \"\"\",\"\"\" & 'BX Language acquisition'!C924 & \"\"\",\"\"\" & 'BX Language acquisition'!B924 & \"\"\",\"\"\" & 'BX Language acquisition'!D924 & \"\"\"\"","v":"\" \",\"\",\"\",\"\""}]
[{"$f":"\"\"\" \"& 'BX Language acquisition'!A925 & \"\"\",\"\"\" & 'BX Language acquisition'!C925 & \"\"\",\"\"\" & 'BX Language acquisition'!B925 & \"\"\",\"\"\" & 'BX Language acquisition'!D925 & \"\"\"\"","v":"\" \",\"\",\"\",\"\""}]
[{"$f":"\"\"\" \"& 'BX Language acquisition'!A926 & \"\"\",\"\"\" & 'BX Language acquisition'!C926 & \"\"\",\"\"\" & 'BX Language acquisition'!B926 & \"\"\",\"\"\" & 'BX Language acquisition'!D926 & \"\"\"\"","v":"\" \",\"\",\"\",\"\""}]
[{"$f":"\"\"\" \"& 'BX Language acquisition'!A927 & \"\"\",\"\"\" & 'BX Language acquisition'!C927 & \"\"\",\"\"\" & 'BX Language acquisition'!B927 & \"\"\",\"\"\" & 'BX Language acquisition'!D927 & \"\"\"\"","v":"\" \",\"\",\"\",\"\""}]
[{"$f":"\"\"\" \"& 'BX Language acquisition'!A928 & \"\"\",\"\"\" & 'BX Language acquisition'!C928 & \"\"\",\"\"\" & 'BX Language acquisition'!B928 & \"\"\",\"\"\" & 'BX Language acquisition'!D928 & \"\"\"\"","v":"\" \",\"\",\"\",\"\""}]
[{"$f":"\"\"\" \"& 'BX Language acquisition'!A929 & \"\"\",\"\"\" & 'BX Language acquisition'!C929 & \"\"\",\"\"\" & 'BX Language acquisition'!B929 & \"\"\",\"\"\" & 'BX Language acquisition'!D929 & \"\"\"\"","v":"\" \",\"\",\"\",\"\""}]
[{"$f":"\"\"\" \"& 'BX Language acquisition'!A930 & \"\"\",\"\"\" & 'BX Language acquisition'!C930 & \"\"\",\"\"\" & 'BX Language acquisition'!B930 & \"\"\",\"\"\" & 'BX Language acquisition'!D930 & \"\"\"\"","v":"\" \",\"\",\"\",\"\""}]
[{"$f":"\"\"\" \"& 'BX Language acquisition'!A931 & \"\"\",\"\"\" & 'BX Language acquisition'!C931 & \"\"\",\"\"\" & 'BX Language acquisition'!B931 & \"\"\",\"\"\" & 'BX Language acquisition'!D931 & \"\"\"\"","v":"\" \",\"\",\"\",\"\""}]
[{"$f":"\"\"\" \"& 'BX Language acquisition'!A932 & \"\"\",\"\"\" & 'BX Language acquisition'!C932 & \"\"\",\"\"\" & 'BX Language acquisition'!B932 & \"\"\",\"\"\" & 'BX Language acquisition'!D932 & \"\"\"\"","v":"\" \",\"\",\"\",\"\""}]
[{"$f":"\"\"\" \"& 'BX Language acquisition'!A933 & \"\"\",\"\"\" & 'BX Language acquisition'!C933 & \"\"\",\"\"\" & 'BX Language acquisition'!B933 & \"\"\",\"\"\" & 'BX Language acquisition'!D933 & \"\"\"\"","v":"\" \",\"\",\"\",\"\""}]
[{"$f":"\"\"\" \"& 'BX Language acquisition'!A934 & \"\"\",\"\"\" & 'BX Language acquisition'!C934 & \"\"\",\"\"\" & 'BX Language acquisition'!B934 & \"\"\",\"\"\" & 'BX Language acquisition'!D934 & \"\"\"\"","v":"\" \",\"\",\"\",\"\""}]
[{"$f":"\"\"\" \"& 'BX Language acquisition'!A935 & \"\"\",\"\"\" & 'BX Language acquisition'!C935 & \"\"\",\"\"\" & 'BX Language acquisition'!B935 & \"\"\",\"\"\" & 'BX Language acquisition'!D935 & \"\"\"\"","v":"\" \",\"\",\"\",\"\""}]
[{"$f":"\"\"\" \"& 'BX Language acquisition'!A936 & \"\"\",\"\"\" & 'BX Language acquisition'!C936 & \"\"\",\"\"\" & 'BX Language acquisition'!B936 & \"\"\",\"\"\" & 'BX Language acquisition'!D936 & \"\"\"\"","v":"\" \",\"\",\"\",\"\""}]
[{"$f":"\"\"\" \"& 'BX Language acquisition'!A937 & \"\"\",\"\"\" & 'BX Language acquisition'!C937 & \"\"\",\"\"\" & 'BX Language acquisition'!B937 & \"\"\",\"\"\" & 'BX Language acquisition'!D937 & \"\"\"\"","v":"\" \",\"\",\"\",\"\""}]
[{"$f":"\"\"\" \"& 'BX Language acquisition'!A938 & \"\"\",\"\"\" & 'BX Language acquisition'!C938 & \"\"\",\"\"\" & 'BX Language acquisition'!B938 & \"\"\",\"\"\" & 'BX Language acquisition'!D938 & \"\"\"\"","v":"\" \",\"\",\"\",\"\""}]
[{"$f":"\"\"\" \"& 'BX Language acquisition'!A939 & \"\"\",\"\"\" & 'BX Language acquisition'!C939 & \"\"\",\"\"\" & 'BX Language acquisition'!B939 & \"\"\",\"\"\" & 'BX Language acquisition'!D939 & \"\"\"\"","v":"\" \",\"\",\"\",\"\""}]
[{"$f":"\"\"\" \"& 'BX Language acquisition'!A940 & \"\"\",\"\"\" & 'BX Language acquisition'!C940 & \"\"\",\"\"\" & 'BX Language acquisition'!B940 & \"\"\",\"\"\" & 'BX Language acquisition'!D940 & \"\"\"\"","v":"\" \",\"\",\"\",\"\""}]
[{"$f":"\"\"\" \"& 'BX Language acquisition'!A941 & \"\"\",\"\"\" & 'BX Language acquisition'!C941 & \"\"\",\"\"\" & 'BX Language acquisition'!B941 & \"\"\",\"\"\" & 'BX Language acquisition'!D941 & \"\"\"\"","v":"\" \",\"\",\"\",\"\""}]
[{"$f":"\"\"\" \"& 'BX Language acquisition'!A942 & \"\"\",\"\"\" & 'BX Language acquisition'!C942 & \"\"\",\"\"\" & 'BX Language acquisition'!B942 & \"\"\",\"\"\" & 'BX Language acquisition'!D942 & \"\"\"\"","v":"\" \",\"\",\"\",\"\""}]
[{"$f":"\"\"\" \"& 'BX Language acquisition'!A943 & \"\"\",\"\"\" & 'BX Language acquisition'!C943 & \"\"\",\"\"\" & 'BX Language acquisition'!B943 & \"\"\",\"\"\" & 'BX Language acquisition'!D943 & \"\"\"\"","v":"\" \",\"\",\"\",\"\""}]
[{"$f":"\"\"\" \"& 'BX Language acquisition'!A944 & \"\"\",\"\"\" & 'BX Language acquisition'!C944 & \"\"\",\"\"\" & 'BX Language acquisition'!B944 & \"\"\",\"\"\" & 'BX Language acquisition'!D944 & \"\"\"\"","v":"\" \",\"\",\"\",\"\""}]
[{"$f":"\"\"\" \"& 'BX Language acquisition'!A945 & \"\"\",\"\"\" & 'BX Language acquisition'!C945 & \"\"\",\"\"\" & 'BX Language acquisition'!B945 & \"\"\",\"\"\" & 'BX Language acquisition'!D945 & \"\"\"\"","v":"\" \",\"\",\"\",\"\""}]
[{"$f":"\"\"\" \"& 'BX Language acquisition'!A946 & \"\"\",\"\"\" & 'BX Language acquisition'!C946 & \"\"\",\"\"\" & 'BX Language acquisition'!B946 & \"\"\",\"\"\" & 'BX Language acquisition'!D946 & \"\"\"\"","v":"\" \",\"\",\"\",\"\""}]
[{"$f":"\"\"\" \"& 'BX Language acquisition'!A947 & \"\"\",\"\"\" & 'BX Language acquisition'!C947 & \"\"\",\"\"\" & 'BX Language acquisition'!B947 & \"\"\",\"\"\" & 'BX Language acquisition'!D947 & \"\"\"\"","v":"\" \",\"\",\"\",\"\""}]
[{"$f":"\"\"\" \"& 'BX Language acquisition'!A948 & \"\"\",\"\"\" & 'BX Language acquisition'!C948 & \"\"\",\"\"\" & 'BX Language acquisition'!B948 & \"\"\",\"\"\" & 'BX Language acquisition'!D948 & \"\"\"\"","v":"\" \",\"\",\"\",\"\""}]
[{"$f":"\"\"\" \"& 'BX Language acquisition'!A949 & \"\"\",\"\"\" & 'BX Language acquisition'!C949 & \"\"\",\"\"\" & 'BX Language acquisition'!B949 & \"\"\",\"\"\" & 'BX Language acquisition'!D949 & \"\"\"\"","v":"\" \",\"\",\"\",\"\""}]
[{"$f":"\"\"\" \"& 'BX Language acquisition'!A950 & \"\"\",\"\"\" & 'BX Language acquisition'!C950 & \"\"\",\"\"\" & 'BX Language acquisition'!B950 & \"\"\",\"\"\" & 'BX Language acquisition'!D950 & \"\"\"\"","v":"\" \",\"\",\"\",\"\""}]
[{"$f":"\"\"\" \"& 'BX Language acquisition'!A951 & \"\"\",\"\"\" & 'BX Language acquisition'!C951 & \"\"\",\"\"\" & 'BX Language acquisition'!B951 & \"\"\",\"\"\" & 'BX Language acquisition'!D951 & \"\"\"\"","v":"\" \",\"\",\"\",\"\""}]
[{"$f":"\"\"\" \"& 'BX Language acquisition'!A952 & \"\"\",\"\"\" & 'BX Language acquisition'!C952 & \"\"\",\"\"\" & 'BX Language acquisition'!B952 & \"\"\",\"\"\" & 'BX Language acquisition'!D952 & \"\"\"\"","v":"\" \",\"\",\"\",\"\""}]
[{"$f":"\"\"\" \"& 'BX Language acquisition'!A953 & \"\"\",\"\"\" & 'BX Language acquisition'!C953 & \"\"\",\"\"\" & 'BX Language acquisition'!B953 & \"\"\",\"\"\" & 'BX Language acquisition'!D953 & \"\"\"\"","v":"\" \",\"\",\"\",\"\""}]
[{"$f":"\"\"\" \"& 'BX Language acquisition'!A954 & \"\"\",\"\"\" & 'BX Language acquisition'!C954 & \"\"\",\"\"\" & 'BX Language acquisition'!B954 & \"\"\",\"\"\" & 'BX Language acquisition'!D954 & \"\"\"\"","v":"\" \",\"\",\"\",\"\""}]
[{"$f":"\"\"\" \"& 'BX Language acquisition'!A955 & \"\"\",\"\"\" & 'BX Language acquisition'!C955 & \"\"\",\"\"\" & 'BX Language acquisition'!B955 & \"\"\",\"\"\" & 'BX Language acquisition'!D955 & \"\"\"\"","v":"\" \",\"\",\"\",\"\""}]
[{"$f":"\"\"\" \"& 'BX Language acquisition'!A956 & \"\"\",\"\"\" & 'BX Language acquisition'!C956 & \"\"\",\"\"\" & 'BX Language acquisition'!B956 & \"\"\",\"\"\" & 'BX Language acquisition'!D956 & \"\"\"\"","v":"\" \",\"\",\"\",\"\""}]
[{"$f":"\"\"\" \"& 'BX Language acquisition'!A957 & \"\"\",\"\"\" & 'BX Language acquisition'!C957 & \"\"\",\"\"\" & 'BX Language acquisition'!B957 & \"\"\",\"\"\" & 'BX Language acquisition'!D957 & \"\"\"\"","v":"\" \",\"\",\"\",\"\""}]
[{"$f":"\"\"\" \"& 'BX Language acquisition'!A958 & \"\"\",\"\"\" & 'BX Language acquisition'!C958 & \"\"\",\"\"\" & 'BX Language acquisition'!B958 & \"\"\",\"\"\" & 'BX Language acquisition'!D958 & \"\"\"\"","v":"\" \",\"\",\"\",\"\""}]
[{"$f":"\"\"\" \"& 'BX Language acquisition'!A959 & \"\"\",\"\"\" & 'BX Language acquisition'!C959 & \"\"\",\"\"\" & 'BX Language acquisition'!B959 & \"\"\",\"\"\" & 'BX Language acquisition'!D959 & \"\"\"\"","v":"\" \",\"\",\"\",\"\""}]
[{"$f":"\"\"\" \"& 'BX Language acquisition'!A960 & \"\"\",\"\"\" & 'BX Language acquisition'!C960 & \"\"\",\"\"\" & 'BX Language acquisition'!B960 & \"\"\",\"\"\" & 'BX Language acquisition'!D960 & \"\"\"\"","v":"\" \",\"\",\"\",\"\""}]
[{"$f":"\"\"\" \"& 'BX Language acquisition'!A961 & \"\"\",\"\"\" & 'BX Language acquisition'!C961 & \"\"\",\"\"\" & 'BX Language acquisition'!B961 & \"\"\",\"\"\" & 'BX Language acquisition'!D961 & \"\"\"\"","v":"\" \",\"\",\"\",\"\""}]
[{"$f":"\"\"\" \"& 'BX Language acquisition'!A962 & \"\"\",\"\"\" & 'BX Language acquisition'!C962 & \"\"\",\"\"\" & 'BX Language acquisition'!B962 & \"\"\",\"\"\" & 'BX Language acquisition'!D962 & \"\"\"\"","v":"\" \",\"\",\"\",\"\""}]
[{"$f":"\"\"\" \"& 'BX Language acquisition'!A963 & \"\"\",\"\"\" & 'BX Language acquisition'!C963 & \"\"\",\"\"\" & 'BX Language acquisition'!B963 & \"\"\",\"\"\" & 'BX Language acquisition'!D963 & \"\"\"\"","v":"\" \",\"\",\"\",\"\""}]
[{"$f":"\"\"\" \"& 'BX Language acquisition'!A964 & \"\"\",\"\"\" & 'BX Language acquisition'!C964 & \"\"\",\"\"\" & 'BX Language acquisition'!B964 & \"\"\",\"\"\" & 'BX Language acquisition'!D964 & \"\"\"\"","v":"\" \",\"\",\"\",\"\""}]
[{"$f":"\"\"\" \"& 'BX Language acquisition'!A965 & \"\"\",\"\"\" & 'BX Language acquisition'!C965 & \"\"\",\"\"\" & 'BX Language acquisition'!B965 & \"\"\",\"\"\" & 'BX Language acquisition'!D965 & \"\"\"\"","v":"\" \",\"\",\"\",\"\""}]
[{"$f":"\"\"\" \"& 'BX Language acquisition'!A966 & \"\"\",\"\"\" & 'BX Language acquisition'!C966 & \"\"\",\"\"\" & 'BX Language acquisition'!B966 & \"\"\",\"\"\" & 'BX Language acquisition'!D966 & \"\"\"\"","v":"\" \",\"\",\"\",\"\""}]
[{"$f":"\"\"\" \"& 'BX Language acquisition'!A967 & \"\"\",\"\"\" & 'BX Language acquisition'!C967 & \"\"\",\"\"\" & 'BX Language acquisition'!B967 & \"\"\",\"\"\" & 'BX Language acquisition'!D967 & \"\"\"\"","v":"\" \",\"\",\"\",\"\""}]
[{"$f":"\"\"\" \"& 'BX Language acquisition'!A968 & \"\"\",\"\"\" & 'BX Language acquisition'!C968 & \"\"\",\"\"\" & 'BX Language acquisition'!B968 & \"\"\",\"\"\" & 'BX Language acquisition'!D968 & \"\"\"\"","v":"\" \",\"\",\"\",\"\""}]
[{"$f":"\"\"\" \"& 'BX Language acquisition'!A969 & \"\"\",\"\"\" & 'BX Language acquisition'!C969 & \"\"\",\"\"\" & 'BX Language acquisition'!B969 & \"\"\",\"\"\" & 'BX Language acquisition'!D969 & \"\"\"\"","v":"\" \",\"\",\"\",\"\""}]
[{"$f":"\"\"\" \"& 'BX Language acquisition'!A970 & \"\"\",\"\"\" & 'BX Language acquisition'!C970 & \"\"\",\"\"\" & 'BX Language acquisition'!B970 & \"\"\",\"\"\" & 'BX Language acquisition'!D970 & \"\"\"\"","v":"\" \",\"\",\"\",\"\""}]
[{"$f":"\"\"\" \"& 'BX Language acquisition'!A971 & \"\"\",\"\"\" & 'BX Language acquisition'!C971 & \"\"\",\"\"\" & 'BX Language acquisition'!B971 & \"\"\",\"\"\" & 'BX Language acquisition'!D971 & \"\"\"\"","v":"\" \",\"\",\"\",\"\""}]
[{"$f":"\"\"\" \"& 'BX Language acquisition'!A972 & \"\"\",\"\"\" & 'BX Language acquisition'!C972 & \"\"\",\"\"\" & 'BX Language acquisition'!B972 & \"\"\",\"\"\" & 'BX Language acquisition'!D972 & \"\"\"\"","v":"\" \",\"\",\"\",\"\""}]
[{"$f":"\"\"\" \"& 'BX Language acquisition'!A973 & \"\"\",\"\"\" & 'BX Language acquisition'!C973 & \"\"\",\"\"\" & 'BX Language acquisition'!B973 & \"\"\",\"\"\" & 'BX Language acquisition'!D973 & \"\"\"\"","v":"\" \",\"\",\"\",\"\""}]
[{"$f":"\"\"\" \"& 'BX Language acquisition'!A974 & \"\"\",\"\"\" & 'BX Language acquisition'!C974 & \"\"\",\"\"\" & 'BX Language acquisition'!B974 & \"\"\",\"\"\" & 'BX Language acquisition'!D974 & \"\"\"\"","v":"\" \",\"\",\"\",\"\""}]
[{"$f":"\"\"\" \"& 'BX Language acquisition'!A975 & \"\"\",\"\"\" & 'BX Language acquisition'!C975 & \"\"\",\"\"\" & 'BX Language acquisition'!B975 & \"\"\",\"\"\" & 'BX Language acquisition'!D975 & \"\"\"\"","v":"\" \",\"\",\"\",\"\""}]
[{"$f":"\"\"\" \"& 'BX Language acquisition'!A976 & \"\"\",\"\"\" & 'BX Language acquisition'!C976 & \"\"\",\"\"\" & 'BX Language acquisition'!B976 & \"\"\",\"\"\" & 'BX Language acquisition'!D976 & \"\"\"\"","v":"\" \",\"\",\"\",\"\""}]
[{"$f":"\"\"\" \"& 'BX Language acquisition'!A977 & \"\"\",\"\"\" & 'BX Language acquisition'!C977 & \"\"\",\"\"\" & 'BX Language acquisition'!B977 & \"\"\",\"\"\" & 'BX Language acquisition'!D977 & \"\"\"\"","v":"\" \",\"\",\"\",\"\""}]
[{"$f":"\"\"\" \"& 'BX Language acquisition'!A978 & \"\"\",\"\"\" & 'BX Language acquisition'!C978 & \"\"\",\"\"\" & 'BX Language acquisition'!B978 & \"\"\",\"\"\" & 'BX Language acquisition'!D978 & \"\"\"\"","v":"\" \",\"\",\"\",\"\""}]
[{"$f":"\"\"\" \"& 'BX Language acquisition'!A979 & \"\"\",\"\"\" & 'BX Language acquisition'!C979 & \"\"\",\"\"\" & 'BX Language acquisition'!B979 & \"\"\",\"\"\" & 'BX Language acquisition'!D979 & \"\"\"\"","v":"\" \",\"\",\"\",\"\""}]
[{"$f":"\"\"\" \"& 'BX Language acquisition'!A980 & \"\"\",\"\"\" & 'BX Language acquisition'!C980 & \"\"\",\"\"\" & 'BX Language acquisition'!B980 & \"\"\",\"\"\" & 'BX Language acquisition'!D980 & \"\"\"\"","v":"\" \",\"\",\"\",\"\""}]
[{"$f":"\"\"\" \"& 'BX Language acquisition'!A981 & \"\"\",\"\"\" & 'BX Language acquisition'!C981 & \"\"\",\"\"\" & 'BX Language acquisition'!B981 & \"\"\",\"\"\" & 'BX Language acquisition'!D981 & \"\"\"\"","v":"\" \",\"\",\"\",\"\""}]
[{"$f":"\"\"\" \"& 'BX Language acquisition'!A982 & \"\"\",\"\"\" & 'BX Language acquisition'!C982 & \"\"\",\"\"\" & 'BX Language acquisition'!B982 & \"\"\",\"\"\" & 'BX Language acquisition'!D982 & \"\"\"\"","v":"\" \",\"\",\"\",\"\""}]
[{"$f":"\"\"\" \"& 'BX Language acquisition'!A983 & \"\"\",\"\"\" & 'BX Language acquisition'!C983 & \"\"\",\"\"\" & 'BX Language acquisition'!B983 & \"\"\",\"\"\" & 'BX Language acquisition'!D983 & \"\"\"\"","v":"\" \",\"\",\"\",\"\""}]
[{"$f":"\"\"\" \"& 'BX Language acquisition'!A984 & \"\"\",\"\"\" & 'BX Language acquisition'!C984 & \"\"\",\"\"\" & 'BX Language acquisition'!B984 & \"\"\",\"\"\" & 'BX Language acquisition'!D984 & \"\"\"\"","v":"\" \",\"\",\"\",\"\""}]
[{"$f":"\"\"\" \"& 'BX Language acquisition'!A985 & \"\"\",\"\"\" & 'BX Language acquisition'!C985 & \"\"\",\"\"\" & 'BX Language acquisition'!B985 & \"\"\",\"\"\" & 'BX Language acquisition'!D985 & \"\"\"\"","v":"\" \",\"\",\"\",\"\""}]
[{"$f":"\"\"\" \"& 'BX Language acquisition'!A986 & \"\"\",\"\"\" & 'BX Language acquisition'!C986 & \"\"\",\"\"\" & 'BX Language acquisition'!B986 & \"\"\",\"\"\" & 'BX Language acquisition'!D986 & \"\"\"\"","v":"\" \",\"\",\"\",\"\""}]
[{"$f":"\"\"\" \"& 'BX Language acquisition'!A987 & \"\"\",\"\"\" & 'BX Language acquisition'!C987 & \"\"\",\"\"\" & 'BX Language acquisition'!B987 & \"\"\",\"\"\" & 'BX Language acquisition'!D987 & \"\"\"\"","v":"\" \",\"\",\"\",\"\""}]
[{"$f":"\"\"\" \"& 'BX Language acquisition'!A988 & \"\"\",\"\"\" & 'BX Language acquisition'!C988 & \"\"\",\"\"\" & 'BX Language acquisition'!B988 & \"\"\",\"\"\" & 'BX Language acquisition'!D988 & \"\"\"\"","v":"\" \",\"\",\"\",\"\""}]
[{"$f":"\"\"\" \"& 'BX Language acquisition'!A989 & \"\"\",\"\"\" & 'BX Language acquisition'!C989 & \"\"\",\"\"\" & 'BX Language acquisition'!B989 & \"\"\",\"\"\" & 'BX Language acquisition'!D989 & \"\"\"\"","v":"\" \",\"\",\"\",\"\""}]
[{"$f":"\"\"\" \"& 'BX Language acquisition'!A990 & \"\"\",\"\"\" & 'BX Language acquisition'!C990 & \"\"\",\"\"\" & 'BX Language acquisition'!B990 & \"\"\",\"\"\" & 'BX Language acquisition'!D990 & \"\"\"\"","v":"\" \",\"\",\"\",\"\""}]
[{"$f":"\"\"\" \"& 'BX Language acquisition'!A991 & \"\"\",\"\"\" & 'BX Language acquisition'!C991 & \"\"\",\"\"\" & 'BX Language acquisition'!B991 & \"\"\",\"\"\" & 'BX Language acquisition'!D991 & \"\"\"\"","v":"\" \",\"\",\"\",\"\""}]
[{"$f":"\"\"\" \"& 'BX Language acquisition'!A992 & \"\"\",\"\"\" & 'BX Language acquisition'!C992 & \"\"\",\"\"\" & 'BX Language acquisition'!B992 & \"\"\",\"\"\" & 'BX Language acquisition'!D992 & \"\"\"\"","v":"\" \",\"\",\"\",\"\""}]
[{"$f":"\"\"\" \"& 'BX Language acquisition'!A993 & \"\"\",\"\"\" & 'BX Language acquisition'!C993 & \"\"\",\"\"\" & 'BX Language acquisition'!B993 & \"\"\",\"\"\" & 'BX Language acquisition'!D993 & \"\"\"\"","v":"\" \",\"\",\"\",\"\""}]
[{"$f":"\"\"\" \"& 'BX Language acquisition'!A994 & \"\"\",\"\"\" & 'BX Language acquisition'!C994 & \"\"\",\"\"\" & 'BX Language acquisition'!B994 & \"\"\",\"\"\" & 'BX Language acquisition'!D994 & \"\"\"\"","v":"\" \",\"\",\"\",\"\""}]
[{"$f":"\"\"\" \"& 'BX Language acquisition'!A995 & \"\"\",\"\"\" & 'BX Language acquisition'!C995 & \"\"\",\"\"\" & 'BX Language acquisition'!B995 & \"\"\",\"\"\" & 'BX Language acquisition'!D995 & \"\"\"\"","v":"\" \",\"\",\"\",\"\""}]
[{"$f":"\"\"\" \"& 'BX Language acquisition'!A996 & \"\"\",\"\"\" & 'BX Language acquisition'!C996 & \"\"\",\"\"\" & 'BX Language acquisition'!B996 & \"\"\",\"\"\" & 'BX Language acquisition'!D996 & \"\"\"\"","v":"\" \",\"\",\"\",\"\""}]
[{"$f":"\"\"\" \"& 'BX Language acquisition'!A997 & \"\"\",\"\"\" & 'BX Language acquisition'!C997 & \"\"\",\"\"\" & 'BX Language acquisition'!B997 & \"\"\",\"\"\" & 'BX Language acquisition'!D997 & \"\"\"\"","v":"\" \",\"\",\"\",\"\""}]
[{"$f":"\"\"\" \"& 'BX Language acquisition'!A998 & \"\"\",\"\"\" & 'BX Language acquisition'!C998 & \"\"\",\"\"\" & 'BX Language acquisition'!B998 & \"\"\",\"\"\" & 'BX Language acquisition'!D998 & \"\"\"\"","v":"\" \",\"\",\"\",\"\""}]
[{"$f":"\"\"\" \"& 'BX Language acquisition'!A999 & \"\"\",\"\"\" & 'BX Language acquisition'!C999 & \"\"\",\"\"\" & 'BX Language acquisition'!B999 & \"\"\",\"\"\" & 'BX Language acquisition'!D999 & \"\"\"\"","v":"\" \",\"\",\"\",\"\""}]
[{"$f":"\"\"\" \"& 'BX Language acquisition'!A1000 & \"\"\",\"\"\" & 'BX Language acquisition'!C1000 & \"\"\",\"\"\" & 'BX Language acquisition'!B1000 & \"\"\",\"\"\" & 'BX Language acquisition'!D1000 & \"\"\"\"","v":"\" \",\"\",\"\",\"\""}]
[{"$f":"\"\"\" \"& 'BX Language acquisition'!A1001 & \"\"\",\"\"\" & 'BX Language acquisition'!C1001 & \"\"\",\"\"\" & 'BX Language acquisition'!B1001 & \"\"\",\"\"\" & 'BX Language acquisition'!D1001 & \"\"\"\"","v":"\" \",\"\",\"\",\"\""}]
[{"$f":"\"\"\" \"& 'BX Language acquisition'!A1002 & \"\"\",\"\"\" & 'BX Language acquisition'!C1002 & \"\"\",\"\"\" & 'BX Language acquisition'!B1002 & \"\"\",\"\"\" & 'BX Language acquisition'!D1002 & \"\"\"\"","v":"\" \",\"\",\"\",\"\""}]
[{"$f":"\"\"\" \"& 'BX Language acquisition'!A1003 & \"\"\",\"\"\" & 'BX Language acquisition'!C1003 & \"\"\",\"\"\" & 'BX Language acquisition'!B1003 & \"\"\",\"\"\" & 'BX Language acquisition'!D1003 & \"\"\"\"","v":"\" \",\"\",\"\",\"\""}]
[{"$f":"\"\"\" \"& 'BX Language acquisition'!A1004 & \"\"\",\"\"\" & 'BX Language acquisition'!C1004 & \"\"\",\"\"\" & 'BX Language acquisition'!B1004 & \"\"\",\"\"\" & 'BX Language acquisition'!D1004 & \"\"\"\"","v":"\" \",\"\",\"\",\"\""}]
[{"$f":"\"\"\" \"& 'BX Language acquisition'!A1005 & \"\"\",\"\"\" & 'BX Language acquisition'!C1005 & \"\"\",\"\"\" & 'BX Language acquisition'!B1005 & \"\"\",\"\"\" & 'BX Language acquisition'!D1005 & \"\"\"\"","v":"\" \",\"\",\"\",\"\""}]
[{"$f":"\"\"\" \"& 'BX Language acquisition'!A1006 & \"\"\",\"\"\" & 'BX Language acquisition'!C1006 & \"\"\",\"\"\" & 'BX Language acquisition'!B1006 & \"\"\",\"\"\" & 'BX Language acquisition'!D1006 & \"\"\"\"","v":"\" \",\"\",\"\",\"\""}]
[{"$f":"\"\"\" \"& 'BX Language acquisition'!A1007 & \"\"\",\"\"\" & 'BX Language acquisition'!C1007 & \"\"\",\"\"\" & 'BX Language acquisition'!B1007 & \"\"\",\"\"\" & 'BX Language acquisition'!D1007 & \"\"\"\"","v":"\" \",\"\",\"\",\"\""}]
[{"$f":"\"\"\" \"& 'BX Language acquisition'!A1008 & \"\"\",\"\"\" & 'BX Language acquisition'!C1008 & \"\"\",\"\"\" & 'BX Language acquisition'!B1008 & \"\"\",\"\"\" & 'BX Language acquisition'!D1008 & \"\"\"\"","v":"\" \",\"\",\"\",\"\""}]
[{"$f":"\"\"\" \"& 'BX Language acquisition'!A1009 & \"\"\",\"\"\" & 'BX Language acquisition'!C1009 & \"\"\",\"\"\" & 'BX Language acquisition'!B1009 & \"\"\",\"\"\" & 'BX Language acquisition'!D1009 & \"\"\"\"","v":"\" \",\"\",\"\",\"\""}]
[{"$f":"\"\"\" \"& 'BX Language acquisition'!A1010 & \"\"\",\"\"\" & 'BX Language acquisition'!C1010 & \"\"\",\"\"\" & 'BX Language acquisition'!B1010 & \"\"\",\"\"\" & 'BX Language acquisition'!D1010 & \"\"\"\"","v":"\" \",\"\",\"\",\"\""}]
[{"$f":"\"\"\" \"& 'BX Language acquisition'!A1011 & \"\"\",\"\"\" & 'BX Language acquisition'!C1011 & \"\"\",\"\"\" & 'BX Language acquisition'!B1011 & \"\"\",\"\"\" & 'BX Language acquisition'!D1011 & \"\"\"\"","v":"\" \",\"\",\"\",\"\""}]
[{"$f":"\"\"\" \"& 'BX Language acquisition'!A1012 & \"\"\",\"\"\" & 'BX Language acquisition'!C1012 & \"\"\",\"\"\" & 'BX Language acquisition'!B1012 & \"\"\",\"\"\" & 'BX Language acquisition'!D1012 & \"\"\"\"","v":"\" \",\"\",\"\",\"\""}]
[{"$f":"\"\"\" \"& 'BX Language acquisition'!A1013 & \"\"\",\"\"\" & 'BX Language acquisition'!C1013 & \"\"\",\"\"\" & 'BX Language acquisition'!B1013 & \"\"\",\"\"\" & 'BX Language acquisition'!D1013 & \"\"\"\"","v":"\" \",\"\",\"\",\"\""}]
[{"$f":"\"\"\" \"& 'BX Language acquisition'!A1014 & \"\"\",\"\"\" & 'BX Language acquisition'!C1014 & \"\"\",\"\"\" & 'BX Language acquisition'!B1014 & \"\"\",\"\"\" & 'BX Language acquisition'!D1014 & \"\"\"\"","v":"\" \",\"\",\"\",\"\""}]
[{"$f":"\"\"\" \"& 'BX Language acquisition'!A1015 & \"\"\",\"\"\" & 'BX Language acquisition'!C1015 & \"\"\",\"\"\" & 'BX Language acquisition'!B1015 & \"\"\",\"\"\" & 'BX Language acquisition'!D1015 & \"\"\"\"","v":"\" \",\"\",\"\",\"\""}]
[{"$f":"\"\"\" \"& 'BX Language acquisition'!A1016 & \"\"\",\"\"\" & 'BX Language acquisition'!C1016 & \"\"\",\"\"\" & 'BX Language acquisition'!B1016 & \"\"\",\"\"\" & 'BX Language acquisition'!D1016 & \"\"\"\"","v":"\" \",\"\",\"\",\"\""}]
[{"$f":"\"\"\" \"& 'BX Language acquisition'!A1017 & \"\"\",\"\"\" & 'BX Language acquisition'!C1017 & \"\"\",\"\"\" & 'BX Language acquisition'!B1017 & \"\"\",\"\"\" & 'BX Language acquisition'!D1017 & \"\"\"\"","v":"\" \",\"\",\"\",\"\""}]
[{"$f":"\"\"\" \"& 'BX Language acquisition'!A1018 & \"\"\",\"\"\" & 'BX Language acquisition'!C1018 & \"\"\",\"\"\" & 'BX Language acquisition'!B1018 & \"\"\",\"\"\" & 'BX Language acquisition'!D1018 & \"\"\"\"","v":"\" \",\"\",\"\",\"\""}]
[{"$f":"\"\"\" \"& 'BX Language acquisition'!A1019 & \"\"\",\"\"\" & 'BX Language acquisition'!C1019 & \"\"\",\"\"\" & 'BX Language acquisition'!B1019 & \"\"\",\"\"\" & 'BX Language acquisition'!D1019 & \"\"\"\"","v":"\" \",\"\",\"\",\"\""}]
[{"$f":"\"\"\" \"& 'BX Language acquisition'!A1020 & \"\"\",\"\"\" & 'BX Language acquisition'!C1020 & \"\"\",\"\"\" & 'BX Language acquisition'!B1020 & \"\"\",\"\"\" & 'BX Language acquisition'!D1020 & \"\"\"\"","v":"\" \",\"\",\"\",\"\""}]
[{"$f":"\"\"\" \"& 'BX Language acquisition'!A1021 & \"\"\",\"\"\" & 'BX Language acquisition'!C1021 & \"\"\",\"\"\" & 'BX Language acquisition'!B1021 & \"\"\",\"\"\" & 'BX Language acquisition'!D1021 & \"\"\"\"","v":"\" \",\"\",\"\",\"\""}]
[{"$f":"\"\"\" \"& 'BX Language acquisition'!A1022 & \"\"\",\"\"\" & 'BX Language acquisition'!C1022 & \"\"\",\"\"\" & 'BX Language acquisition'!B1022 & \"\"\",\"\"\" & 'BX Language acquisition'!D1022 & \"\"\"\"","v":"\" \",\"\",\"\",\"\""}]
[{"$f":"\"\"\" \"& 'BX Language acquisition'!A1023 & \"\"\",\"\"\" & 'BX Language acquisition'!C1023 & \"\"\",\"\"\" & 'BX Language acquisition'!B1023 & \"\"\",\"\"\" & 'BX Language acquisition'!D1023 & \"\"\"\"","v":"\" \",\"\",\"\",\"\""}]
[{"$f":"\"\"\" \"& 'BX Language acquisition'!A1024 & \"\"\",\"\"\" & 'BX Language acquisition'!C1024 & \"\"\",\"\"\" & 'BX Language acquisition'!B1024 & \"\"\",\"\"\" & 'BX Language acquisition'!D1024 & \"\"\"\"","v":"\" \",\"\",\"\",\"\""}]
[{"$f":"\"\"\" \"& 'BX Language acquisition'!A1025 & \"\"\",\"\"\" & 'BX Language acquisition'!C1025 & \"\"\",\"\"\" & 'BX Language acquisition'!B1025 & \"\"\",\"\"\" & 'BX Language acquisition'!D1025 & \"\"\"\"","v":"\" \",\"\",\"\",\"\""}]
[{"$f":"\"\"\" \"& 'BX Language acquisition'!A1026 & \"\"\",\"\"\" & 'BX Language acquisition'!C1026 & \"\"\",\"\"\" & 'BX Language acquisition'!B1026 & \"\"\",\"\"\" & 'BX Language acquisition'!D1026 & \"\"\"\"","v":"\" \",\"\",\"\",\"\""}]
[{"$f":"\"\"\" \"& 'BX Language acquisition'!A1027 & \"\"\",\"\"\" & 'BX Language acquisition'!C1027 & \"\"\",\"\"\" & 'BX Language acquisition'!B1027 & \"\"\",\"\"\" & 'BX Language acquisition'!D1027 & \"\"\"\"","v":"\" \",\"\",\"\",\"\""}]
[{"$f":"\"\"\" \"& 'BX Language acquisition'!A1028 & \"\"\",\"\"\" & 'BX Language acquisition'!C1028 & \"\"\",\"\"\" & 'BX Language acquisition'!B1028 & \"\"\",\"\"\" & 'BX Language acquisition'!D1028 & \"\"\"\"","v":"\" \",\"\",\"\",\"\""}]
[{"$f":"\"\"\" \"& 'BX Language acquisition'!A1029 & \"\"\",\"\"\" & 'BX Language acquisition'!C1029 & \"\"\",\"\"\" & 'BX Language acquisition'!B1029 & \"\"\",\"\"\" & 'BX Language acquisition'!D1029 & \"\"\"\"","v":"\" \",\"\",\"\",\"\""}]
[{"$f":"\"\"\" \"& 'BX Language acquisition'!A1030 & \"\"\",\"\"\" & 'BX Language acquisition'!C1030 & \"\"\",\"\"\" & 'BX Language acquisition'!B1030 & \"\"\",\"\"\" & 'BX Language acquisition'!D1030 & \"\"\"\"","v":"\" \",\"\",\"\",\"\""}]
[{"$f":"\"\"\" \"& 'BX Language acquisition'!A1031 & \"\"\",\"\"\" & 'BX Language acquisition'!C1031 & \"\"\",\"\"\" & 'BX Language acquisition'!B1031 & \"\"\",\"\"\" & 'BX Language acquisition'!D1031 & \"\"\"\"","v":"\" \",\"\",\"\",\"\""}]
[{"$f":"\"\"\" \"& 'BX Language acquisition'!A1032 & \"\"\",\"\"\" & 'BX Language acquisition'!C1032 & \"\"\",\"\"\" & 'BX Language acquisition'!B1032 & \"\"\",\"\"\" & 'BX Language acquisition'!D1032 & \"\"\"\"","v":"\" \",\"\",\"\",\"\""}]
[{"$f":"\"\"\" \"& 'BX Language acquisition'!A1033 & \"\"\",\"\"\" & 'BX Language acquisition'!C1033 & \"\"\",\"\"\" & 'BX Language acquisition'!B1033 & \"\"\",\"\"\" & 'BX Language acquisition'!D1033 & \"\"\"\"","v":"\" \",\"\",\"\",\"\""}]
[{"$f":"\"\"\" \"& 'BX Language acquisition'!A1034 & \"\"\",\"\"\" & 'BX Language acquisition'!C1034 & \"\"\",\"\"\" & 'BX Language acquisition'!B1034 & \"\"\",\"\"\" & 'BX Language acquisition'!D1034 & \"\"\"\"","v":"\" \",\"\",\"\",\"\""}]
[{"$f":"\"\"\" \"& 'BX Language acquisition'!A1035 & \"\"\",\"\"\" & 'BX Language acquisition'!C1035 & \"\"\",\"\"\" & 'BX Language acquisition'!B1035 & \"\"\",\"\"\" & 'BX Language acquisition'!D1035 & \"\"\"\"","v":"\" \",\"\",\"\",\"\""}]
[{"$f":"\"\"\" \"& 'BX Language acquisition'!A1036 & \"\"\",\"\"\" & 'BX Language acquisition'!C1036 & \"\"\",\"\"\" & 'BX Language acquisition'!B1036 & \"\"\",\"\"\" & 'BX Language acquisition'!D1036 & \"\"\"\"","v":"\" \",\"\",\"\",\"\""}]
[{"$f":"\"\"\" \"& 'BX Language acquisition'!A1037 & \"\"\",\"\"\" & 'BX Language acquisition'!C1037 & \"\"\",\"\"\" & 'BX Language acquisition'!B1037 & \"\"\",\"\"\" & 'BX Language acquisition'!D1037 & \"\"\"\"","v":"\" \",\"\",\"\",\"\""}]
[{"$f":"\"\"\" \"& 'BX Language acquisition'!A1038 & \"\"\",\"\"\" & 'BX Language acquisition'!C1038 & \"\"\",\"\"\" & 'BX Language acquisition'!B1038 & \"\"\",\"\"\" & 'BX Language acquisition'!D1038 & \"\"\"\"","v":"\" \",\"\",\"\",\"\""}]
[{"$f":"\"\"\" \"& 'BX Language acquisition'!A1039 & \"\"\",\"\"\" & 'BX Language acquisition'!C1039 & \"\"\",\"\"\" & 'BX Language acquisition'!B1039 & \"\"\",\"\"\" & 'BX Language acquisition'!D1039 & \"\"\"\"","v":"\" \",\"\",\"\",\"\""}]
[{"$f":"\"\"\" \"& 'BX Language acquisition'!A1040 & \"\"\",\"\"\" & 'BX Language acquisition'!C1040 & \"\"\",\"\"\" & 'BX Language acquisition'!B1040 & \"\"\",\"\"\" & 'BX Language acquisition'!D1040 & \"\"\"\"","v":"\" \",\"\",\"\",\"\""}]
[{"$f":"\"\"\" \"& 'BX Language acquisition'!A1041 & \"\"\",\"\"\" & 'BX Language acquisition'!C1041 & \"\"\",\"\"\" & 'BX Language acquisition'!B1041 & \"\"\",\"\"\" & 'BX Language acquisition'!D1041 & \"\"\"\"","v":"\" \",\"\",\"\",\"\""}]
[{"$f":"\"\"\" \"& 'BX Language acquisition'!A1042 & \"\"\",\"\"\" & 'BX Language acquisition'!C1042 & \"\"\",\"\"\" & 'BX Language acquisition'!B1042 & \"\"\",\"\"\" & 'BX Language acquisition'!D1042 & \"\"\"\"","v":"\" \",\"\",\"\",\"\""}]
[{"$f":"\"\"\" \"& 'BX Language acquisition'!A1043 & \"\"\",\"\"\" & 'BX Language acquisition'!C1043 & \"\"\",\"\"\" & 'BX Language acquisition'!B1043 & \"\"\",\"\"\" & 'BX Language acquisition'!D1043 & \"\"\"\"","v":"\" \",\"\",\"\",\"\""}]
[{"$f":"\"\"\" \"& 'BX Language acquisition'!A1044 & \"\"\",\"\"\" & 'BX Language acquisition'!C1044 & \"\"\",\"\"\" & 'BX Language acquisition'!B1044 & \"\"\",\"\"\" & 'BX Language acquisition'!D1044 & \"\"\"\"","v":"\" \",\"\",\"\",\"\""}]
[{"$f":"\"\"\" \"& 'BX Language acquisition'!A1045 & \"\"\",\"\"\" & 'BX Language acquisition'!C1045 & \"\"\",\"\"\" & 'BX Language acquisition'!B1045 & \"\"\",\"\"\" & 'BX Language acquisition'!D1045 & \"\"\"\"","v":"\" \",\"\",\"\",\"\""}]
[{"$f":"\"\"\" \"& 'BX Language acquisition'!A1046 & \"\"\",\"\"\" & 'BX Language acquisition'!C1046 & \"\"\",\"\"\" & 'BX Language acquisition'!B1046 & \"\"\",\"\"\" & 'BX Language acquisition'!D1046 & \"\"\"\"","v":"\" \",\"\",\"\",\"\""}]
[{"$f":"\"\"\" \"& 'BX Language acquisition'!A1047 & \"\"\",\"\"\" & 'BX Language acquisition'!C1047 & \"\"\",\"\"\" & 'BX Language acquisition'!B1047 & \"\"\",\"\"\" & 'BX Language acquisition'!D1047 & \"\"\"\"","v":"\" \",\"\",\"\",\"\""}]
[{"$f":"\"\"\" \"& 'BX Language acquisition'!A1048 & \"\"\",\"\"\" & 'BX Language acquisition'!C1048 & \"\"\",\"\"\" & 'BX Language acquisition'!B1048 & \"\"\",\"\"\" & 'BX Language acquisition'!D1048 & \"\"\"\"","v":"\" \",\"\",\"\",\"\""}]
[{"$f":"\"\"\" \"& 'BX Language acquisition'!A1049 & \"\"\",\"\"\" & 'BX Language acquisition'!C1049 & \"\"\",\"\"\" & 'BX Language acquisition'!B1049 & \"\"\",\"\"\" & 'BX Language acquisition'!D1049 & \"\"\"\"","v":"\" \",\"\",\"\",\"\""}]
[{"$f":"\"\"\" \"& 'BX Language acquisition'!A1050 & \"\"\",\"\"\" & 'BX Language acquisition'!C1050 & \"\"\",\"\"\" & 'BX Language acquisition'!B1050 & \"\"\",\"\"\" & 'BX Language acquisition'!D1050 & \"\"\"\"","v":"\" \",\"\",\"\",\"\""}]
[{"$f":"\"\"\" \"& 'BX Language acquisition'!A1051 & \"\"\",\"\"\" & 'BX Language acquisition'!C1051 & \"\"\",\"\"\" & 'BX Language acquisition'!B1051 & \"\"\",\"\"\" & 'BX Language acquisition'!D1051 & \"\"\"\"","v":"\" \",\"\",\"\",\"\""}]
[{"$f":"\"\"\" \"& 'BX Language acquisition'!A1052 & \"\"\",\"\"\" & 'BX Language acquisition'!C1052 & \"\"\",\"\"\" & 'BX Language acquisition'!B1052 & \"\"\",\"\"\" & 'BX Language acquisition'!D1052 & \"\"\"\"","v":"\" \",\"\",\"\",\"\""}]
[{"$f":"\"\"\" \"& 'BX Language acquisition'!A1053 & \"\"\",\"\"\" & 'BX Language acquisition'!C1053 & \"\"\",\"\"\" & 'BX Language acquisition'!B1053 & \"\"\",\"\"\" & 'BX Language acquisition'!D1053 & \"\"\"\"","v":"\" \",\"\",\"\",\"\""}]
[{"$f":"\"\"\" \"& 'BX Language acquisition'!A1054 & \"\"\",\"\"\" & 'BX Language acquisition'!C1054 & \"\"\",\"\"\" & 'BX Language acquisition'!B1054 & \"\"\",\"\"\" & 'BX Language acquisition'!D1054 & \"\"\"\"","v":"\" \",\"\",\"\",\"\""}]
[{"$f":"\"\"\" \"& 'BX Language acquisition'!A1055 & \"\"\",\"\"\" & 'BX Language acquisition'!C1055 & \"\"\",\"\"\" & 'BX Language acquisition'!B1055 & \"\"\",\"\"\" & 'BX Language acquisition'!D1055 & \"\"\"\"","v":"\" \",\"\",\"\",\"\""}]
[{"$f":"\"\"\" \"& 'BX Language acquisition'!A1056 & \"\"\",\"\"\" & 'BX Language acquisition'!C1056 & \"\"\",\"\"\" & 'BX Language acquisition'!B1056 & \"\"\",\"\"\" & 'BX Language acquisition'!D1056 & \"\"\"\"","v":"\" \",\"\",\"\",\"\""}]
[{"$f":"\"\"\" \"& 'BX Language acquisition'!A1057 & \"\"\",\"\"\" & 'BX Language acquisition'!C1057 & \"\"\",\"\"\" & 'BX Language acquisition'!B1057 & \"\"\",\"\"\" & 'BX Language acquisition'!D1057 & \"\"\"\"","v":"\" \",\"\",\"\",\"\""}]
[{"$f":"\"\"\" \"& 'BX Language acquisition'!A1058 & \"\"\",\"\"\" & 'BX Language acquisition'!C1058 & \"\"\",\"\"\" & 'BX Language acquisition'!B1058 & \"\"\",\"\"\" & 'BX Language acquisition'!D1058 & \"\"\"\"","v":"\" \",\"\",\"\",\"\""}]
[{"$f":"\"\"\" \"& 'BX Language acquisition'!A1059 & \"\"\",\"\"\" & 'BX Language acquisition'!C1059 & \"\"\",\"\"\" & 'BX Language acquisition'!B1059 & \"\"\",\"\"\" & 'BX Language acquisition'!D1059 & \"\"\"\"","v":"\" \",\"\",\"\",\"\""}]
[{"$f":"\"\"\" \"& 'BX Language acquisition'!A1060 & \"\"\",\"\"\" & 'BX Language acquisition'!C1060 & \"\"\",\"\"\" & 'BX Language acquisition'!B1060 & \"\"\",\"\"\" & 'BX Language acquisition'!D1060 & \"\"\"\"","v":"\" \",\"\",\"\",\"\""}]
[{"$f":"\"\"\" \"& 'BX Language acquisition'!A1061 & \"\"\",\"\"\" & 'BX Language acquisition'!C1061 & \"\"\",\"\"\" & 'BX Language acquisition'!B1061 & \"\"\",\"\"\" & 'BX Language acquisition'!D1061 & \"\"\"\"","v":"\" \",\"\",\"\",\"\""}]
[{"$f":"\"\"\" \"& 'BX Language acquisition'!A1062 & \"\"\",\"\"\" & 'BX Language acquisition'!C1062 & \"\"\",\"\"\" & 'BX Language acquisition'!B1062 & \"\"\",\"\"\" & 'BX Language acquisition'!D1062 & \"\"\"\"","v":"\" \",\"\",\"\",\"\""}]
[{"$f":"\"\"\" \"& 'BX Language acquisition'!A1063 & \"\"\",\"\"\" & 'BX Language acquisition'!C1063 & \"\"\",\"\"\" & 'BX Language acquisition'!B1063 & \"\"\",\"\"\" & 'BX Language acquisition'!D1063 & \"\"\"\"","v":"\" \",\"\",\"\",\"\""}]
[{"$f":"\"\"\" \"& 'BX Language acquisition'!A1064 & \"\"\",\"\"\" & 'BX Language acquisition'!C1064 & \"\"\",\"\"\" & 'BX Language acquisition'!B1064 & \"\"\",\"\"\" & 'BX Language acquisition'!D1064 & \"\"\"\"","v":"\" \",\"\",\"\",\"\""}]
[{"$f":"\"\"\" \"& 'BX Language acquisition'!A1065 & \"\"\",\"\"\" & 'BX Language acquisition'!C1065 & \"\"\",\"\"\" & 'BX Language acquisition'!B1065 & \"\"\",\"\"\" & 'BX Language acquisition'!D1065 & \"\"\"\"","v":"\" \",\"\",\"\",\"\""}]
[{"$f":"\"\"\" \"& 'BX Language acquisition'!A1066 & \"\"\",\"\"\" & 'BX Language acquisition'!C1066 & \"\"\",\"\"\" & 'BX Language acquisition'!B1066 & \"\"\",\"\"\" & 'BX Language acquisition'!D1066 & \"\"\"\"","v":"\" \",\"\",\"\",\"\""}]
[{"$f":"\"\"\" \"& 'BX Language acquisition'!A1067 & \"\"\",\"\"\" & 'BX Language acquisition'!C1067 & \"\"\",\"\"\" & 'BX Language acquisition'!B1067 & \"\"\",\"\"\" & 'BX Language acquisition'!D1067 & \"\"\"\"","v":"\" \",\"\",\"\",\"\""}]
[{"$f":"\"\"\" \"& 'BX Language acquisition'!A1068 & \"\"\",\"\"\" & 'BX Language acquisition'!C1068 & \"\"\",\"\"\" & 'BX Language acquisition'!B1068 & \"\"\",\"\"\" & 'BX Language acquisition'!D1068 & \"\"\"\"","v":"\" \",\"\",\"\",\"\""}]
[{"$f":"\"\"\" \"& 'BX Language acquisition'!A1069 & \"\"\",\"\"\" & 'BX Language acquisition'!C1069 & \"\"\",\"\"\" & 'BX Language acquisition'!B1069 & \"\"\",\"\"\" & 'BX Language acquisition'!D1069 & \"\"\"\"","v":"\" \",\"\",\"\",\"\""}]
[{"$f":"\"\"\" \"& 'BX Language acquisition'!A1070 & \"\"\",\"\"\" & 'BX Language acquisition'!C1070 & \"\"\",\"\"\" & 'BX Language acquisition'!B1070 & \"\"\",\"\"\" & 'BX Language acquisition'!D1070 & \"\"\"\"","v":"\" \",\"\",\"\",\"\""}]
[{"$f":"\"\"\" \"& 'BX Language acquisition'!A1071 & \"\"\",\"\"\" & 'BX Language acquisition'!C1071 & \"\"\",\"\"\" & 'BX Language acquisition'!B1071 & \"\"\",\"\"\" & 'BX Language acquisition'!D1071 & \"\"\"\"","v":"\" \",\"\",\"\",\"\""}]
[{"$f":"\"\"\" \"& 'BX Language acquisition'!A1072 & \"\"\",\"\"\" & 'BX Language acquisition'!C1072 & \"\"\",\"\"\" & 'BX Language acquisition'!B1072 & \"\"\",\"\"\" & 'BX Language acquisition'!D1072 & \"\"\"\"","v":"\" \",\"\",\"\",\"\""}]
[{"$f":"\"\"\" \"& 'BX Language acquisition'!A1073 & \"\"\",\"\"\" & 'BX Language acquisition'!C1073 & \"\"\",\"\"\" & 'BX Language acquisition'!B1073 & \"\"\",\"\"\" & 'BX Language acquisition'!D1073 & \"\"\"\"","v":"\" \",\"\",\"\",\"\""}]
[{"$f":"\"\"\" \"& 'BX Language acquisition'!A1074 & \"\"\",\"\"\" & 'BX Language acquisition'!C1074 & \"\"\",\"\"\" & 'BX Language acquisition'!B1074 & \"\"\",\"\"\" & 'BX Language acquisition'!D1074 & \"\"\"\"","v":"\" \",\"\",\"\",\"\""}]
[{"$f":"\"\"\" \"& 'BX Language acquisition'!A1075 & \"\"\",\"\"\" & 'BX Language acquisition'!C1075 & \"\"\",\"\"\" & 'BX Language acquisition'!B1075 & \"\"\",\"\"\" & 'BX Language acquisition'!D1075 & \"\"\"\"","v":"\" \",\"\",\"\",\"\""}]
[{"$f":"\"\"\" \"& 'BX Language acquisition'!A1076 & \"\"\",\"\"\" & 'BX Language acquisition'!C1076 & \"\"\",\"\"\" & 'BX Language acquisition'!B1076 & \"\"\",\"\"\" & 'BX Language acquisition'!D1076 & \"\"\"\"","v":"\" \",\"\",\"\",\"\""}]
[{"$f":"\"\"\" \"& 'BX Language acquisition'!A1077 & \"\"\",\"\"\" & 'BX Language acquisition'!C1077 & \"\"\",\"\"\" & 'BX Language acquisition'!B1077 & \"\"\",\"\"\" & 'BX Language acquisition'!D1077 & \"\"\"\"","v":"\" \",\"\",\"\",\"\""}]
[{"$f":"\"\"\" \"& 'BX Language acquisition'!A1078 & \"\"\",\"\"\" & 'BX Language acquisition'!C1078 & \"\"\",\"\"\" & 'BX Language acquisition'!B1078 & \"\"\",\"\"\" & 'BX Language acquisition'!D1078 & \"\"\"\"","v":"\" \",\"\",\"\",\"\""}]
[{"$f":"\"\"\" \"& 'BX Language acquisition'!A1079 & \"\"\",\"\"\" & 'BX Language acquisition'!C1079 & \"\"\",\"\"\" & 'BX Language acquisition'!B1079 & \"\"\",\"\"\" & 'BX Language acquisition'!D1079 & \"\"\"\"","v":"\" \",\"\",\"\",\"\""}]
[{"$f":"\"\"\" \"& 'BX Language acquisition'!A1080 & \"\"\",\"\"\" & 'BX Language acquisition'!C1080 & \"\"\",\"\"\" & 'BX Language acquisition'!B1080 & \"\"\",\"\"\" & 'BX Language acquisition'!D1080 & \"\"\"\"","v":"\" \",\"\",\"\",\"\""}]
[{"$f":"\"\"\" \"& 'BX Language acquisition'!A1081 & \"\"\",\"\"\" & 'BX Language acquisition'!C1081 & \"\"\",\"\"\" & 'BX Language acquisition'!B1081 & \"\"\",\"\"\" & 'BX Language acquisition'!D1081 & \"\"\"\"","v":"\" \",\"\",\"\",\"\""}]
[{"$f":"\"\"\" \"& 'BX Language acquisition'!A1082 & \"\"\",\"\"\" & 'BX Language acquisition'!C1082 & \"\"\",\"\"\" & 'BX Language acquisition'!B1082 & \"\"\",\"\"\" & 'BX Language acquisition'!D1082 & \"\"\"\"","v":"\" \",\"\",\"\",\"\""}]
[{"$f":"\"\"\" \"& 'BX Language acquisition'!A1083 & \"\"\",\"\"\" & 'BX Language acquisition'!C1083 & \"\"\",\"\"\" & 'BX Language acquisition'!B1083 & \"\"\",\"\"\" & 'BX Language acquisition'!D1083 & \"\"\"\"","v":"\" \",\"\",\"\",\"\""}]
[{"$f":"\"\"\" \"& 'BX Language acquisition'!A1084 & \"\"\",\"\"\" & 'BX Language acquisition'!C1084 & \"\"\",\"\"\" & 'BX Language acquisition'!B1084 & \"\"\",\"\"\" & 'BX Language acquisition'!D1084 & \"\"\"\"","v":"\" \",\"\",\"\",\"\""}]
[{"$f":"\"\"\" \"& 'BX Language acquisition'!A1085 & \"\"\",\"\"\" & 'BX Language acquisition'!C1085 & \"\"\",\"\"\" & 'BX Language acquisition'!B1085 & \"\"\",\"\"\" & 'BX Language acquisition'!D1085 & \"\"\"\"","v":"\" \",\"\",\"\",\"\""}]
[{"$f":"\"\"\" \"& 'BX Language acquisition'!A1086 & \"\"\",\"\"\" & 'BX Language acquisition'!C1086 & \"\"\",\"\"\" & 'BX Language acquisition'!B1086 & \"\"\",\"\"\" & 'BX Language acquisition'!D1086 & \"\"\"\"","v":"\" \",\"\",\"\",\"\""}]
[{"$f":"\"\"\" \"& 'BX Language acquisition'!A1087 & \"\"\",\"\"\" & 'BX Language acquisition'!C1087 & \"\"\",\"\"\" & 'BX Language acquisition'!B1087 & \"\"\",\"\"\" & 'BX Language acquisition'!D1087 & \"\"\"\"","v":"\" \",\"\",\"\",\"\""}]
[{"$f":"\"\"\" \"& 'BX Language acquisition'!A1088 & \"\"\",\"\"\" & 'BX Language acquisition'!C1088 & \"\"\",\"\"\" & 'BX Language acquisition'!B1088 & \"\"\",\"\"\" & 'BX Language acquisition'!D1088 & \"\"\"\"","v":"\" \",\"\",\"\",\"\""}]
[{"$f":"\"\"\" \"& 'BX Language acquisition'!A1089 & \"\"\",\"\"\" & 'BX Language acquisition'!C1089 & \"\"\",\"\"\" & 'BX Language acquisition'!B1089 & \"\"\",\"\"\" & 'BX Language acquisition'!D1089 & \"\"\"\"","v":"\" \",\"\",\"\",\"\""}]
[{"$f":"\"\"\" \"& 'BX Language acquisition'!A1090 & \"\"\",\"\"\" & 'BX Language acquisition'!C1090 & \"\"\",\"\"\" & 'BX Language acquisition'!B1090 & \"\"\",\"\"\" & 'BX Language acquisition'!D1090 & \"\"\"\"","v":"\" \",\"\",\"\",\"\""}]
[{"$f":"\"\"\" \"& 'BX Language acquisition'!A1091 & \"\"\",\"\"\" & 'BX Language acquisition'!C1091 & \"\"\",\"\"\" & 'BX Language acquisition'!B1091 & \"\"\",\"\"\" & 'BX Language acquisition'!D1091 & \"\"\"\"","v":"\" \",\"\",\"\",\"\""}]
[{"$f":"\"\"\" \"& 'BX Language acquisition'!A1092 & \"\"\",\"\"\" & 'BX Language acquisition'!C1092 & \"\"\",\"\"\" & 'BX Language acquisition'!B1092 & \"\"\",\"\"\" & 'BX Language acquisition'!D1092 & \"\"\"\"","v":"\" \",\"\",\"\",\"\""}]
[{"$f":"\"\"\" \"& 'BX Language acquisition'!A1093 & \"\"\",\"\"\" & 'BX Language acquisition'!C1093 & \"\"\",\"\"\" & 'BX Language acquisition'!B1093 & \"\"\",\"\"\" & 'BX Language acquisition'!D1093 & \"\"\"\"","v":"\" \",\"\",\"\",\"\""}]
[{"$f":"\"\"\" \"& 'BX Language acquisition'!A1094 & \"\"\",\"\"\" & 'BX Language acquisition'!C1094 & \"\"\",\"\"\" & 'BX Language acquisition'!B1094 & \"\"\",\"\"\" & 'BX Language acquisition'!D1094 & \"\"\"\"","v":"\" \",\"\",\"\",\"\""}]
[{"$f":"\"\"\" \"& 'BX Language acquisition'!A1095 & \"\"\",\"\"\" & 'BX Language acquisition'!C1095 & \"\"\",\"\"\" & 'BX Language acquisition'!B1095 & \"\"\",\"\"\" & 'BX Language acquisition'!D1095 & \"\"\"\"","v":"\" \",\"\",\"\",\"\""}]
[{"$f":"\"\"\" \"& 'BX Language acquisition'!A1096 & \"\"\",\"\"\" & 'BX Language acquisition'!C1096 & \"\"\",\"\"\" & 'BX Language acquisition'!B1096 & \"\"\",\"\"\" & 'BX Language acquisition'!D1096 & \"\"\"\"","v":"\" \",\"\",\"\",\"\""}]
[{"$f":"\"\"\" \"& 'BX Language acquisition'!A1097 & \"\"\",\"\"\" & 'BX Language acquisition'!C1097 & \"\"\",\"\"\" & 'BX Language acquisition'!B1097 & \"\"\",\"\"\" & 'BX Language acquisition'!D1097 & \"\"\"\"","v":"\" \",\"\",\"\",\"\""}]
[{"$f":"\"\"\" \"& 'BX Language acquisition'!A1098 & \"\"\",\"\"\" & 'BX Language acquisition'!C1098 & \"\"\",\"\"\" & 'BX Language acquisition'!B1098 & \"\"\",\"\"\" & 'BX Language acquisition'!D1098 & \"\"\"\"","v":"\" \",\"\",\"\",\"\""}]
[{"$f":"\"\"\" \"& 'BX Language acquisition'!A1099 & \"\"\",\"\"\" & 'BX Language acquisition'!C1099 & \"\"\",\"\"\" & 'BX Language acquisition'!B1099 & \"\"\",\"\"\" & 'BX Language acquisition'!D1099 & \"\"\"\"","v":"\" \",\"\",\"\",\"\""}]
[{"$f":"\"\"\" \"& 'BX Language acquisition'!A1100 & \"\"\",\"\"\" & 'BX Language acquisition'!C1100 & \"\"\",\"\"\" & 'BX Language acquisition'!B1100 & \"\"\",\"\"\" & 'BX Language acquisition'!D1100 & \"\"\"\"","v":"\" \",\"\",\"\",\"\""}]
[{"$f":"\"\"\" \"& 'BX Language acquisition'!A1101 & \"\"\",\"\"\" & 'BX Language acquisition'!C1101 & \"\"\",\"\"\" & 'BX Language acquisition'!B1101 & \"\"\",\"\"\" & 'BX Language acquisition'!D1101 & \"\"\"\"","v":"\" \",\"\",\"\",\"\""}]
[{"$f":"\"\"\" \"& 'BX Language acquisition'!A1102 & \"\"\",\"\"\" & 'BX Language acquisition'!C1102 & \"\"\",\"\"\" & 'BX Language acquisition'!B1102 & \"\"\",\"\"\" & 'BX Language acquisition'!D1102 & \"\"\"\"","v":"\" \",\"\",\"\",\"\""}]
[{"$f":"\"\"\" \"& 'BX Language acquisition'!A1103 & \"\"\",\"\"\" & 'BX Language acquisition'!C1103 & \"\"\",\"\"\" & 'BX Language acquisition'!B1103 & \"\"\",\"\"\" & 'BX Language acquisition'!D1103 & \"\"\"\"","v":"\" \",\"\",\"\",\"\""}]
[{"$f":"\"\"\" \"& 'BX Language acquisition'!A1104 & \"\"\",\"\"\" & 'BX Language acquisition'!C1104 & \"\"\",\"\"\" & 'BX Language acquisition'!B1104 & \"\"\",\"\"\" & 'BX Language acquisition'!D1104 & \"\"\"\"","v":"\" \",\"\",\"\",\"\""}]
[{"$f":"\"\"\" \"& 'BX Language acquisition'!A1105 & \"\"\",\"\"\" & 'BX Language acquisition'!C1105 & \"\"\",\"\"\" & 'BX Language acquisition'!B1105 & \"\"\",\"\"\" & 'BX Language acquisition'!D1105 & \"\"\"\"","v":"\" \",\"\",\"\",\"\""}]
[{"$f":"\"\"\" \"& 'BX Language acquisition'!A1106 & \"\"\",\"\"\" & 'BX Language acquisition'!C1106 & \"\"\",\"\"\" & 'BX Language acquisition'!B1106 & \"\"\",\"\"\" & 'BX Language acquisition'!D1106 & \"\"\"\"","v":"\" \",\"\",\"\",\"\""}]
[{"$f":"\"\"\" \"& 'BX Language acquisition'!A1107 & \"\"\",\"\"\" & 'BX Language acquisition'!C1107 & \"\"\",\"\"\" & 'BX Language acquisition'!B1107 & \"\"\",\"\"\" & 'BX Language acquisition'!D1107 & \"\"\"\"","v":"\" \",\"\",\"\",\"\""}]
[{"$f":"\"\"\" \"& 'BX Language acquisition'!A1108 & \"\"\",\"\"\" & 'BX Language acquisition'!C1108 & \"\"\",\"\"\" & 'BX Language acquisition'!B1108 & \"\"\",\"\"\" & 'BX Language acquisition'!D1108 & \"\"\"\"","v":"\" \",\"\",\"\",\"\""}]
[{"$f":"\"\"\" \"& 'BX Language acquisition'!A1109 & \"\"\",\"\"\" & 'BX Language acquisition'!C1109 & \"\"\",\"\"\" & 'BX Language acquisition'!B1109 & \"\"\",\"\"\" & 'BX Language acquisition'!D1109 & \"\"\"\"","v":"\" \",\"\",\"\",\"\""}]
[{"$f":"\"\"\" \"& 'BX Language acquisition'!A1110 & \"\"\",\"\"\" & 'BX Language acquisition'!C1110 & \"\"\",\"\"\" & 'BX Language acquisition'!B1110 & \"\"\",\"\"\" & 'BX Language acquisition'!D1110 & \"\"\"\"","v":"\" \",\"\",\"\",\"\""}]
[{"$f":"\"\"\" \"& 'BX Language acquisition'!A1111 & \"\"\",\"\"\" & 'BX Language acquisition'!C1111 & \"\"\",\"\"\" & 'BX Language acquisition'!B1111 & \"\"\",\"\"\" & 'BX Language acquisition'!D1111 & \"\"\"\"","v":"\" \",\"\",\"\",\"\""}]
[{"$f":"\"\"\" \"& 'BX Language acquisition'!A1112 & \"\"\",\"\"\" & 'BX Language acquisition'!C1112 & \"\"\",\"\"\" & 'BX Language acquisition'!B1112 & \"\"\",\"\"\" & 'BX Language acquisition'!D1112 & \"\"\"\"","v":"\" \",\"\",\"\",\"\""}]
[{"$f":"\"\"\" \"& 'BX Language acquisition'!A1113 & \"\"\",\"\"\" & 'BX Language acquisition'!C1113 & \"\"\",\"\"\" & 'BX Language acquisition'!B1113 & \"\"\",\"\"\" & 'BX Language acquisition'!D1113 & \"\"\"\"","v":"\" \",\"\",\"\",\"\""}]
[{"$f":"\"\"\" \"& 'BX Language acquisition'!A1114 & \"\"\",\"\"\" & 'BX Language acquisition'!C1114 & \"\"\",\"\"\" & 'BX Language acquisition'!B1114 & \"\"\",\"\"\" & 'BX Language acquisition'!D1114 & \"\"\"\"","v":"\" \",\"\",\"\",\"\""}]
[{"$f":"\"\"\" \"& 'BX Language acquisition'!A1115 & \"\"\",\"\"\" & 'BX Language acquisition'!C1115 & \"\"\",\"\"\" & 'BX Language acquisition'!B1115 & \"\"\",\"\"\" & 'BX Language acquisition'!D1115 & \"\"\"\"","v":"\" \",\"\",\"\",\"\""}]
[{"$f":"\"\"\" \"& 'BX Language acquisition'!A1116 & \"\"\",\"\"\" & 'BX Language acquisition'!C1116 & \"\"\",\"\"\" & 'BX Language acquisition'!B1116 & \"\"\",\"\"\" & 'BX Language acquisition'!D1116 & \"\"\"\"","v":"\" \",\"\",\"\",\"\""}]
[{"$f":"\"\"\" \"& 'BX Language acquisition'!A1117 & \"\"\",\"\"\" & 'BX Language acquisition'!C1117 & \"\"\",\"\"\" & 'BX Language acquisition'!B1117 & \"\"\",\"\"\" & 'BX Language acquisition'!D1117 & \"\"\"\"","v":"\" \",\"\",\"\",\"\""}]
[{"$f":"\"\"\" \"& 'BX Language acquisition'!A1118 & \"\"\",\"\"\" & 'BX Language acquisition'!C1118 & \"\"\",\"\"\" & 'BX Language acquisition'!B1118 & \"\"\",\"\"\" & 'BX Language acquisition'!D1118 & \"\"\"\"","v":"\" \",\"\",\"\",\"\""}]
[{"$f":"\"\"\" \"& 'BX Language acquisition'!A1119 & \"\"\",\"\"\" & 'BX Language acquisition'!C1119 & \"\"\",\"\"\" & 'BX Language acquisition'!B1119 & \"\"\",\"\"\" & 'BX Language acquisition'!D1119 & \"\"\"\"","v":"\" \",\"\",\"\",\"\""}]
[{"$f":"\"\"\" \"& 'BX Language acquisition'!A1120 & \"\"\",\"\"\" & 'BX Language acquisition'!C1120 & \"\"\",\"\"\" & 'BX Language acquisition'!B1120 & \"\"\",\"\"\" & 'BX Language acquisition'!D1120 & \"\"\"\"","v":"\" \",\"\",\"\",\"\""}]
[{"$f":"\"\"\" \"& 'BX Language acquisition'!A1121 & \"\"\",\"\"\" & 'BX Language acquisition'!C1121 & \"\"\",\"\"\" & 'BX Language acquisition'!B1121 & \"\"\",\"\"\" & 'BX Language acquisition'!D1121 & \"\"\"\"","v":"\" \",\"\",\"\",\"\""}]
[{"$f":"\"\"\" \"& 'BX Language acquisition'!A1122 & \"\"\",\"\"\" & 'BX Language acquisition'!C1122 & \"\"\",\"\"\" & 'BX Language acquisition'!B1122 & \"\"\",\"\"\" & 'BX Language acquisition'!D1122 & \"\"\"\"","v":"\" \",\"\",\"\",\"\""}]
[{"$f":"\"\"\" \"& 'BX Language acquisition'!A1123 & \"\"\",\"\"\" & 'BX Language acquisition'!C1123 & \"\"\",\"\"\" & 'BX Language acquisition'!B1123 & \"\"\",\"\"\" & 'BX Language acquisition'!D1123 & \"\"\"\"","v":"\" \",\"\",\"\",\"\""}]
[{"$f":"\"\"\" \"& 'BX Language acquisition'!A1124 & \"\"\",\"\"\" & 'BX Language acquisition'!C1124 & \"\"\",\"\"\" & 'BX Language acquisition'!B1124 & \"\"\",\"\"\" & 'BX Language acquisition'!D1124 & \"\"\"\"","v":"\" \",\"\",\"\",\"\""}]
[{"$f":"\"\"\" \"& 'BX Language acquisition'!A1125 & \"\"\",\"\"\" & 'BX Language acquisition'!C1125 & \"\"\",\"\"\" & 'BX Language acquisition'!B1125 & \"\"\",\"\"\" & 'BX Language acquisition'!D1125 & \"\"\"\"","v":"\" \",\"\",\"\",\"\""}]
[{"$f":"\"\"\" \"& 'BX Language acquisition'!A1126 & \"\"\",\"\"\" & 'BX Language acquisition'!C1126 & \"\"\",\"\"\" & 'BX Language acquisition'!B1126 & \"\"\",\"\"\" & 'BX Language acquisition'!D1126 & \"\"\"\"","v":"\" \",\"\",\"\",\"\""}]
[{"$f":"\"\"\" \"& 'BX Language acquisition'!A1127 & \"\"\",\"\"\" & 'BX Language acquisition'!C1127 & \"\"\",\"\"\" & 'BX Language acquisition'!B1127 & \"\"\",\"\"\" & 'BX Language acquisition'!D1127 & \"\"\"\"","v":"\" \",\"\",\"\",\"\""}]
[{"$f":"\"\"\" \"& 'BX Language acquisition'!A1128 & \"\"\",\"\"\" & 'BX Language acquisition'!C1128 & \"\"\",\"\"\" & 'BX Language acquisition'!B1128 & \"\"\",\"\"\" & 'BX Language acquisition'!D1128 & \"\"\"\"","v":"\" \",\"\",\"\",\"\""}]
[{"$f":"\"\"\" \"& 'BX Language acquisition'!A1129 & \"\"\",\"\"\" & 'BX Language acquisition'!C1129 & \"\"\",\"\"\" & 'BX Language acquisition'!B1129 & \"\"\",\"\"\" & 'BX Language acquisition'!D1129 & \"\"\"\"","v":"\" \",\"\",\"\",\"\""}]
[{"$f":"\"\"\" \"& 'BX Language acquisition'!A1130 & \"\"\",\"\"\" & 'BX Language acquisition'!C1130 & \"\"\",\"\"\" & 'BX Language acquisition'!B1130 & \"\"\",\"\"\" & 'BX Language acquisition'!D1130 & \"\"\"\"","v":"\" \",\"\",\"\",\"\""}]
[{"$f":"\"\"\" \"& 'BX Language acquisition'!A1131 & \"\"\",\"\"\" & 'BX Language acquisition'!C1131 & \"\"\",\"\"\" & 'BX Language acquisition'!B1131 & \"\"\",\"\"\" & 'BX Language acquisition'!D1131 & \"\"\"\"","v":"\" \",\"\",\"\",\"\""}]
[{"$f":"\"\"\" \"& 'BX Language acquisition'!A1132 & \"\"\",\"\"\" & 'BX Language acquisition'!C1132 & \"\"\",\"\"\" & 'BX Language acquisition'!B1132 & \"\"\",\"\"\" & 'BX Language acquisition'!D1132 & \"\"\"\"","v":"\" \",\"\",\"\",\"\""}]
[{"$f":"\"\"\" \"& 'BX Language acquisition'!A1133 & \"\"\",\"\"\" & 'BX Language acquisition'!C1133 & \"\"\",\"\"\" & 'BX Language acquisition'!B1133 & \"\"\",\"\"\" & 'BX Language acquisition'!D1133 & \"\"\"\"","v":"\" \",\"\",\"\",\"\""}]
[{"$f":"\"\"\" \"& 'BX Language acquisition'!A1134 & \"\"\",\"\"\" & 'BX Language acquisition'!C1134 & \"\"\",\"\"\" & 'BX Language acquisition'!B1134 & \"\"\",\"\"\" & 'BX Language acquisition'!D1134 & \"\"\"\"","v":"\" \",\"\",\"\",\"\""}]
[{"$f":"\"\"\" \"& 'BX Language acquisition'!A1135 & \"\"\",\"\"\" & 'BX Language acquisition'!C1135 & \"\"\",\"\"\" & 'BX Language acquisition'!B1135 & \"\"\",\"\"\" & 'BX Language acquisition'!D1135 & \"\"\"\"","v":"\" \",\"\",\"\",\"\""}]
[{"$f":"\"\"\" \"& 'BX Language acquisition'!A1136 & \"\"\",\"\"\" & 'BX Language acquisition'!C1136 & \"\"\",\"\"\" & 'BX Language acquisition'!B1136 & \"\"\",\"\"\" & 'BX Language acquisition'!D1136 & \"\"\"\"","v":"\" \",\"\",\"\",\"\""}]
[{"$f":"\"\"\" \"& 'BX Language acquisition'!A1137 & \"\"\",\"\"\" & 'BX Language acquisition'!C1137 & \"\"\",\"\"\" & 'BX Language acquisition'!B1137 & \"\"\",\"\"\" & 'BX Language acquisition'!D1137 & \"\"\"\"","v":"\" \",\"\",\"\",\"\""}]
[{"$f":"\"\"\" \"& 'BX Language acquisition'!A1138 & \"\"\",\"\"\" & 'BX Language acquisition'!C1138 & \"\"\",\"\"\" & 'BX Language acquisition'!B1138 & \"\"\",\"\"\" & 'BX Language acquisition'!D1138 & \"\"\"\"","v":"\" \",\"\",\"\",\"\""}]
[{"$f":"\"\"\" \"& 'BX Language acquisition'!A1139 & \"\"\",\"\"\" & 'BX Language acquisition'!C1139 & \"\"\",\"\"\" & 'BX Language acquisition'!B1139 & \"\"\",\"\"\" & 'BX Language acquisition'!D1139 & \"\"\"\"","v":"\" \",\"\",\"\",\"\""}]
[{"$f":"\"\"\" \"& 'BX Language acquisition'!A1140 & \"\"\",\"\"\" & 'BX Language acquisition'!C1140 & \"\"\",\"\"\" & 'BX Language acquisition'!B1140 & \"\"\",\"\"\" & 'BX Language acquisition'!D1140 & \"\"\"\"","v":"\" \",\"\",\"\",\"\""}]
[{"$f":"\"\"\" \"& 'BX Language acquisition'!A1141 & \"\"\",\"\"\" & 'BX Language acquisition'!C1141 & \"\"\",\"\"\" & 'BX Language acquisition'!B1141 & \"\"\",\"\"\" & 'BX Language acquisition'!D1141 & \"\"\"\"","v":"\" \",\"\",\"\",\"\""}]
[{"$f":"\"\"\" \"& 'BX Language acquisition'!A1142 & \"\"\",\"\"\" & 'BX Language acquisition'!C1142 & \"\"\",\"\"\" & 'BX Language acquisition'!B1142 & \"\"\",\"\"\" & 'BX Language acquisition'!D1142 & \"\"\"\"","v":"\" \",\"\",\"\",\"\""}]
[{"$f":"\"\"\" \"& 'BX Language acquisition'!A1143 & \"\"\",\"\"\" & 'BX Language acquisition'!C1143 & \"\"\",\"\"\" & 'BX Language acquisition'!B1143 & \"\"\",\"\"\" & 'BX Language acquisition'!D1143 & \"\"\"\"","v":"\" \",\"\",\"\",\"\""}]
[{"$f":"\"\"\" \"& 'BX Language acquisition'!A1144 & \"\"\",\"\"\" & 'BX Language acquisition'!C1144 & \"\"\",\"\"\" & 'BX Language acquisition'!B1144 & \"\"\",\"\"\" & 'BX Language acquisition'!D1144 & \"\"\"\"","v":"\" \",\"\",\"\",\"\""}]
[{"$f":"\"\"\" \"& 'BX Language acquisition'!A1145 & \"\"\",\"\"\" & 'BX Language acquisition'!C1145 & \"\"\",\"\"\" & 'BX Language acquisition'!B1145 & \"\"\",\"\"\" & 'BX Language acquisition'!D1145 & \"\"\"\"","v":"\" \",\"\",\"\",\"\""}]
[{"$f":"\"\"\" \"& 'BX Language acquisition'!A1146 & \"\"\",\"\"\" & 'BX Language acquisition'!C1146 & \"\"\",\"\"\" & 'BX Language acquisition'!B1146 & \"\"\",\"\"\" & 'BX Language acquisition'!D1146 & \"\"\"\"","v":"\" \",\"\",\"\",\"\""}]
[{"$f":"\"\"\" \"& 'BX Language acquisition'!A1147 & \"\"\",\"\"\" & 'BX Language acquisition'!C1147 & \"\"\",\"\"\" & 'BX Language acquisition'!B1147 & \"\"\",\"\"\" & 'BX Language acquisition'!D1147 & \"\"\"\"","v":"\" \",\"\",\"\",\"\""}]
[{"$f":"\"\"\" \"& 'BX Language acquisition'!A1148 & \"\"\",\"\"\" & 'BX Language acquisition'!C1148 & \"\"\",\"\"\" & 'BX Language acquisition'!B1148 & \"\"\",\"\"\" & 'BX Language acquisition'!D1148 & \"\"\"\"","v":"\" \",\"\",\"\",\"\""}]
[{"$f":"\"\"\" \"& 'BX Language acquisition'!A1149 & \"\"\",\"\"\" & 'BX Language acquisition'!C1149 & \"\"\",\"\"\" & 'BX Language acquisition'!B1149 & \"\"\",\"\"\" & 'BX Language acquisition'!D1149 & \"\"\"\"","v":"\" \",\"\",\"\",\"\""}]
[{"$f":"\"\"\" \"& 'BX Language acquisition'!A1150 & \"\"\",\"\"\" & 'BX Language acquisition'!C1150 & \"\"\",\"\"\" & 'BX Language acquisition'!B1150 & \"\"\",\"\"\" & 'BX Language acquisition'!D1150 & \"\"\"\"","v":"\" \",\"\",\"\",\"\""}]
[{"$f":"\"\"\" \"& 'BX Language acquisition'!A1151 & \"\"\",\"\"\" & 'BX Language acquisition'!C1151 & \"\"\",\"\"\" & 'BX Language acquisition'!B1151 & \"\"\",\"\"\" & 'BX Language acquisition'!D1151 & \"\"\"\"","v":"\" \",\"\",\"\",\"\""}]
[{"$f":"\"\"\" \"& 'BX Language acquisition'!A1152 & \"\"\",\"\"\" & 'BX Language acquisition'!C1152 & \"\"\",\"\"\" & 'BX Language acquisition'!B1152 & \"\"\",\"\"\" & 'BX Language acquisition'!D1152 & \"\"\"\"","v":"\" \",\"\",\"\",\"\""}]
[{"$f":"\"\"\" \"& 'BX Language acquisition'!A1153 & \"\"\",\"\"\" & 'BX Language acquisition'!C1153 & \"\"\",\"\"\" & 'BX Language acquisition'!B1153 & \"\"\",\"\"\" & 'BX Language acquisition'!D1153 & \"\"\"\"","v":"\" \",\"\",\"\",\"\""}]
[{"$f":"\"\"\" \"& 'BX Language acquisition'!A1154 & \"\"\",\"\"\" & 'BX Language acquisition'!C1154 & \"\"\",\"\"\" & 'BX Language acquisition'!B1154 & \"\"\",\"\"\" & 'BX Language acquisition'!D1154 & \"\"\"\"","v":"\" \",\"\",\"\",\"\""}]
[{"$f":"\"\"\" \"& 'BX Language acquisition'!A1155 & \"\"\",\"\"\" & 'BX Language acquisition'!C1155 & \"\"\",\"\"\" & 'BX Language acquisition'!B1155 & \"\"\",\"\"\" & 'BX Language acquisition'!D1155 & \"\"\"\"","v":"\" \",\"\",\"\",\"\""}]
[{"$f":"\"\"\" \"& 'BX Language acquisition'!A1156 & \"\"\",\"\"\" & 'BX Language acquisition'!C1156 & \"\"\",\"\"\" & 'BX Language acquisition'!B1156 & \"\"\",\"\"\" & 'BX Language acquisition'!D1156 & \"\"\"\"","v":"\" \",\"\",\"\",\"\""}]
[{"$f":"\"\"\" \"& 'BX Language acquisition'!A1157 & \"\"\",\"\"\" & 'BX Language acquisition'!C1157 & \"\"\",\"\"\" & 'BX Language acquisition'!B1157 & \"\"\",\"\"\" & 'BX Language acquisition'!D1157 & \"\"\"\"","v":"\" \",\"\",\"\",\"\""}]
[{"$f":"\"\"\" \"& 'BX Language acquisition'!A1158 & \"\"\",\"\"\" & 'BX Language acquisition'!C1158 & \"\"\",\"\"\" & 'BX Language acquisition'!B1158 & \"\"\",\"\"\" & 'BX Language acquisition'!D1158 & \"\"\"\"","v":"\" \",\"\",\"\",\"\""}]
[{"$f":"\"\"\" \"& 'BX Language acquisition'!A1159 & \"\"\",\"\"\" & 'BX Language acquisition'!C1159 & \"\"\",\"\"\" & 'BX Language acquisition'!B1159 & \"\"\",\"\"\" & 'BX Language acquisition'!D1159 & \"\"\"\"","v":"\" \",\"\",\"\",\"\""}]
[{"$f":"\"\"\" \"& 'BX Language acquisition'!A1160 & \"\"\",\"\"\" & 'BX Language acquisition'!C1160 & \"\"\",\"\"\" & 'BX Language acquisition'!B1160 & \"\"\",\"\"\" & 'BX Language acquisition'!D1160 & \"\"\"\"","v":"\" \",\"\",\"\",\"\""}]
[{"$f":"\"\"\" \"& 'BX Language acquisition'!A1161 & \"\"\",\"\"\" & 'BX Language acquisition'!C1161 & \"\"\",\"\"\" & 'BX Language acquisition'!B1161 & \"\"\",\"\"\" & 'BX Language acquisition'!D1161 & \"\"\"\"","v":"\" \",\"\",\"\",\"\""}]
[{"$f":"\"\"\" \"& 'BX Language acquisition'!A1162 & \"\"\",\"\"\" & 'BX Language acquisition'!C1162 & \"\"\",\"\"\" & 'BX Language acquisition'!B1162 & \"\"\",\"\"\" & 'BX Language acquisition'!D1162 & \"\"\"\"","v":"\" \",\"\",\"\",\"\""}]
[{"$f":"\"\"\" \"& 'BX Language acquisition'!A1163 & \"\"\",\"\"\" & 'BX Language acquisition'!C1163 & \"\"\",\"\"\" & 'BX Language acquisition'!B1163 & \"\"\",\"\"\" & 'BX Language acquisition'!D1163 & \"\"\"\"","v":"\" \",\"\",\"\",\"\""}]
[{"$f":"\"\"\" \"& 'BX Language acquisition'!A1164 & \"\"\",\"\"\" & 'BX Language acquisition'!C1164 & \"\"\",\"\"\" & 'BX Language acquisition'!B1164 & \"\"\",\"\"\" & 'BX Language acquisition'!D1164 & \"\"\"\"","v":"\" \",\"\",\"\",\"\""}]
[{"$f":"\"\"\" \"& 'BX Language acquisition'!A1165 & \"\"\",\"\"\" & 'BX Language acquisition'!C1165 & \"\"\",\"\"\" & 'BX Language acquisition'!B1165 & \"\"\",\"\"\" & 'BX Language acquisition'!D1165 & \"\"\"\"","v":"\" \",\"\",\"\",\"\""}]
[{"$f":"\"\"\" \"& 'BX Language acquisition'!A1166 & \"\"\",\"\"\" & 'BX Language acquisition'!C1166 & \"\"\",\"\"\" & 'BX Language acquisition'!B1166 & \"\"\",\"\"\" & 'BX Language acquisition'!D1166 & \"\"\"\"","v":"\" \",\"\",\"\",\"\""}]
[{"$f":"\"\"\" \"& 'BX Language acquisition'!A1167 & \"\"\",\"\"\" & 'BX Language acquisition'!C1167 & \"\"\",\"\"\" & 'BX Language acquisition'!B1167 & \"\"\",\"\"\" & 'BX Language acquisition'!D1167 & \"\"\"\"","v":"\" \",\"\",\"\",\"\""}]
[{"$f":"\"\"\" \"& 'BX Language acquisition'!A1168 & \"\"\",\"\"\" & 'BX Language acquisition'!C1168 & \"\"\",\"\"\" & 'BX Language acquisition'!B1168 & \"\"\",\"\"\" & 'BX Language acquisition'!D1168 & \"\"\"\"","v":"\" \",\"\",\"\",\"\""}]
[{"$f":"\"\"\" \"& 'BX Language acquisition'!A1169 & \"\"\",\"\"\" & 'BX Language acquisition'!C1169 & \"\"\",\"\"\" & 'BX Language acquisition'!B1169 & \"\"\",\"\"\" & 'BX Language acquisition'!D1169 & \"\"\"\"","v":"\" \",\"\",\"\",\"\""}]
[{"$f":"\"\"\" \"& 'BX Language acquisition'!A1170 & \"\"\",\"\"\" & 'BX Language acquisition'!C1170 & \"\"\",\"\"\" & 'BX Language acquisition'!B1170 & \"\"\",\"\"\" & 'BX Language acquisition'!D1170 & \"\"\"\"","v":"\" \",\"\",\"\",\"\""}]
[{"$f":"\"\"\" \"& 'BX Language acquisition'!A1171 & \"\"\",\"\"\" & 'BX Language acquisition'!C1171 & \"\"\",\"\"\" & 'BX Language acquisition'!B1171 & \"\"\",\"\"\" & 'BX Language acquisition'!D1171 & \"\"\"\"","v":"\" \",\"\",\"\",\"\""}]
[{"$f":"\"\"\" \"& 'BX Language acquisition'!A1172 & \"\"\",\"\"\" & 'BX Language acquisition'!C1172 & \"\"\",\"\"\" & 'BX Language acquisition'!B1172 & \"\"\",\"\"\" & 'BX Language acquisition'!D1172 & \"\"\"\"","v":"\" \",\"\",\"\",\"\""}]
[{"$f":"\"\"\" \"& 'BX Language acquisition'!A1173 & \"\"\",\"\"\" & 'BX Language acquisition'!C1173 & \"\"\",\"\"\" & 'BX Language acquisition'!B1173 & \"\"\",\"\"\" & 'BX Language acquisition'!D1173 & \"\"\"\"","v":"\" \",\"\",\"\",\"\""}]
[{"$f":"\"\"\" \"& 'BX Language acquisition'!A1174 & \"\"\",\"\"\" & 'BX Language acquisition'!C1174 & \"\"\",\"\"\" & 'BX Language acquisition'!B1174 & \"\"\",\"\"\" & 'BX Language acquisition'!D1174 & \"\"\"\"","v":"\" \",\"\",\"\",\"\""}]
[{"$f":"\"\"\" \"& 'BX Language acquisition'!A1175 & \"\"\",\"\"\" & 'BX Language acquisition'!C1175 & \"\"\",\"\"\" & 'BX Language acquisition'!B1175 & \"\"\",\"\"\" & 'BX Language acquisition'!D1175 & \"\"\"\"","v":"\" \",\"\",\"\",\"\""}]
[{"$f":"\"\"\" \"& 'BX Language acquisition'!A1176 & \"\"\",\"\"\" & 'BX Language acquisition'!C1176 & \"\"\",\"\"\" & 'BX Language acquisition'!B1176 & \"\"\",\"\"\" & 'BX Language acquisition'!D1176 & \"\"\"\"","v":"\" \",\"\",\"\",\"\""}]
[{"$f":"\"\"\" \"& 'BX Language acquisition'!A1177 & \"\"\",\"\"\" & 'BX Language acquisition'!C1177 & \"\"\",\"\"\" & 'BX Language acquisition'!B1177 & \"\"\",\"\"\" & 'BX Language acquisition'!D1177 & \"\"\"\"","v":"\" \",\"\",\"\",\"\""}]
[{"$f":"\"\"\" \"& 'BX Language acquisition'!A1178 & \"\"\",\"\"\" & 'BX Language acquisition'!C1178 & \"\"\",\"\"\" & 'BX Language acquisition'!B1178 & \"\"\",\"\"\" & 'BX Language acquisition'!D1178 & \"\"\"\"","v":"\" \",\"\",\"\",\"\""}]
[{"$f":"\"\"\" \"& 'BX Language acquisition'!A1179 & \"\"\",\"\"\" & 'BX Language acquisition'!C1179 & \"\"\",\"\"\" & 'BX Language acquisition'!B1179 & \"\"\",\"\"\" & 'BX Language acquisition'!D1179 & \"\"\"\"","v":"\" \",\"\",\"\",\"\""}]
[{"$f":"\"\"\" \"& 'BX Language acquisition'!A1180 & \"\"\",\"\"\" & 'BX Language acquisition'!C1180 & \"\"\",\"\"\" & 'BX Language acquisition'!B1180 & \"\"\",\"\"\" & 'BX Language acquisition'!D1180 & \"\"\"\"","v":"\" \",\"\",\"\",\"\""}]
[{"$f":"\"\"\" \"& 'BX Language acquisition'!A1181 & \"\"\",\"\"\" & 'BX Language acquisition'!C1181 & \"\"\",\"\"\" & 'BX Language acquisition'!B1181 & \"\"\",\"\"\" & 'BX Language acquisition'!D1181 & \"\"\"\"","v":"\" \",\"\",\"\",\"\""}]
[{"$f":"\"\"\" \"& 'BX Language acquisition'!A1182 & \"\"\",\"\"\" & 'BX Language acquisition'!C1182 & \"\"\",\"\"\" & 'BX Language acquisition'!B1182 & \"\"\",\"\"\" & 'BX Language acquisition'!D1182 & \"\"\"\"","v":"\" \",\"\",\"\",\"\""}]
[{"$f":"\"\"\" \"& 'BX Language acquisition'!A1183 & \"\"\",\"\"\" & 'BX Language acquisition'!C1183 & \"\"\",\"\"\" & 'BX Language acquisition'!B1183 & \"\"\",\"\"\" & 'BX Language acquisition'!D1183 & \"\"\"\"","v":"\" \",\"\",\"\",\"\""}]
[{"$f":"\"\"\" \"& 'BX Language acquisition'!A1184 & \"\"\",\"\"\" & 'BX Language acquisition'!C1184 & \"\"\",\"\"\" & 'BX Language acquisition'!B1184 & \"\"\",\"\"\" & 'BX Language acquisition'!D1184 & \"\"\"\"","v":"\" \",\"\",\"\",\"\""}]
[{"$f":"\"\"\" \"& 'BX Language acquisition'!A1185 & \"\"\",\"\"\" & 'BX Language acquisition'!C1185 & \"\"\",\"\"\" & 'BX Language acquisition'!B1185 & \"\"\",\"\"\" & 'BX Language acquisition'!D1185 & \"\"\"\"","v":"\" \",\"\",\"\",\"\""}]
[{"$f":"\"\"\" \"& 'BX Language acquisition'!A1186 & \"\"\",\"\"\" & 'BX Language acquisition'!C1186 & \"\"\",\"\"\" & 'BX Language acquisition'!B1186 & \"\"\",\"\"\" & 'BX Language acquisition'!D1186 & \"\"\"\"","v":"\" \",\"\",\"\",\"\""}]
[{"$f":"\"\"\" \"& 'BX Language acquisition'!A1187 & \"\"\",\"\"\" & 'BX Language acquisition'!C1187 & \"\"\",\"\"\" & 'BX Language acquisition'!B1187 & \"\"\",\"\"\" & 'BX Language acquisition'!D1187 & \"\"\"\"","v":"\" \",\"\",\"\",\"\""}]
[{"$f":"\"\"\" \"& 'BX Language acquisition'!A1188 & \"\"\",\"\"\" & 'BX Language acquisition'!C1188 & \"\"\",\"\"\" & 'BX Language acquisition'!B1188 & \"\"\",\"\"\" & 'BX Language acquisition'!D1188 & \"\"\"\"","v":"\" \",\"\",\"\",\"\""}]
[{"$f":"\"\"\" \"& 'BX Language acquisition'!A1189 & \"\"\",\"\"\" & 'BX Language acquisition'!C1189 & \"\"\",\"\"\" & 'BX Language acquisition'!B1189 & \"\"\",\"\"\" & 'BX Language acquisition'!D1189 & \"\"\"\"","v":"\" \",\"\",\"\",\"\""}]
[{"$f":"\"\"\" \"& 'BX Language acquisition'!A1190 & \"\"\",\"\"\" & 'BX Language acquisition'!C1190 & \"\"\",\"\"\" & 'BX Language acquisition'!B1190 & \"\"\",\"\"\" & 'BX Language acquisition'!D1190 & \"\"\"\"","v":"\" \",\"\",\"\",\"\""}]
[{"$f":"\"\"\" \"& 'BX Language acquisition'!A1191 & \"\"\",\"\"\" & 'BX Language acquisition'!C1191 & \"\"\",\"\"\" & 'BX Language acquisition'!B1191 & \"\"\",\"\"\" & 'BX Language acquisition'!D1191 & \"\"\"\"","v":"\" \",\"\",\"\",\"\""}]
[{"$f":"\"\"\" \"& 'BX Language acquisition'!A1192 & \"\"\",\"\"\" & 'BX Language acquisition'!C1192 & \"\"\",\"\"\" & 'BX Language acquisition'!B1192 & \"\"\",\"\"\" & 'BX Language acquisition'!D1192 & \"\"\"\"","v":"\" \",\"\",\"\",\"\""}]
[{"$f":"\"\"\" \"& 'BX Language acquisition'!A1193 & \"\"\",\"\"\" & 'BX Language acquisition'!C1193 & \"\"\",\"\"\" & 'BX Language acquisition'!B1193 & \"\"\",\"\"\" & 'BX Language acquisition'!D1193 & \"\"\"\"","v":"\" \",\"\",\"\",\"\""}]
[{"$f":"\"\"\" \"& 'BX Language acquisition'!A1194 & \"\"\",\"\"\" & 'BX Language acquisition'!C1194 & \"\"\",\"\"\" & 'BX Language acquisition'!B1194 & \"\"\",\"\"\" & 'BX Language acquisition'!D1194 & \"\"\"\"","v":"\" \",\"\",\"\",\"\""}]
[{"$f":"\"\"\" \"& 'BX Language acquisition'!A1195 & \"\"\",\"\"\" & 'BX Language acquisition'!C1195 & \"\"\",\"\"\" & 'BX Language acquisition'!B1195 & \"\"\",\"\"\" & 'BX Language acquisition'!D1195 & \"\"\"\"","v":"\" \",\"\",\"\",\"\""}]
[{"$f":"\"\"\" \"& 'BX Language acquisition'!A1196 & \"\"\",\"\"\" & 'BX Language acquisition'!C1196 & \"\"\",\"\"\" & 'BX Language acquisition'!B1196 & \"\"\",\"\"\" & 'BX Language acquisition'!D1196 & \"\"\"\"","v":"\" \",\"\",\"\",\"\""}]
[{"$f":"\"\"\" \"& 'BX Language acquisition'!A1197 & \"\"\",\"\"\" & 'BX Language acquisition'!C1197 & \"\"\",\"\"\" & 'BX Language acquisition'!B1197 & \"\"\",\"\"\" & 'BX Language acquisition'!D1197 & \"\"\"\"","v":"\" \",\"\",\"\",\"\""}]
[{"$f":"\"\"\" \"& 'BX Language acquisition'!A1198 & \"\"\",\"\"\" & 'BX Language acquisition'!C1198 & \"\"\",\"\"\" & 'BX Language acquisition'!B1198 & \"\"\",\"\"\" & 'BX Language acquisition'!D1198 & \"\"\"\"","v":"\" \",\"\",\"\",\"\""}]
[{"$f":"\"\"\" \"& 'BX Language acquisition'!A1199 & \"\"\",\"\"\" & 'BX Language acquisition'!C1199 & \"\"\",\"\"\" & 'BX Language acquisition'!B1199 & \"\"\",\"\"\" & 'BX Language acquisition'!D1199 & \"\"\"\"","v":"\" \",\"\",\"\",\"\""}]
[{"$f":"\"\"\" \"& 'BX Language acquisition'!A1200 & \"\"\",\"\"\" & 'BX Language acquisition'!C1200 & \"\"\",\"\"\" & 'BX Language acquisition'!B1200 & \"\"\",\"\"\" & 'BX Language acquisition'!D1200 & \"\"\"\"","v":"\" \",\"\",\"\",\"\""}]
[{"$f":"\"\"\" \"& 'BX Language acquisition'!A1201 & \"\"\",\"\"\" & 'BX Language acquisition'!C1201 & \"\"\",\"\"\" & 'BX Language acquisition'!B1201 & \"\"\",\"\"\" & 'BX Language acquisition'!D1201 & \"\"\"\"","v":"\" \",\"\",\"\",\"\""}]
[{"$f":"\"\"\" \"& 'BX Language acquisition'!A1202 & \"\"\",\"\"\" & 'BX Language acquisition'!C1202 & \"\"\",\"\"\" & 'BX Language acquisition'!B1202 & \"\"\",\"\"\" & 'BX Language acquisition'!D1202 & \"\"\"\"","v":"\" \",\"\",\"\",\"\""}]
[{"$f":"\"\"\" \"& 'BX Language acquisition'!A1203 & \"\"\",\"\"\" & 'BX Language acquisition'!C1203 & \"\"\",\"\"\" & 'BX Language acquisition'!B1203 & \"\"\",\"\"\" & 'BX Language acquisition'!D1203 & \"\"\"\"","v":"\" \",\"\",\"\",\"\""}]
[{"$f":"\"\"\" \"& 'BX Language acquisition'!A1204 & \"\"\",\"\"\" & 'BX Language acquisition'!C1204 & \"\"\",\"\"\" & 'BX Language acquisition'!B1204 & \"\"\",\"\"\" & 'BX Language acquisition'!D1204 & \"\"\"\"","v":"\" \",\"\",\"\",\"\""}]
[{"$f":"\"\"\" \"& 'BX Language acquisition'!A1205 & \"\"\",\"\"\" & 'BX Language acquisition'!C1205 & \"\"\",\"\"\" & 'BX Language acquisition'!B1205 & \"\"\",\"\"\" & 'BX Language acquisition'!D1205 & \"\"\"\"","v":"\" \",\"\",\"\",\"\""}]
[{"$f":"\"\"\" \"& 'BX Language acquisition'!A1206 & \"\"\",\"\"\" & 'BX Language acquisition'!C1206 & \"\"\",\"\"\" & 'BX Language acquisition'!B1206 & \"\"\",\"\"\" & 'BX Language acquisition'!D1206 & \"\"\"\"","v":"\" \",\"\",\"\",\"\""}]
[{"$f":"\"\"\" \"& 'BX Language acquisition'!A1207 & \"\"\",\"\"\" & 'BX Language acquisition'!C1207 & \"\"\",\"\"\" & 'BX Language acquisition'!B1207 & \"\"\",\"\"\" & 'BX Language acquisition'!D1207 & \"\"\"\"","v":"\" \",\"\",\"\",\"\""}]
[{"$f":"\"\"\" \"& 'BX Language acquisition'!A1208 & \"\"\",\"\"\" & 'BX Language acquisition'!C1208 & \"\"\",\"\"\" & 'BX Language acquisition'!B1208 & \"\"\",\"\"\" & 'BX Language acquisition'!D1208 & \"\"\"\"","v":"\" \",\"\",\"\",\"\""}]
[{"$f":"\"\"\" \"& 'BX Language acquisition'!A1209 & \"\"\",\"\"\" & 'BX Language acquisition'!C1209 & \"\"\",\"\"\" & 'BX Language acquisition'!B1209 & \"\"\",\"\"\" & 'BX Language acquisition'!D1209 & \"\"\"\"","v":"\" \",\"\",\"\",\"\""}]
[{"$f":"\"\"\" \"& 'BX Language acquisition'!A1210 & \"\"\",\"\"\" & 'BX Language acquisition'!C1210 & \"\"\",\"\"\" & 'BX Language acquisition'!B1210 & \"\"\",\"\"\" & 'BX Language acquisition'!D1210 & \"\"\"\"","v":"\" \",\"\",\"\",\"\""}]
[{"$f":"\"\"\" \"& 'BX Language acquisition'!A1211 & \"\"\",\"\"\" & 'BX Language acquisition'!C1211 & \"\"\",\"\"\" & 'BX Language acquisition'!B1211 & \"\"\",\"\"\" & 'BX Language acquisition'!D1211 & \"\"\"\"","v":"\" \",\"\",\"\",\"\""}]
[{"$f":"\"\"\" \"& 'BX Language acquisition'!A1212 & \"\"\",\"\"\" & 'BX Language acquisition'!C1212 & \"\"\",\"\"\" & 'BX Language acquisition'!B1212 & \"\"\",\"\"\" & 'BX Language acquisition'!D1212 & \"\"\"\"","v":"\" \",\"\",\"\",\"\""}]
[{"$f":"\"\"\" \"& 'BX Language acquisition'!A1213 & \"\"\",\"\"\" & 'BX Language acquisition'!C1213 & \"\"\",\"\"\" & 'BX Language acquisition'!B1213 & \"\"\",\"\"\" & 'BX Language acquisition'!D1213 & \"\"\"\"","v":"\" \",\"\",\"\",\"\""}]
[{"$f":"\"\"\" \"& 'BX Language acquisition'!A1214 & \"\"\",\"\"\" & 'BX Language acquisition'!C1214 & \"\"\",\"\"\" & 'BX Language acquisition'!B1214 & \"\"\",\"\"\" & 'BX Language acquisition'!D1214 & \"\"\"\"","v":"\" \",\"\",\"\",\"\""}]
[{"$f":"\"\"\" \"& 'BX Language acquisition'!A1215 & \"\"\",\"\"\" & 'BX Language acquisition'!C1215 & \"\"\",\"\"\" & 'BX Language acquisition'!B1215 & \"\"\",\"\"\" & 'BX Language acquisition'!D1215 & \"\"\"\"","v":"\" \",\"\",\"\",\"\""}]
[{"$f":"\"\"\" \"& 'BX Language acquisition'!A1216 & \"\"\",\"\"\" & 'BX Language acquisition'!C1216 & \"\"\",\"\"\" & 'BX Language acquisition'!B1216 & \"\"\",\"\"\" & 'BX Language acquisition'!D1216 & \"\"\"\"","v":"\" \",\"\",\"\",\"\""}]
[{"$f":"\"\"\" \"& 'BX Language acquisition'!A1217 & \"\"\",\"\"\" & 'BX Language acquisition'!C1217 & \"\"\",\"\"\" & 'BX Language acquisition'!B1217 & \"\"\",\"\"\" & 'BX Language acquisition'!D1217 & \"\"\"\"","v":"\" \",\"\",\"\",\"\""}]
[{"$f":"\"\"\" \"& 'BX Language acquisition'!A1218 & \"\"\",\"\"\" & 'BX Language acquisition'!C1218 & \"\"\",\"\"\" & 'BX Language acquisition'!B1218 & \"\"\",\"\"\" & 'BX Language acquisition'!D1218 & \"\"\"\"","v":"\" \",\"\",\"\",\"\""}]
[{"$f":"\"\"\" \"& 'BX Language acquisition'!A1219 & \"\"\",\"\"\" & 'BX Language acquisition'!C1219 & \"\"\",\"\"\" & 'BX Language acquisition'!B1219 & \"\"\",\"\"\" & 'BX Language acquisition'!D1219 & \"\"\"\"","v":"\" \",\"\",\"\",\"\""}]
[{"$f":"\"\"\" \"& 'BX Language acquisition'!A1220 & \"\"\",\"\"\" & 'BX Language acquisition'!C1220 & \"\"\",\"\"\" & 'BX Language acquisition'!B1220 & \"\"\",\"\"\" & 'BX Language acquisition'!D1220 & \"\"\"\"","v":"\" \",\"\",\"\",\"\""}]
[{"$f":"\"\"\" \"& 'BX Language acquisition'!A1221 & \"\"\",\"\"\" & 'BX Language acquisition'!C1221 & \"\"\",\"\"\" & 'BX Language acquisition'!B1221 & \"\"\",\"\"\" & 'BX Language acquisition'!D1221 & \"\"\"\"","v":"\" \",\"\",\"\",\"\""}]
[{"$f":"\"\"\" \"& 'BX Language acquisition'!A1222 & \"\"\",\"\"\" & 'BX Language acquisition'!C1222 & \"\"\",\"\"\" & 'BX Language acquisition'!B1222 & \"\"\",\"\"\" & 'BX Language acquisition'!D1222 & \"\"\"\"","v":"\" \",\"\",\"\",\"\""}]
[{"$f":"\"\"\" \"& 'BX Language acquisition'!A1223 & \"\"\",\"\"\" & 'BX Language acquisition'!C1223 & \"\"\",\"\"\" & 'BX Language acquisition'!B1223 & \"\"\",\"\"\" & 'BX Language acquisition'!D1223 & \"\"\"\"","v":"\" \",\"\",\"\",\"\""}]
[{"$f":"\"\"\" \"& 'BX Language acquisition'!A1224 & \"\"\",\"\"\" & 'BX Language acquisition'!C1224 & \"\"\",\"\"\" & 'BX Language acquisition'!B1224 & \"\"\",\"\"\" & 'BX Language acquisition'!D1224 & \"\"\"\"","v":"\" \",\"\",\"\",\"\""}]
[{"$f":"\"\"\" \"& 'BX Language acquisition'!A1225 & \"\"\",\"\"\" & 'BX Language acquisition'!C1225 & \"\"\",\"\"\" & 'BX Language acquisition'!B1225 & \"\"\",\"\"\" & 'BX Language acquisition'!D1225 & \"\"\"\"","v":"\" \",\"\",\"\",\"\""}]
[{"$f":"\"\"\" \"& 'BX Language acquisition'!A1226 & \"\"\",\"\"\" & 'BX Language acquisition'!C1226 & \"\"\",\"\"\" & 'BX Language acquisition'!B1226 & \"\"\",\"\"\" & 'BX Language acquisition'!D1226 & \"\"\"\"","v":"\" \",\"\",\"\",\"\""}]
[{"$f":"\"\"\" \"& 'BX Language acquisition'!A1227 & \"\"\",\"\"\" & 'BX Language acquisition'!C1227 & \"\"\",\"\"\" & 'BX Language acquisition'!B1227 & \"\"\",\"\"\" & 'BX Language acquisition'!D1227 & \"\"\"\"","v":"\" \",\"\",\"\",\"\""}]
[{"$f":"\"\"\" \"& 'BX Language acquisition'!A1228 & \"\"\",\"\"\" & 'BX Language acquisition'!C1228 & \"\"\",\"\"\" & 'BX Language acquisition'!B1228 & \"\"\",\"\"\" & 'BX Language acquisition'!D1228 & \"\"\"\"","v":"\" \",\"\",\"\",\"\""}]
[{"$f":"\"\"\" \"& 'BX Language acquisition'!A1229 & \"\"\",\"\"\" & 'BX Language acquisition'!C1229 & \"\"\",\"\"\" & 'BX Language acquisition'!B1229 & \"\"\",\"\"\" & 'BX Language acquisition'!D1229 & \"\"\"\"","v":"\" \",\"\",\"\",\"\""}]
[{"$f":"\"\"\" \"& 'BX Language acquisition'!A1230 & \"\"\",\"\"\" & 'BX Language acquisition'!C1230 & \"\"\",\"\"\" & 'BX Language acquisition'!B1230 & \"\"\",\"\"\" & 'BX Language acquisition'!D1230 & \"\"\"\"","v":"\" \",\"\",\"\",\"\""}]
[{"$f":"\"\"\" \"& 'BX Language acquisition'!A1231 & \"\"\",\"\"\" & 'BX Language acquisition'!C1231 & \"\"\",\"\"\" & 'BX Language acquisition'!B1231 & \"\"\",\"\"\" & 'BX Language acquisition'!D1231 & \"\"\"\"","v":"\" \",\"\",\"\",\"\""}]
[{"$f":"\"\"\" \"& 'BX Language acquisition'!A1232 & \"\"\",\"\"\" & 'BX Language acquisition'!C1232 & \"\"\",\"\"\" & 'BX Language acquisition'!B1232 & \"\"\",\"\"\" & 'BX Language acquisition'!D1232 & \"\"\"\"","v":"\" \",\"\",\"\",\"\""}]
[{"$f":"\"\"\" \"& 'BX Language acquisition'!A1233 & \"\"\",\"\"\" & 'BX Language acquisition'!C1233 & \"\"\",\"\"\" & 'BX Language acquisition'!B1233 & \"\"\",\"\"\" & 'BX Language acquisition'!D1233 & \"\"\"\"","v":"\" \",\"\",\"\",\"\""}]
[{"$f":"\"\"\" \"& 'BX Language acquisition'!A1234 & \"\"\",\"\"\" & 'BX Language acquisition'!C1234 & \"\"\",\"\"\" & 'BX Language acquisition'!B1234 & \"\"\",\"\"\" & 'BX Language acquisition'!D1234 & \"\"\"\"","v":"\" \",\"\",\"\",\"\""}]
[{"$f":"\"\"\" \"& 'BX Language acquisition'!A1235 & \"\"\",\"\"\" & 'BX Language acquisition'!C1235 & \"\"\",\"\"\" & 'BX Language acquisition'!B1235 & \"\"\",\"\"\" & 'BX Language acquisition'!D1235 & \"\"\"\"","v":"\" \",\"\",\"\",\"\""}]
[{"$f":"\"\"\" \"& 'BX Language acquisition'!A1236 & \"\"\",\"\"\" & 'BX Language acquisition'!C1236 & \"\"\",\"\"\" & 'BX Language acquisition'!B1236 & \"\"\",\"\"\" & 'BX Language acquisition'!D1236 & \"\"\"\"","v":"\" \",\"\",\"\",\"\""}]
[{"$f":"\"\"\" \"& 'BX Language acquisition'!A1237 & \"\"\",\"\"\" & 'BX Language acquisition'!C1237 & \"\"\",\"\"\" & 'BX Language acquisition'!B1237 & \"\"\",\"\"\" & 'BX Language acquisition'!D1237 & \"\"\"\"","v":"\" \",\"\",\"\",\"\""}]
[{"$f":"\"\"\" \"& 'BX Language acquisition'!A1238 & \"\"\",\"\"\" & 'BX Language acquisition'!C1238 & \"\"\",\"\"\" & 'BX Language acquisition'!B1238 & \"\"\",\"\"\" & 'BX Language acquisition'!D1238 & \"\"\"\"","v":"\" \",\"\",\"\",\"\""}]
[{"$f":"\"\"\" \"& 'BX Language acquisition'!A1239 & \"\"\",\"\"\" & 'BX Language acquisition'!C1239 & \"\"\",\"\"\" & 'BX Language acquisition'!B1239 & \"\"\",\"\"\" & 'BX Language acquisition'!D1239 & \"\"\"\"","v":"\" \",\"\",\"\",\"\""}]
[{"$f":"\"\"\" \"& 'BX Language acquisition'!A1240 & \"\"\",\"\"\" & 'BX Language acquisition'!C1240 & \"\"\",\"\"\" & 'BX Language acquisition'!B1240 & \"\"\",\"\"\" & 'BX Language acquisition'!D1240 & \"\"\"\"","v":"\" \",\"\",\"\",\"\""}]
[{"$f":"\"\"\" \"& 'BX Language acquisition'!A1241 & \"\"\",\"\"\" & 'BX Language acquisition'!C1241 & \"\"\",\"\"\" & 'BX Language acquisition'!B1241 & \"\"\",\"\"\" & 'BX Language acquisition'!D1241 & \"\"\"\"","v":"\" \",\"\",\"\",\"\""}]
[{"$f":"\"\"\" \"& 'BX Language acquisition'!A1242 & \"\"\",\"\"\" & 'BX Language acquisition'!C1242 & \"\"\",\"\"\" & 'BX Language acquisition'!B1242 & \"\"\",\"\"\" & 'BX Language acquisition'!D1242 & \"\"\"\"","v":"\" \",\"\",\"\",\"\""}]
[{"$f":"\"\"\" \"& 'BX Language acquisition'!A1243 & \"\"\",\"\"\" & 'BX Language acquisition'!C1243 & \"\"\",\"\"\" & 'BX Language acquisition'!B1243 & \"\"\",\"\"\" & 'BX Language acquisition'!D1243 & \"\"\"\"","v":"\" \",\"\",\"\",\"\""}]
[{"$f":"\"\"\" \"& 'BX Language acquisition'!A1244 & \"\"\",\"\"\" & 'BX Language acquisition'!C1244 & \"\"\",\"\"\" & 'BX Language acquisition'!B1244 & \"\"\",\"\"\" & 'BX Language acquisition'!D1244 & \"\"\"\"","v":"\" \",\"\",\"\",\"\""}]
[{"$f":"\"\"\" \"& 'BX Language acquisition'!A1245 & \"\"\",\"\"\" & 'BX Language acquisition'!C1245 & \"\"\",\"\"\" & 'BX Language acquisition'!B1245 & \"\"\",\"\"\" & 'BX Language acquisition'!D1245 & \"\"\"\"","v":"\" \",\"\",\"\",\"\""}]
[{"$f":"\"\"\" \"& 'BX Language acquisition'!A1246 & \"\"\",\"\"\" & 'BX Language acquisition'!C1246 & \"\"\",\"\"\" & 'BX Language acquisition'!B1246 & \"\"\",\"\"\" & 'BX Language acquisition'!D1246 & \"\"\"\"","v":"\" \",\"\",\"\",\"\""}]
[{"$f":"\"\"\" \"& 'BX Language acquisition'!A1247 & \"\"\",\"\"\" & 'BX Language acquisition'!C1247 & \"\"\",\"\"\" & 'BX Language acquisition'!B1247 & \"\"\",\"\"\" & 'BX Language acquisition'!D1247 & \"\"\"\"","v":"\" \",\"\",\"\",\"\""}]
[{"$f":"\"\"\" \"& 'BX Language acquisition'!A1248 & \"\"\",\"\"\" & 'BX Language acquisition'!C1248 & \"\"\",\"\"\" & 'BX Language acquisition'!B1248 & \"\"\",\"\"\" & 'BX Language acquisition'!D1248 & \"\"\"\"","v":"\" \",\"\",\"\",\"\""}]
[{"$f":"\"\"\" \"& 'BX Language acquisition'!A1249 & \"\"\",\"\"\" & 'BX Language acquisition'!C1249 & \"\"\",\"\"\" & 'BX Language acquisition'!B1249 & \"\"\",\"\"\" & 'BX Language acquisition'!D1249 & \"\"\"\"","v":"\" \",\"\",\"\",\"\""}]
[{"$f":"\"\"\" \"& 'BX Language acquisition'!A1250 & \"\"\",\"\"\" & 'BX Language acquisition'!C1250 & \"\"\",\"\"\" & 'BX Language acquisition'!B1250 & \"\"\",\"\"\" & 'BX Language acquisition'!D1250 & \"\"\"\"","v":"\" \",\"\",\"\",\"\""}]
[{"$f":"\"\"\" \"& 'BX Language acquisition'!A1251 & \"\"\",\"\"\" & 'BX Language acquisition'!C1251 & \"\"\",\"\"\" & 'BX Language acquisition'!B1251 & \"\"\",\"\"\" & 'BX Language acquisition'!D1251 & \"\"\"\"","v":"\" \",\"\",\"\",\"\""}]
[{"$f":"\"\"\" \"& 'BX Language acquisition'!A1252 & \"\"\",\"\"\" & 'BX Language acquisition'!C1252 & \"\"\",\"\"\" & 'BX Language acquisition'!B1252 & \"\"\",\"\"\" & 'BX Language acquisition'!D1252 & \"\"\"\"","v":"\" \",\"\",\"\",\"\""}]
[{"$f":"\"\"\" \"& 'BX Language acquisition'!A1253 & \"\"\",\"\"\" & 'BX Language acquisition'!C1253 & \"\"\",\"\"\" & 'BX Language acquisition'!B1253 & \"\"\",\"\"\" & 'BX Language acquisition'!D1253 & \"\"\"\"","v":"\" \",\"\",\"\",\"\""}]
[{"$f":"\"\"\" \"& 'BX Language acquisition'!A1254 & \"\"\",\"\"\" & 'BX Language acquisition'!C1254 & \"\"\",\"\"\" & 'BX Language acquisition'!B1254 & \"\"\",\"\"\" & 'BX Language acquisition'!D1254 & \"\"\"\"","v":"\" \",\"\",\"\",\"\""}]
[{"$f":"\"\"\" \"& 'BX Language acquisition'!A1255 & \"\"\",\"\"\" & 'BX Language acquisition'!C1255 & \"\"\",\"\"\" & 'BX Language acquisition'!B1255 & \"\"\",\"\"\" & 'BX Language acquisition'!D1255 & \"\"\"\"","v":"\" \",\"\",\"\",\"\""}]
[{"$f":"\"\"\" \"& 'BX Language acquisition'!A1256 & \"\"\",\"\"\" & 'BX Language acquisition'!C1256 & \"\"\",\"\"\" & 'BX Language acquisition'!B1256 & \"\"\",\"\"\" & 'BX Language acquisition'!D1256 & \"\"\"\"","v":"\" \",\"\",\"\",\"\""}]
[{"$f":"\"\"\" \"& 'BX Language acquisition'!A1257 & \"\"\",\"\"\" & 'BX Language acquisition'!C1257 & \"\"\",\"\"\" & 'BX Language acquisition'!B1257 & \"\"\",\"\"\" & 'BX Language acquisition'!D1257 & \"\"\"\"","v":"\" \",\"\",\"\",\"\""}]
[{"$f":"\"\"\" \"& 'BX Language acquisition'!A1258 & \"\"\",\"\"\" & 'BX Language acquisition'!C1258 & \"\"\",\"\"\" & 'BX Language acquisition'!B1258 & \"\"\",\"\"\" & 'BX Language acquisition'!D1258 & \"\"\"\"","v":"\" \",\"\",\"\",\"\""}]
[{"$f":"\"\"\" \"& 'BX Language acquisition'!A1259 & \"\"\",\"\"\" & 'BX Language acquisition'!C1259 & \"\"\",\"\"\" & 'BX Language acquisition'!B1259 & \"\"\",\"\"\" & 'BX Language acquisition'!D1259 & \"\"\"\"","v":"\" \",\"\",\"\",\"\""}]
[{"$f":"\"\"\" \"& 'BX Language acquisition'!A1260 & \"\"\",\"\"\" & 'BX Language acquisition'!C1260 & \"\"\",\"\"\" & 'BX Language acquisition'!B1260 & \"\"\",\"\"\" & 'BX Language acquisition'!D1260 & \"\"\"\"","v":"\" \",\"\",\"\",\"\""}]
[{"$f":"\"\"\" \"& 'BX Language acquisition'!A1261 & \"\"\",\"\"\" & 'BX Language acquisition'!C1261 & \"\"\",\"\"\" & 'BX Language acquisition'!B1261 & \"\"\",\"\"\" & 'BX Language acquisition'!D1261 & \"\"\"\"","v":"\" \",\"\",\"\",\"\""}]
[{"$f":"\"\"\" \"& 'BX Language acquisition'!A1262 & \"\"\",\"\"\" & 'BX Language acquisition'!C1262 & \"\"\",\"\"\" & 'BX Language acquisition'!B1262 & \"\"\",\"\"\" & 'BX Language acquisition'!D1262 & \"\"\"\"","v":"\" \",\"\",\"\",\"\""}]
[{"$f":"\"\"\" \"& 'BX Language acquisition'!A1263 & \"\"\",\"\"\" & 'BX Language acquisition'!C1263 & \"\"\",\"\"\" & 'BX Language acquisition'!B1263 & \"\"\",\"\"\" & 'BX Language acquisition'!D1263 & \"\"\"\"","v":"\" \",\"\",\"\",\"\""}]
[{"$f":"\"\"\" \"& 'BX Language acquisition'!A1264 & \"\"\",\"\"\" & 'BX Language acquisition'!C1264 & \"\"\",\"\"\" & 'BX Language acquisition'!B1264 & \"\"\",\"\"\" & 'BX Language acquisition'!D1264 & \"\"\"\"","v":"\" \",\"\",\"\",\"\""}]
[{"$f":"\"\"\" \"& 'BX Language acquisition'!A1265 & \"\"\",\"\"\" & 'BX Language acquisition'!C1265 & \"\"\",\"\"\" & 'BX Language acquisition'!B1265 & \"\"\",\"\"\" & 'BX Language acquisition'!D1265 & \"\"\"\"","v":"\" \",\"\",\"\",\"\""}]
[{"$f":"\"\"\" \"& 'BX Language acquisition'!A1266 & \"\"\",\"\"\" & 'BX Language acquisition'!C1266 & \"\"\",\"\"\" & 'BX Language acquisition'!B1266 & \"\"\",\"\"\" & 'BX Language acquisition'!D1266 & \"\"\"\"","v":"\" \",\"\",\"\",\"\""}]
[{"$f":"\"\"\" \"& 'BX Language acquisition'!A1267 & \"\"\",\"\"\" & 'BX Language acquisition'!C1267 & \"\"\",\"\"\" & 'BX Language acquisition'!B1267 & \"\"\",\"\"\" & 'BX Language acquisition'!D1267 & \"\"\"\"","v":"\" \",\"\",\"\",\"\""}]
[{"$f":"\"\"\" \"& 'BX Language acquisition'!A1268 & \"\"\",\"\"\" & 'BX Language acquisition'!C1268 & \"\"\",\"\"\" & 'BX Language acquisition'!B1268 & \"\"\",\"\"\" & 'BX Language acquisition'!D1268 & \"\"\"\"","v":"\" \",\"\",\"\",\"\""}]
[{"$f":"\"\"\" \"& 'BX Language acquisition'!A1269 & \"\"\",\"\"\" & 'BX Language acquisition'!C1269 & \"\"\",\"\"\" & 'BX Language acquisition'!B1269 & \"\"\",\"\"\" & 'BX Language acquisition'!D1269 & \"\"\"\"","v":"\" \",\"\",\"\",\"\""}]
[{"$f":"\"\"\" \"& 'BX Language acquisition'!A1270 & \"\"\",\"\"\" & 'BX Language acquisition'!C1270 & \"\"\",\"\"\" & 'BX Language acquisition'!B1270 & \"\"\",\"\"\" & 'BX Language acquisition'!D1270 & \"\"\"\"","v":"\" \",\"\",\"\",\"\""}]
[{"$f":"\"\"\" \"& 'BX Language acquisition'!A1271 & \"\"\",\"\"\" & 'BX Language acquisition'!C1271 & \"\"\",\"\"\" & 'BX Language acquisition'!B1271 & \"\"\",\"\"\" & 'BX Language acquisition'!D1271 & \"\"\"\"","v":"\" \",\"\",\"\",\"\""}]
[{"$f":"\"\"\" \"& 'BX Language acquisition'!A1272 & \"\"\",\"\"\" & 'BX Language acquisition'!C1272 & \"\"\",\"\"\" & 'BX Language acquisition'!B1272 & \"\"\",\"\"\" & 'BX Language acquisition'!D1272 & \"\"\"\"","v":"\" \",\"\",\"\",\"\""}]
[{"$f":"\"\"\" \"& 'BX Language acquisition'!A1273 & \"\"\",\"\"\" & 'BX Language acquisition'!C1273 & \"\"\",\"\"\" & 'BX Language acquisition'!B1273 & \"\"\",\"\"\" & 'BX Language acquisition'!D1273 & \"\"\"\"","v":"\" \",\"\",\"\",\"\""}]
[{"$f":"\"\"\" \"& 'BX Language acquisition'!A1274 & \"\"\",\"\"\" & 'BX Language acquisition'!C1274 & \"\"\",\"\"\" & 'BX Language acquisition'!B1274 & \"\"\",\"\"\" & 'BX Language acquisition'!D1274 & \"\"\"\"","v":"\" \",\"\",\"\",\"\""}]
[{"$f":"\"\"\" \"& 'BX Language acquisition'!A1275 & \"\"\",\"\"\" & 'BX Language acquisition'!C1275 & \"\"\",\"\"\" & 'BX Language acquisition'!B1275 & \"\"\",\"\"\" & 'BX Language acquisition'!D1275 & \"\"\"\"","v":"\" \",\"\",\"\",\"\""}]
[{"$f":"\"\"\" \"& 'BX Language acquisition'!A1276 & \"\"\",\"\"\" & 'BX Language acquisition'!C1276 & \"\"\",\"\"\" & 'BX Language acquisition'!B1276 & \"\"\",\"\"\" & 'BX Language acquisition'!D1276 & \"\"\"\"","v":"\" \",\"\",\"\",\"\""}]
[{"$f":"\"\"\" \"& 'BX Language acquisition'!A1277 & \"\"\",\"\"\" & 'BX Language acquisition'!C1277 & \"\"\",\"\"\" & 'BX Language acquisition'!B1277 & \"\"\",\"\"\" & 'BX Language acquisition'!D1277 & \"\"\"\"","v":"\" \",\"\",\"\",\"\""}]
[{"$f":"\"\"\" \"& 'BX Language acquisition'!A1278 & \"\"\",\"\"\" & 'BX Language acquisition'!C1278 & \"\"\",\"\"\" & 'BX Language acquisition'!B1278 & \"\"\",\"\"\" & 'BX Language acquisition'!D1278 & \"\"\"\"","v":"\" \",\"\",\"\",\"\""}]
[{"$f":"\"\"\" \"& 'BX Language acquisition'!A1279 & \"\"\",\"\"\" & 'BX Language acquisition'!C1279 & \"\"\",\"\"\" & 'BX Language acquisition'!B1279 & \"\"\",\"\"\" & 'BX Language acquisition'!D1279 & \"\"\"\"","v":"\" \",\"\",\"\",\"\""}]
[{"$f":"\"\"\" \"& 'BX Language acquisition'!A1280 & \"\"\",\"\"\" & 'BX Language acquisition'!C1280 & \"\"\",\"\"\" & 'BX Language acquisition'!B1280 & \"\"\",\"\"\" & 'BX Language acquisition'!D1280 & \"\"\"\"","v":"\" \",\"\",\"\",\"\""}]
[{"$f":"\"\"\" \"& 'BX Language acquisition'!A1281 & \"\"\",\"\"\" & 'BX Language acquisition'!C1281 & \"\"\",\"\"\" & 'BX Language acquisition'!B1281 & \"\"\",\"\"\" & 'BX Language acquisition'!D1281 & \"\"\"\"","v":"\" \",\"\",\"\",\"\""}]
[{"$f":"\"\"\" \"& 'BX Language acquisition'!A1282 & \"\"\",\"\"\" & 'BX Language acquisition'!C1282 & \"\"\",\"\"\" & 'BX Language acquisition'!B1282 & \"\"\",\"\"\" & 'BX Language acquisition'!D1282 & \"\"\"\"","v":"\" \",\"\",\"\",\"\""}]
[{"$f":"\"\"\" \"& 'BX Language acquisition'!A1283 & \"\"\",\"\"\" & 'BX Language acquisition'!C1283 & \"\"\",\"\"\" & 'BX Language acquisition'!B1283 & \"\"\",\"\"\" & 'BX Language acquisition'!D1283 & \"\"\"\"","v":"\" \",\"\",\"\",\"\""}]
[{"$f":"\"\"\" \"& 'BX Language acquisition'!A1284 & \"\"\",\"\"\" & 'BX Language acquisition'!C1284 & \"\"\",\"\"\" & 'BX Language acquisition'!B1284 & \"\"\",\"\"\" & 'BX Language acquisition'!D1284 & \"\"\"\"","v":"\" \",\"\",\"\",\"\""}]
[{"$f":"\"\"\" \"& 'BX Language acquisition'!A1285 & \"\"\",\"\"\" & 'BX Language acquisition'!C1285 & \"\"\",\"\"\" & 'BX Language acquisition'!B1285 & \"\"\",\"\"\" & 'BX Language acquisition'!D1285 & \"\"\"\"","v":"\" \",\"\",\"\",\"\""}]
[{"$f":"\"\"\" \"& 'BX Language acquisition'!A1286 & \"\"\",\"\"\" & 'BX Language acquisition'!C1286 & \"\"\",\"\"\" & 'BX Language acquisition'!B1286 & \"\"\",\"\"\" & 'BX Language acquisition'!D1286 & \"\"\"\"","v":"\" \",\"\",\"\",\"\""}]
[{"$f":"\"\"\" \"& 'BX Language acquisition'!A1287 & \"\"\",\"\"\" & 'BX Language acquisition'!C1287 & \"\"\",\"\"\" & 'BX Language acquisition'!B1287 & \"\"\",\"\"\" & 'BX Language acquisition'!D1287 & \"\"\"\"","v":"\" \",\"\",\"\",\"\""}]
[{"$f":"\"\"\" \"& 'BX Language acquisition'!A1288 & \"\"\",\"\"\" & 'BX Language acquisition'!C1288 & \"\"\",\"\"\" & 'BX Language acquisition'!B1288 & \"\"\",\"\"\" & 'BX Language acquisition'!D1288 & \"\"\"\"","v":"\" \",\"\",\"\",\"\""}]
[{"$f":"\"\"\" \"& 'BX Language acquisition'!A1289 & \"\"\",\"\"\" & 'BX Language acquisition'!C1289 & \"\"\",\"\"\" & 'BX Language acquisition'!B1289 & \"\"\",\"\"\" & 'BX Language acquisition'!D1289 & \"\"\"\"","v":"\" \",\"\",\"\",\"\""}]
[{"$f":"\"\"\" \"& 'BX Language acquisition'!A1290 & \"\"\",\"\"\" & 'BX Language acquisition'!C1290 & \"\"\",\"\"\" & 'BX Language acquisition'!B1290 & \"\"\",\"\"\" & 'BX Language acquisition'!D1290 & \"\"\"\"","v":"\" \",\"\",\"\",\"\""}]
[{"$f":"\"\"\" \"& 'BX Language acquisition'!A1291 & \"\"\",\"\"\" & 'BX Language acquisition'!C1291 & \"\"\",\"\"\" & 'BX Language acquisition'!B1291 & \"\"\",\"\"\" & 'BX Language acquisition'!D1291 & \"\"\"\"","v":"\" \",\"\",\"\",\"\""}]
[{"$f":"\"\"\" \"& 'BX Language acquisition'!A1292 & \"\"\",\"\"\" & 'BX Language acquisition'!C1292 & \"\"\",\"\"\" & 'BX Language acquisition'!B1292 & \"\"\",\"\"\" & 'BX Language acquisition'!D1292 & \"\"\"\"","v":"\" \",\"\",\"\",\"\""}]
[{"$f":"\"\"\" \"& 'BX Language acquisition'!A1293 & \"\"\",\"\"\" & 'BX Language acquisition'!C1293 & \"\"\",\"\"\" & 'BX Language acquisition'!B1293 & \"\"\",\"\"\" & 'BX Language acquisition'!D1293 & \"\"\"\"","v":"\" \",\"\",\"\",\"\""}]
[{"$f":"\"\"\" \"& 'BX Language acquisition'!A1294 & \"\"\",\"\"\" & 'BX Language acquisition'!C1294 & \"\"\",\"\"\" & 'BX Language acquisition'!B1294 & \"\"\",\"\"\" & 'BX Language acquisition'!D1294 & \"\"\"\"","v":"\" \",\"\",\"\",\"\""}]
[{"$f":"\"\"\" \"& 'BX Language acquisition'!A1295 & \"\"\",\"\"\" & 'BX Language acquisition'!C1295 & \"\"\",\"\"\" & 'BX Language acquisition'!B1295 & \"\"\",\"\"\" & 'BX Language acquisition'!D1295 & \"\"\"\"","v":"\" \",\"\",\"\",\"\""}]
[{"$f":"\"\"\" \"& 'BX Language acquisition'!A1296 & \"\"\",\"\"\" & 'BX Language acquisition'!C1296 & \"\"\",\"\"\" & 'BX Language acquisition'!B1296 & \"\"\",\"\"\" & 'BX Language acquisition'!D1296 & \"\"\"\"","v":"\" \",\"\",\"\",\"\""}]
[{"$f":"\"\"\" \"& 'BX Language acquisition'!A1297 & \"\"\",\"\"\" & 'BX Language acquisition'!C1297 & \"\"\",\"\"\" & 'BX Language acquisition'!B1297 & \"\"\",\"\"\" & 'BX Language acquisition'!D1297 & \"\"\"\"","v":"\" \",\"\",\"\",\"\""}]
[{"$f":"\"\"\" \"& 'BX Language acquisition'!A1298 & \"\"\",\"\"\" & 'BX Language acquisition'!C1298 & \"\"\",\"\"\" & 'BX Language acquisition'!B1298 & \"\"\",\"\"\" & 'BX Language acquisition'!D1298 & \"\"\"\"","v":"\" \",\"\",\"\",\"\""}]
[{"$f":"\"\"\" \"& 'BX Language acquisition'!A1299 & \"\"\",\"\"\" & 'BX Language acquisition'!C1299 & \"\"\",\"\"\" & 'BX Language acquisition'!B1299 & \"\"\",\"\"\" & 'BX Language acquisition'!D1299 & \"\"\"\"","v":"\" \",\"\",\"\",\"\""}]
[{"$f":"\"\"\" \"& 'BX Language acquisition'!A1300 & \"\"\",\"\"\" & 'BX Language acquisition'!C1300 & \"\"\",\"\"\" & 'BX Language acquisition'!B1300 & \"\"\",\"\"\" & 'BX Language acquisition'!D1300 & \"\"\"\"","v":"\" \",\"\",\"\",\"\""}]
[{"$f":"\"\"\" \"& 'BX Language acquisition'!A1301 & \"\"\",\"\"\" & 'BX Language acquisition'!C1301 & \"\"\",\"\"\" & 'BX Language acquisition'!B1301 & \"\"\",\"\"\" & 'BX Language acquisition'!D1301 & \"\"\"\"","v":"\" \",\"\",\"\",\"\""}]
[{"$f":"\"\"\" \"& 'BX Language acquisition'!A1302 & \"\"\",\"\"\" & 'BX Language acquisition'!C1302 & \"\"\",\"\"\" & 'BX Language acquisition'!B1302 & \"\"\",\"\"\" & 'BX Language acquisition'!D1302 & \"\"\"\"","v":"\" \",\"\",\"\",\"\""}]
[{"$f":"\"\"\" \"& 'BX Language acquisition'!A1303 & \"\"\",\"\"\" & 'BX Language acquisition'!C1303 & \"\"\",\"\"\" & 'BX Language acquisition'!B1303 & \"\"\",\"\"\" & 'BX Language acquisition'!D1303 & \"\"\"\"","v":"\" \",\"\",\"\",\"\""}]
[{"$f":"\"\"\" \"& 'BX Language acquisition'!A1304 & \"\"\",\"\"\" & 'BX Language acquisition'!C1304 & \"\"\",\"\"\" & 'BX Language acquisition'!B1304 & \"\"\",\"\"\" & 'BX Language acquisition'!D1304 & \"\"\"\"","v":"\" \",\"\",\"\",\"\""}]
[{"$f":"\"\"\" \"& 'BX Language acquisition'!A1305 & \"\"\",\"\"\" & 'BX Language acquisition'!C1305 & \"\"\",\"\"\" & 'BX Language acquisition'!B1305 & \"\"\",\"\"\" & 'BX Language acquisition'!D1305 & \"\"\"\"","v":"\" \",\"\",\"\",\"\""}]
[{"$f":"\"\"\" \"& 'BX Language acquisition'!A1306 & \"\"\",\"\"\" & 'BX Language acquisition'!C1306 & \"\"\",\"\"\" & 'BX Language acquisition'!B1306 & \"\"\",\"\"\" & 'BX Language acquisition'!D1306 & \"\"\"\"","v":"\" \",\"\",\"\",\"\""}]
[{"$f":"\"\"\" \"& 'BX Language acquisition'!A1307 & \"\"\",\"\"\" & 'BX Language acquisition'!C1307 & \"\"\",\"\"\" & 'BX Language acquisition'!B1307 & \"\"\",\"\"\" & 'BX Language acquisition'!D1307 & \"\"\"\"","v":"\" \",\"\",\"\",\"\""}]
[{"$f":"\"\"\" \"& 'BX Language acquisition'!A1308 & \"\"\",\"\"\" & 'BX Language acquisition'!C1308 & \"\"\",\"\"\" & 'BX Language acquisition'!B1308 & \"\"\",\"\"\" & 'BX Language acquisition'!D1308 & \"\"\"\"","v":"\" \",\"\",\"\",\"\""}]
[{"$f":"\"\"\" \"& 'BX Language acquisition'!A1309 & \"\"\",\"\"\" & 'BX Language acquisition'!C1309 & \"\"\",\"\"\" & 'BX Language acquisition'!B1309 & \"\"\",\"\"\" & 'BX Language acquisition'!D1309 & \"\"\"\"","v":"\" \",\"\",\"\",\"\""}]
[{"$f":"\"\"\" \"& 'BX Language acquisition'!A1310 & \"\"\",\"\"\" & 'BX Language acquisition'!C1310 & \"\"\",\"\"\" & 'BX Language acquisition'!B1310 & \"\"\",\"\"\" & 'BX Language acquisition'!D1310 & \"\"\"\"","v":"\" \",\"\",\"\",\"\""}]
[{"$f":"\"\"\" \"& 'BX Language acquisition'!A1311 & \"\"\",\"\"\" & 'BX Language acquisition'!C1311 & \"\"\",\"\"\" & 'BX Language acquisition'!B1311 & \"\"\",\"\"\" & 'BX Language acquisition'!D1311 & \"\"\"\"","v":"\" \",\"\",\"\",\"\""}]
[{"$f":"\"\"\" \"& 'BX Language acquisition'!A1312 & \"\"\",\"\"\" & 'BX Language acquisition'!C1312 & \"\"\",\"\"\" & 'BX Language acquisition'!B1312 & \"\"\",\"\"\" & 'BX Language acquisition'!D1312 & \"\"\"\"","v":"\" \",\"\",\"\",\"\""}]
[{"$f":"\"\"\" \"& 'BX Language acquisition'!A1313 & \"\"\",\"\"\" & 'BX Language acquisition'!C1313 & \"\"\",\"\"\" & 'BX Language acquisition'!B1313 & \"\"\",\"\"\" & 'BX Language acquisition'!D1313 & \"\"\"\"","v":"\" \",\"\",\"\",\"\""}]
[{"$f":"\"\"\" \"& 'BX Language acquisition'!A1314 & \"\"\",\"\"\" & 'BX Language acquisition'!C1314 & \"\"\",\"\"\" & 'BX Language acquisition'!B1314 & \"\"\",\"\"\" & 'BX Language acquisition'!D1314 & \"\"\"\"","v":"\" \",\"\",\"\",\"\""}]
[{"$f":"\"\"\" \"& 'BX Language acquisition'!A1315 & \"\"\",\"\"\" & 'BX Language acquisition'!C1315 & \"\"\",\"\"\" & 'BX Language acquisition'!B1315 & \"\"\",\"\"\" & 'BX Language acquisition'!D1315 & \"\"\"\"","v":"\" \",\"\",\"\",\"\""}]
[{"$f":"\"\"\" \"& 'BX Language acquisition'!A1316 & \"\"\",\"\"\" & 'BX Language acquisition'!C1316 & \"\"\",\"\"\" & 'BX Language acquisition'!B1316 & \"\"\",\"\"\" & 'BX Language acquisition'!D1316 & \"\"\"\"","v":"\" \",\"\",\"\",\"\""}]
[{"$f":"\"\"\" \"& 'BX Language acquisition'!A1317 & \"\"\",\"\"\" & 'BX Language acquisition'!C1317 & \"\"\",\"\"\" & 'BX Language acquisition'!B1317 & \"\"\",\"\"\" & 'BX Language acquisition'!D1317 & \"\"\"\"","v":"\" \",\"\",\"\",\"\""}]
[{"$f":"\"\"\" \"& 'BX Language acquisition'!A1318 & \"\"\",\"\"\" & 'BX Language acquisition'!C1318 & \"\"\",\"\"\" & 'BX Language acquisition'!B1318 & \"\"\",\"\"\" & 'BX Language acquisition'!D1318 & \"\"\"\"","v":"\" \",\"\",\"\",\"\""}]
[{"$f":"\"\"\" \"& 'BX Language acquisition'!A1319 & \"\"\",\"\"\" & 'BX Language acquisition'!C1319 & \"\"\",\"\"\" & 'BX Language acquisition'!B1319 & \"\"\",\"\"\" & 'BX Language acquisition'!D1319 & \"\"\"\"","v":"\" \",\"\",\"\",\"\""}]
[{"$f":"\"\"\" \"& 'BX Language acquisition'!A1320 & \"\"\",\"\"\" & 'BX Language acquisition'!C1320 & \"\"\",\"\"\" & 'BX Language acquisition'!B1320 & \"\"\",\"\"\" & 'BX Language acquisition'!D1320 & \"\"\"\"","v":"\" \",\"\",\"\",\"\""}]
[{"$f":"\"\"\" \"& 'BX Language acquisition'!A1321 & \"\"\",\"\"\" & 'BX Language acquisition'!C1321 & \"\"\",\"\"\" & 'BX Language acquisition'!B1321 & \"\"\",\"\"\" & 'BX Language acquisition'!D1321 & \"\"\"\"","v":"\" \",\"\",\"\",\"\""}]
[{"$f":"\"\"\" \"& 'BX Language acquisition'!A1322 & \"\"\",\"\"\" & 'BX Language acquisition'!C1322 & \"\"\",\"\"\" & 'BX Language acquisition'!B1322 & \"\"\",\"\"\" & 'BX Language acquisition'!D1322 & \"\"\"\"","v":"\" \",\"\",\"\",\"\""}]
[{"$f":"\"\"\" \"& 'BX Language acquisition'!A1323 & \"\"\",\"\"\" & 'BX Language acquisition'!C1323 & \"\"\",\"\"\" & 'BX Language acquisition'!B1323 & \"\"\",\"\"\" & 'BX Language acquisition'!D1323 & \"\"\"\"","v":"\" \",\"\",\"\",\"\""}]
[{"$f":"\"\"\" \"& 'BX Language acquisition'!A1324 & \"\"\",\"\"\" & 'BX Language acquisition'!C1324 & \"\"\",\"\"\" & 'BX Language acquisition'!B1324 & \"\"\",\"\"\" & 'BX Language acquisition'!D1324 & \"\"\"\"","v":"\" \",\"\",\"\",\"\""}]
[{"$f":"\"\"\" \"& 'BX Language acquisition'!A1325 & \"\"\",\"\"\" & 'BX Language acquisition'!C1325 & \"\"\",\"\"\" & 'BX Language acquisition'!B1325 & \"\"\",\"\"\" & 'BX Language acquisition'!D1325 & \"\"\"\"","v":"\" \",\"\",\"\",\"\""}]
[{"$f":"\"\"\" \"& 'BX Language acquisition'!A1326 & \"\"\",\"\"\" & 'BX Language acquisition'!C1326 & \"\"\",\"\"\" & 'BX Language acquisition'!B1326 & \"\"\",\"\"\" & 'BX Language acquisition'!D1326 & \"\"\"\"","v":"\" \",\"\",\"\",\"\""}]
[{"$f":"\"\"\" \"& 'BX Language acquisition'!A1327 & \"\"\",\"\"\" & 'BX Language acquisition'!C1327 & \"\"\",\"\"\" & 'BX Language acquisition'!B1327 & \"\"\",\"\"\" & 'BX Language acquisition'!D1327 & \"\"\"\"","v":"\" \",\"\",\"\",\"\""}]
[{"$f":"\"\"\" \"& 'BX Language acquisition'!A1328 & \"\"\",\"\"\" & 'BX Language acquisition'!C1328 & \"\"\",\"\"\" & 'BX Language acquisition'!B1328 & \"\"\",\"\"\" & 'BX Language acquisition'!D1328 & \"\"\"\"","v":"\" \",\"\",\"\",\"\""}]
[{"$f":"\"\"\" \"& 'BX Language acquisition'!A1329 & \"\"\",\"\"\" & 'BX Language acquisition'!C1329 & \"\"\",\"\"\" & 'BX Language acquisition'!B1329 & \"\"\",\"\"\" & 'BX Language acquisition'!D1329 & \"\"\"\"","v":"\" \",\"\",\"\",\"\""}]
[{"$f":"\"\"\" \"& 'BX Language acquisition'!A1330 & \"\"\",\"\"\" & 'BX Language acquisition'!C1330 & \"\"\",\"\"\" & 'BX Language acquisition'!B1330 & \"\"\",\"\"\" & 'BX Language acquisition'!D1330 & \"\"\"\"","v":"\" \",\"\",\"\",\"\""}]
[{"$f":"\"\"\" \"& 'BX Language acquisition'!A1331 & \"\"\",\"\"\" & 'BX Language acquisition'!C1331 & \"\"\",\"\"\" & 'BX Language acquisition'!B1331 & \"\"\",\"\"\" & 'BX Language acquisition'!D1331 & \"\"\"\"","v":"\" \",\"\",\"\",\"\""}]
[{"$f":"\"\"\" \"& 'BX Language acquisition'!A1332 & \"\"\",\"\"\" & 'BX Language acquisition'!C1332 & \"\"\",\"\"\" & 'BX Language acquisition'!B1332 & \"\"\",\"\"\" & 'BX Language acquisition'!D1332 & \"\"\"\"","v":"\" \",\"\",\"\",\"\""}]
[{"$f":"\"\"\" \"& 'BX Language acquisition'!A1333 & \"\"\",\"\"\" & 'BX Language acquisition'!C1333 & \"\"\",\"\"\" & 'BX Language acquisition'!B1333 & \"\"\",\"\"\" & 'BX Language acquisition'!D1333 & \"\"\"\"","v":"\" \",\"\",\"\",\"\""}]
[{"$f":"\"\"\" \"& 'BX Language acquisition'!A1334 & \"\"\",\"\"\" & 'BX Language acquisition'!C1334 & \"\"\",\"\"\" & 'BX Language acquisition'!B1334 & \"\"\",\"\"\" & 'BX Language acquisition'!D1334 & \"\"\"\"","v":"\" \",\"\",\"\",\"\""}]
[{"$f":"\"\"\" \"& 'BX Language acquisition'!A1335 & \"\"\",\"\"\" & 'BX Language acquisition'!C1335 & \"\"\",\"\"\" & 'BX Language acquisition'!B1335 & \"\"\",\"\"\" & 'BX Language acquisition'!D1335 & \"\"\"\"","v":"\" \",\"\",\"\",\"\""}]
[{"$f":"\"\"\" \"& 'BX Language acquisition'!A1336 & \"\"\",\"\"\" & 'BX Language acquisition'!C1336 & \"\"\",\"\"\" & 'BX Language acquisition'!B1336 & \"\"\",\"\"\" & 'BX Language acquisition'!D1336 & \"\"\"\"","v":"\" \",\"\",\"\",\"\""}]
[{"$f":"\"\"\" \"& 'BX Language acquisition'!A1337 & \"\"\",\"\"\" & 'BX Language acquisition'!C1337 & \"\"\",\"\"\" & 'BX Language acquisition'!B1337 & \"\"\",\"\"\" & 'BX Language acquisition'!D1337 & \"\"\"\"","v":"\" \",\"\",\"\",\"\""}]
[{"$f":"\"\"\" \"& 'BX Language acquisition'!A1338 & \"\"\",\"\"\" & 'BX Language acquisition'!C1338 & \"\"\",\"\"\" & 'BX Language acquisition'!B1338 & \"\"\",\"\"\" & 'BX Language acquisition'!D1338 & \"\"\"\"","v":"\" \",\"\",\"\",\"\""}]
[{"$f":"\"\"\" \"& 'BX Language acquisition'!A1339 & \"\"\",\"\"\" & 'BX Language acquisition'!C1339 & \"\"\",\"\"\" & 'BX Language acquisition'!B1339 & \"\"\",\"\"\" & 'BX Language acquisition'!D1339 & \"\"\"\"","v":"\" \",\"\",\"\",\"\""}]
[{"$f":"\"\"\" \"& 'BX Language acquisition'!A1340 & \"\"\",\"\"\" & 'BX Language acquisition'!C1340 & \"\"\",\"\"\" & 'BX Language acquisition'!B1340 & \"\"\",\"\"\" & 'BX Language acquisition'!D1340 & \"\"\"\"","v":"\" \",\"\",\"\",\"\""}]
[{"$f":"\"\"\" \"& 'BX Language acquisition'!A1341 & \"\"\",\"\"\" & 'BX Language acquisition'!C1341 & \"\"\",\"\"\" & 'BX Language acquisition'!B1341 & \"\"\",\"\"\" & 'BX Language acquisition'!D1341 & \"\"\"\"","v":"\" \",\"\",\"\",\"\""}]
[{"$f":"\"\"\" \"& 'BX Language acquisition'!A1342 & \"\"\",\"\"\" & 'BX Language acquisition'!C1342 & \"\"\",\"\"\" & 'BX Language acquisition'!B1342 & \"\"\",\"\"\" & 'BX Language acquisition'!D1342 & \"\"\"\"","v":"\" \",\"\",\"\",\"\""}]
[{"$f":"\"\"\" \"& 'BX Language acquisition'!A1343 & \"\"\",\"\"\" & 'BX Language acquisition'!C1343 & \"\"\",\"\"\" & 'BX Language acquisition'!B1343 & \"\"\",\"\"\" & 'BX Language acquisition'!D1343 & \"\"\"\"","v":"\" \",\"\",\"\",\"\""}]
[{"$f":"\"\"\" \"& 'BX Language acquisition'!A1344 & \"\"\",\"\"\" & 'BX Language acquisition'!C1344 & \"\"\",\"\"\" & 'BX Language acquisition'!B1344 & \"\"\",\"\"\" & 'BX Language acquisition'!D1344 & \"\"\"\"","v":"\" \",\"\",\"\",\"\""}]
[{"$f":"\"\"\" \"& 'BX Language acquisition'!A1345 & \"\"\",\"\"\" & 'BX Language acquisition'!C1345 & \"\"\",\"\"\" & 'BX Language acquisition'!B1345 & \"\"\",\"\"\" & 'BX Language acquisition'!D1345 & \"\"\"\"","v":"\" \",\"\",\"\",\"\""}]
[{"$f":"\"\"\" \"& 'BX Language acquisition'!A1346 & \"\"\",\"\"\" & 'BX Language acquisition'!C1346 & \"\"\",\"\"\" & 'BX Language acquisition'!B1346 & \"\"\",\"\"\" & 'BX Language acquisition'!D1346 & \"\"\"\"","v":"\" \",\"\",\"\",\"\""}]
[{"$f":"\"\"\" \"& 'BX Language acquisition'!A1347 & \"\"\",\"\"\" & 'BX Language acquisition'!C1347 & \"\"\",\"\"\" & 'BX Language acquisition'!B1347 & \"\"\",\"\"\" & 'BX Language acquisition'!D1347 & \"\"\"\"","v":"\" \",\"\",\"\",\"\""}]
[{"$f":"\"\"\" \"& 'BX Language acquisition'!A1348 & \"\"\",\"\"\" & 'BX Language acquisition'!C1348 & \"\"\",\"\"\" & 'BX Language acquisition'!B1348 & \"\"\",\"\"\" & 'BX Language acquisition'!D1348 & \"\"\"\"","v":"\" \",\"\",\"\",\"\""}]
[{"$f":"\"\"\" \"& 'BX Language acquisition'!A1349 & \"\"\",\"\"\" & 'BX Language acquisition'!C1349 & \"\"\",\"\"\" & 'BX Language acquisition'!B1349 & \"\"\",\"\"\" & 'BX Language acquisition'!D1349 & \"\"\"\"","v":"\" \",\"\",\"\",\"\""}]
[{"$f":"\"\"\" \"& 'BX Language acquisition'!A1350 & \"\"\",\"\"\" & 'BX Language acquisition'!C1350 & \"\"\",\"\"\" & 'BX Language acquisition'!B1350 & \"\"\",\"\"\" & 'BX Language acquisition'!D1350 & \"\"\"\"","v":"\" \",\"\",\"\",\"\""}]
[{"$f":"\"\"\" \"& 'BX Language acquisition'!A1351 & \"\"\",\"\"\" & 'BX Language acquisition'!C1351 & \"\"\",\"\"\" & 'BX Language acquisition'!B1351 & \"\"\",\"\"\" & 'BX Language acquisition'!D1351 & \"\"\"\"","v":"\" \",\"\",\"\",\"\""}]
[{"$f":"\"\"\" \"& 'BX Language acquisition'!A1352 & \"\"\",\"\"\" & 'BX Language acquisition'!C1352 & \"\"\",\"\"\" & 'BX Language acquisition'!B1352 & \"\"\",\"\"\" & 'BX Language acquisition'!D1352 & \"\"\"\"","v":"\" \",\"\",\"\",\"\""}]
[{"$f":"\"\"\" \"& 'BX Language acquisition'!A1353 & \"\"\",\"\"\" & 'BX Language acquisition'!C1353 & \"\"\",\"\"\" & 'BX Language acquisition'!B1353 & \"\"\",\"\"\" & 'BX Language acquisition'!D1353 & \"\"\"\"","v":"\" \",\"\",\"\",\"\""}]
[{"$f":"\"\"\" \"& 'BX Language acquisition'!A1354 & \"\"\",\"\"\" & 'BX Language acquisition'!C1354 & \"\"\",\"\"\" & 'BX Language acquisition'!B1354 & \"\"\",\"\"\" & 'BX Language acquisition'!D1354 & \"\"\"\"","v":"\" \",\"\",\"\",\"\""}]
[{"$f":"\"\"\" \"& 'BX Language acquisition'!A1355 & \"\"\",\"\"\" & 'BX Language acquisition'!C1355 & \"\"\",\"\"\" & 'BX Language acquisition'!B1355 & \"\"\",\"\"\" & 'BX Language acquisition'!D1355 & \"\"\"\"","v":"\" \",\"\",\"\",\"\""}]
[{"$f":"\"\"\" \"& 'BX Language acquisition'!A1356 & \"\"\",\"\"\" & 'BX Language acquisition'!C1356 & \"\"\",\"\"\" & 'BX Language acquisition'!B1356 & \"\"\",\"\"\" & 'BX Language acquisition'!D1356 & \"\"\"\"","v":"\" \",\"\",\"\",\"\""}]
[{"$f":"\"\"\" \"& 'BX Language acquisition'!A1357 & \"\"\",\"\"\" & 'BX Language acquisition'!C1357 & \"\"\",\"\"\" & 'BX Language acquisition'!B1357 & \"\"\",\"\"\" & 'BX Language acquisition'!D1357 & \"\"\"\"","v":"\" \",\"\",\"\",\"\""}]
[{"$f":"\"\"\" \"& 'BX Language acquisition'!A1358 & \"\"\",\"\"\" & 'BX Language acquisition'!C1358 & \"\"\",\"\"\" & 'BX Language acquisition'!B1358 & \"\"\",\"\"\" & 'BX Language acquisition'!D1358 & \"\"\"\"","v":"\" \",\"\",\"\",\"\""}]
[{"$f":"\"\"\" \"& 'BX Language acquisition'!A1359 & \"\"\",\"\"\" & 'BX Language acquisition'!C1359 & \"\"\",\"\"\" & 'BX Language acquisition'!B1359 & \"\"\",\"\"\" & 'BX Language acquisition'!D1359 & \"\"\"\"","v":"\" \",\"\",\"\",\"\""}]
[{"$f":"\"\"\" \"& 'BX Language acquisition'!A1360 & \"\"\",\"\"\" & 'BX Language acquisition'!C1360 & \"\"\",\"\"\" & 'BX Language acquisition'!B1360 & \"\"\",\"\"\" & 'BX Language acquisition'!D1360 & \"\"\"\"","v":"\" \",\"\",\"\",\"\""}]
[{"$f":"\"\"\" \"& 'BX Language acquisition'!A1361 & \"\"\",\"\"\" & 'BX Language acquisition'!C1361 & \"\"\",\"\"\" & 'BX Language acquisition'!B1361 & \"\"\",\"\"\" & 'BX Language acquisition'!D1361 & \"\"\"\"","v":"\" \",\"\",\"\",\"\""}]
[{"$f":"\"\"\" \"& 'BX Language acquisition'!A1362 & \"\"\",\"\"\" & 'BX Language acquisition'!C1362 & \"\"\",\"\"\" & 'BX Language acquisition'!B1362 & \"\"\",\"\"\" & 'BX Language acquisition'!D1362 & \"\"\"\"","v":"\" \",\"\",\"\",\"\""}]
[{"$f":"\"\"\" \"& 'BX Language acquisition'!A1363 & \"\"\",\"\"\" & 'BX Language acquisition'!C1363 & \"\"\",\"\"\" & 'BX Language acquisition'!B1363 & \"\"\",\"\"\" & 'BX Language acquisition'!D1363 & \"\"\"\"","v":"\" \",\"\",\"\",\"\""}]
[{"$f":"\"\"\" \"& 'BX Language acquisition'!A1364 & \"\"\",\"\"\" & 'BX Language acquisition'!C1364 & \"\"\",\"\"\" & 'BX Language acquisition'!B1364 & \"\"\",\"\"\" & 'BX Language acquisition'!D1364 & \"\"\"\"","v":"\" \",\"\",\"\",\"\""}]
[{"$f":"\"\"\" \"& 'BX Language acquisition'!A1365 & \"\"\",\"\"\" & 'BX Language acquisition'!C1365 & \"\"\",\"\"\" & 'BX Language acquisition'!B1365 & \"\"\",\"\"\" & 'BX Language acquisition'!D1365 & \"\"\"\"","v":"\" \",\"\",\"\",\"\""}]
[{"$f":"\"\"\" \"& 'BX Language acquisition'!A1366 & \"\"\",\"\"\" & 'BX Language acquisition'!C1366 & \"\"\",\"\"\" & 'BX Language acquisition'!B1366 & \"\"\",\"\"\" & 'BX Language acquisition'!D1366 & \"\"\"\"","v":"\" \",\"\",\"\",\"\""}]
[{"$f":"\"\"\" \"& 'BX Language acquisition'!A1367 & \"\"\",\"\"\" & 'BX Language acquisition'!C1367 & \"\"\",\"\"\" & 'BX Language acquisition'!B1367 & \"\"\",\"\"\" & 'BX Language acquisition'!D1367 & \"\"\"\"","v":"\" \",\"\",\"\",\"\""}]
[{"$f":"\"\"\" \"& 'BX Language acquisition'!A1368 & \"\"\",\"\"\" & 'BX Language acquisition'!C1368 & \"\"\",\"\"\" & 'BX Language acquisition'!B1368 & \"\"\",\"\"\" & 'BX Language acquisition'!D1368 & \"\"\"\"","v":"\" \",\"\",\"\",\"\""}]
[{"$f":"\"\"\" \"& 'BX Language acquisition'!A1369 & \"\"\",\"\"\" & 'BX Language acquisition'!C1369 & \"\"\",\"\"\" & 'BX Language acquisition'!B1369 & \"\"\",\"\"\" & 'BX Language acquisition'!D1369 & \"\"\"\"","v":"\" \",\"\",\"\",\"\""}]
[{"$f":"\"\"\" \"& 'BX Language acquisition'!A1370 & \"\"\",\"\"\" & 'BX Language acquisition'!C1370 & \"\"\",\"\"\" & 'BX Language acquisition'!B1370 & \"\"\",\"\"\" & 'BX Language acquisition'!D1370 & \"\"\"\"","v":"\" \",\"\",\"\",\"\""}]
[{"$f":"\"\"\" \"& 'BX Language acquisition'!A1371 & \"\"\",\"\"\" & 'BX Language acquisition'!C1371 & \"\"\",\"\"\" & 'BX Language acquisition'!B1371 & \"\"\",\"\"\" & 'BX Language acquisition'!D1371 & \"\"\"\"","v":"\" \",\"\",\"\",\"\""}]
[{"$f":"\"\"\" \"& 'BX Language acquisition'!A1372 & \"\"\",\"\"\" & 'BX Language acquisition'!C1372 & \"\"\",\"\"\" & 'BX Language acquisition'!B1372 & \"\"\",\"\"\" & 'BX Language acquisition'!D1372 & \"\"\"\"","v":"\" \",\"\",\"\",\"\""}]
[{"$f":"\"\"\" \"& 'BX Language acquisition'!A1373 & \"\"\",\"\"\" & 'BX Language acquisition'!C1373 & \"\"\",\"\"\" & 'BX Language acquisition'!B1373 & \"\"\",\"\"\" & 'BX Language acquisition'!D1373 & \"\"\"\"","v":"\" \",\"\",\"\",\"\""}]
[{"$f":"\"\"\" \"& 'BX Language acquisition'!A1374 & \"\"\",\"\"\" & 'BX Language acquisition'!C1374 & \"\"\",\"\"\" & 'BX Language acquisition'!B1374 & \"\"\",\"\"\" & 'BX Language acquisition'!D1374 & \"\"\"\"","v":"\" \",\"\",\"\",\"\""}]
[{"$f":"\"\"\" \"& 'BX Language acquisition'!A1375 & \"\"\",\"\"\" & 'BX Language acquisition'!C1375 & \"\"\",\"\"\" & 'BX Language acquisition'!B1375 & \"\"\",\"\"\" & 'BX Language acquisition'!D1375 & \"\"\"\"","v":"\" \",\"\",\"\",\"\""}]
[{"$f":"\"\"\" \"& 'BX Language acquisition'!A1376 & \"\"\",\"\"\" & 'BX Language acquisition'!C1376 & \"\"\",\"\"\" & 'BX Language acquisition'!B1376 & \"\"\",\"\"\" & 'BX Language acquisition'!D1376 & \"\"\"\"","v":"\" \",\"\",\"\",\"\""}]
[{"$f":"\"\"\" \"& 'BX Language acquisition'!A1377 & \"\"\",\"\"\" & 'BX Language acquisition'!C1377 & \"\"\",\"\"\" & 'BX Language acquisition'!B1377 & \"\"\",\"\"\" & 'BX Language acquisition'!D1377 & \"\"\"\"","v":"\" \",\"\",\"\",\"\""}]
[{"$f":"\"\"\" \"& 'BX Language acquisition'!A1378 & \"\"\",\"\"\" & 'BX Language acquisition'!C1378 & \"\"\",\"\"\" & 'BX Language acquisition'!B1378 & \"\"\",\"\"\" & 'BX Language acquisition'!D1378 & \"\"\"\"","v":"\" \",\"\",\"\",\"\""}]
[{"$f":"\"\"\" \"& 'BX Language acquisition'!A1379 & \"\"\",\"\"\" & 'BX Language acquisition'!C1379 & \"\"\",\"\"\" & 'BX Language acquisition'!B1379 & \"\"\",\"\"\" & 'BX Language acquisition'!D1379 & \"\"\"\"","v":"\" \",\"\",\"\",\"\""}]
[{"$f":"\"\"\" \"& 'BX Language acquisition'!A1380 & \"\"\",\"\"\" & 'BX Language acquisition'!C1380 & \"\"\",\"\"\" & 'BX Language acquisition'!B1380 & \"\"\",\"\"\" & 'BX Language acquisition'!D1380 & \"\"\"\"","v":"\" \",\"\",\"\",\"\""}]
[{"$f":"\"\"\" \"& 'BX Language acquisition'!A1381 & \"\"\",\"\"\" & 'BX Language acquisition'!C1381 & \"\"\",\"\"\" & 'BX Language acquisition'!B1381 & \"\"\",\"\"\" & 'BX Language acquisition'!D1381 & \"\"\"\"","v":"\" \",\"\",\"\",\"\""}]
[{"$f":"\"\"\" \"& 'BX Language acquisition'!A1382 & \"\"\",\"\"\" & 'BX Language acquisition'!C1382 & \"\"\",\"\"\" & 'BX Language acquisition'!B1382 & \"\"\",\"\"\" & 'BX Language acquisition'!D1382 & \"\"\"\"","v":"\" \",\"\",\"\",\"\""}]
[{"$f":"\"\"\" \"& 'BX Language acquisition'!A1383 & \"\"\",\"\"\" & 'BX Language acquisition'!C1383 & \"\"\",\"\"\" & 'BX Language acquisition'!B1383 & \"\"\",\"\"\" & 'BX Language acquisition'!D1383 & \"\"\"\"","v":"\" \",\"\",\"\",\"\""}]
[{"$f":"\"\"\" \"& 'BX Language acquisition'!A1384 & \"\"\",\"\"\" & 'BX Language acquisition'!C1384 & \"\"\",\"\"\" & 'BX Language acquisition'!B1384 & \"\"\",\"\"\" & 'BX Language acquisition'!D1384 & \"\"\"\"","v":"\" \",\"\",\"\",\"\""}]
[{"$f":"\"\"\" \"& 'BX Language acquisition'!A1385 & \"\"\",\"\"\" & 'BX Language acquisition'!C1385 & \"\"\",\"\"\" & 'BX Language acquisition'!B1385 & \"\"\",\"\"\" & 'BX Language acquisition'!D1385 & \"\"\"\"","v":"\" \",\"\",\"\",\"\""}]
[{"$f":"\"\"\" \"& 'BX Language acquisition'!A1386 & \"\"\",\"\"\" & 'BX Language acquisition'!C1386 & \"\"\",\"\"\" & 'BX Language acquisition'!B1386 & \"\"\",\"\"\" & 'BX Language acquisition'!D1386 & \"\"\"\"","v":"\" \",\"\",\"\",\"\""}]
[{"$f":"\"\"\" \"& 'BX Language acquisition'!A1387 & \"\"\",\"\"\" & 'BX Language acquisition'!C1387 & \"\"\",\"\"\" & 'BX Language acquisition'!B1387 & \"\"\",\"\"\" & 'BX Language acquisition'!D1387 & \"\"\"\"","v":"\" \",\"\",\"\",\"\""}]
[{"$f":"\"\"\" \"& 'BX Language acquisition'!A1388 & \"\"\",\"\"\" & 'BX Language acquisition'!C1388 & \"\"\",\"\"\" & 'BX Language acquisition'!B1388 & \"\"\",\"\"\" & 'BX Language acquisition'!D1388 & \"\"\"\"","v":"\" \",\"\",\"\",\"\""}]
[{"$f":"\"\"\" \"& 'BX Language acquisition'!A1389 & \"\"\",\"\"\" & 'BX Language acquisition'!C1389 & \"\"\",\"\"\" & 'BX Language acquisition'!B1389 & \"\"\",\"\"\" & 'BX Language acquisition'!D1389 & \"\"\"\"","v":"\" \",\"\",\"\",\"\""}]
[{"$f":"\"\"\" \"& 'BX Language acquisition'!A1390 & \"\"\",\"\"\" & 'BX Language acquisition'!C1390 & \"\"\",\"\"\" & 'BX Language acquisition'!B1390 & \"\"\",\"\"\" & 'BX Language acquisition'!D1390 & \"\"\"\"","v":"\" \",\"\",\"\",\"\""}]
[{"$f":"\"\"\" \"& 'BX Language acquisition'!A1391 & \"\"\",\"\"\" & 'BX Language acquisition'!C1391 & \"\"\",\"\"\" & 'BX Language acquisition'!B1391 & \"\"\",\"\"\" & 'BX Language acquisition'!D1391 & \"\"\"\"","v":"\" \",\"\",\"\",\"\""}]
[{"$f":"\"\"\" \"& 'BX Language acquisition'!A1392 & \"\"\",\"\"\" & 'BX Language acquisition'!C1392 & \"\"\",\"\"\" & 'BX Language acquisition'!B1392 & \"\"\",\"\"\" & 'BX Language acquisition'!D1392 & \"\"\"\"","v":"\" \",\"\",\"\",\"\""}]
[{"$f":"\"\"\" \"& 'BX Language acquisition'!A1393 & \"\"\",\"\"\" & 'BX Language acquisition'!C1393 & \"\"\",\"\"\" & 'BX Language acquisition'!B1393 & \"\"\",\"\"\" & 'BX Language acquisition'!D1393 & \"\"\"\"","v":"\" \",\"\",\"\",\"\""}]
[{"$f":"\"\"\" \"& 'BX Language acquisition'!A1394 & \"\"\",\"\"\" & 'BX Language acquisition'!C1394 & \"\"\",\"\"\" & 'BX Language acquisition'!B1394 & \"\"\",\"\"\" & 'BX Language acquisition'!D1394 & \"\"\"\"","v":"\" \",\"\",\"\",\"\""}]
[{"$f":"\"\"\" \"& 'BX Language acquisition'!A1395 & \"\"\",\"\"\" & 'BX Language acquisition'!C1395 & \"\"\",\"\"\" & 'BX Language acquisition'!B1395 & \"\"\",\"\"\" & 'BX Language acquisition'!D1395 & \"\"\"\"","v":"\" \",\"\",\"\",\"\""}]
[{"$f":"\"\"\" \"& 'BX Language acquisition'!A1396 & \"\"\",\"\"\" & 'BX Language acquisition'!C1396 & \"\"\",\"\"\" & 'BX Language acquisition'!B1396 & \"\"\",\"\"\" & 'BX Language acquisition'!D1396 & \"\"\"\"","v":"\" \",\"\",\"\",\"\""}]
[{"$f":"\"\"\" \"& 'BX Language acquisition'!A1397 & \"\"\",\"\"\" & 'BX Language acquisition'!C1397 & \"\"\",\"\"\" & 'BX Language acquisition'!B1397 & \"\"\",\"\"\" & 'BX Language acquisition'!D1397 & \"\"\"\"","v":"\" \",\"\",\"\",\"\""}]
[{"$f":"\"\"\" \"& 'BX Language acquisition'!A1398 & \"\"\",\"\"\" & 'BX Language acquisition'!C1398 & \"\"\",\"\"\" & 'BX Language acquisition'!B1398 & \"\"\",\"\"\" & 'BX Language acquisition'!D1398 & \"\"\"\"","v":"\" \",\"\",\"\",\"\""}]
[{"$f":"\"\"\" \"& 'BX Language acquisition'!A1399 & \"\"\",\"\"\" & 'BX Language acquisition'!C1399 & \"\"\",\"\"\" & 'BX Language acquisition'!B1399 & \"\"\",\"\"\" & 'BX Language acquisition'!D1399 & \"\"\"\"","v":"\" \",\"\",\"\",\"\""}]
[{"$f":"\"\"\" \"& 'BX Language acquisition'!A1400 & \"\"\",\"\"\" & 'BX Language acquisition'!C1400 & \"\"\",\"\"\" & 'BX Language acquisition'!B1400 & \"\"\",\"\"\" & 'BX Language acquisition'!D1400 & \"\"\"\"","v":"\" \",\"\",\"\",\"\""}]
[{"$f":"\"\"\" \"& 'BX Language acquisition'!A1401 & \"\"\",\"\"\" & 'BX Language acquisition'!C1401 & \"\"\",\"\"\" & 'BX Language acquisition'!B1401 & \"\"\",\"\"\" & 'BX Language acquisition'!D1401 & \"\"\"\"","v":"\" \",\"\",\"\",\"\""}]
[{"$f":"\"\"\" \"& 'BX Language acquisition'!A1402 & \"\"\",\"\"\" & 'BX Language acquisition'!C1402 & \"\"\",\"\"\" & 'BX Language acquisition'!B1402 & \"\"\",\"\"\" & 'BX Language acquisition'!D1402 & \"\"\"\"","v":"\" \",\"\",\"\",\"\""}]
[{"$f":"\"\"\" \"& 'BX Language acquisition'!A1403 & \"\"\",\"\"\" & 'BX Language acquisition'!C1403 & \"\"\",\"\"\" & 'BX Language acquisition'!B1403 & \"\"\",\"\"\" & 'BX Language acquisition'!D1403 & \"\"\"\"","v":"\" \",\"\",\"\",\"\""}]
[{"$f":"\"\"\" \"& 'BX Language acquisition'!A1404 & \"\"\",\"\"\" & 'BX Language acquisition'!C1404 & \"\"\",\"\"\" & 'BX Language acquisition'!B1404 & \"\"\",\"\"\" & 'BX Language acquisition'!D1404 & \"\"\"\"","v":"\" \",\"\",\"\",\"\""}]
[{"$f":"\"\"\" \"& 'BX Language acquisition'!A1405 & \"\"\",\"\"\" & 'BX Language acquisition'!C1405 & \"\"\",\"\"\" & 'BX Language acquisition'!B1405 & \"\"\",\"\"\" & 'BX Language acquisition'!D1405 & \"\"\"\"","v":"\" \",\"\",\"\",\"\""}]
[{"$f":"\"\"\" \"& 'BX Language acquisition'!A1406 & \"\"\",\"\"\" & 'BX Language acquisition'!C1406 & \"\"\",\"\"\" & 'BX Language acquisition'!B1406 & \"\"\",\"\"\" & 'BX Language acquisition'!D1406 & \"\"\"\"","v":"\" \",\"\",\"\",\"\""}]
[{"$f":"\"\"\" \"& 'BX Language acquisition'!A1407 & \"\"\",\"\"\" & 'BX Language acquisition'!C1407 & \"\"\",\"\"\" & 'BX Language acquisition'!B1407 & \"\"\",\"\"\" & 'BX Language acquisition'!D1407 & \"\"\"\"","v":"\" \",\"\",\"\",\"\""}]
[{"$f":"\"\"\" \"& 'BX Language acquisition'!A1408 & \"\"\",\"\"\" & 'BX Language acquisition'!C1408 & \"\"\",\"\"\" & 'BX Language acquisition'!B1408 & \"\"\",\"\"\" & 'BX Language acquisition'!D1408 & \"\"\"\"","v":"\" \",\"\",\"\",\"\""}]
[{"$f":"\"\"\" \"& 'BX Language acquisition'!A1409 & \"\"\",\"\"\" & 'BX Language acquisition'!C1409 & \"\"\",\"\"\" & 'BX Language acquisition'!B1409 & \"\"\",\"\"\" & 'BX Language acquisition'!D1409 & \"\"\"\"","v":"\" \",\"\",\"\",\"\""}]
[{"$f":"\"\"\" \"& 'BX Language acquisition'!A1410 & \"\"\",\"\"\" & 'BX Language acquisition'!C1410 & \"\"\",\"\"\" & 'BX Language acquisition'!B1410 & \"\"\",\"\"\" & 'BX Language acquisition'!D1410 & \"\"\"\"","v":"\" \",\"\",\"\",\"\""}]
[{"$f":"\"\"\" \"& 'BX Language acquisition'!A1411 & \"\"\",\"\"\" & 'BX Language acquisition'!C1411 & \"\"\",\"\"\" & 'BX Language acquisition'!B1411 & \"\"\",\"\"\" & 'BX Language acquisition'!D1411 & \"\"\"\"","v":"\" \",\"\",\"\",\"\""}]
[{"$f":"\"\"\" \"& 'BX Language acquisition'!A1412 & \"\"\",\"\"\" & 'BX Language acquisition'!C1412 & \"\"\",\"\"\" & 'BX Language acquisition'!B1412 & \"\"\",\"\"\" & 'BX Language acquisition'!D1412 & \"\"\"\"","v":"\" \",\"\",\"\",\"\""}]
[{"$f":"\"\"\" \"& 'BX Language acquisition'!A1413 & \"\"\",\"\"\" & 'BX Language acquisition'!C1413 & \"\"\",\"\"\" & 'BX Language acquisition'!B1413 & \"\"\",\"\"\" & 'BX Language acquisition'!D1413 & \"\"\"\"","v":"\" \",\"\",\"\",\"\""}]
[{"$f":"\"\"\" \"& 'BX Language acquisition'!A1414 & \"\"\",\"\"\" & 'BX Language acquisition'!C1414 & \"\"\",\"\"\" & 'BX Language acquisition'!B1414 & \"\"\",\"\"\" & 'BX Language acquisition'!D1414 & \"\"\"\"","v":"\" \",\"\",\"\",\"\""}]
[{"$f":"\"\"\" \"& 'BX Language acquisition'!A1415 & \"\"\",\"\"\" & 'BX Language acquisition'!C1415 & \"\"\",\"\"\" & 'BX Language acquisition'!B1415 & \"\"\",\"\"\" & 'BX Language acquisition'!D1415 & \"\"\"\"","v":"\" \",\"\",\"\",\"\""}]
[{"$f":"\"\"\" \"& 'BX Language acquisition'!A1416 & \"\"\",\"\"\" & 'BX Language acquisition'!C1416 & \"\"\",\"\"\" & 'BX Language acquisition'!B1416 & \"\"\",\"\"\" & 'BX Language acquisition'!D1416 & \"\"\"\"","v":"\" \",\"\",\"\",\"\""}]
[{"$f":"\"\"\" \"& 'BX Language acquisition'!A1417 & \"\"\",\"\"\" & 'BX Language acquisition'!C1417 & \"\"\",\"\"\" & 'BX Language acquisition'!B1417 & \"\"\",\"\"\" & 'BX Language acquisition'!D1417 & \"\"\"\"","v":"\" \",\"\",\"\",\"\""}]
[{"$f":"\"\"\" \"& 'BX Language acquisition'!A1418 & \"\"\",\"\"\" & 'BX Language acquisition'!C1418 & \"\"\",\"\"\" & 'BX Language acquisition'!B1418 & \"\"\",\"\"\" & 'BX Language acquisition'!D1418 & \"\"\"\"","v":"\" \",\"\",\"\",\"\""}]
[{"$f":"\"\"\" \"& 'BX Language acquisition'!A1419 & \"\"\",\"\"\" & 'BX Language acquisition'!C1419 & \"\"\",\"\"\" & 'BX Language acquisition'!B1419 & \"\"\",\"\"\" & 'BX Language acquisition'!D1419 & \"\"\"\"","v":"\" \",\"\",\"\",\"\""}]
[{"$f":"\"\"\" \"& 'BX Language acquisition'!A1420 & \"\"\",\"\"\" & 'BX Language acquisition'!C1420 & \"\"\",\"\"\" & 'BX Language acquisition'!B1420 & \"\"\",\"\"\" & 'BX Language acquisition'!D1420 & \"\"\"\"","v":"\" \",\"\",\"\",\"\""}]
[{"$f":"\"\"\" \"& 'BX Language acquisition'!A1421 & \"\"\",\"\"\" & 'BX Language acquisition'!C1421 & \"\"\",\"\"\" & 'BX Language acquisition'!B1421 & \"\"\",\"\"\" & 'BX Language acquisition'!D1421 & \"\"\"\"","v":"\" \",\"\",\"\",\"\""}]
[{"$f":"\"\"\" \"& 'BX Language acquisition'!A1422 & \"\"\",\"\"\" & 'BX Language acquisition'!C1422 & \"\"\",\"\"\" & 'BX Language acquisition'!B1422 & \"\"\",\"\"\" & 'BX Language acquisition'!D1422 & \"\"\"\"","v":"\" \",\"\",\"\",\"\""}]
[{"$f":"\"\"\" \"& 'BX Language acquisition'!A1423 & \"\"\",\"\"\" & 'BX Language acquisition'!C1423 & \"\"\",\"\"\" & 'BX Language acquisition'!B1423 & \"\"\",\"\"\" & 'BX Language acquisition'!D1423 & \"\"\"\"","v":"\" \",\"\",\"\",\"\""}]
[{"$f":"\"\"\" \"& 'BX Language acquisition'!A1424 & \"\"\",\"\"\" & 'BX Language acquisition'!C1424 & \"\"\",\"\"\" & 'BX Language acquisition'!B1424 & \"\"\",\"\"\" & 'BX Language acquisition'!D1424 & \"\"\"\"","v":"\" \",\"\",\"\",\"\""}]
[{"$f":"\"\"\" \"& 'BX Language acquisition'!A1425 & \"\"\",\"\"\" & 'BX Language acquisition'!C1425 & \"\"\",\"\"\" & 'BX Language acquisition'!B1425 & \"\"\",\"\"\" & 'BX Language acquisition'!D1425 & \"\"\"\"","v":"\" \",\"\",\"\",\"\""}]
[{"$f":"\"\"\" \"& 'BX Language acquisition'!A1426 & \"\"\",\"\"\" & 'BX Language acquisition'!C1426 & \"\"\",\"\"\" & 'BX Language acquisition'!B1426 & \"\"\",\"\"\" & 'BX Language acquisition'!D1426 & \"\"\"\"","v":"\" \",\"\",\"\",\"\""}]
[{"$f":"\"\"\" \"& 'BX Language acquisition'!A1427 & \"\"\",\"\"\" & 'BX Language acquisition'!C1427 & \"\"\",\"\"\" & 'BX Language acquisition'!B1427 & \"\"\",\"\"\" & 'BX Language acquisition'!D1427 & \"\"\"\"","v":"\" \",\"\",\"\",\"\""}]
[{"$f":"\"\"\" \"& 'BX Language acquisition'!A1428 & \"\"\",\"\"\" & 'BX Language acquisition'!C1428 & \"\"\",\"\"\" & 'BX Language acquisition'!B1428 & \"\"\",\"\"\" & 'BX Language acquisition'!D1428 & \"\"\"\"","v":"\" \",\"\",\"\",\"\""}]
[{"$f":"\"\"\" \"& 'BX Language acquisition'!A1429 & \"\"\",\"\"\" & 'BX Language acquisition'!C1429 & \"\"\",\"\"\" & 'BX Language acquisition'!B1429 & \"\"\",\"\"\" & 'BX Language acquisition'!D1429 & \"\"\"\"","v":"\" \",\"\",\"\",\"\""}]
[{"$f":"\"\"\" \"& 'BX Language acquisition'!A1430 & \"\"\",\"\"\" & 'BX Language acquisition'!C1430 & \"\"\",\"\"\" & 'BX Language acquisition'!B1430 & \"\"\",\"\"\" & 'BX Language acquisition'!D1430 & \"\"\"\"","v":"\" \",\"\",\"\",\"\""}]
[{"$f":"\"\"\" \"& 'BX Language acquisition'!A1431 & \"\"\",\"\"\" & 'BX Language acquisition'!C1431 & \"\"\",\"\"\" & 'BX Language acquisition'!B1431 & \"\"\",\"\"\" & 'BX Language acquisition'!D1431 & \"\"\"\"","v":"\" \",\"\",\"\",\"\""}]
[{"$f":"\"\"\" \"& 'BX Language acquisition'!A1432 & \"\"\",\"\"\" & 'BX Language acquisition'!C1432 & \"\"\",\"\"\" & 'BX Language acquisition'!B1432 & \"\"\",\"\"\" & 'BX Language acquisition'!D1432 & \"\"\"\"","v":"\" \",\"\",\"\",\"\""}]
[{"$f":"\"\"\" \"& 'BX Language acquisition'!A1433 & \"\"\",\"\"\" & 'BX Language acquisition'!C1433 & \"\"\",\"\"\" & 'BX Language acquisition'!B1433 & \"\"\",\"\"\" & 'BX Language acquisition'!D1433 & \"\"\"\"","v":"\" \",\"\",\"\",\"\""}]
[{"$f":"\"\"\" \"& 'BX Language acquisition'!A1434 & \"\"\",\"\"\" & 'BX Language acquisition'!C1434 & \"\"\",\"\"\" & 'BX Language acquisition'!B1434 & \"\"\",\"\"\" & 'BX Language acquisition'!D1434 & \"\"\"\"","v":"\" \",\"\",\"\",\"\""}]
[{"$f":"\"\"\" \"& 'BX Language acquisition'!A1435 & \"\"\",\"\"\" & 'BX Language acquisition'!C1435 & \"\"\",\"\"\" & 'BX Language acquisition'!B1435 & \"\"\",\"\"\" & 'BX Language acquisition'!D1435 & \"\"\"\"","v":"\" \",\"\",\"\",\"\""}]
[{"$f":"\"\"\" \"& 'BX Language acquisition'!A1436 & \"\"\",\"\"\" & 'BX Language acquisition'!C1436 & \"\"\",\"\"\" & 'BX Language acquisition'!B1436 & \"\"\",\"\"\" & 'BX Language acquisition'!D1436 & \"\"\"\"","v":"\" \",\"\",\"\",\"\""}]
[{"$f":"\"\"\" \"& 'BX Language acquisition'!A1437 & \"\"\",\"\"\" & 'BX Language acquisition'!C1437 & \"\"\",\"\"\" & 'BX Language acquisition'!B1437 & \"\"\",\"\"\" & 'BX Language acquisition'!D1437 & \"\"\"\"","v":"\" \",\"\",\"\",\"\""}]
[{"$f":"\"\"\" \"& 'BX Language acquisition'!A1438 & \"\"\",\"\"\" & 'BX Language acquisition'!C1438 & \"\"\",\"\"\" & 'BX Language acquisition'!B1438 & \"\"\",\"\"\" & 'BX Language acquisition'!D1438 & \"\"\"\"","v":"\" \",\"\",\"\",\"\""}]
[{"$f":"\"\"\" \"& 'BX Language acquisition'!A1439 & \"\"\",\"\"\" & 'BX Language acquisition'!C1439 & \"\"\",\"\"\" & 'BX Language acquisition'!B1439 & \"\"\",\"\"\" & 'BX Language acquisition'!D1439 & \"\"\"\"","v":"\" \",\"\",\"\",\"\""}]
[{"$f":"\"\"\" \"& 'BX Language acquisition'!A1440 & \"\"\",\"\"\" & 'BX Language acquisition'!C1440 & \"\"\",\"\"\" & 'BX Language acquisition'!B1440 & \"\"\",\"\"\" & 'BX Language acquisition'!D1440 & \"\"\"\"","v":"\" \",\"\",\"\",\"\""}]
[{"$f":"\"\"\" \"& 'BX Language acquisition'!A1441 & \"\"\",\"\"\" & 'BX Language acquisition'!C1441 & \"\"\",\"\"\" & 'BX Language acquisition'!B1441 & \"\"\",\"\"\" & 'BX Language acquisition'!D1441 & \"\"\"\"","v":"\" \",\"\",\"\",\"\""}]
[{"$f":"\"\"\" \"& 'BX Language acquisition'!A1442 & \"\"\",\"\"\" & 'BX Language acquisition'!C1442 & \"\"\",\"\"\" & 'BX Language acquisition'!B1442 & \"\"\",\"\"\" & 'BX Language acquisition'!D1442 & \"\"\"\"","v":"\" \",\"\",\"\",\"\""}]
[{"$f":"\"\"\" \"& 'BX Language acquisition'!A1443 & \"\"\",\"\"\" & 'BX Language acquisition'!C1443 & \"\"\",\"\"\" & 'BX Language acquisition'!B1443 & \"\"\",\"\"\" & 'BX Language acquisition'!D1443 & \"\"\"\"","v":"\" \",\"\",\"\",\"\""}]
[{"$f":"\"\"\" \"& 'BX Language acquisition'!A1444 & \"\"\",\"\"\" & 'BX Language acquisition'!C1444 & \"\"\",\"\"\" & 'BX Language acquisition'!B1444 & \"\"\",\"\"\" & 'BX Language acquisition'!D1444 & \"\"\"\"","v":"\" \",\"\",\"\",\"\""}]
[{"$f":"\"\"\" \"& 'BX Language acquisition'!A1445 & \"\"\",\"\"\" & 'BX Language acquisition'!C1445 & \"\"\",\"\"\" & 'BX Language acquisition'!B1445 & \"\"\",\"\"\" & 'BX Language acquisition'!D1445 & \"\"\"\"","v":"\" \",\"\",\"\",\"\""}]
[{"$f":"\"\"\" \"& 'BX Language acquisition'!A1446 & \"\"\",\"\"\" & 'BX Language acquisition'!C1446 & \"\"\",\"\"\" & 'BX Language acquisition'!B1446 & \"\"\",\"\"\" & 'BX Language acquisition'!D1446 & \"\"\"\"","v":"\" \",\"\",\"\",\"\""}]
[{"$f":"\"\"\" \"& 'BX Language acquisition'!A1447 & \"\"\",\"\"\" & 'BX Language acquisition'!C1447 & \"\"\",\"\"\" & 'BX Language acquisition'!B1447 & \"\"\",\"\"\" & 'BX Language acquisition'!D1447 & \"\"\"\"","v":"\" \",\"\",\"\",\"\""}]
[{"$f":"\"\"\" \"& 'BX Language acquisition'!A1448 & \"\"\",\"\"\" & 'BX Language acquisition'!C1448 & \"\"\",\"\"\" & 'BX Language acquisition'!B1448 & \"\"\",\"\"\" & 'BX Language acquisition'!D1448 & \"\"\"\"","v":"\" \",\"\",\"\",\"\""}]
[{"$f":"\"\"\" \"& 'BX Language acquisition'!A1449 & \"\"\",\"\"\" & 'BX Language acquisition'!C1449 & \"\"\",\"\"\" & 'BX Language acquisition'!B1449 & \"\"\",\"\"\" & 'BX Language acquisition'!D1449 & \"\"\"\"","v":"\" \",\"\",\"\",\"\""}]
[{"$f":"\"\"\" \"& 'BX Language acquisition'!A1450 & \"\"\",\"\"\" & 'BX Language acquisition'!C1450 & \"\"\",\"\"\" & 'BX Language acquisition'!B1450 & \"\"\",\"\"\" & 'BX Language acquisition'!D1450 & \"\"\"\"","v":"\" \",\"\",\"\",\"\""}]
[{"$f":"\"\"\" \"& 'BX Language acquisition'!A1451 & \"\"\",\"\"\" & 'BX Language acquisition'!C1451 & \"\"\",\"\"\" & 'BX Language acquisition'!B1451 & \"\"\",\"\"\" & 'BX Language acquisition'!D1451 & \"\"\"\"","v":"\" \",\"\",\"\",\"\""}]
[{"$f":"\"\"\" \"& 'BX Language acquisition'!A1452 & \"\"\",\"\"\" & 'BX Language acquisition'!C1452 & \"\"\",\"\"\" & 'BX Language acquisition'!B1452 & \"\"\",\"\"\" & 'BX Language acquisition'!D1452 & \"\"\"\"","v":"\" \",\"\",\"\",\"\""}]
[{"$f":"\"\"\" \"& 'BX Language acquisition'!A1453 & \"\"\",\"\"\" & 'BX Language acquisition'!C1453 & \"\"\",\"\"\" & 'BX Language acquisition'!B1453 & \"\"\",\"\"\" & 'BX Language acquisition'!D1453 & \"\"\"\"","v":"\" \",\"\",\"\",\"\""}]
[{"$f":"\"\"\" \"& 'BX Language acquisition'!A1454 & \"\"\",\"\"\" & 'BX Language acquisition'!C1454 & \"\"\",\"\"\" & 'BX Language acquisition'!B1454 & \"\"\",\"\"\" & 'BX Language acquisition'!D1454 & \"\"\"\"","v":"\" \",\"\",\"\",\"\""}]
[{"$f":"\"\"\" \"& 'BX Language acquisition'!A1455 & \"\"\",\"\"\" & 'BX Language acquisition'!C1455 & \"\"\",\"\"\" & 'BX Language acquisition'!B1455 & \"\"\",\"\"\" & 'BX Language acquisition'!D1455 & \"\"\"\"","v":"\" \",\"\",\"\",\"\""}]
[{"$f":"\"\"\" \"& 'BX Language acquisition'!A1456 & \"\"\",\"\"\" & 'BX Language acquisition'!C1456 & \"\"\",\"\"\" & 'BX Language acquisition'!B1456 & \"\"\",\"\"\" & 'BX Language acquisition'!D1456 & \"\"\"\"","v":"\" \",\"\",\"\",\"\""}]
[{"$f":"\"\"\" \"& 'BX Language acquisition'!A1457 & \"\"\",\"\"\" & 'BX Language acquisition'!C1457 & \"\"\",\"\"\" & 'BX Language acquisition'!B1457 & \"\"\",\"\"\" & 'BX Language acquisition'!D1457 & \"\"\"\"","v":"\" \",\"\",\"\",\"\""}]
[{"$f":"\"\"\" \"& 'BX Language acquisition'!A1458 & \"\"\",\"\"\" & 'BX Language acquisition'!C1458 & \"\"\",\"\"\" & 'BX Language acquisition'!B1458 & \"\"\",\"\"\" & 'BX Language acquisition'!D1458 & \"\"\"\"","v":"\" \",\"\",\"\",\"\""}]
[{"$f":"\"\"\" \"& 'BX Language acquisition'!A1459 & \"\"\",\"\"\" & 'BX Language acquisition'!C1459 & \"\"\",\"\"\" & 'BX Language acquisition'!B1459 & \"\"\",\"\"\" & 'BX Language acquisition'!D1459 & \"\"\"\"","v":"\" \",\"\",\"\",\"\""}]
[{"$f":"\"\"\" \"& 'BX Language acquisition'!A1460 & \"\"\",\"\"\" & 'BX Language acquisition'!C1460 & \"\"\",\"\"\" & 'BX Language acquisition'!B1460 & \"\"\",\"\"\" & 'BX Language acquisition'!D1460 & \"\"\"\"","v":"\" \",\"\",\"\",\"\""}]
[{"$f":"\"\"\" \"& 'BX Language acquisition'!A1461 & \"\"\",\"\"\" & 'BX Language acquisition'!C1461 & \"\"\",\"\"\" & 'BX Language acquisition'!B1461 & \"\"\",\"\"\" & 'BX Language acquisition'!D1461 & \"\"\"\"","v":"\" \",\"\",\"\",\"\""}]
[{"$f":"\"\"\" \"& 'BX Language acquisition'!A1462 & \"\"\",\"\"\" & 'BX Language acquisition'!C1462 & \"\"\",\"\"\" & 'BX Language acquisition'!B1462 & \"\"\",\"\"\" & 'BX Language acquisition'!D1462 & \"\"\"\"","v":"\" \",\"\",\"\",\"\""}]
[{"$f":"\"\"\" \"& 'BX Language acquisition'!A1463 & \"\"\",\"\"\" & 'BX Language acquisition'!C1463 & \"\"\",\"\"\" & 'BX Language acquisition'!B1463 & \"\"\",\"\"\" & 'BX Language acquisition'!D1463 & \"\"\"\"","v":"\" \",\"\",\"\",\"\""}]
[{"$f":"\"\"\" \"& 'BX Language acquisition'!A1464 & \"\"\",\"\"\" & 'BX Language acquisition'!C1464 & \"\"\",\"\"\" & 'BX Language acquisition'!B1464 & \"\"\",\"\"\" & 'BX Language acquisition'!D1464 & \"\"\"\"","v":"\" \",\"\",\"\",\"\""}]
[{"$f":"\"\"\" \"& 'BX Language acquisition'!A1465 & \"\"\",\"\"\" & 'BX Language acquisition'!C1465 & \"\"\",\"\"\" & 'BX Language acquisition'!B1465 & \"\"\",\"\"\" & 'BX Language acquisition'!D1465 & \"\"\"\"","v":"\" \",\"\",\"\",\"\""}]
[{"$f":"\"\"\" \"& 'BX Language acquisition'!A1466 & \"\"\",\"\"\" & 'BX Language acquisition'!C1466 & \"\"\",\"\"\" & 'BX Language acquisition'!B1466 & \"\"\",\"\"\" & 'BX Language acquisition'!D1466 & \"\"\"\"","v":"\" \",\"\",\"\",\"\""}]
[{"$f":"\"\"\" \"& 'BX Language acquisition'!A1467 & \"\"\",\"\"\" & 'BX Language acquisition'!C1467 & \"\"\",\"\"\" & 'BX Language acquisition'!B1467 & \"\"\",\"\"\" & 'BX Language acquisition'!D1467 & \"\"\"\"","v":"\" \",\"\",\"\",\"\""}]
[{"$f":"\"\"\" \"& 'BX Language acquisition'!A1468 & \"\"\",\"\"\" & 'BX Language acquisition'!C1468 & \"\"\",\"\"\" & 'BX Language acquisition'!B1468 & \"\"\",\"\"\" & 'BX Language acquisition'!D1468 & \"\"\"\"","v":"\" \",\"\",\"\",\"\""}]
[{"$f":"\"\"\" \"& 'BX Language acquisition'!A1469 & \"\"\",\"\"\" & 'BX Language acquisition'!C1469 & \"\"\",\"\"\" & 'BX Language acquisition'!B1469 & \"\"\",\"\"\" & 'BX Language acquisition'!D1469 & \"\"\"\"","v":"\" \",\"\",\"\",\"\""}]
[{"$f":"\"\"\" \"& 'BX Language acquisition'!A1470 & \"\"\",\"\"\" & 'BX Language acquisition'!C1470 & \"\"\",\"\"\" & 'BX Language acquisition'!B1470 & \"\"\",\"\"\" & 'BX Language acquisition'!D1470 & \"\"\"\"","v":"\" \",\"\",\"\",\"\""}]
[{"$f":"\"\"\" \"& 'BX Language acquisition'!A1471 & \"\"\",\"\"\" & 'BX Language acquisition'!C1471 & \"\"\",\"\"\" & 'BX Language acquisition'!B1471 & \"\"\",\"\"\" & 'BX Language acquisition'!D1471 & \"\"\"\"","v":"\" \",\"\",\"\",\"\""}]
[{"$f":"\"\"\" \"& 'BX Language acquisition'!A1472 & \"\"\",\"\"\" & 'BX Language acquisition'!C1472 & \"\"\",\"\"\" & 'BX Language acquisition'!B1472 & \"\"\",\"\"\" & 'BX Language acquisition'!D1472 & \"\"\"\"","v":"\" \",\"\",\"\",\"\""}]
[{"$f":"\"\"\" \"& 'BX Language acquisition'!A1473 & \"\"\",\"\"\" & 'BX Language acquisition'!C1473 & \"\"\",\"\"\" & 'BX Language acquisition'!B1473 & \"\"\",\"\"\" & 'BX Language acquisition'!D1473 & \"\"\"\"","v":"\" \",\"\",\"\",\"\""}]
[{"$f":"\"\"\" \"& 'BX Language acquisition'!A1474 & \"\"\",\"\"\" & 'BX Language acquisition'!C1474 & \"\"\",\"\"\" & 'BX Language acquisition'!B1474 & \"\"\",\"\"\" & 'BX Language acquisition'!D1474 & \"\"\"\"","v":"\" \",\"\",\"\",\"\""}]
[{"$f":"\"\"\" \"& 'BX Language acquisition'!A1475 & \"\"\",\"\"\" & 'BX Language acquisition'!C1475 & \"\"\",\"\"\" & 'BX Language acquisition'!B1475 & \"\"\",\"\"\" & 'BX Language acquisition'!D1475 & \"\"\"\"","v":"\" \",\"\",\"\",\"\""}]
[{"$f":"\"\"\" \"& 'BX Language acquisition'!A1476 & \"\"\",\"\"\" & 'BX Language acquisition'!C1476 & \"\"\",\"\"\" & 'BX Language acquisition'!B1476 & \"\"\",\"\"\" & 'BX Language acquisition'!D1476 & \"\"\"\"","v":"\" \",\"\",\"\",\"\""}]
[{"$f":"\"\"\" \"& 'BX Language acquisition'!A1477 & \"\"\",\"\"\" & 'BX Language acquisition'!C1477 & \"\"\",\"\"\" & 'BX Language acquisition'!B1477 & \"\"\",\"\"\" & 'BX Language acquisition'!D1477 & \"\"\"\"","v":"\" \",\"\",\"\",\"\""}]
[{"$f":"\"\"\" \"& 'BX Language acquisition'!A1478 & \"\"\",\"\"\" & 'BX Language acquisition'!C1478 & \"\"\",\"\"\" & 'BX Language acquisition'!B1478 & \"\"\",\"\"\" & 'BX Language acquisition'!D1478 & \"\"\"\"","v":"\" \",\"\",\"\",\"\""}]
[{"$f":"\"\"\" \"& 'BX Language acquisition'!A1479 & \"\"\",\"\"\" & 'BX Language acquisition'!C1479 & \"\"\",\"\"\" & 'BX Language acquisition'!B1479 & \"\"\",\"\"\" & 'BX Language acquisition'!D1479 & \"\"\"\"","v":"\" \",\"\",\"\",\"\""}]
[{"$f":"\"\"\" \"& 'BX Language acquisition'!A1480 & \"\"\",\"\"\" & 'BX Language acquisition'!C1480 & \"\"\",\"\"\" & 'BX Language acquisition'!B1480 & \"\"\",\"\"\" & 'BX Language acquisition'!D1480 & \"\"\"\"","v":"\" \",\"\",\"\",\"\""}]
[{"$f":"\"\"\" \"& 'BX Language acquisition'!A1481 & \"\"\",\"\"\" & 'BX Language acquisition'!C1481 & \"\"\",\"\"\" & 'BX Language acquisition'!B1481 & \"\"\",\"\"\" & 'BX Language acquisition'!D1481 & \"\"\"\"","v":"\" \",\"\",\"\",\"\""}]
[{"$f":"\"\"\" \"& 'BX Language acquisition'!A1482 & \"\"\",\"\"\" & 'BX Language acquisition'!C1482 & \"\"\",\"\"\" & 'BX Language acquisition'!B1482 & \"\"\",\"\"\" & 'BX Language acquisition'!D1482 & \"\"\"\"","v":"\" \",\"\",\"\",\"\""}]
[{"$f":"\"\"\" \"& 'BX Language acquisition'!A1483 & \"\"\",\"\"\" & 'BX Language acquisition'!C1483 & \"\"\",\"\"\" & 'BX Language acquisition'!B1483 & \"\"\",\"\"\" & 'BX Language acquisition'!D1483 & \"\"\"\"","v":"\" \",\"\",\"\",\"\""}]
[{"$f":"\"\"\" \"& 'BX Language acquisition'!A1484 & \"\"\",\"\"\" & 'BX Language acquisition'!C1484 & \"\"\",\"\"\" & 'BX Language acquisition'!B1484 & \"\"\",\"\"\" & 'BX Language acquisition'!D1484 & \"\"\"\"","v":"\" \",\"\",\"\",\"\""}]
[{"$f":"\"\"\" \"& 'BX Language acquisition'!A1485 & \"\"\",\"\"\" & 'BX Language acquisition'!C1485 & \"\"\",\"\"\" & 'BX Language acquisition'!B1485 & \"\"\",\"\"\" & 'BX Language acquisition'!D1485 & \"\"\"\"","v":"\" \",\"\",\"\",\"\""}]
[{"$f":"\"\"\" \"& 'BX Language acquisition'!A1486 & \"\"\",\"\"\" & 'BX Language acquisition'!C1486 & \"\"\",\"\"\" & 'BX Language acquisition'!B1486 & \"\"\",\"\"\" & 'BX Language acquisition'!D1486 & \"\"\"\"","v":"\" \",\"\",\"\",\"\""}]
[{"$f":"\"\"\" \"& 'BX Language acquisition'!A1487 & \"\"\",\"\"\" & 'BX Language acquisition'!C1487 & \"\"\",\"\"\" & 'BX Language acquisition'!B1487 & \"\"\",\"\"\" & 'BX Language acquisition'!D1487 & \"\"\"\"","v":"\" \",\"\",\"\",\"\""}]
[{"$f":"\"\"\" \"& 'BX Language acquisition'!A1488 & \"\"\",\"\"\" & 'BX Language acquisition'!C1488 & \"\"\",\"\"\" & 'BX Language acquisition'!B1488 & \"\"\",\"\"\" & 'BX Language acquisition'!D1488 & \"\"\"\"","v":"\" \",\"\",\"\",\"\""}]
[{"$f":"\"\"\" \"& 'BX Language acquisition'!A1489 & \"\"\",\"\"\" & 'BX Language acquisition'!C1489 & \"\"\",\"\"\" & 'BX Language acquisition'!B1489 & \"\"\",\"\"\" & 'BX Language acquisition'!D1489 & \"\"\"\"","v":"\" \",\"\",\"\",\"\""}]
[{"$f":"\"\"\" \"& 'BX Language acquisition'!A1490 & \"\"\",\"\"\" & 'BX Language acquisition'!C1490 & \"\"\",\"\"\" & 'BX Language acquisition'!B1490 & \"\"\",\"\"\" & 'BX Language acquisition'!D1490 & \"\"\"\"","v":"\" \",\"\",\"\",\"\""}]
[{"$f":"\"\"\" \"& 'BX Language acquisition'!A1491 & \"\"\",\"\"\" & 'BX Language acquisition'!C1491 & \"\"\",\"\"\" & 'BX Language acquisition'!B1491 & \"\"\",\"\"\" & 'BX Language acquisition'!D1491 & \"\"\"\"","v":"\" \",\"\",\"\",\"\""}]
[{"$f":"\"\"\" \"& 'BX Language acquisition'!A1492 & \"\"\",\"\"\" & 'BX Language acquisition'!C1492 & \"\"\",\"\"\" & 'BX Language acquisition'!B1492 & \"\"\",\"\"\" & 'BX Language acquisition'!D1492 & \"\"\"\"","v":"\" \",\"\",\"\",\"\""}]
[{"$f":"\"\"\" \"& 'BX Language acquisition'!A1493 & \"\"\",\"\"\" & 'BX Language acquisition'!C1493 & \"\"\",\"\"\" & 'BX Language acquisition'!B1493 & \"\"\",\"\"\" & 'BX Language acquisition'!D1493 & \"\"\"\"","v":"\" \",\"\",\"\",\"\""}]
[{"$f":"\"\"\" \"& 'BX Language acquisition'!A1494 & \"\"\",\"\"\" & 'BX Language acquisition'!C1494 & \"\"\",\"\"\" & 'BX Language acquisition'!B1494 & \"\"\",\"\"\" & 'BX Language acquisition'!D1494 & \"\"\"\"","v":"\" \",\"\",\"\",\"\""}]
[{"$f":"\"\"\" \"& 'BX Language acquisition'!A1495 & \"\"\",\"\"\" & 'BX Language acquisition'!C1495 & \"\"\",\"\"\" & 'BX Language acquisition'!B1495 & \"\"\",\"\"\" & 'BX Language acquisition'!D1495 & \"\"\"\"","v":"\" \",\"\",\"\",\"\""}]
[{"$f":"\"\"\" \"& 'BX Language acquisition'!A1496 & \"\"\",\"\"\" & 'BX Language acquisition'!C1496 & \"\"\",\"\"\" & 'BX Language acquisition'!B1496 & \"\"\",\"\"\" & 'BX Language acquisition'!D1496 & \"\"\"\"","v":"\" \",\"\",\"\",\"\""}]
[{"$f":"\"\"\" \"& 'BX Language acquisition'!A1497 & \"\"\",\"\"\" & 'BX Language acquisition'!C1497 & \"\"\",\"\"\" & 'BX Language acquisition'!B1497 & \"\"\",\"\"\" & 'BX Language acquisition'!D1497 & \"\"\"\"","v":"\" \",\"\",\"\",\"\""}]
[{"$f":"\"\"\" \"& 'BX Language acquisition'!A1498 & \"\"\",\"\"\" & 'BX Language acquisition'!C1498 & \"\"\",\"\"\" & 'BX Language acquisition'!B1498 & \"\"\",\"\"\" & 'BX Language acquisition'!D1498 & \"\"\"\"","v":"\" \",\"\",\"\",\"\""}]
[{"$f":"\"\"\" \"& 'BX Language acquisition'!A1499 & \"\"\",\"\"\" & 'BX Language acquisition'!C1499 & \"\"\",\"\"\" & 'BX Language acquisition'!B1499 & \"\"\",\"\"\" & 'BX Language acquisition'!D1499 & \"\"\"\"","v":"\" \",\"\",\"\",\"\""}]
[{"$f":"\"\"\" \"& 'BX Language acquisition'!A1500 & \"\"\",\"\"\" & 'BX Language acquisition'!C1500 & \"\"\",\"\"\" & 'BX Language acquisition'!B1500 & \"\"\",\"\"\" & 'BX Language acquisition'!D1500 & \"\"\"\"","v":"\" \",\"\",\"\",\"\""}]
[{"$f":"\"\"\" \"& 'BX Language acquisition'!A1501 & \"\"\",\"\"\" & 'BX Language acquisition'!C1501 & \"\"\",\"\"\" & 'BX Language acquisition'!B1501 & \"\"\",\"\"\" & 'BX Language acquisition'!D1501 & \"\"\"\"","v":"\" \",\"\",\"\",\"\""}]
[{"$f":"\"\"\" \"& 'BX Language acquisition'!A1502 & \"\"\",\"\"\" & 'BX Language acquisition'!C1502 & \"\"\",\"\"\" & 'BX Language acquisition'!B1502 & \"\"\",\"\"\" & 'BX Language acquisition'!D1502 & \"\"\"\"","v":"\" \",\"\",\"\",\"\""}]
[{"$f":"\"\"\" \"& 'BX Language acquisition'!A1503 & \"\"\",\"\"\" & 'BX Language acquisition'!C1503 & \"\"\",\"\"\" & 'BX Language acquisition'!B1503 & \"\"\",\"\"\" & 'BX Language acquisition'!D1503 & \"\"\"\"","v":"\" \",\"\",\"\",\"\""}]
[{"$f":"\"\"\" \"& 'BX Language acquisition'!A1504 & \"\"\",\"\"\" & 'BX Language acquisition'!C1504 & \"\"\",\"\"\" & 'BX Language acquisition'!B1504 & \"\"\",\"\"\" & 'BX Language acquisition'!D1504 & \"\"\"\"","v":"\" \",\"\",\"\",\"\""}]
[{"$f":"\"\"\" \"& 'BX Language acquisition'!A1505 & \"\"\",\"\"\" & 'BX Language acquisition'!C1505 & \"\"\",\"\"\" & 'BX Language acquisition'!B1505 & \"\"\",\"\"\" & 'BX Language acquisition'!D1505 & \"\"\"\"","v":"\" \",\"\",\"\",\"\""}]
[{"$f":"\"\"\" \"& 'BX Language acquisition'!A1506 & \"\"\",\"\"\" & 'BX Language acquisition'!C1506 & \"\"\",\"\"\" & 'BX Language acquisition'!B1506 & \"\"\",\"\"\" & 'BX Language acquisition'!D1506 & \"\"\"\"","v":"\" \",\"\",\"\",\"\""}]
[{"$f":"\"\"\" \"& 'BX Language acquisition'!A1507 & \"\"\",\"\"\" & 'BX Language acquisition'!C1507 & \"\"\",\"\"\" & 'BX Language acquisition'!B1507 & \"\"\",\"\"\" & 'BX Language acquisition'!D1507 & \"\"\"\"","v":"\" \",\"\",\"\",\"\""}]
[{"$f":"\"\"\" \"& 'BX Language acquisition'!A1508 & \"\"\",\"\"\" & 'BX Language acquisition'!C1508 & \"\"\",\"\"\" & 'BX Language acquisition'!B1508 & \"\"\",\"\"\" & 'BX Language acquisition'!D1508 & \"\"\"\"","v":"\" \",\"\",\"\",\"\""}]
[{"$f":"\"\"\" \"& 'BX Language acquisition'!A1509 & \"\"\",\"\"\" & 'BX Language acquisition'!C1509 & \"\"\",\"\"\" & 'BX Language acquisition'!B1509 & \"\"\",\"\"\" & 'BX Language acquisition'!D1509 & \"\"\"\"","v":"\" \",\"\",\"\",\"\""}]
[{"$f":"\"\"\" \"& 'BX Language acquisition'!A1510 & \"\"\",\"\"\" & 'BX Language acquisition'!C1510 & \"\"\",\"\"\" & 'BX Language acquisition'!B1510 & \"\"\",\"\"\" & 'BX Language acquisition'!D1510 & \"\"\"\"","v":"\" \",\"\",\"\",\"\""}]
[{"$f":"\"\"\" \"& 'BX Language acquisition'!A1511 & \"\"\",\"\"\" & 'BX Language acquisition'!C1511 & \"\"\",\"\"\" & 'BX Language acquisition'!B1511 & \"\"\",\"\"\" & 'BX Language acquisition'!D1511 & \"\"\"\"","v":"\" \",\"\",\"\",\"\""}]
[{"$f":"\"\"\" \"& 'BX Language acquisition'!A1512 & \"\"\",\"\"\" & 'BX Language acquisition'!C1512 & \"\"\",\"\"\" & 'BX Language acquisition'!B1512 & \"\"\",\"\"\" & 'BX Language acquisition'!D1512 & \"\"\"\"","v":"\" \",\"\",\"\",\"\""}]
[{"$f":"\"\"\" \"& 'BX Language acquisition'!A1513 & \"\"\",\"\"\" & 'BX Language acquisition'!C1513 & \"\"\",\"\"\" & 'BX Language acquisition'!B1513 & \"\"\",\"\"\" & 'BX Language acquisition'!D1513 & \"\"\"\"","v":"\" \",\"\",\"\",\"\""}]
[{"$f":"\"\"\" \"& 'BX Language acquisition'!A1514 & \"\"\",\"\"\" & 'BX Language acquisition'!C1514 & \"\"\",\"\"\" & 'BX Language acquisition'!B1514 & \"\"\",\"\"\" & 'BX Language acquisition'!D1514 & \"\"\"\"","v":"\" \",\"\",\"\",\"\""}]
[{"$f":"\"\"\" \"& 'BX Language acquisition'!A1515 & \"\"\",\"\"\" & 'BX Language acquisition'!C1515 & \"\"\",\"\"\" & 'BX Language acquisition'!B1515 & \"\"\",\"\"\" & 'BX Language acquisition'!D1515 & \"\"\"\"","v":"\" \",\"\",\"\",\"\""}]
[{"$f":"\"\"\" \"& 'BX Language acquisition'!A1516 & \"\"\",\"\"\" & 'BX Language acquisition'!C1516 & \"\"\",\"\"\" & 'BX Language acquisition'!B1516 & \"\"\",\"\"\" & 'BX Language acquisition'!D1516 & \"\"\"\"","v":"\" \",\"\",\"\",\"\""}]
[{"$f":"\"\"\" \"& 'BX Language acquisition'!A1517 & \"\"\",\"\"\" & 'BX Language acquisition'!C1517 & \"\"\",\"\"\" & 'BX Language acquisition'!B1517 & \"\"\",\"\"\" & 'BX Language acquisition'!D1517 & \"\"\"\"","v":"\" \",\"\",\"\",\"\""}]
[{"$f":"\"\"\" \"& 'BX Language acquisition'!A1518 & \"\"\",\"\"\" & 'BX Language acquisition'!C1518 & \"\"\",\"\"\" & 'BX Language acquisition'!B1518 & \"\"\",\"\"\" & 'BX Language acquisition'!D1518 & \"\"\"\"","v":"\" \",\"\",\"\",\"\""}]
[{"$f":"\"\"\" \"& 'BX Language acquisition'!A1519 & \"\"\",\"\"\" & 'BX Language acquisition'!C1519 & \"\"\",\"\"\" & 'BX Language acquisition'!B1519 & \"\"\",\"\"\" & 'BX Language acquisition'!D1519 & \"\"\"\"","v":"\" \",\"\",\"\",\"\""}]
[{"$f":"\"\"\" \"& 'BX Language acquisition'!A1520 & \"\"\",\"\"\" & 'BX Language acquisition'!C1520 & \"\"\",\"\"\" & 'BX Language acquisition'!B1520 & \"\"\",\"\"\" & 'BX Language acquisition'!D1520 & \"\"\"\"","v":"\" \",\"\",\"\",\"\""}]
[{"$f":"\"\"\" \"& 'BX Language acquisition'!A1521 & \"\"\",\"\"\" & 'BX Language acquisition'!C1521 & \"\"\",\"\"\" & 'BX Language acquisition'!B1521 & \"\"\",\"\"\" & 'BX Language acquisition'!D1521 & \"\"\"\"","v":"\" \",\"\",\"\",\"\""}]
[{"$f":"\"\"\" \"& 'BX Language acquisition'!A1522 & \"\"\",\"\"\" & 'BX Language acquisition'!C1522 & \"\"\",\"\"\" & 'BX Language acquisition'!B1522 & \"\"\",\"\"\" & 'BX Language acquisition'!D1522 & \"\"\"\"","v":"\" \",\"\",\"\",\"\""}]
[{"$f":"\"\"\" \"& 'BX Language acquisition'!A1523 & \"\"\",\"\"\" & 'BX Language acquisition'!C1523 & \"\"\",\"\"\" & 'BX Language acquisition'!B1523 & \"\"\",\"\"\" & 'BX Language acquisition'!D1523 & \"\"\"\"","v":"\" \",\"\",\"\",\"\""}]
[{"$f":"\"\"\" \"& 'BX Language acquisition'!A1524 & \"\"\",\"\"\" & 'BX Language acquisition'!C1524 & \"\"\",\"\"\" & 'BX Language acquisition'!B1524 & \"\"\",\"\"\" & 'BX Language acquisition'!D1524 & \"\"\"\"","v":"\" \",\"\",\"\",\"\""}]
[{"$f":"\"\"\" \"& 'BX Language acquisition'!A1525 & \"\"\",\"\"\" & 'BX Language acquisition'!C1525 & \"\"\",\"\"\" & 'BX Language acquisition'!B1525 & \"\"\",\"\"\" & 'BX Language acquisition'!D1525 & \"\"\"\"","v":"\" \",\"\",\"\",\"\""}]
[{"$f":"\"\"\" \"& 'BX Language acquisition'!A1526 & \"\"\",\"\"\" & 'BX Language acquisition'!C1526 & \"\"\",\"\"\" & 'BX Language acquisition'!B1526 & \"\"\",\"\"\" & 'BX Language acquisition'!D1526 & \"\"\"\"","v":"\" \",\"\",\"\",\"\""}]
[{"$f":"\"\"\" \"& 'BX Language acquisition'!A1527 & \"\"\",\"\"\" & 'BX Language acquisition'!C1527 & \"\"\",\"\"\" & 'BX Language acquisition'!B1527 & \"\"\",\"\"\" & 'BX Language acquisition'!D1527 & \"\"\"\"","v":"\" \",\"\",\"\",\"\""}]
[{"$f":"\"\"\" \"& 'BX Language acquisition'!A1528 & \"\"\",\"\"\" & 'BX Language acquisition'!C1528 & \"\"\",\"\"\" & 'BX Language acquisition'!B1528 & \"\"\",\"\"\" & 'BX Language acquisition'!D1528 & \"\"\"\"","v":"\" \",\"\",\"\",\"\""}]
[{"$f":"\"\"\" \"& 'BX Language acquisition'!A1529 & \"\"\",\"\"\" & 'BX Language acquisition'!C1529 & \"\"\",\"\"\" & 'BX Language acquisition'!B1529 & \"\"\",\"\"\" & 'BX Language acquisition'!D1529 & \"\"\"\"","v":"\" \",\"\",\"\",\"\""}]
[{"$f":"\"\"\" \"& 'BX Language acquisition'!A1530 & \"\"\",\"\"\" & 'BX Language acquisition'!C1530 & \"\"\",\"\"\" & 'BX Language acquisition'!B1530 & \"\"\",\"\"\" & 'BX Language acquisition'!D1530 & \"\"\"\"","v":"\" \",\"\",\"\",\"\""}]
[{"$f":"\"\"\" \"& 'BX Language acquisition'!A1531 & \"\"\",\"\"\" & 'BX Language acquisition'!C1531 & \"\"\",\"\"\" & 'BX Language acquisition'!B1531 & \"\"\",\"\"\" & 'BX Language acquisition'!D1531 & \"\"\"\"","v":"\" \",\"\",\"\",\"\""}]
[{"$f":"\"\"\" \"& 'BX Language acquisition'!A1532 & \"\"\",\"\"\" & 'BX Language acquisition'!C1532 & \"\"\",\"\"\" & 'BX Language acquisition'!B1532 & \"\"\",\"\"\" & 'BX Language acquisition'!D1532 & \"\"\"\"","v":"\" \",\"\",\"\",\"\""}]
[{"$f":"\"\"\" \"& 'BX Language acquisition'!A1533 & \"\"\",\"\"\" & 'BX Language acquisition'!C1533 & \"\"\",\"\"\" & 'BX Language acquisition'!B1533 & \"\"\",\"\"\" & 'BX Language acquisition'!D1533 & \"\"\"\"","v":"\" \",\"\",\"\",\"\""}]
[{"$f":"\"\"\" \"& 'BX Language acquisition'!A1534 & \"\"\",\"\"\" & 'BX Language acquisition'!C1534 & \"\"\",\"\"\" & 'BX Language acquisition'!B1534 & \"\"\",\"\"\" & 'BX Language acquisition'!D1534 & \"\"\"\"","v":"\" \",\"\",\"\",\"\""}]
[{"$f":"\"\"\" \"& 'BX Language acquisition'!A1535 & \"\"\",\"\"\" & 'BX Language acquisition'!C1535 & \"\"\",\"\"\" & 'BX Language acquisition'!B1535 & \"\"\",\"\"\" & 'BX Language acquisition'!D1535 & \"\"\"\"","v":"\" \",\"\",\"\",\"\""}]
[{"$f":"\"\"\" \"& 'BX Language acquisition'!A1536 & \"\"\",\"\"\" & 'BX Language acquisition'!C1536 & \"\"\",\"\"\" & 'BX Language acquisition'!B1536 & \"\"\",\"\"\" & 'BX Language acquisition'!D1536 & \"\"\"\"","v":"\" \",\"\",\"\",\"\""}]
[{"$f":"\"\"\" \"& 'BX Language acquisition'!A1537 & \"\"\",\"\"\" & 'BX Language acquisition'!C1537 & \"\"\",\"\"\" & 'BX Language acquisition'!B1537 & \"\"\",\"\"\" & 'BX Language acquisition'!D1537 & \"\"\"\"","v":"\" \",\"\",\"\",\"\""}]
[{"$f":"\"\"\" \"& 'BX Language acquisition'!A1538 & \"\"\",\"\"\" & 'BX Language acquisition'!C1538 & \"\"\",\"\"\" & 'BX Language acquisition'!B1538 & \"\"\",\"\"\" & 'BX Language acquisition'!D1538 & \"\"\"\"","v":"\" \",\"\",\"\",\"\""}]
[{"$f":"\"\"\" \"& 'BX Language acquisition'!A1539 & \"\"\",\"\"\" & 'BX Language acquisition'!C1539 & \"\"\",\"\"\" & 'BX Language acquisition'!B1539 & \"\"\",\"\"\" & 'BX Language acquisition'!D1539 & \"\"\"\"","v":"\" \",\"\",\"\",\"\""}]
[{"$f":"\"\"\" \"& 'BX Language acquisition'!A1540 & \"\"\",\"\"\" & 'BX Language acquisition'!C1540 & \"\"\",\"\"\" & 'BX Language acquisition'!B1540 & \"\"\",\"\"\" & 'BX Language acquisition'!D1540 & \"\"\"\"","v":"\" \",\"\",\"\",\"\""}]
[{"$f":"\"\"\" \"& 'BX Language acquisition'!A1541 & \"\"\",\"\"\" & 'BX Language acquisition'!C1541 & \"\"\",\"\"\" & 'BX Language acquisition'!B1541 & \"\"\",\"\"\" & 'BX Language acquisition'!D1541 & \"\"\"\"","v":"\" \",\"\",\"\",\"\""}]
[{"$f":"\"\"\" \"& 'BX Language acquisition'!A1542 & \"\"\",\"\"\" & 'BX Language acquisition'!C1542 & \"\"\",\"\"\" & 'BX Language acquisition'!B1542 & \"\"\",\"\"\" & 'BX Language acquisition'!D1542 & \"\"\"\"","v":"\" \",\"\",\"\",\"\""}]
[{"$f":"\"\"\" \"& 'BX Language acquisition'!A1543 & \"\"\",\"\"\" & 'BX Language acquisition'!C1543 & \"\"\",\"\"\" & 'BX Language acquisition'!B1543 & \"\"\",\"\"\" & 'BX Language acquisition'!D1543 & \"\"\"\"","v":"\" \",\"\",\"\",\"\""}]
[{"$f":"\"\"\" \"& 'BX Language acquisition'!A1544 & \"\"\",\"\"\" & 'BX Language acquisition'!C1544 & \"\"\",\"\"\" & 'BX Language acquisition'!B1544 & \"\"\",\"\"\" & 'BX Language acquisition'!D1544 & \"\"\"\"","v":"\" \",\"\",\"\",\"\""}]
[{"$f":"\"\"\" \"& 'BX Language acquisition'!A1545 & \"\"\",\"\"\" & 'BX Language acquisition'!C1545 & \"\"\",\"\"\" & 'BX Language acquisition'!B1545 & \"\"\",\"\"\" & 'BX Language acquisition'!D1545 & \"\"\"\"","v":"\" \",\"\",\"\",\"\""}]
[{"$f":"\"\"\" \"& 'BX Language acquisition'!A1546 & \"\"\",\"\"\" & 'BX Language acquisition'!C1546 & \"\"\",\"\"\" & 'BX Language acquisition'!B1546 & \"\"\",\"\"\" & 'BX Language acquisition'!D1546 & \"\"\"\"","v":"\" \",\"\",\"\",\"\""}]
[{"$f":"\"\"\" \"& 'BX Language acquisition'!A1547 & \"\"\",\"\"\" & 'BX Language acquisition'!C1547 & \"\"\",\"\"\" & 'BX Language acquisition'!B1547 & \"\"\",\"\"\" & 'BX Language acquisition'!D1547 & \"\"\"\"","v":"\" \",\"\",\"\",\"\""}]
[{"$f":"\"\"\" \"& 'BX Language acquisition'!A1548 & \"\"\",\"\"\" & 'BX Language acquisition'!C1548 & \"\"\",\"\"\" & 'BX Language acquisition'!B1548 & \"\"\",\"\"\" & 'BX Language acquisition'!D1548 & \"\"\"\"","v":"\" \",\"\",\"\",\"\""}]
[{"$f":"\"\"\" \"& 'BX Language acquisition'!A1549 & \"\"\",\"\"\" & 'BX Language acquisition'!C1549 & \"\"\",\"\"\" & 'BX Language acquisition'!B1549 & \"\"\",\"\"\" & 'BX Language acquisition'!D1549 & \"\"\"\"","v":"\" \",\"\",\"\",\"\""}]
[{"$f":"\"\"\" \"& 'BX Language acquisition'!A1550 & \"\"\",\"\"\" & 'BX Language acquisition'!C1550 & \"\"\",\"\"\" & 'BX Language acquisition'!B1550 & \"\"\",\"\"\" & 'BX Language acquisition'!D1550 & \"\"\"\"","v":"\" \",\"\",\"\",\"\""}]
[{"$f":"\"\"\" \"& 'BX Language acquisition'!A1551 & \"\"\",\"\"\" & 'BX Language acquisition'!C1551 & \"\"\",\"\"\" & 'BX Language acquisition'!B1551 & \"\"\",\"\"\" & 'BX Language acquisition'!D1551 & \"\"\"\"","v":"\" \",\"\",\"\",\"\""}]
[{"$f":"\"\"\" \"& 'BX Language acquisition'!A1552 & \"\"\",\"\"\" & 'BX Language acquisition'!C1552 & \"\"\",\"\"\" & 'BX Language acquisition'!B1552 & \"\"\",\"\"\" & 'BX Language acquisition'!D1552 & \"\"\"\"","v":"\" \",\"\",\"\",\"\""}]
[{"$f":"\"\"\" \"& 'BX Language acquisition'!A1553 & \"\"\",\"\"\" & 'BX Language acquisition'!C1553 & \"\"\",\"\"\" & 'BX Language acquisition'!B1553 & \"\"\",\"\"\" & 'BX Language acquisition'!D1553 & \"\"\"\"","v":"\" \",\"\",\"\",\"\""}]
[{"$f":"\"\"\" \"& 'BX Language acquisition'!A1554 & \"\"\",\"\"\" & 'BX Language acquisition'!C1554 & \"\"\",\"\"\" & 'BX Language acquisition'!B1554 & \"\"\",\"\"\" & 'BX Language acquisition'!D1554 & \"\"\"\"","v":"\" \",\"\",\"\",\"\""}]
[{"$f":"\"\"\" \"& 'BX Language acquisition'!A1555 & \"\"\",\"\"\" & 'BX Language acquisition'!C1555 & \"\"\",\"\"\" & 'BX Language acquisition'!B1555 & \"\"\",\"\"\" & 'BX Language acquisition'!D1555 & \"\"\"\"","v":"\" \",\"\",\"\",\"\""}]
[{"$f":"\"\"\" \"& 'BX Language acquisition'!A1556 & \"\"\",\"\"\" & 'BX Language acquisition'!C1556 & \"\"\",\"\"\" & 'BX Language acquisition'!B1556 & \"\"\",\"\"\" & 'BX Language acquisition'!D1556 & \"\"\"\"","v":"\" \",\"\",\"\",\"\""}]
[{"$f":"\"\"\" \"& 'BX Language acquisition'!A1557 & \"\"\",\"\"\" & 'BX Language acquisition'!C1557 & \"\"\",\"\"\" & 'BX Language acquisition'!B1557 & \"\"\",\"\"\" & 'BX Language acquisition'!D1557 & \"\"\"\"","v":"\" \",\"\",\"\",\"\""}]
[{"$f":"\"\"\" \"& 'BX Language acquisition'!A1558 & \"\"\",\"\"\" & 'BX Language acquisition'!C1558 & \"\"\",\"\"\" & 'BX Language acquisition'!B1558 & \"\"\",\"\"\" & 'BX Language acquisition'!D1558 & \"\"\"\"","v":"\" \",\"\",\"\",\"\""}]
[{"$f":"\"\"\" \"& 'BX Language acquisition'!A1559 & \"\"\",\"\"\" & 'BX Language acquisition'!C1559 & \"\"\",\"\"\" & 'BX Language acquisition'!B1559 & \"\"\",\"\"\" & 'BX Language acquisition'!D1559 & \"\"\"\"","v":"\" \",\"\",\"\",\"\""}]
[{"$f":"\"\"\" \"& 'BX Language acquisition'!A1560 & \"\"\",\"\"\" & 'BX Language acquisition'!C1560 & \"\"\",\"\"\" & 'BX Language acquisition'!B1560 & \"\"\",\"\"\" & 'BX Language acquisition'!D1560 & \"\"\"\"","v":"\" \",\"\",\"\",\"\""}]
[{"$f":"\"\"\" \"& 'BX Language acquisition'!A1561 & \"\"\",\"\"\" & 'BX Language acquisition'!C1561 & \"\"\",\"\"\" & 'BX Language acquisition'!B1561 & \"\"\",\"\"\" & 'BX Language acquisition'!D1561 & \"\"\"\"","v":"\" \",\"\",\"\",\"\""}]
[{"$f":"\"\"\" \"& 'BX Language acquisition'!A1562 & \"\"\",\"\"\" & 'BX Language acquisition'!C1562 & \"\"\",\"\"\" & 'BX Language acquisition'!B1562 & \"\"\",\"\"\" & 'BX Language acquisition'!D1562 & \"\"\"\"","v":"\" \",\"\",\"\",\"\""}]
[{"$f":"\"\"\" \"& 'BX Language acquisition'!A1563 & \"\"\",\"\"\" & 'BX Language acquisition'!C1563 & \"\"\",\"\"\" & 'BX Language acquisition'!B1563 & \"\"\",\"\"\" & 'BX Language acquisition'!D1563 & \"\"\"\"","v":"\" \",\"\",\"\",\"\""}]
[{"$f":"\"\"\" \"& 'BX Language acquisition'!A1564 & \"\"\",\"\"\" & 'BX Language acquisition'!C1564 & \"\"\",\"\"\" & 'BX Language acquisition'!B1564 & \"\"\",\"\"\" & 'BX Language acquisition'!D1564 & \"\"\"\"","v":"\" \",\"\",\"\",\"\""}]
[{"$f":"\"\"\" \"& 'BX Language acquisition'!A1565 & \"\"\",\"\"\" & 'BX Language acquisition'!C1565 & \"\"\",\"\"\" & 'BX Language acquisition'!B1565 & \"\"\",\"\"\" & 'BX Language acquisition'!D1565 & \"\"\"\"","v":"\" \",\"\",\"\",\"\""}]
[{"$f":"\"\"\" \"& 'BX Language acquisition'!A1566 & \"\"\",\"\"\" & 'BX Language acquisition'!C1566 & \"\"\",\"\"\" & 'BX Language acquisition'!B1566 & \"\"\",\"\"\" & 'BX Language acquisition'!D1566 & \"\"\"\"","v":"\" \",\"\",\"\",\"\""}]
[{"$f":"\"\"\" \"& 'BX Language acquisition'!A1567 & \"\"\",\"\"\" & 'BX Language acquisition'!C1567 & \"\"\",\"\"\" & 'BX Language acquisition'!B1567 & \"\"\",\"\"\" & 'BX Language acquisition'!D1567 & \"\"\"\"","v":"\" \",\"\",\"\",\"\""}]
[{"$f":"\"\"\" \"& 'BX Language acquisition'!A1568 & \"\"\",\"\"\" & 'BX Language acquisition'!C1568 & \"\"\",\"\"\" & 'BX Language acquisition'!B1568 & \"\"\",\"\"\" & 'BX Language acquisition'!D1568 & \"\"\"\"","v":"\" \",\"\",\"\",\"\""}]
[{"$f":"\"\"\" \"& 'BX Language acquisition'!A1569 & \"\"\",\"\"\" & 'BX Language acquisition'!C1569 & \"\"\",\"\"\" & 'BX Language acquisition'!B1569 & \"\"\",\"\"\" & 'BX Language acquisition'!D1569 & \"\"\"\"","v":"\" \",\"\",\"\",\"\""}]
[{"$f":"\"\"\" \"& 'BX Language acquisition'!A1570 & \"\"\",\"\"\" & 'BX Language acquisition'!C1570 & \"\"\",\"\"\" & 'BX Language acquisition'!B1570 & \"\"\",\"\"\" & 'BX Language acquisition'!D1570 & \"\"\"\"","v":"\" \",\"\",\"\",\"\""}]
[{"$f":"\"\"\" \"& 'BX Language acquisition'!A1571 & \"\"\",\"\"\" & 'BX Language acquisition'!C1571 & \"\"\",\"\"\" & 'BX Language acquisition'!B1571 & \"\"\",\"\"\" & 'BX Language acquisition'!D1571 & \"\"\"\"","v":"\" \",\"\",\"\",\"\""}]
[{"$f":"\"\"\" \"& 'BX Language acquisition'!A1572 & \"\"\",\"\"\" & 'BX Language acquisition'!C1572 & \"\"\",\"\"\" & 'BX Language acquisition'!B1572 & \"\"\",\"\"\" & 'BX Language acquisition'!D1572 & \"\"\"\"","v":"\" \",\"\",\"\",\"\""}]
[{"$f":"\"\"\" \"& 'BX Language acquisition'!A1573 & \"\"\",\"\"\" & 'BX Language acquisition'!C1573 & \"\"\",\"\"\" & 'BX Language acquisition'!B1573 & \"\"\",\"\"\" & 'BX Language acquisition'!D1573 & \"\"\"\"","v":"\" \",\"\",\"\",\"\""}]
[{"$f":"\"\"\" \"& 'BX Language acquisition'!A1574 & \"\"\",\"\"\" & 'BX Language acquisition'!C1574 & \"\"\",\"\"\" & 'BX Language acquisition'!B1574 & \"\"\",\"\"\" & 'BX Language acquisition'!D1574 & \"\"\"\"","v":"\" \",\"\",\"\",\"\""}]
[{"$f":"\"\"\" \"& 'BX Language acquisition'!A1575 & \"\"\",\"\"\" & 'BX Language acquisition'!C1575 & \"\"\",\"\"\" & 'BX Language acquisition'!B1575 & \"\"\",\"\"\" & 'BX Language acquisition'!D1575 & \"\"\"\"","v":"\" \",\"\",\"\",\"\""}]
[{"$f":"\"\"\" \"& 'BX Language acquisition'!A1576 & \"\"\",\"\"\" & 'BX Language acquisition'!C1576 & \"\"\",\"\"\" & 'BX Language acquisition'!B1576 & \"\"\",\"\"\" & 'BX Language acquisition'!D1576 & \"\"\"\"","v":"\" \",\"\",\"\",\"\""}]
[{"$f":"\"\"\" \"& 'BX Language acquisition'!A1577 & \"\"\",\"\"\" & 'BX Language acquisition'!C1577 & \"\"\",\"\"\" & 'BX Language acquisition'!B1577 & \"\"\",\"\"\" & 'BX Language acquisition'!D1577 & \"\"\"\"","v":"\" \",\"\",\"\",\"\""}]
[{"$f":"\"\"\" \"& 'BX Language acquisition'!A1578 & \"\"\",\"\"\" & 'BX Language acquisition'!C1578 & \"\"\",\"\"\" & 'BX Language acquisition'!B1578 & \"\"\",\"\"\" & 'BX Language acquisition'!D1578 & \"\"\"\"","v":"\" \",\"\",\"\",\"\""}]
[{"$f":"\"\"\" \"& 'BX Language acquisition'!A1579 & \"\"\",\"\"\" & 'BX Language acquisition'!C1579 & \"\"\",\"\"\" & 'BX Language acquisition'!B1579 & \"\"\",\"\"\" & 'BX Language acquisition'!D1579 & \"\"\"\"","v":"\" \",\"\",\"\",\"\""}]
[{"$f":"\"\"\" \"& 'BX Language acquisition'!A1580 & \"\"\",\"\"\" & 'BX Language acquisition'!C1580 & \"\"\",\"\"\" & 'BX Language acquisition'!B1580 & \"\"\",\"\"\" & 'BX Language acquisition'!D1580 & \"\"\"\"","v":"\" \",\"\",\"\",\"\""}]
[{"$f":"\"\"\" \"& 'BX Language acquisition'!A1581 & \"\"\",\"\"\" & 'BX Language acquisition'!C1581 & \"\"\",\"\"\" & 'BX Language acquisition'!B1581 & \"\"\",\"\"\" & 'BX Language acquisition'!D1581 & \"\"\"\"","v":"\" \",\"\",\"\",\"\""}]
[{"$f":"\"\"\" \"& 'BX Language acquisition'!A1582 & \"\"\",\"\"\" & 'BX Language acquisition'!C1582 & \"\"\",\"\"\" & 'BX Language acquisition'!B1582 & \"\"\",\"\"\" & 'BX Language acquisition'!D1582 & \"\"\"\"","v":"\" \",\"\",\"\",\"\""}]
[{"$f":"\"\"\" \"& 'BX Language acquisition'!A1583 & \"\"\",\"\"\" & 'BX Language acquisition'!C1583 & \"\"\",\"\"\" & 'BX Language acquisition'!B1583 & \"\"\",\"\"\" & 'BX Language acquisition'!D1583 & \"\"\"\"","v":"\" \",\"\",\"\",\"\""}]
[{"$f":"\"\"\" \"& 'BX Language acquisition'!A1584 & \"\"\",\"\"\" & 'BX Language acquisition'!C1584 & \"\"\",\"\"\" & 'BX Language acquisition'!B1584 & \"\"\",\"\"\" & 'BX Language acquisition'!D1584 & \"\"\"\"","v":"\" \",\"\",\"\",\"\""}]
[{"$f":"\"\"\" \"& 'BX Language acquisition'!A1585 & \"\"\",\"\"\" & 'BX Language acquisition'!C1585 & \"\"\",\"\"\" & 'BX Language acquisition'!B1585 & \"\"\",\"\"\" & 'BX Language acquisition'!D1585 & \"\"\"\"","v":"\" \",\"\",\"\",\"\""}]
[{"$f":"\"\"\" \"& 'BX Language acquisition'!A1586 & \"\"\",\"\"\" & 'BX Language acquisition'!C1586 & \"\"\",\"\"\" & 'BX Language acquisition'!B1586 & \"\"\",\"\"\" & 'BX Language acquisition'!D1586 & \"\"\"\"","v":"\" \",\"\",\"\",\"\""}]
[{"$f":"\"\"\" \"& 'BX Language acquisition'!A1587 & \"\"\",\"\"\" & 'BX Language acquisition'!C1587 & \"\"\",\"\"\" & 'BX Language acquisition'!B1587 & \"\"\",\"\"\" & 'BX Language acquisition'!D1587 & \"\"\"\"","v":"\" \",\"\",\"\",\"\""}]
[{"$f":"\"\"\" \"& 'BX Language acquisition'!A1588 & \"\"\",\"\"\" & 'BX Language acquisition'!C1588 & \"\"\",\"\"\" & 'BX Language acquisition'!B1588 & \"\"\",\"\"\" & 'BX Language acquisition'!D1588 & \"\"\"\"","v":"\" \",\"\",\"\",\"\""}]
[{"$f":"\"\"\" \"& 'BX Language acquisition'!A1589 & \"\"\",\"\"\" & 'BX Language acquisition'!C1589 & \"\"\",\"\"\" & 'BX Language acquisition'!B1589 & \"\"\",\"\"\" & 'BX Language acquisition'!D1589 & \"\"\"\"","v":"\" \",\"\",\"\",\"\""}]
[{"$f":"\"\"\" \"& 'BX Language acquisition'!A1590 & \"\"\",\"\"\" & 'BX Language acquisition'!C1590 & \"\"\",\"\"\" & 'BX Language acquisition'!B1590 & \"\"\",\"\"\" & 'BX Language acquisition'!D1590 & \"\"\"\"","v":"\" \",\"\",\"\",\"\""}]
[{"$f":"\"\"\" \"& 'BX Language acquisition'!A1591 & \"\"\",\"\"\" & 'BX Language acquisition'!C1591 & \"\"\",\"\"\" & 'BX Language acquisition'!B1591 & \"\"\",\"\"\" & 'BX Language acquisition'!D1591 & \"\"\"\"","v":"\" \",\"\",\"\",\"\""}]
[{"$f":"\"\"\" \"& 'BX Language acquisition'!A1592 & \"\"\",\"\"\" & 'BX Language acquisition'!C1592 & \"\"\",\"\"\" & 'BX Language acquisition'!B1592 & \"\"\",\"\"\" & 'BX Language acquisition'!D1592 & \"\"\"\"","v":"\" \",\"\",\"\",\"\""}]
[{"$f":"\"\"\" \"& 'BX Language acquisition'!A1593 & \"\"\",\"\"\" & 'BX Language acquisition'!C1593 & \"\"\",\"\"\" & 'BX Language acquisition'!B1593 & \"\"\",\"\"\" & 'BX Language acquisition'!D1593 & \"\"\"\"","v":"\" \",\"\",\"\",\"\""}]
[{"$f":"\"\"\" \"& 'BX Language acquisition'!A1594 & \"\"\",\"\"\" & 'BX Language acquisition'!C1594 & \"\"\",\"\"\" & 'BX Language acquisition'!B1594 & \"\"\",\"\"\" & 'BX Language acquisition'!D1594 & \"\"\"\"","v":"\" \",\"\",\"\",\"\""}]
[{"$f":"\"\"\" \"& 'BX Language acquisition'!A1595 & \"\"\",\"\"\" & 'BX Language acquisition'!C1595 & \"\"\",\"\"\" & 'BX Language acquisition'!B1595 & \"\"\",\"\"\" & 'BX Language acquisition'!D1595 & \"\"\"\"","v":"\" \",\"\",\"\",\"\""}]
[{"$f":"\"\"\" \"& 'BX Language acquisition'!A1596 & \"\"\",\"\"\" & 'BX Language acquisition'!C1596 & \"\"\",\"\"\" & 'BX Language acquisition'!B1596 & \"\"\",\"\"\" & 'BX Language acquisition'!D1596 & \"\"\"\"","v":"\" \",\"\",\"\",\"\""}]
[{"$f":"\"\"\" \"& 'BX Language acquisition'!A1597 & \"\"\",\"\"\" & 'BX Language acquisition'!C1597 & \"\"\",\"\"\" & 'BX Language acquisition'!B1597 & \"\"\",\"\"\" & 'BX Language acquisition'!D1597 & \"\"\"\"","v":"\" \",\"\",\"\",\"\""}]
[{"$f":"\"\"\" \"& 'BX Language acquisition'!A1598 & \"\"\",\"\"\" & 'BX Language acquisition'!C1598 & \"\"\",\"\"\" & 'BX Language acquisition'!B1598 & \"\"\",\"\"\" & 'BX Language acquisition'!D1598 & \"\"\"\"","v":"\" \",\"\",\"\",\"\""}]
[{"$f":"\"\"\" \"& 'BX Language acquisition'!A1599 & \"\"\",\"\"\" & 'BX Language acquisition'!C1599 & \"\"\",\"\"\" & 'BX Language acquisition'!B1599 & \"\"\",\"\"\" & 'BX Language acquisition'!D1599 & \"\"\"\"","v":"\" \",\"\",\"\",\"\""}]
[{"$f":"\"\"\" \"& 'BX Language acquisition'!A1600 & \"\"\",\"\"\" & 'BX Language acquisition'!C1600 & \"\"\",\"\"\" & 'BX Language acquisition'!B1600 & \"\"\",\"\"\" & 'BX Language acquisition'!D1600 & \"\"\"\"","v":"\" \",\"\",\"\",\"\""}]
[{"$f":"\"\"\" \"& 'BX Language acquisition'!A1601 & \"\"\",\"\"\" & 'BX Language acquisition'!C1601 & \"\"\",\"\"\" & 'BX Language acquisition'!B1601 & \"\"\",\"\"\" & 'BX Language acquisition'!D1601 & \"\"\"\"","v":"\" \",\"\",\"\",\"\""}]
[{"$f":"\"\"\" \"& 'BX Language acquisition'!A1602 & \"\"\",\"\"\" & 'BX Language acquisition'!C1602 & \"\"\",\"\"\" & 'BX Language acquisition'!B1602 & \"\"\",\"\"\" & 'BX Language acquisition'!D1602 & \"\"\"\"","v":"\" \",\"\",\"\",\"\""}]
[{"$f":"\"\"\" \"& 'BX Language acquisition'!A1603 & \"\"\",\"\"\" & 'BX Language acquisition'!C1603 & \"\"\",\"\"\" & 'BX Language acquisition'!B1603 & \"\"\",\"\"\" & 'BX Language acquisition'!D1603 & \"\"\"\"","v":"\" \",\"\",\"\",\"\""}]
[{"$f":"\"\"\" \"& 'BX Language acquisition'!A1604 & \"\"\",\"\"\" & 'BX Language acquisition'!C1604 & \"\"\",\"\"\" & 'BX Language acquisition'!B1604 & \"\"\",\"\"\" & 'BX Language acquisition'!D1604 & \"\"\"\"","v":"\" \",\"\",\"\",\"\""}]
[{"$f":"\"\"\" \"& 'BX Language acquisition'!A1605 & \"\"\",\"\"\" & 'BX Language acquisition'!C1605 & \"\"\",\"\"\" & 'BX Language acquisition'!B1605 & \"\"\",\"\"\" & 'BX Language acquisition'!D1605 & \"\"\"\"","v":"\" \",\"\",\"\",\"\""}]
[{"$f":"\"\"\" \"& 'BX Language acquisition'!A1606 & \"\"\",\"\"\" & 'BX Language acquisition'!C1606 & \"\"\",\"\"\" & 'BX Language acquisition'!B1606 & \"\"\",\"\"\" & 'BX Language acquisition'!D1606 & \"\"\"\"","v":"\" \",\"\",\"\",\"\""}]
[{"$f":"\"\"\" \"& 'BX Language acquisition'!A1607 & \"\"\",\"\"\" & 'BX Language acquisition'!C1607 & \"\"\",\"\"\" & 'BX Language acquisition'!B1607 & \"\"\",\"\"\" & 'BX Language acquisition'!D1607 & \"\"\"\"","v":"\" \",\"\",\"\",\"\""}]
[{"$f":"\"\"\" \"& 'BX Language acquisition'!A1608 & \"\"\",\"\"\" & 'BX Language acquisition'!C1608 & \"\"\",\"\"\" & 'BX Language acquisition'!B1608 & \"\"\",\"\"\" & 'BX Language acquisition'!D1608 & \"\"\"\"","v":"\" \",\"\",\"\",\"\""}]
[{"$f":"\"\"\" \"& 'BX Language acquisition'!A1609 & \"\"\",\"\"\" & 'BX Language acquisition'!C1609 & \"\"\",\"\"\" & 'BX Language acquisition'!B1609 & \"\"\",\"\"\" & 'BX Language acquisition'!D1609 & \"\"\"\"","v":"\" \",\"\",\"\",\"\""}]
[{"$f":"\"\"\" \"& 'BX Language acquisition'!A1610 & \"\"\",\"\"\" & 'BX Language acquisition'!C1610 & \"\"\",\"\"\" & 'BX Language acquisition'!B1610 & \"\"\",\"\"\" & 'BX Language acquisition'!D1610 & \"\"\"\"","v":"\" \",\"\",\"\",\"\""}]
[{"$f":"\"\"\" \"& 'BX Language acquisition'!A1611 & \"\"\",\"\"\" & 'BX Language acquisition'!C1611 & \"\"\",\"\"\" & 'BX Language acquisition'!B1611 & \"\"\",\"\"\" & 'BX Language acquisition'!D1611 & \"\"\"\"","v":"\" \",\"\",\"\",\"\""}]
[{"$f":"\"\"\" \"& 'BX Language acquisition'!A1612 & \"\"\",\"\"\" & 'BX Language acquisition'!C1612 & \"\"\",\"\"\" & 'BX Language acquisition'!B1612 & \"\"\",\"\"\" & 'BX Language acquisition'!D1612 & \"\"\"\"","v":"\" \",\"\",\"\",\"\""}]
[{"$f":"\"\"\" \"& 'BX Language acquisition'!A1613 & \"\"\",\"\"\" & 'BX Language acquisition'!C1613 & \"\"\",\"\"\" & 'BX Language acquisition'!B1613 & \"\"\",\"\"\" & 'BX Language acquisition'!D1613 & \"\"\"\"","v":"\" \",\"\",\"\",\"\""}]
[{"$f":"\"\"\" \"& 'BX Language acquisition'!A1614 & \"\"\",\"\"\" & 'BX Language acquisition'!C1614 & \"\"\",\"\"\" & 'BX Language acquisition'!B1614 & \"\"\",\"\"\" & 'BX Language acquisition'!D1614 & \"\"\"\"","v":"\" \",\"\",\"\",\"\""}]
[{"$f":"\"\"\" \"& 'BX Language acquisition'!A1615 & \"\"\",\"\"\" & 'BX Language acquisition'!C1615 & \"\"\",\"\"\" & 'BX Language acquisition'!B1615 & \"\"\",\"\"\" & 'BX Language acquisition'!D1615 & \"\"\"\"","v":"\" \",\"\",\"\",\"\""}]
[{"$f":"\"\"\" \"& 'BX Language acquisition'!A1616 & \"\"\",\"\"\" & 'BX Language acquisition'!C1616 & \"\"\",\"\"\" & 'BX Language acquisition'!B1616 & \"\"\",\"\"\" & 'BX Language acquisition'!D1616 & \"\"\"\"","v":"\" \",\"\",\"\",\"\""}]
[{"$f":"\"\"\" \"& 'BX Language acquisition'!A1617 & \"\"\",\"\"\" & 'BX Language acquisition'!C1617 & \"\"\",\"\"\" & 'BX Language acquisition'!B1617 & \"\"\",\"\"\" & 'BX Language acquisition'!D1617 & \"\"\"\"","v":"\" \",\"\",\"\",\"\""}]
[{"$f":"\"\"\" \"& 'BX Language acquisition'!A1618 & \"\"\",\"\"\" & 'BX Language acquisition'!C1618 & \"\"\",\"\"\" & 'BX Language acquisition'!B1618 & \"\"\",\"\"\" & 'BX Language acquisition'!D1618 & \"\"\"\"","v":"\" \",\"\",\"\",\"\""}]
[{"$f":"\"\"\" \"& 'BX Language acquisition'!A1619 & \"\"\",\"\"\" & 'BX Language acquisition'!C1619 & \"\"\",\"\"\" & 'BX Language acquisition'!B1619 & \"\"\",\"\"\" & 'BX Language acquisition'!D1619 & \"\"\"\"","v":"\" \",\"\",\"\",\"\""}]
[{"$f":"\"\"\" \"& 'BX Language acquisition'!A1620 & \"\"\",\"\"\" & 'BX Language acquisition'!C1620 & \"\"\",\"\"\" & 'BX Language acquisition'!B1620 & \"\"\",\"\"\" & 'BX Language acquisition'!D1620 & \"\"\"\"","v":"\" \",\"\",\"\",\"\""}]
[{"$f":"\"\"\" \"& 'BX Language acquisition'!A1621 & \"\"\",\"\"\" & 'BX Language acquisition'!C1621 & \"\"\",\"\"\" & 'BX Language acquisition'!B1621 & \"\"\",\"\"\" & 'BX Language acquisition'!D1621 & \"\"\"\"","v":"\" \",\"\",\"\",\"\""}]
[{"$f":"\"\"\" \"& 'BX Language acquisition'!A1622 & \"\"\",\"\"\" & 'BX Language acquisition'!C1622 & \"\"\",\"\"\" & 'BX Language acquisition'!B1622 & \"\"\",\"\"\" & 'BX Language acquisition'!D1622 & \"\"\"\"","v":"\" \",\"\",\"\",\"\""}]
[{"$f":"\"\"\" \"& 'BX Language acquisition'!A1623 & \"\"\",\"\"\" & 'BX Language acquisition'!C1623 & \"\"\",\"\"\" & 'BX Language acquisition'!B1623 & \"\"\",\"\"\" & 'BX Language acquisition'!D1623 & \"\"\"\"","v":"\" \",\"\",\"\",\"\""}]
[{"$f":"\"\"\" \"& 'BX Language acquisition'!A1624 & \"\"\",\"\"\" & 'BX Language acquisition'!C1624 & \"\"\",\"\"\" & 'BX Language acquisition'!B1624 & \"\"\",\"\"\" & 'BX Language acquisition'!D1624 & \"\"\"\"","v":"\" \",\"\",\"\",\"\""}]
[{"$f":"\"\"\" \"& 'BX Language acquisition'!A1625 & \"\"\",\"\"\" & 'BX Language acquisition'!C1625 & \"\"\",\"\"\" & 'BX Language acquisition'!B1625 & \"\"\",\"\"\" & 'BX Language acquisition'!D1625 & \"\"\"\"","v":"\" \",\"\",\"\",\"\""}]
[{"$f":"\"\"\" \"& 'BX Language acquisition'!A1626 & \"\"\",\"\"\" & 'BX Language acquisition'!C1626 & \"\"\",\"\"\" & 'BX Language acquisition'!B1626 & \"\"\",\"\"\" & 'BX Language acquisition'!D1626 & \"\"\"\"","v":"\" \",\"\",\"\",\"\""}]
[{"$f":"\"\"\" \"& 'BX Language acquisition'!A1627 & \"\"\",\"\"\" & 'BX Language acquisition'!C1627 & \"\"\",\"\"\" & 'BX Language acquisition'!B1627 & \"\"\",\"\"\" & 'BX Language acquisition'!D1627 & \"\"\"\"","v":"\" \",\"\",\"\",\"\""}]
[{"$f":"\"\"\" \"& 'BX Language acquisition'!A1628 & \"\"\",\"\"\" & 'BX Language acquisition'!C1628 & \"\"\",\"\"\" & 'BX Language acquisition'!B1628 & \"\"\",\"\"\" & 'BX Language acquisition'!D1628 & \"\"\"\"","v":"\" \",\"\",\"\",\"\""}]
[{"$f":"\"\"\" \"& 'BX Language acquisition'!A1629 & \"\"\",\"\"\" & 'BX Language acquisition'!C1629 & \"\"\",\"\"\" & 'BX Language acquisition'!B1629 & \"\"\",\"\"\" & 'BX Language acquisition'!D1629 & \"\"\"\"","v":"\" \",\"\",\"\",\"\""}]
[{"$f":"\"\"\" \"& 'BX Language acquisition'!A1630 & \"\"\",\"\"\" & 'BX Language acquisition'!C1630 & \"\"\",\"\"\" & 'BX Language acquisition'!B1630 & \"\"\",\"\"\" & 'BX Language acquisition'!D1630 & \"\"\"\"","v":"\" \",\"\",\"\",\"\""}]
[{"$f":"\"\"\" \"& 'BX Language acquisition'!A1631 & \"\"\",\"\"\" & 'BX Language acquisition'!C1631 & \"\"\",\"\"\" & 'BX Language acquisition'!B1631 & \"\"\",\"\"\" & 'BX Language acquisition'!D1631 & \"\"\"\"","v":"\" \",\"\",\"\",\"\""}]
[{"$f":"\"\"\" \"& 'BX Language acquisition'!A1632 & \"\"\",\"\"\" & 'BX Language acquisition'!C1632 & \"\"\",\"\"\" & 'BX Language acquisition'!B1632 & \"\"\",\"\"\" & 'BX Language acquisition'!D1632 & \"\"\"\"","v":"\" \",\"\",\"\",\"\""}]
[{"$f":"\"\"\" \"& 'BX Language acquisition'!A1633 & \"\"\",\"\"\" & 'BX Language acquisition'!C1633 & \"\"\",\"\"\" & 'BX Language acquisition'!B1633 & \"\"\",\"\"\" & 'BX Language acquisition'!D1633 & \"\"\"\"","v":"\" \",\"\",\"\",\"\""}]
[{"$f":"\"\"\" \"& 'BX Language acquisition'!A1634 & \"\"\",\"\"\" & 'BX Language acquisition'!C1634 & \"\"\",\"\"\" & 'BX Language acquisition'!B1634 & \"\"\",\"\"\" & 'BX Language acquisition'!D1634 & \"\"\"\"","v":"\" \",\"\",\"\",\"\""}]
[{"$f":"\"\"\" \"& 'BX Language acquisition'!A1635 & \"\"\",\"\"\" & 'BX Language acquisition'!C1635 & \"\"\",\"\"\" & 'BX Language acquisition'!B1635 & \"\"\",\"\"\" & 'BX Language acquisition'!D1635 & \"\"\"\"","v":"\" \",\"\",\"\",\"\""}]
[{"$f":"\"\"\" \"& 'BX Language acquisition'!A1636 & \"\"\",\"\"\" & 'BX Language acquisition'!C1636 & \"\"\",\"\"\" & 'BX Language acquisition'!B1636 & \"\"\",\"\"\" & 'BX Language acquisition'!D1636 & \"\"\"\"","v":"\" \",\"\",\"\",\"\""}]
[{"$f":"\"\"\" \"& 'BX Language acquisition'!A1637 & \"\"\",\"\"\" & 'BX Language acquisition'!C1637 & \"\"\",\"\"\" & 'BX Language acquisition'!B1637 & \"\"\",\"\"\" & 'BX Language acquisition'!D1637 & \"\"\"\"","v":"\" \",\"\",\"\",\"\""}]
[{"$f":"\"\"\" \"& 'BX Language acquisition'!A1638 & \"\"\",\"\"\" & 'BX Language acquisition'!C1638 & \"\"\",\"\"\" & 'BX Language acquisition'!B1638 & \"\"\",\"\"\" & 'BX Language acquisition'!D1638 & \"\"\"\"","v":"\" \",\"\",\"\",\"\""}]
[{"$f":"\"\"\" \"& 'BX Language acquisition'!A1639 & \"\"\",\"\"\" & 'BX Language acquisition'!C1639 & \"\"\",\"\"\" & 'BX Language acquisition'!B1639 & \"\"\",\"\"\" & 'BX Language acquisition'!D1639 & \"\"\"\"","v":"\" \",\"\",\"\",\"\""}]
[{"$f":"\"\"\" \"& 'BX Language acquisition'!A1640 & \"\"\",\"\"\" & 'BX Language acquisition'!C1640 & \"\"\",\"\"\" & 'BX Language acquisition'!B1640 & \"\"\",\"\"\" & 'BX Language acquisition'!D1640 & \"\"\"\"","v":"\" \",\"\",\"\",\"\""}]
[{"$f":"\"\"\" \"& 'BX Language acquisition'!A1641 & \"\"\",\"\"\" & 'BX Language acquisition'!C1641 & \"\"\",\"\"\" & 'BX Language acquisition'!B1641 & \"\"\",\"\"\" & 'BX Language acquisition'!D1641 & \"\"\"\"","v":"\" \",\"\",\"\",\"\""}]
[{"$f":"\"\"\" \"& 'BX Language acquisition'!A1642 & \"\"\",\"\"\" & 'BX Language acquisition'!C1642 & \"\"\",\"\"\" & 'BX Language acquisition'!B1642 & \"\"\",\"\"\" & 'BX Language acquisition'!D1642 & \"\"\"\"","v":"\" \",\"\",\"\",\"\""}]
[{"$f":"\"\"\" \"& 'BX Language acquisition'!A1643 & \"\"\",\"\"\" & 'BX Language acquisition'!C1643 & \"\"\",\"\"\" & 'BX Language acquisition'!B1643 & \"\"\",\"\"\" & 'BX Language acquisition'!D1643 & \"\"\"\"","v":"\" \",\"\",\"\",\"\""}]
[{"$f":"\"\"\" \"& 'BX Language acquisition'!A1644 & \"\"\",\"\"\" & 'BX Language acquisition'!C1644 & \"\"\",\"\"\" & 'BX Language acquisition'!B1644 & \"\"\",\"\"\" & 'BX Language acquisition'!D1644 & \"\"\"\"","v":"\" \",\"\",\"\",\"\""}]
[{"$f":"\"\"\" \"& 'BX Language acquisition'!A1645 & \"\"\",\"\"\" & 'BX Language acquisition'!C1645 & \"\"\",\"\"\" & 'BX Language acquisition'!B1645 & \"\"\",\"\"\" & 'BX Language acquisition'!D1645 & \"\"\"\"","v":"\" \",\"\",\"\",\"\""}]
[{"$f":"\"\"\" \"& 'BX Language acquisition'!A1646 & \"\"\",\"\"\" & 'BX Language acquisition'!C1646 & \"\"\",\"\"\" & 'BX Language acquisition'!B1646 & \"\"\",\"\"\" & 'BX Language acquisition'!D1646 & \"\"\"\"","v":"\" \",\"\",\"\",\"\""}]
[{"$f":"\"\"\" \"& 'BX Language acquisition'!A1647 & \"\"\",\"\"\" & 'BX Language acquisition'!C1647 & \"\"\",\"\"\" & 'BX Language acquisition'!B1647 & \"\"\",\"\"\" & 'BX Language acquisition'!D1647 & \"\"\"\"","v":"\" \",\"\",\"\",\"\""}]
[{"$f":"\"\"\" \"& 'BX Language acquisition'!A1648 & \"\"\",\"\"\" & 'BX Language acquisition'!C1648 & \"\"\",\"\"\" & 'BX Language acquisition'!B1648 & \"\"\",\"\"\" & 'BX Language acquisition'!D1648 & \"\"\"\"","v":"\" \",\"\",\"\",\"\""}]
[{"$f":"\"\"\" \"& 'BX Language acquisition'!A1649 & \"\"\",\"\"\" & 'BX Language acquisition'!C1649 & \"\"\",\"\"\" & 'BX Language acquisition'!B1649 & \"\"\",\"\"\" & 'BX Language acquisition'!D1649 & \"\"\"\"","v":"\" \",\"\",\"\",\"\""}]
[{"$f":"\"\"\" \"& 'BX Language acquisition'!A1650 & \"\"\",\"\"\" & 'BX Language acquisition'!C1650 & \"\"\",\"\"\" & 'BX Language acquisition'!B1650 & \"\"\",\"\"\" & 'BX Language acquisition'!D1650 & \"\"\"\"","v":"\" \",\"\",\"\",\"\""}]
[{"$f":"\"\"\" \"& 'BX Language acquisition'!A1651 & \"\"\",\"\"\" & 'BX Language acquisition'!C1651 & \"\"\",\"\"\" & 'BX Language acquisition'!B1651 & \"\"\",\"\"\" & 'BX Language acquisition'!D1651 & \"\"\"\"","v":"\" \",\"\",\"\",\"\""}]
[{"$f":"\"\"\" \"& 'BX Language acquisition'!A1652 & \"\"\",\"\"\" & 'BX Language acquisition'!C1652 & \"\"\",\"\"\" & 'BX Language acquisition'!B1652 & \"\"\",\"\"\" & 'BX Language acquisition'!D1652 & \"\"\"\"","v":"\" \",\"\",\"\",\"\""}]
[{"$f":"\"\"\" \"& 'BX Language acquisition'!A1653 & \"\"\",\"\"\" & 'BX Language acquisition'!C1653 & \"\"\",\"\"\" & 'BX Language acquisition'!B1653 & \"\"\",\"\"\" & 'BX Language acquisition'!D1653 & \"\"\"\"","v":"\" \",\"\",\"\",\"\""}]
[{"$f":"\"\"\" \"& 'BX Language acquisition'!A1654 & \"\"\",\"\"\" & 'BX Language acquisition'!C1654 & \"\"\",\"\"\" & 'BX Language acquisition'!B1654 & \"\"\",\"\"\" & 'BX Language acquisition'!D1654 & \"\"\"\"","v":"\" \",\"\",\"\",\"\""}]
[{"$f":"\"\"\" \"& 'BX Language acquisition'!A1655 & \"\"\",\"\"\" & 'BX Language acquisition'!C1655 & \"\"\",\"\"\" & 'BX Language acquisition'!B1655 & \"\"\",\"\"\" & 'BX Language acquisition'!D1655 & \"\"\"\"","v":"\" \",\"\",\"\",\"\""}]
[{"$f":"\"\"\" \"& 'BX Language acquisition'!A1656 & \"\"\",\"\"\" & 'BX Language acquisition'!C1656 & \"\"\",\"\"\" & 'BX Language acquisition'!B1656 & \"\"\",\"\"\" & 'BX Language acquisition'!D1656 & \"\"\"\"","v":"\" \",\"\",\"\",\"\""}]
[{"$f":"\"\"\" \"& 'BX Language acquisition'!A1657 & \"\"\",\"\"\" & 'BX Language acquisition'!C1657 & \"\"\",\"\"\" & 'BX Language acquisition'!B1657 & \"\"\",\"\"\" & 'BX Language acquisition'!D1657 & \"\"\"\"","v":"\" \",\"\",\"\",\"\""}]
[{"$f":"\"\"\" \"& 'BX Language acquisition'!A1658 & \"\"\",\"\"\" & 'BX Language acquisition'!C1658 & \"\"\",\"\"\" & 'BX Language acquisition'!B1658 & \"\"\",\"\"\" & 'BX Language acquisition'!D1658 & \"\"\"\"","v":"\" \",\"\",\"\",\"\""}]
[{"$f":"\"\"\" \"& 'BX Language acquisition'!A1659 & \"\"\",\"\"\" & 'BX Language acquisition'!C1659 & \"\"\",\"\"\" & 'BX Language acquisition'!B1659 & \"\"\",\"\"\" & 'BX Language acquisition'!D1659 & \"\"\"\"","v":"\" \",\"\",\"\",\"\""}]
[{"$f":"\"\"\" \"& 'BX Language acquisition'!A1660 & \"\"\",\"\"\" & 'BX Language acquisition'!C1660 & \"\"\",\"\"\" & 'BX Language acquisition'!B1660 & \"\"\",\"\"\" & 'BX Language acquisition'!D1660 & \"\"\"\"","v":"\" \",\"\",\"\",\"\""}]
[{"$f":"\"\"\" \"& 'BX Language acquisition'!A1661 & \"\"\",\"\"\" & 'BX Language acquisition'!C1661 & \"\"\",\"\"\" & 'BX Language acquisition'!B1661 & \"\"\",\"\"\" & 'BX Language acquisition'!D1661 & \"\"\"\"","v":"\" \",\"\",\"\",\"\""}]
[{"$f":"\"\"\" \"& 'BX Language acquisition'!A1662 & \"\"\",\"\"\" & 'BX Language acquisition'!C1662 & \"\"\",\"\"\" & 'BX Language acquisition'!B1662 & \"\"\",\"\"\" & 'BX Language acquisition'!D1662 & \"\"\"\"","v":"\" \",\"\",\"\",\"\""}]
[{"$f":"\"\"\" \"& 'BX Language acquisition'!A1663 & \"\"\",\"\"\" & 'BX Language acquisition'!C1663 & \"\"\",\"\"\" & 'BX Language acquisition'!B1663 & \"\"\",\"\"\" & 'BX Language acquisition'!D1663 & \"\"\"\"","v":"\" \",\"\",\"\",\"\""}]
[{"$f":"\"\"\" \"& 'BX Language acquisition'!A1664 & \"\"\",\"\"\" & 'BX Language acquisition'!C1664 & \"\"\",\"\"\" & 'BX Language acquisition'!B1664 & \"\"\",\"\"\" & 'BX Language acquisition'!D1664 & \"\"\"\"","v":"\" \",\"\",\"\",\"\""}]
[{"$f":"\"\"\" \"& 'BX Language acquisition'!A1665 & \"\"\",\"\"\" & 'BX Language acquisition'!C1665 & \"\"\",\"\"\" & 'BX Language acquisition'!B1665 & \"\"\",\"\"\" & 'BX Language acquisition'!D1665 & \"\"\"\"","v":"\" \",\"\",\"\",\"\""}]
[{"$f":"\"\"\" \"& 'BX Language acquisition'!A1666 & \"\"\",\"\"\" & 'BX Language acquisition'!C1666 & \"\"\",\"\"\" & 'BX Language acquisition'!B1666 & \"\"\",\"\"\" & 'BX Language acquisition'!D1666 & \"\"\"\"","v":"\" \",\"\",\"\",\"\""}]
[{"$f":"\"\"\" \"& 'BX Language acquisition'!A1667 & \"\"\",\"\"\" & 'BX Language acquisition'!C1667 & \"\"\",\"\"\" & 'BX Language acquisition'!B1667 & \"\"\",\"\"\" & 'BX Language acquisition'!D1667 & \"\"\"\"","v":"\" \",\"\",\"\",\"\""}]
[{"$f":"\"\"\" \"& 'BX Language acquisition'!A1668 & \"\"\",\"\"\" & 'BX Language acquisition'!C1668 & \"\"\",\"\"\" & 'BX Language acquisition'!B1668 & \"\"\",\"\"\" & 'BX Language acquisition'!D1668 & \"\"\"\"","v":"\" \",\"\",\"\",\"\""}]
[{"$f":"\"\"\" \"& 'BX Language acquisition'!A1669 & \"\"\",\"\"\" & 'BX Language acquisition'!C1669 & \"\"\",\"\"\" & 'BX Language acquisition'!B1669 & \"\"\",\"\"\" & 'BX Language acquisition'!D1669 & \"\"\"\"","v":"\" \",\"\",\"\",\"\""}]
[{"$f":"\"\"\" \"& 'BX Language acquisition'!A1670 & \"\"\",\"\"\" & 'BX Language acquisition'!C1670 & \"\"\",\"\"\" & 'BX Language acquisition'!B1670 & \"\"\",\"\"\" & 'BX Language acquisition'!D1670 & \"\"\"\"","v":"\" \",\"\",\"\",\"\""}]
[{"$f":"\"\"\" \"& 'BX Language acquisition'!A1671 & \"\"\",\"\"\" & 'BX Language acquisition'!C1671 & \"\"\",\"\"\" & 'BX Language acquisition'!B1671 & \"\"\",\"\"\" & 'BX Language acquisition'!D1671 & \"\"\"\"","v":"\" \",\"\",\"\",\"\""}]
[{"$f":"\"\"\" \"& 'BX Language acquisition'!A1672 & \"\"\",\"\"\" & 'BX Language acquisition'!C1672 & \"\"\",\"\"\" & 'BX Language acquisition'!B1672 & \"\"\",\"\"\" & 'BX Language acquisition'!D1672 & \"\"\"\"","v":"\" \",\"\",\"\",\"\""}]
[{"$f":"\"\"\" \"& 'BX Language acquisition'!A1673 & \"\"\",\"\"\" & 'BX Language acquisition'!C1673 & \"\"\",\"\"\" & 'BX Language acquisition'!B1673 & \"\"\",\"\"\" & 'BX Language acquisition'!D1673 & \"\"\"\"","v":"\" \",\"\",\"\",\"\""}]
[{"$f":"\"\"\" \"& 'BX Language acquisition'!A1674 & \"\"\",\"\"\" & 'BX Language acquisition'!C1674 & \"\"\",\"\"\" & 'BX Language acquisition'!B1674 & \"\"\",\"\"\" & 'BX Language acquisition'!D1674 & \"\"\"\"","v":"\" \",\"\",\"\",\"\""}]
[{"$f":"\"\"\" \"& 'BX Language acquisition'!A1675 & \"\"\",\"\"\" & 'BX Language acquisition'!C1675 & \"\"\",\"\"\" & 'BX Language acquisition'!B1675 & \"\"\",\"\"\" & 'BX Language acquisition'!D1675 & \"\"\"\"","v":"\" \",\"\",\"\",\"\""}]
[{"$f":"\"\"\" \"& 'BX Language acquisition'!A1676 & \"\"\",\"\"\" & 'BX Language acquisition'!C1676 & \"\"\",\"\"\" & 'BX Language acquisition'!B1676 & \"\"\",\"\"\" & 'BX Language acquisition'!D1676 & \"\"\"\"","v":"\" \",\"\",\"\",\"\""}]
[{"$f":"\"\"\" \"& 'BX Language acquisition'!A1677 & \"\"\",\"\"\" & 'BX Language acquisition'!C1677 & \"\"\",\"\"\" & 'BX Language acquisition'!B1677 & \"\"\",\"\"\" & 'BX Language acquisition'!D1677 & \"\"\"\"","v":"\" \",\"\",\"\",\"\""}]
[{"$f":"\"\"\" \"& 'BX Language acquisition'!A1678 & \"\"\",\"\"\" & 'BX Language acquisition'!C1678 & \"\"\",\"\"\" & 'BX Language acquisition'!B1678 & \"\"\",\"\"\" & 'BX Language acquisition'!D1678 & \"\"\"\"","v":"\" \",\"\",\"\",\"\""}]
[{"$f":"\"\"\" \"& 'BX Language acquisition'!A1679 & \"\"\",\"\"\" & 'BX Language acquisition'!C1679 & \"\"\",\"\"\" & 'BX Language acquisition'!B1679 & \"\"\",\"\"\" & 'BX Language acquisition'!D1679 & \"\"\"\"","v":"\" \",\"\",\"\",\"\""}]
[{"$f":"\"\"\" \"& 'BX Language acquisition'!A1680 & \"\"\",\"\"\" & 'BX Language acquisition'!C1680 & \"\"\",\"\"\" & 'BX Language acquisition'!B1680 & \"\"\",\"\"\" & 'BX Language acquisition'!D1680 & \"\"\"\"","v":"\" \",\"\",\"\",\"\""}]
[{"$f":"\"\"\" \"& 'BX Language acquisition'!A1681 & \"\"\",\"\"\" & 'BX Language acquisition'!C1681 & \"\"\",\"\"\" & 'BX Language acquisition'!B1681 & \"\"\",\"\"\" & 'BX Language acquisition'!D1681 & \"\"\"\"","v":"\" \",\"\",\"\",\"\""}]
[{"$f":"\"\"\" \"& 'BX Language acquisition'!A1682 & \"\"\",\"\"\" & 'BX Language acquisition'!C1682 & \"\"\",\"\"\" & 'BX Language acquisition'!B1682 & \"\"\",\"\"\" & 'BX Language acquisition'!D1682 & \"\"\"\"","v":"\" \",\"\",\"\",\"\""}]
[{"$f":"\"\"\" \"& 'BX Language acquisition'!A1683 & \"\"\",\"\"\" & 'BX Language acquisition'!C1683 & \"\"\",\"\"\" & 'BX Language acquisition'!B1683 & \"\"\",\"\"\" & 'BX Language acquisition'!D1683 & \"\"\"\"","v":"\" \",\"\",\"\",\"\""}]
[{"$f":"\"\"\" \"& 'BX Language acquisition'!A1684 & \"\"\",\"\"\" & 'BX Language acquisition'!C1684 & \"\"\",\"\"\" & 'BX Language acquisition'!B1684 & \"\"\",\"\"\" & 'BX Language acquisition'!D1684 & \"\"\"\"","v":"\" \",\"\",\"\",\"\""}]
[{"$f":"\"\"\" \"& 'BX Language acquisition'!A1685 & \"\"\",\"\"\" & 'BX Language acquisition'!C1685 & \"\"\",\"\"\" & 'BX Language acquisition'!B1685 & \"\"\",\"\"\" & 'BX Language acquisition'!D1685 & \"\"\"\"","v":"\" \",\"\",\"\",\"\""}]
[{"$f":"\"\"\" \"& 'BX Language acquisition'!A1686 & \"\"\",\"\"\" & 'BX Language acquisition'!C1686 & \"\"\",\"\"\" & 'BX Language acquisition'!B1686 & \"\"\",\"\"\" & 'BX Language acquisition'!D1686 & \"\"\"\"","v":"\" \",\"\",\"\",\"\""}]
[{"$f":"\"\"\" \"& 'BX Language acquisition'!A1687 & \"\"\",\"\"\" & 'BX Language acquisition'!C1687 & \"\"\",\"\"\" & 'BX Language acquisition'!B1687 & \"\"\",\"\"\" & 'BX Language acquisition'!D1687 & \"\"\"\"","v":"\" \",\"\",\"\",\"\""}]
[{"$f":"\"\"\" \"& 'BX Language acquisition'!A1688 & \"\"\",\"\"\" & 'BX Language acquisition'!C1688 & \"\"\",\"\"\" & 'BX Language acquisition'!B1688 & \"\"\",\"\"\" & 'BX Language acquisition'!D1688 & \"\"\"\"","v":"\" \",\"\",\"\",\"\""}]
[{"$f":"\"\"\" \"& 'BX Language acquisition'!A1689 & \"\"\",\"\"\" & 'BX Language acquisition'!C1689 & \"\"\",\"\"\" & 'BX Language acquisition'!B1689 & \"\"\",\"\"\" & 'BX Language acquisition'!D1689 & \"\"\"\"","v":"\" \",\"\",\"\",\"\""}]
[{"$f":"\"\"\" \"& 'BX Language acquisition'!A1690 & \"\"\",\"\"\" & 'BX Language acquisition'!C1690 & \"\"\",\"\"\" & 'BX Language acquisition'!B1690 & \"\"\",\"\"\" & 'BX Language acquisition'!D1690 & \"\"\"\"","v":"\" \",\"\",\"\",\"\""}]
[{"$f":"\"\"\" \"& 'BX Language acquisition'!A1691 & \"\"\",\"\"\" & 'BX Language acquisition'!C1691 & \"\"\",\"\"\" & 'BX Language acquisition'!B1691 & \"\"\",\"\"\" & 'BX Language acquisition'!D1691 & \"\"\"\"","v":"\" \",\"\",\"\",\"\""}]
[{"$f":"\"\"\" \"& 'BX Language acquisition'!A1692 & \"\"\",\"\"\" & 'BX Language acquisition'!C1692 & \"\"\",\"\"\" & 'BX Language acquisition'!B1692 & \"\"\",\"\"\" & 'BX Language acquisition'!D1692 & \"\"\"\"","v":"\" \",\"\",\"\",\"\""}]
[{"$f":"\"\"\" \"& 'BX Language acquisition'!A1693 & \"\"\",\"\"\" & 'BX Language acquisition'!C1693 & \"\"\",\"\"\" & 'BX Language acquisition'!B1693 & \"\"\",\"\"\" & 'BX Language acquisition'!D1693 & \"\"\"\"","v":"\" \",\"\",\"\",\"\""}]
[{"$f":"\"\"\" \"& 'BX Language acquisition'!A1694 & \"\"\",\"\"\" & 'BX Language acquisition'!C1694 & \"\"\",\"\"\" & 'BX Language acquisition'!B1694 & \"\"\",\"\"\" & 'BX Language acquisition'!D1694 & \"\"\"\"","v":"\" \",\"\",\"\",\"\""}]
[{"$f":"\"\"\" \"& 'BX Language acquisition'!A1695 & \"\"\",\"\"\" & 'BX Language acquisition'!C1695 & \"\"\",\"\"\" & 'BX Language acquisition'!B1695 & \"\"\",\"\"\" & 'BX Language acquisition'!D1695 & \"\"\"\"","v":"\" \",\"\",\"\",\"\""}]
[{"$f":"\"\"\" \"& 'BX Language acquisition'!A1696 & \"\"\",\"\"\" & 'BX Language acquisition'!C1696 & \"\"\",\"\"\" & 'BX Language acquisition'!B1696 & \"\"\",\"\"\" & 'BX Language acquisition'!D1696 & \"\"\"\"","v":"\" \",\"\",\"\",\"\""}]
[{"$f":"\"\"\" \"& 'BX Language acquisition'!A1697 & \"\"\",\"\"\" & 'BX Language acquisition'!C1697 & \"\"\",\"\"\" & 'BX Language acquisition'!B1697 & \"\"\",\"\"\" & 'BX Language acquisition'!D1697 & \"\"\"\"","v":"\" \",\"\",\"\",\"\""}]
[{"$f":"\"\"\" \"& 'BX Language acquisition'!A1698 & \"\"\",\"\"\" & 'BX Language acquisition'!C1698 & \"\"\",\"\"\" & 'BX Language acquisition'!B1698 & \"\"\",\"\"\" & 'BX Language acquisition'!D1698 & \"\"\"\"","v":"\" \",\"\",\"\",\"\""}]
[{"$f":"\"\"\" \"& 'BX Language acquisition'!A1699 & \"\"\",\"\"\" & 'BX Language acquisition'!C1699 & \"\"\",\"\"\" & 'BX Language acquisition'!B1699 & \"\"\",\"\"\" & 'BX Language acquisition'!D1699 & \"\"\"\"","v":"\" \",\"\",\"\",\"\""}]
[{"$f":"\"\"\" \"& 'BX Language acquisition'!A1700 & \"\"\",\"\"\" & 'BX Language acquisition'!C1700 & \"\"\",\"\"\" & 'BX Language acquisition'!B1700 & \"\"\",\"\"\" & 'BX Language acquisition'!D1700 & \"\"\"\"","v":"\" \",\"\",\"\",\"\""}]
[{"$f":"\"\"\" \"& 'BX Language acquisition'!A1701 & \"\"\",\"\"\" & 'BX Language acquisition'!C1701 & \"\"\",\"\"\" & 'BX Language acquisition'!B1701 & \"\"\",\"\"\" & 'BX Language acquisition'!D1701 & \"\"\"\"","v":"\" \",\"\",\"\",\"\""}]
[{"$f":"\"\"\" \"& 'BX Language acquisition'!A1702 & \"\"\",\"\"\" & 'BX Language acquisition'!C1702 & \"\"\",\"\"\" & 'BX Language acquisition'!B1702 & \"\"\",\"\"\" & 'BX Language acquisition'!D1702 & \"\"\"\"","v":"\" \",\"\",\"\",\"\""}]
[{"$f":"\"\"\" \"& 'BX Language acquisition'!A1703 & \"\"\",\"\"\" & 'BX Language acquisition'!C1703 & \"\"\",\"\"\" & 'BX Language acquisition'!B1703 & \"\"\",\"\"\" & 'BX Language acquisition'!D1703 & \"\"\"\"","v":"\" \",\"\",\"\",\"\""}]
[{"$f":"\"\"\" \"& 'BX Language acquisition'!A1704 & \"\"\",\"\"\" & 'BX Language acquisition'!C1704 & \"\"\",\"\"\" & 'BX Language acquisition'!B1704 & \"\"\",\"\"\" & 'BX Language acquisition'!D1704 & \"\"\"\"","v":"\" \",\"\",\"\",\"\""}]
[{"$f":"\"\"\" \"& 'BX Language acquisition'!A1705 & \"\"\",\"\"\" & 'BX Language acquisition'!C1705 & \"\"\",\"\"\" & 'BX Language acquisition'!B1705 & \"\"\",\"\"\" & 'BX Language acquisition'!D1705 & \"\"\"\"","v":"\" \",\"\",\"\",\"\""}]
[{"$f":"\"\"\" \"& 'BX Language acquisition'!A1706 & \"\"\",\"\"\" & 'BX Language acquisition'!C1706 & \"\"\",\"\"\" & 'BX Language acquisition'!B1706 & \"\"\",\"\"\" & 'BX Language acquisition'!D1706 & \"\"\"\"","v":"\" \",\"\",\"\",\"\""}]
[{"$f":"\"\"\" \"& 'BX Language acquisition'!A1707 & \"\"\",\"\"\" & 'BX Language acquisition'!C1707 & \"\"\",\"\"\" & 'BX Language acquisition'!B1707 & \"\"\",\"\"\" & 'BX Language acquisition'!D1707 & \"\"\"\"","v":"\" \",\"\",\"\",\"\""}]
[{"$f":"\"\"\" \"& 'BX Language acquisition'!A1708 & \"\"\",\"\"\" & 'BX Language acquisition'!C1708 & \"\"\",\"\"\" & 'BX Language acquisition'!B1708 & \"\"\",\"\"\" & 'BX Language acquisition'!D1708 & \"\"\"\"","v":"\" \",\"\",\"\",\"\""}]
[{"$f":"\"\"\" \"& 'BX Language acquisition'!A1709 & \"\"\",\"\"\" & 'BX Language acquisition'!C1709 & \"\"\",\"\"\" & 'BX Language acquisition'!B1709 & \"\"\",\"\"\" & 'BX Language acquisition'!D1709 & \"\"\"\"","v":"\" \",\"\",\"\",\"\""}]
[{"$f":"\"\"\" \"& 'BX Language acquisition'!A1710 & \"\"\",\"\"\" & 'BX Language acquisition'!C1710 & \"\"\",\"\"\" & 'BX Language acquisition'!B1710 & \"\"\",\"\"\" & 'BX Language acquisition'!D1710 & \"\"\"\"","v":"\" \",\"\",\"\",\"\""}]
[{"$f":"\"\"\" \"& 'BX Language acquisition'!A1711 & \"\"\",\"\"\" & 'BX Language acquisition'!C1711 & \"\"\",\"\"\" & 'BX Language acquisition'!B1711 & \"\"\",\"\"\" & 'BX Language acquisition'!D1711 & \"\"\"\"","v":"\" \",\"\",\"\",\"\""}]
[{"$f":"\"\"\" \"& 'BX Language acquisition'!A1712 & \"\"\",\"\"\" & 'BX Language acquisition'!C1712 & \"\"\",\"\"\" & 'BX Language acquisition'!B1712 & \"\"\",\"\"\" & 'BX Language acquisition'!D1712 & \"\"\"\"","v":"\" \",\"\",\"\",\"\""}]
[{"$f":"\"\"\" \"& 'BX Language acquisition'!A1713 & \"\"\",\"\"\" & 'BX Language acquisition'!C1713 & \"\"\",\"\"\" & 'BX Language acquisition'!B1713 & \"\"\",\"\"\" & 'BX Language acquisition'!D1713 & \"\"\"\"","v":"\" \",\"\",\"\",\"\""}]
[{"$f":"\"\"\" \"& 'BX Language acquisition'!A1714 & \"\"\",\"\"\" & 'BX Language acquisition'!C1714 & \"\"\",\"\"\" & 'BX Language acquisition'!B1714 & \"\"\",\"\"\" & 'BX Language acquisition'!D1714 & \"\"\"\"","v":"\" \",\"\",\"\",\"\""}]
[{"$f":"\"\"\" \"& 'BX Language acquisition'!A1715 & \"\"\",\"\"\" & 'BX Language acquisition'!C1715 & \"\"\",\"\"\" & 'BX Language acquisition'!B1715 & \"\"\",\"\"\" & 'BX Language acquisition'!D1715 & \"\"\"\"","v":"\" \",\"\",\"\",\"\""}]
[{"$f":"\"\"\" \"& 'BX Language acquisition'!A1716 & \"\"\",\"\"\" & 'BX Language acquisition'!C1716 & \"\"\",\"\"\" & 'BX Language acquisition'!B1716 & \"\"\",\"\"\" & 'BX Language acquisition'!D1716 & \"\"\"\"","v":"\" \",\"\",\"\",\"\""}]
[{"$f":"\"\"\" \"& 'BX Language acquisition'!A1717 & \"\"\",\"\"\" & 'BX Language acquisition'!C1717 & \"\"\",\"\"\" & 'BX Language acquisition'!B1717 & \"\"\",\"\"\" & 'BX Language acquisition'!D1717 & \"\"\"\"","v":"\" \",\"\",\"\",\"\""}]
[{"$f":"\"\"\" \"& 'BX Language acquisition'!A1718 & \"\"\",\"\"\" & 'BX Language acquisition'!C1718 & \"\"\",\"\"\" & 'BX Language acquisition'!B1718 & \"\"\",\"\"\" & 'BX Language acquisition'!D1718 & \"\"\"\"","v":"\" \",\"\",\"\",\"\""}]
[{"$f":"\"\"\" \"& 'BX Language acquisition'!A1719 & \"\"\",\"\"\" & 'BX Language acquisition'!C1719 & \"\"\",\"\"\" & 'BX Language acquisition'!B1719 & \"\"\",\"\"\" & 'BX Language acquisition'!D1719 & \"\"\"\"","v":"\" \",\"\",\"\",\"\""}]
[{"$f":"\"\"\" \"& 'BX Language acquisition'!A1720 & \"\"\",\"\"\" & 'BX Language acquisition'!C1720 & \"\"\",\"\"\" & 'BX Language acquisition'!B1720 & \"\"\",\"\"\" & 'BX Language acquisition'!D1720 & \"\"\"\"","v":"\" \",\"\",\"\",\"\""}]
[{"$f":"\"\"\" \"& 'BX Language acquisition'!A1721 & \"\"\",\"\"\" & 'BX Language acquisition'!C1721 & \"\"\",\"\"\" & 'BX Language acquisition'!B1721 & \"\"\",\"\"\" & 'BX Language acquisition'!D1721 & \"\"\"\"","v":"\" \",\"\",\"\",\"\""}]
[{"$f":"\"\"\" \"& 'BX Language acquisition'!A1722 & \"\"\",\"\"\" & 'BX Language acquisition'!C1722 & \"\"\",\"\"\" & 'BX Language acquisition'!B1722 & \"\"\",\"\"\" & 'BX Language acquisition'!D1722 & \"\"\"\"","v":"\" \",\"\",\"\",\"\""}]
[{"$f":"\"\"\" \"& 'BX Language acquisition'!A1723 & \"\"\",\"\"\" & 'BX Language acquisition'!C1723 & \"\"\",\"\"\" & 'BX Language acquisition'!B1723 & \"\"\",\"\"\" & 'BX Language acquisition'!D1723 & \"\"\"\"","v":"\" \",\"\",\"\",\"\""}]
[{"$f":"\"\"\" \"& 'BX Language acquisition'!A1724 & \"\"\",\"\"\" & 'BX Language acquisition'!C1724 & \"\"\",\"\"\" & 'BX Language acquisition'!B1724 & \"\"\",\"\"\" & 'BX Language acquisition'!D1724 & \"\"\"\"","v":"\" \",\"\",\"\",\"\""}]
[{"$f":"\"\"\" \"& 'BX Language acquisition'!A1725 & \"\"\",\"\"\" & 'BX Language acquisition'!C1725 & \"\"\",\"\"\" & 'BX Language acquisition'!B1725 & \"\"\",\"\"\" & 'BX Language acquisition'!D1725 & \"\"\"\"","v":"\" \",\"\",\"\",\"\""}]
[{"$f":"\"\"\" \"& 'BX Language acquisition'!A1726 & \"\"\",\"\"\" & 'BX Language acquisition'!C1726 & \"\"\",\"\"\" & 'BX Language acquisition'!B1726 & \"\"\",\"\"\" & 'BX Language acquisition'!D1726 & \"\"\"\"","v":"\" \",\"\",\"\",\"\""}]
[{"$f":"\"\"\" \"& 'BX Language acquisition'!A1727 & \"\"\",\"\"\" & 'BX Language acquisition'!C1727 & \"\"\",\"\"\" & 'BX Language acquisition'!B1727 & \"\"\",\"\"\" & 'BX Language acquisition'!D1727 & \"\"\"\"","v":"\" \",\"\",\"\",\"\""}]
[{"$f":"\"\"\" \"& 'BX Language acquisition'!A1728 & \"\"\",\"\"\" & 'BX Language acquisition'!C1728 & \"\"\",\"\"\" & 'BX Language acquisition'!B1728 & \"\"\",\"\"\" & 'BX Language acquisition'!D1728 & \"\"\"\"","v":"\" \",\"\",\"\",\"\""}]
[{"$f":"\"\"\" \"& 'BX Language acquisition'!A1729 & \"\"\",\"\"\" & 'BX Language acquisition'!C1729 & \"\"\",\"\"\" & 'BX Language acquisition'!B1729 & \"\"\",\"\"\" & 'BX Language acquisition'!D1729 & \"\"\"\"","v":"\" \",\"\",\"\",\"\""}]
[{"$f":"\"\"\" \"& 'BX Language acquisition'!A1730 & \"\"\",\"\"\" & 'BX Language acquisition'!C1730 & \"\"\",\"\"\" & 'BX Language acquisition'!B1730 & \"\"\",\"\"\" & 'BX Language acquisition'!D1730 & \"\"\"\"","v":"\" \",\"\",\"\",\"\""}]
[{"$f":"\"\"\" \"& 'BX Language acquisition'!A1731 & \"\"\",\"\"\" & 'BX Language acquisition'!C1731 & \"\"\",\"\"\" & 'BX Language acquisition'!B1731 & \"\"\",\"\"\" & 'BX Language acquisition'!D1731 & \"\"\"\"","v":"\" \",\"\",\"\",\"\""}]
[{"$f":"\"\"\" \"& 'BX Language acquisition'!A1732 & \"\"\",\"\"\" & 'BX Language acquisition'!C1732 & \"\"\",\"\"\" & 'BX Language acquisition'!B1732 & \"\"\",\"\"\" & 'BX Language acquisition'!D1732 & \"\"\"\"","v":"\" \",\"\",\"\",\"\""}]
[{"$f":"\"\"\" \"& 'BX Language acquisition'!A1733 & \"\"\",\"\"\" & 'BX Language acquisition'!C1733 & \"\"\",\"\"\" & 'BX Language acquisition'!B1733 & \"\"\",\"\"\" & 'BX Language acquisition'!D1733 & \"\"\"\"","v":"\" \",\"\",\"\",\"\""}]
[{"$f":"\"\"\" \"& 'BX Language acquisition'!A1734 & \"\"\",\"\"\" & 'BX Language acquisition'!C1734 & \"\"\",\"\"\" & 'BX Language acquisition'!B1734 & \"\"\",\"\"\" & 'BX Language acquisition'!D1734 & \"\"\"\"","v":"\" \",\"\",\"\",\"\""}]
[{"$f":"\"\"\" \"& 'BX Language acquisition'!A1735 & \"\"\",\"\"\" & 'BX Language acquisition'!C1735 & \"\"\",\"\"\" & 'BX Language acquisition'!B1735 & \"\"\",\"\"\" & 'BX Language acquisition'!D1735 & \"\"\"\"","v":"\" \",\"\",\"\",\"\""}]
[{"$f":"\"\"\" \"& 'BX Language acquisition'!A1736 & \"\"\",\"\"\" & 'BX Language acquisition'!C1736 & \"\"\",\"\"\" & 'BX Language acquisition'!B1736 & \"\"\",\"\"\" & 'BX Language acquisition'!D1736 & \"\"\"\"","v":"\" \",\"\",\"\",\"\""}]
[{"$f":"\"\"\" \"& 'BX Language acquisition'!A1737 & \"\"\",\"\"\" & 'BX Language acquisition'!C1737 & \"\"\",\"\"\" & 'BX Language acquisition'!B1737 & \"\"\",\"\"\" & 'BX Language acquisition'!D1737 & \"\"\"\"","v":"\" \",\"\",\"\",\"\""}]
[{"$f":"\"\"\" \"& 'BX Language acquisition'!A1738 & \"\"\",\"\"\" & 'BX Language acquisition'!C1738 & \"\"\",\"\"\" & 'BX Language acquisition'!B1738 & \"\"\",\"\"\" & 'BX Language acquisition'!D1738 & \"\"\"\"","v":"\" \",\"\",\"\",\"\""}]
[{"$f":"\"\"\" \"& 'BX Language acquisition'!A1739 & \"\"\",\"\"\" & 'BX Language acquisition'!C1739 & \"\"\",\"\"\" & 'BX Language acquisition'!B1739 & \"\"\",\"\"\" & 'BX Language acquisition'!D1739 & \"\"\"\"","v":"\" \",\"\",\"\",\"\""}]
[{"$f":"\"\"\" \"& 'BX Language acquisition'!A1740 & \"\"\",\"\"\" & 'BX Language acquisition'!C1740 & \"\"\",\"\"\" & 'BX Language acquisition'!B1740 & \"\"\",\"\"\" & 'BX Language acquisition'!D1740 & \"\"\"\"","v":"\" \",\"\",\"\",\"\""}]
[{"$f":"\"\"\" \"& 'BX Language acquisition'!A1741 & \"\"\",\"\"\" & 'BX Language acquisition'!C1741 & \"\"\",\"\"\" & 'BX Language acquisition'!B1741 & \"\"\",\"\"\" & 'BX Language acquisition'!D1741 & \"\"\"\"","v":"\" \",\"\",\"\",\"\""}]
[{"$f":"\"\"\" \"& 'BX Language acquisition'!A1742 & \"\"\",\"\"\" & 'BX Language acquisition'!C1742 & \"\"\",\"\"\" & 'BX Language acquisition'!B1742 & \"\"\",\"\"\" & 'BX Language acquisition'!D1742 & \"\"\"\"","v":"\" \",\"\",\"\",\"\""}]
[{"$f":"\"\"\" \"& 'BX Language acquisition'!A1743 & \"\"\",\"\"\" & 'BX Language acquisition'!C1743 & \"\"\",\"\"\" & 'BX Language acquisition'!B1743 & \"\"\",\"\"\" & 'BX Language acquisition'!D1743 & \"\"\"\"","v":"\" \",\"\",\"\",\"\""}]
[{"$f":"\"\"\" \"& 'BX Language acquisition'!A1744 & \"\"\",\"\"\" & 'BX Language acquisition'!C1744 & \"\"\",\"\"\" & 'BX Language acquisition'!B1744 & \"\"\",\"\"\" & 'BX Language acquisition'!D1744 & \"\"\"\"","v":"\" \",\"\",\"\",\"\""}]
[{"$f":"\"\"\" \"& 'BX Language acquisition'!A1745 & \"\"\",\"\"\" & 'BX Language acquisition'!C1745 & \"\"\",\"\"\" & 'BX Language acquisition'!B1745 & \"\"\",\"\"\" & 'BX Language acquisition'!D1745 & \"\"\"\"","v":"\" \",\"\",\"\",\"\""}]
[{"$f":"\"\"\" \"& 'BX Language acquisition'!A1746 & \"\"\",\"\"\" & 'BX Language acquisition'!C1746 & \"\"\",\"\"\" & 'BX Language acquisition'!B1746 & \"\"\",\"\"\" & 'BX Language acquisition'!D1746 & \"\"\"\"","v":"\" \",\"\",\"\",\"\""}]
[{"$f":"\"\"\" \"& 'BX Language acquisition'!A1747 & \"\"\",\"\"\" & 'BX Language acquisition'!C1747 & \"\"\",\"\"\" & 'BX Language acquisition'!B1747 & \"\"\",\"\"\" & 'BX Language acquisition'!D1747 & \"\"\"\"","v":"\" \",\"\",\"\",\"\""}]
[{"$f":"\"\"\" \"& 'BX Language acquisition'!A1748 & \"\"\",\"\"\" & 'BX Language acquisition'!C1748 & \"\"\",\"\"\" & 'BX Language acquisition'!B1748 & \"\"\",\"\"\" & 'BX Language acquisition'!D1748 & \"\"\"\"","v":"\" \",\"\",\"\",\"\""}]
[{"$f":"\"\"\" \"& 'BX Language acquisition'!A1749 & \"\"\",\"\"\" & 'BX Language acquisition'!C1749 & \"\"\",\"\"\" & 'BX Language acquisition'!B1749 & \"\"\",\"\"\" & 'BX Language acquisition'!D1749 & \"\"\"\"","v":"\" \",\"\",\"\",\"\""}]
[{"$f":"\"\"\" \"& 'BX Language acquisition'!A1750 & \"\"\",\"\"\" & 'BX Language acquisition'!C1750 & \"\"\",\"\"\" & 'BX Language acquisition'!B1750 & \"\"\",\"\"\" & 'BX Language acquisition'!D1750 & \"\"\"\"","v":"\" \",\"\",\"\",\"\""}]
[{"$f":"\"\"\" \"& 'BX Language acquisition'!A1751 & \"\"\",\"\"\" & 'BX Language acquisition'!C1751 & \"\"\",\"\"\" & 'BX Language acquisition'!B1751 & \"\"\",\"\"\" & 'BX Language acquisition'!D1751 & \"\"\"\"","v":"\" \",\"\",\"\",\"\""}]
[{"$f":"\"\"\" \"& 'BX Language acquisition'!A1752 & \"\"\",\"\"\" & 'BX Language acquisition'!C1752 & \"\"\",\"\"\" & 'BX Language acquisition'!B1752 & \"\"\",\"\"\" & 'BX Language acquisition'!D1752 & \"\"\"\"","v":"\" \",\"\",\"\",\"\""}]
[{"$f":"\"\"\" \"& 'BX Language acquisition'!A1753 & \"\"\",\"\"\" & 'BX Language acquisition'!C1753 & \"\"\",\"\"\" & 'BX Language acquisition'!B1753 & \"\"\",\"\"\" & 'BX Language acquisition'!D1753 & \"\"\"\"","v":"\" \",\"\",\"\",\"\""}]
[{"$f":"\"\"\" \"& 'BX Language acquisition'!A1754 & \"\"\",\"\"\" & 'BX Language acquisition'!C1754 & \"\"\",\"\"\" & 'BX Language acquisition'!B1754 & \"\"\",\"\"\" & 'BX Language acquisition'!D1754 & \"\"\"\"","v":"\" \",\"\",\"\",\"\""}]
[{"$f":"\"\"\" \"& 'BX Language acquisition'!A1755 & \"\"\",\"\"\" & 'BX Language acquisition'!C1755 & \"\"\",\"\"\" & 'BX Language acquisition'!B1755 & \"\"\",\"\"\" & 'BX Language acquisition'!D1755 & \"\"\"\"","v":"\" \",\"\",\"\",\"\""}]
[{"$f":"\"\"\" \"& 'BX Language acquisition'!A1756 & \"\"\",\"\"\" & 'BX Language acquisition'!C1756 & \"\"\",\"\"\" & 'BX Language acquisition'!B1756 & \"\"\",\"\"\" & 'BX Language acquisition'!D1756 & \"\"\"\"","v":"\" \",\"\",\"\",\"\""}]
[{"$f":"\"\"\" \"& 'BX Language acquisition'!A1757 & \"\"\",\"\"\" & 'BX Language acquisition'!C1757 & \"\"\",\"\"\" & 'BX Language acquisition'!B1757 & \"\"\",\"\"\" & 'BX Language acquisition'!D1757 & \"\"\"\"","v":"\" \",\"\",\"\",\"\""}]
[{"$f":"\"\"\" \"& 'BX Language acquisition'!A1758 & \"\"\",\"\"\" & 'BX Language acquisition'!C1758 & \"\"\",\"\"\" & 'BX Language acquisition'!B1758 & \"\"\",\"\"\" & 'BX Language acquisition'!D1758 & \"\"\"\"","v":"\" \",\"\",\"\",\"\""}]
[{"$f":"\"\"\" \"& 'BX Language acquisition'!A1759 & \"\"\",\"\"\" & 'BX Language acquisition'!C1759 & \"\"\",\"\"\" & 'BX Language acquisition'!B1759 & \"\"\",\"\"\" & 'BX Language acquisition'!D1759 & \"\"\"\"","v":"\" \",\"\",\"\",\"\""}]
[{"$f":"\"\"\" \"& 'BX Language acquisition'!A1760 & \"\"\",\"\"\" & 'BX Language acquisition'!C1760 & \"\"\",\"\"\" & 'BX Language acquisition'!B1760 & \"\"\",\"\"\" & 'BX Language acquisition'!D1760 & \"\"\"\"","v":"\" \",\"\",\"\",\"\""}]
[{"$f":"\"\"\" \"& 'BX Language acquisition'!A1761 & \"\"\",\"\"\" & 'BX Language acquisition'!C1761 & \"\"\",\"\"\" & 'BX Language acquisition'!B1761 & \"\"\",\"\"\" & 'BX Language acquisition'!D1761 & \"\"\"\"","v":"\" \",\"\",\"\",\"\""}]
[{"$f":"\"\"\" \"& 'BX Language acquisition'!A1762 & \"\"\",\"\"\" & 'BX Language acquisition'!C1762 & \"\"\",\"\"\" & 'BX Language acquisition'!B1762 & \"\"\",\"\"\" & 'BX Language acquisition'!D1762 & \"\"\"\"","v":"\" \",\"\",\"\",\"\""}]
[{"$f":"\"\"\" \"& 'BX Language acquisition'!A1763 & \"\"\",\"\"\" & 'BX Language acquisition'!C1763 & \"\"\",\"\"\" & 'BX Language acquisition'!B1763 & \"\"\",\"\"\" & 'BX Language acquisition'!D1763 & \"\"\"\"","v":"\" \",\"\",\"\",\"\""}]
[{"$f":"\"\"\" \"& 'BX Language acquisition'!A1764 & \"\"\",\"\"\" & 'BX Language acquisition'!C1764 & \"\"\",\"\"\" & 'BX Language acquisition'!B1764 & \"\"\",\"\"\" & 'BX Language acquisition'!D1764 & \"\"\"\"","v":"\" \",\"\",\"\",\"\""}]
[{"$f":"\"\"\" \"& 'BX Language acquisition'!A1765 & \"\"\",\"\"\" & 'BX Language acquisition'!C1765 & \"\"\",\"\"\" & 'BX Language acquisition'!B1765 & \"\"\",\"\"\" & 'BX Language acquisition'!D1765 & \"\"\"\"","v":"\" \",\"\",\"\",\"\""}]
[{"$f":"\"\"\" \"& 'BX Language acquisition'!A1766 & \"\"\",\"\"\" & 'BX Language acquisition'!C1766 & \"\"\",\"\"\" & 'BX Language acquisition'!B1766 & \"\"\",\"\"\" & 'BX Language acquisition'!D1766 & \"\"\"\"","v":"\" \",\"\",\"\",\"\""}]
[{"$f":"\"\"\" \"& 'BX Language acquisition'!A1767 & \"\"\",\"\"\" & 'BX Language acquisition'!C1767 & \"\"\",\"\"\" & 'BX Language acquisition'!B1767 & \"\"\",\"\"\" & 'BX Language acquisition'!D1767 & \"\"\"\"","v":"\" \",\"\",\"\",\"\""}]
[{"$f":"\"\"\" \"& 'BX Language acquisition'!A1768 & \"\"\",\"\"\" & 'BX Language acquisition'!C1768 & \"\"\",\"\"\" & 'BX Language acquisition'!B1768 & \"\"\",\"\"\" & 'BX Language acquisition'!D1768 & \"\"\"\"","v":"\" \",\"\",\"\",\"\""}]
[{"$f":"\"\"\" \"& 'BX Language acquisition'!A1769 & \"\"\",\"\"\" & 'BX Language acquisition'!C1769 & \"\"\",\"\"\" & 'BX Language acquisition'!B1769 & \"\"\",\"\"\" & 'BX Language acquisition'!D1769 & \"\"\"\"","v":"\" \",\"\",\"\",\"\""}]
[{"$f":"\"\"\" \"& 'BX Language acquisition'!A1770 & \"\"\",\"\"\" & 'BX Language acquisition'!C1770 & \"\"\",\"\"\" & 'BX Language acquisition'!B1770 & \"\"\",\"\"\" & 'BX Language acquisition'!D1770 & \"\"\"\"","v":"\" \",\"\",\"\",\"\""}]
[{"$f":"\"\"\" \"& 'BX Language acquisition'!A1771 & \"\"\",\"\"\" & 'BX Language acquisition'!C1771 & \"\"\",\"\"\" & 'BX Language acquisition'!B1771 & \"\"\",\"\"\" & 'BX Language acquisition'!D1771 & \"\"\"\"","v":"\" \",\"\",\"\",\"\""}]
[{"$f":"\"\"\" \"& 'BX Language acquisition'!A1772 & \"\"\",\"\"\" & 'BX Language acquisition'!C1772 & \"\"\",\"\"\" & 'BX Language acquisition'!B1772 & \"\"\",\"\"\" & 'BX Language acquisition'!D1772 & \"\"\"\"","v":"\" \",\"\",\"\",\"\""}]
[{"$f":"\"\"\" \"& 'BX Language acquisition'!A1773 & \"\"\",\"\"\" & 'BX Language acquisition'!C1773 & \"\"\",\"\"\" & 'BX Language acquisition'!B1773 & \"\"\",\"\"\" & 'BX Language acquisition'!D1773 & \"\"\"\"","v":"\" \",\"\",\"\",\"\""}]
[{"$f":"\"\"\" \"& 'BX Language acquisition'!A1774 & \"\"\",\"\"\" & 'BX Language acquisition'!C1774 & \"\"\",\"\"\" & 'BX Language acquisition'!B1774 & \"\"\",\"\"\" & 'BX Language acquisition'!D1774 & \"\"\"\"","v":"\" \",\"\",\"\",\"\""}]
[{"$f":"\"\"\" \"& 'BX Language acquisition'!A1775 & \"\"\",\"\"\" & 'BX Language acquisition'!C1775 & \"\"\",\"\"\" & 'BX Language acquisition'!B1775 & \"\"\",\"\"\" & 'BX Language acquisition'!D1775 & \"\"\"\"","v":"\" \",\"\",\"\",\"\""}]
[{"$f":"\"\"\" \"& 'BX Language acquisition'!A1776 & \"\"\",\"\"\" & 'BX Language acquisition'!C1776 & \"\"\",\"\"\" & 'BX Language acquisition'!B1776 & \"\"\",\"\"\" & 'BX Language acquisition'!D1776 & \"\"\"\"","v":"\" \",\"\",\"\",\"\""}]
[{"$f":"\"\"\" \"& 'BX Language acquisition'!A1777 & \"\"\",\"\"\" & 'BX Language acquisition'!C1777 & \"\"\",\"\"\" & 'BX Language acquisition'!B1777 & \"\"\",\"\"\" & 'BX Language acquisition'!D1777 & \"\"\"\"","v":"\" \",\"\",\"\",\"\""}]
[{"$f":"\"\"\" \"& 'BX Language acquisition'!A1778 & \"\"\",\"\"\" & 'BX Language acquisition'!C1778 & \"\"\",\"\"\" & 'BX Language acquisition'!B1778 & \"\"\",\"\"\" & 'BX Language acquisition'!D1778 & \"\"\"\"","v":"\" \",\"\",\"\",\"\""}]
[{"$f":"\"\"\" \"& 'BX Language acquisition'!A1779 & \"\"\",\"\"\" & 'BX Language acquisition'!C1779 & \"\"\",\"\"\" & 'BX Language acquisition'!B1779 & \"\"\",\"\"\" & 'BX Language acquisition'!D1779 & \"\"\"\"","v":"\" \",\"\",\"\",\"\""}]
[{"$f":"\"\"\" \"& 'BX Language acquisition'!A1780 & \"\"\",\"\"\" & 'BX Language acquisition'!C1780 & \"\"\",\"\"\" & 'BX Language acquisition'!B1780 & \"\"\",\"\"\" & 'BX Language acquisition'!D1780 & \"\"\"\"","v":"\" \",\"\",\"\",\"\""}]
[{"$f":"\"\"\" \"& 'BX Language acquisition'!A1781 & \"\"\",\"\"\" & 'BX Language acquisition'!C1781 & \"\"\",\"\"\" & 'BX Language acquisition'!B1781 & \"\"\",\"\"\" & 'BX Language acquisition'!D1781 & \"\"\"\"","v":"\" \",\"\",\"\",\"\""}]
[{"$f":"\"\"\" \"& 'BX Language acquisition'!A1782 & \"\"\",\"\"\" & 'BX Language acquisition'!C1782 & \"\"\",\"\"\" & 'BX Language acquisition'!B1782 & \"\"\",\"\"\" & 'BX Language acquisition'!D1782 & \"\"\"\"","v":"\" \",\"\",\"\",\"\""}]
[{"$f":"\"\"\" \"& 'BX Language acquisition'!A1783 & \"\"\",\"\"\" & 'BX Language acquisition'!C1783 & \"\"\",\"\"\" & 'BX Language acquisition'!B1783 & \"\"\",\"\"\" & 'BX Language acquisition'!D1783 & \"\"\"\"","v":"\" \",\"\",\"\",\"\""}]
[{"$f":"\"\"\" \"& 'BX Language acquisition'!A1784 & \"\"\",\"\"\" & 'BX Language acquisition'!C1784 & \"\"\",\"\"\" & 'BX Language acquisition'!B1784 & \"\"\",\"\"\" & 'BX Language acquisition'!D1784 & \"\"\"\"","v":"\" \",\"\",\"\",\"\""}]
[{"$f":"\"\"\" \"& 'BX Language acquisition'!A1785 & \"\"\",\"\"\" & 'BX Language acquisition'!C1785 & \"\"\",\"\"\" & 'BX Language acquisition'!B1785 & \"\"\",\"\"\" & 'BX Language acquisition'!D1785 & \"\"\"\"","v":"\" \",\"\",\"\",\"\""}]
[{"$f":"\"\"\" \"& 'BX Language acquisition'!A1786 & \"\"\",\"\"\" & 'BX Language acquisition'!C1786 & \"\"\",\"\"\" & 'BX Language acquisition'!B1786 & \"\"\",\"\"\" & 'BX Language acquisition'!D1786 & \"\"\"\"","v":"\" \",\"\",\"\",\"\""}]
[{"$f":"\"\"\" \"& 'BX Language acquisition'!A1787 & \"\"\",\"\"\" & 'BX Language acquisition'!C1787 & \"\"\",\"\"\" & 'BX Language acquisition'!B1787 & \"\"\",\"\"\" & 'BX Language acquisition'!D1787 & \"\"\"\"","v":"\" \",\"\",\"\",\"\""}]
[{"$f":"\"\"\" \"& 'BX Language acquisition'!A1788 & \"\"\",\"\"\" & 'BX Language acquisition'!C1788 & \"\"\",\"\"\" & 'BX Language acquisition'!B1788 & \"\"\",\"\"\" & 'BX Language acquisition'!D1788 & \"\"\"\"","v":"\" \",\"\",\"\",\"\""}]
[{"$f":"\"\"\" \"& 'BX Language acquisition'!A1789 & \"\"\",\"\"\" & 'BX Language acquisition'!C1789 & \"\"\",\"\"\" & 'BX Language acquisition'!B1789 & \"\"\",\"\"\" & 'BX Language acquisition'!D1789 & \"\"\"\"","v":"\" \",\"\",\"\",\"\""}]
[{"$f":"\"\"\" \"& 'BX Language acquisition'!A1790 & \"\"\",\"\"\" & 'BX Language acquisition'!C1790 & \"\"\",\"\"\" & 'BX Language acquisition'!B1790 & \"\"\",\"\"\" & 'BX Language acquisition'!D1790 & \"\"\"\"","v":"\" \",\"\",\"\",\"\""}]
[{"$f":"\"\"\" \"& 'BX Language acquisition'!A1791 & \"\"\",\"\"\" & 'BX Language acquisition'!C1791 & \"\"\",\"\"\" & 'BX Language acquisition'!B1791 & \"\"\",\"\"\" & 'BX Language acquisition'!D1791 & \"\"\"\"","v":"\" \",\"\",\"\",\"\""}]
[{"$f":"\"\"\" \"& 'BX Language acquisition'!A1792 & \"\"\",\"\"\" & 'BX Language acquisition'!C1792 & \"\"\",\"\"\" & 'BX Language acquisition'!B1792 & \"\"\",\"\"\" & 'BX Language acquisition'!D1792 & \"\"\"\"","v":"\" \",\"\",\"\",\"\""}]
[{"$f":"\"\"\" \"& 'BX Language acquisition'!A1793 & \"\"\",\"\"\" & 'BX Language acquisition'!C1793 & \"\"\",\"\"\" & 'BX Language acquisition'!B1793 & \"\"\",\"\"\" & 'BX Language acquisition'!D1793 & \"\"\"\"","v":"\" \",\"\",\"\",\"\""}]
[{"$f":"\"\"\" \"& 'BX Language acquisition'!A1794 & \"\"\",\"\"\" & 'BX Language acquisition'!C1794 & \"\"\",\"\"\" & 'BX Language acquisition'!B1794 & \"\"\",\"\"\" & 'BX Language acquisition'!D1794 & \"\"\"\"","v":"\" \",\"\",\"\",\"\""}]
[{"$f":"\"\"\" \"& 'BX Language acquisition'!A1795 & \"\"\",\"\"\" & 'BX Language acquisition'!C1795 & \"\"\",\"\"\" & 'BX Language acquisition'!B1795 & \"\"\",\"\"\" & 'BX Language acquisition'!D1795 & \"\"\"\"","v":"\" \",\"\",\"\",\"\""}]
[{"$f":"\"\"\" \"& 'BX Language acquisition'!A1796 & \"\"\",\"\"\" & 'BX Language acquisition'!C1796 & \"\"\",\"\"\" & 'BX Language acquisition'!B1796 & \"\"\",\"\"\" & 'BX Language acquisition'!D1796 & \"\"\"\"","v":"\" \",\"\",\"\",\"\""}]
[{"$f":"\"\"\" \"& 'BX Language acquisition'!A1797 & \"\"\",\"\"\" & 'BX Language acquisition'!C1797 & \"\"\",\"\"\" & 'BX Language acquisition'!B1797 & \"\"\",\"\"\" & 'BX Language acquisition'!D1797 & \"\"\"\"","v":"\" \",\"\",\"\",\"\""}]
[{"$f":"\"\"\" \"& 'BX Language acquisition'!A1798 & \"\"\",\"\"\" & 'BX Language acquisition'!C1798 & \"\"\",\"\"\" & 'BX Language acquisition'!B1798 & \"\"\",\"\"\" & 'BX Language acquisition'!D1798 & \"\"\"\"","v":"\" \",\"\",\"\",\"\""}]
[{"$f":"\"\"\" \"& 'BX Language acquisition'!A1799 & \"\"\",\"\"\" & 'BX Language acquisition'!C1799 & \"\"\",\"\"\" & 'BX Language acquisition'!B1799 & \"\"\",\"\"\" & 'BX Language acquisition'!D1799 & \"\"\"\"","v":"\" \",\"\",\"\",\"\""}]
[{"$f":"\"\"\" \"& 'BX Language acquisition'!A1800 & \"\"\",\"\"\" & 'BX Language acquisition'!C1800 & \"\"\",\"\"\" & 'BX Language acquisition'!B1800 & \"\"\",\"\"\" & 'BX Language acquisition'!D1800 & \"\"\"\"","v":"\" \",\"\",\"\",\"\""}]
[{"$f":"\"\"\" \"& 'BX Language acquisition'!A1801 & \"\"\",\"\"\" & 'BX Language acquisition'!C1801 & \"\"\",\"\"\" & 'BX Language acquisition'!B1801 & \"\"\",\"\"\" & 'BX Language acquisition'!D1801 & \"\"\"\"","v":"\" \",\"\",\"\",\"\""}]
[{"$f":"\"\"\" \"& 'BX Language acquisition'!A1802 & \"\"\",\"\"\" & 'BX Language acquisition'!C1802 & \"\"\",\"\"\" & 'BX Language acquisition'!B1802 & \"\"\",\"\"\" & 'BX Language acquisition'!D1802 & \"\"\"\"","v":"\" \",\"\",\"\",\"\""}]
[{"$f":"\"\"\" \"& 'BX Language acquisition'!A1803 & \"\"\",\"\"\" & 'BX Language acquisition'!C1803 & \"\"\",\"\"\" & 'BX Language acquisition'!B1803 & \"\"\",\"\"\" & 'BX Language acquisition'!D1803 & \"\"\"\"","v":"\" \",\"\",\"\",\"\""}]
[{"$f":"\"\"\" \"& 'BX Language acquisition'!A1804 & \"\"\",\"\"\" & 'BX Language acquisition'!C1804 & \"\"\",\"\"\" & 'BX Language acquisition'!B1804 & \"\"\",\"\"\" & 'BX Language acquisition'!D1804 & \"\"\"\"","v":"\" \",\"\",\"\",\"\""}]
[{"$f":"\"\"\" \"& 'BX Language acquisition'!A1805 & \"\"\",\"\"\" & 'BX Language acquisition'!C1805 & \"\"\",\"\"\" & 'BX Language acquisition'!B1805 & \"\"\",\"\"\" & 'BX Language acquisition'!D1805 & \"\"\"\"","v":"\" \",\"\",\"\",\"\""}]
[{"$f":"\"\"\" \"& 'BX Language acquisition'!A1806 & \"\"\",\"\"\" & 'BX Language acquisition'!C1806 & \"\"\",\"\"\" & 'BX Language acquisition'!B1806 & \"\"\",\"\"\" & 'BX Language acquisition'!D1806 & \"\"\"\"","v":"\" \",\"\",\"\",\"\""}]
[{"$f":"\"\"\" \"& 'BX Language acquisition'!A1807 & \"\"\",\"\"\" & 'BX Language acquisition'!C1807 & \"\"\",\"\"\" & 'BX Language acquisition'!B1807 & \"\"\",\"\"\" & 'BX Language acquisition'!D1807 & \"\"\"\"","v":"\" \",\"\",\"\",\"\""}]
[{"$f":"\"\"\" \"& 'BX Language acquisition'!A1808 & \"\"\",\"\"\" & 'BX Language acquisition'!C1808 & \"\"\",\"\"\" & 'BX Language acquisition'!B1808 & \"\"\",\"\"\" & 'BX Language acquisition'!D1808 & \"\"\"\"","v":"\" \",\"\",\"\",\"\""}]
[{"$f":"\"\"\" \"& 'BX Language acquisition'!A1809 & \"\"\",\"\"\" & 'BX Language acquisition'!C1809 & \"\"\",\"\"\" & 'BX Language acquisition'!B1809 & \"\"\",\"\"\" & 'BX Language acquisition'!D1809 & \"\"\"\"","v":"\" \",\"\",\"\",\"\""}]
[{"$f":"\"\"\" \"& 'BX Language acquisition'!A1810 & \"\"\",\"\"\" & 'BX Language acquisition'!C1810 & \"\"\",\"\"\" & 'BX Language acquisition'!B1810 & \"\"\",\"\"\" & 'BX Language acquisition'!D1810 & \"\"\"\"","v":"\" \",\"\",\"\",\"\""}]
[{"$f":"\"\"\" \"& 'BX Language acquisition'!A1811 & \"\"\",\"\"\" & 'BX Language acquisition'!C1811 & \"\"\",\"\"\" & 'BX Language acquisition'!B1811 & \"\"\",\"\"\" & 'BX Language acquisition'!D1811 & \"\"\"\"","v":"\" \",\"\",\"\",\"\""}]
[{"$f":"\"\"\" \"& 'BX Language acquisition'!A1812 & \"\"\",\"\"\" & 'BX Language acquisition'!C1812 & \"\"\",\"\"\" & 'BX Language acquisition'!B1812 & \"\"\",\"\"\" & 'BX Language acquisition'!D1812 & \"\"\"\"","v":"\" \",\"\",\"\",\"\""}]
[{"$f":"\"\"\" \"& 'BX Language acquisition'!A1813 & \"\"\",\"\"\" & 'BX Language acquisition'!C1813 & \"\"\",\"\"\" & 'BX Language acquisition'!B1813 & \"\"\",\"\"\" & 'BX Language acquisition'!D1813 & \"\"\"\"","v":"\" \",\"\",\"\",\"\""}]
[{"$f":"\"\"\" \"& 'BX Language acquisition'!A1814 & \"\"\",\"\"\" & 'BX Language acquisition'!C1814 & \"\"\",\"\"\" & 'BX Language acquisition'!B1814 & \"\"\",\"\"\" & 'BX Language acquisition'!D1814 & \"\"\"\"","v":"\" \",\"\",\"\",\"\""}]
[{"$f":"\"\"\" \"& 'BX Language acquisition'!A1815 & \"\"\",\"\"\" & 'BX Language acquisition'!C1815 & \"\"\",\"\"\" & 'BX Language acquisition'!B1815 & \"\"\",\"\"\" & 'BX Language acquisition'!D1815 & \"\"\"\"","v":"\" \",\"\",\"\",\"\""}]
[{"$f":"\"\"\" \"& 'BX Language acquisition'!A1816 & \"\"\",\"\"\" & 'BX Language acquisition'!C1816 & \"\"\",\"\"\" & 'BX Language acquisition'!B1816 & \"\"\",\"\"\" & 'BX Language acquisition'!D1816 & \"\"\"\"","v":"\" \",\"\",\"\",\"\""}]
[{"$f":"\"\"\" \"& 'BX Language acquisition'!A1817 & \"\"\",\"\"\" & 'BX Language acquisition'!C1817 & \"\"\",\"\"\" & 'BX Language acquisition'!B1817 & \"\"\",\"\"\" & 'BX Language acquisition'!D1817 & \"\"\"\"","v":"\" \",\"\",\"\",\"\""}]
[{"$f":"\"\"\" \"& 'BX Language acquisition'!A1818 & \"\"\",\"\"\" & 'BX Language acquisition'!C1818 & \"\"\",\"\"\" & 'BX Language acquisition'!B1818 & \"\"\",\"\"\" & 'BX Language acquisition'!D1818 & \"\"\"\"","v":"\" \",\"\",\"\",\"\""}]
[{"$f":"\"\"\" \"& 'BX Language acquisition'!A1819 & \"\"\",\"\"\" & 'BX Language acquisition'!C1819 & \"\"\",\"\"\" & 'BX Language acquisition'!B1819 & \"\"\",\"\"\" & 'BX Language acquisition'!D1819 & \"\"\"\"","v":"\" \",\"\",\"\",\"\""}]
[{"$f":"\"\"\" \"& 'BX Language acquisition'!A1820 & \"\"\",\"\"\" & 'BX Language acquisition'!C1820 & \"\"\",\"\"\" & 'BX Language acquisition'!B1820 & \"\"\",\"\"\" & 'BX Language acquisition'!D1820 & \"\"\"\"","v":"\" \",\"\",\"\",\"\""}]
[{"$f":"\"\"\" \"& 'BX Language acquisition'!A1821 & \"\"\",\"\"\" & 'BX Language acquisition'!C1821 & \"\"\",\"\"\" & 'BX Language acquisition'!B1821 & \"\"\",\"\"\" & 'BX Language acquisition'!D1821 & \"\"\"\"","v":"\" \",\"\",\"\",\"\""}]
[{"$f":"\"\"\" \"& 'BX Language acquisition'!A1822 & \"\"\",\"\"\" & 'BX Language acquisition'!C1822 & \"\"\",\"\"\" & 'BX Language acquisition'!B1822 & \"\"\",\"\"\" & 'BX Language acquisition'!D1822 & \"\"\"\"","v":"\" \",\"\",\"\",\"\""}]
[{"$f":"\"\"\" \"& 'BX Language acquisition'!A1823 & \"\"\",\"\"\" & 'BX Language acquisition'!C1823 & \"\"\",\"\"\" & 'BX Language acquisition'!B1823 & \"\"\",\"\"\" & 'BX Language acquisition'!D1823 & \"\"\"\"","v":"\" \",\"\",\"\",\"\""}]
[{"$f":"\"\"\" \"& 'BX Language acquisition'!A1824 & \"\"\",\"\"\" & 'BX Language acquisition'!C1824 & \"\"\",\"\"\" & 'BX Language acquisition'!B1824 & \"\"\",\"\"\" & 'BX Language acquisition'!D1824 & \"\"\"\"","v":"\" \",\"\",\"\",\"\""}]
[{"$f":"\"\"\" \"& 'BX Language acquisition'!A1825 & \"\"\",\"\"\" & 'BX Language acquisition'!C1825 & \"\"\",\"\"\" & 'BX Language acquisition'!B1825 & \"\"\",\"\"\" & 'BX Language acquisition'!D1825 & \"\"\"\"","v":"\" \",\"\",\"\",\"\""}]
[{"$f":"\"\"\" \"& 'BX Language acquisition'!A1826 & \"\"\",\"\"\" & 'BX Language acquisition'!C1826 & \"\"\",\"\"\" & 'BX Language acquisition'!B1826 & \"\"\",\"\"\" & 'BX Language acquisition'!D1826 & \"\"\"\"","v":"\" \",\"\",\"\",\"\""}]
[{"$f":"\"\"\" \"& 'BX Language acquisition'!A1827 & \"\"\",\"\"\" & 'BX Language acquisition'!C1827 & \"\"\",\"\"\" & 'BX Language acquisition'!B1827 & \"\"\",\"\"\" & 'BX Language acquisition'!D1827 & \"\"\"\"","v":"\" \",\"\",\"\",\"\""}]
[{"$f":"\"\"\" \"& 'BX Language acquisition'!A1828 & \"\"\",\"\"\" & 'BX Language acquisition'!C1828 & \"\"\",\"\"\" & 'BX Language acquisition'!B1828 & \"\"\",\"\"\" & 'BX Language acquisition'!D1828 & \"\"\"\"","v":"\" \",\"\",\"\",\"\""}]
[{"$f":"\"\"\" \"& 'BX Language acquisition'!A1829 & \"\"\",\"\"\" & 'BX Language acquisition'!C1829 & \"\"\",\"\"\" & 'BX Language acquisition'!B1829 & \"\"\",\"\"\" & 'BX Language acquisition'!D1829 & \"\"\"\"","v":"\" \",\"\",\"\",\"\""}]
[{"$f":"\"\"\" \"& 'BX Language acquisition'!A1830 & \"\"\",\"\"\" & 'BX Language acquisition'!C1830 & \"\"\",\"\"\" & 'BX Language acquisition'!B1830 & \"\"\",\"\"\" & 'BX Language acquisition'!D1830 & \"\"\"\"","v":"\" \",\"\",\"\",\"\""}]
[{"$f":"\"\"\" \"& 'BX Language acquisition'!A1831 & \"\"\",\"\"\" & 'BX Language acquisition'!C1831 & \"\"\",\"\"\" & 'BX Language acquisition'!B1831 & \"\"\",\"\"\" & 'BX Language acquisition'!D1831 & \"\"\"\"","v":"\" \",\"\",\"\",\"\""}]
[{"$f":"\"\"\" \"& 'BX Language acquisition'!A1832 & \"\"\",\"\"\" & 'BX Language acquisition'!C1832 & \"\"\",\"\"\" & 'BX Language acquisition'!B1832 & \"\"\",\"\"\" & 'BX Language acquisition'!D1832 & \"\"\"\"","v":"\" \",\"\",\"\",\"\""}]
[{"$f":"\"\"\" \"& 'BX Language acquisition'!A1833 & \"\"\",\"\"\" & 'BX Language acquisition'!C1833 & \"\"\",\"\"\" & 'BX Language acquisition'!B1833 & \"\"\",\"\"\" & 'BX Language acquisition'!D1833 & \"\"\"\"","v":"\" \",\"\",\"\",\"\""}]
[{"$f":"\"\"\" \"& 'BX Language acquisition'!A1834 & \"\"\",\"\"\" & 'BX Language acquisition'!C1834 & \"\"\",\"\"\" & 'BX Language acquisition'!B1834 & \"\"\",\"\"\" & 'BX Language acquisition'!D1834 & \"\"\"\"","v":"\" \",\"\",\"\",\"\""}]
[{"$f":"\"\"\" \"& 'BX Language acquisition'!A1835 & \"\"\",\"\"\" & 'BX Language acquisition'!C1835 & \"\"\",\"\"\" & 'BX Language acquisition'!B1835 & \"\"\",\"\"\" & 'BX Language acquisition'!D1835 & \"\"\"\"","v":"\" \",\"\",\"\",\"\""}]
[{"$f":"\"\"\" \"& 'BX Language acquisition'!A1836 & \"\"\",\"\"\" & 'BX Language acquisition'!C1836 & \"\"\",\"\"\" & 'BX Language acquisition'!B1836 & \"\"\",\"\"\" & 'BX Language acquisition'!D1836 & \"\"\"\"","v":"\" \",\"\",\"\",\"\""}]
[{"$f":"\"\"\" \"& 'BX Language acquisition'!A1837 & \"\"\",\"\"\" & 'BX Language acquisition'!C1837 & \"\"\",\"\"\" & 'BX Language acquisition'!B1837 & \"\"\",\"\"\" & 'BX Language acquisition'!D1837 & \"\"\"\"","v":"\" \",\"\",\"\",\"\""}]
[{"$f":"\"\"\" \"& 'BX Language acquisition'!A1838 & \"\"\",\"\"\" & 'BX Language acquisition'!C1838 & \"\"\",\"\"\" & 'BX Language acquisition'!B1838 & \"\"\",\"\"\" & 'BX Language acquisition'!D1838 & \"\"\"\"","v":"\" \",\"\",\"\",\"\""}]
[{"$f":"\"\"\" \"& 'BX Language acquisition'!A1839 & \"\"\",\"\"\" & 'BX Language acquisition'!C1839 & \"\"\",\"\"\" & 'BX Language acquisition'!B1839 & \"\"\",\"\"\" & 'BX Language acquisition'!D1839 & \"\"\"\"","v":"\" \",\"\",\"\",\"\""}]
[{"$f":"\"\"\" \"& 'BX Language acquisition'!A1840 & \"\"\",\"\"\" & 'BX Language acquisition'!C1840 & \"\"\",\"\"\" & 'BX Language acquisition'!B1840 & \"\"\",\"\"\" & 'BX Language acquisition'!D1840 & \"\"\"\"","v":"\" \",\"\",\"\",\"\""}]
[{"$f":"\"\"\" \"& 'BX Language acquisition'!A1841 & \"\"\",\"\"\" & 'BX Language acquisition'!C1841 & \"\"\",\"\"\" & 'BX Language acquisition'!B1841 & \"\"\",\"\"\" & 'BX Language acquisition'!D1841 & \"\"\"\"","v":"\" \",\"\",\"\",\"\""}]
[{"$f":"\"\"\" \"& 'BX Language acquisition'!A1842 & \"\"\",\"\"\" & 'BX Language acquisition'!C1842 & \"\"\",\"\"\" & 'BX Language acquisition'!B1842 & \"\"\",\"\"\" & 'BX Language acquisition'!D1842 & \"\"\"\"","v":"\" \",\"\",\"\",\"\""}]
[{"$f":"\"\"\" \"& 'BX Language acquisition'!A1843 & \"\"\",\"\"\" & 'BX Language acquisition'!C1843 & \"\"\",\"\"\" & 'BX Language acquisition'!B1843 & \"\"\",\"\"\" & 'BX Language acquisition'!D1843 & \"\"\"\"","v":"\" \",\"\",\"\",\"\""}]
[{"$f":"\"\"\" \"& 'BX Language acquisition'!A1844 & \"\"\",\"\"\" & 'BX Language acquisition'!C1844 & \"\"\",\"\"\" & 'BX Language acquisition'!B1844 & \"\"\",\"\"\" & 'BX Language acquisition'!D1844 & \"\"\"\"","v":"\" \",\"\",\"\",\"\""}]
[{"$f":"\"\"\" \"& 'BX Language acquisition'!A1845 & \"\"\",\"\"\" & 'BX Language acquisition'!C1845 & \"\"\",\"\"\" & 'BX Language acquisition'!B1845 & \"\"\",\"\"\" & 'BX Language acquisition'!D1845 & \"\"\"\"","v":"\" \",\"\",\"\",\"\""}]
[{"$f":"\"\"\" \"& 'BX Language acquisition'!A1846 & \"\"\",\"\"\" & 'BX Language acquisition'!C1846 & \"\"\",\"\"\" & 'BX Language acquisition'!B1846 & \"\"\",\"\"\" & 'BX Language acquisition'!D1846 & \"\"\"\"","v":"\" \",\"\",\"\",\"\""}]
[{"$f":"\"\"\" \"& 'BX Language acquisition'!A1847 & \"\"\",\"\"\" & 'BX Language acquisition'!C1847 & \"\"\",\"\"\" & 'BX Language acquisition'!B1847 & \"\"\",\"\"\" & 'BX Language acquisition'!D1847 & \"\"\"\"","v":"\" \",\"\",\"\",\"\""}]
[{"$f":"\"\"\" \"& 'BX Language acquisition'!A1848 & \"\"\",\"\"\" & 'BX Language acquisition'!C1848 & \"\"\",\"\"\" & 'BX Language acquisition'!B1848 & \"\"\",\"\"\" & 'BX Language acquisition'!D1848 & \"\"\"\"","v":"\" \",\"\",\"\",\"\""}]
[{"$f":"\"\"\" \"& 'BX Language acquisition'!A1849 & \"\"\",\"\"\" & 'BX Language acquisition'!C1849 & \"\"\",\"\"\" & 'BX Language acquisition'!B1849 & \"\"\",\"\"\" & 'BX Language acquisition'!D1849 & \"\"\"\"","v":"\" \",\"\",\"\",\"\""}]
[{"$f":"\"\"\" \"& 'BX Language acquisition'!A1850 & \"\"\",\"\"\" & 'BX Language acquisition'!C1850 & \"\"\",\"\"\" & 'BX Language acquisition'!B1850 & \"\"\",\"\"\" & 'BX Language acquisition'!D1850 & \"\"\"\"","v":"\" \",\"\",\"\",\"\""}]
[{"$f":"\"\"\" \"& 'BX Language acquisition'!A1851 & \"\"\",\"\"\" & 'BX Language acquisition'!C1851 & \"\"\",\"\"\" & 'BX Language acquisition'!B1851 & \"\"\",\"\"\" & 'BX Language acquisition'!D1851 & \"\"\"\"","v":"\" \",\"\",\"\",\"\""}]
[{"$f":"\"\"\" \"& 'BX Language acquisition'!A1852 & \"\"\",\"\"\" & 'BX Language acquisition'!C1852 & \"\"\",\"\"\" & 'BX Language acquisition'!B1852 & \"\"\",\"\"\" & 'BX Language acquisition'!D1852 & \"\"\"\"","v":"\" \",\"\",\"\",\"\""}]
[{"$f":"\"\"\" \"& 'BX Language acquisition'!A1853 & \"\"\",\"\"\" & 'BX Language acquisition'!C1853 & \"\"\",\"\"\" & 'BX Language acquisition'!B1853 & \"\"\",\"\"\" & 'BX Language acquisition'!D1853 & \"\"\"\"","v":"\" \",\"\",\"\",\"\""}]
[{"$f":"\"\"\" \"& 'BX Language acquisition'!A1854 & \"\"\",\"\"\" & 'BX Language acquisition'!C1854 & \"\"\",\"\"\" & 'BX Language acquisition'!B1854 & \"\"\",\"\"\" & 'BX Language acquisition'!D1854 & \"\"\"\"","v":"\" \",\"\",\"\",\"\""}]
[{"$f":"\"\"\" \"& 'BX Language acquisition'!A1855 & \"\"\",\"\"\" & 'BX Language acquisition'!C1855 & \"\"\",\"\"\" & 'BX Language acquisition'!B1855 & \"\"\",\"\"\" & 'BX Language acquisition'!D1855 & \"\"\"\"","v":"\" \",\"\",\"\",\"\""}]
[{"$f":"\"\"\" \"& 'BX Language acquisition'!A1856 & \"\"\",\"\"\" & 'BX Language acquisition'!C1856 & \"\"\",\"\"\" & 'BX Language acquisition'!B1856 & \"\"\",\"\"\" & 'BX Language acquisition'!D1856 & \"\"\"\"","v":"\" \",\"\",\"\",\"\""}]
[{"$f":"\"\"\" \"& 'BX Language acquisition'!A1857 & \"\"\",\"\"\" & 'BX Language acquisition'!C1857 & \"\"\",\"\"\" & 'BX Language acquisition'!B1857 & \"\"\",\"\"\" & 'BX Language acquisition'!D1857 & \"\"\"\"","v":"\" \",\"\",\"\",\"\""}]
[{"$f":"\"\"\" \"& 'BX Language acquisition'!A1858 & \"\"\",\"\"\" & 'BX Language acquisition'!C1858 & \"\"\",\"\"\" & 'BX Language acquisition'!B1858 & \"\"\",\"\"\" & 'BX Language acquisition'!D1858 & \"\"\"\"","v":"\" \",\"\",\"\",\"\""}]
[{"$f":"\"\"\" \"& 'BX Language acquisition'!A1859 & \"\"\",\"\"\" & 'BX Language acquisition'!C1859 & \"\"\",\"\"\" & 'BX Language acquisition'!B1859 & \"\"\",\"\"\" & 'BX Language acquisition'!D1859 & \"\"\"\"","v":"\" \",\"\",\"\",\"\""}]
[{"$f":"\"\"\" \"& 'BX Language acquisition'!A1860 & \"\"\",\"\"\" & 'BX Language acquisition'!C1860 & \"\"\",\"\"\" & 'BX Language acquisition'!B1860 & \"\"\",\"\"\" & 'BX Language acquisition'!D1860 & \"\"\"\"","v":"\" \",\"\",\"\",\"\""}]
[{"$f":"\"\"\" \"& 'BX Language acquisition'!A1861 & \"\"\",\"\"\" & 'BX Language acquisition'!C1861 & \"\"\",\"\"\" & 'BX Language acquisition'!B1861 & \"\"\",\"\"\" & 'BX Language acquisition'!D1861 & \"\"\"\"","v":"\" \",\"\",\"\",\"\""}]
[{"$f":"\"\"\" \"& 'BX Language acquisition'!A1862 & \"\"\",\"\"\" & 'BX Language acquisition'!C1862 & \"\"\",\"\"\" & 'BX Language acquisition'!B1862 & \"\"\",\"\"\" & 'BX Language acquisition'!D1862 & \"\"\"\"","v":"\" \",\"\",\"\",\"\""}]
[{"$f":"\"\"\" \"& 'BX Language acquisition'!A1863 & \"\"\",\"\"\" & 'BX Language acquisition'!C1863 & \"\"\",\"\"\" & 'BX Language acquisition'!B1863 & \"\"\",\"\"\" & 'BX Language acquisition'!D1863 & \"\"\"\"","v":"\" \",\"\",\"\",\"\""}]
[{"$f":"\"\"\" \"& 'BX Language acquisition'!A1864 & \"\"\",\"\"\" & 'BX Language acquisition'!C1864 & \"\"\",\"\"\" & 'BX Language acquisition'!B1864 & \"\"\",\"\"\" & 'BX Language acquisition'!D1864 & \"\"\"\"","v":"\" \",\"\",\"\",\"\""}]
[{"$f":"\"\"\" \"& 'BX Language acquisition'!A1865 & \"\"\",\"\"\" & 'BX Language acquisition'!C1865 & \"\"\",\"\"\" & 'BX Language acquisition'!B1865 & \"\"\",\"\"\" & 'BX Language acquisition'!D1865 & \"\"\"\"","v":"\" \",\"\",\"\",\"\""}]
[{"$f":"\"\"\" \"& 'BX Language acquisition'!A1866 & \"\"\",\"\"\" & 'BX Language acquisition'!C1866 & \"\"\",\"\"\" & 'BX Language acquisition'!B1866 & \"\"\",\"\"\" & 'BX Language acquisition'!D1866 & \"\"\"\"","v":"\" \",\"\",\"\",\"\""}]
[{"$f":"\"\"\" \"& 'BX Language acquisition'!A1867 & \"\"\",\"\"\" & 'BX Language acquisition'!C1867 & \"\"\",\"\"\" & 'BX Language acquisition'!B1867 & \"\"\",\"\"\" & 'BX Language acquisition'!D1867 & \"\"\"\"","v":"\" \",\"\",\"\",\"\""}]
[{"$f":"\"\"\" \"& 'BX Language acquisition'!A1868 & \"\"\",\"\"\" & 'BX Language acquisition'!C1868 & \"\"\",\"\"\" & 'BX Language acquisition'!B1868 & \"\"\",\"\"\" & 'BX Language acquisition'!D1868 & \"\"\"\"","v":"\" \",\"\",\"\",\"\""}]
[{"$f":"\"\"\" \"& 'BX Language acquisition'!A1869 & \"\"\",\"\"\" & 'BX Language acquisition'!C1869 & \"\"\",\"\"\" & 'BX Language acquisition'!B1869 & \"\"\",\"\"\" & 'BX Language acquisition'!D1869 & \"\"\"\"","v":"\" \",\"\",\"\",\"\""}]
[{"$f":"\"\"\" \"& 'BX Language acquisition'!A1870 & \"\"\",\"\"\" & 'BX Language acquisition'!C1870 & \"\"\",\"\"\" & 'BX Language acquisition'!B1870 & \"\"\",\"\"\" & 'BX Language acquisition'!D1870 & \"\"\"\"","v":"\" \",\"\",\"\",\"\""}]
[{"$f":"\"\"\" \"& 'BX Language acquisition'!A1871 & \"\"\",\"\"\" & 'BX Language acquisition'!C1871 & \"\"\",\"\"\" & 'BX Language acquisition'!B1871 & \"\"\",\"\"\" & 'BX Language acquisition'!D1871 & \"\"\"\"","v":"\" \",\"\",\"\",\"\""}]
[{"$f":"\"\"\" \"& 'BX Language acquisition'!A1872 & \"\"\",\"\"\" & 'BX Language acquisition'!C1872 & \"\"\",\"\"\" & 'BX Language acquisition'!B1872 & \"\"\",\"\"\" & 'BX Language acquisition'!D1872 & \"\"\"\"","v":"\" \",\"\",\"\",\"\""}]
[{"$f":"\"\"\" \"& 'BX Language acquisition'!A1873 & \"\"\",\"\"\" & 'BX Language acquisition'!C1873 & \"\"\",\"\"\" & 'BX Language acquisition'!B1873 & \"\"\",\"\"\" & 'BX Language acquisition'!D1873 & \"\"\"\"","v":"\" \",\"\",\"\",\"\""}]
[{"$f":"\"\"\" \"& 'BX Language acquisition'!A1874 & \"\"\",\"\"\" & 'BX Language acquisition'!C1874 & \"\"\",\"\"\" & 'BX Language acquisition'!B1874 & \"\"\",\"\"\" & 'BX Language acquisition'!D1874 & \"\"\"\"","v":"\" \",\"\",\"\",\"\""}]
[{"$f":"\"\"\" \"& 'BX Language acquisition'!A1875 & \"\"\",\"\"\" & 'BX Language acquisition'!C1875 & \"\"\",\"\"\" & 'BX Language acquisition'!B1875 & \"\"\",\"\"\" & 'BX Language acquisition'!D1875 & \"\"\"\"","v":"\" \",\"\",\"\",\"\""}]
[{"$f":"\"\"\" \"& 'BX Language acquisition'!A1876 & \"\"\",\"\"\" & 'BX Language acquisition'!C1876 & \"\"\",\"\"\" & 'BX Language acquisition'!B1876 & \"\"\",\"\"\" & 'BX Language acquisition'!D1876 & \"\"\"\"","v":"\" \",\"\",\"\",\"\""}]
[{"$f":"\"\"\" \"& 'BX Language acquisition'!A1877 & \"\"\",\"\"\" & 'BX Language acquisition'!C1877 & \"\"\",\"\"\" & 'BX Language acquisition'!B1877 & \"\"\",\"\"\" & 'BX Language acquisition'!D1877 & \"\"\"\"","v":"\" \",\"\",\"\",\"\""}]
[{"$f":"\"\"\" \"& 'BX Language acquisition'!A1878 & \"\"\",\"\"\" & 'BX Language acquisition'!C1878 & \"\"\",\"\"\" & 'BX Language acquisition'!B1878 & \"\"\",\"\"\" & 'BX Language acquisition'!D1878 & \"\"\"\"","v":"\" \",\"\",\"\",\"\""}]
[{"$f":"\"\"\" \"& 'BX Language acquisition'!A1879 & \"\"\",\"\"\" & 'BX Language acquisition'!C1879 & \"\"\",\"\"\" & 'BX Language acquisition'!B1879 & \"\"\",\"\"\" & 'BX Language acquisition'!D1879 & \"\"\"\"","v":"\" \",\"\",\"\",\"\""}]
[{"$f":"\"\"\" \"& 'BX Language acquisition'!A1880 & \"\"\",\"\"\" & 'BX Language acquisition'!C1880 & \"\"\",\"\"\" & 'BX Language acquisition'!B1880 & \"\"\",\"\"\" & 'BX Language acquisition'!D1880 & \"\"\"\"","v":"\" \",\"\",\"\",\"\""}]
[{"$f":"\"\"\" \"& 'BX Language acquisition'!A1881 & \"\"\",\"\"\" & 'BX Language acquisition'!C1881 & \"\"\",\"\"\" & 'BX Language acquisition'!B1881 & \"\"\",\"\"\" & 'BX Language acquisition'!D1881 & \"\"\"\"","v":"\" \",\"\",\"\",\"\""}]
[{"$f":"\"\"\" \"& 'BX Language acquisition'!A1882 & \"\"\",\"\"\" & 'BX Language acquisition'!C1882 & \"\"\",\"\"\" & 'BX Language acquisition'!B1882 & \"\"\",\"\"\" & 'BX Language acquisition'!D1882 & \"\"\"\"","v":"\" \",\"\",\"\",\"\""}]
[{"$f":"\"\"\" \"& 'BX Language acquisition'!A1883 & \"\"\",\"\"\" & 'BX Language acquisition'!C1883 & \"\"\",\"\"\" & 'BX Language acquisition'!B1883 & \"\"\",\"\"\" & 'BX Language acquisition'!D1883 & \"\"\"\"","v":"\" \",\"\",\"\",\"\""}]
[{"$f":"\"\"\" \"& 'BX Language acquisition'!A1884 & \"\"\",\"\"\" & 'BX Language acquisition'!C1884 & \"\"\",\"\"\" & 'BX Language acquisition'!B1884 & \"\"\",\"\"\" & 'BX Language acquisition'!D1884 & \"\"\"\"","v":"\" \",\"\",\"\",\"\""}]
[{"$f":"\"\"\" \"& 'BX Language acquisition'!A1885 & \"\"\",\"\"\" & 'BX Language acquisition'!C1885 & \"\"\",\"\"\" & 'BX Language acquisition'!B1885 & \"\"\",\"\"\" & 'BX Language acquisition'!D1885 & \"\"\"\"","v":"\" \",\"\",\"\",\"\""}]
[{"$f":"\"\"\" \"& 'BX Language acquisition'!A1886 & \"\"\",\"\"\" & 'BX Language acquisition'!C1886 & \"\"\",\"\"\" & 'BX Language acquisition'!B1886 & \"\"\",\"\"\" & 'BX Language acquisition'!D1886 & \"\"\"\"","v":"\" \",\"\",\"\",\"\""}]
[{"$f":"\"\"\" \"& 'BX Language acquisition'!A1887 & \"\"\",\"\"\" & 'BX Language acquisition'!C1887 & \"\"\",\"\"\" & 'BX Language acquisition'!B1887 & \"\"\",\"\"\" & 'BX Language acquisition'!D1887 & \"\"\"\"","v":"\" \",\"\",\"\",\"\""}]
[{"$f":"\"\"\" \"& 'BX Language acquisition'!A1888 & \"\"\",\"\"\" & 'BX Language acquisition'!C1888 & \"\"\",\"\"\" & 'BX Language acquisition'!B1888 & \"\"\",\"\"\" & 'BX Language acquisition'!D1888 & \"\"\"\"","v":"\" \",\"\",\"\",\"\""}]
[{"$f":"\"\"\" \"& 'BX Language acquisition'!A1889 & \"\"\",\"\"\" & 'BX Language acquisition'!C1889 & \"\"\",\"\"\" & 'BX Language acquisition'!B1889 & \"\"\",\"\"\" & 'BX Language acquisition'!D1889 & \"\"\"\"","v":"\" \",\"\",\"\",\"\""}]
[{"$f":"\"\"\" \"& 'BX Language acquisition'!A1890 & \"\"\",\"\"\" & 'BX Language acquisition'!C1890 & \"\"\",\"\"\" & 'BX Language acquisition'!B1890 & \"\"\",\"\"\" & 'BX Language acquisition'!D1890 & \"\"\"\"","v":"\" \",\"\",\"\",\"\""}]
[{"$f":"\"\"\" \"& 'BX Language acquisition'!A1891 & \"\"\",\"\"\" & 'BX Language acquisition'!C1891 & \"\"\",\"\"\" & 'BX Language acquisition'!B1891 & \"\"\",\"\"\" & 'BX Language acquisition'!D1891 & \"\"\"\"","v":"\" \",\"\",\"\",\"\""}]
[{"$f":"\"\"\" \"& 'BX Language acquisition'!A1892 & \"\"\",\"\"\" & 'BX Language acquisition'!C1892 & \"\"\",\"\"\" & 'BX Language acquisition'!B1892 & \"\"\",\"\"\" & 'BX Language acquisition'!D1892 & \"\"\"\"","v":"\" \",\"\",\"\",\"\""}]
[{"$f":"\"\"\" \"& 'BX Language acquisition'!A1893 & \"\"\",\"\"\" & 'BX Language acquisition'!C1893 & \"\"\",\"\"\" & 'BX Language acquisition'!B1893 & \"\"\",\"\"\" & 'BX Language acquisition'!D1893 & \"\"\"\"","v":"\" \",\"\",\"\",\"\""}]
[{"$f":"\"\"\" \"& 'BX Language acquisition'!A1894 & \"\"\",\"\"\" & 'BX Language acquisition'!C1894 & \"\"\",\"\"\" & 'BX Language acquisition'!B1894 & \"\"\",\"\"\" & 'BX Language acquisition'!D1894 & \"\"\"\"","v":"\" \",\"\",\"\",\"\""}]
[{"$f":"\"\"\" \"& 'BX Language acquisition'!A1895 & \"\"\",\"\"\" & 'BX Language acquisition'!C1895 & \"\"\",\"\"\" & 'BX Language acquisition'!B1895 & \"\"\",\"\"\" & 'BX Language acquisition'!D1895 & \"\"\"\"","v":"\" \",\"\",\"\",\"\""}]
[{"$f":"\"\"\" \"& 'BX Language acquisition'!A1896 & \"\"\",\"\"\" & 'BX Language acquisition'!C1896 & \"\"\",\"\"\" & 'BX Language acquisition'!B1896 & \"\"\",\"\"\" & 'BX Language acquisition'!D1896 & \"\"\"\"","v":"\" \",\"\",\"\",\"\""}]
[{"$f":"\"\"\" \"& 'BX Language acquisition'!A1897 & \"\"\",\"\"\" & 'BX Language acquisition'!C1897 & \"\"\",\"\"\" & 'BX Language acquisition'!B1897 & \"\"\",\"\"\" & 'BX Language acquisition'!D1897 & \"\"\"\"","v":"\" \",\"\",\"\",\"\""}]
[{"$f":"\"\"\" \"& 'BX Language acquisition'!A1898 & \"\"\",\"\"\" & 'BX Language acquisition'!C1898 & \"\"\",\"\"\" & 'BX Language acquisition'!B1898 & \"\"\",\"\"\" & 'BX Language acquisition'!D1898 & \"\"\"\"","v":"\" \",\"\",\"\",\"\""}]
[{"$f":"\"\"\" \"& 'BX Language acquisition'!A1899 & \"\"\",\"\"\" & 'BX Language acquisition'!C1899 & \"\"\",\"\"\" & 'BX Language acquisition'!B1899 & \"\"\",\"\"\" & 'BX Language acquisition'!D1899 & \"\"\"\"","v":"\" \",\"\",\"\",\"\""}]
[{"$f":"\"\"\" \"& 'BX Language acquisition'!A1900 & \"\"\",\"\"\" & 'BX Language acquisition'!C1900 & \"\"\",\"\"\" & 'BX Language acquisition'!B1900 & \"\"\",\"\"\" & 'BX Language acquisition'!D1900 & \"\"\"\"","v":"\" \",\"\",\"\",\"\""}]
[{"$f":"\"\"\" \"& 'BX Language acquisition'!A1901 & \"\"\",\"\"\" & 'BX Language acquisition'!C1901 & \"\"\",\"\"\" & 'BX Language acquisition'!B1901 & \"\"\",\"\"\" & 'BX Language acquisition'!D1901 & \"\"\"\"","v":"\" \",\"\",\"\",\"\""}]
[{"$f":"\"\"\" \"& 'BX Language acquisition'!A1902 & \"\"\",\"\"\" & 'BX Language acquisition'!C1902 & \"\"\",\"\"\" & 'BX Language acquisition'!B1902 & \"\"\",\"\"\" & 'BX Language acquisition'!D1902 & \"\"\"\"","v":"\" \",\"\",\"\",\"\""}]
[{"$f":"\"\"\" \"& 'BX Language acquisition'!A1903 & \"\"\",\"\"\" & 'BX Language acquisition'!C1903 & \"\"\",\"\"\" & 'BX Language acquisition'!B1903 & \"\"\",\"\"\" & 'BX Language acquisition'!D1903 & \"\"\"\"","v":"\" \",\"\",\"\",\"\""}]
[{"$f":"\"\"\" \"& 'BX Language acquisition'!A1904 & \"\"\",\"\"\" & 'BX Language acquisition'!C1904 & \"\"\",\"\"\" & 'BX Language acquisition'!B1904 & \"\"\",\"\"\" & 'BX Language acquisition'!D1904 & \"\"\"\"","v":"\" \",\"\",\"\",\"\""}]
[{"$f":"\"\"\" \"& 'BX Language acquisition'!A1905 & \"\"\",\"\"\" & 'BX Language acquisition'!C1905 & \"\"\",\"\"\" & 'BX Language acquisition'!B1905 & \"\"\",\"\"\" & 'BX Language acquisition'!D1905 & \"\"\"\"","v":"\" \",\"\",\"\",\"\""}]
[{"$f":"\"\"\" \"& 'BX Language acquisition'!A1906 & \"\"\",\"\"\" & 'BX Language acquisition'!C1906 & \"\"\",\"\"\" & 'BX Language acquisition'!B1906 & \"\"\",\"\"\" & 'BX Language acquisition'!D1906 & \"\"\"\"","v":"\" \",\"\",\"\",\"\""}]
[{"$f":"\"\"\" \"& 'BX Language acquisition'!A1907 & \"\"\",\"\"\" & 'BX Language acquisition'!C1907 & \"\"\",\"\"\" & 'BX Language acquisition'!B1907 & \"\"\",\"\"\" & 'BX Language acquisition'!D1907 & \"\"\"\"","v":"\" \",\"\",\"\",\"\""}]
[{"$f":"\"\"\" \"& 'BX Language acquisition'!A1908 & \"\"\",\"\"\" & 'BX Language acquisition'!C1908 & \"\"\",\"\"\" & 'BX Language acquisition'!B1908 & \"\"\",\"\"\" & 'BX Language acquisition'!D1908 & \"\"\"\"","v":"\" \",\"\",\"\",\"\""}]
[{"$f":"\"\"\" \"& 'BX Language acquisition'!A1909 & \"\"\",\"\"\" & 'BX Language acquisition'!C1909 & \"\"\",\"\"\" & 'BX Language acquisition'!B1909 & \"\"\",\"\"\" & 'BX Language acquisition'!D1909 & \"\"\"\"","v":"\" \",\"\",\"\",\"\""}]
[{"$f":"\"\"\" \"& 'BX Language acquisition'!A1910 & \"\"\",\"\"\" & 'BX Language acquisition'!C1910 & \"\"\",\"\"\" & 'BX Language acquisition'!B1910 & \"\"\",\"\"\" & 'BX Language acquisition'!D1910 & \"\"\"\"","v":"\" \",\"\",\"\",\"\""}]
[{"$f":"\"\"\" \"& 'BX Language acquisition'!A1911 & \"\"\",\"\"\" & 'BX Language acquisition'!C1911 & \"\"\",\"\"\" & 'BX Language acquisition'!B1911 & \"\"\",\"\"\" & 'BX Language acquisition'!D1911 & \"\"\"\"","v":"\" \",\"\",\"\",\"\""}]
[{"$f":"\"\"\" \"& 'BX Language acquisition'!A1912 & \"\"\",\"\"\" & 'BX Language acquisition'!C1912 & \"\"\",\"\"\" & 'BX Language acquisition'!B1912 & \"\"\",\"\"\" & 'BX Language acquisition'!D1912 & \"\"\"\"","v":"\" \",\"\",\"\",\"\""}]
[{"$f":"\"\"\" \"& 'BX Language acquisition'!A1913 & \"\"\",\"\"\" & 'BX Language acquisition'!C1913 & \"\"\",\"\"\" & 'BX Language acquisition'!B1913 & \"\"\",\"\"\" & 'BX Language acquisition'!D1913 & \"\"\"\"","v":"\" \",\"\",\"\",\"\""}]
[{"$f":"\"\"\" \"& 'BX Language acquisition'!A1914 & \"\"\",\"\"\" & 'BX Language acquisition'!C1914 & \"\"\",\"\"\" & 'BX Language acquisition'!B1914 & \"\"\",\"\"\" & 'BX Language acquisition'!D1914 & \"\"\"\"","v":"\" \",\"\",\"\",\"\""}]
[{"$f":"\"\"\" \"& 'BX Language acquisition'!A1915 & \"\"\",\"\"\" & 'BX Language acquisition'!C1915 & \"\"\",\"\"\" & 'BX Language acquisition'!B1915 & \"\"\",\"\"\" & 'BX Language acquisition'!D1915 & \"\"\"\"","v":"\" \",\"\",\"\",\"\""}]
[{"$f":"\"\"\" \"& 'BX Language acquisition'!A1916 & \"\"\",\"\"\" & 'BX Language acquisition'!C1916 & \"\"\",\"\"\" & 'BX Language acquisition'!B1916 & \"\"\",\"\"\" & 'BX Language acquisition'!D1916 & \"\"\"\"","v":"\" \",\"\",\"\",\"\""}]
[{"$f":"\"\"\" \"& 'BX Language acquisition'!A1917 & \"\"\",\"\"\" & 'BX Language acquisition'!C1917 & \"\"\",\"\"\" & 'BX Language acquisition'!B1917 & \"\"\",\"\"\" & 'BX Language acquisition'!D1917 & \"\"\"\"","v":"\" \",\"\",\"\",\"\""}]
[{"$f":"\"\"\" \"& 'BX Language acquisition'!A1918 & \"\"\",\"\"\" & 'BX Language acquisition'!C1918 & \"\"\",\"\"\" & 'BX Language acquisition'!B1918 & \"\"\",\"\"\" & 'BX Language acquisition'!D1918 & \"\"\"\"","v":"\" \",\"\",\"\",\"\""}]
[{"$f":"\"\"\" \"& 'BX Language acquisition'!A1919 & \"\"\",\"\"\" & 'BX Language acquisition'!C1919 & \"\"\",\"\"\" & 'BX Language acquisition'!B1919 & \"\"\",\"\"\" & 'BX Language acquisition'!D1919 & \"\"\"\"","v":"\" \",\"\",\"\",\"\""}]
[{"$f":"\"\"\" \"& 'BX Language acquisition'!A1920 & \"\"\",\"\"\" & 'BX Language acquisition'!C1920 & \"\"\",\"\"\" & 'BX Language acquisition'!B1920 & \"\"\",\"\"\" & 'BX Language acquisition'!D1920 & \"\"\"\"","v":"\" \",\"\",\"\",\"\""}]
[{"$f":"\"\"\" \"& 'BX Language acquisition'!A1921 & \"\"\",\"\"\" & 'BX Language acquisition'!C1921 & \"\"\",\"\"\" & 'BX Language acquisition'!B1921 & \"\"\",\"\"\" & 'BX Language acquisition'!D1921 & \"\"\"\"","v":"\" \",\"\",\"\",\"\""}]
[{"$f":"\"\"\" \"& 'BX Language acquisition'!A1922 & \"\"\",\"\"\" & 'BX Language acquisition'!C1922 & \"\"\",\"\"\" & 'BX Language acquisition'!B1922 & \"\"\",\"\"\" & 'BX Language acquisition'!D1922 & \"\"\"\"","v":"\" \",\"\",\"\",\"\""}]
[{"$f":"\"\"\" \"& 'BX Language acquisition'!A1923 & \"\"\",\"\"\" & 'BX Language acquisition'!C1923 & \"\"\",\"\"\" & 'BX Language acquisition'!B1923 & \"\"\",\"\"\" & 'BX Language acquisition'!D1923 & \"\"\"\"","v":"\" \",\"\",\"\",\"\""}]
[{"$f":"\"\"\" \"& 'BX Language acquisition'!A1924 & \"\"\",\"\"\" & 'BX Language acquisition'!C1924 & \"\"\",\"\"\" & 'BX Language acquisition'!B1924 & \"\"\",\"\"\" & 'BX Language acquisition'!D1924 & \"\"\"\"","v":"\" \",\"\",\"\",\"\""}]
[{"$f":"\"\"\" \"& 'BX Language acquisition'!A1925 & \"\"\",\"\"\" & 'BX Language acquisition'!C1925 & \"\"\",\"\"\" & 'BX Language acquisition'!B1925 & \"\"\",\"\"\" & 'BX Language acquisition'!D1925 & \"\"\"\"","v":"\" \",\"\",\"\",\"\""}]
[{"$f":"\"\"\" \"& 'BX Language acquisition'!A1926 & \"\"\",\"\"\" & 'BX Language acquisition'!C1926 & \"\"\",\"\"\" & 'BX Language acquisition'!B1926 & \"\"\",\"\"\" & 'BX Language acquisition'!D1926 & \"\"\"\"","v":"\" \",\"\",\"\",\"\""}]
[{"$f":"\"\"\" \"& 'BX Language acquisition'!A1927 & \"\"\",\"\"\" & 'BX Language acquisition'!C1927 & \"\"\",\"\"\" & 'BX Language acquisition'!B1927 & \"\"\",\"\"\" & 'BX Language acquisition'!D1927 & \"\"\"\"","v":"\" \",\"\",\"\",\"\""}]
[{"$f":"\"\"\" \"& 'BX Language acquisition'!A1928 & \"\"\",\"\"\" & 'BX Language acquisition'!C1928 & \"\"\",\"\"\" & 'BX Language acquisition'!B1928 & \"\"\",\"\"\" & 'BX Language acquisition'!D1928 & \"\"\"\"","v":"\" \",\"\",\"\",\"\""}]
[{"$f":"\"\"\" \"& 'BX Language acquisition'!A1929 & \"\"\",\"\"\" & 'BX Language acquisition'!C1929 & \"\"\",\"\"\" & 'BX Language acquisition'!B1929 & \"\"\",\"\"\" & 'BX Language acquisition'!D1929 & \"\"\"\"","v":"\" \",\"\",\"\",\"\""}]
[{"$f":"\"\"\" \"& 'BX Language acquisition'!A1930 & \"\"\",\"\"\" & 'BX Language acquisition'!C1930 & \"\"\",\"\"\" & 'BX Language acquisition'!B1930 & \"\"\",\"\"\" & 'BX Language acquisition'!D1930 & \"\"\"\"","v":"\" \",\"\",\"\",\"\""}]
[{"$f":"\"\"\" \"& 'BX Language acquisition'!A1931 & \"\"\",\"\"\" & 'BX Language acquisition'!C1931 & \"\"\",\"\"\" & 'BX Language acquisition'!B1931 & \"\"\",\"\"\" & 'BX Language acquisition'!D1931 & \"\"\"\"","v":"\" \",\"\",\"\",\"\""}]
[{"$f":"\"\"\" \"& 'BX Language acquisition'!A1932 & \"\"\",\"\"\" & 'BX Language acquisition'!C1932 & \"\"\",\"\"\" & 'BX Language acquisition'!B1932 & \"\"\",\"\"\" & 'BX Language acquisition'!D1932 & \"\"\"\"","v":"\" \",\"\",\"\",\"\""}]
[{"$f":"\"\"\" \"& 'BX Language acquisition'!A1933 & \"\"\",\"\"\" & 'BX Language acquisition'!C1933 & \"\"\",\"\"\" & 'BX Language acquisition'!B1933 & \"\"\",\"\"\" & 'BX Language acquisition'!D1933 & \"\"\"\"","v":"\" \",\"\",\"\",\"\""}]
[{"$f":"\"\"\" \"& 'BX Language acquisition'!A1934 & \"\"\",\"\"\" & 'BX Language acquisition'!C1934 & \"\"\",\"\"\" & 'BX Language acquisition'!B1934 & \"\"\",\"\"\" & 'BX Language acquisition'!D1934 & \"\"\"\"","v":"\" \",\"\",\"\",\"\""}]
[{"$f":"\"\"\" \"& 'BX Language acquisition'!A1935 & \"\"\",\"\"\" & 'BX Language acquisition'!C1935 & \"\"\",\"\"\" & 'BX Language acquisition'!B1935 & \"\"\",\"\"\" & 'BX Language acquisition'!D1935 & \"\"\"\"","v":"\" \",\"\",\"\",\"\""}]
[{"$f":"\"\"\" \"& 'BX Language acquisition'!A1936 & \"\"\",\"\"\" & 'BX Language acquisition'!C1936 & \"\"\",\"\"\" & 'BX Language acquisition'!B1936 & \"\"\",\"\"\" & 'BX Language acquisition'!D1936 & \"\"\"\"","v":"\" \",\"\",\"\",\"\""}]
[{"$f":"\"\"\" \"& 'BX Language acquisition'!A1937 & \"\"\",\"\"\" & 'BX Language acquisition'!C1937 & \"\"\",\"\"\" & 'BX Language acquisition'!B1937 & \"\"\",\"\"\" & 'BX Language acquisition'!D1937 & \"\"\"\"","v":"\" \",\"\",\"\",\"\""}]
[{"$f":"\"\"\" \"& 'BX Language acquisition'!A1938 & \"\"\",\"\"\" & 'BX Language acquisition'!C1938 & \"\"\",\"\"\" & 'BX Language acquisition'!B1938 & \"\"\",\"\"\" & 'BX Language acquisition'!D1938 & \"\"\"\"","v":"\" \",\"\",\"\",\"\""}]
[{"$f":"\"\"\" \"& 'BX Language acquisition'!A1939 & \"\"\",\"\"\" & 'BX Language acquisition'!C1939 & \"\"\",\"\"\" & 'BX Language acquisition'!B1939 & \"\"\",\"\"\" & 'BX Language acquisition'!D1939 & \"\"\"\"","v":"\" \",\"\",\"\",\"\""}]
[{"$f":"\"\"\" \"& 'BX Language acquisition'!A1940 & \"\"\",\"\"\" & 'BX Language acquisition'!C1940 & \"\"\",\"\"\" & 'BX Language acquisition'!B1940 & \"\"\",\"\"\" & 'BX Language acquisition'!D1940 & \"\"\"\"","v":"\" \",\"\",\"\",\"\""}]
[{"$f":"\"\"\" \"& 'BX Language acquisition'!A1941 & \"\"\",\"\"\" & 'BX Language acquisition'!C1941 & \"\"\",\"\"\" & 'BX Language acquisition'!B1941 & \"\"\",\"\"\" & 'BX Language acquisition'!D1941 & \"\"\"\"","v":"\" \",\"\",\"\",\"\""}]
[{"$f":"\"\"\" \"& 'BX Language acquisition'!A1942 & \"\"\",\"\"\" & 'BX Language acquisition'!C1942 & \"\"\",\"\"\" & 'BX Language acquisition'!B1942 & \"\"\",\"\"\" & 'BX Language acquisition'!D1942 & \"\"\"\"","v":"\" \",\"\",\"\",\"\""}]
[{"$f":"\"\"\" \"& 'BX Language acquisition'!A1943 & \"\"\",\"\"\" & 'BX Language acquisition'!C1943 & \"\"\",\"\"\" & 'BX Language acquisition'!B1943 & \"\"\",\"\"\" & 'BX Language acquisition'!D1943 & \"\"\"\"","v":"\" \",\"\",\"\",\"\""}]
[{"$f":"\"\"\" \"& 'BX Language acquisition'!A1944 & \"\"\",\"\"\" & 'BX Language acquisition'!C1944 & \"\"\",\"\"\" & 'BX Language acquisition'!B1944 & \"\"\",\"\"\" & 'BX Language acquisition'!D1944 & \"\"\"\"","v":"\" \",\"\",\"\",\"\""}]
[{"$f":"\"\"\" \"& 'BX Language acquisition'!A1945 & \"\"\",\"\"\" & 'BX Language acquisition'!C1945 & \"\"\",\"\"\" & 'BX Language acquisition'!B1945 & \"\"\",\"\"\" & 'BX Language acquisition'!D1945 & \"\"\"\"","v":"\" \",\"\",\"\",\"\""}]
[{"$f":"\"\"\" \"& 'BX Language acquisition'!A1946 & \"\"\",\"\"\" & 'BX Language acquisition'!C1946 & \"\"\",\"\"\" & 'BX Language acquisition'!B1946 & \"\"\",\"\"\" & 'BX Language acquisition'!D1946 & \"\"\"\"","v":"\" \",\"\",\"\",\"\""}]
[{"$f":"\"\"\" \"& 'BX Language acquisition'!A1947 & \"\"\",\"\"\" & 'BX Language acquisition'!C1947 & \"\"\",\"\"\" & 'BX Language acquisition'!B1947 & \"\"\",\"\"\" & 'BX Language acquisition'!D1947 & \"\"\"\"","v":"\" \",\"\",\"\",\"\""}]
[{"$f":"\"\"\" \"& 'BX Language acquisition'!A1948 & \"\"\",\"\"\" & 'BX Language acquisition'!C1948 & \"\"\",\"\"\" & 'BX Language acquisition'!B1948 & \"\"\",\"\"\" & 'BX Language acquisition'!D1948 & \"\"\"\"","v":"\" \",\"\",\"\",\"\""}]
[{"$f":"\"\"\" \"& 'BX Language acquisition'!A1949 & \"\"\",\"\"\" & 'BX Language acquisition'!C1949 & \"\"\",\"\"\" & 'BX Language acquisition'!B1949 & \"\"\",\"\"\" & 'BX Language acquisition'!D1949 & \"\"\"\"","v":"\" \",\"\",\"\",\"\""}]
[{"$f":"\"\"\" \"& 'BX Language acquisition'!A1950 & \"\"\",\"\"\" & 'BX Language acquisition'!C1950 & \"\"\",\"\"\" & 'BX Language acquisition'!B1950 & \"\"\",\"\"\" & 'BX Language acquisition'!D1950 & \"\"\"\"","v":"\" \",\"\",\"\",\"\""}]
[{"$f":"\"\"\" \"& 'BX Language acquisition'!A1951 & \"\"\",\"\"\" & 'BX Language acquisition'!C1951 & \"\"\",\"\"\" & 'BX Language acquisition'!B1951 & \"\"\",\"\"\" & 'BX Language acquisition'!D1951 & \"\"\"\"","v":"\" \",\"\",\"\",\"\""}]
[{"$f":"\"\"\" \"& 'BX Language acquisition'!A1952 & \"\"\",\"\"\" & 'BX Language acquisition'!C1952 & \"\"\",\"\"\" & 'BX Language acquisition'!B1952 & \"\"\",\"\"\" & 'BX Language acquisition'!D1952 & \"\"\"\"","v":"\" \",\"\",\"\",\"\""}]
[{"$f":"\"\"\" \"& 'BX Language acquisition'!A1953 & \"\"\",\"\"\" & 'BX Language acquisition'!C1953 & \"\"\",\"\"\" & 'BX Language acquisition'!B1953 & \"\"\",\"\"\" & 'BX Language acquisition'!D1953 & \"\"\"\"","v":"\" \",\"\",\"\",\"\""}]
[{"$f":"\"\"\" \"& 'BX Language acquisition'!A1954 & \"\"\",\"\"\" & 'BX Language acquisition'!C1954 & \"\"\",\"\"\" & 'BX Language acquisition'!B1954 & \"\"\",\"\"\" & 'BX Language acquisition'!D1954 & \"\"\"\"","v":"\" \",\"\",\"\",\"\""}]
[{"$f":"\"\"\" \"& 'BX Language acquisition'!A1955 & \"\"\",\"\"\" & 'BX Language acquisition'!C1955 & \"\"\",\"\"\" & 'BX Language acquisition'!B1955 & \"\"\",\"\"\" & 'BX Language acquisition'!D1955 & \"\"\"\"","v":"\" \",\"\",\"\",\"\""}]
[{"$f":"\"\"\" \"& 'BX Language acquisition'!A1956 & \"\"\",\"\"\" & 'BX Language acquisition'!C1956 & \"\"\",\"\"\" & 'BX Language acquisition'!B1956 & \"\"\",\"\"\" & 'BX Language acquisition'!D1956 & \"\"\"\"","v":"\" \",\"\",\"\",\"\""}]
[{"$f":"\"\"\" \"& 'BX Language acquisition'!A1957 & \"\"\",\"\"\" & 'BX Language acquisition'!C1957 & \"\"\",\"\"\" & 'BX Language acquisition'!B1957 & \"\"\",\"\"\" & 'BX Language acquisition'!D1957 & \"\"\"\"","v":"\" \",\"\",\"\",\"\""}]
[{"$f":"\"\"\" \"& 'BX Language acquisition'!A1958 & \"\"\",\"\"\" & 'BX Language acquisition'!C1958 & \"\"\",\"\"\" & 'BX Language acquisition'!B1958 & \"\"\",\"\"\" & 'BX Language acquisition'!D1958 & \"\"\"\"","v":"\" \",\"\",\"\",\"\""}]
[{"$f":"\"\"\" \"& 'BX Language acquisition'!A1959 & \"\"\",\"\"\" & 'BX Language acquisition'!C1959 & \"\"\",\"\"\" & 'BX Language acquisition'!B1959 & \"\"\",\"\"\" & 'BX Language acquisition'!D1959 & \"\"\"\"","v":"\" \",\"\",\"\",\"\""}]
[{"$f":"\"\"\" \"& 'BX Language acquisition'!A1960 & \"\"\",\"\"\" & 'BX Language acquisition'!C1960 & \"\"\",\"\"\" & 'BX Language acquisition'!B1960 & \"\"\",\"\"\" & 'BX Language acquisition'!D1960 & \"\"\"\"","v":"\" \",\"\",\"\",\"\""}]
[{"$f":"\"\"\" \"& 'BX Language acquisition'!A1961 & \"\"\",\"\"\" & 'BX Language acquisition'!C1961 & \"\"\",\"\"\" & 'BX Language acquisition'!B1961 & \"\"\",\"\"\" & 'BX Language acquisition'!D1961 & \"\"\"\"","v":"\" \",\"\",\"\",\"\""}]
[{"$f":"\"\"\" \"& 'BX Language acquisition'!A1962 & \"\"\",\"\"\" & 'BX Language acquisition'!C1962 & \"\"\",\"\"\" & 'BX Language acquisition'!B1962 & \"\"\",\"\"\" & 'BX Language acquisition'!D1962 & \"\"\"\"","v":"\" \",\"\",\"\",\"\""}]
[{"$f":"\"\"\" \"& 'BX Language acquisition'!A1963 & \"\"\",\"\"\" & 'BX Language acquisition'!C1963 & \"\"\",\"\"\" & 'BX Language acquisition'!B1963 & \"\"\",\"\"\" & 'BX Language acquisition'!D1963 & \"\"\"\"","v":"\" \",\"\",\"\",\"\""}]
[{"$f":"\"\"\" \"& 'BX Language acquisition'!A1964 & \"\"\",\"\"\" & 'BX Language acquisition'!C1964 & \"\"\",\"\"\" & 'BX Language acquisition'!B1964 & \"\"\",\"\"\" & 'BX Language acquisition'!D1964 & \"\"\"\"","v":"\" \",\"\",\"\",\"\""}]
[{"$f":"\"\"\" \"& 'BX Language acquisition'!A1965 & \"\"\",\"\"\" & 'BX Language acquisition'!C1965 & \"\"\",\"\"\" & 'BX Language acquisition'!B1965 & \"\"\",\"\"\" & 'BX Language acquisition'!D1965 & \"\"\"\"","v":"\" \",\"\",\"\",\"\""}]
[{"$f":"\"\"\" \"& 'BX Language acquisition'!A1966 & \"\"\",\"\"\" & 'BX Language acquisition'!C1966 & \"\"\",\"\"\" & 'BX Language acquisition'!B1966 & \"\"\",\"\"\" & 'BX Language acquisition'!D1966 & \"\"\"\"","v":"\" \",\"\",\"\",\"\""}]
[{"$f":"\"\"\" \"& 'BX Language acquisition'!A1967 & \"\"\",\"\"\" & 'BX Language acquisition'!C1967 & \"\"\",\"\"\" & 'BX Language acquisition'!B1967 & \"\"\",\"\"\" & 'BX Language acquisition'!D1967 & \"\"\"\"","v":"\" \",\"\",\"\",\"\""}]
[{"$f":"\"\"\" \"& 'BX Language acquisition'!A1968 & \"\"\",\"\"\" & 'BX Language acquisition'!C1968 & \"\"\",\"\"\" & 'BX Language acquisition'!B1968 & \"\"\",\"\"\" & 'BX Language acquisition'!D1968 & \"\"\"\"","v":"\" \",\"\",\"\",\"\""}]
[{"$f":"\"\"\" \"& 'BX Language acquisition'!A1969 & \"\"\",\"\"\" & 'BX Language acquisition'!C1969 & \"\"\",\"\"\" & 'BX Language acquisition'!B1969 & \"\"\",\"\"\" & 'BX Language acquisition'!D1969 & \"\"\"\"","v":"\" \",\"\",\"\",\"\""}]
[{"$f":"\"\"\" \"& 'BX Language acquisition'!A1970 & \"\"\",\"\"\" & 'BX Language acquisition'!C1970 & \"\"\",\"\"\" & 'BX Language acquisition'!B1970 & \"\"\",\"\"\" & 'BX Language acquisition'!D1970 & \"\"\"\"","v":"\" \",\"\",\"\",\"\""}]
[{"$f":"\"\"\" \"& 'BX Language acquisition'!A1971 & \"\"\",\"\"\" & 'BX Language acquisition'!C1971 & \"\"\",\"\"\" & 'BX Language acquisition'!B1971 & \"\"\",\"\"\" & 'BX Language acquisition'!D1971 & \"\"\"\"","v":"\" \",\"\",\"\",\"\""}]
[{"$f":"\"\"\" \"& 'BX Language acquisition'!A1972 & \"\"\",\"\"\" & 'BX Language acquisition'!C1972 & \"\"\",\"\"\" & 'BX Language acquisition'!B1972 & \"\"\",\"\"\" & 'BX Language acquisition'!D1972 & \"\"\"\"","v":"\" \",\"\",\"\",\"\""}]
[{"$f":"\"\"\" \"& 'BX Language acquisition'!A1973 & \"\"\",\"\"\" & 'BX Language acquisition'!C1973 & \"\"\",\"\"\" & 'BX Language acquisition'!B1973 & \"\"\",\"\"\" & 'BX Language acquisition'!D1973 & \"\"\"\"","v":"\" \",\"\",\"\",\"\""}]
[{"$f":"\"\"\" \"& 'BX Language acquisition'!A1974 & \"\"\",\"\"\" & 'BX Language acquisition'!C1974 & \"\"\",\"\"\" & 'BX Language acquisition'!B1974 & \"\"\",\"\"\" & 'BX Language acquisition'!D1974 & \"\"\"\"","v":"\" \",\"\",\"\",\"\""}]
[{"$f":"\"\"\" \"& 'BX Language acquisition'!A1975 & \"\"\",\"\"\" & 'BX Language acquisition'!C1975 & \"\"\",\"\"\" & 'BX Language acquisition'!B1975 & \"\"\",\"\"\" & 'BX Language acquisition'!D1975 & \"\"\"\"","v":"\" \",\"\",\"\",\"\""}]
[{"$f":"\"\"\" \"& 'BX Language acquisition'!A1976 & \"\"\",\"\"\" & 'BX Language acquisition'!C1976 & \"\"\",\"\"\" & 'BX Language acquisition'!B1976 & \"\"\",\"\"\" & 'BX Language acquisition'!D1976 & \"\"\"\"","v":"\" \",\"\",\"\",\"\""}]
[{"$f":"\"\"\" \"& 'BX Language acquisition'!A1977 & \"\"\",\"\"\" & 'BX Language acquisition'!C1977 & \"\"\",\"\"\" & 'BX Language acquisition'!B1977 & \"\"\",\"\"\" & 'BX Language acquisition'!D1977 & \"\"\"\"","v":"\" \",\"\",\"\",\"\""}]
[{"$f":"\"\"\" \"& 'BX Language acquisition'!A1978 & \"\"\",\"\"\" & 'BX Language acquisition'!C1978 & \"\"\",\"\"\" & 'BX Language acquisition'!B1978 & \"\"\",\"\"\" & 'BX Language acquisition'!D1978 & \"\"\"\"","v":"\" \",\"\",\"\",\"\""}]
[{"$f":"\"\"\" \"& 'BX Language acquisition'!A1979 & \"\"\",\"\"\" & 'BX Language acquisition'!C1979 & \"\"\",\"\"\" & 'BX Language acquisition'!B1979 & \"\"\",\"\"\" & 'BX Language acquisition'!D1979 & \"\"\"\"","v":"\" \",\"\",\"\",\"\""}]
[{"$f":"\"\"\" \"& 'BX Language acquisition'!A1980 & \"\"\",\"\"\" & 'BX Language acquisition'!C1980 & \"\"\",\"\"\" & 'BX Language acquisition'!B1980 & \"\"\",\"\"\" & 'BX Language acquisition'!D1980 & \"\"\"\"","v":"\" \",\"\",\"\",\"\""}]
[{"$f":"\"\"\" \"& 'BX Language acquisition'!A1981 & \"\"\",\"\"\" & 'BX Language acquisition'!C1981 & \"\"\",\"\"\" & 'BX Language acquisition'!B1981 & \"\"\",\"\"\" & 'BX Language acquisition'!D1981 & \"\"\"\"","v":"\" \",\"\",\"\",\"\""}]
[{"$f":"\"\"\" \"& 'BX Language acquisition'!A1982 & \"\"\",\"\"\" & 'BX Language acquisition'!C1982 & \"\"\",\"\"\" & 'BX Language acquisition'!B1982 & \"\"\",\"\"\" & 'BX Language acquisition'!D1982 & \"\"\"\"","v":"\" \",\"\",\"\",\"\""}]
[{"$f":"\"\"\" \"& 'BX Language acquisition'!A1983 & \"\"\",\"\"\" & 'BX Language acquisition'!C1983 & \"\"\",\"\"\" & 'BX Language acquisition'!B1983 & \"\"\",\"\"\" & 'BX Language acquisition'!D1983 & \"\"\"\"","v":"\" \",\"\",\"\",\"\""}]
[{"$f":"\"\"\" \"& 'BX Language acquisition'!A1984 & \"\"\",\"\"\" & 'BX Language acquisition'!C1984 & \"\"\",\"\"\" & 'BX Language acquisition'!B1984 & \"\"\",\"\"\" & 'BX Language acquisition'!D1984 & \"\"\"\"","v":"\" \",\"\",\"\",\"\""}]
[{"$f":"\"\"\" \"& 'BX Language acquisition'!A1985 & \"\"\",\"\"\" & 'BX Language acquisition'!C1985 & \"\"\",\"\"\" & 'BX Language acquisition'!B1985 & \"\"\",\"\"\" & 'BX Language acquisition'!D1985 & \"\"\"\"","v":"\" \",\"\",\"\",\"\""}]
[{"$f":"\"\"\" \"& 'BX Language acquisition'!A1986 & \"\"\",\"\"\" & 'BX Language acquisition'!C1986 & \"\"\",\"\"\" & 'BX Language acquisition'!B1986 & \"\"\",\"\"\" & 'BX Language acquisition'!D1986 & \"\"\"\"","v":"\" \",\"\",\"\",\"\""}]
[{"$f":"\"\"\" \"& 'BX Language acquisition'!A1987 & \"\"\",\"\"\" & 'BX Language acquisition'!C1987 & \"\"\",\"\"\" & 'BX Language acquisition'!B1987 & \"\"\",\"\"\" & 'BX Language acquisition'!D1987 & \"\"\"\"","v":"\" \",\"\",\"\",\"\""}]
[{"$f":"\"\"\" \"& 'BX Language acquisition'!A1988 & \"\"\",\"\"\" & 'BX Language acquisition'!C1988 & \"\"\",\"\"\" & 'BX Language acquisition'!B1988 & \"\"\",\"\"\" & 'BX Language acquisition'!D1988 & \"\"\"\"","v":"\" \",\"\",\"\",\"\""}]
[{"$f":"\"\"\" \"& 'BX Language acquisition'!A1989 & \"\"\",\"\"\" & 'BX Language acquisition'!C1989 & \"\"\",\"\"\" & 'BX Language acquisition'!B1989 & \"\"\",\"\"\" & 'BX Language acquisition'!D1989 & \"\"\"\"","v":"\" \",\"\",\"\",\"\""}]
[{"$f":"\"\"\" \"& 'BX Language acquisition'!A1990 & \"\"\",\"\"\" & 'BX Language acquisition'!C1990 & \"\"\",\"\"\" & 'BX Language acquisition'!B1990 & \"\"\",\"\"\" & 'BX Language acquisition'!D1990 & \"\"\"\"","v":"\" \",\"\",\"\",\"\""}]
[{"$f":"\"\"\" \"& 'BX Language acquisition'!A1991 & \"\"\",\"\"\" & 'BX Language acquisition'!C1991 & \"\"\",\"\"\" & 'BX Language acquisition'!B1991 & \"\"\",\"\"\" & 'BX Language acquisition'!D1991 & \"\"\"\"","v":"\" \",\"\",\"\",\"\""}]
[{"$f":"\"\"\" \"& 'BX Language acquisition'!A1992 & \"\"\",\"\"\" & 'BX Language acquisition'!C1992 & \"\"\",\"\"\" & 'BX Language acquisition'!B1992 & \"\"\",\"\"\" & 'BX Language acquisition'!D1992 & \"\"\"\"","v":"\" \",\"\",\"\",\"\""}]
[{"$f":"\"\"\" \"& 'BX Language acquisition'!A1993 & \"\"\",\"\"\" & 'BX Language acquisition'!C1993 & \"\"\",\"\"\" & 'BX Language acquisition'!B1993 & \"\"\",\"\"\" & 'BX Language acquisition'!D1993 & \"\"\"\"","v":"\" \",\"\",\"\",\"\""}]
[{"$f":"\"\"\" \"& 'BX Language acquisition'!A1994 & \"\"\",\"\"\" & 'BX Language acquisition'!C1994 & \"\"\",\"\"\" & 'BX Language acquisition'!B1994 & \"\"\",\"\"\" & 'BX Language acquisition'!D1994 & \"\"\"\"","v":"\" \",\"\",\"\",\"\""}]
[{"$f":"\"\"\" \"& 'BX Language acquisition'!A1995 & \"\"\",\"\"\" & 'BX Language acquisition'!C1995 & \"\"\",\"\"\" & 'BX Language acquisition'!B1995 & \"\"\",\"\"\" & 'BX Language acquisition'!D1995 & \"\"\"\"","v":"\" \",\"\",\"\",\"\""}]
[{"$f":"\"\"\" \"& 'BX Language acquisition'!A1996 & \"\"\",\"\"\" & 'BX Language acquisition'!C1996 & \"\"\",\"\"\" & 'BX Language acquisition'!B1996 & \"\"\",\"\"\" & 'BX Language acquisition'!D1996 & \"\"\"\"","v":"\" \",\"\",\"\",\"\""}]
[{"$f":"\"\"\" \"& 'BX Language acquisition'!A1997 & \"\"\",\"\"\" & 'BX Language acquisition'!C1997 & \"\"\",\"\"\" & 'BX Language acquisition'!B1997 & \"\"\",\"\"\" & 'BX Language acquisition'!D1997 & \"\"\"\"","v":"\" \",\"\",\"\",\"\""}]
[{"$f":"\"\"\" \"& 'BX Language acquisition'!A1998 & \"\"\",\"\"\" & 'BX Language acquisition'!C1998 & \"\"\",\"\"\" & 'BX Language acquisition'!B1998 & \"\"\",\"\"\" & 'BX Language acquisition'!D1998 & \"\"\"\"","v":"\" \",\"\",\"\",\"\""}]
[{"$f":"\"\"\" \"& 'BX Language acquisition'!A1999 & \"\"\",\"\"\" & 'BX Language acquisition'!C1999 & \"\"\",\"\"\" & 'BX Language acquisition'!B1999 & \"\"\",\"\"\" & 'BX Language acquisition'!D1999 & \"\"\"\"","v":"\" \",\"\",\"\",\"\""}]
[{"$f":"\"\"\" \"& 'BX Language acquisition'!A2000 & \"\"\",\"\"\" & 'BX Language acquisition'!C2000 & \"\"\",\"\"\" & 'BX Language acquisition'!B2000 & \"\"\",\"\"\" & 'BX Language acquisition'!D2000 & \"\"\"\"","v":"\" \",\"\",\"\",\"\""}]
[{"$f":"\"\"\" \"& 'BX Language acquisition'!A2001 & \"\"\",\"\"\" & 'BX Language acquisition'!C2001 & \"\"\",\"\"\" & 'BX Language acquisition'!B2001 & \"\"\",\"\"\" & 'BX Language acquisition'!D2001 & \"\"\"\"","v":"\" \",\"\",\"\",\"\""}]
[{"$f":"\"\"\" \"& 'BX Language acquisition'!A2002 & \"\"\",\"\"\" & 'BX Language acquisition'!C2002 & \"\"\",\"\"\" & 'BX Language acquisition'!B2002 & \"\"\",\"\"\" & 'BX Language acquisition'!D2002 & \"\"\"\"","v":"\" \",\"\",\"\",\"\""}]
[{"$f":"\"\"\" \"& 'BX Language acquisition'!A2003 & \"\"\",\"\"\" & 'BX Language acquisition'!C2003 & \"\"\",\"\"\" & 'BX Language acquisition'!B2003 & \"\"\",\"\"\" & 'BX Language acquisition'!D2003 & \"\"\"\"","v":"\" \",\"\",\"\",\"\""}]
[{"$f":"\"\"\" \"& 'BX Language acquisition'!A2004 & \"\"\",\"\"\" & 'BX Language acquisition'!C2004 & \"\"\",\"\"\" & 'BX Language acquisition'!B2004 & \"\"\",\"\"\" & 'BX Language acquisition'!D2004 & \"\"\"\"","v":"\" \",\"\",\"\",\"\""}]
[{"$f":"\"\"\" \"& 'BX Language acquisition'!A2005 & \"\"\",\"\"\" & 'BX Language acquisition'!C2005 & \"\"\",\"\"\" & 'BX Language acquisition'!B2005 & \"\"\",\"\"\" & 'BX Language acquisition'!D2005 & \"\"\"\"","v":"\" \",\"\",\"\",\"\""}]
[{"$f":"\"\"\" \"& 'BX Language acquisition'!A2006 & \"\"\",\"\"\" & 'BX Language acquisition'!C2006 & \"\"\",\"\"\" & 'BX Language acquisition'!B2006 & \"\"\",\"\"\" & 'BX Language acquisition'!D2006 & \"\"\"\"","v":"\" \",\"\",\"\",\"\""}]
[{"$f":"\"\"\" \"& 'BX Language acquisition'!A2007 & \"\"\",\"\"\" & 'BX Language acquisition'!C2007 & \"\"\",\"\"\" & 'BX Language acquisition'!B2007 & \"\"\",\"\"\" & 'BX Language acquisition'!D2007 & \"\"\"\"","v":"\" \",\"\",\"\",\"\""}]
[{"$f":"\"\"\" \"& 'BX Language acquisition'!A2008 & \"\"\",\"\"\" & 'BX Language acquisition'!C2008 & \"\"\",\"\"\" & 'BX Language acquisition'!B2008 & \"\"\",\"\"\" & 'BX Language acquisition'!D2008 & \"\"\"\"","v":"\" \",\"\",\"\",\"\""}]
[{"$f":"\"\"\" \"& 'BX Language acquisition'!A2009 & \"\"\",\"\"\" & 'BX Language acquisition'!C2009 & \"\"\",\"\"\" & 'BX Language acquisition'!B2009 & \"\"\",\"\"\" & 'BX Language acquisition'!D2009 & \"\"\"\"","v":"\" \",\"\",\"\",\"\""}]
[{"$f":"\"\"\" \"& 'BX Language acquisition'!A2010 & \"\"\",\"\"\" & 'BX Language acquisition'!C2010 & \"\"\",\"\"\" & 'BX Language acquisition'!B2010 & \"\"\",\"\"\" & 'BX Language acquisition'!D2010 & \"\"\"\"","v":"\" \",\"\",\"\",\"\""}]
[{"$f":"\"\"\" \"& 'BX Language acquisition'!A2011 & \"\"\",\"\"\" & 'BX Language acquisition'!C2011 & \"\"\",\"\"\" & 'BX Language acquisition'!B2011 & \"\"\",\"\"\" & 'BX Language acquisition'!D2011 & \"\"\"\"","v":"\" \",\"\",\"\",\"\""}]
[{"$f":"\"\"\" \"& 'BX Language acquisition'!A2012 & \"\"\",\"\"\" & 'BX Language acquisition'!C2012 & \"\"\",\"\"\" & 'BX Language acquisition'!B2012 & \"\"\",\"\"\" & 'BX Language acquisition'!D2012 & \"\"\"\"","v":"\" \",\"\",\"\",\"\""}]
[{"$f":"\"\"\" \"& 'BX Language acquisition'!A2013 & \"\"\",\"\"\" & 'BX Language acquisition'!C2013 & \"\"\",\"\"\" & 'BX Language acquisition'!B2013 & \"\"\",\"\"\" & 'BX Language acquisition'!D2013 & \"\"\"\"","v":"\" \",\"\",\"\",\"\""}]
[{"$f":"\"\"\" \"& 'BX Language acquisition'!A2014 & \"\"\",\"\"\" & 'BX Language acquisition'!C2014 & \"\"\",\"\"\" & 'BX Language acquisition'!B2014 & \"\"\",\"\"\" & 'BX Language acquisition'!D2014 & \"\"\"\"","v":"\" \",\"\",\"\",\"\""}]
[{"$f":"\"\"\" \"& 'BX Language acquisition'!A2015 & \"\"\",\"\"\" & 'BX Language acquisition'!C2015 & \"\"\",\"\"\" & 'BX Language acquisition'!B2015 & \"\"\",\"\"\" & 'BX Language acquisition'!D2015 & \"\"\"\"","v":"\" \",\"\",\"\",\"\""}]
[{"$f":"\"\"\" \"& 'BX Language acquisition'!A2016 & \"\"\",\"\"\" & 'BX Language acquisition'!C2016 & \"\"\",\"\"\" & 'BX Language acquisition'!B2016 & \"\"\",\"\"\" & 'BX Language acquisition'!D2016 & \"\"\"\"","v":"\" \",\"\",\"\",\"\""}]
[{"$f":"\"\"\" \"& 'BX Language acquisition'!A2017 & \"\"\",\"\"\" & 'BX Language acquisition'!C2017 & \"\"\",\"\"\" & 'BX Language acquisition'!B2017 & \"\"\",\"\"\" & 'BX Language acquisition'!D2017 & \"\"\"\"","v":"\" \",\"\",\"\",\"\""}]
[{"$f":"\"\"\" \"& 'BX Language acquisition'!A2018 & \"\"\",\"\"\" & 'BX Language acquisition'!C2018 & \"\"\",\"\"\" & 'BX Language acquisition'!B2018 & \"\"\",\"\"\" & 'BX Language acquisition'!D2018 & \"\"\"\"","v":"\" \",\"\",\"\",\"\""}]
[{"$f":"\"\"\" \"& 'BX Language acquisition'!A2019 & \"\"\",\"\"\" & 'BX Language acquisition'!C2019 & \"\"\",\"\"\" & 'BX Language acquisition'!B2019 & \"\"\",\"\"\" & 'BX Language acquisition'!D2019 & \"\"\"\"","v":"\" \",\"\",\"\",\"\""}]
[{"$f":"\"\"\" \"& 'BX Language acquisition'!A2020 & \"\"\",\"\"\" & 'BX Language acquisition'!C2020 & \"\"\",\"\"\" & 'BX Language acquisition'!B2020 & \"\"\",\"\"\" & 'BX Language acquisition'!D2020 & \"\"\"\"","v":"\" \",\"\",\"\",\"\""}]
[{"$f":"\"\"\" \"& 'BX Language acquisition'!A2021 & \"\"\",\"\"\" & 'BX Language acquisition'!C2021 & \"\"\",\"\"\" & 'BX Language acquisition'!B2021 & \"\"\",\"\"\" & 'BX Language acquisition'!D2021 & \"\"\"\"","v":"\" \",\"\",\"\",\"\""}]
[{"$f":"\"\"\" \"& 'BX Language acquisition'!A2022 & \"\"\",\"\"\" & 'BX Language acquisition'!C2022 & \"\"\",\"\"\" & 'BX Language acquisition'!B2022 & \"\"\",\"\"\" & 'BX Language acquisition'!D2022 & \"\"\"\"","v":"\" \",\"\",\"\",\"\""}]
[{"$f":"\"\"\" \"& 'BX Language acquisition'!A2023 & \"\"\",\"\"\" & 'BX Language acquisition'!C2023 & \"\"\",\"\"\" & 'BX Language acquisition'!B2023 & \"\"\",\"\"\" & 'BX Language acquisition'!D2023 & \"\"\"\"","v":"\" \",\"\",\"\",\"\""}]
[{"$f":"\"\"\" \"& 'BX Language acquisition'!A2024 & \"\"\",\"\"\" & 'BX Language acquisition'!C2024 & \"\"\",\"\"\" & 'BX Language acquisition'!B2024 & \"\"\",\"\"\" & 'BX Language acquisition'!D2024 & \"\"\"\"","v":"\" \",\"\",\"\",\"\""}]
[{"$f":"\"\"\" \"& 'BX Language acquisition'!A2025 & \"\"\",\"\"\" & 'BX Language acquisition'!C2025 & \"\"\",\"\"\" & 'BX Language acquisition'!B2025 & \"\"\",\"\"\" & 'BX Language acquisition'!D2025 & \"\"\"\"","v":"\" \",\"\",\"\",\"\""}]
[{"$f":"\"\"\" \"& 'BX Language acquisition'!A2026 & \"\"\",\"\"\" & 'BX Language acquisition'!C2026 & \"\"\",\"\"\" & 'BX Language acquisition'!B2026 & \"\"\",\"\"\" & 'BX Language acquisition'!D2026 & \"\"\"\"","v":"\" \",\"\",\"\",\"\""}]
[{"$f":"\"\"\" \"& 'BX Language acquisition'!A2027 & \"\"\",\"\"\" & 'BX Language acquisition'!C2027 & \"\"\",\"\"\" & 'BX Language acquisition'!B2027 & \"\"\",\"\"\" & 'BX Language acquisition'!D2027 & \"\"\"\"","v":"\" \",\"\",\"\",\"\""}]
[{"$f":"\"\"\" \"& 'BX Language acquisition'!A2028 & \"\"\",\"\"\" & 'BX Language acquisition'!C2028 & \"\"\",\"\"\" & 'BX Language acquisition'!B2028 & \"\"\",\"\"\" & 'BX Language acquisition'!D2028 & \"\"\"\"","v":"\" \",\"\",\"\",\"\""}]
[{"$f":"\"\"\" \"& 'BX Language acquisition'!A2029 & \"\"\",\"\"\" & 'BX Language acquisition'!C2029 & \"\"\",\"\"\" & 'BX Language acquisition'!B2029 & \"\"\",\"\"\" & 'BX Language acquisition'!D2029 & \"\"\"\"","v":"\" \",\"\",\"\",\"\""}]
[{"$f":"\"\"\" \"& 'BX Language acquisition'!A2030 & \"\"\",\"\"\" & 'BX Language acquisition'!C2030 & \"\"\",\"\"\" & 'BX Language acquisition'!B2030 & \"\"\",\"\"\" & 'BX Language acquisition'!D2030 & \"\"\"\"","v":"\" \",\"\",\"\",\"\""}]
[{"$f":"\"\"\" \"& 'BX Language acquisition'!A2031 & \"\"\",\"\"\" & 'BX Language acquisition'!C2031 & \"\"\",\"\"\" & 'BX Language acquisition'!B2031 & \"\"\",\"\"\" & 'BX Language acquisition'!D2031 & \"\"\"\"","v":"\" \",\"\",\"\",\"\""}]
[{"$f":"\"\"\" \"& 'BX Language acquisition'!A2032 & \"\"\",\"\"\" & 'BX Language acquisition'!C2032 & \"\"\",\"\"\" & 'BX Language acquisition'!B2032 & \"\"\",\"\"\" & 'BX Language acquisition'!D2032 & \"\"\"\"","v":"\" \",\"\",\"\",\"\""}]
[{"$f":"\"\"\" \"& 'BX Language acquisition'!A2033 & \"\"\",\"\"\" & 'BX Language acquisition'!C2033 & \"\"\",\"\"\" & 'BX Language acquisition'!B2033 & \"\"\",\"\"\" & 'BX Language acquisition'!D2033 & \"\"\"\"","v":"\" \",\"\",\"\",\"\""}]
[{"$f":"\"\"\" \"& 'BX Language acquisition'!A2034 & \"\"\",\"\"\" & 'BX Language acquisition'!C2034 & \"\"\",\"\"\" & 'BX Language acquisition'!B2034 & \"\"\",\"\"\" & 'BX Language acquisition'!D2034 & \"\"\"\"","v":"\" \",\"\",\"\",\"\""}]
[{"$f":"\"\"\" \"& 'BX Language acquisition'!A2035 & \"\"\",\"\"\" & 'BX Language acquisition'!C2035 & \"\"\",\"\"\" & 'BX Language acquisition'!B2035 & \"\"\",\"\"\" & 'BX Language acquisition'!D2035 & \"\"\"\"","v":"\" \",\"\",\"\",\"\""}]
[{"$f":"\"\"\" \"& 'BX Language acquisition'!A2036 & \"\"\",\"\"\" & 'BX Language acquisition'!C2036 & \"\"\",\"\"\" & 'BX Language acquisition'!B2036 & \"\"\",\"\"\" & 'BX Language acquisition'!D2036 & \"\"\"\"","v":"\" \",\"\",\"\",\"\""}]
[{"$f":"\"\"\" \"& 'BX Language acquisition'!A2037 & \"\"\",\"\"\" & 'BX Language acquisition'!C2037 & \"\"\",\"\"\" & 'BX Language acquisition'!B2037 & \"\"\",\"\"\" & 'BX Language acquisition'!D2037 & \"\"\"\"","v":"\" \",\"\",\"\",\"\""}]
[{"$f":"\"\"\" \"& 'BX Language acquisition'!A2038 & \"\"\",\"\"\" & 'BX Language acquisition'!C2038 & \"\"\",\"\"\" & 'BX Language acquisition'!B2038 & \"\"\",\"\"\" & 'BX Language acquisition'!D2038 & \"\"\"\"","v":"\" \",\"\",\"\",\"\""}]
[{"$f":"\"\"\" \"& 'BX Language acquisition'!A2039 & \"\"\",\"\"\" & 'BX Language acquisition'!C2039 & \"\"\",\"\"\" & 'BX Language acquisition'!B2039 & \"\"\",\"\"\" & 'BX Language acquisition'!D2039 & \"\"\"\"","v":"\" \",\"\",\"\",\"\""}]
[{"$f":"\"\"\" \"& 'BX Language acquisition'!A2040 & \"\"\",\"\"\" & 'BX Language acquisition'!C2040 & \"\"\",\"\"\" & 'BX Language acquisition'!B2040 & \"\"\",\"\"\" & 'BX Language acquisition'!D2040 & \"\"\"\"","v":"\" \",\"\",\"\",\"\""}]
[{"$f":"\"\"\" \"& 'BX Language acquisition'!A2041 & \"\"\",\"\"\" & 'BX Language acquisition'!C2041 & \"\"\",\"\"\" & 'BX Language acquisition'!B2041 & \"\"\",\"\"\" & 'BX Language acquisition'!D2041 & \"\"\"\"","v":"\" \",\"\",\"\",\"\""}]
[{"$f":"\"\"\" \"& 'BX Language acquisition'!A2042 & \"\"\",\"\"\" & 'BX Language acquisition'!C2042 & \"\"\",\"\"\" & 'BX Language acquisition'!B2042 & \"\"\",\"\"\" & 'BX Language acquisition'!D2042 & \"\"\"\"","v":"\" \",\"\",\"\",\"\""}]
[{"$f":"\"\"\" \"& 'BX Language acquisition'!A2043 & \"\"\",\"\"\" & 'BX Language acquisition'!C2043 & \"\"\",\"\"\" & 'BX Language acquisition'!B2043 & \"\"\",\"\"\" & 'BX Language acquisition'!D2043 & \"\"\"\"","v":"\" \",\"\",\"\",\"\""}]
[{"$f":"\"\"\" \"& 'BX Language acquisition'!A2044 & \"\"\",\"\"\" & 'BX Language acquisition'!C2044 & \"\"\",\"\"\" & 'BX Language acquisition'!B2044 & \"\"\",\"\"\" & 'BX Language acquisition'!D2044 & \"\"\"\"","v":"\" \",\"\",\"\",\"\""}]
[{"$f":"\"\"\" \"& 'BX Language acquisition'!A2045 & \"\"\",\"\"\" & 'BX Language acquisition'!C2045 & \"\"\",\"\"\" & 'BX Language acquisition'!B2045 & \"\"\",\"\"\" & 'BX Language acquisition'!D2045 & \"\"\"\"","v":"\" \",\"\",\"\",\"\""}]
[{"$f":"\"\"\" \"& 'BX Language acquisition'!A2046 & \"\"\",\"\"\" & 'BX Language acquisition'!C2046 & \"\"\",\"\"\" & 'BX Language acquisition'!B2046 & \"\"\",\"\"\" & 'BX Language acquisition'!D2046 & \"\"\"\"","v":"\" \",\"\",\"\",\"\""}]
[{"$f":"\"\"\" \"& 'BX Language acquisition'!A2047 & \"\"\",\"\"\" & 'BX Language acquisition'!C2047 & \"\"\",\"\"\" & 'BX Language acquisition'!B2047 & \"\"\",\"\"\" & 'BX Language acquisition'!D2047 & \"\"\"\"","v":"\" \",\"\",\"\",\"\""}]
[{"$f":"\"\"\" \"& 'BX Language acquisition'!A2048 & \"\"\",\"\"\" & 'BX Language acquisition'!C2048 & \"\"\",\"\"\" & 'BX Language acquisition'!B2048 & \"\"\",\"\"\" & 'BX Language acquisition'!D2048 & \"\"\"\"","v":"\" \",\"\",\"\",\"\""}]
[{"$f":"\"\"\" \"& 'BX Language acquisition'!A2049 & \"\"\",\"\"\" & 'BX Language acquisition'!C2049 & \"\"\",\"\"\" & 'BX Language acquisition'!B2049 & \"\"\",\"\"\" & 'BX Language acquisition'!D2049 & \"\"\"\"","v":"\" \",\"\",\"\",\"\""}]
[{"$f":"\"\"\" \"& 'BX Language acquisition'!A2050 & \"\"\",\"\"\" & 'BX Language acquisition'!C2050 & \"\"\",\"\"\" & 'BX Language acquisition'!B2050 & \"\"\",\"\"\" & 'BX Language acquisition'!D2050 & \"\"\"\"","v":"\" \",\"\",\"\",\"\""}]
[{"$f":"\"\"\" \"& 'BX Language acquisition'!A2051 & \"\"\",\"\"\" & 'BX Language acquisition'!C2051 & \"\"\",\"\"\" & 'BX Language acquisition'!B2051 & \"\"\",\"\"\" & 'BX Language acquisition'!D2051 & \"\"\"\"","v":"\" \",\"\",\"\",\"\""}]
[{"$f":"\"\"\" \"& 'BX Language acquisition'!A2052 & \"\"\",\"\"\" & 'BX Language acquisition'!C2052 & \"\"\",\"\"\" & 'BX Language acquisition'!B2052 & \"\"\",\"\"\" & 'BX Language acquisition'!D2052 & \"\"\"\"","v":"\" \",\"\",\"\",\"\""}]
[{"$f":"\"\"\" \"& 'BX Language acquisition'!A2053 & \"\"\",\"\"\" & 'BX Language acquisition'!C2053 & \"\"\",\"\"\" & 'BX Language acquisition'!B2053 & \"\"\",\"\"\" & 'BX Language acquisition'!D2053 & \"\"\"\"","v":"\" \",\"\",\"\",\"\""}]
[{"$f":"\"\"\" \"& 'BX Language acquisition'!A2054 & \"\"\",\"\"\" & 'BX Language acquisition'!C2054 & \"\"\",\"\"\" & 'BX Language acquisition'!B2054 & \"\"\",\"\"\" & 'BX Language acquisition'!D2054 & \"\"\"\"","v":"\" \",\"\",\"\",\"\""}]
[{"$f":"\"\"\" \"& 'BX Language acquisition'!A2055 & \"\"\",\"\"\" & 'BX Language acquisition'!C2055 & \"\"\",\"\"\" & 'BX Language acquisition'!B2055 & \"\"\",\"\"\" & 'BX Language acquisition'!D2055 & \"\"\"\"","v":"\" \",\"\",\"\",\"\""}]
[{"$f":"\"\"\" \"& 'BX Language acquisition'!A2056 & \"\"\",\"\"\" & 'BX Language acquisition'!C2056 & \"\"\",\"\"\" & 'BX Language acquisition'!B2056 & \"\"\",\"\"\" & 'BX Language acquisition'!D2056 & \"\"\"\"","v":"\" \",\"\",\"\",\"\""}]
[{"$f":"\"\"\" \"& 'BX Language acquisition'!A2057 & \"\"\",\"\"\" & 'BX Language acquisition'!C2057 & \"\"\",\"\"\" & 'BX Language acquisition'!B2057 & \"\"\",\"\"\" & 'BX Language acquisition'!D2057 & \"\"\"\"","v":"\" \",\"\",\"\",\"\""}]
[{"$f":"\"\"\" \"& 'BX Language acquisition'!A2058 & \"\"\",\"\"\" & 'BX Language acquisition'!C2058 & \"\"\",\"\"\" & 'BX Language acquisition'!B2058 & \"\"\",\"\"\" & 'BX Language acquisition'!D2058 & \"\"\"\"","v":"\" \",\"\",\"\",\"\""}]
[{"$f":"\"\"\" \"& 'BX Language acquisition'!A2059 & \"\"\",\"\"\" & 'BX Language acquisition'!C2059 & \"\"\",\"\"\" & 'BX Language acquisition'!B2059 & \"\"\",\"\"\" & 'BX Language acquisition'!D2059 & \"\"\"\"","v":"\" \",\"\",\"\",\"\""}]
[{"$f":"\"\"\" \"& 'BX Language acquisition'!A2060 & \"\"\",\"\"\" & 'BX Language acquisition'!C2060 & \"\"\",\"\"\" & 'BX Language acquisition'!B2060 & \"\"\",\"\"\" & 'BX Language acquisition'!D2060 & \"\"\"\"","v":"\" \",\"\",\"\",\"\""}]
[{"$f":"\"\"\" \"& 'BX Language acquisition'!A2061 & \"\"\",\"\"\" & 'BX Language acquisition'!C2061 & \"\"\",\"\"\" & 'BX Language acquisition'!B2061 & \"\"\",\"\"\" & 'BX Language acquisition'!D2061 & \"\"\"\"","v":"\" \",\"\",\"\",\"\""}]
[{"$f":"\"\"\" \"& 'BX Language acquisition'!A2062 & \"\"\",\"\"\" & 'BX Language acquisition'!C2062 & \"\"\",\"\"\" & 'BX Language acquisition'!B2062 & \"\"\",\"\"\" & 'BX Language acquisition'!D2062 & \"\"\"\"","v":"\" \",\"\",\"\",\"\""}]
[{"$f":"\"\"\" \"& 'BX Language acquisition'!A2063 & \"\"\",\"\"\" & 'BX Language acquisition'!C2063 & \"\"\",\"\"\" & 'BX Language acquisition'!B2063 & \"\"\",\"\"\" & 'BX Language acquisition'!D2063 & \"\"\"\"","v":"\" \",\"\",\"\",\"\""}]
[{"$f":"\"\"\" \"& 'BX Language acquisition'!A2064 & \"\"\",\"\"\" & 'BX Language acquisition'!C2064 & \"\"\",\"\"\" & 'BX Language acquisition'!B2064 & \"\"\",\"\"\" & 'BX Language acquisition'!D2064 & \"\"\"\"","v":"\" \",\"\",\"\",\"\""}]
[{"$f":"\"\"\" \"& 'BX Language acquisition'!A2065 & \"\"\",\"\"\" & 'BX Language acquisition'!C2065 & \"\"\",\"\"\" & 'BX Language acquisition'!B2065 & \"\"\",\"\"\" & 'BX Language acquisition'!D2065 & \"\"\"\"","v":"\" \",\"\",\"\",\"\""}]
[{"$f":"\"\"\" \"& 'BX Language acquisition'!A2066 & \"\"\",\"\"\" & 'BX Language acquisition'!C2066 & \"\"\",\"\"\" & 'BX Language acquisition'!B2066 & \"\"\",\"\"\" & 'BX Language acquisition'!D2066 & \"\"\"\"","v":"\" \",\"\",\"\",\"\""}]
[{"$f":"\"\"\" \"& 'BX Language acquisition'!A2067 & \"\"\",\"\"\" & 'BX Language acquisition'!C2067 & \"\"\",\"\"\" & 'BX Language acquisition'!B2067 & \"\"\",\"\"\" & 'BX Language acquisition'!D2067 & \"\"\"\"","v":"\" \",\"\",\"\",\"\""}]
[{"$f":"\"\"\" \"& 'BX Language acquisition'!A2068 & \"\"\",\"\"\" & 'BX Language acquisition'!C2068 & \"\"\",\"\"\" & 'BX Language acquisition'!B2068 & \"\"\",\"\"\" & 'BX Language acquisition'!D2068 & \"\"\"\"","v":"\" \",\"\",\"\",\"\""}]
[{"$f":"\"\"\" \"& 'BX Language acquisition'!A2069 & \"\"\",\"\"\" & 'BX Language acquisition'!C2069 & \"\"\",\"\"\" & 'BX Language acquisition'!B2069 & \"\"\",\"\"\" & 'BX Language acquisition'!D2069 & \"\"\"\"","v":"\" \",\"\",\"\",\"\""}]
[{"$f":"\"\"\" \"& 'BX Language acquisition'!A2070 & \"\"\",\"\"\" & 'BX Language acquisition'!C2070 & \"\"\",\"\"\" & 'BX Language acquisition'!B2070 & \"\"\",\"\"\" & 'BX Language acquisition'!D2070 & \"\"\"\"","v":"\" \",\"\",\"\",\"\""}]
[{"$f":"\"\"\" \"& 'BX Language acquisition'!A2071 & \"\"\",\"\"\" & 'BX Language acquisition'!C2071 & \"\"\",\"\"\" & 'BX Language acquisition'!B2071 & \"\"\",\"\"\" & 'BX Language acquisition'!D2071 & \"\"\"\"","v":"\" \",\"\",\"\",\"\""}]
[{"$f":"\"\"\" \"& 'BX Language acquisition'!A2072 & \"\"\",\"\"\" & 'BX Language acquisition'!C2072 & \"\"\",\"\"\" & 'BX Language acquisition'!B2072 & \"\"\",\"\"\" & 'BX Language acquisition'!D2072 & \"\"\"\"","v":"\" \",\"\",\"\",\"\""}]
[{"$f":"\"\"\" \"& 'BX Language acquisition'!A2073 & \"\"\",\"\"\" & 'BX Language acquisition'!C2073 & \"\"\",\"\"\" & 'BX Language acquisition'!B2073 & \"\"\",\"\"\" & 'BX Language acquisition'!D2073 & \"\"\"\"","v":"\" \",\"\",\"\",\"\""}]
[{"$f":"\"\"\" \"& 'BX Language acquisition'!A2074 & \"\"\",\"\"\" & 'BX Language acquisition'!C2074 & \"\"\",\"\"\" & 'BX Language acquisition'!B2074 & \"\"\",\"\"\" & 'BX Language acquisition'!D2074 & \"\"\"\"","v":"\" \",\"\",\"\",\"\""}]
[{"$f":"\"\"\" \"& 'BX Language acquisition'!A2075 & \"\"\",\"\"\" & 'BX Language acquisition'!C2075 & \"\"\",\"\"\" & 'BX Language acquisition'!B2075 & \"\"\",\"\"\" & 'BX Language acquisition'!D2075 & \"\"\"\"","v":"\" \",\"\",\"\",\"\""}]
[{"$f":"\"\"\" \"& 'BX Language acquisition'!A2076 & \"\"\",\"\"\" & 'BX Language acquisition'!C2076 & \"\"\",\"\"\" & 'BX Language acquisition'!B2076 & \"\"\",\"\"\" & 'BX Language acquisition'!D2076 & \"\"\"\"","v":"\" \",\"\",\"\",\"\""}]
[{"$f":"\"\"\" \"& 'BX Language acquisition'!A2077 & \"\"\",\"\"\" & 'BX Language acquisition'!C2077 & \"\"\",\"\"\" & 'BX Language acquisition'!B2077 & \"\"\",\"\"\" & 'BX Language acquisition'!D2077 & \"\"\"\"","v":"\" \",\"\",\"\",\"\""}]
[{"$f":"\"\"\" \"& 'BX Language acquisition'!A2078 & \"\"\",\"\"\" & 'BX Language acquisition'!C2078 & \"\"\",\"\"\" & 'BX Language acquisition'!B2078 & \"\"\",\"\"\" & 'BX Language acquisition'!D2078 & \"\"\"\"","v":"\" \",\"\",\"\",\"\""}]
[{"$f":"\"\"\" \"& 'BX Language acquisition'!A2079 & \"\"\",\"\"\" & 'BX Language acquisition'!C2079 & \"\"\",\"\"\" & 'BX Language acquisition'!B2079 & \"\"\",\"\"\" & 'BX Language acquisition'!D2079 & \"\"\"\"","v":"\" \",\"\",\"\",\"\""}]
[{"$f":"\"\"\" \"& 'BX Language acquisition'!A2080 & \"\"\",\"\"\" & 'BX Language acquisition'!C2080 & \"\"\",\"\"\" & 'BX Language acquisition'!B2080 & \"\"\",\"\"\" & 'BX Language acquisition'!D2080 & \"\"\"\"","v":"\" \",\"\",\"\",\"\""}]
[{"$f":"\"\"\" \"& 'BX Language acquisition'!A2081 & \"\"\",\"\"\" & 'BX Language acquisition'!C2081 & \"\"\",\"\"\" & 'BX Language acquisition'!B2081 & \"\"\",\"\"\" & 'BX Language acquisition'!D2081 & \"\"\"\"","v":"\" \",\"\",\"\",\"\""}]
[{"$f":"\"\"\" \"& 'BX Language acquisition'!A2082 & \"\"\",\"\"\" & 'BX Language acquisition'!C2082 & \"\"\",\"\"\" & 'BX Language acquisition'!B2082 & \"\"\",\"\"\" & 'BX Language acquisition'!D2082 & \"\"\"\"","v":"\" \",\"\",\"\",\"\""}]
[{"$f":"\"\"\" \"& 'BX Language acquisition'!A2083 & \"\"\",\"\"\" & 'BX Language acquisition'!C2083 & \"\"\",\"\"\" & 'BX Language acquisition'!B2083 & \"\"\",\"\"\" & 'BX Language acquisition'!D2083 & \"\"\"\"","v":"\" \",\"\",\"\",\"\""}]
[{"$f":"\"\"\" \"& 'BX Language acquisition'!A2084 & \"\"\",\"\"\" & 'BX Language acquisition'!C2084 & \"\"\",\"\"\" & 'BX Language acquisition'!B2084 & \"\"\",\"\"\" & 'BX Language acquisition'!D2084 & \"\"\"\"","v":"\" \",\"\",\"\",\"\""}]
[{"$f":"\"\"\" \"& 'BX Language acquisition'!A2085 & \"\"\",\"\"\" & 'BX Language acquisition'!C2085 & \"\"\",\"\"\" & 'BX Language acquisition'!B2085 & \"\"\",\"\"\" & 'BX Language acquisition'!D2085 & \"\"\"\"","v":"\" \",\"\",\"\",\"\""}]
[{"$f":"\"\"\" \"& 'BX Language acquisition'!A2086 & \"\"\",\"\"\" & 'BX Language acquisition'!C2086 & \"\"\",\"\"\" & 'BX Language acquisition'!B2086 & \"\"\",\"\"\" & 'BX Language acquisition'!D2086 & \"\"\"\"","v":"\" \",\"\",\"\",\"\""}]
[{"$f":"\"\"\" \"& 'BX Language acquisition'!A2087 & \"\"\",\"\"\" & 'BX Language acquisition'!C2087 & \"\"\",\"\"\" & 'BX Language acquisition'!B2087 & \"\"\",\"\"\" & 'BX Language acquisition'!D2087 & \"\"\"\"","v":"\" \",\"\",\"\",\"\""}]
[{"$f":"\"\"\" \"& 'BX Language acquisition'!A2088 & \"\"\",\"\"\" & 'BX Language acquisition'!C2088 & \"\"\",\"\"\" & 'BX Language acquisition'!B2088 & \"\"\",\"\"\" & 'BX Language acquisition'!D2088 & \"\"\"\"","v":"\" \",\"\",\"\",\"\""}]
[{"$f":"\"\"\" \"& 'BX Language acquisition'!A2089 & \"\"\",\"\"\" & 'BX Language acquisition'!C2089 & \"\"\",\"\"\" & 'BX Language acquisition'!B2089 & \"\"\",\"\"\" & 'BX Language acquisition'!D2089 & \"\"\"\"","v":"\" \",\"\",\"\",\"\""}]
[{"$f":"\"\"\" \"& 'BX Language acquisition'!A2090 & \"\"\",\"\"\" & 'BX Language acquisition'!C2090 & \"\"\",\"\"\" & 'BX Language acquisition'!B2090 & \"\"\",\"\"\" & 'BX Language acquisition'!D2090 & \"\"\"\"","v":"\" \",\"\",\"\",\"\""}]
[{"$f":"\"\"\" \"& 'BX Language acquisition'!A2091 & \"\"\",\"\"\" & 'BX Language acquisition'!C2091 & \"\"\",\"\"\" & 'BX Language acquisition'!B2091 & \"\"\",\"\"\" & 'BX Language acquisition'!D2091 & \"\"\"\"","v":"\" \",\"\",\"\",\"\""}]
[{"$f":"\"\"\" \"& 'BX Language acquisition'!A2092 & \"\"\",\"\"\" & 'BX Language acquisition'!C2092 & \"\"\",\"\"\" & 'BX Language acquisition'!B2092 & \"\"\",\"\"\" & 'BX Language acquisition'!D2092 & \"\"\"\"","v":"\" \",\"\",\"\",\"\""}]
[{"$f":"\"\"\" \"& 'BX Language acquisition'!A2093 & \"\"\",\"\"\" & 'BX Language acquisition'!C2093 & \"\"\",\"\"\" & 'BX Language acquisition'!B2093 & \"\"\",\"\"\" & 'BX Language acquisition'!D2093 & \"\"\"\"","v":"\" \",\"\",\"\",\"\""}]
[{"$f":"\"\"\" \"& 'BX Language acquisition'!A2094 & \"\"\",\"\"\" & 'BX Language acquisition'!C2094 & \"\"\",\"\"\" & 'BX Language acquisition'!B2094 & \"\"\",\"\"\" & 'BX Language acquisition'!D2094 & \"\"\"\"","v":"\" \",\"\",\"\",\"\""}]
[{"$f":"\"\"\" \"& 'BX Language acquisition'!A2095 & \"\"\",\"\"\" & 'BX Language acquisition'!C2095 & \"\"\",\"\"\" & 'BX Language acquisition'!B2095 & \"\"\",\"\"\" & 'BX Language acquisition'!D2095 & \"\"\"\"","v":"\" \",\"\",\"\",\"\""}]
[{"$f":"\"\"\" \"& 'BX Language acquisition'!A2096 & \"\"\",\"\"\" & 'BX Language acquisition'!C2096 & \"\"\",\"\"\" & 'BX Language acquisition'!B2096 & \"\"\",\"\"\" & 'BX Language acquisition'!D2096 & \"\"\"\"","v":"\" \",\"\",\"\",\"\""}]
[{"$f":"\"\"\" \"& 'BX Language acquisition'!A2097 & \"\"\",\"\"\" & 'BX Language acquisition'!C2097 & \"\"\",\"\"\" & 'BX Language acquisition'!B2097 & \"\"\",\"\"\" & 'BX Language acquisition'!D2097 & \"\"\"\"","v":"\" \",\"\",\"\",\"\""}]
[{"$f":"\"\"\" \"& 'BX Language acquisition'!A2098 & \"\"\",\"\"\" & 'BX Language acquisition'!C2098 & \"\"\",\"\"\" & 'BX Language acquisition'!B2098 & \"\"\",\"\"\" & 'BX Language acquisition'!D2098 & \"\"\"\"","v":"\" \",\"\",\"\",\"\""}]
[{"$f":"\"\"\" \"& 'BX Language acquisition'!A2099 & \"\"\",\"\"\" & 'BX Language acquisition'!C2099 & \"\"\",\"\"\" & 'BX Language acquisition'!B2099 & \"\"\",\"\"\" & 'BX Language acquisition'!D2099 & \"\"\"\"","v":"\" \",\"\",\"\",\"\""}]
[{"$f":"\"\"\" \"& 'BX Language acquisition'!A2100 & \"\"\",\"\"\" & 'BX Language acquisition'!C2100 & \"\"\",\"\"\" & 'BX Language acquisition'!B2100 & \"\"\",\"\"\" & 'BX Language acquisition'!D2100 & \"\"\"\"","v":"\" \",\"\",\"\",\"\""}]
[{"$f":"\"\"\" \"& 'BX Language acquisition'!A2101 & \"\"\",\"\"\" & 'BX Language acquisition'!C2101 & \"\"\",\"\"\" & 'BX Language acquisition'!B2101 & \"\"\",\"\"\" & 'BX Language acquisition'!D2101 & \"\"\"\"","v":"\" \",\"\",\"\",\"\""}]
[{"$f":"\"\"\" \"& 'BX Language acquisition'!A2102 & \"\"\",\"\"\" & 'BX Language acquisition'!C2102 & \"\"\",\"\"\" & 'BX Language acquisition'!B2102 & \"\"\",\"\"\" & 'BX Language acquisition'!D2102 & \"\"\"\"","v":"\" \",\"\",\"\",\"\""}]
[{"$f":"\"\"\" \"& 'BX Language acquisition'!A2103 & \"\"\",\"\"\" & 'BX Language acquisition'!C2103 & \"\"\",\"\"\" & 'BX Language acquisition'!B2103 & \"\"\",\"\"\" & 'BX Language acquisition'!D2103 & \"\"\"\"","v":"\" \",\"\",\"\",\"\""}]
[{"$f":"\"\"\" \"& 'BX Language acquisition'!A2104 & \"\"\",\"\"\" & 'BX Language acquisition'!C2104 & \"\"\",\"\"\" & 'BX Language acquisition'!B2104 & \"\"\",\"\"\" & 'BX Language acquisition'!D2104 & \"\"\"\"","v":"\" \",\"\",\"\",\"\""}]
[{"$f":"\"\"\" \"& 'BX Language acquisition'!A2105 & \"\"\",\"\"\" & 'BX Language acquisition'!C2105 & \"\"\",\"\"\" & 'BX Language acquisition'!B2105 & \"\"\",\"\"\" & 'BX Language acquisition'!D2105 & \"\"\"\"","v":"\" \",\"\",\"\",\"\""}]
[{"$f":"\"\"\" \"& 'BX Language acquisition'!A2106 & \"\"\",\"\"\" & 'BX Language acquisition'!C2106 & \"\"\",\"\"\" & 'BX Language acquisition'!B2106 & \"\"\",\"\"\" & 'BX Language acquisition'!D2106 & \"\"\"\"","v":"\" \",\"\",\"\",\"\""}]
[{"$f":"\"\"\" \"& 'BX Language acquisition'!A2107 & \"\"\",\"\"\" & 'BX Language acquisition'!C2107 & \"\"\",\"\"\" & 'BX Language acquisition'!B2107 & \"\"\",\"\"\" & 'BX Language acquisition'!D2107 & \"\"\"\"","v":"\" \",\"\",\"\",\"\""}]
[{"$f":"\"\"\" \"& 'BX Language acquisition'!A2108 & \"\"\",\"\"\" & 'BX Language acquisition'!C2108 & \"\"\",\"\"\" & 'BX Language acquisition'!B2108 & \"\"\",\"\"\" & 'BX Language acquisition'!D2108 & \"\"\"\"","v":"\" \",\"\",\"\",\"\""}]
[{"$f":"\"\"\" \"& 'BX Language acquisition'!A2109 & \"\"\",\"\"\" & 'BX Language acquisition'!C2109 & \"\"\",\"\"\" & 'BX Language acquisition'!B2109 & \"\"\",\"\"\" & 'BX Language acquisition'!D2109 & \"\"\"\"","v":"\" \",\"\",\"\",\"\""}]
[{"$f":"\"\"\" \"& 'BX Language acquisition'!A2110 & \"\"\",\"\"\" & 'BX Language acquisition'!C2110 & \"\"\",\"\"\" & 'BX Language acquisition'!B2110 & \"\"\",\"\"\" & 'BX Language acquisition'!D2110 & \"\"\"\"","v":"\" \",\"\",\"\",\"\""}]
[{"$f":"\"\"\" \"& 'BX Language acquisition'!A2111 & \"\"\",\"\"\" & 'BX Language acquisition'!C2111 & \"\"\",\"\"\" & 'BX Language acquisition'!B2111 & \"\"\",\"\"\" & 'BX Language acquisition'!D2111 & \"\"\"\"","v":"\" \",\"\",\"\",\"\""}]
[{"$f":"\"\"\" \"& 'BX Language acquisition'!A2112 & \"\"\",\"\"\" & 'BX Language acquisition'!C2112 & \"\"\",\"\"\" & 'BX Language acquisition'!B2112 & \"\"\",\"\"\" & 'BX Language acquisition'!D2112 & \"\"\"\"","v":"\" \",\"\",\"\",\"\""}]
[{"$f":"\"\"\" \"& 'BX Language acquisition'!A2113 & \"\"\",\"\"\" & 'BX Language acquisition'!C2113 & \"\"\",\"\"\" & 'BX Language acquisition'!B2113 & \"\"\",\"\"\" & 'BX Language acquisition'!D2113 & \"\"\"\"","v":"\" \",\"\",\"\",\"\""}]
[{"$f":"\"\"\" \"& 'BX Language acquisition'!A2114 & \"\"\",\"\"\" & 'BX Language acquisition'!C2114 & \"\"\",\"\"\" & 'BX Language acquisition'!B2114 & \"\"\",\"\"\" & 'BX Language acquisition'!D2114 & \"\"\"\"","v":"\" \",\"\",\"\",\"\""}]
[{"$f":"\"\"\" \"& 'BX Language acquisition'!A2115 & \"\"\",\"\"\" & 'BX Language acquisition'!C2115 & \"\"\",\"\"\" & 'BX Language acquisition'!B2115 & \"\"\",\"\"\" & 'BX Language acquisition'!D2115 & \"\"\"\"","v":"\" \",\"\",\"\",\"\""}]
[{"$f":"\"\"\" \"& 'BX Language acquisition'!A2116 & \"\"\",\"\"\" & 'BX Language acquisition'!C2116 & \"\"\",\"\"\" & 'BX Language acquisition'!B2116 & \"\"\",\"\"\" & 'BX Language acquisition'!D2116 & \"\"\"\"","v":"\" \",\"\",\"\",\"\""}]
[{"$f":"\"\"\" \"& 'BX Language acquisition'!A2117 & \"\"\",\"\"\" & 'BX Language acquisition'!C2117 & \"\"\",\"\"\" & 'BX Language acquisition'!B2117 & \"\"\",\"\"\" & 'BX Language acquisition'!D2117 & \"\"\"\"","v":"\" \",\"\",\"\",\"\""}]
[{"$f":"\"\"\" \"& 'BX Language acquisition'!A2118 & \"\"\",\"\"\" & 'BX Language acquisition'!C2118 & \"\"\",\"\"\" & 'BX Language acquisition'!B2118 & \"\"\",\"\"\" & 'BX Language acquisition'!D2118 & \"\"\"\"","v":"\" \",\"\",\"\",\"\""}]
[{"$f":"\"\"\" \"& 'BX Language acquisition'!A2119 & \"\"\",\"\"\" & 'BX Language acquisition'!C2119 & \"\"\",\"\"\" & 'BX Language acquisition'!B2119 & \"\"\",\"\"\" & 'BX Language acquisition'!D2119 & \"\"\"\"","v":"\" \",\"\",\"\",\"\""}]
[{"$f":"\"\"\" \"& 'BX Language acquisition'!A2120 & \"\"\",\"\"\" & 'BX Language acquisition'!C2120 & \"\"\",\"\"\" & 'BX Language acquisition'!B2120 & \"\"\",\"\"\" & 'BX Language acquisition'!D2120 & \"\"\"\"","v":"\" \",\"\",\"\",\"\""}]
[{"$f":"\"\"\" \"& 'BX Language acquisition'!A2121 & \"\"\",\"\"\" & 'BX Language acquisition'!C2121 & \"\"\",\"\"\" & 'BX Language acquisition'!B2121 & \"\"\",\"\"\" & 'BX Language acquisition'!D2121 & \"\"\"\"","v":"\" \",\"\",\"\",\"\""}]
[{"$f":"\"\"\" \"& 'BX Language acquisition'!A2122 & \"\"\",\"\"\" & 'BX Language acquisition'!C2122 & \"\"\",\"\"\" & 'BX Language acquisition'!B2122 & \"\"\",\"\"\" & 'BX Language acquisition'!D2122 & \"\"\"\"","v":"\" \",\"\",\"\",\"\""}]
[{"$f":"\"\"\" \"& 'BX Language acquisition'!A2123 & \"\"\",\"\"\" & 'BX Language acquisition'!C2123 & \"\"\",\"\"\" & 'BX Language acquisition'!B2123 & \"\"\",\"\"\" & 'BX Language acquisition'!D2123 & \"\"\"\"","v":"\" \",\"\",\"\",\"\""}]
[{"$f":"\"\"\" \"& 'BX Language acquisition'!A2124 & \"\"\",\"\"\" & 'BX Language acquisition'!C2124 & \"\"\",\"\"\" & 'BX Language acquisition'!B2124 & \"\"\",\"\"\" & 'BX Language acquisition'!D2124 & \"\"\"\"","v":"\" \",\"\",\"\",\"\""}]
[{"$f":"\"\"\" \"& 'BX Language acquisition'!A2125 & \"\"\",\"\"\" & 'BX Language acquisition'!C2125 & \"\"\",\"\"\" & 'BX Language acquisition'!B2125 & \"\"\",\"\"\" & 'BX Language acquisition'!D2125 & \"\"\"\"","v":"\" \",\"\",\"\",\"\""}]
[{"$f":"\"\"\" \"& 'BX Language acquisition'!A2126 & \"\"\",\"\"\" & 'BX Language acquisition'!C2126 & \"\"\",\"\"\" & 'BX Language acquisition'!B2126 & \"\"\",\"\"\" & 'BX Language acquisition'!D2126 & \"\"\"\"","v":"\" \",\"\",\"\",\"\""}]
[{"$f":"\"\"\" \"& 'BX Language acquisition'!A2127 & \"\"\",\"\"\" & 'BX Language acquisition'!C2127 & \"\"\",\"\"\" & 'BX Language acquisition'!B2127 & \"\"\",\"\"\" & 'BX Language acquisition'!D2127 & \"\"\"\"","v":"\" \",\"\",\"\",\"\""}]
[{"$f":"\"\"\" \"& 'BX Language acquisition'!A2128 & \"\"\",\"\"\" & 'BX Language acquisition'!C2128 & \"\"\",\"\"\" & 'BX Language acquisition'!B2128 & \"\"\",\"\"\" & 'BX Language acquisition'!D2128 & \"\"\"\"","v":"\" \",\"\",\"\",\"\""}]
[{"$f":"\"\"\" \"& 'BX Language acquisition'!A2129 & \"\"\",\"\"\" & 'BX Language acquisition'!C2129 & \"\"\",\"\"\" & 'BX Language acquisition'!B2129 & \"\"\",\"\"\" & 'BX Language acquisition'!D2129 & \"\"\"\"","v":"\" \",\"\",\"\",\"\""}]
[{"$f":"\"\"\" \"& 'BX Language acquisition'!A2130 & \"\"\",\"\"\" & 'BX Language acquisition'!C2130 & \"\"\",\"\"\" & 'BX Language acquisition'!B2130 & \"\"\",\"\"\" & 'BX Language acquisition'!D2130 & \"\"\"\"","v":"\" \",\"\",\"\",\"\""}]
[{"$f":"\"\"\" \"& 'BX Language acquisition'!A2131 & \"\"\",\"\"\" & 'BX Language acquisition'!C2131 & \"\"\",\"\"\" & 'BX Language acquisition'!B2131 & \"\"\",\"\"\" & 'BX Language acquisition'!D2131 & \"\"\"\"","v":"\" \",\"\",\"\",\"\""}]
[{"$f":"\"\"\" \"& 'BX Language acquisition'!A2132 & \"\"\",\"\"\" & 'BX Language acquisition'!C2132 & \"\"\",\"\"\" & 'BX Language acquisition'!B2132 & \"\"\",\"\"\" & 'BX Language acquisition'!D2132 & \"\"\"\"","v":"\" \",\"\",\"\",\"\""}]
[{"$f":"\"\"\" \"& 'BX Language acquisition'!A2133 & \"\"\",\"\"\" & 'BX Language acquisition'!C2133 & \"\"\",\"\"\" & 'BX Language acquisition'!B2133 & \"\"\",\"\"\" & 'BX Language acquisition'!D2133 & \"\"\"\"","v":"\" \",\"\",\"\",\"\""}]
[{"$f":"\"\"\" \"& 'BX Language acquisition'!A2134 & \"\"\",\"\"\" & 'BX Language acquisition'!C2134 & \"\"\",\"\"\" & 'BX Language acquisition'!B2134 & \"\"\",\"\"\" & 'BX Language acquisition'!D2134 & \"\"\"\"","v":"\" \",\"\",\"\",\"\""}]
[{"$f":"\"\"\" \"& 'BX Language acquisition'!A2135 & \"\"\",\"\"\" & 'BX Language acquisition'!C2135 & \"\"\",\"\"\" & 'BX Language acquisition'!B2135 & \"\"\",\"\"\" & 'BX Language acquisition'!D2135 & \"\"\"\"","v":"\" \",\"\",\"\",\"\""}]
[{"$f":"\"\"\" \"& 'BX Language acquisition'!A2136 & \"\"\",\"\"\" & 'BX Language acquisition'!C2136 & \"\"\",\"\"\" & 'BX Language acquisition'!B2136 & \"\"\",\"\"\" & 'BX Language acquisition'!D2136 & \"\"\"\"","v":"\" \",\"\",\"\",\"\""}]
[{"$f":"\"\"\" \"& 'BX Language acquisition'!A2137 & \"\"\",\"\"\" & 'BX Language acquisition'!C2137 & \"\"\",\"\"\" & 'BX Language acquisition'!B2137 & \"\"\",\"\"\" & 'BX Language acquisition'!D2137 & \"\"\"\"","v":"\" \",\"\",\"\",\"\""}]
[{"$f":"\"\"\" \"& 'BX Language acquisition'!A2138 & \"\"\",\"\"\" & 'BX Language acquisition'!C2138 & \"\"\",\"\"\" & 'BX Language acquisition'!B2138 & \"\"\",\"\"\" & 'BX Language acquisition'!D2138 & \"\"\"\"","v":"\" \",\"\",\"\",\"\""}]
[{"$f":"\"\"\" \"& 'BX Language acquisition'!A2139 & \"\"\",\"\"\" & 'BX Language acquisition'!C2139 & \"\"\",\"\"\" & 'BX Language acquisition'!B2139 & \"\"\",\"\"\" & 'BX Language acquisition'!D2139 & \"\"\"\"","v":"\" \",\"\",\"\",\"\""}]
[{"$f":"\"\"\" \"& 'BX Language acquisition'!A2140 & \"\"\",\"\"\" & 'BX Language acquisition'!C2140 & \"\"\",\"\"\" & 'BX Language acquisition'!B2140 & \"\"\",\"\"\" & 'BX Language acquisition'!D2140 & \"\"\"\"","v":"\" \",\"\",\"\",\"\""}]
[{"$f":"\"\"\" \"& 'BX Language acquisition'!A2141 & \"\"\",\"\"\" & 'BX Language acquisition'!C2141 & \"\"\",\"\"\" & 'BX Language acquisition'!B2141 & \"\"\",\"\"\" & 'BX Language acquisition'!D2141 & \"\"\"\"","v":"\" \",\"\",\"\",\"\""}]
[{"$f":"\"\"\" \"& 'BX Language acquisition'!A2142 & \"\"\",\"\"\" & 'BX Language acquisition'!C2142 & \"\"\",\"\"\" & 'BX Language acquisition'!B2142 & \"\"\",\"\"\" & 'BX Language acquisition'!D2142 & \"\"\"\"","v":"\" \",\"\",\"\",\"\""}]
[{"$f":"\"\"\" \"& 'BX Language acquisition'!A2143 & \"\"\",\"\"\" & 'BX Language acquisition'!C2143 & \"\"\",\"\"\" & 'BX Language acquisition'!B2143 & \"\"\",\"\"\" & 'BX Language acquisition'!D2143 & \"\"\"\"","v":"\" \",\"\",\"\",\"\""}]
[{"$f":"\"\"\" \"& 'BX Language acquisition'!A2144 & \"\"\",\"\"\" & 'BX Language acquisition'!C2144 & \"\"\",\"\"\" & 'BX Language acquisition'!B2144 & \"\"\",\"\"\" & 'BX Language acquisition'!D2144 & \"\"\"\"","v":"\" \",\"\",\"\",\"\""}]
[{"$f":"\"\"\" \"& 'BX Language acquisition'!A2145 & \"\"\",\"\"\" & 'BX Language acquisition'!C2145 & \"\"\",\"\"\" & 'BX Language acquisition'!B2145 & \"\"\",\"\"\" & 'BX Language acquisition'!D2145 & \"\"\"\"","v":"\" \",\"\",\"\",\"\""}]
[{"$f":"\"\"\" \"& 'BX Language acquisition'!A2146 & \"\"\",\"\"\" & 'BX Language acquisition'!C2146 & \"\"\",\"\"\" & 'BX Language acquisition'!B2146 & \"\"\",\"\"\" & 'BX Language acquisition'!D2146 & \"\"\"\"","v":"\" \",\"\",\"\",\"\""}]
[{"$f":"\"\"\" \"& 'BX Language acquisition'!A2147 & \"\"\",\"\"\" & 'BX Language acquisition'!C2147 & \"\"\",\"\"\" & 'BX Language acquisition'!B2147 & \"\"\",\"\"\" & 'BX Language acquisition'!D2147 & \"\"\"\"","v":"\" \",\"\",\"\",\"\""}]
[{"$f":"\"\"\" \"& 'BX Language acquisition'!A2148 & \"\"\",\"\"\" & 'BX Language acquisition'!C2148 & \"\"\",\"\"\" & 'BX Language acquisition'!B2148 & \"\"\",\"\"\" & 'BX Language acquisition'!D2148 & \"\"\"\"","v":"\" \",\"\",\"\",\"\""}]
[{"$f":"\"\"\" \"& 'BX Language acquisition'!A2149 & \"\"\",\"\"\" & 'BX Language acquisition'!C2149 & \"\"\",\"\"\" & 'BX Language acquisition'!B2149 & \"\"\",\"\"\" & 'BX Language acquisition'!D2149 & \"\"\"\"","v":"\" \",\"\",\"\",\"\""}]
[{"$f":"\"\"\" \"& 'BX Language acquisition'!A2150 & \"\"\",\"\"\" & 'BX Language acquisition'!C2150 & \"\"\",\"\"\" & 'BX Language acquisition'!B2150 & \"\"\",\"\"\" & 'BX Language acquisition'!D2150 & \"\"\"\"","v":"\" \",\"\",\"\",\"\""}]
[{"$f":"\"\"\" \"& 'BX Language acquisition'!A2151 & \"\"\",\"\"\" & 'BX Language acquisition'!C2151 & \"\"\",\"\"\" & 'BX Language acquisition'!B2151 & \"\"\",\"\"\" & 'BX Language acquisition'!D2151 & \"\"\"\"","v":"\" \",\"\",\"\",\"\""}]
[{"$f":"\"\"\" \"& 'BX Language acquisition'!A2152 & \"\"\",\"\"\" & 'BX Language acquisition'!C2152 & \"\"\",\"\"\" & 'BX Language acquisition'!B2152 & \"\"\",\"\"\" & 'BX Language acquisition'!D2152 & \"\"\"\"","v":"\" \",\"\",\"\",\"\""}]
[{"$f":"\"\"\" \"& 'BX Language acquisition'!A2153 & \"\"\",\"\"\" & 'BX Language acquisition'!C2153 & \"\"\",\"\"\" & 'BX Language acquisition'!B2153 & \"\"\",\"\"\" & 'BX Language acquisition'!D2153 & \"\"\"\"","v":"\" \",\"\",\"\",\"\""}]
[{"$f":"\"\"\" \"& 'BX Language acquisition'!A2154 & \"\"\",\"\"\" & 'BX Language acquisition'!C2154 & \"\"\",\"\"\" & 'BX Language acquisition'!B2154 & \"\"\",\"\"\" & 'BX Language acquisition'!D2154 & \"\"\"\"","v":"\" \",\"\",\"\",\"\""}]
[{"$f":"\"\"\" \"& 'BX Language acquisition'!A2155 & \"\"\",\"\"\" & 'BX Language acquisition'!C2155 & \"\"\",\"\"\" & 'BX Language acquisition'!B2155 & \"\"\",\"\"\" & 'BX Language acquisition'!D2155 & \"\"\"\"","v":"\" \",\"\",\"\",\"\""}]
[{"$f":"\"\"\" \"& 'BX Language acquisition'!A2156 & \"\"\",\"\"\" & 'BX Language acquisition'!C2156 & \"\"\",\"\"\" & 'BX Language acquisition'!B2156 & \"\"\",\"\"\" & 'BX Language acquisition'!D2156 & \"\"\"\"","v":"\" \",\"\",\"\",\"\""}]
[{"$f":"\"\"\" \"& 'BX Language acquisition'!A2157 & \"\"\",\"\"\" & 'BX Language acquisition'!C2157 & \"\"\",\"\"\" & 'BX Language acquisition'!B2157 & \"\"\",\"\"\" & 'BX Language acquisition'!D2157 & \"\"\"\"","v":"\" \",\"\",\"\",\"\""}]
[{"$f":"\"\"\" \"& 'BX Language acquisition'!A2158 & \"\"\",\"\"\" & 'BX Language acquisition'!C2158 & \"\"\",\"\"\" & 'BX Language acquisition'!B2158 & \"\"\",\"\"\" & 'BX Language acquisition'!D2158 & \"\"\"\"","v":"\" \",\"\",\"\",\"\""}]
[{"$f":"\"\"\" \"& 'BX Language acquisition'!A2159 & \"\"\",\"\"\" & 'BX Language acquisition'!C2159 & \"\"\",\"\"\" & 'BX Language acquisition'!B2159 & \"\"\",\"\"\" & 'BX Language acquisition'!D2159 & \"\"\"\"","v":"\" \",\"\",\"\",\"\""}]
[{"$f":"\"\"\" \"& 'BX Language acquisition'!A2160 & \"\"\",\"\"\" & 'BX Language acquisition'!C2160 & \"\"\",\"\"\" & 'BX Language acquisition'!B2160 & \"\"\",\"\"\" & 'BX Language acquisition'!D2160 & \"\"\"\"","v":"\" \",\"\",\"\",\"\""}]
[{"$f":"\"\"\" \"& 'BX Language acquisition'!A2161 & \"\"\",\"\"\" & 'BX Language acquisition'!C2161 & \"\"\",\"\"\" & 'BX Language acquisition'!B2161 & \"\"\",\"\"\" & 'BX Language acquisition'!D2161 & \"\"\"\"","v":"\" \",\"\",\"\",\"\""}]
[{"$f":"\"\"\" \"& 'BX Language acquisition'!A2162 & \"\"\",\"\"\" & 'BX Language acquisition'!C2162 & \"\"\",\"\"\" & 'BX Language acquisition'!B2162 & \"\"\",\"\"\" & 'BX Language acquisition'!D2162 & \"\"\"\"","v":"\" \",\"\",\"\",\"\""}]
[{"$f":"\"\"\" \"& 'BX Language acquisition'!A2163 & \"\"\",\"\"\" & 'BX Language acquisition'!C2163 & \"\"\",\"\"\" & 'BX Language acquisition'!B2163 & \"\"\",\"\"\" & 'BX Language acquisition'!D2163 & \"\"\"\"","v":"\" \",\"\",\"\",\"\""}]
[{"$f":"\"\"\" \"& 'BX Language acquisition'!A2164 & \"\"\",\"\"\" & 'BX Language acquisition'!C2164 & \"\"\",\"\"\" & 'BX Language acquisition'!B2164 & \"\"\",\"\"\" & 'BX Language acquisition'!D2164 & \"\"\"\"","v":"\" \",\"\",\"\",\"\""}]
[{"$f":"\"\"\" \"& 'BX Language acquisition'!A2165 & \"\"\",\"\"\" & 'BX Language acquisition'!C2165 & \"\"\",\"\"\" & 'BX Language acquisition'!B2165 & \"\"\",\"\"\" & 'BX Language acquisition'!D2165 & \"\"\"\"","v":"\" \",\"\",\"\",\"\""}]
[{"$f":"\"\"\" \"& 'BX Language acquisition'!A2166 & \"\"\",\"\"\" & 'BX Language acquisition'!C2166 & \"\"\",\"\"\" & 'BX Language acquisition'!B2166 & \"\"\",\"\"\" & 'BX Language acquisition'!D2166 & \"\"\"\"","v":"\" \",\"\",\"\",\"\""}]
[{"$f":"\"\"\" \"& 'BX Language acquisition'!A2167 & \"\"\",\"\"\" & 'BX Language acquisition'!C2167 & \"\"\",\"\"\" & 'BX Language acquisition'!B2167 & \"\"\",\"\"\" & 'BX Language acquisition'!D2167 & \"\"\"\"","v":"\" \",\"\",\"\",\"\""}]
[{"$f":"\"\"\" \"& 'BX Language acquisition'!A2168 & \"\"\",\"\"\" & 'BX Language acquisition'!C2168 & \"\"\",\"\"\" & 'BX Language acquisition'!B2168 & \"\"\",\"\"\" & 'BX Language acquisition'!D2168 & \"\"\"\"","v":"\" \",\"\",\"\",\"\""}]
[{"$f":"\"\"\" \"& 'BX Language acquisition'!A2169 & \"\"\",\"\"\" & 'BX Language acquisition'!C2169 & \"\"\",\"\"\" & 'BX Language acquisition'!B2169 & \"\"\",\"\"\" & 'BX Language acquisition'!D2169 & \"\"\"\"","v":"\" \",\"\",\"\",\"\""}]
[{"$f":"\"\"\" \"& 'BX Language acquisition'!A2170 & \"\"\",\"\"\" & 'BX Language acquisition'!C2170 & \"\"\",\"\"\" & 'BX Language acquisition'!B2170 & \"\"\",\"\"\" & 'BX Language acquisition'!D2170 & \"\"\"\"","v":"\" \",\"\",\"\",\"\""}]
[{"$f":"\"\"\" \"& 'BX Language acquisition'!A2171 & \"\"\",\"\"\" & 'BX Language acquisition'!C2171 & \"\"\",\"\"\" & 'BX Language acquisition'!B2171 & \"\"\",\"\"\" & 'BX Language acquisition'!D2171 & \"\"\"\"","v":"\" \",\"\",\"\",\"\""}]
[{"$f":"\"\"\" \"& 'BX Language acquisition'!A2172 & \"\"\",\"\"\" & 'BX Language acquisition'!C2172 & \"\"\",\"\"\" & 'BX Language acquisition'!B2172 & \"\"\",\"\"\" & 'BX Language acquisition'!D2172 & \"\"\"\"","v":"\" \",\"\",\"\",\"\""}]
[{"$f":"\"\"\" \"& 'BX Language acquisition'!A2173 & \"\"\",\"\"\" & 'BX Language acquisition'!C2173 & \"\"\",\"\"\" & 'BX Language acquisition'!B2173 & \"\"\",\"\"\" & 'BX Language acquisition'!D2173 & \"\"\"\"","v":"\" \",\"\",\"\",\"\""}]
[{"$f":"\"\"\" \"& 'BX Language acquisition'!A2174 & \"\"\",\"\"\" & 'BX Language acquisition'!C2174 & \"\"\",\"\"\" & 'BX Language acquisition'!B2174 & \"\"\",\"\"\" & 'BX Language acquisition'!D2174 & \"\"\"\"","v":"\" \",\"\",\"\",\"\""}]
[{"$f":"\"\"\" \"& 'BX Language acquisition'!A2175 & \"\"\",\"\"\" & 'BX Language acquisition'!C2175 & \"\"\",\"\"\" & 'BX Language acquisition'!B2175 & \"\"\",\"\"\" & 'BX Language acquisition'!D2175 & \"\"\"\"","v":"\" \",\"\",\"\",\"\""}]
[{"$f":"\"\"\" \"& 'BX Language acquisition'!A2176 & \"\"\",\"\"\" & 'BX Language acquisition'!C2176 & \"\"\",\"\"\" & 'BX Language acquisition'!B2176 & \"\"\",\"\"\" & 'BX Language acquisition'!D2176 & \"\"\"\"","v":"\" \",\"\",\"\",\"\""}]
[{"$f":"\"\"\" \"& 'BX Language acquisition'!A2177 & \"\"\",\"\"\" & 'BX Language acquisition'!C2177 & \"\"\",\"\"\" & 'BX Language acquisition'!B2177 & \"\"\",\"\"\" & 'BX Language acquisition'!D2177 & \"\"\"\"","v":"\" \",\"\",\"\",\"\""}]
[{"$f":"\"\"\" \"& 'BX Language acquisition'!A2178 & \"\"\",\"\"\" & 'BX Language acquisition'!C2178 & \"\"\",\"\"\" & 'BX Language acquisition'!B2178 & \"\"\",\"\"\" & 'BX Language acquisition'!D2178 & \"\"\"\"","v":"\" \",\"\",\"\",\"\""}]
[{"$f":"\"\"\" \"& 'BX Language acquisition'!A2179 & \"\"\",\"\"\" & 'BX Language acquisition'!C2179 & \"\"\",\"\"\" & 'BX Language acquisition'!B2179 & \"\"\",\"\"\" & 'BX Language acquisition'!D2179 & \"\"\"\"","v":"\" \",\"\",\"\",\"\""}]
[{"$f":"\"\"\" \"& 'BX Language acquisition'!A2180 & \"\"\",\"\"\" & 'BX Language acquisition'!C2180 & \"\"\",\"\"\" & 'BX Language acquisition'!B2180 & \"\"\",\"\"\" & 'BX Language acquisition'!D2180 & \"\"\"\"","v":"\" \",\"\",\"\",\"\""}]
[{"$f":"\"\"\" \"& 'BX Language acquisition'!A2181 & \"\"\",\"\"\" & 'BX Language acquisition'!C2181 & \"\"\",\"\"\" & 'BX Language acquisition'!B2181 & \"\"\",\"\"\" & 'BX Language acquisition'!D2181 & \"\"\"\"","v":"\" \",\"\",\"\",\"\""}]
[{"$f":"\"\"\" \"& 'BX Language acquisition'!A2182 & \"\"\",\"\"\" & 'BX Language acquisition'!C2182 & \"\"\",\"\"\" & 'BX Language acquisition'!B2182 & \"\"\",\"\"\" & 'BX Language acquisition'!D2182 & \"\"\"\"","v":"\" \",\"\",\"\",\"\""}]
[{"$f":"\"\"\" \"& 'BX Language acquisition'!A2183 & \"\"\",\"\"\" & 'BX Language acquisition'!C2183 & \"\"\",\"\"\" & 'BX Language acquisition'!B2183 & \"\"\",\"\"\" & 'BX Language acquisition'!D2183 & \"\"\"\"","v":"\" \",\"\",\"\",\"\""}]
[{"$f":"\"\"\" \"& 'BX Language acquisition'!A2184 & \"\"\",\"\"\" & 'BX Language acquisition'!C2184 & \"\"\",\"\"\" & 'BX Language acquisition'!B2184 & \"\"\",\"\"\" & 'BX Language acquisition'!D2184 & \"\"\"\"","v":"\" \",\"\",\"\",\"\""}]
[{"$f":"\"\"\" \"& 'BX Language acquisition'!A2185 & \"\"\",\"\"\" & 'BX Language acquisition'!C2185 & \"\"\",\"\"\" & 'BX Language acquisition'!B2185 & \"\"\",\"\"\" & 'BX Language acquisition'!D2185 & \"\"\"\"","v":"\" \",\"\",\"\",\"\""}]
[{"$f":"\"\"\" \"& 'BX Language acquisition'!A2186 & \"\"\",\"\"\" & 'BX Language acquisition'!C2186 & \"\"\",\"\"\" & 'BX Language acquisition'!B2186 & \"\"\",\"\"\" & 'BX Language acquisition'!D2186 & \"\"\"\"","v":"\" \",\"\",\"\",\"\""}]
[{"$f":"\"\"\" \"& 'BX Language acquisition'!A2187 & \"\"\",\"\"\" & 'BX Language acquisition'!C2187 & \"\"\",\"\"\" & 'BX Language acquisition'!B2187 & \"\"\",\"\"\" & 'BX Language acquisition'!D2187 & \"\"\"\"","v":"\" \",\"\",\"\",\"\""}]
[{"$f":"\"\"\" \"& 'BX Language acquisition'!A2188 & \"\"\",\"\"\" & 'BX Language acquisition'!C2188 & \"\"\",\"\"\" & 'BX Language acquisition'!B2188 & \"\"\",\"\"\" & 'BX Language acquisition'!D2188 & \"\"\"\"","v":"\" \",\"\",\"\",\"\""}]
[{"$f":"\"\"\" \"& 'BX Language acquisition'!A2189 & \"\"\",\"\"\" & 'BX Language acquisition'!C2189 & \"\"\",\"\"\" & 'BX Language acquisition'!B2189 & \"\"\",\"\"\" & 'BX Language acquisition'!D2189 & \"\"\"\"","v":"\" \",\"\",\"\",\"\""}]
[{"$f":"\"\"\" \"& 'BX Language acquisition'!A2190 & \"\"\",\"\"\" & 'BX Language acquisition'!C2190 & \"\"\",\"\"\" & 'BX Language acquisition'!B2190 & \"\"\",\"\"\" & 'BX Language acquisition'!D2190 & \"\"\"\"","v":"\" \",\"\",\"\",\"\""}]
[{"$f":"\"\"\" \"& 'BX Language acquisition'!A2191 & \"\"\",\"\"\" & 'BX Language acquisition'!C2191 & \"\"\",\"\"\" & 'BX Language acquisition'!B2191 & \"\"\",\"\"\" & 'BX Language acquisition'!D2191 & \"\"\"\"","v":"\" \",\"\",\"\",\"\""}]
[{"$f":"\"\"\" \"& 'BX Language acquisition'!A2192 & \"\"\",\"\"\" & 'BX Language acquisition'!C2192 & \"\"\",\"\"\" & 'BX Language acquisition'!B2192 & \"\"\",\"\"\" & 'BX Language acquisition'!D2192 & \"\"\"\"","v":"\" \",\"\",\"\",\"\""}]
[{"$f":"\"\"\" \"& 'BX Language acquisition'!A2193 & \"\"\",\"\"\" & 'BX Language acquisition'!C2193 & \"\"\",\"\"\" & 'BX Language acquisition'!B2193 & \"\"\",\"\"\" & 'BX Language acquisition'!D2193 & \"\"\"\"","v":"\" \",\"\",\"\",\"\""}]
[{"$f":"\"\"\" \"& 'BX Language acquisition'!A2194 & \"\"\",\"\"\" & 'BX Language acquisition'!C2194 & \"\"\",\"\"\" & 'BX Language acquisition'!B2194 & \"\"\",\"\"\" & 'BX Language acquisition'!D2194 & \"\"\"\"","v":"\" \",\"\",\"\",\"\""}]
[{"$f":"\"\"\" \"& 'BX Language acquisition'!A2195 & \"\"\",\"\"\" & 'BX Language acquisition'!C2195 & \"\"\",\"\"\" & 'BX Language acquisition'!B2195 & \"\"\",\"\"\" & 'BX Language acquisition'!D2195 & \"\"\"\"","v":"\" \",\"\",\"\",\"\""}]
[{"$f":"\"\"\" \"& 'BX Language acquisition'!A2196 & \"\"\",\"\"\" & 'BX Language acquisition'!C2196 & \"\"\",\"\"\" & 'BX Language acquisition'!B2196 & \"\"\",\"\"\" & 'BX Language acquisition'!D2196 & \"\"\"\"","v":"\" \",\"\",\"\",\"\""}]
[{"$f":"\"\"\" \"& 'BX Language acquisition'!A2197 & \"\"\",\"\"\" & 'BX Language acquisition'!C2197 & \"\"\",\"\"\" & 'BX Language acquisition'!B2197 & \"\"\",\"\"\" & 'BX Language acquisition'!D2197 & \"\"\"\"","v":"\" \",\"\",\"\",\"\""}]
[{"$f":"\"\"\" \"& 'BX Language acquisition'!A2198 & \"\"\",\"\"\" & 'BX Language acquisition'!C2198 & \"\"\",\"\"\" & 'BX Language acquisition'!B2198 & \"\"\",\"\"\" & 'BX Language acquisition'!D2198 & \"\"\"\"","v":"\" \",\"\",\"\",\"\""}]
[{"$f":"\"\"\" \"& 'BX Language acquisition'!A2199 & \"\"\",\"\"\" & 'BX Language acquisition'!C2199 & \"\"\",\"\"\" & 'BX Language acquisition'!B2199 & \"\"\",\"\"\" & 'BX Language acquisition'!D2199 & \"\"\"\"","v":"\" \",\"\",\"\",\"\""}]
[{"$f":"\"\"\" \"& 'BX Language acquisition'!A2200 & \"\"\",\"\"\" & 'BX Language acquisition'!C2200 & \"\"\",\"\"\" & 'BX Language acquisition'!B2200 & \"\"\",\"\"\" & 'BX Language acquisition'!D2200 & \"\"\"\"","v":"\" \",\"\",\"\",\"\""}]
[{"$f":"\"\"\" \"& 'BX Language acquisition'!A2201 & \"\"\",\"\"\" & 'BX Language acquisition'!C2201 & \"\"\",\"\"\" & 'BX Language acquisition'!B2201 & \"\"\",\"\"\" & 'BX Language acquisition'!D2201 & \"\"\"\"","v":"\" \",\"\",\"\",\"\""}]
[{"$f":"\"\"\" \"& 'BX Language acquisition'!A2202 & \"\"\",\"\"\" & 'BX Language acquisition'!C2202 & \"\"\",\"\"\" & 'BX Language acquisition'!B2202 & \"\"\",\"\"\" & 'BX Language acquisition'!D2202 & \"\"\"\"","v":"\" \",\"\",\"\",\"\""}]
[{"$f":"\"\"\" \"& 'BX Language acquisition'!A2203 & \"\"\",\"\"\" & 'BX Language acquisition'!C2203 & \"\"\",\"\"\" & 'BX Language acquisition'!B2203 & \"\"\",\"\"\" & 'BX Language acquisition'!D2203 & \"\"\"\"","v":"\" \",\"\",\"\",\"\""}]
[{"$f":"\"\"\" \"& 'BX Language acquisition'!A2204 & \"\"\",\"\"\" & 'BX Language acquisition'!C2204 & \"\"\",\"\"\" & 'BX Language acquisition'!B2204 & \"\"\",\"\"\" & 'BX Language acquisition'!D2204 & \"\"\"\"","v":"\" \",\"\",\"\",\"\""}]
[{"$f":"\"\"\" \"& 'BX Language acquisition'!A2205 & \"\"\",\"\"\" & 'BX Language acquisition'!C2205 & \"\"\",\"\"\" & 'BX Language acquisition'!B2205 & \"\"\",\"\"\" & 'BX Language acquisition'!D2205 & \"\"\"\"","v":"\" \",\"\",\"\",\"\""}]
[{"$f":"\"\"\" \"& 'BX Language acquisition'!A2206 & \"\"\",\"\"\" & 'BX Language acquisition'!C2206 & \"\"\",\"\"\" & 'BX Language acquisition'!B2206 & \"\"\",\"\"\" & 'BX Language acquisition'!D2206 & \"\"\"\"","v":"\" \",\"\",\"\",\"\""}]
[{"$f":"\"\"\" \"& 'BX Language acquisition'!A2207 & \"\"\",\"\"\" & 'BX Language acquisition'!C2207 & \"\"\",\"\"\" & 'BX Language acquisition'!B2207 & \"\"\",\"\"\" & 'BX Language acquisition'!D2207 & \"\"\"\"","v":"\" \",\"\",\"\",\"\""}]
[{"$f":"\"\"\" \"& 'BX Language acquisition'!A2208 & \"\"\",\"\"\" & 'BX Language acquisition'!C2208 & \"\"\",\"\"\" & 'BX Language acquisition'!B2208 & \"\"\",\"\"\" & 'BX Language acquisition'!D2208 & \"\"\"\"","v":"\" \",\"\",\"\",\"\""}]
[{"$f":"\"\"\" \"& 'BX Language acquisition'!A2209 & \"\"\",\"\"\" & 'BX Language acquisition'!C2209 & \"\"\",\"\"\" & 'BX Language acquisition'!B2209 & \"\"\",\"\"\" & 'BX Language acquisition'!D2209 & \"\"\"\"","v":"\" \",\"\",\"\",\"\""}]
[{"$f":"\"\"\" \"& 'BX Language acquisition'!A2210 & \"\"\",\"\"\" & 'BX Language acquisition'!C2210 & \"\"\",\"\"\" & 'BX Language acquisition'!B2210 & \"\"\",\"\"\" & 'BX Language acquisition'!D2210 & \"\"\"\"","v":"\" \",\"\",\"\",\"\""}]
[{"$f":"\"\"\" \"& 'BX Language acquisition'!A2211 & \"\"\",\"\"\" & 'BX Language acquisition'!C2211 & \"\"\",\"\"\" & 'BX Language acquisition'!B2211 & \"\"\",\"\"\" & 'BX Language acquisition'!D2211 & \"\"\"\"","v":"\" \",\"\",\"\",\"\""}]
[{"$f":"\"\"\" \"& 'BX Language acquisition'!A2212 & \"\"\",\"\"\" & 'BX Language acquisition'!C2212 & \"\"\",\"\"\" & 'BX Language acquisition'!B2212 & \"\"\",\"\"\" & 'BX Language acquisition'!D2212 & \"\"\"\"","v":"\" \",\"\",\"\",\"\""}]
[{"$f":"\"\"\" \"& 'BX Language acquisition'!A2213 & \"\"\",\"\"\" & 'BX Language acquisition'!C2213 & \"\"\",\"\"\" & 'BX Language acquisition'!B2213 & \"\"\",\"\"\" & 'BX Language acquisition'!D2213 & \"\"\"\"","v":"\" \",\"\",\"\",\"\""}]
[{"$f":"\"\"\" \"& 'BX Language acquisition'!A2214 & \"\"\",\"\"\" & 'BX Language acquisition'!C2214 & \"\"\",\"\"\" & 'BX Language acquisition'!B2214 & \"\"\",\"\"\" & 'BX Language acquisition'!D2214 & \"\"\"\"","v":"\" \",\"\",\"\",\"\""}]
[{"$f":"\"\"\" \"& 'BX Language acquisition'!A2215 & \"\"\",\"\"\" & 'BX Language acquisition'!C2215 & \"\"\",\"\"\" & 'BX Language acquisition'!B2215 & \"\"\",\"\"\" & 'BX Language acquisition'!D2215 & \"\"\"\"","v":"\" \",\"\",\"\",\"\""}]
[{"$f":"\"\"\" \"& 'BX Language acquisition'!A2216 & \"\"\",\"\"\" & 'BX Language acquisition'!C2216 & \"\"\",\"\"\" & 'BX Language acquisition'!B2216 & \"\"\",\"\"\" & 'BX Language acquisition'!D2216 & \"\"\"\"","v":"\" \",\"\",\"\",\"\""}]
[{"$f":"\"\"\" \"& 'BX Language acquisition'!A2217 & \"\"\",\"\"\" & 'BX Language acquisition'!C2217 & \"\"\",\"\"\" & 'BX Language acquisition'!B2217 & \"\"\",\"\"\" & 'BX Language acquisition'!D2217 & \"\"\"\"","v":"\" \",\"\",\"\",\"\""}]
[{"$f":"\"\"\" \"& 'BX Language acquisition'!A2218 & \"\"\",\"\"\" & 'BX Language acquisition'!C2218 & \"\"\",\"\"\" & 'BX Language acquisition'!B2218 & \"\"\",\"\"\" & 'BX Language acquisition'!D2218 & \"\"\"\"","v":"\" \",\"\",\"\",\"\""}]
[{"$f":"\"\"\" \"& 'BX Language acquisition'!A2219 & \"\"\",\"\"\" & 'BX Language acquisition'!C2219 & \"\"\",\"\"\" & 'BX Language acquisition'!B2219 & \"\"\",\"\"\" & 'BX Language acquisition'!D2219 & \"\"\"\"","v":"\" \",\"\",\"\",\"\""}]
[{"$f":"\"\"\" \"& 'BX Language acquisition'!A2220 & \"\"\",\"\"\" & 'BX Language acquisition'!C2220 & \"\"\",\"\"\" & 'BX Language acquisition'!B2220 & \"\"\",\"\"\" & 'BX Language acquisition'!D2220 & \"\"\"\"","v":"\" \",\"\",\"\",\"\""}]
[{"$f":"\"\"\" \"& 'BX Language acquisition'!A2221 & \"\"\",\"\"\" & 'BX Language acquisition'!C2221 & \"\"\",\"\"\" & 'BX Language acquisition'!B2221 & \"\"\",\"\"\" & 'BX Language acquisition'!D2221 & \"\"\"\"","v":"\" \",\"\",\"\",\"\""}]
[{"$f":"\"\"\" \"& 'BX Language acquisition'!A2222 & \"\"\",\"\"\" & 'BX Language acquisition'!C2222 & \"\"\",\"\"\" & 'BX Language acquisition'!B2222 & \"\"\",\"\"\" & 'BX Language acquisition'!D2222 & \"\"\"\"","v":"\" \",\"\",\"\",\"\""}]
[{"$f":"\"\"\" \"& 'BX Language acquisition'!A2223 & \"\"\",\"\"\" & 'BX Language acquisition'!C2223 & \"\"\",\"\"\" & 'BX Language acquisition'!B2223 & \"\"\",\"\"\" & 'BX Language acquisition'!D2223 & \"\"\"\"","v":"\" \",\"\",\"\",\"\""}]
[{"$f":"\"\"\" \"& 'BX Language acquisition'!A2224 & \"\"\",\"\"\" & 'BX Language acquisition'!C2224 & \"\"\",\"\"\" & 'BX Language acquisition'!B2224 & \"\"\",\"\"\" & 'BX Language acquisition'!D2224 & \"\"\"\"","v":"\" \",\"\",\"\",\"\""}]
[{"$f":"\"\"\" \"& 'BX Language acquisition'!A2225 & \"\"\",\"\"\" & 'BX Language acquisition'!C2225 & \"\"\",\"\"\" & 'BX Language acquisition'!B2225 & \"\"\",\"\"\" & 'BX Language acquisition'!D2225 & \"\"\"\"","v":"\" \",\"\",\"\",\"\""}]
[{"$f":"\"\"\" \"& 'BX Language acquisition'!A2226 & \"\"\",\"\"\" & 'BX Language acquisition'!C2226 & \"\"\",\"\"\" & 'BX Language acquisition'!B2226 & \"\"\",\"\"\" & 'BX Language acquisition'!D2226 & \"\"\"\"","v":"\" \",\"\",\"\",\"\""}]
[{"$f":"\"\"\" \"& 'BX Language acquisition'!A2227 & \"\"\",\"\"\" & 'BX Language acquisition'!C2227 & \"\"\",\"\"\" & 'BX Language acquisition'!B2227 & \"\"\",\"\"\" & 'BX Language acquisition'!D2227 & \"\"\"\"","v":"\" \",\"\",\"\",\"\""}]
[{"$f":"\"\"\" \"& 'BX Language acquisition'!A2228 & \"\"\",\"\"\" & 'BX Language acquisition'!C2228 & \"\"\",\"\"\" & 'BX Language acquisition'!B2228 & \"\"\",\"\"\" & 'BX Language acquisition'!D2228 & \"\"\"\"","v":"\" \",\"\",\"\",\"\""}]
[{"$f":"\"\"\" \"& 'BX Language acquisition'!A2229 & \"\"\",\"\"\" & 'BX Language acquisition'!C2229 & \"\"\",\"\"\" & 'BX Language acquisition'!B2229 & \"\"\",\"\"\" & 'BX Language acquisition'!D2229 & \"\"\"\"","v":"\" \",\"\",\"\",\"\""}]
[{"$f":"\"\"\" \"& 'BX Language acquisition'!A2230 & \"\"\",\"\"\" & 'BX Language acquisition'!C2230 & \"\"\",\"\"\" & 'BX Language acquisition'!B2230 & \"\"\",\"\"\" & 'BX Language acquisition'!D2230 & \"\"\"\"","v":"\" \",\"\",\"\",\"\""}]
[{"$f":"\"\"\" \"& 'BX Language acquisition'!A2231 & \"\"\",\"\"\" & 'BX Language acquisition'!C2231 & \"\"\",\"\"\" & 'BX Language acquisition'!B2231 & \"\"\",\"\"\" & 'BX Language acquisition'!D2231 & \"\"\"\"","v":"\" \",\"\",\"\",\"\""}]
[{"$f":"\"\"\" \"& 'BX Language acquisition'!A2232 & \"\"\",\"\"\" & 'BX Language acquisition'!C2232 & \"\"\",\"\"\" & 'BX Language acquisition'!B2232 & \"\"\",\"\"\" & 'BX Language acquisition'!D2232 & \"\"\"\"","v":"\" \",\"\",\"\",\"\""}]
[{"$f":"\"\"\" \"& 'BX Language acquisition'!A2233 & \"\"\",\"\"\" & 'BX Language acquisition'!C2233 & \"\"\",\"\"\" & 'BX Language acquisition'!B2233 & \"\"\",\"\"\" & 'BX Language acquisition'!D2233 & \"\"\"\"","v":"\" \",\"\",\"\",\"\""}]
[{"$f":"\"\"\" \"& 'BX Language acquisition'!A2234 & \"\"\",\"\"\" & 'BX Language acquisition'!C2234 & \"\"\",\"\"\" & 'BX Language acquisition'!B2234 & \"\"\",\"\"\" & 'BX Language acquisition'!D2234 & \"\"\"\"","v":"\" \",\"\",\"\",\"\""}]
[{"$f":"\"\"\" \"& 'BX Language acquisition'!A2235 & \"\"\",\"\"\" & 'BX Language acquisition'!C2235 & \"\"\",\"\"\" & 'BX Language acquisition'!B2235 & \"\"\",\"\"\" & 'BX Language acquisition'!D2235 & \"\"\"\"","v":"\" \",\"\",\"\",\"\""}]
[{"$f":"\"\"\" \"& 'BX Language acquisition'!A2236 & \"\"\",\"\"\" & 'BX Language acquisition'!C2236 & \"\"\",\"\"\" & 'BX Language acquisition'!B2236 & \"\"\",\"\"\" & 'BX Language acquisition'!D2236 & \"\"\"\"","v":"\" \",\"\",\"\",\"\""}]
[{"$f":"\"\"\" \"& 'BX Language acquisition'!A2237 & \"\"\",\"\"\" & 'BX Language acquisition'!C2237 & \"\"\",\"\"\" & 'BX Language acquisition'!B2237 & \"\"\",\"\"\" & 'BX Language acquisition'!D2237 & \"\"\"\"","v":"\" \",\"\",\"\",\"\""}]
[{"$f":"\"\"\" \"& 'BX Language acquisition'!A2238 & \"\"\",\"\"\" & 'BX Language acquisition'!C2238 & \"\"\",\"\"\" & 'BX Language acquisition'!B2238 & \"\"\",\"\"\" & 'BX Language acquisition'!D2238 & \"\"\"\"","v":"\" \",\"\",\"\",\"\""}]
[{"$f":"\"\"\" \"& 'BX Language acquisition'!A2239 & \"\"\",\"\"\" & 'BX Language acquisition'!C2239 & \"\"\",\"\"\" & 'BX Language acquisition'!B2239 & \"\"\",\"\"\" & 'BX Language acquisition'!D2239 & \"\"\"\"","v":"\" \",\"\",\"\",\"\""}]
[{"$f":"\"\"\" \"& 'BX Language acquisition'!A2240 & \"\"\",\"\"\" & 'BX Language acquisition'!C2240 & \"\"\",\"\"\" & 'BX Language acquisition'!B2240 & \"\"\",\"\"\" & 'BX Language acquisition'!D2240 & \"\"\"\"","v":"\" \",\"\",\"\",\"\""}]
[{"$f":"\"\"\" \"& 'BX Language acquisition'!A2241 & \"\"\",\"\"\" & 'BX Language acquisition'!C2241 & \"\"\",\"\"\" & 'BX Language acquisition'!B2241 & \"\"\",\"\"\" & 'BX Language acquisition'!D2241 & \"\"\"\"","v":"\" \",\"\",\"\",\"\""}]
[{"$f":"\"\"\" \"& 'BX Language acquisition'!A2242 & \"\"\",\"\"\" & 'BX Language acquisition'!C2242 & \"\"\",\"\"\" & 'BX Language acquisition'!B2242 & \"\"\",\"\"\" & 'BX Language acquisition'!D2242 & \"\"\"\"","v":"\" \",\"\",\"\",\"\""}]
[{"$f":"\"\"\" \"& 'BX Language acquisition'!A2243 & \"\"\",\"\"\" & 'BX Language acquisition'!C2243 & \"\"\",\"\"\" & 'BX Language acquisition'!B2243 & \"\"\",\"\"\" & 'BX Language acquisition'!D2243 & \"\"\"\"","v":"\" \",\"\",\"\",\"\""}]
[{"$f":"\"\"\" \"& 'BX Language acquisition'!A2244 & \"\"\",\"\"\" & 'BX Language acquisition'!C2244 & \"\"\",\"\"\" & 'BX Language acquisition'!B2244 & \"\"\",\"\"\" & 'BX Language acquisition'!D2244 & \"\"\"\"","v":"\" \",\"\",\"\",\"\""}]
[{"$f":"\"\"\" \"& 'BX Language acquisition'!A2245 & \"\"\",\"\"\" & 'BX Language acquisition'!C2245 & \"\"\",\"\"\" & 'BX Language acquisition'!B2245 & \"\"\",\"\"\" & 'BX Language acquisition'!D2245 & \"\"\"\"","v":"\" \",\"\",\"\",\"\""}]
[{"$f":"\"\"\" \"& 'BX Language acquisition'!A2246 & \"\"\",\"\"\" & 'BX Language acquisition'!C2246 & \"\"\",\"\"\" & 'BX Language acquisition'!B2246 & \"\"\",\"\"\" & 'BX Language acquisition'!D2246 & \"\"\"\"","v":"\" \",\"\",\"\",\"\""}]
[{"$f":"\"\"\" \"& 'BX Language acquisition'!A2247 & \"\"\",\"\"\" & 'BX Language acquisition'!C2247 & \"\"\",\"\"\" & 'BX Language acquisition'!B2247 & \"\"\",\"\"\" & 'BX Language acquisition'!D2247 & \"\"\"\"","v":"\" \",\"\",\"\",\"\""}]
[{"$f":"\"\"\" \"& 'BX Language acquisition'!A2248 & \"\"\",\"\"\" & 'BX Language acquisition'!C2248 & \"\"\",\"\"\" & 'BX Language acquisition'!B2248 & \"\"\",\"\"\" & 'BX Language acquisition'!D2248 & \"\"\"\"","v":"\" \",\"\",\"\",\"\""}]
[{"$f":"\"\"\" \"& 'BX Language acquisition'!A2249 & \"\"\",\"\"\" & 'BX Language acquisition'!C2249 & \"\"\",\"\"\" & 'BX Language acquisition'!B2249 & \"\"\",\"\"\" & 'BX Language acquisition'!D2249 & \"\"\"\"","v":"\" \",\"\",\"\",\"\""}]
[{"$f":"\"\"\" \"& 'BX Language acquisition'!A2250 & \"\"\",\"\"\" & 'BX Language acquisition'!C2250 & \"\"\",\"\"\" & 'BX Language acquisition'!B2250 & \"\"\",\"\"\" & 'BX Language acquisition'!D2250 & \"\"\"\"","v":"\" \",\"\",\"\",\"\""}]
[{"$f":"\"\"\" \"& 'BX Language acquisition'!A2251 & \"\"\",\"\"\" & 'BX Language acquisition'!C2251 & \"\"\",\"\"\" & 'BX Language acquisition'!B2251 & \"\"\",\"\"\" & 'BX Language acquisition'!D2251 & \"\"\"\"","v":"\" \",\"\",\"\",\"\""}]
[{"$f":"\"\"\" \"& 'BX Language acquisition'!A2252 & \"\"\",\"\"\" & 'BX Language acquisition'!C2252 & \"\"\",\"\"\" & 'BX Language acquisition'!B2252 & \"\"\",\"\"\" & 'BX Language acquisition'!D2252 & \"\"\"\"","v":"\" \",\"\",\"\",\"\""}]
[{"$f":"\"\"\" \"& 'BX Language acquisition'!A2253 & \"\"\",\"\"\" & 'BX Language acquisition'!C2253 & \"\"\",\"\"\" & 'BX Language acquisition'!B2253 & \"\"\",\"\"\" & 'BX Language acquisition'!D2253 & \"\"\"\"","v":"\" \",\"\",\"\",\"\""}]
[{"$f":"\"\"\" \"& 'BX Language acquisition'!A2254 & \"\"\",\"\"\" & 'BX Language acquisition'!C2254 & \"\"\",\"\"\" & 'BX Language acquisition'!B2254 & \"\"\",\"\"\" & 'BX Language acquisition'!D2254 & \"\"\"\"","v":"\" \",\"\",\"\",\"\""}]
[{"$f":"\"\"\" \"& 'BX Language acquisition'!A2255 & \"\"\",\"\"\" & 'BX Language acquisition'!C2255 & \"\"\",\"\"\" & 'BX Language acquisition'!B2255 & \"\"\",\"\"\" & 'BX Language acquisition'!D2255 & \"\"\"\"","v":"\" \",\"\",\"\",\"\""}]
[{"$f":"\"\"\" \"& 'BX Language acquisition'!A2256 & \"\"\",\"\"\" & 'BX Language acquisition'!C2256 & \"\"\",\"\"\" & 'BX Language acquisition'!B2256 & \"\"\",\"\"\" & 'BX Language acquisition'!D2256 & \"\"\"\"","v":"\" \",\"\",\"\",\"\""}]
[{"$f":"\"\"\" \"& 'BX Language acquisition'!A2257 & \"\"\",\"\"\" & 'BX Language acquisition'!C2257 & \"\"\",\"\"\" & 'BX Language acquisition'!B2257 & \"\"\",\"\"\" & 'BX Language acquisition'!D2257 & \"\"\"\"","v":"\" \",\"\",\"\",\"\""}]
[{"$f":"\"\"\" \"& 'BX Language acquisition'!A2258 & \"\"\",\"\"\" & 'BX Language acquisition'!C2258 & \"\"\",\"\"\" & 'BX Language acquisition'!B2258 & \"\"\",\"\"\" & 'BX Language acquisition'!D2258 & \"\"\"\"","v":"\" \",\"\",\"\",\"\""}]
[{"$f":"\"\"\" \"& 'BX Language acquisition'!A2259 & \"\"\",\"\"\" & 'BX Language acquisition'!C2259 & \"\"\",\"\"\" & 'BX Language acquisition'!B2259 & \"\"\",\"\"\" & 'BX Language acquisition'!D2259 & \"\"\"\"","v":"\" \",\"\",\"\",\"\""}]
[{"$f":"\"\"\" \"& 'BX Language acquisition'!A2260 & \"\"\",\"\"\" & 'BX Language acquisition'!C2260 & \"\"\",\"\"\" & 'BX Language acquisition'!B2260 & \"\"\",\"\"\" & 'BX Language acquisition'!D2260 & \"\"\"\"","v":"\" \",\"\",\"\",\"\""}]
[{"$f":"\"\"\" \"& 'BX Language acquisition'!A2261 & \"\"\",\"\"\" & 'BX Language acquisition'!C2261 & \"\"\",\"\"\" & 'BX Language acquisition'!B2261 & \"\"\",\"\"\" & 'BX Language acquisition'!D2261 & \"\"\"\"","v":"\" \",\"\",\"\",\"\""}]
[{"$f":"\"\"\" \"& 'BX Language acquisition'!A2262 & \"\"\",\"\"\" & 'BX Language acquisition'!C2262 & \"\"\",\"\"\" & 'BX Language acquisition'!B2262 & \"\"\",\"\"\" & 'BX Language acquisition'!D2262 & \"\"\"\"","v":"\" \",\"\",\"\",\"\""}]
[{"$f":"\"\"\" \"& 'BX Language acquisition'!A2263 & \"\"\",\"\"\" & 'BX Language acquisition'!C2263 & \"\"\",\"\"\" & 'BX Language acquisition'!B2263 & \"\"\",\"\"\" & 'BX Language acquisition'!D2263 & \"\"\"\"","v":"\" \",\"\",\"\",\"\""}]
[{"$f":"\"\"\" \"& 'BX Language acquisition'!A2264 & \"\"\",\"\"\" & 'BX Language acquisition'!C2264 & \"\"\",\"\"\" & 'BX Language acquisition'!B2264 & \"\"\",\"\"\" & 'BX Language acquisition'!D2264 & \"\"\"\"","v":"\" \",\"\",\"\",\"\""}]
[{"$f":"\"\"\" \"& 'BX Language acquisition'!A2265 & \"\"\",\"\"\" & 'BX Language acquisition'!C2265 & \"\"\",\"\"\" & 'BX Language acquisition'!B2265 & \"\"\",\"\"\" & 'BX Language acquisition'!D2265 & \"\"\"\"","v":"\" \",\"\",\"\",\"\""}]
[{"$f":"\"\"\" \"& 'BX Language acquisition'!A2266 & \"\"\",\"\"\" & 'BX Language acquisition'!C2266 & \"\"\",\"\"\" & 'BX Language acquisition'!B2266 & \"\"\",\"\"\" & 'BX Language acquisition'!D2266 & \"\"\"\"","v":"\" \",\"\",\"\",\"\""}]
[{"$f":"\"\"\" \"& 'BX Language acquisition'!A2267 & \"\"\",\"\"\" & 'BX Language acquisition'!C2267 & \"\"\",\"\"\" & 'BX Language acquisition'!B2267 & \"\"\",\"\"\" & 'BX Language acquisition'!D2267 & \"\"\"\"","v":"\" \",\"\",\"\",\"\""}]
[{"$f":"\"\"\" \"& 'BX Language acquisition'!A2268 & \"\"\",\"\"\" & 'BX Language acquisition'!C2268 & \"\"\",\"\"\" & 'BX Language acquisition'!B2268 & \"\"\",\"\"\" & 'BX Language acquisition'!D2268 & \"\"\"\"","v":"\" \",\"\",\"\",\"\""}]
[{"$f":"\"\"\" \"& 'BX Language acquisition'!A2269 & \"\"\",\"\"\" & 'BX Language acquisition'!C2269 & \"\"\",\"\"\" & 'BX Language acquisition'!B2269 & \"\"\",\"\"\" & 'BX Language acquisition'!D2269 & \"\"\"\"","v":"\" \",\"\",\"\",\"\""}]
[{"$f":"\"\"\" \"& 'BX Language acquisition'!A2270 & \"\"\",\"\"\" & 'BX Language acquisition'!C2270 & \"\"\",\"\"\" & 'BX Language acquisition'!B2270 & \"\"\",\"\"\" & 'BX Language acquisition'!D2270 & \"\"\"\"","v":"\" \",\"\",\"\",\"\""}]
[{"$f":"\"\"\" \"& 'BX Language acquisition'!A2271 & \"\"\",\"\"\" & 'BX Language acquisition'!C2271 & \"\"\",\"\"\" & 'BX Language acquisition'!B2271 & \"\"\",\"\"\" & 'BX Language acquisition'!D2271 & \"\"\"\"","v":"\" \",\"\",\"\",\"\""}]
[{"$f":"\"\"\" \"& 'BX Language acquisition'!A2272 & \"\"\",\"\"\" & 'BX Language acquisition'!C2272 & \"\"\",\"\"\" & 'BX Language acquisition'!B2272 & \"\"\",\"\"\" & 'BX Language acquisition'!D2272 & \"\"\"\"","v":"\" \",\"\",\"\",\"\""}]
[{"$f":"\"\"\" \"& 'BX Language acquisition'!A2273 & \"\"\",\"\"\" & 'BX Language acquisition'!C2273 & \"\"\",\"\"\" & 'BX Language acquisition'!B2273 & \"\"\",\"\"\" & 'BX Language acquisition'!D2273 & \"\"\"\"","v":"\" \",\"\",\"\",\"\""}]
[{"$f":"\"\"\" \"& 'BX Language acquisition'!A2274 & \"\"\",\"\"\" & 'BX Language acquisition'!C2274 & \"\"\",\"\"\" & 'BX Language acquisition'!B2274 & \"\"\",\"\"\" & 'BX Language acquisition'!D2274 & \"\"\"\"","v":"\" \",\"\",\"\",\"\""}]
[{"$f":"\"\"\" \"& 'BX Language acquisition'!A2275 & \"\"\",\"\"\" & 'BX Language acquisition'!C2275 & \"\"\",\"\"\" & 'BX Language acquisition'!B2275 & \"\"\",\"\"\" & 'BX Language acquisition'!D2275 & \"\"\"\"","v":"\" \",\"\",\"\",\"\""}]
[{"$f":"\"\"\" \"& 'BX Language acquisition'!A2276 & \"\"\",\"\"\" & 'BX Language acquisition'!C2276 & \"\"\",\"\"\" & 'BX Language acquisition'!B2276 & \"\"\",\"\"\" & 'BX Language acquisition'!D2276 & \"\"\"\"","v":"\" \",\"\",\"\",\"\""}]
[{"$f":"\"\"\" \"& 'BX Language acquisition'!A2277 & \"\"\",\"\"\" & 'BX Language acquisition'!C2277 & \"\"\",\"\"\" & 'BX Language acquisition'!B2277 & \"\"\",\"\"\" & 'BX Language acquisition'!D2277 & \"\"\"\"","v":"\" \",\"\",\"\",\"\""}]
[{"$f":"\"\"\" \"& 'BX Language acquisition'!A2278 & \"\"\",\"\"\" & 'BX Language acquisition'!C2278 & \"\"\",\"\"\" & 'BX Language acquisition'!B2278 & \"\"\",\"\"\" & 'BX Language acquisition'!D2278 & \"\"\"\"","v":"\" \",\"\",\"\",\"\""}]
[{"$f":"\"\"\" \"& 'BX Language acquisition'!A2279 & \"\"\",\"\"\" & 'BX Language acquisition'!C2279 & \"\"\",\"\"\" & 'BX Language acquisition'!B2279 & \"\"\",\"\"\" & 'BX Language acquisition'!D2279 & \"\"\"\"","v":"\" \",\"\",\"\",\"\""}]
[{"$f":"\"\"\" \"& 'BX Language acquisition'!A2280 & \"\"\",\"\"\" & 'BX Language acquisition'!C2280 & \"\"\",\"\"\" & 'BX Language acquisition'!B2280 & \"\"\",\"\"\" & 'BX Language acquisition'!D2280 & \"\"\"\"","v":"\" \",\"\",\"\",\"\""}]
[{"$f":"\"\"\" \"& 'BX Language acquisition'!A2281 & \"\"\",\"\"\" & 'BX Language acquisition'!C2281 & \"\"\",\"\"\" & 'BX Language acquisition'!B2281 & \"\"\",\"\"\" & 'BX Language acquisition'!D2281 & \"\"\"\"","v":"\" \",\"\",\"\",\"\""}]
[{"$f":"\"\"\" \"& 'BX Language acquisition'!A2282 & \"\"\",\"\"\" & 'BX Language acquisition'!C2282 & \"\"\",\"\"\" & 'BX Language acquisition'!B2282 & \"\"\",\"\"\" & 'BX Language acquisition'!D2282 & \"\"\"\"","v":"\" \",\"\",\"\",\"\""}]
[{"$f":"\"\"\" \"& 'BX Language acquisition'!A2283 & \"\"\",\"\"\" & 'BX Language acquisition'!C2283 & \"\"\",\"\"\" & 'BX Language acquisition'!B2283 & \"\"\",\"\"\" & 'BX Language acquisition'!D2283 & \"\"\"\"","v":"\" \",\"\",\"\",\"\""}]
[{"$f":"\"\"\" \"& 'BX Language acquisition'!A2284 & \"\"\",\"\"\" & 'BX Language acquisition'!C2284 & \"\"\",\"\"\" & 'BX Language acquisition'!B2284 & \"\"\",\"\"\" & 'BX Language acquisition'!D2284 & \"\"\"\"","v":"\" \",\"\",\"\",\"\""}]
[{"$f":"\"\"\" \"& 'BX Language acquisition'!A2285 & \"\"\",\"\"\" & 'BX Language acquisition'!C2285 & \"\"\",\"\"\" & 'BX Language acquisition'!B2285 & \"\"\",\"\"\" & 'BX Language acquisition'!D2285 & \"\"\"\"","v":"\" \",\"\",\"\",\"\""}]
[{"$f":"\"\"\" \"& 'BX Language acquisition'!A2286 & \"\"\",\"\"\" & 'BX Language acquisition'!C2286 & \"\"\",\"\"\" & 'BX Language acquisition'!B2286 & \"\"\",\"\"\" & 'BX Language acquisition'!D2286 & \"\"\"\"","v":"\" \",\"\",\"\",\"\""}]
[{"$f":"\"\"\" \"& 'BX Language acquisition'!A2287 & \"\"\",\"\"\" & 'BX Language acquisition'!C2287 & \"\"\",\"\"\" & 'BX Language acquisition'!B2287 & \"\"\",\"\"\" & 'BX Language acquisition'!D2287 & \"\"\"\"","v":"\" \",\"\",\"\",\"\""}]
[{"$f":"\"\"\" \"& 'BX Language acquisition'!A2288 & \"\"\",\"\"\" & 'BX Language acquisition'!C2288 & \"\"\",\"\"\" & 'BX Language acquisition'!B2288 & \"\"\",\"\"\" & 'BX Language acquisition'!D2288 & \"\"\"\"","v":"\" \",\"\",\"\",\"\""}]
[{"$f":"\"\"\" \"& 'BX Language acquisition'!A2289 & \"\"\",\"\"\" & 'BX Language acquisition'!C2289 & \"\"\",\"\"\" & 'BX Language acquisition'!B2289 & \"\"\",\"\"\" & 'BX Language acquisition'!D2289 & \"\"\"\"","v":"\" \",\"\",\"\",\"\""}]
[{"$f":"\"\"\" \"& 'BX Language acquisition'!A2290 & \"\"\",\"\"\" & 'BX Language acquisition'!C2290 & \"\"\",\"\"\" & 'BX Language acquisition'!B2290 & \"\"\",\"\"\" & 'BX Language acquisition'!D2290 & \"\"\"\"","v":"\" \",\"\",\"\",\"\""}]
[{"$f":"\"\"\" \"& 'BX Language acquisition'!A2291 & \"\"\",\"\"\" & 'BX Language acquisition'!C2291 & \"\"\",\"\"\" & 'BX Language acquisition'!B2291 & \"\"\",\"\"\" & 'BX Language acquisition'!D2291 & \"\"\"\"","v":"\" \",\"\",\"\",\"\""}]
[{"$f":"\"\"\" \"& 'BX Language acquisition'!A2292 & \"\"\",\"\"\" & 'BX Language acquisition'!C2292 & \"\"\",\"\"\" & 'BX Language acquisition'!B2292 & \"\"\",\"\"\" & 'BX Language acquisition'!D2292 & \"\"\"\"","v":"\" \",\"\",\"\",\"\""}]
[{"$f":"\"\"\" \"& 'BX Language acquisition'!A2293 & \"\"\",\"\"\" & 'BX Language acquisition'!C2293 & \"\"\",\"\"\" & 'BX Language acquisition'!B2293 & \"\"\",\"\"\" & 'BX Language acquisition'!D2293 & \"\"\"\"","v":"\" \",\"\",\"\",\"\""}]
[{"$f":"\"\"\" \"& 'BX Language acquisition'!A2294 & \"\"\",\"\"\" & 'BX Language acquisition'!C2294 & \"\"\",\"\"\" & 'BX Language acquisition'!B2294 & \"\"\",\"\"\" & 'BX Language acquisition'!D2294 & \"\"\"\"","v":"\" \",\"\",\"\",\"\""}]
[{"$f":"\"\"\" \"& 'BX Language acquisition'!A2295 & \"\"\",\"\"\" & 'BX Language acquisition'!C2295 & \"\"\",\"\"\" & 'BX Language acquisition'!B2295 & \"\"\",\"\"\" & 'BX Language acquisition'!D2295 & \"\"\"\"","v":"\" \",\"\",\"\",\"\""}]
[{"$f":"\"\"\" \"& 'BX Language acquisition'!A2296 & \"\"\",\"\"\" & 'BX Language acquisition'!C2296 & \"\"\",\"\"\" & 'BX Language acquisition'!B2296 & \"\"\",\"\"\" & 'BX Language acquisition'!D2296 & \"\"\"\"","v":"\" \",\"\",\"\",\"\""}]
[{"$f":"\"\"\" \"& 'BX Language acquisition'!A2297 & \"\"\",\"\"\" & 'BX Language acquisition'!C2297 & \"\"\",\"\"\" & 'BX Language acquisition'!B2297 & \"\"\",\"\"\" & 'BX Language acquisition'!D2297 & \"\"\"\"","v":"\" \",\"\",\"\",\"\""}]
[{"$f":"\"\"\" \"& 'BX Language acquisition'!A2298 & \"\"\",\"\"\" & 'BX Language acquisition'!C2298 & \"\"\",\"\"\" & 'BX Language acquisition'!B2298 & \"\"\",\"\"\" & 'BX Language acquisition'!D2298 & \"\"\"\"","v":"\" \",\"\",\"\",\"\""}]
[{"$f":"\"\"\" \"& 'BX Language acquisition'!A2299 & \"\"\",\"\"\" & 'BX Language acquisition'!C2299 & \"\"\",\"\"\" & 'BX Language acquisition'!B2299 & \"\"\",\"\"\" & 'BX Language acquisition'!D2299 & \"\"\"\"","v":"\" \",\"\",\"\",\"\""}]
[{"$f":"\"\"\" \"& 'BX Language acquisition'!A2300 & \"\"\",\"\"\" & 'BX Language acquisition'!C2300 & \"\"\",\"\"\" & 'BX Language acquisition'!B2300 & \"\"\",\"\"\" & 'BX Language acquisition'!D2300 & \"\"\"\"","v":"\" \",\"\",\"\",\"\""}]
[{"$f":"\"\"\" \"& 'BX Language acquisition'!A2301 & \"\"\",\"\"\" & 'BX Language acquisition'!C2301 & \"\"\",\"\"\" & 'BX Language acquisition'!B2301 & \"\"\",\"\"\" & 'BX Language acquisition'!D2301 & \"\"\"\"","v":"\" \",\"\",\"\",\"\""}]
[{"$f":"\"\"\" \"& 'BX Language acquisition'!A2302 & \"\"\",\"\"\" & 'BX Language acquisition'!C2302 & \"\"\",\"\"\" & 'BX Language acquisition'!B2302 & \"\"\",\"\"\" & 'BX Language acquisition'!D2302 & \"\"\"\"","v":"\" \",\"\",\"\",\"\""}]
[{"$f":"\"\"\" \"& 'BX Language acquisition'!A2303 & \"\"\",\"\"\" & 'BX Language acquisition'!C2303 & \"\"\",\"\"\" & 'BX Language acquisition'!B2303 & \"\"\",\"\"\" & 'BX Language acquisition'!D2303 & \"\"\"\"","v":"\" \",\"\",\"\",\"\""}]
[{"$f":"\"\"\" \"& 'BX Language acquisition'!A2304 & \"\"\",\"\"\" & 'BX Language acquisition'!C2304 & \"\"\",\"\"\" & 'BX Language acquisition'!B2304 & \"\"\",\"\"\" & 'BX Language acquisition'!D2304 & \"\"\"\"","v":"\" \",\"\",\"\",\"\""}]
[{"$f":"\"\"\" \"& 'BX Language acquisition'!A2305 & \"\"\",\"\"\" & 'BX Language acquisition'!C2305 & \"\"\",\"\"\" & 'BX Language acquisition'!B2305 & \"\"\",\"\"\" & 'BX Language acquisition'!D2305 & \"\"\"\"","v":"\" \",\"\",\"\",\"\""}]
[{"$f":"\"\"\" \"& 'BX Language acquisition'!A2306 & \"\"\",\"\"\" & 'BX Language acquisition'!C2306 & \"\"\",\"\"\" & 'BX Language acquisition'!B2306 & \"\"\",\"\"\" & 'BX Language acquisition'!D2306 & \"\"\"\"","v":"\" \",\"\",\"\",\"\""}]
[{"$f":"\"\"\" \"& 'BX Language acquisition'!A2307 & \"\"\",\"\"\" & 'BX Language acquisition'!C2307 & \"\"\",\"\"\" & 'BX Language acquisition'!B2307 & \"\"\",\"\"\" & 'BX Language acquisition'!D2307 & \"\"\"\"","v":"\" \",\"\",\"\",\"\""}]
[{"$f":"\"\"\" \"& 'BX Language acquisition'!A2308 & \"\"\",\"\"\" & 'BX Language acquisition'!C2308 & \"\"\",\"\"\" & 'BX Language acquisition'!B2308 & \"\"\",\"\"\" & 'BX Language acquisition'!D2308 & \"\"\"\"","v":"\" \",\"\",\"\",\"\""}]
[{"$f":"\"\"\" \"& 'BX Language acquisition'!A2309 & \"\"\",\"\"\" & 'BX Language acquisition'!C2309 & \"\"\",\"\"\" & 'BX Language acquisition'!B2309 & \"\"\",\"\"\" & 'BX Language acquisition'!D2309 & \"\"\"\"","v":"\" \",\"\",\"\",\"\""}]
[{"$f":"\"\"\" \"& 'BX Language acquisition'!A2310 & \"\"\",\"\"\" & 'BX Language acquisition'!C2310 & \"\"\",\"\"\" & 'BX Language acquisition'!B2310 & \"\"\",\"\"\" & 'BX Language acquisition'!D2310 & \"\"\"\"","v":"\" \",\"\",\"\",\"\""}]
[{"$f":"\"\"\" \"& 'BX Language acquisition'!A2311 & \"\"\",\"\"\" & 'BX Language acquisition'!C2311 & \"\"\",\"\"\" & 'BX Language acquisition'!B2311 & \"\"\",\"\"\" & 'BX Language acquisition'!D2311 & \"\"\"\"","v":"\" \",\"\",\"\",\"\""}]
[{"$f":"\"\"\" \"& 'BX Language acquisition'!A2312 & \"\"\",\"\"\" & 'BX Language acquisition'!C2312 & \"\"\",\"\"\" & 'BX Language acquisition'!B2312 & \"\"\",\"\"\" & 'BX Language acquisition'!D2312 & \"\"\"\"","v":"\" \",\"\",\"\",\"\""}]
[{"$f":"\"\"\" \"& 'BX Language acquisition'!A2313 & \"\"\",\"\"\" & 'BX Language acquisition'!C2313 & \"\"\",\"\"\" & 'BX Language acquisition'!B2313 & \"\"\",\"\"\" & 'BX Language acquisition'!D2313 & \"\"\"\"","v":"\" \",\"\",\"\",\"\""}]
[{"$f":"\"\"\" \"& 'BX Language acquisition'!A2314 & \"\"\",\"\"\" & 'BX Language acquisition'!C2314 & \"\"\",\"\"\" & 'BX Language acquisition'!B2314 & \"\"\",\"\"\" & 'BX Language acquisition'!D2314 & \"\"\"\"","v":"\" \",\"\",\"\",\"\""}]
[{"$f":"\"\"\" \"& 'BX Language acquisition'!A2315 & \"\"\",\"\"\" & 'BX Language acquisition'!C2315 & \"\"\",\"\"\" & 'BX Language acquisition'!B2315 & \"\"\",\"\"\" & 'BX Language acquisition'!D2315 & \"\"\"\"","v":"\" \",\"\",\"\",\"\""}]
[{"$f":"\"\"\" \"& 'BX Language acquisition'!A2316 & \"\"\",\"\"\" & 'BX Language acquisition'!C2316 & \"\"\",\"\"\" & 'BX Language acquisition'!B2316 & \"\"\",\"\"\" & 'BX Language acquisition'!D2316 & \"\"\"\"","v":"\" \",\"\",\"\",\"\""}]
[{"$f":"\"\"\" \"& 'BX Language acquisition'!A2317 & \"\"\",\"\"\" & 'BX Language acquisition'!C2317 & \"\"\",\"\"\" & 'BX Language acquisition'!B2317 & \"\"\",\"\"\" & 'BX Language acquisition'!D2317 & \"\"\"\"","v":"\" \",\"\",\"\",\"\""}]
[{"$f":"\"\"\" \"& 'BX Language acquisition'!A2318 & \"\"\",\"\"\" & 'BX Language acquisition'!C2318 & \"\"\",\"\"\" & 'BX Language acquisition'!B2318 & \"\"\",\"\"\" & 'BX Language acquisition'!D2318 & \"\"\"\"","v":"\" \",\"\",\"\",\"\""}]
[{"$f":"\"\"\" \"& 'BX Language acquisition'!A2319 & \"\"\",\"\"\" & 'BX Language acquisition'!C2319 & \"\"\",\"\"\" & 'BX Language acquisition'!B2319 & \"\"\",\"\"\" & 'BX Language acquisition'!D2319 & \"\"\"\"","v":"\" \",\"\",\"\",\"\""}]
[{"$f":"\"\"\" \"& 'BX Language acquisition'!A2320 & \"\"\",\"\"\" & 'BX Language acquisition'!C2320 & \"\"\",\"\"\" & 'BX Language acquisition'!B2320 & \"\"\",\"\"\" & 'BX Language acquisition'!D2320 & \"\"\"\"","v":"\" \",\"\",\"\",\"\""}]
[{"$f":"\"\"\" \"& 'BX Language acquisition'!A2321 & \"\"\",\"\"\" & 'BX Language acquisition'!C2321 & \"\"\",\"\"\" & 'BX Language acquisition'!B2321 & \"\"\",\"\"\" & 'BX Language acquisition'!D2321 & \"\"\"\"","v":"\" \",\"\",\"\",\"\""}]
[{"$f":"\"\"\" \"& 'BX Language acquisition'!A2322 & \"\"\",\"\"\" & 'BX Language acquisition'!C2322 & \"\"\",\"\"\" & 'BX Language acquisition'!B2322 & \"\"\",\"\"\" & 'BX Language acquisition'!D2322 & \"\"\"\"","v":"\" \",\"\",\"\",\"\""}]
[{"$f":"\"\"\" \"& 'BX Language acquisition'!A2323 & \"\"\",\"\"\" & 'BX Language acquisition'!C2323 & \"\"\",\"\"\" & 'BX Language acquisition'!B2323 & \"\"\",\"\"\" & 'BX Language acquisition'!D2323 & \"\"\"\"","v":"\" \",\"\",\"\",\"\""}]
[{"$f":"\"\"\" \"& 'BX Language acquisition'!A2324 & \"\"\",\"\"\" & 'BX Language acquisition'!C2324 & \"\"\",\"\"\" & 'BX Language acquisition'!B2324 & \"\"\",\"\"\" & 'BX Language acquisition'!D2324 & \"\"\"\"","v":"\" \",\"\",\"\",\"\""}]
[{"$f":"\"\"\" \"& 'BX Language acquisition'!A2325 & \"\"\",\"\"\" & 'BX Language acquisition'!C2325 & \"\"\",\"\"\" & 'BX Language acquisition'!B2325 & \"\"\",\"\"\" & 'BX Language acquisition'!D2325 & \"\"\"\"","v":"\" \",\"\",\"\",\"\""}]
[{"$f":"\"\"\" \"& 'BX Language acquisition'!A2326 & \"\"\",\"\"\" & 'BX Language acquisition'!C2326 & \"\"\",\"\"\" & 'BX Language acquisition'!B2326 & \"\"\",\"\"\" & 'BX Language acquisition'!D2326 & \"\"\"\"","v":"\" \",\"\",\"\",\"\""}]
[{"$f":"\"\"\" \"& 'BX Language acquisition'!A2327 & \"\"\",\"\"\" & 'BX Language acquisition'!C2327 & \"\"\",\"\"\" & 'BX Language acquisition'!B2327 & \"\"\",\"\"\" & 'BX Language acquisition'!D2327 & \"\"\"\"","v":"\" \",\"\",\"\",\"\""}]
[{"$f":"\"\"\" \"& 'BX Language acquisition'!A2328 & \"\"\",\"\"\" & 'BX Language acquisition'!C2328 & \"\"\",\"\"\" & 'BX Language acquisition'!B2328 & \"\"\",\"\"\" & 'BX Language acquisition'!D2328 & \"\"\"\"","v":"\" \",\"\",\"\",\"\""}]
[{"$f":"\"\"\" \"& 'BX Language acquisition'!A2329 & \"\"\",\"\"\" & 'BX Language acquisition'!C2329 & \"\"\",\"\"\" & 'BX Language acquisition'!B2329 & \"\"\",\"\"\" & 'BX Language acquisition'!D2329 & \"\"\"\"","v":"\" \",\"\",\"\",\"\""}]
[{"$f":"\"\"\" \"& 'BX Language acquisition'!A2330 & \"\"\",\"\"\" & 'BX Language acquisition'!C2330 & \"\"\",\"\"\" & 'BX Language acquisition'!B2330 & \"\"\",\"\"\" & 'BX Language acquisition'!D2330 & \"\"\"\"","v":"\" \",\"\",\"\",\"\""}]
[{"$f":"\"\"\" \"& 'BX Language acquisition'!A2331 & \"\"\",\"\"\" & 'BX Language acquisition'!C2331 & \"\"\",\"\"\" & 'BX Language acquisition'!B2331 & \"\"\",\"\"\" & 'BX Language acquisition'!D2331 & \"\"\"\"","v":"\" \",\"\",\"\",\"\""}]
[{"$f":"\"\"\" \"& 'BX Language acquisition'!A2332 & \"\"\",\"\"\" & 'BX Language acquisition'!C2332 & \"\"\",\"\"\" & 'BX Language acquisition'!B2332 & \"\"\",\"\"\" & 'BX Language acquisition'!D2332 & \"\"\"\"","v":"\" \",\"\",\"\",\"\""}]
[{"$f":"\"\"\" \"& 'BX Language acquisition'!A2333 & \"\"\",\"\"\" & 'BX Language acquisition'!C2333 & \"\"\",\"\"\" & 'BX Language acquisition'!B2333 & \"\"\",\"\"\" & 'BX Language acquisition'!D2333 & \"\"\"\"","v":"\" \",\"\",\"\",\"\""}]
[{"$f":"\"\"\" \"& 'BX Language acquisition'!A2334 & \"\"\",\"\"\" & 'BX Language acquisition'!C2334 & \"\"\",\"\"\" & 'BX Language acquisition'!B2334 & \"\"\",\"\"\" & 'BX Language acquisition'!D2334 & \"\"\"\"","v":"\" \",\"\",\"\",\"\""}]
[{"$f":"\"\"\" \"& 'BX Language acquisition'!A2335 & \"\"\",\"\"\" & 'BX Language acquisition'!C2335 & \"\"\",\"\"\" & 'BX Language acquisition'!B2335 & \"\"\",\"\"\" & 'BX Language acquisition'!D2335 & \"\"\"\"","v":"\" \",\"\",\"\",\"\""}]
[{"$f":"\"\"\" \"& 'BX Language acquisition'!A2336 & \"\"\",\"\"\" & 'BX Language acquisition'!C2336 & \"\"\",\"\"\" & 'BX Language acquisition'!B2336 & \"\"\",\"\"\" & 'BX Language acquisition'!D2336 & \"\"\"\"","v":"\" \",\"\",\"\",\"\""}]
[{"$f":"\"\"\" \"& 'BX Language acquisition'!A2337 & \"\"\",\"\"\" & 'BX Language acquisition'!C2337 & \"\"\",\"\"\" & 'BX Language acquisition'!B2337 & \"\"\",\"\"\" & 'BX Language acquisition'!D2337 & \"\"\"\"","v":"\" \",\"\",\"\",\"\""}]
[{"$f":"\"\"\" \"& 'BX Language acquisition'!A2338 & \"\"\",\"\"\" & 'BX Language acquisition'!C2338 & \"\"\",\"\"\" & 'BX Language acquisition'!B2338 & \"\"\",\"\"\" & 'BX Language acquisition'!D2338 & \"\"\"\"","v":"\" \",\"\",\"\",\"\""}]
[{"$f":"\"\"\" \"& 'BX Language acquisition'!A2339 & \"\"\",\"\"\" & 'BX Language acquisition'!C2339 & \"\"\",\"\"\" & 'BX Language acquisition'!B2339 & \"\"\",\"\"\" & 'BX Language acquisition'!D2339 & \"\"\"\"","v":"\" \",\"\",\"\",\"\""}]
[{"$f":"\"\"\" \"& 'BX Language acquisition'!A2340 & \"\"\",\"\"\" & 'BX Language acquisition'!C2340 & \"\"\",\"\"\" & 'BX Language acquisition'!B2340 & \"\"\",\"\"\" & 'BX Language acquisition'!D2340 & \"\"\"\"","v":"\" \",\"\",\"\",\"\""}]
[{"$f":"\"\"\" \"& 'BX Language acquisition'!A2341 & \"\"\",\"\"\" & 'BX Language acquisition'!C2341 & \"\"\",\"\"\" & 'BX Language acquisition'!B2341 & \"\"\",\"\"\" & 'BX Language acquisition'!D2341 & \"\"\"\"","v":"\" \",\"\",\"\",\"\""}]
[{"$f":"\"\"\" \"& 'BX Language acquisition'!A2342 & \"\"\",\"\"\" & 'BX Language acquisition'!C2342 & \"\"\",\"\"\" & 'BX Language acquisition'!B2342 & \"\"\",\"\"\" & 'BX Language acquisition'!D2342 & \"\"\"\"","v":"\" \",\"\",\"\",\"\""}]
[{"$f":"\"\"\" \"& 'BX Language acquisition'!A2343 & \"\"\",\"\"\" & 'BX Language acquisition'!C2343 & \"\"\",\"\"\" & 'BX Language acquisition'!B2343 & \"\"\",\"\"\" & 'BX Language acquisition'!D2343 & \"\"\"\"","v":"\" \",\"\",\"\",\"\""}]
[{"$f":"\"\"\" \"& 'BX Language acquisition'!A2344 & \"\"\",\"\"\" & 'BX Language acquisition'!C2344 & \"\"\",\"\"\" & 'BX Language acquisition'!B2344 & \"\"\",\"\"\" & 'BX Language acquisition'!D2344 & \"\"\"\"","v":"\" \",\"\",\"\",\"\""}]
[{"$f":"\"\"\" \"& 'BX Language acquisition'!A2345 & \"\"\",\"\"\" & 'BX Language acquisition'!C2345 & \"\"\",\"\"\" & 'BX Language acquisition'!B2345 & \"\"\",\"\"\" & 'BX Language acquisition'!D2345 & \"\"\"\"","v":"\" \",\"\",\"\",\"\""}]
[{"$f":"\"\"\" \"& 'BX Language acquisition'!A2346 & \"\"\",\"\"\" & 'BX Language acquisition'!C2346 & \"\"\",\"\"\" & 'BX Language acquisition'!B2346 & \"\"\",\"\"\" & 'BX Language acquisition'!D2346 & \"\"\"\"","v":"\" \",\"\",\"\",\"\""}]
[{"$f":"\"\"\" \"& 'BX Language acquisition'!A2347 & \"\"\",\"\"\" & 'BX Language acquisition'!C2347 & \"\"\",\"\"\" & 'BX Language acquisition'!B2347 & \"\"\",\"\"\" & 'BX Language acquisition'!D2347 & \"\"\"\"","v":"\" \",\"\",\"\",\"\""}]
[{"$f":"\"\"\" \"& 'BX Language acquisition'!A2348 & \"\"\",\"\"\" & 'BX Language acquisition'!C2348 & \"\"\",\"\"\" & 'BX Language acquisition'!B2348 & \"\"\",\"\"\" & 'BX Language acquisition'!D2348 & \"\"\"\"","v":"\" \",\"\",\"\",\"\""}]
[{"$f":"\"\"\" \"& 'BX Language acquisition'!A2349 & \"\"\",\"\"\" & 'BX Language acquisition'!C2349 & \"\"\",\"\"\" & 'BX Language acquisition'!B2349 & \"\"\",\"\"\" & 'BX Language acquisition'!D2349 & \"\"\"\"","v":"\" \",\"\",\"\",\"\""}]
[{"$f":"\"\"\" \"& 'BX Language acquisition'!A2350 & \"\"\",\"\"\" & 'BX Language acquisition'!C2350 & \"\"\",\"\"\" & 'BX Language acquisition'!B2350 & \"\"\",\"\"\" & 'BX Language acquisition'!D2350 & \"\"\"\"","v":"\" \",\"\",\"\",\"\""}]
[{"$f":"\"\"\" \"& 'BX Language acquisition'!A2351 & \"\"\",\"\"\" & 'BX Language acquisition'!C2351 & \"\"\",\"\"\" & 'BX Language acquisition'!B2351 & \"\"\",\"\"\" & 'BX Language acquisition'!D2351 & \"\"\"\"","v":"\" \",\"\",\"\",\"\""}]
[{"$f":"\"\"\" \"& 'BX Language acquisition'!A2352 & \"\"\",\"\"\" & 'BX Language acquisition'!C2352 & \"\"\",\"\"\" & 'BX Language acquisition'!B2352 & \"\"\",\"\"\" & 'BX Language acquisition'!D2352 & \"\"\"\"","v":"\" \",\"\",\"\",\"\""}]
[{"$f":"\"\"\" \"& 'BX Language acquisition'!A2353 & \"\"\",\"\"\" & 'BX Language acquisition'!C2353 & \"\"\",\"\"\" & 'BX Language acquisition'!B2353 & \"\"\",\"\"\" & 'BX Language acquisition'!D2353 & \"\"\"\"","v":"\" \",\"\",\"\",\"\""}]
[{"$f":"\"\"\" \"& 'BX Language acquisition'!A2354 & \"\"\",\"\"\" & 'BX Language acquisition'!C2354 & \"\"\",\"\"\" & 'BX Language acquisition'!B2354 & \"\"\",\"\"\" & 'BX Language acquisition'!D2354 & \"\"\"\"","v":"\" \",\"\",\"\",\"\""}]
[{"$f":"\"\"\" \"& 'BX Language acquisition'!A2355 & \"\"\",\"\"\" & 'BX Language acquisition'!C2355 & \"\"\",\"\"\" & 'BX Language acquisition'!B2355 & \"\"\",\"\"\" & 'BX Language acquisition'!D2355 & \"\"\"\"","v":"\" \",\"\",\"\",\"\""}]
[{"$f":"\"\"\" \"& 'BX Language acquisition'!A2356 & \"\"\",\"\"\" & 'BX Language acquisition'!C2356 & \"\"\",\"\"\" & 'BX Language acquisition'!B2356 & \"\"\",\"\"\" & 'BX Language acquisition'!D2356 & \"\"\"\"","v":"\" \",\"\",\"\",\"\""}]
[{"$f":"\"\"\" \"& 'BX Language acquisition'!A2357 & \"\"\",\"\"\" & 'BX Language acquisition'!C2357 & \"\"\",\"\"\" & 'BX Language acquisition'!B2357 & \"\"\",\"\"\" & 'BX Language acquisition'!D2357 & \"\"\"\"","v":"\" \",\"\",\"\",\"\""}]
[{"$f":"\"\"\" \"& 'BX Language acquisition'!A2358 & \"\"\",\"\"\" & 'BX Language acquisition'!C2358 & \"\"\",\"\"\" & 'BX Language acquisition'!B2358 & \"\"\",\"\"\" & 'BX Language acquisition'!D2358 & \"\"\"\"","v":"\" \",\"\",\"\",\"\""}]
[{"$f":"\"\"\" \"& 'BX Language acquisition'!A2359 & \"\"\",\"\"\" & 'BX Language acquisition'!C2359 & \"\"\",\"\"\" & 'BX Language acquisition'!B2359 & \"\"\",\"\"\" & 'BX Language acquisition'!D2359 & \"\"\"\"","v":"\" \",\"\",\"\",\"\""}]
[{"$f":"\"\"\" \"& 'BX Language acquisition'!A2360 & \"\"\",\"\"\" & 'BX Language acquisition'!C2360 & \"\"\",\"\"\" & 'BX Language acquisition'!B2360 & \"\"\",\"\"\" & 'BX Language acquisition'!D2360 & \"\"\"\"","v":"\" \",\"\",\"\",\"\""}]
[{"$f":"\"\"\" \"& 'BX Language acquisition'!A2361 & \"\"\",\"\"\" & 'BX Language acquisition'!C2361 & \"\"\",\"\"\" & 'BX Language acquisition'!B2361 & \"\"\",\"\"\" & 'BX Language acquisition'!D2361 & \"\"\"\"","v":"\" \",\"\",\"\",\"\""}]
[{"$f":"\"\"\" \"& 'BX Language acquisition'!A2362 & \"\"\",\"\"\" & 'BX Language acquisition'!C2362 & \"\"\",\"\"\" & 'BX Language acquisition'!B2362 & \"\"\",\"\"\" & 'BX Language acquisition'!D2362 & \"\"\"\"","v":"\" \",\"\",\"\",\"\""}]
[{"$f":"\"\"\" \"& 'BX Language acquisition'!A2363 & \"\"\",\"\"\" & 'BX Language acquisition'!C2363 & \"\"\",\"\"\" & 'BX Language acquisition'!B2363 & \"\"\",\"\"\" & 'BX Language acquisition'!D2363 & \"\"\"\"","v":"\" \",\"\",\"\",\"\""}]
[{"$f":"\"\"\" \"& 'BX Language acquisition'!A2364 & \"\"\",\"\"\" & 'BX Language acquisition'!C2364 & \"\"\",\"\"\" & 'BX Language acquisition'!B2364 & \"\"\",\"\"\" & 'BX Language acquisition'!D2364 & \"\"\"\"","v":"\" \",\"\",\"\",\"\""}]
[{"$f":"\"\"\" \"& 'BX Language acquisition'!A2365 & \"\"\",\"\"\" & 'BX Language acquisition'!C2365 & \"\"\",\"\"\" & 'BX Language acquisition'!B2365 & \"\"\",\"\"\" & 'BX Language acquisition'!D2365 & \"\"\"\"","v":"\" \",\"\",\"\",\"\""}]
[{"$f":"\"\"\" \"& 'BX Language acquisition'!A2366 & \"\"\",\"\"\" & 'BX Language acquisition'!C2366 & \"\"\",\"\"\" & 'BX Language acquisition'!B2366 & \"\"\",\"\"\" & 'BX Language acquisition'!D2366 & \"\"\"\"","v":"\" \",\"\",\"\",\"\""}]
[{"$f":"\"\"\" \"& 'BX Language acquisition'!A2367 & \"\"\",\"\"\" & 'BX Language acquisition'!C2367 & \"\"\",\"\"\" & 'BX Language acquisition'!B2367 & \"\"\",\"\"\" & 'BX Language acquisition'!D2367 & \"\"\"\"","v":"\" \",\"\",\"\",\"\""}]
[{"$f":"\"\"\" \"& 'BX Language acquisition'!A2368 & \"\"\",\"\"\" & 'BX Language acquisition'!C2368 & \"\"\",\"\"\" & 'BX Language acquisition'!B2368 & \"\"\",\"\"\" & 'BX Language acquisition'!D2368 & \"\"\"\"","v":"\" \",\"\",\"\",\"\""}]
[{"$f":"\"\"\" \"& 'BX Language acquisition'!A2369 & \"\"\",\"\"\" & 'BX Language acquisition'!C2369 & \"\"\",\"\"\" & 'BX Language acquisition'!B2369 & \"\"\",\"\"\" & 'BX Language acquisition'!D2369 & \"\"\"\"","v":"\" \",\"\",\"\",\"\""}]
[{"$f":"\"\"\" \"& 'BX Language acquisition'!A2370 & \"\"\",\"\"\" & 'BX Language acquisition'!C2370 & \"\"\",\"\"\" & 'BX Language acquisition'!B2370 & \"\"\",\"\"\" & 'BX Language acquisition'!D2370 & \"\"\"\"","v":"\" \",\"\",\"\",\"\""}]
[{"$f":"\"\"\" \"& 'BX Language acquisition'!A2371 & \"\"\",\"\"\" & 'BX Language acquisition'!C2371 & \"\"\",\"\"\" & 'BX Language acquisition'!B2371 & \"\"\",\"\"\" & 'BX Language acquisition'!D2371 & \"\"\"\"","v":"\" \",\"\",\"\",\"\""}]
[{"$f":"\"\"\" \"& 'BX Language acquisition'!A2372 & \"\"\",\"\"\" & 'BX Language acquisition'!C2372 & \"\"\",\"\"\" & 'BX Language acquisition'!B2372 & \"\"\",\"\"\" & 'BX Language acquisition'!D2372 & \"\"\"\"","v":"\" \",\"\",\"\",\"\""}]
[{"$f":"\"\"\" \"& 'BX Language acquisition'!A2373 & \"\"\",\"\"\" & 'BX Language acquisition'!C2373 & \"\"\",\"\"\" & 'BX Language acquisition'!B2373 & \"\"\",\"\"\" & 'BX Language acquisition'!D2373 & \"\"\"\"","v":"\" \",\"\",\"\",\"\""}]
[{"$f":"\"\"\" \"& 'BX Language acquisition'!A2374 & \"\"\",\"\"\" & 'BX Language acquisition'!C2374 & \"\"\",\"\"\" & 'BX Language acquisition'!B2374 & \"\"\",\"\"\" & 'BX Language acquisition'!D2374 & \"\"\"\"","v":"\" \",\"\",\"\",\"\""}]
[{"$f":"\"\"\" \"& 'BX Language acquisition'!A2375 & \"\"\",\"\"\" & 'BX Language acquisition'!C2375 & \"\"\",\"\"\" & 'BX Language acquisition'!B2375 & \"\"\",\"\"\" & 'BX Language acquisition'!D2375 & \"\"\"\"","v":"\" \",\"\",\"\",\"\""}]
[{"$f":"\"\"\" \"& 'BX Language acquisition'!A2376 & \"\"\",\"\"\" & 'BX Language acquisition'!C2376 & \"\"\",\"\"\" & 'BX Language acquisition'!B2376 & \"\"\",\"\"\" & 'BX Language acquisition'!D2376 & \"\"\"\"","v":"\" \",\"\",\"\",\"\""}]
[{"$f":"\"\"\" \"& 'BX Language acquisition'!A2377 & \"\"\",\"\"\" & 'BX Language acquisition'!C2377 & \"\"\",\"\"\" & 'BX Language acquisition'!B2377 & \"\"\",\"\"\" & 'BX Language acquisition'!D2377 & \"\"\"\"","v":"\" \",\"\",\"\",\"\""}]
[{"$f":"\"\"\" \"& 'BX Language acquisition'!A2378 & \"\"\",\"\"\" & 'BX Language acquisition'!C2378 & \"\"\",\"\"\" & 'BX Language acquisition'!B2378 & \"\"\",\"\"\" & 'BX Language acquisition'!D2378 & \"\"\"\"","v":"\" \",\"\",\"\",\"\""}]
[{"$f":"\"\"\" \"& 'BX Language acquisition'!A2379 & \"\"\",\"\"\" & 'BX Language acquisition'!C2379 & \"\"\",\"\"\" & 'BX Language acquisition'!B2379 & \"\"\",\"\"\" & 'BX Language acquisition'!D2379 & \"\"\"\"","v":"\" \",\"\",\"\",\"\""}]
[{"$f":"\"\"\" \"& 'BX Language acquisition'!A2380 & \"\"\",\"\"\" & 'BX Language acquisition'!C2380 & \"\"\",\"\"\" & 'BX Language acquisition'!B2380 & \"\"\",\"\"\" & 'BX Language acquisition'!D2380 & \"\"\"\"","v":"\" \",\"\",\"\",\"\""}]
[{"$f":"\"\"\" \"& 'BX Language acquisition'!A2381 & \"\"\",\"\"\" & 'BX Language acquisition'!C2381 & \"\"\",\"\"\" & 'BX Language acquisition'!B2381 & \"\"\",\"\"\" & 'BX Language acquisition'!D2381 & \"\"\"\"","v":"\" \",\"\",\"\",\"\""}]
[{"$f":"\"\"\" \"& 'BX Language acquisition'!A2382 & \"\"\",\"\"\" & 'BX Language acquisition'!C2382 & \"\"\",\"\"\" & 'BX Language acquisition'!B2382 & \"\"\",\"\"\" & 'BX Language acquisition'!D2382 & \"\"\"\"","v":"\" \",\"\",\"\",\"\""}]
[{"$f":"\"\"\" \"& 'BX Language acquisition'!A2383 & \"\"\",\"\"\" & 'BX Language acquisition'!C2383 & \"\"\",\"\"\" & 'BX Language acquisition'!B2383 & \"\"\",\"\"\" & 'BX Language acquisition'!D2383 & \"\"\"\"","v":"\" \",\"\",\"\",\"\""}]
[{"$f":"\"\"\" \"& 'BX Language acquisition'!A2384 & \"\"\",\"\"\" & 'BX Language acquisition'!C2384 & \"\"\",\"\"\" & 'BX Language acquisition'!B2384 & \"\"\",\"\"\" & 'BX Language acquisition'!D2384 & \"\"\"\"","v":"\" \",\"\",\"\",\"\""}]
[{"$f":"\"\"\" \"& 'BX Language acquisition'!A2385 & \"\"\",\"\"\" & 'BX Language acquisition'!C2385 & \"\"\",\"\"\" & 'BX Language acquisition'!B2385 & \"\"\",\"\"\" & 'BX Language acquisition'!D2385 & \"\"\"\"","v":"\" \",\"\",\"\",\"\""}]
[{"$f":"\"\"\" \"& 'BX Language acquisition'!A2386 & \"\"\",\"\"\" & 'BX Language acquisition'!C2386 & \"\"\",\"\"\" & 'BX Language acquisition'!B2386 & \"\"\",\"\"\" & 'BX Language acquisition'!D2386 & \"\"\"\"","v":"\" \",\"\",\"\",\"\""}]
[{"$f":"\"\"\" \"& 'BX Language acquisition'!A2387 & \"\"\",\"\"\" & 'BX Language acquisition'!C2387 & \"\"\",\"\"\" & 'BX Language acquisition'!B2387 & \"\"\",\"\"\" & 'BX Language acquisition'!D2387 & \"\"\"\"","v":"\" \",\"\",\"\",\"\""}]
[{"$f":"\"\"\" \"& 'BX Language acquisition'!A2388 & \"\"\",\"\"\" & 'BX Language acquisition'!C2388 & \"\"\",\"\"\" & 'BX Language acquisition'!B2388 & \"\"\",\"\"\" & 'BX Language acquisition'!D2388 & \"\"\"\"","v":"\" \",\"\",\"\",\"\""}]
[{"$f":"\"\"\" \"& 'BX Language acquisition'!A2389 & \"\"\",\"\"\" & 'BX Language acquisition'!C2389 & \"\"\",\"\"\" & 'BX Language acquisition'!B2389 & \"\"\",\"\"\" & 'BX Language acquisition'!D2389 & \"\"\"\"","v":"\" \",\"\",\"\",\"\""}]
[{"$f":"\"\"\" \"& 'BX Language acquisition'!A2390 & \"\"\",\"\"\" & 'BX Language acquisition'!C2390 & \"\"\",\"\"\" & 'BX Language acquisition'!B2390 & \"\"\",\"\"\" & 'BX Language acquisition'!D2390 & \"\"\"\"","v":"\" \",\"\",\"\",\"\""}]
[{"$f":"\"\"\" \"& 'BX Language acquisition'!A2391 & \"\"\",\"\"\" & 'BX Language acquisition'!C2391 & \"\"\",\"\"\" & 'BX Language acquisition'!B2391 & \"\"\",\"\"\" & 'BX Language acquisition'!D2391 & \"\"\"\"","v":"\" \",\"\",\"\",\"\""}]
[{"$f":"\"\"\" \"& 'BX Language acquisition'!A2392 & \"\"\",\"\"\" & 'BX Language acquisition'!C2392 & \"\"\",\"\"\" & 'BX Language acquisition'!B2392 & \"\"\",\"\"\" & 'BX Language acquisition'!D2392 & \"\"\"\"","v":"\" \",\"\",\"\",\"\""}]
[{"$f":"\"\"\" \"& 'BX Language acquisition'!A2393 & \"\"\",\"\"\" & 'BX Language acquisition'!C2393 & \"\"\",\"\"\" & 'BX Language acquisition'!B2393 & \"\"\",\"\"\" & 'BX Language acquisition'!D2393 & \"\"\"\"","v":"\" \",\"\",\"\",\"\""}]
[{"$f":"\"\"\" \"& 'BX Language acquisition'!A2394 & \"\"\",\"\"\" & 'BX Language acquisition'!C2394 & \"\"\",\"\"\" & 'BX Language acquisition'!B2394 & \"\"\",\"\"\" & 'BX Language acquisition'!D2394 & \"\"\"\"","v":"\" \",\"\",\"\",\"\""}]
[{"$f":"\"\"\" \"& 'BX Language acquisition'!A2395 & \"\"\",\"\"\" & 'BX Language acquisition'!C2395 & \"\"\",\"\"\" & 'BX Language acquisition'!B2395 & \"\"\",\"\"\" & 'BX Language acquisition'!D2395 & \"\"\"\"","v":"\" \",\"\",\"\",\"\""}]
[{"$f":"\"\"\" \"& 'BX Language acquisition'!A2396 & \"\"\",\"\"\" & 'BX Language acquisition'!C2396 & \"\"\",\"\"\" & 'BX Language acquisition'!B2396 & \"\"\",\"\"\" & 'BX Language acquisition'!D2396 & \"\"\"\"","v":"\" \",\"\",\"\",\"\""}]
[{"$f":"\"\"\" \"& 'BX Language acquisition'!A2397 & \"\"\",\"\"\" & 'BX Language acquisition'!C2397 & \"\"\",\"\"\" & 'BX Language acquisition'!B2397 & \"\"\",\"\"\" & 'BX Language acquisition'!D2397 & \"\"\"\"","v":"\" \",\"\",\"\",\"\""}]
[{"$f":"\"\"\" \"& 'BX Language acquisition'!A2398 & \"\"\",\"\"\" & 'BX Language acquisition'!C2398 & \"\"\",\"\"\" & 'BX Language acquisition'!B2398 & \"\"\",\"\"\" & 'BX Language acquisition'!D2398 & \"\"\"\"","v":"\" \",\"\",\"\",\"\""}]
[{"$f":"\"\"\" \"& 'BX Language acquisition'!A2399 & \"\"\",\"\"\" & 'BX Language acquisition'!C2399 & \"\"\",\"\"\" & 'BX Language acquisition'!B2399 & \"\"\",\"\"\" & 'BX Language acquisition'!D2399 & \"\"\"\"","v":"\" \",\"\",\"\",\"\""}]
[{"$f":"\"\"\" \"& 'BX Language acquisition'!A2400 & \"\"\",\"\"\" & 'BX Language acquisition'!C2400 & \"\"\",\"\"\" & 'BX Language acquisition'!B2400 & \"\"\",\"\"\" & 'BX Language acquisition'!D2400 & \"\"\"\"","v":"\" \",\"\",\"\",\"\""}]
[{"$f":"\"\"\" \"& 'BX Language acquisition'!A2401 & \"\"\",\"\"\" & 'BX Language acquisition'!C2401 & \"\"\",\"\"\" & 'BX Language acquisition'!B2401 & \"\"\",\"\"\" & 'BX Language acquisition'!D2401 & \"\"\"\"","v":"\" \",\"\",\"\",\"\""}]
[{"$f":"\"\"\" \"& 'BX Language acquisition'!A2402 & \"\"\",\"\"\" & 'BX Language acquisition'!C2402 & \"\"\",\"\"\" & 'BX Language acquisition'!B2402 & \"\"\",\"\"\" & 'BX Language acquisition'!D2402 & \"\"\"\"","v":"\" \",\"\",\"\",\"\""}]
[{"$f":"\"\"\" \"& 'BX Language acquisition'!A2403 & \"\"\",\"\"\" & 'BX Language acquisition'!C2403 & \"\"\",\"\"\" & 'BX Language acquisition'!B2403 & \"\"\",\"\"\" & 'BX Language acquisition'!D2403 & \"\"\"\"","v":"\" \",\"\",\"\",\"\""}]
[{"$f":"\"\"\" \"& 'BX Language acquisition'!A2404 & \"\"\",\"\"\" & 'BX Language acquisition'!C2404 & \"\"\",\"\"\" & 'BX Language acquisition'!B2404 & \"\"\",\"\"\" & 'BX Language acquisition'!D2404 & \"\"\"\"","v":"\" \",\"\",\"\",\"\""}]
[{"$f":"\"\"\" \"& 'BX Language acquisition'!A2405 & \"\"\",\"\"\" & 'BX Language acquisition'!C2405 & \"\"\",\"\"\" & 'BX Language acquisition'!B2405 & \"\"\",\"\"\" & 'BX Language acquisition'!D2405 & \"\"\"\"","v":"\" \",\"\",\"\",\"\""}]
[{"$f":"\"\"\" \"& 'BX Language acquisition'!A2406 & \"\"\",\"\"\" & 'BX Language acquisition'!C2406 & \"\"\",\"\"\" & 'BX Language acquisition'!B2406 & \"\"\",\"\"\" & 'BX Language acquisition'!D2406 & \"\"\"\"","v":"\" \",\"\",\"\",\"\""}]
[{"$f":"\"\"\" \"& 'BX Language acquisition'!A2407 & \"\"\",\"\"\" & 'BX Language acquisition'!C2407 & \"\"\",\"\"\" & 'BX Language acquisition'!B2407 & \"\"\",\"\"\" & 'BX Language acquisition'!D2407 & \"\"\"\"","v":"\" \",\"\",\"\",\"\""}]
[{"$f":"\"\"\" \"& 'BX Language acquisition'!A2408 & \"\"\",\"\"\" & 'BX Language acquisition'!C2408 & \"\"\",\"\"\" & 'BX Language acquisition'!B2408 & \"\"\",\"\"\" & 'BX Language acquisition'!D2408 & \"\"\"\"","v":"\" \",\"\",\"\",\"\""}]
[{"$f":"\"\"\" \"& 'BX Language acquisition'!A2409 & \"\"\",\"\"\" & 'BX Language acquisition'!C2409 & \"\"\",\"\"\" & 'BX Language acquisition'!B2409 & \"\"\",\"\"\" & 'BX Language acquisition'!D2409 & \"\"\"\"","v":"\" \",\"\",\"\",\"\""}]
[{"$f":"\"\"\" \"& 'BX Language acquisition'!A2410 & \"\"\",\"\"\" & 'BX Language acquisition'!C2410 & \"\"\",\"\"\" & 'BX Language acquisition'!B2410 & \"\"\",\"\"\" & 'BX Language acquisition'!D2410 & \"\"\"\"","v":"\" \",\"\",\"\",\"\""}]
[{"$f":"\"\"\" \"& 'BX Language acquisition'!A2411 & \"\"\",\"\"\" & 'BX Language acquisition'!C2411 & \"\"\",\"\"\" & 'BX Language acquisition'!B2411 & \"\"\",\"\"\" & 'BX Language acquisition'!D2411 & \"\"\"\"","v":"\" \",\"\",\"\",\"\""}]
[{"$f":"\"\"\" \"& 'BX Language acquisition'!A2412 & \"\"\",\"\"\" & 'BX Language acquisition'!C2412 & \"\"\",\"\"\" & 'BX Language acquisition'!B2412 & \"\"\",\"\"\" & 'BX Language acquisition'!D2412 & \"\"\"\"","v":"\" \",\"\",\"\",\"\""}]
[{"$f":"\"\"\" \"& 'BX Language acquisition'!A2413 & \"\"\",\"\"\" & 'BX Language acquisition'!C2413 & \"\"\",\"\"\" & 'BX Language acquisition'!B2413 & \"\"\",\"\"\" & 'BX Language acquisition'!D2413 & \"\"\"\"","v":"\" \",\"\",\"\",\"\""}]
[{"$f":"\"\"\" \"& 'BX Language acquisition'!A2414 & \"\"\",\"\"\" & 'BX Language acquisition'!C2414 & \"\"\",\"\"\" & 'BX Language acquisition'!B2414 & \"\"\",\"\"\" & 'BX Language acquisition'!D2414 & \"\"\"\"","v":"\" \",\"\",\"\",\"\""}]
[{"$f":"\"\"\" \"& 'BX Language acquisition'!A2415 & \"\"\",\"\"\" & 'BX Language acquisition'!C2415 & \"\"\",\"\"\" & 'BX Language acquisition'!B2415 & \"\"\",\"\"\" & 'BX Language acquisition'!D2415 & \"\"\"\"","v":"\" \",\"\",\"\",\"\""}]
[{"$f":"\"\"\" \"& 'BX Language acquisition'!A2416 & \"\"\",\"\"\" & 'BX Language acquisition'!C2416 & \"\"\",\"\"\" & 'BX Language acquisition'!B2416 & \"\"\",\"\"\" & 'BX Language acquisition'!D2416 & \"\"\"\"","v":"\" \",\"\",\"\",\"\""}]
[{"$f":"\"\"\" \"& 'BX Language acquisition'!A2417 & \"\"\",\"\"\" & 'BX Language acquisition'!C2417 & \"\"\",\"\"\" & 'BX Language acquisition'!B2417 & \"\"\",\"\"\" & 'BX Language acquisition'!D2417 & \"\"\"\"","v":"\" \",\"\",\"\",\"\""}]
[{"$f":"\"\"\" \"& 'BX Language acquisition'!A2418 & \"\"\",\"\"\" & 'BX Language acquisition'!C2418 & \"\"\",\"\"\" & 'BX Language acquisition'!B2418 & \"\"\",\"\"\" & 'BX Language acquisition'!D2418 & \"\"\"\"","v":"\" \",\"\",\"\",\"\""}]
[{"$f":"\"\"\" \"& 'BX Language acquisition'!A2419 & \"\"\",\"\"\" & 'BX Language acquisition'!C2419 & \"\"\",\"\"\" & 'BX Language acquisition'!B2419 & \"\"\",\"\"\" & 'BX Language acquisition'!D2419 & \"\"\"\"","v":"\" \",\"\",\"\",\"\""}]
[{"$f":"\"\"\" \"& 'BX Language acquisition'!A2420 & \"\"\",\"\"\" & 'BX Language acquisition'!C2420 & \"\"\",\"\"\" & 'BX Language acquisition'!B2420 & \"\"\",\"\"\" & 'BX Language acquisition'!D2420 & \"\"\"\"","v":"\" \",\"\",\"\",\"\""}]
[{"$f":"\"\"\" \"& 'BX Language acquisition'!A2421 & \"\"\",\"\"\" & 'BX Language acquisition'!C2421 & \"\"\",\"\"\" & 'BX Language acquisition'!B2421 & \"\"\",\"\"\" & 'BX Language acquisition'!D2421 & \"\"\"\"","v":"\" \",\"\",\"\",\"\""}]
[{"$f":"\"\"\" \"& 'BX Language acquisition'!A2422 & \"\"\",\"\"\" & 'BX Language acquisition'!C2422 & \"\"\",\"\"\" & 'BX Language acquisition'!B2422 & \"\"\",\"\"\" & 'BX Language acquisition'!D2422 & \"\"\"\"","v":"\" \",\"\",\"\",\"\""}]
[{"$f":"\"\"\" \"& 'BX Language acquisition'!A2423 & \"\"\",\"\"\" & 'BX Language acquisition'!C2423 & \"\"\",\"\"\" & 'BX Language acquisition'!B2423 & \"\"\",\"\"\" & 'BX Language acquisition'!D2423 & \"\"\"\"","v":"\" \",\"\",\"\",\"\""}]
[{"$f":"\"\"\" \"& 'BX Language acquisition'!A2424 & \"\"\",\"\"\" & 'BX Language acquisition'!C2424 & \"\"\",\"\"\" & 'BX Language acquisition'!B2424 & \"\"\",\"\"\" & 'BX Language acquisition'!D2424 & \"\"\"\"","v":"\" \",\"\",\"\",\"\""}]
[{"$f":"\"\"\" \"& 'BX Language acquisition'!A2425 & \"\"\",\"\"\" & 'BX Language acquisition'!C2425 & \"\"\",\"\"\" & 'BX Language acquisition'!B2425 & \"\"\",\"\"\" & 'BX Language acquisition'!D2425 & \"\"\"\"","v":"\" \",\"\",\"\",\"\""}]
[{"$f":"\"\"\" \"& 'BX Language acquisition'!A2426 & \"\"\",\"\"\" & 'BX Language acquisition'!C2426 & \"\"\",\"\"\" & 'BX Language acquisition'!B2426 & \"\"\",\"\"\" & 'BX Language acquisition'!D2426 & \"\"\"\"","v":"\" \",\"\",\"\",\"\""}]
[{"$f":"\"\"\" \"& 'BX Language acquisition'!A2427 & \"\"\",\"\"\" & 'BX Language acquisition'!C2427 & \"\"\",\"\"\" & 'BX Language acquisition'!B2427 & \"\"\",\"\"\" & 'BX Language acquisition'!D2427 & \"\"\"\"","v":"\" \",\"\",\"\",\"\""}]
[{"$f":"\"\"\" \"& 'BX Language acquisition'!A2428 & \"\"\",\"\"\" & 'BX Language acquisition'!C2428 & \"\"\",\"\"\" & 'BX Language acquisition'!B2428 & \"\"\",\"\"\" & 'BX Language acquisition'!D2428 & \"\"\"\"","v":"\" \",\"\",\"\",\"\""}]
[{"$f":"\"\"\" \"& 'BX Language acquisition'!A2429 & \"\"\",\"\"\" & 'BX Language acquisition'!C2429 & \"\"\",\"\"\" & 'BX Language acquisition'!B2429 & \"\"\",\"\"\" & 'BX Language acquisition'!D2429 & \"\"\"\"","v":"\" \",\"\",\"\",\"\""}]
[{"$f":"\"\"\" \"& 'BX Language acquisition'!A2430 & \"\"\",\"\"\" & 'BX Language acquisition'!C2430 & \"\"\",\"\"\" & 'BX Language acquisition'!B2430 & \"\"\",\"\"\" & 'BX Language acquisition'!D2430 & \"\"\"\"","v":"\" \",\"\",\"\",\"\""}]
[{"$f":"\"\"\" \"& 'BX Language acquisition'!A2431 & \"\"\",\"\"\" & 'BX Language acquisition'!C2431 & \"\"\",\"\"\" & 'BX Language acquisition'!B2431 & \"\"\",\"\"\" & 'BX Language acquisition'!D2431 & \"\"\"\"","v":"\" \",\"\",\"\",\"\""}]
[{"$f":"\"\"\" \"& 'BX Language acquisition'!A2432 & \"\"\",\"\"\" & 'BX Language acquisition'!C2432 & \"\"\",\"\"\" & 'BX Language acquisition'!B2432 & \"\"\",\"\"\" & 'BX Language acquisition'!D2432 & \"\"\"\"","v":"\" \",\"\",\"\",\"\""}]
[{"$f":"\"\"\" \"& 'BX Language acquisition'!A2433 & \"\"\",\"\"\" & 'BX Language acquisition'!C2433 & \"\"\",\"\"\" & 'BX Language acquisition'!B2433 & \"\"\",\"\"\" & 'BX Language acquisition'!D2433 & \"\"\"\"","v":"\" \",\"\",\"\",\"\""}]
[{"$f":"\"\"\" \"& 'BX Language acquisition'!A2434 & \"\"\",\"\"\" & 'BX Language acquisition'!C2434 & \"\"\",\"\"\" & 'BX Language acquisition'!B2434 & \"\"\",\"\"\" & 'BX Language acquisition'!D2434 & \"\"\"\"","v":"\" \",\"\",\"\",\"\""}]
[{"$f":"\"\"\" \"& 'BX Language acquisition'!A2435 & \"\"\",\"\"\" & 'BX Language acquisition'!C2435 & \"\"\",\"\"\" & 'BX Language acquisition'!B2435 & \"\"\",\"\"\" & 'BX Language acquisition'!D2435 & \"\"\"\"","v":"\" \",\"\",\"\",\"\""}]
[{"$f":"\"\"\" \"& 'BX Language acquisition'!A2436 & \"\"\",\"\"\" & 'BX Language acquisition'!C2436 & \"\"\",\"\"\" & 'BX Language acquisition'!B2436 & \"\"\",\"\"\" & 'BX Language acquisition'!D2436 & \"\"\"\"","v":"\" \",\"\",\"\",\"\""}]
[{"$f":"\"\"\" \"& 'BX Language acquisition'!A2437 & \"\"\",\"\"\" & 'BX Language acquisition'!C2437 & \"\"\",\"\"\" & 'BX Language acquisition'!B2437 & \"\"\",\"\"\" & 'BX Language acquisition'!D2437 & \"\"\"\"","v":"\" \",\"\",\"\",\"\""}]
[{"$f":"\"\"\" \"& 'BX Language acquisition'!A2438 & \"\"\",\"\"\" & 'BX Language acquisition'!C2438 & \"\"\",\"\"\" & 'BX Language acquisition'!B2438 & \"\"\",\"\"\" & 'BX Language acquisition'!D2438 & \"\"\"\"","v":"\" \",\"\",\"\",\"\""}]
[{"$f":"\"\"\" \"& 'BX Language acquisition'!A2439 & \"\"\",\"\"\" & 'BX Language acquisition'!C2439 & \"\"\",\"\"\" & 'BX Language acquisition'!B2439 & \"\"\",\"\"\" & 'BX Language acquisition'!D2439 & \"\"\"\"","v":"\" \",\"\",\"\",\"\""}]
[{"$f":"\"\"\" \"& 'BX Language acquisition'!A2440 & \"\"\",\"\"\" & 'BX Language acquisition'!C2440 & \"\"\",\"\"\" & 'BX Language acquisition'!B2440 & \"\"\",\"\"\" & 'BX Language acquisition'!D2440 & \"\"\"\"","v":"\" \",\"\",\"\",\"\""}]
[{"$f":"\"\"\" \"& 'BX Language acquisition'!A2441 & \"\"\",\"\"\" & 'BX Language acquisition'!C2441 & \"\"\",\"\"\" & 'BX Language acquisition'!B2441 & \"\"\",\"\"\" & 'BX Language acquisition'!D2441 & \"\"\"\"","v":"\" \",\"\",\"\",\"\""}]
[{"$f":"\"\"\" \"& 'BX Language acquisition'!A2442 & \"\"\",\"\"\" & 'BX Language acquisition'!C2442 & \"\"\",\"\"\" & 'BX Language acquisition'!B2442 & \"\"\",\"\"\" & 'BX Language acquisition'!D2442 & \"\"\"\"","v":"\" \",\"\",\"\",\"\""}]
[{"$f":"\"\"\" \"& 'BX Language acquisition'!A2443 & \"\"\",\"\"\" & 'BX Language acquisition'!C2443 & \"\"\",\"\"\" & 'BX Language acquisition'!B2443 & \"\"\",\"\"\" & 'BX Language acquisition'!D2443 & \"\"\"\"","v":"\" \",\"\",\"\",\"\""}]
[{"$f":"\"\"\" \"& 'BX Language acquisition'!A2444 & \"\"\",\"\"\" & 'BX Language acquisition'!C2444 & \"\"\",\"\"\" & 'BX Language acquisition'!B2444 & \"\"\",\"\"\" & 'BX Language acquisition'!D2444 & \"\"\"\"","v":"\" \",\"\",\"\",\"\""}]
[{"$f":"\"\"\" \"& 'BX Language acquisition'!A2445 & \"\"\",\"\"\" & 'BX Language acquisition'!C2445 & \"\"\",\"\"\" & 'BX Language acquisition'!B2445 & \"\"\",\"\"\" & 'BX Language acquisition'!D2445 & \"\"\"\"","v":"\" \",\"\",\"\",\"\""}]
[{"$f":"\"\"\" \"& 'BX Language acquisition'!A2446 & \"\"\",\"\"\" & 'BX Language acquisition'!C2446 & \"\"\",\"\"\" & 'BX Language acquisition'!B2446 & \"\"\",\"\"\" & 'BX Language acquisition'!D2446 & \"\"\"\"","v":"\" \",\"\",\"\",\"\""}]
[{"$f":"\"\"\" \"& 'BX Language acquisition'!A2447 & \"\"\",\"\"\" & 'BX Language acquisition'!C2447 & \"\"\",\"\"\" & 'BX Language acquisition'!B2447 & \"\"\",\"\"\" & 'BX Language acquisition'!D2447 & \"\"\"\"","v":"\" \",\"\",\"\",\"\""}]
[{"$f":"\"\"\" \"& 'BX Language acquisition'!A2448 & \"\"\",\"\"\" & 'BX Language acquisition'!C2448 & \"\"\",\"\"\" & 'BX Language acquisition'!B2448 & \"\"\",\"\"\" & 'BX Language acquisition'!D2448 & \"\"\"\"","v":"\" \",\"\",\"\",\"\""}]
[{"$f":"\"\"\" \"& 'BX Language acquisition'!A2449 & \"\"\",\"\"\" & 'BX Language acquisition'!C2449 & \"\"\",\"\"\" & 'BX Language acquisition'!B2449 & \"\"\",\"\"\" & 'BX Language acquisition'!D2449 & \"\"\"\"","v":"\" \",\"\",\"\",\"\""}]
[{"$f":"\"\"\" \"& 'BX Language acquisition'!A2450 & \"\"\",\"\"\" & 'BX Language acquisition'!C2450 & \"\"\",\"\"\" & 'BX Language acquisition'!B2450 & \"\"\",\"\"\" & 'BX Language acquisition'!D2450 & \"\"\"\"","v":"\" \",\"\",\"\",\"\""}]
[{"$f":"\"\"\" \"& 'BX Language acquisition'!A2451 & \"\"\",\"\"\" & 'BX Language acquisition'!C2451 & \"\"\",\"\"\" & 'BX Language acquisition'!B2451 & \"\"\",\"\"\" & 'BX Language acquisition'!D2451 & \"\"\"\"","v":"\" \",\"\",\"\",\"\""}]
[{"$f":"\"\"\" \"& 'BX Language acquisition'!A2452 & \"\"\",\"\"\" & 'BX Language acquisition'!C2452 & \"\"\",\"\"\" & 'BX Language acquisition'!B2452 & \"\"\",\"\"\" & 'BX Language acquisition'!D2452 & \"\"\"\"","v":"\" \",\"\",\"\",\"\""}]
[{"$f":"\"\"\" \"& 'BX Language acquisition'!A2453 & \"\"\",\"\"\" & 'BX Language acquisition'!C2453 & \"\"\",\"\"\" & 'BX Language acquisition'!B2453 & \"\"\",\"\"\" & 'BX Language acquisition'!D2453 & \"\"\"\"","v":"\" \",\"\",\"\",\"\""}]
[{"$f":"\"\"\" \"& 'BX Language acquisition'!A2454 & \"\"\",\"\"\" & 'BX Language acquisition'!C2454 & \"\"\",\"\"\" & 'BX Language acquisition'!B2454 & \"\"\",\"\"\" & 'BX Language acquisition'!D2454 & \"\"\"\"","v":"\" \",\"\",\"\",\"\""}]
[{"$f":"\"\"\" \"& 'BX Language acquisition'!A2455 & \"\"\",\"\"\" & 'BX Language acquisition'!C2455 & \"\"\",\"\"\" & 'BX Language acquisition'!B2455 & \"\"\",\"\"\" & 'BX Language acquisition'!D2455 & \"\"\"\"","v":"\" \",\"\",\"\",\"\""}]
[{"$f":"\"\"\" \"& 'BX Language acquisition'!A2456 & \"\"\",\"\"\" & 'BX Language acquisition'!C2456 & \"\"\",\"\"\" & 'BX Language acquisition'!B2456 & \"\"\",\"\"\" & 'BX Language acquisition'!D2456 & \"\"\"\"","v":"\" \",\"\",\"\",\"\""}]
[{"$f":"\"\"\" \"& 'BX Language acquisition'!A2457 & \"\"\",\"\"\" & 'BX Language acquisition'!C2457 & \"\"\",\"\"\" & 'BX Language acquisition'!B2457 & \"\"\",\"\"\" & 'BX Language acquisition'!D2457 & \"\"\"\"","v":"\" \",\"\",\"\",\"\""}]
[{"$f":"\"\"\" \"& 'BX Language acquisition'!A2458 & \"\"\",\"\"\" & 'BX Language acquisition'!C2458 & \"\"\",\"\"\" & 'BX Language acquisition'!B2458 & \"\"\",\"\"\" & 'BX Language acquisition'!D2458 & \"\"\"\"","v":"\" \",\"\",\"\",\"\""}]
[{"$f":"\"\"\" \"& 'BX Language acquisition'!A2459 & \"\"\",\"\"\" & 'BX Language acquisition'!C2459 & \"\"\",\"\"\" & 'BX Language acquisition'!B2459 & \"\"\",\"\"\" & 'BX Language acquisition'!D2459 & \"\"\"\"","v":"\" \",\"\",\"\",\"\""}]
[{"$f":"\"\"\" \"& 'BX Language acquisition'!A2460 & \"\"\",\"\"\" & 'BX Language acquisition'!C2460 & \"\"\",\"\"\" & 'BX Language acquisition'!B2460 & \"\"\",\"\"\" & 'BX Language acquisition'!D2460 & \"\"\"\"","v":"\" \",\"\",\"\",\"\""}]
[{"$f":"\"\"\" \"& 'BX Language acquisition'!A2461 & \"\"\",\"\"\" & 'BX Language acquisition'!C2461 & \"\"\",\"\"\" & 'BX Language acquisition'!B2461 & \"\"\",\"\"\" & 'BX Language acquisition'!D2461 & \"\"\"\"","v":"\" \",\"\",\"\",\"\""}]
[{"$f":"\"\"\" \"& 'BX Language acquisition'!A2462 & \"\"\",\"\"\" & 'BX Language acquisition'!C2462 & \"\"\",\"\"\" & 'BX Language acquisition'!B2462 & \"\"\",\"\"\" & 'BX Language acquisition'!D2462 & \"\"\"\"","v":"\" \",\"\",\"\",\"\""}]
[{"$f":"\"\"\" \"& 'BX Language acquisition'!A2463 & \"\"\",\"\"\" & 'BX Language acquisition'!C2463 & \"\"\",\"\"\" & 'BX Language acquisition'!B2463 & \"\"\",\"\"\" & 'BX Language acquisition'!D2463 & \"\"\"\"","v":"\" \",\"\",\"\",\"\""}]
[{"$f":"\"\"\" \"& 'BX Language acquisition'!A2464 & \"\"\",\"\"\" & 'BX Language acquisition'!C2464 & \"\"\",\"\"\" & 'BX Language acquisition'!B2464 & \"\"\",\"\"\" & 'BX Language acquisition'!D2464 & \"\"\"\"","v":"\" \",\"\",\"\",\"\""}]
[{"$f":"\"\"\" \"& 'BX Language acquisition'!A2465 & \"\"\",\"\"\" & 'BX Language acquisition'!C2465 & \"\"\",\"\"\" & 'BX Language acquisition'!B2465 & \"\"\",\"\"\" & 'BX Language acquisition'!D2465 & \"\"\"\"","v":"\" \",\"\",\"\",\"\""}]
[{"$f":"\"\"\" \"& 'BX Language acquisition'!A2466 & \"\"\",\"\"\" & 'BX Language acquisition'!C2466 & \"\"\",\"\"\" & 'BX Language acquisition'!B2466 & \"\"\",\"\"\" & 'BX Language acquisition'!D2466 & \"\"\"\"","v":"\" \",\"\",\"\",\"\""}]
[{"$f":"\"\"\" \"& 'BX Language acquisition'!A2467 & \"\"\",\"\"\" & 'BX Language acquisition'!C2467 & \"\"\",\"\"\" & 'BX Language acquisition'!B2467 & \"\"\",\"\"\" & 'BX Language acquisition'!D2467 & \"\"\"\"","v":"\" \",\"\",\"\",\"\""}]
[{"$f":"\"\"\" \"& 'BX Language acquisition'!A2468 & \"\"\",\"\"\" & 'BX Language acquisition'!C2468 & \"\"\",\"\"\" & 'BX Language acquisition'!B2468 & \"\"\",\"\"\" & 'BX Language acquisition'!D2468 & \"\"\"\"","v":"\" \",\"\",\"\",\"\""}]
[{"$f":"\"\"\" \"& 'BX Language acquisition'!A2469 & \"\"\",\"\"\" & 'BX Language acquisition'!C2469 & \"\"\",\"\"\" & 'BX Language acquisition'!B2469 & \"\"\",\"\"\" & 'BX Language acquisition'!D2469 & \"\"\"\"","v":"\" \",\"\",\"\",\"\""}]
[{"$f":"\"\"\" \"& 'BX Language acquisition'!A2470 & \"\"\",\"\"\" & 'BX Language acquisition'!C2470 & \"\"\",\"\"\" & 'BX Language acquisition'!B2470 & \"\"\",\"\"\" & 'BX Language acquisition'!D2470 & \"\"\"\"","v":"\" \",\"\",\"\",\"\""}]
[{"$f":"\"\"\" \"& 'BX Language acquisition'!A2471 & \"\"\",\"\"\" & 'BX Language acquisition'!C2471 & \"\"\",\"\"\" & 'BX Language acquisition'!B2471 & \"\"\",\"\"\" & 'BX Language acquisition'!D2471 & \"\"\"\"","v":"\" \",\"\",\"\",\"\""}]
[{"$f":"\"\"\" \"& 'BX Language acquisition'!A2472 & \"\"\",\"\"\" & 'BX Language acquisition'!C2472 & \"\"\",\"\"\" & 'BX Language acquisition'!B2472 & \"\"\",\"\"\" & 'BX Language acquisition'!D2472 & \"\"\"\"","v":"\" \",\"\",\"\",\"\""}]
[{"$f":"\"\"\" \"& 'BX Language acquisition'!A2473 & \"\"\",\"\"\" & 'BX Language acquisition'!C2473 & \"\"\",\"\"\" & 'BX Language acquisition'!B2473 & \"\"\",\"\"\" & 'BX Language acquisition'!D2473 & \"\"\"\"","v":"\" \",\"\",\"\",\"\""}]
[{"$f":"\"\"\" \"& 'BX Language acquisition'!A2474 & \"\"\",\"\"\" & 'BX Language acquisition'!C2474 & \"\"\",\"\"\" & 'BX Language acquisition'!B2474 & \"\"\",\"\"\" & 'BX Language acquisition'!D2474 & \"\"\"\"","v":"\" \",\"\",\"\",\"\""}]
[{"$f":"\"\"\" \"& 'BX Language acquisition'!A2475 & \"\"\",\"\"\" & 'BX Language acquisition'!C2475 & \"\"\",\"\"\" & 'BX Language acquisition'!B2475 & \"\"\",\"\"\" & 'BX Language acquisition'!D2475 & \"\"\"\"","v":"\" \",\"\",\"\",\"\""}]
[{"$f":"\"\"\" \"& 'BX Language acquisition'!A2476 & \"\"\",\"\"\" & 'BX Language acquisition'!C2476 & \"\"\",\"\"\" & 'BX Language acquisition'!B2476 & \"\"\",\"\"\" & 'BX Language acquisition'!D2476 & \"\"\"\"","v":"\" \",\"\",\"\",\"\""}]
[{"$f":"\"\"\" \"& 'BX Language acquisition'!A2477 & \"\"\",\"\"\" & 'BX Language acquisition'!C2477 & \"\"\",\"\"\" & 'BX Language acquisition'!B2477 & \"\"\",\"\"\" & 'BX Language acquisition'!D2477 & \"\"\"\"","v":"\" \",\"\",\"\",\"\""}]
[{"$f":"\"\"\" \"& 'BX Language acquisition'!A2478 & \"\"\",\"\"\" & 'BX Language acquisition'!C2478 & \"\"\",\"\"\" & 'BX Language acquisition'!B2478 & \"\"\",\"\"\" & 'BX Language acquisition'!D2478 & \"\"\"\"","v":"\" \",\"\",\"\",\"\""}]
[{"$f":"\"\"\" \"& 'BX Language acquisition'!A2479 & \"\"\",\"\"\" & 'BX Language acquisition'!C2479 & \"\"\",\"\"\" & 'BX Language acquisition'!B2479 & \"\"\",\"\"\" & 'BX Language acquisition'!D2479 & \"\"\"\"","v":"\" \",\"\",\"\",\"\""}]
[{"$f":"\"\"\" \"& 'BX Language acquisition'!A2480 & \"\"\",\"\"\" & 'BX Language acquisition'!C2480 & \"\"\",\"\"\" & 'BX Language acquisition'!B2480 & \"\"\",\"\"\" & 'BX Language acquisition'!D2480 & \"\"\"\"","v":"\" \",\"\",\"\",\"\""}]
[{"$f":"\"\"\" \"& 'BX Language acquisition'!A2481 & \"\"\",\"\"\" & 'BX Language acquisition'!C2481 & \"\"\",\"\"\" & 'BX Language acquisition'!B2481 & \"\"\",\"\"\" & 'BX Language acquisition'!D2481 & \"\"\"\"","v":"\" \",\"\",\"\",\"\""}]
[{"$f":"\"\"\" \"& 'BX Language acquisition'!A2482 & \"\"\",\"\"\" & 'BX Language acquisition'!C2482 & \"\"\",\"\"\" & 'BX Language acquisition'!B2482 & \"\"\",\"\"\" & 'BX Language acquisition'!D2482 & \"\"\"\"","v":"\" \",\"\",\"\",\"\""}]
[{"$f":"\"\"\" \"& 'BX Language acquisition'!A2483 & \"\"\",\"\"\" & 'BX Language acquisition'!C2483 & \"\"\",\"\"\" & 'BX Language acquisition'!B2483 & \"\"\",\"\"\" & 'BX Language acquisition'!D2483 & \"\"\"\"","v":"\" \",\"\",\"\",\"\""}]
[{"$f":"\"\"\" \"& 'BX Language acquisition'!A2484 & \"\"\",\"\"\" & 'BX Language acquisition'!C2484 & \"\"\",\"\"\" & 'BX Language acquisition'!B2484 & \"\"\",\"\"\" & 'BX Language acquisition'!D2484 & \"\"\"\"","v":"\" \",\"\",\"\",\"\""}]
[{"$f":"\"\"\" \"& 'BX Language acquisition'!A2485 & \"\"\",\"\"\" & 'BX Language acquisition'!C2485 & \"\"\",\"\"\" & 'BX Language acquisition'!B2485 & \"\"\",\"\"\" & 'BX Language acquisition'!D2485 & \"\"\"\"","v":"\" \",\"\",\"\",\"\""}]
[{"$f":"\"\"\" \"& 'BX Language acquisition'!A2486 & \"\"\",\"\"\" & 'BX Language acquisition'!C2486 & \"\"\",\"\"\" & 'BX Language acquisition'!B2486 & \"\"\",\"\"\" & 'BX Language acquisition'!D2486 & \"\"\"\"","v":"\" \",\"\",\"\",\"\""}]
[{"$f":"\"\"\" \"& 'BX Language acquisition'!A2487 & \"\"\",\"\"\" & 'BX Language acquisition'!C2487 & \"\"\",\"\"\" & 'BX Language acquisition'!B2487 & \"\"\",\"\"\" & 'BX Language acquisition'!D2487 & \"\"\"\"","v":"\" \",\"\",\"\",\"\""}]
[{"$f":"\"\"\" \"& 'BX Language acquisition'!A2488 & \"\"\",\"\"\" & 'BX Language acquisition'!C2488 & \"\"\",\"\"\" & 'BX Language acquisition'!B2488 & \"\"\",\"\"\" & 'BX Language acquisition'!D2488 & \"\"\"\"","v":"\" \",\"\",\"\",\"\""}]
[{"$f":"\"\"\" \"& 'BX Language acquisition'!A2489 & \"\"\",\"\"\" & 'BX Language acquisition'!C2489 & \"\"\",\"\"\" & 'BX Language acquisition'!B2489 & \"\"\",\"\"\" & 'BX Language acquisition'!D2489 & \"\"\"\"","v":"\" \",\"\",\"\",\"\""}]
[{"$f":"\"\"\" \"& 'BX Language acquisition'!A2490 & \"\"\",\"\"\" & 'BX Language acquisition'!C2490 & \"\"\",\"\"\" & 'BX Language acquisition'!B2490 & \"\"\",\"\"\" & 'BX Language acquisition'!D2490 & \"\"\"\"","v":"\" \",\"\",\"\",\"\""}]
[{"$f":"\"\"\" \"& 'BX Language acquisition'!A2491 & \"\"\",\"\"\" & 'BX Language acquisition'!C2491 & \"\"\",\"\"\" & 'BX Language acquisition'!B2491 & \"\"\",\"\"\" & 'BX Language acquisition'!D2491 & \"\"\"\"","v":"\" \",\"\",\"\",\"\""}]
[{"$f":"\"\"\" \"& 'BX Language acquisition'!A2492 & \"\"\",\"\"\" & 'BX Language acquisition'!C2492 & \"\"\",\"\"\" & 'BX Language acquisition'!B2492 & \"\"\",\"\"\" & 'BX Language acquisition'!D2492 & \"\"\"\"","v":"\" \",\"\",\"\",\"\""}]
[{"$f":"\"\"\" \"& 'BX Language acquisition'!A2493 & \"\"\",\"\"\" & 'BX Language acquisition'!C2493 & \"\"\",\"\"\" & 'BX Language acquisition'!B2493 & \"\"\",\"\"\" & 'BX Language acquisition'!D2493 & \"\"\"\"","v":"\" \",\"\",\"\",\"\""}]
[{"$f":"\"\"\" \"& 'BX Language acquisition'!A2494 & \"\"\",\"\"\" & 'BX Language acquisition'!C2494 & \"\"\",\"\"\" & 'BX Language acquisition'!B2494 & \"\"\",\"\"\" & 'BX Language acquisition'!D2494 & \"\"\"\"","v":"\" \",\"\",\"\",\"\""}]
[{"$f":"\"\"\" \"& 'BX Language acquisition'!A2495 & \"\"\",\"\"\" & 'BX Language acquisition'!C2495 & \"\"\",\"\"\" & 'BX Language acquisition'!B2495 & \"\"\",\"\"\" & 'BX Language acquisition'!D2495 & \"\"\"\"","v":"\" \",\"\",\"\",\"\""}]
[{"$f":"\"\"\" \"& 'BX Language acquisition'!A2496 & \"\"\",\"\"\" & 'BX Language acquisition'!C2496 & \"\"\",\"\"\" & 'BX Language acquisition'!B2496 & \"\"\",\"\"\" & 'BX Language acquisition'!D2496 & \"\"\"\"","v":"\" \",\"\",\"\",\"\""}]
[{"$f":"\"\"\" \"& 'BX Language acquisition'!A2497 & \"\"\",\"\"\" & 'BX Language acquisition'!C2497 & \"\"\",\"\"\" & 'BX Language acquisition'!B2497 & \"\"\",\"\"\" & 'BX Language acquisition'!D2497 & \"\"\"\"","v":"\" \",\"\",\"\",\"\""}]
[{"$f":"\"\"\" \"& 'BX Language acquisition'!A2498 & \"\"\",\"\"\" & 'BX Language acquisition'!C2498 & \"\"\",\"\"\" & 'BX Language acquisition'!B2498 & \"\"\",\"\"\" & 'BX Language acquisition'!D2498 & \"\"\"\"","v":"\" \",\"\",\"\",\"\""}]
[{"$f":"\"\"\" \"& 'BX Language acquisition'!A2499 & \"\"\",\"\"\" & 'BX Language acquisition'!C2499 & \"\"\",\"\"\" & 'BX Language acquisition'!B2499 & \"\"\",\"\"\" & 'BX Language acquisition'!D2499 & \"\"\"\"","v":"\" \",\"\",\"\",\"\""}]
[{"$f":"\"\"\" \"& 'BX Language acquisition'!A2500 & \"\"\",\"\"\" & 'BX Language acquisition'!C2500 & \"\"\",\"\"\" & 'BX Language acquisition'!B2500 & \"\"\",\"\"\" & 'BX Language acquisition'!D2500 & \"\"\"\"","v":"\" \",\"\",\"\",\"\""}]
[{"$f":"\"\"\" \"& 'BX Language acquisition'!A2501 & \"\"\",\"\"\" & 'BX Language acquisition'!C2501 & \"\"\",\"\"\" & 'BX Language acquisition'!B2501 & \"\"\",\"\"\" & 'BX Language acquisition'!D2501 & \"\"\"\"","v":"\" \",\"\",\"\",\"\""}]
[{"$f":"\"\"\" \"& 'BX Language acquisition'!A2502 & \"\"\",\"\"\" & 'BX Language acquisition'!C2502 & \"\"\",\"\"\" & 'BX Language acquisition'!B2502 & \"\"\",\"\"\" & 'BX Language acquisition'!D2502 & \"\"\"\"","v":"\" \",\"\",\"\",\"\""}]
[{"$f":"\"\"\" \"& 'BX Language acquisition'!A2503 & \"\"\",\"\"\" & 'BX Language acquisition'!C2503 & \"\"\",\"\"\" & 'BX Language acquisition'!B2503 & \"\"\",\"\"\" & 'BX Language acquisition'!D2503 & \"\"\"\"","v":"\" \",\"\",\"\",\"\""}]
[{"$f":"\"\"\" \"& 'BX Language acquisition'!A2504 & \"\"\",\"\"\" & 'BX Language acquisition'!C2504 & \"\"\",\"\"\" & 'BX Language acquisition'!B2504 & \"\"\",\"\"\" & 'BX Language acquisition'!D2504 & \"\"\"\"","v":"\" \",\"\",\"\",\"\""}]
[{"$f":"\"\"\" \"& 'BX Language acquisition'!A2505 & \"\"\",\"\"\" & 'BX Language acquisition'!C2505 & \"\"\",\"\"\" & 'BX Language acquisition'!B2505 & \"\"\",\"\"\" & 'BX Language acquisition'!D2505 & \"\"\"\"","v":"\" \",\"\",\"\",\"\""}]
[{"$f":"\"\"\" \"& 'BX Language acquisition'!A2506 & \"\"\",\"\"\" & 'BX Language acquisition'!C2506 & \"\"\",\"\"\" & 'BX Language acquisition'!B2506 & \"\"\",\"\"\" & 'BX Language acquisition'!D2506 & \"\"\"\"","v":"\" \",\"\",\"\",\"\""}]
[{"$f":"\"\"\" \"& 'BX Language acquisition'!A2507 & \"\"\",\"\"\" & 'BX Language acquisition'!C2507 & \"\"\",\"\"\" & 'BX Language acquisition'!B2507 & \"\"\",\"\"\" & 'BX Language acquisition'!D2507 & \"\"\"\"","v":"\" \",\"\",\"\",\"\""}]
[{"$f":"\"\"\" \"& 'BX Language acquisition'!A2508 & \"\"\",\"\"\" & 'BX Language acquisition'!C2508 & \"\"\",\"\"\" & 'BX Language acquisition'!B2508 & \"\"\",\"\"\" & 'BX Language acquisition'!D2508 & \"\"\"\"","v":"\" \",\"\",\"\",\"\""}]
[{"$f":"\"\"\" \"& 'BX Language acquisition'!A2509 & \"\"\",\"\"\" & 'BX Language acquisition'!C2509 & \"\"\",\"\"\" & 'BX Language acquisition'!B2509 & \"\"\",\"\"\" & 'BX Language acquisition'!D2509 & \"\"\"\"","v":"\" \",\"\",\"\",\"\""}]
[{"$f":"\"\"\" \"& 'BX Language acquisition'!A2510 & \"\"\",\"\"\" & 'BX Language acquisition'!C2510 & \"\"\",\"\"\" & 'BX Language acquisition'!B2510 & \"\"\",\"\"\" & 'BX Language acquisition'!D2510 & \"\"\"\"","v":"\" \",\"\",\"\",\"\""}]
[{"$f":"\"\"\" \"& 'BX Language acquisition'!A2511 & \"\"\",\"\"\" & 'BX Language acquisition'!C2511 & \"\"\",\"\"\" & 'BX Language acquisition'!B2511 & \"\"\",\"\"\" & 'BX Language acquisition'!D2511 & \"\"\"\"","v":"\" \",\"\",\"\",\"\""}]
[{"$f":"\"\"\" \"& 'BX Language acquisition'!A2512 & \"\"\",\"\"\" & 'BX Language acquisition'!C2512 & \"\"\",\"\"\" & 'BX Language acquisition'!B2512 & \"\"\",\"\"\" & 'BX Language acquisition'!D2512 & \"\"\"\"","v":"\" \",\"\",\"\",\"\""}]
[{"$f":"\"\"\" \"& 'BX Language acquisition'!A2513 & \"\"\",\"\"\" & 'BX Language acquisition'!C2513 & \"\"\",\"\"\" & 'BX Language acquisition'!B2513 & \"\"\",\"\"\" & 'BX Language acquisition'!D2513 & \"\"\"\"","v":"\" \",\"\",\"\",\"\""}]
[{"$f":"\"\"\" \"& 'BX Language acquisition'!A2514 & \"\"\",\"\"\" & 'BX Language acquisition'!C2514 & \"\"\",\"\"\" & 'BX Language acquisition'!B2514 & \"\"\",\"\"\" & 'BX Language acquisition'!D2514 & \"\"\"\"","v":"\" \",\"\",\"\",\"\""}]
[{"$f":"\"\"\" \"& 'BX Language acquisition'!A2515 & \"\"\",\"\"\" & 'BX Language acquisition'!C2515 & \"\"\",\"\"\" & 'BX Language acquisition'!B2515 & \"\"\",\"\"\" & 'BX Language acquisition'!D2515 & \"\"\"\"","v":"\" \",\"\",\"\",\"\""}]
[{"$f":"\"\"\" \"& 'BX Language acquisition'!A2516 & \"\"\",\"\"\" & 'BX Language acquisition'!C2516 & \"\"\",\"\"\" & 'BX Language acquisition'!B2516 & \"\"\",\"\"\" & 'BX Language acquisition'!D2516 & \"\"\"\"","v":"\" \",\"\",\"\",\"\""}]
[{"$f":"\"\"\" \"& 'BX Language acquisition'!A2517 & \"\"\",\"\"\" & 'BX Language acquisition'!C2517 & \"\"\",\"\"\" & 'BX Language acquisition'!B2517 & \"\"\",\"\"\" & 'BX Language acquisition'!D2517 & \"\"\"\"","v":"\" \",\"\",\"\",\"\""}]
[{"$f":"\"\"\" \"& 'BX Language acquisition'!A2518 & \"\"\",\"\"\" & 'BX Language acquisition'!C2518 & \"\"\",\"\"\" & 'BX Language acquisition'!B2518 & \"\"\",\"\"\" & 'BX Language acquisition'!D2518 & \"\"\"\"","v":"\" \",\"\",\"\",\"\""}]
[{"$f":"\"\"\" \"& 'BX Language acquisition'!A2519 & \"\"\",\"\"\" & 'BX Language acquisition'!C2519 & \"\"\",\"\"\" & 'BX Language acquisition'!B2519 & \"\"\",\"\"\" & 'BX Language acquisition'!D2519 & \"\"\"\"","v":"\" \",\"\",\"\",\"\""}]
[{"$f":"\"\"\" \"& 'BX Language acquisition'!A2520 & \"\"\",\"\"\" & 'BX Language acquisition'!C2520 & \"\"\",\"\"\" & 'BX Language acquisition'!B2520 & \"\"\",\"\"\" & 'BX Language acquisition'!D2520 & \"\"\"\"","v":"\" \",\"\",\"\",\"\""}]
[{"$f":"\"\"\" \"& 'BX Language acquisition'!A2521 & \"\"\",\"\"\" & 'BX Language acquisition'!C2521 & \"\"\",\"\"\" & 'BX Language acquisition'!B2521 & \"\"\",\"\"\" & 'BX Language acquisition'!D2521 & \"\"\"\"","v":"\" \",\"\",\"\",\"\""}]
[{"$f":"\"\"\" \"& 'BX Language acquisition'!A2522 & \"\"\",\"\"\" & 'BX Language acquisition'!C2522 & \"\"\",\"\"\" & 'BX Language acquisition'!B2522 & \"\"\",\"\"\" & 'BX Language acquisition'!D2522 & \"\"\"\"","v":"\" \",\"\",\"\",\"\""}]
[{"$f":"\"\"\" \"& 'BX Language acquisition'!A2523 & \"\"\",\"\"\" & 'BX Language acquisition'!C2523 & \"\"\",\"\"\" & 'BX Language acquisition'!B2523 & \"\"\",\"\"\" & 'BX Language acquisition'!D2523 & \"\"\"\"","v":"\" \",\"\",\"\",\"\""}]
[{"$f":"\"\"\" \"& 'BX Language acquisition'!A2524 & \"\"\",\"\"\" & 'BX Language acquisition'!C2524 & \"\"\",\"\"\" & 'BX Language acquisition'!B2524 & \"\"\",\"\"\" & 'BX Language acquisition'!D2524 & \"\"\"\"","v":"\" \",\"\",\"\",\"\""}]
[{"$f":"\"\"\" \"& 'BX Language acquisition'!A2525 & \"\"\",\"\"\" & 'BX Language acquisition'!C2525 & \"\"\",\"\"\" & 'BX Language acquisition'!B2525 & \"\"\",\"\"\" & 'BX Language acquisition'!D2525 & \"\"\"\"","v":"\" \",\"\",\"\",\"\""}]
[{"$f":"\"\"\" \"& 'BX Language acquisition'!A2526 & \"\"\",\"\"\" & 'BX Language acquisition'!C2526 & \"\"\",\"\"\" & 'BX Language acquisition'!B2526 & \"\"\",\"\"\" & 'BX Language acquisition'!D2526 & \"\"\"\"","v":"\" \",\"\",\"\",\"\""}]
[{"$f":"\"\"\" \"& 'BX Language acquisition'!A2527 & \"\"\",\"\"\" & 'BX Language acquisition'!C2527 & \"\"\",\"\"\" & 'BX Language acquisition'!B2527 & \"\"\",\"\"\" & 'BX Language acquisition'!D2527 & \"\"\"\"","v":"\" \",\"\",\"\",\"\""}]
[{"$f":"\"\"\" \"& 'BX Language acquisition'!A2528 & \"\"\",\"\"\" & 'BX Language acquisition'!C2528 & \"\"\",\"\"\" & 'BX Language acquisition'!B2528 & \"\"\",\"\"\" & 'BX Language acquisition'!D2528 & \"\"\"\"","v":"\" \",\"\",\"\",\"\""}]
[{"$f":"\"\"\" \"& 'BX Language acquisition'!A2529 & \"\"\",\"\"\" & 'BX Language acquisition'!C2529 & \"\"\",\"\"\" & 'BX Language acquisition'!B2529 & \"\"\",\"\"\" & 'BX Language acquisition'!D2529 & \"\"\"\"","v":"\" \",\"\",\"\",\"\""}]
[{"$f":"\"\"\" \"& 'BX Language acquisition'!A2530 & \"\"\",\"\"\" & 'BX Language acquisition'!C2530 & \"\"\",\"\"\" & 'BX Language acquisition'!B2530 & \"\"\",\"\"\" & 'BX Language acquisition'!D2530 & \"\"\"\"","v":"\" \",\"\",\"\",\"\""}]
[{"$f":"\"\"\" \"& 'BX Language acquisition'!A2531 & \"\"\",\"\"\" & 'BX Language acquisition'!C2531 & \"\"\",\"\"\" & 'BX Language acquisition'!B2531 & \"\"\",\"\"\" & 'BX Language acquisition'!D2531 & \"\"\"\"","v":"\" \",\"\",\"\",\"\""}]
[{"$f":"\"\"\" \"& 'BX Language acquisition'!A2532 & \"\"\",\"\"\" & 'BX Language acquisition'!C2532 & \"\"\",\"\"\" & 'BX Language acquisition'!B2532 & \"\"\",\"\"\" & 'BX Language acquisition'!D2532 & \"\"\"\"","v":"\" \",\"\",\"\",\"\""}]
[{"$f":"\"\"\" \"& 'BX Language acquisition'!A2533 & \"\"\",\"\"\" & 'BX Language acquisition'!C2533 & \"\"\",\"\"\" & 'BX Language acquisition'!B2533 & \"\"\",\"\"\" & 'BX Language acquisition'!D2533 & \"\"\"\"","v":"\" \",\"\",\"\",\"\""}]
[{"$f":"\"\"\" \"& 'BX Language acquisition'!A2534 & \"\"\",\"\"\" & 'BX Language acquisition'!C2534 & \"\"\",\"\"\" & 'BX Language acquisition'!B2534 & \"\"\",\"\"\" & 'BX Language acquisition'!D2534 & \"\"\"\"","v":"\" \",\"\",\"\",\"\""}]
[{"$f":"\"\"\" \"& 'BX Language acquisition'!A2535 & \"\"\",\"\"\" & 'BX Language acquisition'!C2535 & \"\"\",\"\"\" & 'BX Language acquisition'!B2535 & \"\"\",\"\"\" & 'BX Language acquisition'!D2535 & \"\"\"\"","v":"\" \",\"\",\"\",\"\""}]
[{"$f":"\"\"\" \"& 'BX Language acquisition'!A2536 & \"\"\",\"\"\" & 'BX Language acquisition'!C2536 & \"\"\",\"\"\" & 'BX Language acquisition'!B2536 & \"\"\",\"\"\" & 'BX Language acquisition'!D2536 & \"\"\"\"","v":"\" \",\"\",\"\",\"\""}]
[{"$f":"\"\"\" \"& 'BX Language acquisition'!A2537 & \"\"\",\"\"\" & 'BX Language acquisition'!C2537 & \"\"\",\"\"\" & 'BX Language acquisition'!B2537 & \"\"\",\"\"\" & 'BX Language acquisition'!D2537 & \"\"\"\"","v":"\" \",\"\",\"\",\"\""}]
[{"$f":"\"\"\" \"& 'BX Language acquisition'!A2538 & \"\"\",\"\"\" & 'BX Language acquisition'!C2538 & \"\"\",\"\"\" & 'BX Language acquisition'!B2538 & \"\"\",\"\"\" & 'BX Language acquisition'!D2538 & \"\"\"\"","v":"\" \",\"\",\"\",\"\""}]
[{"$f":"\"\"\" \"& 'BX Language acquisition'!A2539 & \"\"\",\"\"\" & 'BX Language acquisition'!C2539 & \"\"\",\"\"\" & 'BX Language acquisition'!B2539 & \"\"\",\"\"\" & 'BX Language acquisition'!D2539 & \"\"\"\"","v":"\" \",\"\",\"\",\"\""}]
[{"$f":"\"\"\" \"& 'BX Language acquisition'!A2540 & \"\"\",\"\"\" & 'BX Language acquisition'!C2540 & \"\"\",\"\"\" & 'BX Language acquisition'!B2540 & \"\"\",\"\"\" & 'BX Language acquisition'!D2540 & \"\"\"\"","v":"\" \",\"\",\"\",\"\""}]
[{"$f":"\"\"\" \"& 'BX Language acquisition'!A2541 & \"\"\",\"\"\" & 'BX Language acquisition'!C2541 & \"\"\",\"\"\" & 'BX Language acquisition'!B2541 & \"\"\",\"\"\" & 'BX Language acquisition'!D2541 & \"\"\"\"","v":"\" \",\"\",\"\",\"\""}]
[{"$f":"\"\"\" \"& 'BX Language acquisition'!A2542 & \"\"\",\"\"\" & 'BX Language acquisition'!C2542 & \"\"\",\"\"\" & 'BX Language acquisition'!B2542 & \"\"\",\"\"\" & 'BX Language acquisition'!D2542 & \"\"\"\"","v":"\" \",\"\",\"\",\"\""}]
[{"$f":"\"\"\" \"& 'BX Language acquisition'!A2543 & \"\"\",\"\"\" & 'BX Language acquisition'!C2543 & \"\"\",\"\"\" & 'BX Language acquisition'!B2543 & \"\"\",\"\"\" & 'BX Language acquisition'!D2543 & \"\"\"\"","v":"\" \",\"\",\"\",\"\""}]
[{"$f":"\"\"\" \"& 'BX Language acquisition'!A2544 & \"\"\",\"\"\" & 'BX Language acquisition'!C2544 & \"\"\",\"\"\" & 'BX Language acquisition'!B2544 & \"\"\",\"\"\" & 'BX Language acquisition'!D2544 & \"\"\"\"","v":"\" \",\"\",\"\",\"\""}]
[{"$f":"\"\"\" \"& 'BX Language acquisition'!A2545 & \"\"\",\"\"\" & 'BX Language acquisition'!C2545 & \"\"\",\"\"\" & 'BX Language acquisition'!B2545 & \"\"\",\"\"\" & 'BX Language acquisition'!D2545 & \"\"\"\"","v":"\" \",\"\",\"\",\"\""}]
[{"$f":"\"\"\" \"& 'BX Language acquisition'!A2546 & \"\"\",\"\"\" & 'BX Language acquisition'!C2546 & \"\"\",\"\"\" & 'BX Language acquisition'!B2546 & \"\"\",\"\"\" & 'BX Language acquisition'!D2546 & \"\"\"\"","v":"\" \",\"\",\"\",\"\""}]
[{"$f":"\"\"\" \"& 'BX Language acquisition'!A2547 & \"\"\",\"\"\" & 'BX Language acquisition'!C2547 & \"\"\",\"\"\" & 'BX Language acquisition'!B2547 & \"\"\",\"\"\" & 'BX Language acquisition'!D2547 & \"\"\"\"","v":"\" \",\"\",\"\",\"\""}]
[{"$f":"\"\"\" \"& 'BX Language acquisition'!A2548 & \"\"\",\"\"\" & 'BX Language acquisition'!C2548 & \"\"\",\"\"\" & 'BX Language acquisition'!B2548 & \"\"\",\"\"\" & 'BX Language acquisition'!D2548 & \"\"\"\"","v":"\" \",\"\",\"\",\"\""}]
[{"$f":"\"\"\" \"& 'BX Language acquisition'!A2549 & \"\"\",\"\"\" & 'BX Language acquisition'!C2549 & \"\"\",\"\"\" & 'BX Language acquisition'!B2549 & \"\"\",\"\"\" & 'BX Language acquisition'!D2549 & \"\"\"\"","v":"\" \",\"\",\"\",\"\""}]
[{"$f":"\"\"\" \"& 'BX Language acquisition'!A2550 & \"\"\",\"\"\" & 'BX Language acquisition'!C2550 & \"\"\",\"\"\" & 'BX Language acquisition'!B2550 & \"\"\",\"\"\" & 'BX Language acquisition'!D2550 & \"\"\"\"","v":"\" \",\"\",\"\",\"\""}]
[{"$f":"\"\"\" \"& 'BX Language acquisition'!A2551 & \"\"\",\"\"\" & 'BX Language acquisition'!C2551 & \"\"\",\"\"\" & 'BX Language acquisition'!B2551 & \"\"\",\"\"\" & 'BX Language acquisition'!D2551 & \"\"\"\"","v":"\" \",\"\",\"\",\"\""}]
[{"$f":"\"\"\" \"& 'BX Language acquisition'!A2552 & \"\"\",\"\"\" & 'BX Language acquisition'!C2552 & \"\"\",\"\"\" & 'BX Language acquisition'!B2552 & \"\"\",\"\"\" & 'BX Language acquisition'!D2552 & \"\"\"\"","v":"\" \",\"\",\"\",\"\""}]
[{"$f":"\"\"\" \"& 'BX Language acquisition'!A2553 & \"\"\",\"\"\" & 'BX Language acquisition'!C2553 & \"\"\",\"\"\" & 'BX Language acquisition'!B2553 & \"\"\",\"\"\" & 'BX Language acquisition'!D2553 & \"\"\"\"","v":"\" \",\"\",\"\",\"\""}]
[{"$f":"\"\"\" \"& 'BX Language acquisition'!A2554 & \"\"\",\"\"\" & 'BX Language acquisition'!C2554 & \"\"\",\"\"\" & 'BX Language acquisition'!B2554 & \"\"\",\"\"\" & 'BX Language acquisition'!D2554 & \"\"\"\"","v":"\" \",\"\",\"\",\"\""}]
[{"$f":"\"\"\" \"& 'BX Language acquisition'!A2555 & \"\"\",\"\"\" & 'BX Language acquisition'!C2555 & \"\"\",\"\"\" & 'BX Language acquisition'!B2555 & \"\"\",\"\"\" & 'BX Language acquisition'!D2555 & \"\"\"\"","v":"\" \",\"\",\"\",\"\""}]
[{"$f":"\"\"\" \"& 'BX Language acquisition'!A2556 & \"\"\",\"\"\" & 'BX Language acquisition'!C2556 & \"\"\",\"\"\" & 'BX Language acquisition'!B2556 & \"\"\",\"\"\" & 'BX Language acquisition'!D2556 & \"\"\"\"","v":"\" \",\"\",\"\",\"\""}]
[{"$f":"\"\"\" \"& 'BX Language acquisition'!A2557 & \"\"\",\"\"\" & 'BX Language acquisition'!C2557 & \"\"\",\"\"\" & 'BX Language acquisition'!B2557 & \"\"\",\"\"\" & 'BX Language acquisition'!D2557 & \"\"\"\"","v":"\" \",\"\",\"\",\"\""}]
[{"$f":"\"\"\" \"& 'BX Language acquisition'!A2558 & \"\"\",\"\"\" & 'BX Language acquisition'!C2558 & \"\"\",\"\"\" & 'BX Language acquisition'!B2558 & \"\"\",\"\"\" & 'BX Language acquisition'!D2558 & \"\"\"\"","v":"\" \",\"\",\"\",\"\""}]
[{"$f":"\"\"\" \"& 'BX Language acquisition'!A2559 & \"\"\",\"\"\" & 'BX Language acquisition'!C2559 & \"\"\",\"\"\" & 'BX Language acquisition'!B2559 & \"\"\",\"\"\" & 'BX Language acquisition'!D2559 & \"\"\"\"","v":"\" \",\"\",\"\",\"\""}]
[{"$f":"\"\"\" \"& 'BX Language acquisition'!A2560 & \"\"\",\"\"\" & 'BX Language acquisition'!C2560 & \"\"\",\"\"\" & 'BX Language acquisition'!B2560 & \"\"\",\"\"\" & 'BX Language acquisition'!D2560 & \"\"\"\"","v":"\" \",\"\",\"\",\"\""}]
[{"$f":"\"\"\" \"& 'BX Language acquisition'!A2561 & \"\"\",\"\"\" & 'BX Language acquisition'!C2561 & \"\"\",\"\"\" & 'BX Language acquisition'!B2561 & \"\"\",\"\"\" & 'BX Language acquisition'!D2561 & \"\"\"\"","v":"\" \",\"\",\"\",\"\""}]
[{"$f":"\"\"\" \"& 'BX Language acquisition'!A2562 & \"\"\",\"\"\" & 'BX Language acquisition'!C2562 & \"\"\",\"\"\" & 'BX Language acquisition'!B2562 & \"\"\",\"\"\" & 'BX Language acquisition'!D2562 & \"\"\"\"","v":"\" \",\"\",\"\",\"\""}]
[{"$f":"\"\"\" \"& 'BX Language acquisition'!A2563 & \"\"\",\"\"\" & 'BX Language acquisition'!C2563 & \"\"\",\"\"\" & 'BX Language acquisition'!B2563 & \"\"\",\"\"\" & 'BX Language acquisition'!D2563 & \"\"\"\"","v":"\" \",\"\",\"\",\"\""}]
[{"$f":"\"\"\" \"& 'BX Language acquisition'!A2564 & \"\"\",\"\"\" & 'BX Language acquisition'!C2564 & \"\"\",\"\"\" & 'BX Language acquisition'!B2564 & \"\"\",\"\"\" & 'BX Language acquisition'!D2564 & \"\"\"\"","v":"\" \",\"\",\"\",\"\""}]
[{"$f":"\"\"\" \"& 'BX Language acquisition'!A2565 & \"\"\",\"\"\" & 'BX Language acquisition'!C2565 & \"\"\",\"\"\" & 'BX Language acquisition'!B2565 & \"\"\",\"\"\" & 'BX Language acquisition'!D2565 & \"\"\"\"","v":"\" \",\"\",\"\",\"\""}]
[{"$f":"\"\"\" \"& 'BX Language acquisition'!A2566 & \"\"\",\"\"\" & 'BX Language acquisition'!C2566 & \"\"\",\"\"\" & 'BX Language acquisition'!B2566 & \"\"\",\"\"\" & 'BX Language acquisition'!D2566 & \"\"\"\"","v":"\" \",\"\",\"\",\"\""}]
[{"$f":"\"\"\" \"& 'BX Language acquisition'!A2567 & \"\"\",\"\"\" & 'BX Language acquisition'!C2567 & \"\"\",\"\"\" & 'BX Language acquisition'!B2567 & \"\"\",\"\"\" & 'BX Language acquisition'!D2567 & \"\"\"\"","v":"\" \",\"\",\"\",\"\""}]
[{"$f":"\"\"\" \"& 'BX Language acquisition'!A2568 & \"\"\",\"\"\" & 'BX Language acquisition'!C2568 & \"\"\",\"\"\" & 'BX Language acquisition'!B2568 & \"\"\",\"\"\" & 'BX Language acquisition'!D2568 & \"\"\"\"","v":"\" \",\"\",\"\",\"\""}]
[{"$f":"\"\"\" \"& 'BX Language acquisition'!A2569 & \"\"\",\"\"\" & 'BX Language acquisition'!C2569 & \"\"\",\"\"\" & 'BX Language acquisition'!B2569 & \"\"\",\"\"\" & 'BX Language acquisition'!D2569 & \"\"\"\"","v":"\" \",\"\",\"\",\"\""}]
[{"$f":"\"\"\" \"& 'BX Language acquisition'!A2570 & \"\"\",\"\"\" & 'BX Language acquisition'!C2570 & \"\"\",\"\"\" & 'BX Language acquisition'!B2570 & \"\"\",\"\"\" & 'BX Language acquisition'!D2570 & \"\"\"\"","v":"\" \",\"\",\"\",\"\""}]
[{"$f":"\"\"\" \"& 'BX Language acquisition'!A2571 & \"\"\",\"\"\" & 'BX Language acquisition'!C2571 & \"\"\",\"\"\" & 'BX Language acquisition'!B2571 & \"\"\",\"\"\" & 'BX Language acquisition'!D2571 & \"\"\"\"","v":"\" \",\"\",\"\",\"\""}]
[{"$f":"\"\"\" \"& 'BX Language acquisition'!A2572 & \"\"\",\"\"\" & 'BX Language acquisition'!C2572 & \"\"\",\"\"\" & 'BX Language acquisition'!B2572 & \"\"\",\"\"\" & 'BX Language acquisition'!D2572 & \"\"\"\"","v":"\" \",\"\",\"\",\"\""}]
[{"$f":"\"\"\" \"& 'BX Language acquisition'!A2573 & \"\"\",\"\"\" & 'BX Language acquisition'!C2573 & \"\"\",\"\"\" & 'BX Language acquisition'!B2573 & \"\"\",\"\"\" & 'BX Language acquisition'!D2573 & \"\"\"\"","v":"\" \",\"\",\"\",\"\""}]
[{"$f":"\"\"\" \"& 'BX Language acquisition'!A2574 & \"\"\",\"\"\" & 'BX Language acquisition'!C2574 & \"\"\",\"\"\" & 'BX Language acquisition'!B2574 & \"\"\",\"\"\" & 'BX Language acquisition'!D2574 & \"\"\"\"","v":"\" \",\"\",\"\",\"\""}]
[{"$f":"\"\"\" \"& 'BX Language acquisition'!A2575 & \"\"\",\"\"\" & 'BX Language acquisition'!C2575 & \"\"\",\"\"\" & 'BX Language acquisition'!B2575 & \"\"\",\"\"\" & 'BX Language acquisition'!D2575 & \"\"\"\"","v":"\" \",\"\",\"\",\"\""}]
[{"$f":"\"\"\" \"& 'BX Language acquisition'!A2576 & \"\"\",\"\"\" & 'BX Language acquisition'!C2576 & \"\"\",\"\"\" & 'BX Language acquisition'!B2576 & \"\"\",\"\"\" & 'BX Language acquisition'!D2576 & \"\"\"\"","v":"\" \",\"\",\"\",\"\""}]
[{"$f":"\"\"\" \"& 'BX Language acquisition'!A2577 & \"\"\",\"\"\" & 'BX Language acquisition'!C2577 & \"\"\",\"\"\" & 'BX Language acquisition'!B2577 & \"\"\",\"\"\" & 'BX Language acquisition'!D2577 & \"\"\"\"","v":"\" \",\"\",\"\",\"\""}]
[{"$f":"\"\"\" \"& 'BX Language acquisition'!A2578 & \"\"\",\"\"\" & 'BX Language acquisition'!C2578 & \"\"\",\"\"\" & 'BX Language acquisition'!B2578 & \"\"\",\"\"\" & 'BX Language acquisition'!D2578 & \"\"\"\"","v":"\" \",\"\",\"\",\"\""}]
[{"$f":"\"\"\" \"& 'BX Language acquisition'!A2579 & \"\"\",\"\"\" & 'BX Language acquisition'!C2579 & \"\"\",\"\"\" & 'BX Language acquisition'!B2579 & \"\"\",\"\"\" & 'BX Language acquisition'!D2579 & \"\"\"\"","v":"\" \",\"\",\"\",\"\""}]
[{"$f":"\"\"\" \"& 'BX Language acquisition'!A2580 & \"\"\",\"\"\" & 'BX Language acquisition'!C2580 & \"\"\",\"\"\" & 'BX Language acquisition'!B2580 & \"\"\",\"\"\" & 'BX Language acquisition'!D2580 & \"\"\"\"","v":"\" \",\"\",\"\",\"\""}]
[{"$f":"\"\"\" \"& 'BX Language acquisition'!A2581 & \"\"\",\"\"\" & 'BX Language acquisition'!C2581 & \"\"\",\"\"\" & 'BX Language acquisition'!B2581 & \"\"\",\"\"\" & 'BX Language acquisition'!D2581 & \"\"\"\"","v":"\" \",\"\",\"\",\"\""}]
[{"$f":"\"\"\" \"& 'BX Language acquisition'!A2582 & \"\"\",\"\"\" & 'BX Language acquisition'!C2582 & \"\"\",\"\"\" & 'BX Language acquisition'!B2582 & \"\"\",\"\"\" & 'BX Language acquisition'!D2582 & \"\"\"\"","v":"\" \",\"\",\"\",\"\""}]
[{"$f":"\"\"\" \"& 'BX Language acquisition'!A2583 & \"\"\",\"\"\" & 'BX Language acquisition'!C2583 & \"\"\",\"\"\" & 'BX Language acquisition'!B2583 & \"\"\",\"\"\" & 'BX Language acquisition'!D2583 & \"\"\"\"","v":"\" \",\"\",\"\",\"\""}]
[{"$f":"\"\"\" \"& 'BX Language acquisition'!A2584 & \"\"\",\"\"\" & 'BX Language acquisition'!C2584 & \"\"\",\"\"\" & 'BX Language acquisition'!B2584 & \"\"\",\"\"\" & 'BX Language acquisition'!D2584 & \"\"\"\"","v":"\" \",\"\",\"\",\"\""}]
[{"$f":"\"\"\" \"& 'BX Language acquisition'!A2585 & \"\"\",\"\"\" & 'BX Language acquisition'!C2585 & \"\"\",\"\"\" & 'BX Language acquisition'!B2585 & \"\"\",\"\"\" & 'BX Language acquisition'!D2585 & \"\"\"\"","v":"\" \",\"\",\"\",\"\""}]
[{"$f":"\"\"\" \"& 'BX Language acquisition'!A2586 & \"\"\",\"\"\" & 'BX Language acquisition'!C2586 & \"\"\",\"\"\" & 'BX Language acquisition'!B2586 & \"\"\",\"\"\" & 'BX Language acquisition'!D2586 & \"\"\"\"","v":"\" \",\"\",\"\",\"\""}]
[{"$f":"\"\"\" \"& 'BX Language acquisition'!A2587 & \"\"\",\"\"\" & 'BX Language acquisition'!C2587 & \"\"\",\"\"\" & 'BX Language acquisition'!B2587 & \"\"\",\"\"\" & 'BX Language acquisition'!D2587 & \"\"\"\"","v":"\" \",\"\",\"\",\"\""}]
[{"$f":"\"\"\" \"& 'BX Language acquisition'!A2588 & \"\"\",\"\"\" & 'BX Language acquisition'!C2588 & \"\"\",\"\"\" & 'BX Language acquisition'!B2588 & \"\"\",\"\"\" & 'BX Language acquisition'!D2588 & \"\"\"\"","v":"\" \",\"\",\"\",\"\""}]
[{"$f":"\"\"\" \"& 'BX Language acquisition'!A2589 & \"\"\",\"\"\" & 'BX Language acquisition'!C2589 & \"\"\",\"\"\" & 'BX Language acquisition'!B2589 & \"\"\",\"\"\" & 'BX Language acquisition'!D2589 & \"\"\"\"","v":"\" \",\"\",\"\",\"\""}]
[{"$f":"\"\"\" \"& 'BX Language acquisition'!A2590 & \"\"\",\"\"\" & 'BX Language acquisition'!C2590 & \"\"\",\"\"\" & 'BX Language acquisition'!B2590 & \"\"\",\"\"\" & 'BX Language acquisition'!D2590 & \"\"\"\"","v":"\" \",\"\",\"\",\"\""}]
[{"$f":"\"\"\" \"& 'BX Language acquisition'!A2591 & \"\"\",\"\"\" & 'BX Language acquisition'!C2591 & \"\"\",\"\"\" & 'BX Language acquisition'!B2591 & \"\"\",\"\"\" & 'BX Language acquisition'!D2591 & \"\"\"\"","v":"\" \",\"\",\"\",\"\""}]
[{"$f":"\"\"\" \"& 'BX Language acquisition'!A2592 & \"\"\",\"\"\" & 'BX Language acquisition'!C2592 & \"\"\",\"\"\" & 'BX Language acquisition'!B2592 & \"\"\",\"\"\" & 'BX Language acquisition'!D2592 & \"\"\"\"","v":"\" \",\"\",\"\",\"\""}]
[{"$f":"\"\"\" \"& 'BX Language acquisition'!A2593 & \"\"\",\"\"\" & 'BX Language acquisition'!C2593 & \"\"\",\"\"\" & 'BX Language acquisition'!B2593 & \"\"\",\"\"\" & 'BX Language acquisition'!D2593 & \"\"\"\"","v":"\" \",\"\",\"\",\"\""}]
[{"$f":"\"\"\" \"& 'BX Language acquisition'!A2594 & \"\"\",\"\"\" & 'BX Language acquisition'!C2594 & \"\"\",\"\"\" & 'BX Language acquisition'!B2594 & \"\"\",\"\"\" & 'BX Language acquisition'!D2594 & \"\"\"\"","v":"\" \",\"\",\"\",\"\""}]
[{"$f":"\"\"\" \"& 'BX Language acquisition'!A2595 & \"\"\",\"\"\" & 'BX Language acquisition'!C2595 & \"\"\",\"\"\" & 'BX Language acquisition'!B2595 & \"\"\",\"\"\" & 'BX Language acquisition'!D2595 & \"\"\"\"","v":"\" \",\"\",\"\",\"\""}]
[{"$f":"\"\"\" \"& 'BX Language acquisition'!A2596 & \"\"\",\"\"\" & 'BX Language acquisition'!C2596 & \"\"\",\"\"\" & 'BX Language acquisition'!B2596 & \"\"\",\"\"\" & 'BX Language acquisition'!D2596 & \"\"\"\"","v":"\" \",\"\",\"\",\"\""}]
[{"$f":"\"\"\" \"& 'BX Language acquisition'!A2597 & \"\"\",\"\"\" & 'BX Language acquisition'!C2597 & \"\"\",\"\"\" & 'BX Language acquisition'!B2597 & \"\"\",\"\"\" & 'BX Language acquisition'!D2597 & \"\"\"\"","v":"\" \",\"\",\"\",\"\""}]
[{"$f":"\"\"\" \"& 'BX Language acquisition'!A2598 & \"\"\",\"\"\" & 'BX Language acquisition'!C2598 & \"\"\",\"\"\" & 'BX Language acquisition'!B2598 & \"\"\",\"\"\" & 'BX Language acquisition'!D2598 & \"\"\"\"","v":"\" \",\"\",\"\",\"\""}]
[{"$f":"\"\"\" \"& 'BX Language acquisition'!A2599 & \"\"\",\"\"\" & 'BX Language acquisition'!C2599 & \"\"\",\"\"\" & 'BX Language acquisition'!B2599 & \"\"\",\"\"\" & 'BX Language acquisition'!D2599 & \"\"\"\"","v":"\" \",\"\",\"\",\"\""}]
[{"$f":"\"\"\" \"& 'BX Language acquisition'!A2600 & \"\"\",\"\"\" & 'BX Language acquisition'!C2600 & \"\"\",\"\"\" & 'BX Language acquisition'!B2600 & \"\"\",\"\"\" & 'BX Language acquisition'!D2600 & \"\"\"\"","v":"\" \",\"\",\"\",\"\""}]
[{"$f":"\"\"\" \"& 'BX Language acquisition'!A2601 & \"\"\",\"\"\" & 'BX Language acquisition'!C2601 & \"\"\",\"\"\" & 'BX Language acquisition'!B2601 & \"\"\",\"\"\" & 'BX Language acquisition'!D2601 & \"\"\"\"","v":"\" \",\"\",\"\",\"\""}]
[{"$f":"\"\"\" \"& 'BX Language acquisition'!A2602 & \"\"\",\"\"\" & 'BX Language acquisition'!C2602 & \"\"\",\"\"\" & 'BX Language acquisition'!B2602 & \"\"\",\"\"\" & 'BX Language acquisition'!D2602 & \"\"\"\"","v":"\" \",\"\",\"\",\"\""}]
[{"$f":"\"\"\" \"& 'BX Language acquisition'!A2603 & \"\"\",\"\"\" & 'BX Language acquisition'!C2603 & \"\"\",\"\"\" & 'BX Language acquisition'!B2603 & \"\"\",\"\"\" & 'BX Language acquisition'!D2603 & \"\"\"\"","v":"\" \",\"\",\"\",\"\""}]
[{"$f":"\"\"\" \"& 'BX Language acquisition'!A2604 & \"\"\",\"\"\" & 'BX Language acquisition'!C2604 & \"\"\",\"\"\" & 'BX Language acquisition'!B2604 & \"\"\",\"\"\" & 'BX Language acquisition'!D2604 & \"\"\"\"","v":"\" \",\"\",\"\",\"\""}]
[{"$f":"\"\"\" \"& 'BX Language acquisition'!A2605 & \"\"\",\"\"\" & 'BX Language acquisition'!C2605 & \"\"\",\"\"\" & 'BX Language acquisition'!B2605 & \"\"\",\"\"\" & 'BX Language acquisition'!D2605 & \"\"\"\"","v":"\" \",\"\",\"\",\"\""}]
[{"$f":"\"\"\" \"& 'BX Language acquisition'!A2606 & \"\"\",\"\"\" & 'BX Language acquisition'!C2606 & \"\"\",\"\"\" & 'BX Language acquisition'!B2606 & \"\"\",\"\"\" & 'BX Language acquisition'!D2606 & \"\"\"\"","v":"\" \",\"\",\"\",\"\""}]
[{"$f":"\"\"\" \"& 'BX Language acquisition'!A2607 & \"\"\",\"\"\" & 'BX Language acquisition'!C2607 & \"\"\",\"\"\" & 'BX Language acquisition'!B2607 & \"\"\",\"\"\" & 'BX Language acquisition'!D2607 & \"\"\"\"","v":"\" \",\"\",\"\",\"\""}]
[{"$f":"\"\"\" \"& 'BX Language acquisition'!A2608 & \"\"\",\"\"\" & 'BX Language acquisition'!C2608 & \"\"\",\"\"\" & 'BX Language acquisition'!B2608 & \"\"\",\"\"\" & 'BX Language acquisition'!D2608 & \"\"\"\"","v":"\" \",\"\",\"\",\"\""}]
[{"$f":"\"\"\" \"& 'BX Language acquisition'!A2609 & \"\"\",\"\"\" & 'BX Language acquisition'!C2609 & \"\"\",\"\"\" & 'BX Language acquisition'!B2609 & \"\"\",\"\"\" & 'BX Language acquisition'!D2609 & \"\"\"\"","v":"\" \",\"\",\"\",\"\""}]
[{"$f":"\"\"\" \"& 'BX Language acquisition'!A2610 & \"\"\",\"\"\" & 'BX Language acquisition'!C2610 & \"\"\",\"\"\" & 'BX Language acquisition'!B2610 & \"\"\",\"\"\" & 'BX Language acquisition'!D2610 & \"\"\"\"","v":"\" \",\"\",\"\",\"\""}]
[{"$f":"\"\"\" \"& 'BX Language acquisition'!A2611 & \"\"\",\"\"\" & 'BX Language acquisition'!C2611 & \"\"\",\"\"\" & 'BX Language acquisition'!B2611 & \"\"\",\"\"\" & 'BX Language acquisition'!D2611 & \"\"\"\"","v":"\" \",\"\",\"\",\"\""}]
[{"$f":"\"\"\" \"& 'BX Language acquisition'!A2612 & \"\"\",\"\"\" & 'BX Language acquisition'!C2612 & \"\"\",\"\"\" & 'BX Language acquisition'!B2612 & \"\"\",\"\"\" & 'BX Language acquisition'!D2612 & \"\"\"\"","v":"\" \",\"\",\"\",\"\""}]
[{"$f":"\"\"\" \"& 'BX Language acquisition'!A2613 & \"\"\",\"\"\" & 'BX Language acquisition'!C2613 & \"\"\",\"\"\" & 'BX Language acquisition'!B2613 & \"\"\",\"\"\" & 'BX Language acquisition'!D2613 & \"\"\"\"","v":"\" \",\"\",\"\",\"\""}]
[{"$f":"\"\"\" \"& 'BX Language acquisition'!A2614 & \"\"\",\"\"\" & 'BX Language acquisition'!C2614 & \"\"\",\"\"\" & 'BX Language acquisition'!B2614 & \"\"\",\"\"\" & 'BX Language acquisition'!D2614 & \"\"\"\"","v":"\" \",\"\",\"\",\"\""}]
[{"$f":"\"\"\" \"& 'BX Language acquisition'!A2615 & \"\"\",\"\"\" & 'BX Language acquisition'!C2615 & \"\"\",\"\"\" & 'BX Language acquisition'!B2615 & \"\"\",\"\"\" & 'BX Language acquisition'!D2615 & \"\"\"\"","v":"\" \",\"\",\"\",\"\""}]
[{"$f":"\"\"\" \"& 'BX Language acquisition'!A2616 & \"\"\",\"\"\" & 'BX Language acquisition'!C2616 & \"\"\",\"\"\" & 'BX Language acquisition'!B2616 & \"\"\",\"\"\" & 'BX Language acquisition'!D2616 & \"\"\"\"","v":"\" \",\"\",\"\",\"\""}]
[{"$f":"\"\"\" \"& 'BX Language acquisition'!A2617 & \"\"\",\"\"\" & 'BX Language acquisition'!C2617 & \"\"\",\"\"\" & 'BX Language acquisition'!B2617 & \"\"\",\"\"\" & 'BX Language acquisition'!D2617 & \"\"\"\"","v":"\" \",\"\",\"\",\"\""}]
[{"$f":"\"\"\" \"& 'BX Language acquisition'!A2618 & \"\"\",\"\"\" & 'BX Language acquisition'!C2618 & \"\"\",\"\"\" & 'BX Language acquisition'!B2618 & \"\"\",\"\"\" & 'BX Language acquisition'!D2618 & \"\"\"\"","v":"\" \",\"\",\"\",\"\""}]
[{"$f":"\"\"\" \"& 'BX Language acquisition'!A2619 & \"\"\",\"\"\" & 'BX Language acquisition'!C2619 & \"\"\",\"\"\" & 'BX Language acquisition'!B2619 & \"\"\",\"\"\" & 'BX Language acquisition'!D2619 & \"\"\"\"","v":"\" \",\"\",\"\",\"\""}]
[{"$f":"\"\"\" \"& 'BX Language acquisition'!A2620 & \"\"\",\"\"\" & 'BX Language acquisition'!C2620 & \"\"\",\"\"\" & 'BX Language acquisition'!B2620 & \"\"\",\"\"\" & 'BX Language acquisition'!D2620 & \"\"\"\"","v":"\" \",\"\",\"\",\"\""}]
[{"$f":"\"\"\" \"& 'BX Language acquisition'!A2621 & \"\"\",\"\"\" & 'BX Language acquisition'!C2621 & \"\"\",\"\"\" & 'BX Language acquisition'!B2621 & \"\"\",\"\"\" & 'BX Language acquisition'!D2621 & \"\"\"\"","v":"\" \",\"\",\"\",\"\""}]
[{"$f":"\"\"\" \"& 'BX Language acquisition'!A2622 & \"\"\",\"\"\" & 'BX Language acquisition'!C2622 & \"\"\",\"\"\" & 'BX Language acquisition'!B2622 & \"\"\",\"\"\" & 'BX Language acquisition'!D2622 & \"\"\"\"","v":"\" \",\"\",\"\",\"\""}]
[{"$f":"\"\"\" \"& 'BX Language acquisition'!A2623 & \"\"\",\"\"\" & 'BX Language acquisition'!C2623 & \"\"\",\"\"\" & 'BX Language acquisition'!B2623 & \"\"\",\"\"\" & 'BX Language acquisition'!D2623 & \"\"\"\"","v":"\" \",\"\",\"\",\"\""}]
[{"$f":"\"\"\" \"& 'BX Language acquisition'!A2624 & \"\"\",\"\"\" & 'BX Language acquisition'!C2624 & \"\"\",\"\"\" & 'BX Language acquisition'!B2624 & \"\"\",\"\"\" & 'BX Language acquisition'!D2624 & \"\"\"\"","v":"\" \",\"\",\"\",\"\""}]
[{"$f":"\"\"\" \"& 'BX Language acquisition'!A2625 & \"\"\",\"\"\" & 'BX Language acquisition'!C2625 & \"\"\",\"\"\" & 'BX Language acquisition'!B2625 & \"\"\",\"\"\" & 'BX Language acquisition'!D2625 & \"\"\"\"","v":"\" \",\"\",\"\",\"\""}]
[{"$f":"\"\"\" \"& 'BX Language acquisition'!A2626 & \"\"\",\"\"\" & 'BX Language acquisition'!C2626 & \"\"\",\"\"\" & 'BX Language acquisition'!B2626 & \"\"\",\"\"\" & 'BX Language acquisition'!D2626 & \"\"\"\"","v":"\" \",\"\",\"\",\"\""}]
[{"$f":"\"\"\" \"& 'BX Language acquisition'!A2627 & \"\"\",\"\"\" & 'BX Language acquisition'!C2627 & \"\"\",\"\"\" & 'BX Language acquisition'!B2627 & \"\"\",\"\"\" & 'BX Language acquisition'!D2627 & \"\"\"\"","v":"\" \",\"\",\"\",\"\""}]
[{"$f":"\"\"\" \"& 'BX Language acquisition'!A2628 & \"\"\",\"\"\" & 'BX Language acquisition'!C2628 & \"\"\",\"\"\" & 'BX Language acquisition'!B2628 & \"\"\",\"\"\" & 'BX Language acquisition'!D2628 & \"\"\"\"","v":"\" \",\"\",\"\",\"\""}]
[{"$f":"\"\"\" \"& 'BX Language acquisition'!A2629 & \"\"\",\"\"\" & 'BX Language acquisition'!C2629 & \"\"\",\"\"\" & 'BX Language acquisition'!B2629 & \"\"\",\"\"\" & 'BX Language acquisition'!D2629 & \"\"\"\"","v":"\" \",\"\",\"\",\"\""}]
[{"$f":"\"\"\" \"& 'BX Language acquisition'!A2630 & \"\"\",\"\"\" & 'BX Language acquisition'!C2630 & \"\"\",\"\"\" & 'BX Language acquisition'!B2630 & \"\"\",\"\"\" & 'BX Language acquisition'!D2630 & \"\"\"\"","v":"\" \",\"\",\"\",\"\""}]
[{"$f":"\"\"\" \"& 'BX Language acquisition'!A2631 & \"\"\",\"\"\" & 'BX Language acquisition'!C2631 & \"\"\",\"\"\" & 'BX Language acquisition'!B2631 & \"\"\",\"\"\" & 'BX Language acquisition'!D2631 & \"\"\"\"","v":"\" \",\"\",\"\",\"\""}]
[{"$f":"\"\"\" \"& 'BX Language acquisition'!A2632 & \"\"\",\"\"\" & 'BX Language acquisition'!C2632 & \"\"\",\"\"\" & 'BX Language acquisition'!B2632 & \"\"\",\"\"\" & 'BX Language acquisition'!D2632 & \"\"\"\"","v":"\" \",\"\",\"\",\"\""}]
[{"$f":"\"\"\" \"& 'BX Language acquisition'!A2633 & \"\"\",\"\"\" & 'BX Language acquisition'!C2633 & \"\"\",\"\"\" & 'BX Language acquisition'!B2633 & \"\"\",\"\"\" & 'BX Language acquisition'!D2633 & \"\"\"\"","v":"\" \",\"\",\"\",\"\""}]
[{"$f":"\"\"\" \"& 'BX Language acquisition'!A2634 & \"\"\",\"\"\" & 'BX Language acquisition'!C2634 & \"\"\",\"\"\" & 'BX Language acquisition'!B2634 & \"\"\",\"\"\" & 'BX Language acquisition'!D2634 & \"\"\"\"","v":"\" \",\"\",\"\",\"\""}]
[{"$f":"\"\"\" \"& 'BX Language acquisition'!A2635 & \"\"\",\"\"\" & 'BX Language acquisition'!C2635 & \"\"\",\"\"\" & 'BX Language acquisition'!B2635 & \"\"\",\"\"\" & 'BX Language acquisition'!D2635 & \"\"\"\"","v":"\" \",\"\",\"\",\"\""}]
[{"$f":"\"\"\" \"& 'BX Language acquisition'!A2636 & \"\"\",\"\"\" & 'BX Language acquisition'!C2636 & \"\"\",\"\"\" & 'BX Language acquisition'!B2636 & \"\"\",\"\"\" & 'BX Language acquisition'!D2636 & \"\"\"\"","v":"\" \",\"\",\"\",\"\""}]
[{"$f":"\"\"\" \"& 'BX Language acquisition'!A2637 & \"\"\",\"\"\" & 'BX Language acquisition'!C2637 & \"\"\",\"\"\" & 'BX Language acquisition'!B2637 & \"\"\",\"\"\" & 'BX Language acquisition'!D2637 & \"\"\"\"","v":"\" \",\"\",\"\",\"\""}]
[{"$f":"\"\"\" \"& 'BX Language acquisition'!A2638 & \"\"\",\"\"\" & 'BX Language acquisition'!C2638 & \"\"\",\"\"\" & 'BX Language acquisition'!B2638 & \"\"\",\"\"\" & 'BX Language acquisition'!D2638 & \"\"\"\"","v":"\" \",\"\",\"\",\"\""}]
[{"$f":"\"\"\" \"& 'BX Language acquisition'!A2639 & \"\"\",\"\"\" & 'BX Language acquisition'!C2639 & \"\"\",\"\"\" & 'BX Language acquisition'!B2639 & \"\"\",\"\"\" & 'BX Language acquisition'!D2639 & \"\"\"\"","v":"\" \",\"\",\"\",\"\""}]
[{"$f":"\"\"\" \"& 'BX Language acquisition'!A2640 & \"\"\",\"\"\" & 'BX Language acquisition'!C2640 & \"\"\",\"\"\" & 'BX Language acquisition'!B2640 & \"\"\",\"\"\" & 'BX Language acquisition'!D2640 & \"\"\"\"","v":"\" \",\"\",\"\",\"\""}]
[{"$f":"\"\"\" \"& 'BX Language acquisition'!A2641 & \"\"\",\"\"\" & 'BX Language acquisition'!C2641 & \"\"\",\"\"\" & 'BX Language acquisition'!B2641 & \"\"\",\"\"\" & 'BX Language acquisition'!D2641 & \"\"\"\"","v":"\" \",\"\",\"\",\"\""}]
[{"$f":"\"\"\" \"& 'BX Language acquisition'!A2642 & \"\"\",\"\"\" & 'BX Language acquisition'!C2642 & \"\"\",\"\"\" & 'BX Language acquisition'!B2642 & \"\"\",\"\"\" & 'BX Language acquisition'!D2642 & \"\"\"\"","v":"\" \",\"\",\"\",\"\""}]
[{"$f":"\"\"\" \"& 'BX Language acquisition'!A2643 & \"\"\",\"\"\" & 'BX Language acquisition'!C2643 & \"\"\",\"\"\" & 'BX Language acquisition'!B2643 & \"\"\",\"\"\" & 'BX Language acquisition'!D2643 & \"\"\"\"","v":"\" \",\"\",\"\",\"\""}]
[{"$f":"\"\"\" \"& 'BX Language acquisition'!A2644 & \"\"\",\"\"\" & 'BX Language acquisition'!C2644 & \"\"\",\"\"\" & 'BX Language acquisition'!B2644 & \"\"\",\"\"\" & 'BX Language acquisition'!D2644 & \"\"\"\"","v":"\" \",\"\",\"\",\"\""}]
[{"$f":"\"\"\" \"& 'BX Language acquisition'!A2645 & \"\"\",\"\"\" & 'BX Language acquisition'!C2645 & \"\"\",\"\"\" & 'BX Language acquisition'!B2645 & \"\"\",\"\"\" & 'BX Language acquisition'!D2645 & \"\"\"\"","v":"\" \",\"\",\"\",\"\""}]
[{"$f":"\"\"\" \"& 'BX Language acquisition'!A2646 & \"\"\",\"\"\" & 'BX Language acquisition'!C2646 & \"\"\",\"\"\" & 'BX Language acquisition'!B2646 & \"\"\",\"\"\" & 'BX Language acquisition'!D2646 & \"\"\"\"","v":"\" \",\"\",\"\",\"\""}]
[{"$f":"\"\"\" \"& 'BX Language acquisition'!A2647 & \"\"\",\"\"\" & 'BX Language acquisition'!C2647 & \"\"\",\"\"\" & 'BX Language acquisition'!B2647 & \"\"\",\"\"\" & 'BX Language acquisition'!D2647 & \"\"\"\"","v":"\" \",\"\",\"\",\"\""}]
[{"$f":"\"\"\" \"& 'BX Language acquisition'!A2648 & \"\"\",\"\"\" & 'BX Language acquisition'!C2648 & \"\"\",\"\"\" & 'BX Language acquisition'!B2648 & \"\"\",\"\"\" & 'BX Language acquisition'!D2648 & \"\"\"\"","v":"\" \",\"\",\"\",\"\""}]
[{"$f":"\"\"\" \"& 'BX Language acquisition'!A2649 & \"\"\",\"\"\" & 'BX Language acquisition'!C2649 & \"\"\",\"\"\" & 'BX Language acquisition'!B2649 & \"\"\",\"\"\" & 'BX Language acquisition'!D2649 & \"\"\"\"","v":"\" \",\"\",\"\",\"\""}]
[{"$f":"\"\"\" \"& 'BX Language acquisition'!A2650 & \"\"\",\"\"\" & 'BX Language acquisition'!C2650 & \"\"\",\"\"\" & 'BX Language acquisition'!B2650 & \"\"\",\"\"\" & 'BX Language acquisition'!D2650 & \"\"\"\"","v":"\" \",\"\",\"\",\"\""}]
[{"$f":"\"\"\" \"& 'BX Language acquisition'!A2651 & \"\"\",\"\"\" & 'BX Language acquisition'!C2651 & \"\"\",\"\"\" & 'BX Language acquisition'!B2651 & \"\"\",\"\"\" & 'BX Language acquisition'!D2651 & \"\"\"\"","v":"\" \",\"\",\"\",\"\""}]
[{"$f":"\"\"\" \"& 'BX Language acquisition'!A2652 & \"\"\",\"\"\" & 'BX Language acquisition'!C2652 & \"\"\",\"\"\" & 'BX Language acquisition'!B2652 & \"\"\",\"\"\" & 'BX Language acquisition'!D2652 & \"\"\"\"","v":"\" \",\"\",\"\",\"\""}]
[{"$f":"\"\"\" \"& 'BX Language acquisition'!A2653 & \"\"\",\"\"\" & 'BX Language acquisition'!C2653 & \"\"\",\"\"\" & 'BX Language acquisition'!B2653 & \"\"\",\"\"\" & 'BX Language acquisition'!D2653 & \"\"\"\"","v":"\" \",\"\",\"\",\"\""}]
[{"$f":"\"\"\" \"& 'BX Language acquisition'!A2654 & \"\"\",\"\"\" & 'BX Language acquisition'!C2654 & \"\"\",\"\"\" & 'BX Language acquisition'!B2654 & \"\"\",\"\"\" & 'BX Language acquisition'!D2654 & \"\"\"\"","v":"\" \",\"\",\"\",\"\""}]
[{"$f":"\"\"\" \"& 'BX Language acquisition'!A2655 & \"\"\",\"\"\" & 'BX Language acquisition'!C2655 & \"\"\",\"\"\" & 'BX Language acquisition'!B2655 & \"\"\",\"\"\" & 'BX Language acquisition'!D2655 & \"\"\"\"","v":"\" \",\"\",\"\",\"\""}]
[{"$f":"\"\"\" \"& 'BX Language acquisition'!A2656 & \"\"\",\"\"\" & 'BX Language acquisition'!C2656 & \"\"\",\"\"\" & 'BX Language acquisition'!B2656 & \"\"\",\"\"\" & 'BX Language acquisition'!D2656 & \"\"\"\"","v":"\" \",\"\",\"\",\"\""}]
[{"$f":"\"\"\" \"& 'BX Language acquisition'!A2657 & \"\"\",\"\"\" & 'BX Language acquisition'!C2657 & \"\"\",\"\"\" & 'BX Language acquisition'!B2657 & \"\"\",\"\"\" & 'BX Language acquisition'!D2657 & \"\"\"\"","v":"\" \",\"\",\"\",\"\""}]
[{"$f":"\"\"\" \"& 'BX Language acquisition'!A2658 & \"\"\",\"\"\" & 'BX Language acquisition'!C2658 & \"\"\",\"\"\" & 'BX Language acquisition'!B2658 & \"\"\",\"\"\" & 'BX Language acquisition'!D2658 & \"\"\"\"","v":"\" \",\"\",\"\",\"\""}]
[{"$f":"\"\"\" \"& 'BX Language acquisition'!A2659 & \"\"\",\"\"\" & 'BX Language acquisition'!C2659 & \"\"\",\"\"\" & 'BX Language acquisition'!B2659 & \"\"\",\"\"\" & 'BX Language acquisition'!D2659 & \"\"\"\"","v":"\" \",\"\",\"\",\"\""}]
[{"$f":"\"\"\" \"& 'BX Language acquisition'!A2660 & \"\"\",\"\"\" & 'BX Language acquisition'!C2660 & \"\"\",\"\"\" & 'BX Language acquisition'!B2660 & \"\"\",\"\"\" & 'BX Language acquisition'!D2660 & \"\"\"\"","v":"\" \",\"\",\"\",\"\""}]
[{"$f":"\"\"\" \"& 'BX Language acquisition'!A2661 & \"\"\",\"\"\" & 'BX Language acquisition'!C2661 & \"\"\",\"\"\" & 'BX Language acquisition'!B2661 & \"\"\",\"\"\" & 'BX Language acquisition'!D2661 & \"\"\"\"","v":"\" \",\"\",\"\",\"\""}]
[{"$f":"\"\"\" \"& 'BX Language acquisition'!A2662 & \"\"\",\"\"\" & 'BX Language acquisition'!C2662 & \"\"\",\"\"\" & 'BX Language acquisition'!B2662 & \"\"\",\"\"\" & 'BX Language acquisition'!D2662 & \"\"\"\"","v":"\" \",\"\",\"\",\"\""}]
[{"$f":"\"\"\" \"& 'BX Language acquisition'!A2663 & \"\"\",\"\"\" & 'BX Language acquisition'!C2663 & \"\"\",\"\"\" & 'BX Language acquisition'!B2663 & \"\"\",\"\"\" & 'BX Language acquisition'!D2663 & \"\"\"\"","v":"\" \",\"\",\"\",\"\""}]
[{"$f":"\"\"\" \"& 'BX Language acquisition'!A2664 & \"\"\",\"\"\" & 'BX Language acquisition'!C2664 & \"\"\",\"\"\" & 'BX Language acquisition'!B2664 & \"\"\",\"\"\" & 'BX Language acquisition'!D2664 & \"\"\"\"","v":"\" \",\"\",\"\",\"\""}]
[{"$f":"\"\"\" \"& 'BX Language acquisition'!A2665 & \"\"\",\"\"\" & 'BX Language acquisition'!C2665 & \"\"\",\"\"\" & 'BX Language acquisition'!B2665 & \"\"\",\"\"\" & 'BX Language acquisition'!D2665 & \"\"\"\"","v":"\" \",\"\",\"\",\"\""}]
[{"$f":"\"\"\" \"& 'BX Language acquisition'!A2666 & \"\"\",\"\"\" & 'BX Language acquisition'!C2666 & \"\"\",\"\"\" & 'BX Language acquisition'!B2666 & \"\"\",\"\"\" & 'BX Language acquisition'!D2666 & \"\"\"\"","v":"\" \",\"\",\"\",\"\""}]
[{"$f":"\"\"\" \"& 'BX Language acquisition'!A2667 & \"\"\",\"\"\" & 'BX Language acquisition'!C2667 & \"\"\",\"\"\" & 'BX Language acquisition'!B2667 & \"\"\",\"\"\" & 'BX Language acquisition'!D2667 & \"\"\"\"","v":"\" \",\"\",\"\",\"\""}]
[{"$f":"\"\"\" \"& 'BX Language acquisition'!A2668 & \"\"\",\"\"\" & 'BX Language acquisition'!C2668 & \"\"\",\"\"\" & 'BX Language acquisition'!B2668 & \"\"\",\"\"\" & 'BX Language acquisition'!D2668 & \"\"\"\"","v":"\" \",\"\",\"\",\"\""}]
[{"$f":"\"\"\" \"& 'BX Language acquisition'!A2669 & \"\"\",\"\"\" & 'BX Language acquisition'!C2669 & \"\"\",\"\"\" & 'BX Language acquisition'!B2669 & \"\"\",\"\"\" & 'BX Language acquisition'!D2669 & \"\"\"\"","v":"\" \",\"\",\"\",\"\""}]
[{"$f":"\"\"\" \"& 'BX Language acquisition'!A2670 & \"\"\",\"\"\" & 'BX Language acquisition'!C2670 & \"\"\",\"\"\" & 'BX Language acquisition'!B2670 & \"\"\",\"\"\" & 'BX Language acquisition'!D2670 & \"\"\"\"","v":"\" \",\"\",\"\",\"\""}]
[{"$f":"\"\"\" \"& 'BX Language acquisition'!A2671 & \"\"\",\"\"\" & 'BX Language acquisition'!C2671 & \"\"\",\"\"\" & 'BX Language acquisition'!B2671 & \"\"\",\"\"\" & 'BX Language acquisition'!D2671 & \"\"\"\"","v":"\" \",\"\",\"\",\"\""}]
[{"$f":"\"\"\" \"& 'BX Language acquisition'!A2672 & \"\"\",\"\"\" & 'BX Language acquisition'!C2672 & \"\"\",\"\"\" & 'BX Language acquisition'!B2672 & \"\"\",\"\"\" & 'BX Language acquisition'!D2672 & \"\"\"\"","v":"\" \",\"\",\"\",\"\""}]
[{"$f":"\"\"\" \"& 'BX Language acquisition'!A2673 & \"\"\",\"\"\" & 'BX Language acquisition'!C2673 & \"\"\",\"\"\" & 'BX Language acquisition'!B2673 & \"\"\",\"\"\" & 'BX Language acquisition'!D2673 & \"\"\"\"","v":"\" \",\"\",\"\",\"\""}]
[{"$f":"\"\"\" \"& 'BX Language acquisition'!A2674 & \"\"\",\"\"\" & 'BX Language acquisition'!C2674 & \"\"\",\"\"\" & 'BX Language acquisition'!B2674 & \"\"\",\"\"\" & 'BX Language acquisition'!D2674 & \"\"\"\"","v":"\" \",\"\",\"\",\"\""}]
[{"$f":"\"\"\" \"& 'BX Language acquisition'!A2675 & \"\"\",\"\"\" & 'BX Language acquisition'!C2675 & \"\"\",\"\"\" & 'BX Language acquisition'!B2675 & \"\"\",\"\"\" & 'BX Language acquisition'!D2675 & \"\"\"\"","v":"\" \",\"\",\"\",\"\""}]
[{"$f":"\"\"\" \"& 'BX Language acquisition'!A2676 & \"\"\",\"\"\" & 'BX Language acquisition'!C2676 & \"\"\",\"\"\" & 'BX Language acquisition'!B2676 & \"\"\",\"\"\" & 'BX Language acquisition'!D2676 & \"\"\"\"","v":"\" \",\"\",\"\",\"\""}]
[{"$f":"\"\"\" \"& 'BX Language acquisition'!A2677 & \"\"\",\"\"\" & 'BX Language acquisition'!C2677 & \"\"\",\"\"\" & 'BX Language acquisition'!B2677 & \"\"\",\"\"\" & 'BX Language acquisition'!D2677 & \"\"\"\"","v":"\" \",\"\",\"\",\"\""}]
[{"$f":"\"\"\" \"& 'BX Language acquisition'!A2678 & \"\"\",\"\"\" & 'BX Language acquisition'!C2678 & \"\"\",\"\"\" & 'BX Language acquisition'!B2678 & \"\"\",\"\"\" & 'BX Language acquisition'!D2678 & \"\"\"\"","v":"\" \",\"\",\"\",\"\""}]
[{"$f":"\"\"\" \"& 'BX Language acquisition'!A2679 & \"\"\",\"\"\" & 'BX Language acquisition'!C2679 & \"\"\",\"\"\" & 'BX Language acquisition'!B2679 & \"\"\",\"\"\" & 'BX Language acquisition'!D2679 & \"\"\"\"","v":"\" \",\"\",\"\",\"\""}]
[{"$f":"\"\"\" \"& 'BX Language acquisition'!A2680 & \"\"\",\"\"\" & 'BX Language acquisition'!C2680 & \"\"\",\"\"\" & 'BX Language acquisition'!B2680 & \"\"\",\"\"\" & 'BX Language acquisition'!D2680 & \"\"\"\"","v":"\" \",\"\",\"\",\"\""}]
[{"$f":"\"\"\" \"& 'BX Language acquisition'!A2681 & \"\"\",\"\"\" & 'BX Language acquisition'!C2681 & \"\"\",\"\"\" & 'BX Language acquisition'!B2681 & \"\"\",\"\"\" & 'BX Language acquisition'!D2681 & \"\"\"\"","v":"\" \",\"\",\"\",\"\""}]
[{"$f":"\"\"\" \"& 'BX Language acquisition'!A2682 & \"\"\",\"\"\" & 'BX Language acquisition'!C2682 & \"\"\",\"\"\" & 'BX Language acquisition'!B2682 & \"\"\",\"\"\" & 'BX Language acquisition'!D2682 & \"\"\"\"","v":"\" \",\"\",\"\",\"\""}]
[{"$f":"\"\"\" \"& 'BX Language acquisition'!A2683 & \"\"\",\"\"\" & 'BX Language acquisition'!C2683 & \"\"\",\"\"\" & 'BX Language acquisition'!B2683 & \"\"\",\"\"\" & 'BX Language acquisition'!D2683 & \"\"\"\"","v":"\" \",\"\",\"\",\"\""}]
[{"$f":"\"\"\" \"& 'BX Language acquisition'!A2684 & \"\"\",\"\"\" & 'BX Language acquisition'!C2684 & \"\"\",\"\"\" & 'BX Language acquisition'!B2684 & \"\"\",\"\"\" & 'BX Language acquisition'!D2684 & \"\"\"\"","v":"\" \",\"\",\"\",\"\""}]
[{"$f":"\"\"\" \"& 'BX Language acquisition'!A2685 & \"\"\",\"\"\" & 'BX Language acquisition'!C2685 & \"\"\",\"\"\" & 'BX Language acquisition'!B2685 & \"\"\",\"\"\" & 'BX Language acquisition'!D2685 & \"\"\"\"","v":"\" \",\"\",\"\",\"\""}]
[{"$f":"\"\"\" \"& 'BX Language acquisition'!A2686 & \"\"\",\"\"\" & 'BX Language acquisition'!C2686 & \"\"\",\"\"\" & 'BX Language acquisition'!B2686 & \"\"\",\"\"\" & 'BX Language acquisition'!D2686 & \"\"\"\"","v":"\" \",\"\",\"\",\"\""}]
[{"$f":"\"\"\" \"& 'BX Language acquisition'!A2687 & \"\"\",\"\"\" & 'BX Language acquisition'!C2687 & \"\"\",\"\"\" & 'BX Language acquisition'!B2687 & \"\"\",\"\"\" & 'BX Language acquisition'!D2687 & \"\"\"\"","v":"\" \",\"\",\"\",\"\""}]
[{"$f":"\"\"\" \"& 'BX Language acquisition'!A2688 & \"\"\",\"\"\" & 'BX Language acquisition'!C2688 & \"\"\",\"\"\" & 'BX Language acquisition'!B2688 & \"\"\",\"\"\" & 'BX Language acquisition'!D2688 & \"\"\"\"","v":"\" \",\"\",\"\",\"\""}]
[{"$f":"\"\"\" \"& 'BX Language acquisition'!A2689 & \"\"\",\"\"\" & 'BX Language acquisition'!C2689 & \"\"\",\"\"\" & 'BX Language acquisition'!B2689 & \"\"\",\"\"\" & 'BX Language acquisition'!D2689 & \"\"\"\"","v":"\" \",\"\",\"\",\"\""}]
[{"$f":"\"\"\" \"& 'BX Language acquisition'!A2690 & \"\"\",\"\"\" & 'BX Language acquisition'!C2690 & \"\"\",\"\"\" & 'BX Language acquisition'!B2690 & \"\"\",\"\"\" & 'BX Language acquisition'!D2690 & \"\"\"\"","v":"\" \",\"\",\"\",\"\""}]
[{"$f":"\"\"\" \"& 'BX Language acquisition'!A2691 & \"\"\",\"\"\" & 'BX Language acquisition'!C2691 & \"\"\",\"\"\" & 'BX Language acquisition'!B2691 & \"\"\",\"\"\" & 'BX Language acquisition'!D2691 & \"\"\"\"","v":"\" \",\"\",\"\",\"\""}]
[{"$f":"\"\"\" \"& 'BX Language acquisition'!A2692 & \"\"\",\"\"\" & 'BX Language acquisition'!C2692 & \"\"\",\"\"\" & 'BX Language acquisition'!B2692 & \"\"\",\"\"\" & 'BX Language acquisition'!D2692 & \"\"\"\"","v":"\" \",\"\",\"\",\"\""}]
[{"$f":"\"\"\" \"& 'BX Language acquisition'!A2693 & \"\"\",\"\"\" & 'BX Language acquisition'!C2693 & \"\"\",\"\"\" & 'BX Language acquisition'!B2693 & \"\"\",\"\"\" & 'BX Language acquisition'!D2693 & \"\"\"\"","v":"\" \",\"\",\"\",\"\""}]
[{"$f":"\"\"\" \"& 'BX Language acquisition'!A2694 & \"\"\",\"\"\" & 'BX Language acquisition'!C2694 & \"\"\",\"\"\" & 'BX Language acquisition'!B2694 & \"\"\",\"\"\" & 'BX Language acquisition'!D2694 & \"\"\"\"","v":"\" \",\"\",\"\",\"\""}]
[{"$f":"\"\"\" \"& 'BX Language acquisition'!A2695 & \"\"\",\"\"\" & 'BX Language acquisition'!C2695 & \"\"\",\"\"\" & 'BX Language acquisition'!B2695 & \"\"\",\"\"\" & 'BX Language acquisition'!D2695 & \"\"\"\"","v":"\" \",\"\",\"\",\"\""}]
[{"$f":"\"\"\" \"& 'BX Language acquisition'!A2696 & \"\"\",\"\"\" & 'BX Language acquisition'!C2696 & \"\"\",\"\"\" & 'BX Language acquisition'!B2696 & \"\"\",\"\"\" & 'BX Language acquisition'!D2696 & \"\"\"\"","v":"\" \",\"\",\"\",\"\""}]
[{"$f":"\"\"\" \"& 'BX Language acquisition'!A2697 & \"\"\",\"\"\" & 'BX Language acquisition'!C2697 & \"\"\",\"\"\" & 'BX Language acquisition'!B2697 & \"\"\",\"\"\" & 'BX Language acquisition'!D2697 & \"\"\"\"","v":"\" \",\"\",\"\",\"\""}]
[{"$f":"\"\"\" \"& 'BX Language acquisition'!A2698 & \"\"\",\"\"\" & 'BX Language acquisition'!C2698 & \"\"\",\"\"\" & 'BX Language acquisition'!B2698 & \"\"\",\"\"\" & 'BX Language acquisition'!D2698 & \"\"\"\"","v":"\" \",\"\",\"\",\"\""}]
[{"$f":"\"\"\" \"& 'BX Language acquisition'!A2699 & \"\"\",\"\"\" & 'BX Language acquisition'!C2699 & \"\"\",\"\"\" & 'BX Language acquisition'!B2699 & \"\"\",\"\"\" & 'BX Language acquisition'!D2699 & \"\"\"\"","v":"\" \",\"\",\"\",\"\""}]
[{"$f":"\"\"\" \"& 'BX Language acquisition'!A2700 & \"\"\",\"\"\" & 'BX Language acquisition'!C2700 & \"\"\",\"\"\" & 'BX Language acquisition'!B2700 & \"\"\",\"\"\" & 'BX Language acquisition'!D2700 & \"\"\"\"","v":"\" \",\"\",\"\",\"\""}]
[{"$f":"\"\"\" \"& 'BX Language acquisition'!A2701 & \"\"\",\"\"\" & 'BX Language acquisition'!C2701 & \"\"\",\"\"\" & 'BX Language acquisition'!B2701 & \"\"\",\"\"\" & 'BX Language acquisition'!D2701 & \"\"\"\"","v":"\" \",\"\",\"\",\"\""}]
[{"$f":"\"\"\" \"& 'BX Language acquisition'!A2702 & \"\"\",\"\"\" & 'BX Language acquisition'!C2702 & \"\"\",\"\"\" & 'BX Language acquisition'!B2702 & \"\"\",\"\"\" & 'BX Language acquisition'!D2702 & \"\"\"\"","v":"\" \",\"\",\"\",\"\""}]
[{"$f":"\"\"\" \"& 'BX Language acquisition'!A2703 & \"\"\",\"\"\" & 'BX Language acquisition'!C2703 & \"\"\",\"\"\" & 'BX Language acquisition'!B2703 & \"\"\",\"\"\" & 'BX Language acquisition'!D2703 & \"\"\"\"","v":"\" \",\"\",\"\",\"\""}]
[{"$f":"\"\"\" \"& 'BX Language acquisition'!A2704 & \"\"\",\"\"\" & 'BX Language acquisition'!C2704 & \"\"\",\"\"\" & 'BX Language acquisition'!B2704 & \"\"\",\"\"\" & 'BX Language acquisition'!D2704 & \"\"\"\"","v":"\" \",\"\",\"\",\"\""}]
[{"$f":"\"\"\" \"& 'BX Language acquisition'!A2705 & \"\"\",\"\"\" & 'BX Language acquisition'!C2705 & \"\"\",\"\"\" & 'BX Language acquisition'!B2705 & \"\"\",\"\"\" & 'BX Language acquisition'!D2705 & \"\"\"\"","v":"\" \",\"\",\"\",\"\""}]
[{"$f":"\"\"\" \"& 'BX Language acquisition'!A2706 & \"\"\",\"\"\" & 'BX Language acquisition'!C2706 & \"\"\",\"\"\" & 'BX Language acquisition'!B2706 & \"\"\",\"\"\" & 'BX Language acquisition'!D2706 & \"\"\"\"","v":"\" \",\"\",\"\",\"\""}]
[{"$f":"\"\"\" \"& 'BX Language acquisition'!A2707 & \"\"\",\"\"\" & 'BX Language acquisition'!C2707 & \"\"\",\"\"\" & 'BX Language acquisition'!B2707 & \"\"\",\"\"\" & 'BX Language acquisition'!D2707 & \"\"\"\"","v":"\" \",\"\",\"\",\"\""}]
[{"$f":"\"\"\" \"& 'BX Language acquisition'!A2708 & \"\"\",\"\"\" & 'BX Language acquisition'!C2708 & \"\"\",\"\"\" & 'BX Language acquisition'!B2708 & \"\"\",\"\"\" & 'BX Language acquisition'!D2708 & \"\"\"\"","v":"\" \",\"\",\"\",\"\""}]
[{"$f":"\"\"\" \"& 'BX Language acquisition'!A2709 & \"\"\",\"\"\" & 'BX Language acquisition'!C2709 & \"\"\",\"\"\" & 'BX Language acquisition'!B2709 & \"\"\",\"\"\" & 'BX Language acquisition'!D2709 & \"\"\"\"","v":"\" \",\"\",\"\",\"\""}]
[{"$f":"\"\"\" \"& 'BX Language acquisition'!A2710 & \"\"\",\"\"\" & 'BX Language acquisition'!C2710 & \"\"\",\"\"\" & 'BX Language acquisition'!B2710 & \"\"\",\"\"\" & 'BX Language acquisition'!D2710 & \"\"\"\"","v":"\" \",\"\",\"\",\"\""}]
[{"$f":"\"\"\" \"& 'BX Language acquisition'!A2711 & \"\"\",\"\"\" & 'BX Language acquisition'!C2711 & \"\"\",\"\"\" & 'BX Language acquisition'!B2711 & \"\"\",\"\"\" & 'BX Language acquisition'!D2711 & \"\"\"\"","v":"\" \",\"\",\"\",\"\""}]
[{"$f":"\"\"\" \"& 'BX Language acquisition'!A2712 & \"\"\",\"\"\" & 'BX Language acquisition'!C2712 & \"\"\",\"\"\" & 'BX Language acquisition'!B2712 & \"\"\",\"\"\" & 'BX Language acquisition'!D2712 & \"\"\"\"","v":"\" \",\"\",\"\",\"\""}]
[{"$f":"\"\"\" \"& 'BX Language acquisition'!A2713 & \"\"\",\"\"\" & 'BX Language acquisition'!C2713 & \"\"\",\"\"\" & 'BX Language acquisition'!B2713 & \"\"\",\"\"\" & 'BX Language acquisition'!D2713 & \"\"\"\"","v":"\" \",\"\",\"\",\"\""}]
[{"$f":"\"\"\" \"& 'BX Language acquisition'!A2714 & \"\"\",\"\"\" & 'BX Language acquisition'!C2714 & \"\"\",\"\"\" & 'BX Language acquisition'!B2714 & \"\"\",\"\"\" & 'BX Language acquisition'!D2714 & \"\"\"\"","v":"\" \",\"\",\"\",\"\""}]
[{"$f":"\"\"\" \"& 'BX Language acquisition'!A2715 & \"\"\",\"\"\" & 'BX Language acquisition'!C2715 & \"\"\",\"\"\" & 'BX Language acquisition'!B2715 & \"\"\",\"\"\" & 'BX Language acquisition'!D2715 & \"\"\"\"","v":"\" \",\"\",\"\",\"\""}]
[{"$f":"\"\"\" \"& 'BX Language acquisition'!A2716 & \"\"\",\"\"\" & 'BX Language acquisition'!C2716 & \"\"\",\"\"\" & 'BX Language acquisition'!B2716 & \"\"\",\"\"\" & 'BX Language acquisition'!D2716 & \"\"\"\"","v":"\" \",\"\",\"\",\"\""}]
[{"$f":"\"\"\" \"& 'BX Language acquisition'!A2717 & \"\"\",\"\"\" & 'BX Language acquisition'!C2717 & \"\"\",\"\"\" & 'BX Language acquisition'!B2717 & \"\"\",\"\"\" & 'BX Language acquisition'!D2717 & \"\"\"\"","v":"\" \",\"\",\"\",\"\""}]
[{"$f":"\"\"\" \"& 'BX Language acquisition'!A2718 & \"\"\",\"\"\" & 'BX Language acquisition'!C2718 & \"\"\",\"\"\" & 'BX Language acquisition'!B2718 & \"\"\",\"\"\" & 'BX Language acquisition'!D2718 & \"\"\"\"","v":"\" \",\"\",\"\",\"\""}]
[{"$f":"\"\"\" \"& 'BX Language acquisition'!A2719 & \"\"\",\"\"\" & 'BX Language acquisition'!C2719 & \"\"\",\"\"\" & 'BX Language acquisition'!B2719 & \"\"\",\"\"\" & 'BX Language acquisition'!D2719 & \"\"\"\"","v":"\" \",\"\",\"\",\"\""}]
[{"$f":"\"\"\" \"& 'BX Language acquisition'!A2720 & \"\"\",\"\"\" & 'BX Language acquisition'!C2720 & \"\"\",\"\"\" & 'BX Language acquisition'!B2720 & \"\"\",\"\"\" & 'BX Language acquisition'!D2720 & \"\"\"\"","v":"\" \",\"\",\"\",\"\""}]
[{"$f":"\"\"\" \"& 'BX Language acquisition'!A2721 & \"\"\",\"\"\" & 'BX Language acquisition'!C2721 & \"\"\",\"\"\" & 'BX Language acquisition'!B2721 & \"\"\",\"\"\" & 'BX Language acquisition'!D2721 & \"\"\"\"","v":"\" \",\"\",\"\",\"\""}]
[{"$f":"\"\"\" \"& 'BX Language acquisition'!A2722 & \"\"\",\"\"\" & 'BX Language acquisition'!C2722 & \"\"\",\"\"\" & 'BX Language acquisition'!B2722 & \"\"\",\"\"\" & 'BX Language acquisition'!D2722 & \"\"\"\"","v":"\" \",\"\",\"\",\"\""}]
[{"$f":"\"\"\" \"& 'BX Language acquisition'!A2723 & \"\"\",\"\"\" & 'BX Language acquisition'!C2723 & \"\"\",\"\"\" & 'BX Language acquisition'!B2723 & \"\"\",\"\"\" & 'BX Language acquisition'!D2723 & \"\"\"\"","v":"\" \",\"\",\"\",\"\""}]
[{"$f":"\"\"\" \"& 'BX Language acquisition'!A2724 & \"\"\",\"\"\" & 'BX Language acquisition'!C2724 & \"\"\",\"\"\" & 'BX Language acquisition'!B2724 & \"\"\",\"\"\" & 'BX Language acquisition'!D2724 & \"\"\"\"","v":"\" \",\"\",\"\",\"\""}]
[{"$f":"\"\"\" \"& 'BX Language acquisition'!A2725 & \"\"\",\"\"\" & 'BX Language acquisition'!C2725 & \"\"\",\"\"\" & 'BX Language acquisition'!B2725 & \"\"\",\"\"\" & 'BX Language acquisition'!D2725 & \"\"\"\"","v":"\" \",\"\",\"\",\"\""}]
[{"$f":"\"\"\" \"& 'BX Language acquisition'!A2726 & \"\"\",\"\"\" & 'BX Language acquisition'!C2726 & \"\"\",\"\"\" & 'BX Language acquisition'!B2726 & \"\"\",\"\"\" & 'BX Language acquisition'!D2726 & \"\"\"\"","v":"\" \",\"\",\"\",\"\""}]
[{"$f":"\"\"\" \"& 'BX Language acquisition'!A2727 & \"\"\",\"\"\" & 'BX Language acquisition'!C2727 & \"\"\",\"\"\" & 'BX Language acquisition'!B2727 & \"\"\",\"\"\" & 'BX Language acquisition'!D2727 & \"\"\"\"","v":"\" \",\"\",\"\",\"\""}]
[{"$f":"\"\"\" \"& 'BX Language acquisition'!A2728 & \"\"\",\"\"\" & 'BX Language acquisition'!C2728 & \"\"\",\"\"\" & 'BX Language acquisition'!B2728 & \"\"\",\"\"\" & 'BX Language acquisition'!D2728 & \"\"\"\"","v":"\" \",\"\",\"\",\"\""}]
[{"$f":"\"\"\" \"& 'BX Language acquisition'!A2729 & \"\"\",\"\"\" & 'BX Language acquisition'!C2729 & \"\"\",\"\"\" & 'BX Language acquisition'!B2729 & \"\"\",\"\"\" & 'BX Language acquisition'!D2729 & \"\"\"\"","v":"\" \",\"\",\"\",\"\""}]
[{"$f":"\"\"\" \"& 'BX Language acquisition'!A2730 & \"\"\",\"\"\" & 'BX Language acquisition'!C2730 & \"\"\",\"\"\" & 'BX Language acquisition'!B2730 & \"\"\",\"\"\" & 'BX Language acquisition'!D2730 & \"\"\"\"","v":"\" \",\"\",\"\",\"\""}]
[{"$f":"\"\"\" \"& 'BX Language acquisition'!A2731 & \"\"\",\"\"\" & 'BX Language acquisition'!C2731 & \"\"\",\"\"\" & 'BX Language acquisition'!B2731 & \"\"\",\"\"\" & 'BX Language acquisition'!D2731 & \"\"\"\"","v":"\" \",\"\",\"\",\"\""}]
[{"$f":"\"\"\" \"& 'BX Language acquisition'!A2732 & \"\"\",\"\"\" & 'BX Language acquisition'!C2732 & \"\"\",\"\"\" & 'BX Language acquisition'!B2732 & \"\"\",\"\"\" & 'BX Language acquisition'!D2732 & \"\"\"\"","v":"\" \",\"\",\"\",\"\""}]
[{"$f":"\"\"\" \"& 'BX Language acquisition'!A2733 & \"\"\",\"\"\" & 'BX Language acquisition'!C2733 & \"\"\",\"\"\" & 'BX Language acquisition'!B2733 & \"\"\",\"\"\" & 'BX Language acquisition'!D2733 & \"\"\"\"","v":"\" \",\"\",\"\",\"\""}]
[{"$f":"\"\"\" \"& 'BX Language acquisition'!A2734 & \"\"\",\"\"\" & 'BX Language acquisition'!C2734 & \"\"\",\"\"\" & 'BX Language acquisition'!B2734 & \"\"\",\"\"\" & 'BX Language acquisition'!D2734 & \"\"\"\"","v":"\" \",\"\",\"\",\"\""}]
[{"$f":"\"\"\" \"& 'BX Language acquisition'!A2735 & \"\"\",\"\"\" & 'BX Language acquisition'!C2735 & \"\"\",\"\"\" & 'BX Language acquisition'!B2735 & \"\"\",\"\"\" & 'BX Language acquisition'!D2735 & \"\"\"\"","v":"\" \",\"\",\"\",\"\""}]
[{"$f":"\"\"\" \"& 'BX Language acquisition'!A2736 & \"\"\",\"\"\" & 'BX Language acquisition'!C2736 & \"\"\",\"\"\" & 'BX Language acquisition'!B2736 & \"\"\",\"\"\" & 'BX Language acquisition'!D2736 & \"\"\"\"","v":"\" \",\"\",\"\",\"\""}]
[{"$f":"\"\"\" \"& 'BX Language acquisition'!A2737 & \"\"\",\"\"\" & 'BX Language acquisition'!C2737 & \"\"\",\"\"\" & 'BX Language acquisition'!B2737 & \"\"\",\"\"\" & 'BX Language acquisition'!D2737 & \"\"\"\"","v":"\" \",\"\",\"\",\"\""}]
[{"$f":"\"\"\" \"& 'BX Language acquisition'!A2738 & \"\"\",\"\"\" & 'BX Language acquisition'!C2738 & \"\"\",\"\"\" & 'BX Language acquisition'!B2738 & \"\"\",\"\"\" & 'BX Language acquisition'!D2738 & \"\"\"\"","v":"\" \",\"\",\"\",\"\""}]
[{"$f":"\"\"\" \"& 'BX Language acquisition'!A2739 & \"\"\",\"\"\" & 'BX Language acquisition'!C2739 & \"\"\",\"\"\" & 'BX Language acquisition'!B2739 & \"\"\",\"\"\" & 'BX Language acquisition'!D2739 & \"\"\"\"","v":"\" \",\"\",\"\",\"\""}]
[{"$f":"\"\"\" \"& 'BX Language acquisition'!A2740 & \"\"\",\"\"\" & 'BX Language acquisition'!C2740 & \"\"\",\"\"\" & 'BX Language acquisition'!B2740 & \"\"\",\"\"\" & 'BX Language acquisition'!D2740 & \"\"\"\"","v":"\" \",\"\",\"\",\"\""}]
[{"$f":"\"\"\" \"& 'BX Language acquisition'!A2741 & \"\"\",\"\"\" & 'BX Language acquisition'!C2741 & \"\"\",\"\"\" & 'BX Language acquisition'!B2741 & \"\"\",\"\"\" & 'BX Language acquisition'!D2741 & \"\"\"\"","v":"\" \",\"\",\"\",\"\""}]
[{"$f":"\"\"\" \"& 'BX Language acquisition'!A2742 & \"\"\",\"\"\" & 'BX Language acquisition'!C2742 & \"\"\",\"\"\" & 'BX Language acquisition'!B2742 & \"\"\",\"\"\" & 'BX Language acquisition'!D2742 & \"\"\"\"","v":"\" \",\"\",\"\",\"\""}]
[{"$f":"\"\"\" \"& 'BX Language acquisition'!A2743 & \"\"\",\"\"\" & 'BX Language acquisition'!C2743 & \"\"\",\"\"\" & 'BX Language acquisition'!B2743 & \"\"\",\"\"\" & 'BX Language acquisition'!D2743 & \"\"\"\"","v":"\" \",\"\",\"\",\"\""}]
[{"$f":"\"\"\" \"& 'BX Language acquisition'!A2744 & \"\"\",\"\"\" & 'BX Language acquisition'!C2744 & \"\"\",\"\"\" & 'BX Language acquisition'!B2744 & \"\"\",\"\"\" & 'BX Language acquisition'!D2744 & \"\"\"\"","v":"\" \",\"\",\"\",\"\""}]
[{"$f":"\"\"\" \"& 'BX Language acquisition'!A2745 & \"\"\",\"\"\" & 'BX Language acquisition'!C2745 & \"\"\",\"\"\" & 'BX Language acquisition'!B2745 & \"\"\",\"\"\" & 'BX Language acquisition'!D2745 & \"\"\"\"","v":"\" \",\"\",\"\",\"\""}]
[{"$f":"\"\"\" \"& 'BX Language acquisition'!A2746 & \"\"\",\"\"\" & 'BX Language acquisition'!C2746 & \"\"\",\"\"\" & 'BX Language acquisition'!B2746 & \"\"\",\"\"\" & 'BX Language acquisition'!D2746 & \"\"\"\"","v":"\" \",\"\",\"\",\"\""}]
[{"$f":"\"\"\" \"& 'BX Language acquisition'!A2747 & \"\"\",\"\"\" & 'BX Language acquisition'!C2747 & \"\"\",\"\"\" & 'BX Language acquisition'!B2747 & \"\"\",\"\"\" & 'BX Language acquisition'!D2747 & \"\"\"\"","v":"\" \",\"\",\"\",\"\""}]
[{"$f":"\"\"\" \"& 'BX Language acquisition'!A2748 & \"\"\",\"\"\" & 'BX Language acquisition'!C2748 & \"\"\",\"\"\" & 'BX Language acquisition'!B2748 & \"\"\",\"\"\" & 'BX Language acquisition'!D2748 & \"\"\"\"","v":"\" \",\"\",\"\",\"\""}]
[{"$f":"\"\"\" \"& 'BX Language acquisition'!A2749 & \"\"\",\"\"\" & 'BX Language acquisition'!C2749 & \"\"\",\"\"\" & 'BX Language acquisition'!B2749 & \"\"\",\"\"\" & 'BX Language acquisition'!D2749 & \"\"\"\"","v":"\" \",\"\",\"\",\"\""}]
[{"$f":"\"\"\" \"& 'BX Language acquisition'!A2750 & \"\"\",\"\"\" & 'BX Language acquisition'!C2750 & \"\"\",\"\"\" & 'BX Language acquisition'!B2750 & \"\"\",\"\"\" & 'BX Language acquisition'!D2750 & \"\"\"\"","v":"\" \",\"\",\"\",\"\""}]
[{"$f":"\"\"\" \"& 'BX Language acquisition'!A2751 & \"\"\",\"\"\" & 'BX Language acquisition'!C2751 & \"\"\",\"\"\" & 'BX Language acquisition'!B2751 & \"\"\",\"\"\" & 'BX Language acquisition'!D2751 & \"\"\"\"","v":"\" \",\"\",\"\",\"\""}]
[{"$f":"\"\"\" \"& 'BX Language acquisition'!A2752 & \"\"\",\"\"\" & 'BX Language acquisition'!C2752 & \"\"\",\"\"\" & 'BX Language acquisition'!B2752 & \"\"\",\"\"\" & 'BX Language acquisition'!D2752 & \"\"\"\"","v":"\" \",\"\",\"\",\"\""}]
[{"$f":"\"\"\" \"& 'BX Language acquisition'!A2753 & \"\"\",\"\"\" & 'BX Language acquisition'!C2753 & \"\"\",\"\"\" & 'BX Language acquisition'!B2753 & \"\"\",\"\"\" & 'BX Language acquisition'!D2753 & \"\"\"\"","v":"\" \",\"\",\"\",\"\""}]
[{"$f":"\"\"\" \"& 'BX Language acquisition'!A2754 & \"\"\",\"\"\" & 'BX Language acquisition'!C2754 & \"\"\",\"\"\" & 'BX Language acquisition'!B2754 & \"\"\",\"\"\" & 'BX Language acquisition'!D2754 & \"\"\"\"","v":"\" \",\"\",\"\",\"\""}]
[{"$f":"\"\"\" \"& 'BX Language acquisition'!A2755 & \"\"\",\"\"\" & 'BX Language acquisition'!C2755 & \"\"\",\"\"\" & 'BX Language acquisition'!B2755 & \"\"\",\"\"\" & 'BX Language acquisition'!D2755 & \"\"\"\"","v":"\" \",\"\",\"\",\"\""}]
[{"$f":"\"\"\" \"& 'BX Language acquisition'!A2756 & \"\"\",\"\"\" & 'BX Language acquisition'!C2756 & \"\"\",\"\"\" & 'BX Language acquisition'!B2756 & \"\"\",\"\"\" & 'BX Language acquisition'!D2756 & \"\"\"\"","v":"\" \",\"\",\"\",\"\""}]
[{"$f":"\"\"\" \"& 'BX Language acquisition'!A2757 & \"\"\",\"\"\" & 'BX Language acquisition'!C2757 & \"\"\",\"\"\" & 'BX Language acquisition'!B2757 & \"\"\",\"\"\" & 'BX Language acquisition'!D2757 & \"\"\"\"","v":"\" \",\"\",\"\",\"\""}]
[{"$f":"\"\"\" \"& 'BX Language acquisition'!A2758 & \"\"\",\"\"\" & 'BX Language acquisition'!C2758 & \"\"\",\"\"\" & 'BX Language acquisition'!B2758 & \"\"\",\"\"\" & 'BX Language acquisition'!D2758 & \"\"\"\"","v":"\" \",\"\",\"\",\"\""}]
[{"$f":"\"\"\" \"& 'BX Language acquisition'!A2759 & \"\"\",\"\"\" & 'BX Language acquisition'!C2759 & \"\"\",\"\"\" & 'BX Language acquisition'!B2759 & \"\"\",\"\"\" & 'BX Language acquisition'!D2759 & \"\"\"\"","v":"\" \",\"\",\"\",\"\""}]
[{"$f":"\"\"\" \"& 'BX Language acquisition'!A2760 & \"\"\",\"\"\" & 'BX Language acquisition'!C2760 & \"\"\",\"\"\" & 'BX Language acquisition'!B2760 & \"\"\",\"\"\" & 'BX Language acquisition'!D2760 & \"\"\"\"","v":"\" \",\"\",\"\",\"\""}]
[{"$f":"\"\"\" \"& 'BX Language acquisition'!A2761 & \"\"\",\"\"\" & 'BX Language acquisition'!C2761 & \"\"\",\"\"\" & 'BX Language acquisition'!B2761 & \"\"\",\"\"\" & 'BX Language acquisition'!D2761 & \"\"\"\"","v":"\" \",\"\",\"\",\"\""}]
[{"$f":"\"\"\" \"& 'BX Language acquisition'!A2762 & \"\"\",\"\"\" & 'BX Language acquisition'!C2762 & \"\"\",\"\"\" & 'BX Language acquisition'!B2762 & \"\"\",\"\"\" & 'BX Language acquisition'!D2762 & \"\"\"\"","v":"\" \",\"\",\"\",\"\""}]
[{"$f":"\"\"\" \"& 'BX Language acquisition'!A2763 & \"\"\",\"\"\" & 'BX Language acquisition'!C2763 & \"\"\",\"\"\" & 'BX Language acquisition'!B2763 & \"\"\",\"\"\" & 'BX Language acquisition'!D2763 & \"\"\"\"","v":"\" \",\"\",\"\",\"\""}]
[{"$f":"\"\"\" \"& 'BX Language acquisition'!A2764 & \"\"\",\"\"\" & 'BX Language acquisition'!C2764 & \"\"\",\"\"\" & 'BX Language acquisition'!B2764 & \"\"\",\"\"\" & 'BX Language acquisition'!D2764 & \"\"\"\"","v":"\" \",\"\",\"\",\"\""}]
[{"$f":"\"\"\" \"& 'BX Language acquisition'!A2765 & \"\"\",\"\"\" & 'BX Language acquisition'!C2765 & \"\"\",\"\"\" & 'BX Language acquisition'!B2765 & \"\"\",\"\"\" & 'BX Language acquisition'!D2765 & \"\"\"\"","v":"\" \",\"\",\"\",\"\""}]
[{"$f":"\"\"\" \"& 'BX Language acquisition'!A2766 & \"\"\",\"\"\" & 'BX Language acquisition'!C2766 & \"\"\",\"\"\" & 'BX Language acquisition'!B2766 & \"\"\",\"\"\" & 'BX Language acquisition'!D2766 & \"\"\"\"","v":"\" \",\"\",\"\",\"\""}]
[{"$f":"\"\"\" \"& 'BX Language acquisition'!A2767 & \"\"\",\"\"\" & 'BX Language acquisition'!C2767 & \"\"\",\"\"\" & 'BX Language acquisition'!B2767 & \"\"\",\"\"\" & 'BX Language acquisition'!D2767 & \"\"\"\"","v":"\" \",\"\",\"\",\"\""}]
[{"$f":"\"\"\" \"& 'BX Language acquisition'!A2768 & \"\"\",\"\"\" & 'BX Language acquisition'!C2768 & \"\"\",\"\"\" & 'BX Language acquisition'!B2768 & \"\"\",\"\"\" & 'BX Language acquisition'!D2768 & \"\"\"\"","v":"\" \",\"\",\"\",\"\""}]
[{"$f":"\"\"\" \"& 'BX Language acquisition'!A2769 & \"\"\",\"\"\" & 'BX Language acquisition'!C2769 & \"\"\",\"\"\" & 'BX Language acquisition'!B2769 & \"\"\",\"\"\" & 'BX Language acquisition'!D2769 & \"\"\"\"","v":"\" \",\"\",\"\",\"\""}]
[{"$f":"\"\"\" \"& 'BX Language acquisition'!A2770 & \"\"\",\"\"\" & 'BX Language acquisition'!C2770 & \"\"\",\"\"\" & 'BX Language acquisition'!B2770 & \"\"\",\"\"\" & 'BX Language acquisition'!D2770 & \"\"\"\"","v":"\" \",\"\",\"\",\"\""}]
[{"$f":"\"\"\" \"& 'BX Language acquisition'!A2771 & \"\"\",\"\"\" & 'BX Language acquisition'!C2771 & \"\"\",\"\"\" & 'BX Language acquisition'!B2771 & \"\"\",\"\"\" & 'BX Language acquisition'!D2771 & \"\"\"\"","v":"\" \",\"\",\"\",\"\""}]
[{"$f":"\"\"\" \"& 'BX Language acquisition'!A2772 & \"\"\",\"\"\" & 'BX Language acquisition'!C2772 & \"\"\",\"\"\" & 'BX Language acquisition'!B2772 & \"\"\",\"\"\" & 'BX Language acquisition'!D2772 & \"\"\"\"","v":"\" \",\"\",\"\",\"\""}]
[{"$f":"\"\"\" \"& 'BX Language acquisition'!A2773 & \"\"\",\"\"\" & 'BX Language acquisition'!C2773 & \"\"\",\"\"\" & 'BX Language acquisition'!B2773 & \"\"\",\"\"\" & 'BX Language acquisition'!D2773 & \"\"\"\"","v":"\" \",\"\",\"\",\"\""}]
[{"$f":"\"\"\" \"& 'BX Language acquisition'!A2774 & \"\"\",\"\"\" & 'BX Language acquisition'!C2774 & \"\"\",\"\"\" & 'BX Language acquisition'!B2774 & \"\"\",\"\"\" & 'BX Language acquisition'!D2774 & \"\"\"\"","v":"\" \",\"\",\"\",\"\""}]
[{"$f":"\"\"\" \"& 'BX Language acquisition'!A2775 & \"\"\",\"\"\" & 'BX Language acquisition'!C2775 & \"\"\",\"\"\" & 'BX Language acquisition'!B2775 & \"\"\",\"\"\" & 'BX Language acquisition'!D2775 & \"\"\"\"","v":"\" \",\"\",\"\",\"\""}]
[{"$f":"\"\"\" \"& 'BX Language acquisition'!A2776 & \"\"\",\"\"\" & 'BX Language acquisition'!C2776 & \"\"\",\"\"\" & 'BX Language acquisition'!B2776 & \"\"\",\"\"\" & 'BX Language acquisition'!D2776 & \"\"\"\"","v":"\" \",\"\",\"\",\"\""}]
[{"$f":"\"\"\" \"& 'BX Language acquisition'!A2777 & \"\"\",\"\"\" & 'BX Language acquisition'!C2777 & \"\"\",\"\"\" & 'BX Language acquisition'!B2777 & \"\"\",\"\"\" & 'BX Language acquisition'!D2777 & \"\"\"\"","v":"\" \",\"\",\"\",\"\""}]
[{"$f":"\"\"\" \"& 'BX Language acquisition'!A2778 & \"\"\",\"\"\" & 'BX Language acquisition'!C2778 & \"\"\",\"\"\" & 'BX Language acquisition'!B2778 & \"\"\",\"\"\" & 'BX Language acquisition'!D2778 & \"\"\"\"","v":"\" \",\"\",\"\",\"\""}]
[{"$f":"\"\"\" \"& 'BX Language acquisition'!A2779 & \"\"\",\"\"\" & 'BX Language acquisition'!C2779 & \"\"\",\"\"\" & 'BX Language acquisition'!B2779 & \"\"\",\"\"\" & 'BX Language acquisition'!D2779 & \"\"\"\"","v":"\" \",\"\",\"\",\"\""}]
[{"$f":"\"\"\" \"& 'BX Language acquisition'!A2780 & \"\"\",\"\"\" & 'BX Language acquisition'!C2780 & \"\"\",\"\"\" & 'BX Language acquisition'!B2780 & \"\"\",\"\"\" & 'BX Language acquisition'!D2780 & \"\"\"\"","v":"\" \",\"\",\"\",\"\""}]
[{"$f":"\"\"\" \"& 'BX Language acquisition'!A2781 & \"\"\",\"\"\" & 'BX Language acquisition'!C2781 & \"\"\",\"\"\" & 'BX Language acquisition'!B2781 & \"\"\",\"\"\" & 'BX Language acquisition'!D2781 & \"\"\"\"","v":"\" \",\"\",\"\",\"\""}]
[{"$f":"\"\"\" \"& 'BX Language acquisition'!A2782 & \"\"\",\"\"\" & 'BX Language acquisition'!C2782 & \"\"\",\"\"\" & 'BX Language acquisition'!B2782 & \"\"\",\"\"\" & 'BX Language acquisition'!D2782 & \"\"\"\"","v":"\" \",\"\",\"\",\"\""}]
[{"$f":"\"\"\" \"& 'BX Language acquisition'!A2783 & \"\"\",\"\"\" & 'BX Language acquisition'!C2783 & \"\"\",\"\"\" & 'BX Language acquisition'!B2783 & \"\"\",\"\"\" & 'BX Language acquisition'!D2783 & \"\"\"\"","v":"\" \",\"\",\"\",\"\""}]
[{"$f":"\"\"\" \"& 'BX Language acquisition'!A2784 & \"\"\",\"\"\" & 'BX Language acquisition'!C2784 & \"\"\",\"\"\" & 'BX Language acquisition'!B2784 & \"\"\",\"\"\" & 'BX Language acquisition'!D2784 & \"\"\"\"","v":"\" \",\"\",\"\",\"\""}]
[{"$f":"\"\"\" \"& 'BX Language acquisition'!A2785 & \"\"\",\"\"\" & 'BX Language acquisition'!C2785 & \"\"\",\"\"\" & 'BX Language acquisition'!B2785 & \"\"\",\"\"\" & 'BX Language acquisition'!D2785 & \"\"\"\"","v":"\" \",\"\",\"\",\"\""}]
[{"$f":"\"\"\" \"& 'BX Language acquisition'!A2786 & \"\"\",\"\"\" & 'BX Language acquisition'!C2786 & \"\"\",\"\"\" & 'BX Language acquisition'!B2786 & \"\"\",\"\"\" & 'BX Language acquisition'!D2786 & \"\"\"\"","v":"\" \",\"\",\"\",\"\""}]
[{"$f":"\"\"\" \"& 'BX Language acquisition'!A2787 & \"\"\",\"\"\" & 'BX Language acquisition'!C2787 & \"\"\",\"\"\" & 'BX Language acquisition'!B2787 & \"\"\",\"\"\" & 'BX Language acquisition'!D2787 & \"\"\"\"","v":"\" \",\"\",\"\",\"\""}]
[{"$f":"\"\"\" \"& 'BX Language acquisition'!A2788 & \"\"\",\"\"\" & 'BX Language acquisition'!C2788 & \"\"\",\"\"\" & 'BX Language acquisition'!B2788 & \"\"\",\"\"\" & 'BX Language acquisition'!D2788 & \"\"\"\"","v":"\" \",\"\",\"\",\"\""}]
[{"$f":"\"\"\" \"& 'BX Language acquisition'!A2789 & \"\"\",\"\"\" & 'BX Language acquisition'!C2789 & \"\"\",\"\"\" & 'BX Language acquisition'!B2789 & \"\"\",\"\"\" & 'BX Language acquisition'!D2789 & \"\"\"\"","v":"\" \",\"\",\"\",\"\""}]
[{"$f":"\"\"\" \"& 'BX Language acquisition'!A2790 & \"\"\",\"\"\" & 'BX Language acquisition'!C2790 & \"\"\",\"\"\" & 'BX Language acquisition'!B2790 & \"\"\",\"\"\" & 'BX Language acquisition'!D2790 & \"\"\"\"","v":"\" \",\"\",\"\",\"\""}]
[{"$f":"\"\"\" \"& 'BX Language acquisition'!A2791 & \"\"\",\"\"\" & 'BX Language acquisition'!C2791 & \"\"\",\"\"\" & 'BX Language acquisition'!B2791 & \"\"\",\"\"\" & 'BX Language acquisition'!D2791 & \"\"\"\"","v":"\" \",\"\",\"\",\"\""}]
[{"$f":"\"\"\" \"& 'BX Language acquisition'!A2792 & \"\"\",\"\"\" & 'BX Language acquisition'!C2792 & \"\"\",\"\"\" & 'BX Language acquisition'!B2792 & \"\"\",\"\"\" & 'BX Language acquisition'!D2792 & \"\"\"\"","v":"\" \",\"\",\"\",\"\""}]
[{"$f":"\"\"\" \"& 'BX Language acquisition'!A2793 & \"\"\",\"\"\" & 'BX Language acquisition'!C2793 & \"\"\",\"\"\" & 'BX Language acquisition'!B2793 & \"\"\",\"\"\" & 'BX Language acquisition'!D2793 & \"\"\"\"","v":"\" \",\"\",\"\",\"\""}]
[{"$f":"\"\"\" \"& 'BX Language acquisition'!A2794 & \"\"\",\"\"\" & 'BX Language acquisition'!C2794 & \"\"\",\"\"\" & 'BX Language acquisition'!B2794 & \"\"\",\"\"\" & 'BX Language acquisition'!D2794 & \"\"\"\"","v":"\" \",\"\",\"\",\"\""}]
[{"$f":"\"\"\" \"& 'BX Language acquisition'!A2795 & \"\"\",\"\"\" & 'BX Language acquisition'!C2795 & \"\"\",\"\"\" & 'BX Language acquisition'!B2795 & \"\"\",\"\"\" & 'BX Language acquisition'!D2795 & \"\"\"\"","v":"\" \",\"\",\"\",\"\""}]
[{"$f":"\"\"\" \"& 'BX Language acquisition'!A2796 & \"\"\",\"\"\" & 'BX Language acquisition'!C2796 & \"\"\",\"\"\" & 'BX Language acquisition'!B2796 & \"\"\",\"\"\" & 'BX Language acquisition'!D2796 & \"\"\"\"","v":"\" \",\"\",\"\",\"\""}]
[{"$f":"\"\"\" \"& 'BX Language acquisition'!A2797 & \"\"\",\"\"\" & 'BX Language acquisition'!C2797 & \"\"\",\"\"\" & 'BX Language acquisition'!B2797 & \"\"\",\"\"\" & 'BX Language acquisition'!D2797 & \"\"\"\"","v":"\" \",\"\",\"\",\"\""}]
[{"$f":"\"\"\" \"& 'BX Language acquisition'!A2798 & \"\"\",\"\"\" & 'BX Language acquisition'!C2798 & \"\"\",\"\"\" & 'BX Language acquisition'!B2798 & \"\"\",\"\"\" & 'BX Language acquisition'!D2798 & \"\"\"\"","v":"\" \",\"\",\"\",\"\""}]
[{"$f":"\"\"\" \"& 'BX Language acquisition'!A2799 & \"\"\",\"\"\" & 'BX Language acquisition'!C2799 & \"\"\",\"\"\" & 'BX Language acquisition'!B2799 & \"\"\",\"\"\" & 'BX Language acquisition'!D2799 & \"\"\"\"","v":"\" \",\"\",\"\",\"\""}]
[{"$f":"\"\"\" \"& 'BX Language acquisition'!A2800 & \"\"\",\"\"\" & 'BX Language acquisition'!C2800 & \"\"\",\"\"\" & 'BX Language acquisition'!B2800 & \"\"\",\"\"\" & 'BX Language acquisition'!D2800 & \"\"\"\"","v":"\" \",\"\",\"\",\"\""}]
[{"$f":"\"\"\" \"& 'BX Language acquisition'!A2801 & \"\"\",\"\"\" & 'BX Language acquisition'!C2801 & \"\"\",\"\"\" & 'BX Language acquisition'!B2801 & \"\"\",\"\"\" & 'BX Language acquisition'!D2801 & \"\"\"\"","v":"\" \",\"\",\"\",\"\""}]
[{"$f":"\"\"\" \"& 'BX Language acquisition'!A2802 & \"\"\",\"\"\" & 'BX Language acquisition'!C2802 & \"\"\",\"\"\" & 'BX Language acquisition'!B2802 & \"\"\",\"\"\" & 'BX Language acquisition'!D2802 & \"\"\"\"","v":"\" \",\"\",\"\",\"\""}]
[{"$f":"\"\"\" \"& 'BX Language acquisition'!A2803 & \"\"\",\"\"\" & 'BX Language acquisition'!C2803 & \"\"\",\"\"\" & 'BX Language acquisition'!B2803 & \"\"\",\"\"\" & 'BX Language acquisition'!D2803 & \"\"\"\"","v":"\" \",\"\",\"\",\"\""}]
[{"$f":"\"\"\" \"& 'BX Language acquisition'!A2804 & \"\"\",\"\"\" & 'BX Language acquisition'!C2804 & \"\"\",\"\"\" & 'BX Language acquisition'!B2804 & \"\"\",\"\"\" & 'BX Language acquisition'!D2804 & \"\"\"\"","v":"\" \",\"\",\"\",\"\""}]
[{"$f":"\"\"\" \"& 'BX Language acquisition'!A2805 & \"\"\",\"\"\" & 'BX Language acquisition'!C2805 & \"\"\",\"\"\" & 'BX Language acquisition'!B2805 & \"\"\",\"\"\" & 'BX Language acquisition'!D2805 & \"\"\"\"","v":"\" \",\"\",\"\",\"\""}]
[{"$f":"\"\"\" \"& 'BX Language acquisition'!A2806 & \"\"\",\"\"\" & 'BX Language acquisition'!C2806 & \"\"\",\"\"\" & 'BX Language acquisition'!B2806 & \"\"\",\"\"\" & 'BX Language acquisition'!D2806 & \"\"\"\"","v":"\" \",\"\",\"\",\"\""}]
[{"$f":"\"\"\" \"& 'BX Language acquisition'!A2807 & \"\"\",\"\"\" & 'BX Language acquisition'!C2807 & \"\"\",\"\"\" & 'BX Language acquisition'!B2807 & \"\"\",\"\"\" & 'BX Language acquisition'!D2807 & \"\"\"\"","v":"\" \",\"\",\"\",\"\""}]
[{"$f":"\"\"\" \"& 'BX Language acquisition'!A2808 & \"\"\",\"\"\" & 'BX Language acquisition'!C2808 & \"\"\",\"\"\" & 'BX Language acquisition'!B2808 & \"\"\",\"\"\" & 'BX Language acquisition'!D2808 & \"\"\"\"","v":"\" \",\"\",\"\",\"\""}]
[{"$f":"\"\"\" \"& 'BX Language acquisition'!A2809 & \"\"\",\"\"\" & 'BX Language acquisition'!C2809 & \"\"\",\"\"\" & 'BX Language acquisition'!B2809 & \"\"\",\"\"\" & 'BX Language acquisition'!D2809 & \"\"\"\"","v":"\" \",\"\",\"\",\"\""}]
[{"$f":"\"\"\" \"& 'BX Language acquisition'!A2810 & \"\"\",\"\"\" & 'BX Language acquisition'!C2810 & \"\"\",\"\"\" & 'BX Language acquisition'!B2810 & \"\"\",\"\"\" & 'BX Language acquisition'!D2810 & \"\"\"\"","v":"\" \",\"\",\"\",\"\""}]
[{"$f":"\"\"\" \"& 'BX Language acquisition'!A2811 & \"\"\",\"\"\" & 'BX Language acquisition'!C2811 & \"\"\",\"\"\" & 'BX Language acquisition'!B2811 & \"\"\",\"\"\" & 'BX Language acquisition'!D2811 & \"\"\"\"","v":"\" \",\"\",\"\",\"\""}]
[{"$f":"\"\"\" \"& 'BX Language acquisition'!A2812 & \"\"\",\"\"\" & 'BX Language acquisition'!C2812 & \"\"\",\"\"\" & 'BX Language acquisition'!B2812 & \"\"\",\"\"\" & 'BX Language acquisition'!D2812 & \"\"\"\"","v":"\" \",\"\",\"\",\"\""}]
[{"$f":"\"\"\" \"& 'BX Language acquisition'!A2813 & \"\"\",\"\"\" & 'BX Language acquisition'!C2813 & \"\"\",\"\"\" & 'BX Language acquisition'!B2813 & \"\"\",\"\"\" & 'BX Language acquisition'!D2813 & \"\"\"\"","v":"\" \",\"\",\"\",\"\""}]
[{"$f":"\"\"\" \"& 'BX Language acquisition'!A2814 & \"\"\",\"\"\" & 'BX Language acquisition'!C2814 & \"\"\",\"\"\" & 'BX Language acquisition'!B2814 & \"\"\",\"\"\" & 'BX Language acquisition'!D2814 & \"\"\"\"","v":"\" \",\"\",\"\",\"\""}]
[{"$f":"\"\"\" \"& 'BX Language acquisition'!A2815 & \"\"\",\"\"\" & 'BX Language acquisition'!C2815 & \"\"\",\"\"\" & 'BX Language acquisition'!B2815 & \"\"\",\"\"\" & 'BX Language acquisition'!D2815 & \"\"\"\"","v":"\" \",\"\",\"\",\"\""}]
[{"$f":"\"\"\" \"& 'BX Language acquisition'!A2816 & \"\"\",\"\"\" & 'BX Language acquisition'!C2816 & \"\"\",\"\"\" & 'BX Language acquisition'!B2816 & \"\"\",\"\"\" & 'BX Language acquisition'!D2816 & \"\"\"\"","v":"\" \",\"\",\"\",\"\""}]
[{"$f":"\"\"\" \"& 'BX Language acquisition'!A2817 & \"\"\",\"\"\" & 'BX Language acquisition'!C2817 & \"\"\",\"\"\" & 'BX Language acquisition'!B2817 & \"\"\",\"\"\" & 'BX Language acquisition'!D2817 & \"\"\"\"","v":"\" \",\"\",\"\",\"\""}]
[{"$f":"\"\"\" \"& 'BX Language acquisition'!A2818 & \"\"\",\"\"\" & 'BX Language acquisition'!C2818 & \"\"\",\"\"\" & 'BX Language acquisition'!B2818 & \"\"\",\"\"\" & 'BX Language acquisition'!D2818 & \"\"\"\"","v":"\" \",\"\",\"\",\"\""}]
[{"$f":"\"\"\" \"& 'BX Language acquisition'!A2819 & \"\"\",\"\"\" & 'BX Language acquisition'!C2819 & \"\"\",\"\"\" & 'BX Language acquisition'!B2819 & \"\"\",\"\"\" & 'BX Language acquisition'!D2819 & \"\"\"\"","v":"\" \",\"\",\"\",\"\""}]
[{"$f":"\"\"\" \"& 'BX Language acquisition'!A2820 & \"\"\",\"\"\" & 'BX Language acquisition'!C2820 & \"\"\",\"\"\" & 'BX Language acquisition'!B2820 & \"\"\",\"\"\" & 'BX Language acquisition'!D2820 & \"\"\"\"","v":"\" \",\"\",\"\",\"\""}]
[{"$f":"\"\"\" \"& 'BX Language acquisition'!A2821 & \"\"\",\"\"\" & 'BX Language acquisition'!C2821 & \"\"\",\"\"\" & 'BX Language acquisition'!B2821 & \"\"\",\"\"\" & 'BX Language acquisition'!D2821 & \"\"\"\"","v":"\" \",\"\",\"\",\"\""}]
[{"$f":"\"\"\" \"& 'BX Language acquisition'!A2822 & \"\"\",\"\"\" & 'BX Language acquisition'!C2822 & \"\"\",\"\"\" & 'BX Language acquisition'!B2822 & \"\"\",\"\"\" & 'BX Language acquisition'!D2822 & \"\"\"\"","v":"\" \",\"\",\"\",\"\""}]
[{"$f":"\"\"\" \"& 'BX Language acquisition'!A2823 & \"\"\",\"\"\" & 'BX Language acquisition'!C2823 & \"\"\",\"\"\" & 'BX Language acquisition'!B2823 & \"\"\",\"\"\" & 'BX Language acquisition'!D2823 & \"\"\"\"","v":"\" \",\"\",\"\",\"\""}]
[{"$f":"\"\"\" \"& 'BX Language acquisition'!A2824 & \"\"\",\"\"\" & 'BX Language acquisition'!C2824 & \"\"\",\"\"\" & 'BX Language acquisition'!B2824 & \"\"\",\"\"\" & 'BX Language acquisition'!D2824 & \"\"\"\"","v":"\" \",\"\",\"\",\"\""}]
[{"$f":"\"\"\" \"& 'BX Language acquisition'!A2825 & \"\"\",\"\"\" & 'BX Language acquisition'!C2825 & \"\"\",\"\"\" & 'BX Language acquisition'!B2825 & \"\"\",\"\"\" & 'BX Language acquisition'!D2825 & \"\"\"\"","v":"\" \",\"\",\"\",\"\""}]
[{"$f":"\"\"\" \"& 'BX Language acquisition'!A2826 & \"\"\",\"\"\" & 'BX Language acquisition'!C2826 & \"\"\",\"\"\" & 'BX Language acquisition'!B2826 & \"\"\",\"\"\" & 'BX Language acquisition'!D2826 & \"\"\"\"","v":"\" \",\"\",\"\",\"\""}]
[{"$f":"\"\"\" \"& 'BX Language acquisition'!A2827 & \"\"\",\"\"\" & 'BX Language acquisition'!C2827 & \"\"\",\"\"\" & 'BX Language acquisition'!B2827 & \"\"\",\"\"\" & 'BX Language acquisition'!D2827 & \"\"\"\"","v":"\" \",\"\",\"\",\"\""}]
[{"$f":"\"\"\" \"& 'BX Language acquisition'!A2828 & \"\"\",\"\"\" & 'BX Language acquisition'!C2828 & \"\"\",\"\"\" & 'BX Language acquisition'!B2828 & \"\"\",\"\"\" & 'BX Language acquisition'!D2828 & \"\"\"\"","v":"\" \",\"\",\"\",\"\""}]
[{"$f":"\"\"\" \"& 'BX Language acquisition'!A2829 & \"\"\",\"\"\" & 'BX Language acquisition'!C2829 & \"\"\",\"\"\" & 'BX Language acquisition'!B2829 & \"\"\",\"\"\" & 'BX Language acquisition'!D2829 & \"\"\"\"","v":"\" \",\"\",\"\",\"\""}]
[{"$f":"\"\"\" \"& 'BX Language acquisition'!A2830 & \"\"\",\"\"\" & 'BX Language acquisition'!C2830 & \"\"\",\"\"\" & 'BX Language acquisition'!B2830 & \"\"\",\"\"\" & 'BX Language acquisition'!D2830 & \"\"\"\"","v":"\" \",\"\",\"\",\"\""}]
[{"$f":"\"\"\" \"& 'BX Language acquisition'!A2831 & \"\"\",\"\"\" & 'BX Language acquisition'!C2831 & \"\"\",\"\"\" & 'BX Language acquisition'!B2831 & \"\"\",\"\"\" & 'BX Language acquisition'!D2831 & \"\"\"\"","v":"\" \",\"\",\"\",\"\""}]
[{"$f":"\"\"\" \"& 'BX Language acquisition'!A2832 & \"\"\",\"\"\" & 'BX Language acquisition'!C2832 & \"\"\",\"\"\" & 'BX Language acquisition'!B2832 & \"\"\",\"\"\" & 'BX Language acquisition'!D2832 & \"\"\"\"","v":"\" \",\"\",\"\",\"\""}]
[{"$f":"\"\"\" \"& 'BX Language acquisition'!A2833 & \"\"\",\"\"\" & 'BX Language acquisition'!C2833 & \"\"\",\"\"\" & 'BX Language acquisition'!B2833 & \"\"\",\"\"\" & 'BX Language acquisition'!D2833 & \"\"\"\"","v":"\" \",\"\",\"\",\"\""}]
[{"$f":"\"\"\" \"& 'BX Language acquisition'!A2834 & \"\"\",\"\"\" & 'BX Language acquisition'!C2834 & \"\"\",\"\"\" & 'BX Language acquisition'!B2834 & \"\"\",\"\"\" & 'BX Language acquisition'!D2834 & \"\"\"\"","v":"\" \",\"\",\"\",\"\""}]
[{"$f":"\"\"\" \"& 'BX Language acquisition'!A2835 & \"\"\",\"\"\" & 'BX Language acquisition'!C2835 & \"\"\",\"\"\" & 'BX Language acquisition'!B2835 & \"\"\",\"\"\" & 'BX Language acquisition'!D2835 & \"\"\"\"","v":"\" \",\"\",\"\",\"\""}]
[{"$f":"\"\"\" \"& 'BX Language acquisition'!A2836 & \"\"\",\"\"\" & 'BX Language acquisition'!C2836 & \"\"\",\"\"\" & 'BX Language acquisition'!B2836 & \"\"\",\"\"\" & 'BX Language acquisition'!D2836 & \"\"\"\"","v":"\" \",\"\",\"\",\"\""}]
[{"$f":"\"\"\" \"& 'BX Language acquisition'!A2837 & \"\"\",\"\"\" & 'BX Language acquisition'!C2837 & \"\"\",\"\"\" & 'BX Language acquisition'!B2837 & \"\"\",\"\"\" & 'BX Language acquisition'!D2837 & \"\"\"\"","v":"\" \",\"\",\"\",\"\""}]
[{"$f":"\"\"\" \"& 'BX Language acquisition'!A2838 & \"\"\",\"\"\" & 'BX Language acquisition'!C2838 & \"\"\",\"\"\" & 'BX Language acquisition'!B2838 & \"\"\",\"\"\" & 'BX Language acquisition'!D2838 & \"\"\"\"","v":"\" \",\"\",\"\",\"\""}]
[{"$f":"\"\"\" \"& 'BX Language acquisition'!A2839 & \"\"\",\"\"\" & 'BX Language acquisition'!C2839 & \"\"\",\"\"\" & 'BX Language acquisition'!B2839 & \"\"\",\"\"\" & 'BX Language acquisition'!D2839 & \"\"\"\"","v":"\" \",\"\",\"\",\"\""}]
[{"$f":"\"\"\" \"& 'BX Language acquisition'!A2840 & \"\"\",\"\"\" & 'BX Language acquisition'!C2840 & \"\"\",\"\"\" & 'BX Language acquisition'!B2840 & \"\"\",\"\"\" & 'BX Language acquisition'!D2840 & \"\"\"\"","v":"\" \",\"\",\"\",\"\""}]
[{"$f":"\"\"\" \"& 'BX Language acquisition'!A2841 & \"\"\",\"\"\" & 'BX Language acquisition'!C2841 & \"\"\",\"\"\" & 'BX Language acquisition'!B2841 & \"\"\",\"\"\" & 'BX Language acquisition'!D2841 & \"\"\"\"","v":"\" \",\"\",\"\",\"\""}]
[{"$f":"\"\"\" \"& 'BX Language acquisition'!A2842 & \"\"\",\"\"\" & 'BX Language acquisition'!C2842 & \"\"\",\"\"\" & 'BX Language acquisition'!B2842 & \"\"\",\"\"\" & 'BX Language acquisition'!D2842 & \"\"\"\"","v":"\" \",\"\",\"\",\"\""}]
[{"$f":"\"\"\" \"& 'BX Language acquisition'!A2843 & \"\"\",\"\"\" & 'BX Language acquisition'!C2843 & \"\"\",\"\"\" & 'BX Language acquisition'!B2843 & \"\"\",\"\"\" & 'BX Language acquisition'!D2843 & \"\"\"\"","v":"\" \",\"\",\"\",\"\""}]
[{"$f":"\"\"\" \"& 'BX Language acquisition'!A2844 & \"\"\",\"\"\" & 'BX Language acquisition'!C2844 & \"\"\",\"\"\" & 'BX Language acquisition'!B2844 & \"\"\",\"\"\" & 'BX Language acquisition'!D2844 & \"\"\"\"","v":"\" \",\"\",\"\",\"\""}]
[{"$f":"\"\"\" \"& 'BX Language acquisition'!A2845 & \"\"\",\"\"\" & 'BX Language acquisition'!C2845 & \"\"\",\"\"\" & 'BX Language acquisition'!B2845 & \"\"\",\"\"\" & 'BX Language acquisition'!D2845 & \"\"\"\"","v":"\" \",\"\",\"\",\"\""}]
[{"$f":"\"\"\" \"& 'BX Language acquisition'!A2846 & \"\"\",\"\"\" & 'BX Language acquisition'!C2846 & \"\"\",\"\"\" & 'BX Language acquisition'!B2846 & \"\"\",\"\"\" & 'BX Language acquisition'!D2846 & \"\"\"\"","v":"\" \",\"\",\"\",\"\""}]
[{"$f":"\"\"\" \"& 'BX Language acquisition'!A2847 & \"\"\",\"\"\" & 'BX Language acquisition'!C2847 & \"\"\",\"\"\" & 'BX Language acquisition'!B2847 & \"\"\",\"\"\" & 'BX Language acquisition'!D2847 & \"\"\"\"","v":"\" \",\"\",\"\",\"\""}]
[{"$f":"\"\"\" \"& 'BX Language acquisition'!A2848 & \"\"\",\"\"\" & 'BX Language acquisition'!C2848 & \"\"\",\"\"\" & 'BX Language acquisition'!B2848 & \"\"\",\"\"\" & 'BX Language acquisition'!D2848 & \"\"\"\"","v":"\" \",\"\",\"\",\"\""}]
[{"$f":"\"\"\" \"& 'BX Language acquisition'!A2849 & \"\"\",\"\"\" & 'BX Language acquisition'!C2849 & \"\"\",\"\"\" & 'BX Language acquisition'!B2849 & \"\"\",\"\"\" & 'BX Language acquisition'!D2849 & \"\"\"\"","v":"\" \",\"\",\"\",\"\""}]
[{"$f":"\"\"\" \"& 'BX Language acquisition'!A2850 & \"\"\",\"\"\" & 'BX Language acquisition'!C2850 & \"\"\",\"\"\" & 'BX Language acquisition'!B2850 & \"\"\",\"\"\" & 'BX Language acquisition'!D2850 & \"\"\"\"","v":"\" \",\"\",\"\",\"\""}]
[{"$f":"\"\"\" \"& 'BX Language acquisition'!A2851 & \"\"\",\"\"\" & 'BX Language acquisition'!C2851 & \"\"\",\"\"\" & 'BX Language acquisition'!B2851 & \"\"\",\"\"\" & 'BX Language acquisition'!D2851 & \"\"\"\"","v":"\" \",\"\",\"\",\"\""}]
[{"$f":"\"\"\" \"& 'BX Language acquisition'!A2852 & \"\"\",\"\"\" & 'BX Language acquisition'!C2852 & \"\"\",\"\"\" & 'BX Language acquisition'!B2852 & \"\"\",\"\"\" & 'BX Language acquisition'!D2852 & \"\"\"\"","v":"\" \",\"\",\"\",\"\""}]
[{"$f":"\"\"\" \"& 'BX Language acquisition'!A2853 & \"\"\",\"\"\" & 'BX Language acquisition'!C2853 & \"\"\",\"\"\" & 'BX Language acquisition'!B2853 & \"\"\",\"\"\" & 'BX Language acquisition'!D2853 & \"\"\"\"","v":"\" \",\"\",\"\",\"\""}]
[{"$f":"\"\"\" \"& 'BX Language acquisition'!A2854 & \"\"\",\"\"\" & 'BX Language acquisition'!C2854 & \"\"\",\"\"\" & 'BX Language acquisition'!B2854 & \"\"\",\"\"\" & 'BX Language acquisition'!D2854 & \"\"\"\"","v":"\" \",\"\",\"\",\"\""}]
[{"$f":"\"\"\" \"& 'BX Language acquisition'!A2855 & \"\"\",\"\"\" & 'BX Language acquisition'!C2855 & \"\"\",\"\"\" & 'BX Language acquisition'!B2855 & \"\"\",\"\"\" & 'BX Language acquisition'!D2855 & \"\"\"\"","v":"\" \",\"\",\"\",\"\""}]
[{"$f":"\"\"\" \"& 'BX Language acquisition'!A2856 & \"\"\",\"\"\" & 'BX Language acquisition'!C2856 & \"\"\",\"\"\" & 'BX Language acquisition'!B2856 & \"\"\",\"\"\" & 'BX Language acquisition'!D2856 & \"\"\"\"","v":"\" \",\"\",\"\",\"\""}]
[{"$f":"\"\"\" \"& 'BX Language acquisition'!A2857 & \"\"\",\"\"\" & 'BX Language acquisition'!C2857 & \"\"\",\"\"\" & 'BX Language acquisition'!B2857 & \"\"\",\"\"\" & 'BX Language acquisition'!D2857 & \"\"\"\"","v":"\" \",\"\",\"\",\"\""}]
[{"$f":"\"\"\" \"& 'BX Language acquisition'!A2858 & \"\"\",\"\"\" & 'BX Language acquisition'!C2858 & \"\"\",\"\"\" & 'BX Language acquisition'!B2858 & \"\"\",\"\"\" & 'BX Language acquisition'!D2858 & \"\"\"\"","v":"\" \",\"\",\"\",\"\""}]
[{"$f":"\"\"\" \"& 'BX Language acquisition'!A2859 & \"\"\",\"\"\" & 'BX Language acquisition'!C2859 & \"\"\",\"\"\" & 'BX Language acquisition'!B2859 & \"\"\",\"\"\" & 'BX Language acquisition'!D2859 & \"\"\"\"","v":"\" \",\"\",\"\",\"\""}]
[{"$f":"\"\"\" \"& 'BX Language acquisition'!A2860 & \"\"\",\"\"\" & 'BX Language acquisition'!C2860 & \"\"\",\"\"\" & 'BX Language acquisition'!B2860 & \"\"\",\"\"\" & 'BX Language acquisition'!D2860 & \"\"\"\"","v":"\" \",\"\",\"\",\"\""}]
[{"$f":"\"\"\" \"& 'BX Language acquisition'!A2861 & \"\"\",\"\"\" & 'BX Language acquisition'!C2861 & \"\"\",\"\"\" & 'BX Language acquisition'!B2861 & \"\"\",\"\"\" & 'BX Language acquisition'!D2861 & \"\"\"\"","v":"\" \",\"\",\"\",\"\""}]
[{"$f":"\"\"\" \"& 'BX Language acquisition'!A2862 & \"\"\",\"\"\" & 'BX Language acquisition'!C2862 & \"\"\",\"\"\" & 'BX Language acquisition'!B2862 & \"\"\",\"\"\" & 'BX Language acquisition'!D2862 & \"\"\"\"","v":"\" \",\"\",\"\",\"\""}]
[{"$f":"\"\"\" \"& 'BX Language acquisition'!A2863 & \"\"\",\"\"\" & 'BX Language acquisition'!C2863 & \"\"\",\"\"\" & 'BX Language acquisition'!B2863 & \"\"\",\"\"\" & 'BX Language acquisition'!D2863 & \"\"\"\"","v":"\" \",\"\",\"\",\"\""}]
[{"$f":"\"\"\" \"& 'BX Language acquisition'!A2864 & \"\"\",\"\"\" & 'BX Language acquisition'!C2864 & \"\"\",\"\"\" & 'BX Language acquisition'!B2864 & \"\"\",\"\"\" & 'BX Language acquisition'!D2864 & \"\"\"\"","v":"\" \",\"\",\"\",\"\""}]
[{"$f":"\"\"\" \"& 'BX Language acquisition'!A2865 & \"\"\",\"\"\" & 'BX Language acquisition'!C2865 & \"\"\",\"\"\" & 'BX Language acquisition'!B2865 & \"\"\",\"\"\" & 'BX Language acquisition'!D2865 & \"\"\"\"","v":"\" \",\"\",\"\",\"\""}]
[{"$f":"\"\"\" \"& 'BX Language acquisition'!A2866 & \"\"\",\"\"\" & 'BX Language acquisition'!C2866 & \"\"\",\"\"\" & 'BX Language acquisition'!B2866 & \"\"\",\"\"\" & 'BX Language acquisition'!D2866 & \"\"\"\"","v":"\" \",\"\",\"\",\"\""}]
[{"$f":"\"\"\" \"& 'BX Language acquisition'!A2867 & \"\"\",\"\"\" & 'BX Language acquisition'!C2867 & \"\"\",\"\"\" & 'BX Language acquisition'!B2867 & \"\"\",\"\"\" & 'BX Language acquisition'!D2867 & \"\"\"\"","v":"\" \",\"\",\"\",\"\""}]
[{"$f":"\"\"\" \"& 'BX Language acquisition'!A2868 & \"\"\",\"\"\" & 'BX Language acquisition'!C2868 & \"\"\",\"\"\" & 'BX Language acquisition'!B2868 & \"\"\",\"\"\" & 'BX Language acquisition'!D2868 & \"\"\"\"","v":"\" \",\"\",\"\",\"\""}]
[{"$f":"\"\"\" \"& 'BX Language acquisition'!A2869 & \"\"\",\"\"\" & 'BX Language acquisition'!C2869 & \"\"\",\"\"\" & 'BX Language acquisition'!B2869 & \"\"\",\"\"\" & 'BX Language acquisition'!D2869 & \"\"\"\"","v":"\" \",\"\",\"\",\"\""}]
[{"$f":"\"\"\" \"& 'BX Language acquisition'!A2870 & \"\"\",\"\"\" & 'BX Language acquisition'!C2870 & \"\"\",\"\"\" & 'BX Language acquisition'!B2870 & \"\"\",\"\"\" & 'BX Language acquisition'!D2870 & \"\"\"\"","v":"\" \",\"\",\"\",\"\""}]
[{"$f":"\"\"\" \"& 'BX Language acquisition'!A2871 & \"\"\",\"\"\" & 'BX Language acquisition'!C2871 & \"\"\",\"\"\" & 'BX Language acquisition'!B2871 & \"\"\",\"\"\" & 'BX Language acquisition'!D2871 & \"\"\"\"","v":"\" \",\"\",\"\",\"\""}]
[{"$f":"\"\"\" \"& 'BX Language acquisition'!A2872 & \"\"\",\"\"\" & 'BX Language acquisition'!C2872 & \"\"\",\"\"\" & 'BX Language acquisition'!B2872 & \"\"\",\"\"\" & 'BX Language acquisition'!D2872 & \"\"\"\"","v":"\" \",\"\",\"\",\"\""}]
[{"$f":"\"\"\" \"& 'BX Language acquisition'!A2873 & \"\"\",\"\"\" & 'BX Language acquisition'!C2873 & \"\"\",\"\"\" & 'BX Language acquisition'!B2873 & \"\"\",\"\"\" & 'BX Language acquisition'!D2873 & \"\"\"\"","v":"\" \",\"\",\"\",\"\""}]
[{"$f":"\"\"\" \"& 'BX Language acquisition'!A2874 & \"\"\",\"\"\" & 'BX Language acquisition'!C2874 & \"\"\",\"\"\" & 'BX Language acquisition'!B2874 & \"\"\",\"\"\" & 'BX Language acquisition'!D2874 & \"\"\"\"","v":"\" \",\"\",\"\",\"\""}]
[{"$f":"\"\"\" \"& 'BX Language acquisition'!A2875 & \"\"\",\"\"\" & 'BX Language acquisition'!C2875 & \"\"\",\"\"\" & 'BX Language acquisition'!B2875 & \"\"\",\"\"\" & 'BX Language acquisition'!D2875 & \"\"\"\"","v":"\" \",\"\",\"\",\"\""}]
[{"$f":"\"\"\" \"& 'BX Language acquisition'!A2876 & \"\"\",\"\"\" & 'BX Language acquisition'!C2876 & \"\"\",\"\"\" & 'BX Language acquisition'!B2876 & \"\"\",\"\"\" & 'BX Language acquisition'!D2876 & \"\"\"\"","v":"\" \",\"\",\"\",\"\""}]
[{"$f":"\"\"\" \"& 'BX Language acquisition'!A2877 & \"\"\",\"\"\" & 'BX Language acquisition'!C2877 & \"\"\",\"\"\" & 'BX Language acquisition'!B2877 & \"\"\",\"\"\" & 'BX Language acquisition'!D2877 & \"\"\"\"","v":"\" \",\"\",\"\",\"\""}]
[{"$f":"\"\"\" \"& 'BX Language acquisition'!A2878 & \"\"\",\"\"\" & 'BX Language acquisition'!C2878 & \"\"\",\"\"\" & 'BX Language acquisition'!B2878 & \"\"\",\"\"\" & 'BX Language acquisition'!D2878 & \"\"\"\"","v":"\" \",\"\",\"\",\"\""}]
[{"$f":"\"\"\" \"& 'BX Language acquisition'!A2879 & \"\"\",\"\"\" & 'BX Language acquisition'!C2879 & \"\"\",\"\"\" & 'BX Language acquisition'!B2879 & \"\"\",\"\"\" & 'BX Language acquisition'!D2879 & \"\"\"\"","v":"\" \",\"\",\"\",\"\""}]
[{"$f":"\"\"\" \"& 'BX Language acquisition'!A2880 & \"\"\",\"\"\" & 'BX Language acquisition'!C2880 & \"\"\",\"\"\" & 'BX Language acquisition'!B2880 & \"\"\",\"\"\" & 'BX Language acquisition'!D2880 & \"\"\"\"","v":"\" \",\"\",\"\",\"\""}]
[{"$f":"\"\"\" \"& 'BX Language acquisition'!A2881 & \"\"\",\"\"\" & 'BX Language acquisition'!C2881 & \"\"\",\"\"\" & 'BX Language acquisition'!B2881 & \"\"\",\"\"\" & 'BX Language acquisition'!D2881 & \"\"\"\"","v":"\" \",\"\",\"\",\"\""}]
[{"$f":"\"\"\" \"& 'BX Language acquisition'!A2882 & \"\"\",\"\"\" & 'BX Language acquisition'!C2882 & \"\"\",\"\"\" & 'BX Language acquisition'!B2882 & \"\"\",\"\"\" & 'BX Language acquisition'!D2882 & \"\"\"\"","v":"\" \",\"\",\"\",\"\""}]
[{"$f":"\"\"\" \"& 'BX Language acquisition'!A2883 & \"\"\",\"\"\" & 'BX Language acquisition'!C2883 & \"\"\",\"\"\" & 'BX Language acquisition'!B2883 & \"\"\",\"\"\" & 'BX Language acquisition'!D2883 & \"\"\"\"","v":"\" \",\"\",\"\",\"\""}]
[{"$f":"\"\"\" \"& 'BX Language acquisition'!A2884 & \"\"\",\"\"\" & 'BX Language acquisition'!C2884 & \"\"\",\"\"\" & 'BX Language acquisition'!B2884 & \"\"\",\"\"\" & 'BX Language acquisition'!D2884 & \"\"\"\"","v":"\" \",\"\",\"\",\"\""}]
[{"$f":"\"\"\" \"& 'BX Language acquisition'!A2885 & \"\"\",\"\"\" & 'BX Language acquisition'!C2885 & \"\"\",\"\"\" & 'BX Language acquisition'!B2885 & \"\"\",\"\"\" & 'BX Language acquisition'!D2885 & \"\"\"\"","v":"\" \",\"\",\"\",\"\""}]
[{"$f":"\"\"\" \"& 'BX Language acquisition'!A2886 & \"\"\",\"\"\" & 'BX Language acquisition'!C2886 & \"\"\",\"\"\" & 'BX Language acquisition'!B2886 & \"\"\",\"\"\" & 'BX Language acquisition'!D2886 & \"\"\"\"","v":"\" \",\"\",\"\",\"\""}]
[{"$f":"\"\"\" \"& 'BX Language acquisition'!A2887 & \"\"\",\"\"\" & 'BX Language acquisition'!C2887 & \"\"\",\"\"\" & 'BX Language acquisition'!B2887 & \"\"\",\"\"\" & 'BX Language acquisition'!D2887 & \"\"\"\"","v":"\" \",\"\",\"\",\"\""}]
[{"$f":"\"\"\" \"& 'BX Language acquisition'!A2888 & \"\"\",\"\"\" & 'BX Language acquisition'!C2888 & \"\"\",\"\"\" & 'BX Language acquisition'!B2888 & \"\"\",\"\"\" & 'BX Language acquisition'!D2888 & \"\"\"\"","v":"\" \",\"\",\"\",\"\""}]
[{"$f":"\"\"\" \"& 'BX Language acquisition'!A2889 & \"\"\",\"\"\" & 'BX Language acquisition'!C2889 & \"\"\",\"\"\" & 'BX Language acquisition'!B2889 & \"\"\",\"\"\" & 'BX Language acquisition'!D2889 & \"\"\"\"","v":"\" \",\"\",\"\",\"\""}]
[{"$f":"\"\"\" \"& 'BX Language acquisition'!A2890 & \"\"\",\"\"\" & 'BX Language acquisition'!C2890 & \"\"\",\"\"\" & 'BX Language acquisition'!B2890 & \"\"\",\"\"\" & 'BX Language acquisition'!D2890 & \"\"\"\"","v":"\" \",\"\",\"\",\"\""}]
[{"$f":"\"\"\" \"& 'BX Language acquisition'!A2891 & \"\"\",\"\"\" & 'BX Language acquisition'!C2891 & \"\"\",\"\"\" & 'BX Language acquisition'!B2891 & \"\"\",\"\"\" & 'BX Language acquisition'!D2891 & \"\"\"\"","v":"\" \",\"\",\"\",\"\""}]
[{"$f":"\"\"\" \"& 'BX Language acquisition'!A2892 & \"\"\",\"\"\" & 'BX Language acquisition'!C2892 & \"\"\",\"\"\" & 'BX Language acquisition'!B2892 & \"\"\",\"\"\" & 'BX Language acquisition'!D2892 & \"\"\"\"","v":"\" \",\"\",\"\",\"\""}]
[{"$f":"\"\"\" \"& 'BX Language acquisition'!A2893 & \"\"\",\"\"\" & 'BX Language acquisition'!C2893 & \"\"\",\"\"\" & 'BX Language acquisition'!B2893 & \"\"\",\"\"\" & 'BX Language acquisition'!D2893 & \"\"\"\"","v":"\" \",\"\",\"\",\"\""}]
[{"$f":"\"\"\" \"& 'BX Language acquisition'!A2894 & \"\"\",\"\"\" & 'BX Language acquisition'!C2894 & \"\"\",\"\"\" & 'BX Language acquisition'!B2894 & \"\"\",\"\"\" & 'BX Language acquisition'!D2894 & \"\"\"\"","v":"\" \",\"\",\"\",\"\""}]
[{"$f":"\"\"\" \"& 'BX Language acquisition'!A2895 & \"\"\",\"\"\" & 'BX Language acquisition'!C2895 & \"\"\",\"\"\" & 'BX Language acquisition'!B2895 & \"\"\",\"\"\" & 'BX Language acquisition'!D2895 & \"\"\"\"","v":"\" \",\"\",\"\",\"\""}]
[{"$f":"\"\"\" \"& 'BX Language acquisition'!A2896 & \"\"\",\"\"\" & 'BX Language acquisition'!C2896 & \"\"\",\"\"\" & 'BX Language acquisition'!B2896 & \"\"\",\"\"\" & 'BX Language acquisition'!D2896 & \"\"\"\"","v":"\" \",\"\",\"\",\"\""}]
[{"$f":"\"\"\" \"& 'BX Language acquisition'!A2897 & \"\"\",\"\"\" & 'BX Language acquisition'!C2897 & \"\"\",\"\"\" & 'BX Language acquisition'!B2897 & \"\"\",\"\"\" & 'BX Language acquisition'!D2897 & \"\"\"\"","v":"\" \",\"\",\"\",\"\""}]
[{"$f":"\"\"\" \"& 'BX Language acquisition'!A2898 & \"\"\",\"\"\" & 'BX Language acquisition'!C2898 & \"\"\",\"\"\" & 'BX Language acquisition'!B2898 & \"\"\",\"\"\" & 'BX Language acquisition'!D2898 & \"\"\"\"","v":"\" \",\"\",\"\",\"\""}]
[{"$f":"\"\"\" \"& 'BX Language acquisition'!A2899 & \"\"\",\"\"\" & 'BX Language acquisition'!C2899 & \"\"\",\"\"\" & 'BX Language acquisition'!B2899 & \"\"\",\"\"\" & 'BX Language acquisition'!D2899 & \"\"\"\"","v":"\" \",\"\",\"\",\"\""}]
[{"$f":"\"\"\" \"& 'BX Language acquisition'!A2900 & \"\"\",\"\"\" & 'BX Language acquisition'!C2900 & \"\"\",\"\"\" & 'BX Language acquisition'!B2900 & \"\"\",\"\"\" & 'BX Language acquisition'!D2900 & \"\"\"\"","v":"\" \",\"\",\"\",\"\""}]
[{"$f":"\"\"\" \"& 'BX Language acquisition'!A2901 & \"\"\",\"\"\" & 'BX Language acquisition'!C2901 & \"\"\",\"\"\" & 'BX Language acquisition'!B2901 & \"\"\",\"\"\" & 'BX Language acquisition'!D2901 & \"\"\"\"","v":"\" \",\"\",\"\",\"\""}]
[{"$f":"\"\"\" \"& 'BX Language acquisition'!A2902 & \"\"\",\"\"\" & 'BX Language acquisition'!C2902 & \"\"\",\"\"\" & 'BX Language acquisition'!B2902 & \"\"\",\"\"\" & 'BX Language acquisition'!D2902 & \"\"\"\"","v":"\" \",\"\",\"\",\"\""}]
[{"$f":"\"\"\" \"& 'BX Language acquisition'!A2903 & \"\"\",\"\"\" & 'BX Language acquisition'!C2903 & \"\"\",\"\"\" & 'BX Language acquisition'!B2903 & \"\"\",\"\"\" & 'BX Language acquisition'!D2903 & \"\"\"\"","v":"\" \",\"\",\"\",\"\""}]
[{"$f":"\"\"\" \"& 'BX Language acquisition'!A2904 & \"\"\",\"\"\" & 'BX Language acquisition'!C2904 & \"\"\",\"\"\" & 'BX Language acquisition'!B2904 & \"\"\",\"\"\" & 'BX Language acquisition'!D2904 & \"\"\"\"","v":"\" \",\"\",\"\",\"\""}]
[{"$f":"\"\"\" \"& 'BX Language acquisition'!A2905 & \"\"\",\"\"\" & 'BX Language acquisition'!C2905 & \"\"\",\"\"\" & 'BX Language acquisition'!B2905 & \"\"\",\"\"\" & 'BX Language acquisition'!D2905 & \"\"\"\"","v":"\" \",\"\",\"\",\"\""}]
[{"$f":"\"\"\" \"& 'BX Language acquisition'!A2906 & \"\"\",\"\"\" & 'BX Language acquisition'!C2906 & \"\"\",\"\"\" & 'BX Language acquisition'!B2906 & \"\"\",\"\"\" & 'BX Language acquisition'!D2906 & \"\"\"\"","v":"\" \",\"\",\"\",\"\""}]
[{"$f":"\"\"\" \"& 'BX Language acquisition'!A2907 & \"\"\",\"\"\" & 'BX Language acquisition'!C2907 & \"\"\",\"\"\" & 'BX Language acquisition'!B2907 & \"\"\",\"\"\" & 'BX Language acquisition'!D2907 & \"\"\"\"","v":"\" \",\"\",\"\",\"\""}]
[{"$f":"\"\"\" \"& 'BX Language acquisition'!A2908 & \"\"\",\"\"\" & 'BX Language acquisition'!C2908 & \"\"\",\"\"\" & 'BX Language acquisition'!B2908 & \"\"\",\"\"\" & 'BX Language acquisition'!D2908 & \"\"\"\"","v":"\" \",\"\",\"\",\"\""}]
[{"$f":"\"\"\" \"& 'BX Language acquisition'!A2909 & \"\"\",\"\"\" & 'BX Language acquisition'!C2909 & \"\"\",\"\"\" & 'BX Language acquisition'!B2909 & \"\"\",\"\"\" & 'BX Language acquisition'!D2909 & \"\"\"\"","v":"\" \",\"\",\"\",\"\""}]
[{"$f":"\"\"\" \"& 'BX Language acquisition'!A2910 & \"\"\",\"\"\" & 'BX Language acquisition'!C2910 & \"\"\",\"\"\" & 'BX Language acquisition'!B2910 & \"\"\",\"\"\" & 'BX Language acquisition'!D2910 & \"\"\"\"","v":"\" \",\"\",\"\",\"\""}]
[{"$f":"\"\"\" \"& 'BX Language acquisition'!A2911 & \"\"\",\"\"\" & 'BX Language acquisition'!C2911 & \"\"\",\"\"\" & 'BX Language acquisition'!B2911 & \"\"\",\"\"\" & 'BX Language acquisition'!D2911 & \"\"\"\"","v":"\" \",\"\",\"\",\"\""}]
[{"$f":"\"\"\" \"& 'BX Language acquisition'!A2912 & \"\"\",\"\"\" & 'BX Language acquisition'!C2912 & \"\"\",\"\"\" & 'BX Language acquisition'!B2912 & \"\"\",\"\"\" & 'BX Language acquisition'!D2912 & \"\"\"\"","v":"\" \",\"\",\"\",\"\""}]
[{"$f":"\"\"\" \"& 'BX Language acquisition'!A2913 & \"\"\",\"\"\" & 'BX Language acquisition'!C2913 & \"\"\",\"\"\" & 'BX Language acquisition'!B2913 & \"\"\",\"\"\" & 'BX Language acquisition'!D2913 & \"\"\"\"","v":"\" \",\"\",\"\",\"\""}]
[{"$f":"\"\"\" \"& 'BX Language acquisition'!A2914 & \"\"\",\"\"\" & 'BX Language acquisition'!C2914 & \"\"\",\"\"\" & 'BX Language acquisition'!B2914 & \"\"\",\"\"\" & 'BX Language acquisition'!D2914 & \"\"\"\"","v":"\" \",\"\",\"\",\"\""}]
[{"$f":"\"\"\" \"& 'BX Language acquisition'!A2915 & \"\"\",\"\"\" & 'BX Language acquisition'!C2915 & \"\"\",\"\"\" & 'BX Language acquisition'!B2915 & \"\"\",\"\"\" & 'BX Language acquisition'!D2915 & \"\"\"\"","v":"\" \",\"\",\"\",\"\""}]
[{"$f":"\"\"\" \"& 'BX Language acquisition'!A2916 & \"\"\",\"\"\" & 'BX Language acquisition'!C2916 & \"\"\",\"\"\" & 'BX Language acquisition'!B2916 & \"\"\",\"\"\" & 'BX Language acquisition'!D2916 & \"\"\"\"","v":"\" \",\"\",\"\",\"\""}]
[{"$f":"\"\"\" \"& 'BX Language acquisition'!A2917 & \"\"\",\"\"\" & 'BX Language acquisition'!C2917 & \"\"\",\"\"\" & 'BX Language acquisition'!B2917 & \"\"\",\"\"\" & 'BX Language acquisition'!D2917 & \"\"\"\"","v":"\" \",\"\",\"\",\"\""}]
[{"$f":"\"\"\" \"& 'BX Language acquisition'!A2918 & \"\"\",\"\"\" & 'BX Language acquisition'!C2918 & \"\"\",\"\"\" & 'BX Language acquisition'!B2918 & \"\"\",\"\"\" & 'BX Language acquisition'!D2918 & \"\"\"\"","v":"\" \",\"\",\"\",\"\""}]
[{"$f":"\"\"\" \"& 'BX Language acquisition'!A2919 & \"\"\",\"\"\" & 'BX Language acquisition'!C2919 & \"\"\",\"\"\" & 'BX Language acquisition'!B2919 & \"\"\",\"\"\" & 'BX Language acquisition'!D2919 & \"\"\"\"","v":"\" \",\"\",\"\",\"\""}]
[{"$f":"\"\"\" \"& 'BX Language acquisition'!A2920 & \"\"\",\"\"\" & 'BX Language acquisition'!C2920 & \"\"\",\"\"\" & 'BX Language acquisition'!B2920 & \"\"\",\"\"\" & 'BX Language acquisition'!D2920 & \"\"\"\"","v":"\" \",\"\",\"\",\"\""}]
[{"$f":"\"\"\" \"& 'BX Language acquisition'!A2921 & \"\"\",\"\"\" & 'BX Language acquisition'!C2921 & \"\"\",\"\"\" & 'BX Language acquisition'!B2921 & \"\"\",\"\"\" & 'BX Language acquisition'!D2921 & \"\"\"\"","v":"\" \",\"\",\"\",\"\""}]
[{"$f":"\"\"\" \"& 'BX Language acquisition'!A2922 & \"\"\",\"\"\" & 'BX Language acquisition'!C2922 & \"\"\",\"\"\" & 'BX Language acquisition'!B2922 & \"\"\",\"\"\" & 'BX Language acquisition'!D2922 & \"\"\"\"","v":"\" \",\"\",\"\",\"\""}]
[{"$f":"\"\"\" \"& 'BX Language acquisition'!A2923 & \"\"\",\"\"\" & 'BX Language acquisition'!C2923 & \"\"\",\"\"\" & 'BX Language acquisition'!B2923 & \"\"\",\"\"\" & 'BX Language acquisition'!D2923 & \"\"\"\"","v":"\" \",\"\",\"\",\"\""}]
[{"$f":"\"\"\" \"& 'BX Language acquisition'!A2924 & \"\"\",\"\"\" & 'BX Language acquisition'!C2924 & \"\"\",\"\"\" & 'BX Language acquisition'!B2924 & \"\"\",\"\"\" & 'BX Language acquisition'!D2924 & \"\"\"\"","v":"\" \",\"\",\"\",\"\""}]
[{"$f":"\"\"\" \"& 'BX Language acquisition'!A2925 & \"\"\",\"\"\" & 'BX Language acquisition'!C2925 & \"\"\",\"\"\" & 'BX Language acquisition'!B2925 & \"\"\",\"\"\" & 'BX Language acquisition'!D2925 & \"\"\"\"","v":"\" \",\"\",\"\",\"\""}]
[{"$f":"\"\"\" \"& 'BX Language acquisition'!A2926 & \"\"\",\"\"\" & 'BX Language acquisition'!C2926 & \"\"\",\"\"\" & 'BX Language acquisition'!B2926 & \"\"\",\"\"\" & 'BX Language acquisition'!D2926 & \"\"\"\"","v":"\" \",\"\",\"\",\"\""}]
[{"$f":"\"\"\" \"& 'BX Language acquisition'!A2927 & \"\"\",\"\"\" & 'BX Language acquisition'!C2927 & \"\"\",\"\"\" & 'BX Language acquisition'!B2927 & \"\"\",\"\"\" & 'BX Language acquisition'!D2927 & \"\"\"\"","v":"\" \",\"\",\"\",\"\""}]
[{"$f":"\"\"\" \"& 'BX Language acquisition'!A2928 & \"\"\",\"\"\" & 'BX Language acquisition'!C2928 & \"\"\",\"\"\" & 'BX Language acquisition'!B2928 & \"\"\",\"\"\" & 'BX Language acquisition'!D2928 & \"\"\"\"","v":"\" \",\"\",\"\",\"\""}]
[{"$f":"\"\"\" \"& 'BX Language acquisition'!A2929 & \"\"\",\"\"\" & 'BX Language acquisition'!C2929 & \"\"\",\"\"\" & 'BX Language acquisition'!B2929 & \"\"\",\"\"\" & 'BX Language acquisition'!D2929 & \"\"\"\"","v":"\" \",\"\",\"\",\"\""}]
[{"$f":"\"\"\" \"& 'BX Language acquisition'!A2930 & \"\"\",\"\"\" & 'BX Language acquisition'!C2930 & \"\"\",\"\"\" & 'BX Language acquisition'!B2930 & \"\"\",\"\"\" & 'BX Language acquisition'!D2930 & \"\"\"\"","v":"\" \",\"\",\"\",\"\""}]
[{"$f":"\"\"\" \"& 'BX Language acquisition'!A2931 & \"\"\",\"\"\" & 'BX Language acquisition'!C2931 & \"\"\",\"\"\" & 'BX Language acquisition'!B2931 & \"\"\",\"\"\" & 'BX Language acquisition'!D2931 & \"\"\"\"","v":"\" \",\"\",\"\",\"\""}]
[{"$f":"\"\"\" \"& 'BX Language acquisition'!A2932 & \"\"\",\"\"\" & 'BX Language acquisition'!C2932 & \"\"\",\"\"\" & 'BX Language acquisition'!B2932 & \"\"\",\"\"\" & 'BX Language acquisition'!D2932 & \"\"\"\"","v":"\" \",\"\",\"\",\"\""}]
[{"$f":"\"\"\" \"& 'BX Language acquisition'!A2933 & \"\"\",\"\"\" & 'BX Language acquisition'!C2933 & \"\"\",\"\"\" & 'BX Language acquisition'!B2933 & \"\"\",\"\"\" & 'BX Language acquisition'!D2933 & \"\"\"\"","v":"\" \",\"\",\"\",\"\""}]
[{"$f":"\"\"\" \"& 'BX Language acquisition'!A2934 & \"\"\",\"\"\" & 'BX Language acquisition'!C2934 & \"\"\",\"\"\" & 'BX Language acquisition'!B2934 & \"\"\",\"\"\" & 'BX Language acquisition'!D2934 & \"\"\"\"","v":"\" \",\"\",\"\",\"\""}]
[{"$f":"\"\"\" \"& 'BX Language acquisition'!A2935 & \"\"\",\"\"\" & 'BX Language acquisition'!C2935 & \"\"\",\"\"\" & 'BX Language acquisition'!B2935 & \"\"\",\"\"\" & 'BX Language acquisition'!D2935 & \"\"\"\"","v":"\" \",\"\",\"\",\"\""}]
[{"$f":"\"\"\" \"& 'BX Language acquisition'!A2936 & \"\"\",\"\"\" & 'BX Language acquisition'!C2936 & \"\"\",\"\"\" & 'BX Language acquisition'!B2936 & \"\"\",\"\"\" & 'BX Language acquisition'!D2936 & \"\"\"\"","v":"\" \",\"\",\"\",\"\""}]
[{"$f":"\"\"\" \"& 'BX Language acquisition'!A2937 & \"\"\",\"\"\" & 'BX Language acquisition'!C2937 & \"\"\",\"\"\" & 'BX Language acquisition'!B2937 & \"\"\",\"\"\" & 'BX Language acquisition'!D2937 & \"\"\"\"","v":"\" \",\"\",\"\",\"\""}]
[{"$f":"\"\"\" \"& 'BX Language acquisition'!A2938 & \"\"\",\"\"\" & 'BX Language acquisition'!C2938 & \"\"\",\"\"\" & 'BX Language acquisition'!B2938 & \"\"\",\"\"\" & 'BX Language acquisition'!D2938 & \"\"\"\"","v":"\" \",\"\",\"\",\"\""}]
[{"$f":"\"\"\" \"& 'BX Language acquisition'!A2939 & \"\"\",\"\"\" & 'BX Language acquisition'!C2939 & \"\"\",\"\"\" & 'BX Language acquisition'!B2939 & \"\"\",\"\"\" & 'BX Language acquisition'!D2939 & \"\"\"\"","v":"\" \",\"\",\"\",\"\""}]
[{"$f":"\"\"\" \"& 'BX Language acquisition'!A2940 & \"\"\",\"\"\" & 'BX Language acquisition'!C2940 & \"\"\",\"\"\" & 'BX Language acquisition'!B2940 & \"\"\",\"\"\" & 'BX Language acquisition'!D2940 & \"\"\"\"","v":"\" \",\"\",\"\",\"\""}]
[{"$f":"\"\"\" \"& 'BX Language acquisition'!A2941 & \"\"\",\"\"\" & 'BX Language acquisition'!C2941 & \"\"\",\"\"\" & 'BX Language acquisition'!B2941 & \"\"\",\"\"\" & 'BX Language acquisition'!D2941 & \"\"\"\"","v":"\" \",\"\",\"\",\"\""}]
[{"$f":"\"\"\" \"& 'BX Language acquisition'!A2942 & \"\"\",\"\"\" & 'BX Language acquisition'!C2942 & \"\"\",\"\"\" & 'BX Language acquisition'!B2942 & \"\"\",\"\"\" & 'BX Language acquisition'!D2942 & \"\"\"\"","v":"\" \",\"\",\"\",\"\""}]
[{"$f":"\"\"\" \"& 'BX Language acquisition'!A2943 & \"\"\",\"\"\" & 'BX Language acquisition'!C2943 & \"\"\",\"\"\" & 'BX Language acquisition'!B2943 & \"\"\",\"\"\" & 'BX Language acquisition'!D2943 & \"\"\"\"","v":"\" \",\"\",\"\",\"\""}]
[{"$f":"\"\"\" \"& 'BX Language acquisition'!A2944 & \"\"\",\"\"\" & 'BX Language acquisition'!C2944 & \"\"\",\"\"\" & 'BX Language acquisition'!B2944 & \"\"\",\"\"\" & 'BX Language acquisition'!D2944 & \"\"\"\"","v":"\" \",\"\",\"\",\"\""}]
[{"$f":"\"\"\" \"& 'BX Language acquisition'!A2945 & \"\"\",\"\"\" & 'BX Language acquisition'!C2945 & \"\"\",\"\"\" & 'BX Language acquisition'!B2945 & \"\"\",\"\"\" & 'BX Language acquisition'!D2945 & \"\"\"\"","v":"\" \",\"\",\"\",\"\""}]
[{"$f":"\"\"\" \"& 'BX Language acquisition'!A2946 & \"\"\",\"\"\" & 'BX Language acquisition'!C2946 & \"\"\",\"\"\" & 'BX Language acquisition'!B2946 & \"\"\",\"\"\" & 'BX Language acquisition'!D2946 & \"\"\"\"","v":"\" \",\"\",\"\",\"\""}]
[{"$f":"\"\"\" \"& 'BX Language acquisition'!A2947 & \"\"\",\"\"\" & 'BX Language acquisition'!C2947 & \"\"\",\"\"\" & 'BX Language acquisition'!B2947 & \"\"\",\"\"\" & 'BX Language acquisition'!D2947 & \"\"\"\"","v":"\" \",\"\",\"\",\"\""}]
[{"$f":"\"\"\" \"& 'BX Language acquisition'!A2948 & \"\"\",\"\"\" & 'BX Language acquisition'!C2948 & \"\"\",\"\"\" & 'BX Language acquisition'!B2948 & \"\"\",\"\"\" & 'BX Language acquisition'!D2948 & \"\"\"\"","v":"\" \",\"\",\"\",\"\""}]
[{"$f":"\"\"\" \"& 'BX Language acquisition'!A2949 & \"\"\",\"\"\" & 'BX Language acquisition'!C2949 & \"\"\",\"\"\" & 'BX Language acquisition'!B2949 & \"\"\",\"\"\" & 'BX Language acquisition'!D2949 & \"\"\"\"","v":"\" \",\"\",\"\",\"\""}]
[{"$f":"\"\"\" \"& 'BX Language acquisition'!A2950 & \"\"\",\"\"\" & 'BX Language acquisition'!C2950 & \"\"\",\"\"\" & 'BX Language acquisition'!B2950 & \"\"\",\"\"\" & 'BX Language acquisition'!D2950 & \"\"\"\"","v":"\" \",\"\",\"\",\"\""}]
[{"$f":"\"\"\" \"& 'BX Language acquisition'!A2951 & \"\"\",\"\"\" & 'BX Language acquisition'!C2951 & \"\"\",\"\"\" & 'BX Language acquisition'!B2951 & \"\"\",\"\"\" & 'BX Language acquisition'!D2951 & \"\"\"\"","v":"\" \",\"\",\"\",\"\""}]
[{"$f":"\"\"\" \"& 'BX Language acquisition'!A2952 & \"\"\",\"\"\" & 'BX Language acquisition'!C2952 & \"\"\",\"\"\" & 'BX Language acquisition'!B2952 & \"\"\",\"\"\" & 'BX Language acquisition'!D2952 & \"\"\"\"","v":"\" \",\"\",\"\",\"\""}]
[{"$f":"\"\"\" \"& 'BX Language acquisition'!A2953 & \"\"\",\"\"\" & 'BX Language acquisition'!C2953 & \"\"\",\"\"\" & 'BX Language acquisition'!B2953 & \"\"\",\"\"\" & 'BX Language acquisition'!D2953 & \"\"\"\"","v":"\" \",\"\",\"\",\"\""}]
[{"$f":"\"\"\" \"& 'BX Language acquisition'!A2954 & \"\"\",\"\"\" & 'BX Language acquisition'!C2954 & \"\"\",\"\"\" & 'BX Language acquisition'!B2954 & \"\"\",\"\"\" & 'BX Language acquisition'!D2954 & \"\"\"\"","v":"\" \",\"\",\"\",\"\""}]
[{"$f":"\"\"\" \"& 'BX Language acquisition'!A2955 & \"\"\",\"\"\" & 'BX Language acquisition'!C2955 & \"\"\",\"\"\" & 'BX Language acquisition'!B2955 & \"\"\",\"\"\" & 'BX Language acquisition'!D2955 & \"\"\"\"","v":"\" \",\"\",\"\",\"\""}]
[{"$f":"\"\"\" \"& 'BX Language acquisition'!A2956 & \"\"\",\"\"\" & 'BX Language acquisition'!C2956 & \"\"\",\"\"\" & 'BX Language acquisition'!B2956 & \"\"\",\"\"\" & 'BX Language acquisition'!D2956 & \"\"\"\"","v":"\" \",\"\",\"\",\"\""}]
[{"$f":"\"\"\" \"& 'BX Language acquisition'!A2957 & \"\"\",\"\"\" & 'BX Language acquisition'!C2957 & \"\"\",\"\"\" & 'BX Language acquisition'!B2957 & \"\"\",\"\"\" & 'BX Language acquisition'!D2957 & \"\"\"\"","v":"\" \",\"\",\"\",\"\""}]
[{"$f":"\"\"\" \"& 'BX Language acquisition'!A2958 & \"\"\",\"\"\" & 'BX Language acquisition'!C2958 & \"\"\",\"\"\" & 'BX Language acquisition'!B2958 & \"\"\",\"\"\" & 'BX Language acquisition'!D2958 & \"\"\"\"","v":"\" \",\"\",\"\",\"\""}]
[{"$f":"\"\"\" \"& 'BX Language acquisition'!A2959 & \"\"\",\"\"\" & 'BX Language acquisition'!C2959 & \"\"\",\"\"\" & 'BX Language acquisition'!B2959 & \"\"\",\"\"\" & 'BX Language acquisition'!D2959 & \"\"\"\"","v":"\" \",\"\",\"\",\"\""}]
[{"$f":"\"\"\" \"& 'BX Language acquisition'!A2960 & \"\"\",\"\"\" & 'BX Language acquisition'!C2960 & \"\"\",\"\"\" & 'BX Language acquisition'!B2960 & \"\"\",\"\"\" & 'BX Language acquisition'!D2960 & \"\"\"\"","v":"\" \",\"\",\"\",\"\""}]
[{"$f":"\"\"\" \"& 'BX Language acquisition'!A2961 & \"\"\",\"\"\" & 'BX Language acquisition'!C2961 & \"\"\",\"\"\" & 'BX Language acquisition'!B2961 & \"\"\",\"\"\" & 'BX Language acquisition'!D2961 & \"\"\"\"","v":"\" \",\"\",\"\",\"\""}]
[{"$f":"\"\"\" \"& 'BX Language acquisition'!A2962 & \"\"\",\"\"\" & 'BX Language acquisition'!C2962 & \"\"\",\"\"\" & 'BX Language acquisition'!B2962 & \"\"\",\"\"\" & 'BX Language acquisition'!D2962 & \"\"\"\"","v":"\" \",\"\",\"\",\"\""}]
[{"$f":"\"\"\" \"& 'BX Language acquisition'!A2963 & \"\"\",\"\"\" & 'BX Language acquisition'!C2963 & \"\"\",\"\"\" & 'BX Language acquisition'!B2963 & \"\"\",\"\"\" & 'BX Language acquisition'!D2963 & \"\"\"\"","v":"\" \",\"\",\"\",\"\""}]
[{"$f":"\"\"\" \"& 'BX Language acquisition'!A2964 & \"\"\",\"\"\" & 'BX Language acquisition'!C2964 & \"\"\",\"\"\" & 'BX Language acquisition'!B2964 & \"\"\",\"\"\" & 'BX Language acquisition'!D2964 & \"\"\"\"","v":"\" \",\"\",\"\",\"\""}]
[{"$f":"\"\"\" \"& 'BX Language acquisition'!A2965 & \"\"\",\"\"\" & 'BX Language acquisition'!C2965 & \"\"\",\"\"\" & 'BX Language acquisition'!B2965 & \"\"\",\"\"\" & 'BX Language acquisition'!D2965 & \"\"\"\"","v":"\" \",\"\",\"\",\"\""}]
[{"$f":"\"\"\" \"& 'BX Language acquisition'!A2966 & \"\"\",\"\"\" & 'BX Language acquisition'!C2966 & \"\"\",\"\"\" & 'BX Language acquisition'!B2966 & \"\"\",\"\"\" & 'BX Language acquisition'!D2966 & \"\"\"\"","v":"\" \",\"\",\"\",\"\""}]
[{"$f":"\"\"\" \"& 'BX Language acquisition'!A2967 & \"\"\",\"\"\" & 'BX Language acquisition'!C2967 & \"\"\",\"\"\" & 'BX Language acquisition'!B2967 & \"\"\",\"\"\" & 'BX Language acquisition'!D2967 & \"\"\"\"","v":"\" \",\"\",\"\",\"\""}]
[{"$f":"\"\"\" \"& 'BX Language acquisition'!A2968 & \"\"\",\"\"\" & 'BX Language acquisition'!C2968 & \"\"\",\"\"\" & 'BX Language acquisition'!B2968 & \"\"\",\"\"\" & 'BX Language acquisition'!D2968 & \"\"\"\"","v":"\" \",\"\",\"\",\"\""}]
[{"$f":"\"\"\" \"& 'BX Language acquisition'!A2969 & \"\"\",\"\"\" & 'BX Language acquisition'!C2969 & \"\"\",\"\"\" & 'BX Language acquisition'!B2969 & \"\"\",\"\"\" & 'BX Language acquisition'!D2969 & \"\"\"\"","v":"\" \",\"\",\"\",\"\""}]
[{"$f":"\"\"\" \"& 'BX Language acquisition'!A2970 & \"\"\",\"\"\" & 'BX Language acquisition'!C2970 & \"\"\",\"\"\" & 'BX Language acquisition'!B2970 & \"\"\",\"\"\" & 'BX Language acquisition'!D2970 & \"\"\"\"","v":"\" \",\"\",\"\",\"\""}]
[{"$f":"\"\"\" \"& 'BX Language acquisition'!A2971 & \"\"\",\"\"\" & 'BX Language acquisition'!C2971 & \"\"\",\"\"\" & 'BX Language acquisition'!B2971 & \"\"\",\"\"\" & 'BX Language acquisition'!D2971 & \"\"\"\"","v":"\" \",\"\",\"\",\"\""}]
[{"$f":"\"\"\" \"& 'BX Language acquisition'!A2972 & \"\"\",\"\"\" & 'BX Language acquisition'!C2972 & \"\"\",\"\"\" & 'BX Language acquisition'!B2972 & \"\"\",\"\"\" & 'BX Language acquisition'!D2972 & \"\"\"\"","v":"\" \",\"\",\"\",\"\""}]
[{"$f":"\"\"\" \"& 'BX Language acquisition'!A2973 & \"\"\",\"\"\" & 'BX Language acquisition'!C2973 & \"\"\",\"\"\" & 'BX Language acquisition'!B2973 & \"\"\",\"\"\" & 'BX Language acquisition'!D2973 & \"\"\"\"","v":"\" \",\"\",\"\",\"\""}]
[{"$f":"\"\"\" \"& 'BX Language acquisition'!A2974 & \"\"\",\"\"\" & 'BX Language acquisition'!C2974 & \"\"\",\"\"\" & 'BX Language acquisition'!B2974 & \"\"\",\"\"\" & 'BX Language acquisition'!D2974 & \"\"\"\"","v":"\" \",\"\",\"\",\"\""}]
[{"$f":"\"\"\" \"& 'BX Language acquisition'!A2975 & \"\"\",\"\"\" & 'BX Language acquisition'!C2975 & \"\"\",\"\"\" & 'BX Language acquisition'!B2975 & \"\"\",\"\"\" & 'BX Language acquisition'!D2975 & \"\"\"\"","v":"\" \",\"\",\"\",\"\""}]
[{"$f":"\"\"\" \"& 'BX Language acquisition'!A2976 & \"\"\",\"\"\" & 'BX Language acquisition'!C2976 & \"\"\",\"\"\" & 'BX Language acquisition'!B2976 & \"\"\",\"\"\" & 'BX Language acquisition'!D2976 & \"\"\"\"","v":"\" \",\"\",\"\",\"\""}]
[{"$f":"\"\"\" \"& 'BX Language acquisition'!A2977 & \"\"\",\"\"\" & 'BX Language acquisition'!C2977 & \"\"\",\"\"\" & 'BX Language acquisition'!B2977 & \"\"\",\"\"\" & 'BX Language acquisition'!D2977 & \"\"\"\"","v":"\" \",\"\",\"\",\"\""}]
[{"$f":"\"\"\" \"& 'BX Language acquisition'!A2978 & \"\"\",\"\"\" & 'BX Language acquisition'!C2978 & \"\"\",\"\"\" & 'BX Language acquisition'!B2978 & \"\"\",\"\"\" & 'BX Language acquisition'!D2978 & \"\"\"\"","v":"\" \",\"\",\"\",\"\""}]
[{"$f":"\"\"\" \"& 'BX Language acquisition'!A2979 & \"\"\",\"\"\" & 'BX Language acquisition'!C2979 & \"\"\",\"\"\" & 'BX Language acquisition'!B2979 & \"\"\",\"\"\" & 'BX Language acquisition'!D2979 & \"\"\"\"","v":"\" \",\"\",\"\",\"\""}]
[{"$f":"\"\"\" \"& 'BX Language acquisition'!A2980 & \"\"\",\"\"\" & 'BX Language acquisition'!C2980 & \"\"\",\"\"\" & 'BX Language acquisition'!B2980 & \"\"\",\"\"\" & 'BX Language acquisition'!D2980 & \"\"\"\"","v":"\" \",\"\",\"\",\"\""}]
[{"$f":"\"\"\" \"& 'BX Language acquisition'!A2981 & \"\"\",\"\"\" & 'BX Language acquisition'!C2981 & \"\"\",\"\"\" & 'BX Language acquisition'!B2981 & \"\"\",\"\"\" & 'BX Language acquisition'!D2981 & \"\"\"\"","v":"\" \",\"\",\"\",\"\""}]
[{"$f":"\"\"\" \"& 'BX Language acquisition'!A2982 & \"\"\",\"\"\" & 'BX Language acquisition'!C2982 & \"\"\",\"\"\" & 'BX Language acquisition'!B2982 & \"\"\",\"\"\" & 'BX Language acquisition'!D2982 & \"\"\"\"","v":"\" \",\"\",\"\",\"\""}]
[{"$f":"\"\"\" \"& 'BX Language acquisition'!A2983 & \"\"\",\"\"\" & 'BX Language acquisition'!C2983 & \"\"\",\"\"\" & 'BX Language acquisition'!B2983 & \"\"\",\"\"\" & 'BX Language acquisition'!D2983 & \"\"\"\"","v":"\" \",\"\",\"\",\"\""}]
[{"$f":"\"\"\" \"& 'BX Language acquisition'!A2984 & \"\"\",\"\"\" & 'BX Language acquisition'!C2984 & \"\"\",\"\"\" & 'BX Language acquisition'!B2984 & \"\"\",\"\"\" & 'BX Language acquisition'!D2984 & \"\"\"\"","v":"\" \",\"\",\"\",\"\""}]
[{"$f":"\"\"\" \"& 'BX Language acquisition'!A2985 & \"\"\",\"\"\" & 'BX Language acquisition'!C2985 & \"\"\",\"\"\" & 'BX Language acquisition'!B2985 & \"\"\",\"\"\" & 'BX Language acquisition'!D2985 & \"\"\"\"","v":"\" \",\"\",\"\",\"\""}]
[{"$f":"\"\"\" \"& 'BX Language acquisition'!A2986 & \"\"\",\"\"\" & 'BX Language acquisition'!C2986 & \"\"\",\"\"\" & 'BX Language acquisition'!B2986 & \"\"\",\"\"\" & 'BX Language acquisition'!D2986 & \"\"\"\"","v":"\" \",\"\",\"\",\"\""}]
[{"$f":"\"\"\" \"& 'BX Language acquisition'!A2987 & \"\"\",\"\"\" & 'BX Language acquisition'!C2987 & \"\"\",\"\"\" & 'BX Language acquisition'!B2987 & \"\"\",\"\"\" & 'BX Language acquisition'!D2987 & \"\"\"\"","v":"\" \",\"\",\"\",\"\""}]
[{"$f":"\"\"\" \"& 'BX Language acquisition'!A2988 & \"\"\",\"\"\" & 'BX Language acquisition'!C2988 & \"\"\",\"\"\" & 'BX Language acquisition'!B2988 & \"\"\",\"\"\" & 'BX Language acquisition'!D2988 & \"\"\"\"","v":"\" \",\"\",\"\",\"\""}]
[{"$f":"\"\"\" \"& 'BX Language acquisition'!A2989 & \"\"\",\"\"\" & 'BX Language acquisition'!C2989 & \"\"\",\"\"\" & 'BX Language acquisition'!B2989 & \"\"\",\"\"\" & 'BX Language acquisition'!D2989 & \"\"\"\"","v":"\" \",\"\",\"\",\"\""}]
[{"$f":"\"\"\" \"& 'BX Language acquisition'!A2990 & \"\"\",\"\"\" & 'BX Language acquisition'!C2990 & \"\"\",\"\"\" & 'BX Language acquisition'!B2990 & \"\"\",\"\"\" & 'BX Language acquisition'!D2990 & \"\"\"\"","v":"\" \",\"\",\"\",\"\""}]
[{"$f":"\"\"\" \"& 'BX Language acquisition'!A2991 & \"\"\",\"\"\" & 'BX Language acquisition'!C2991 & \"\"\",\"\"\" & 'BX Language acquisition'!B2991 & \"\"\",\"\"\" & 'BX Language acquisition'!D2991 & \"\"\"\"","v":"\" \",\"\",\"\",\"\""}]
[{"$f":"\"\"\" \"& 'BX Language acquisition'!A2992 & \"\"\",\"\"\" & 'BX Language acquisition'!C2992 & \"\"\",\"\"\" & 'BX Language acquisition'!B2992 & \"\"\",\"\"\" & 'BX Language acquisition'!D2992 & \"\"\"\"","v":"\" \",\"\",\"\",\"\""}]
[{"$f":"\"\"\" \"& 'BX Language acquisition'!A2993 & \"\"\",\"\"\" & 'BX Language acquisition'!C2993 & \"\"\",\"\"\" & 'BX Language acquisition'!B2993 & \"\"\",\"\"\" & 'BX Language acquisition'!D2993 & \"\"\"\"","v":"\" \",\"\",\"\",\"\""}]
[{"$f":"\"\"\" \"& 'BX Language acquisition'!A2994 & \"\"\",\"\"\" & 'BX Language acquisition'!C2994 & \"\"\",\"\"\" & 'BX Language acquisition'!B2994 & \"\"\",\"\"\" & 'BX Language acquisition'!D2994 & \"\"\"\"","v":"\" \",\"\",\"\",\"\""}]
[{"$f":"\"\"\" \"& 'BX Language acquisition'!A2995 & \"\"\",\"\"\" & 'BX Language acquisition'!C2995 & \"\"\",\"\"\" & 'BX Language acquisition'!B2995 & \"\"\",\"\"\" & 'BX Language acquisition'!D2995 & \"\"\"\"","v":"\" \",\"\",\"\",\"\""}]
[{"$f":"\"\"\" \"& 'BX Language acquisition'!A2996 & \"\"\",\"\"\" & 'BX Language acquisition'!C2996 & \"\"\",\"\"\" & 'BX Language acquisition'!B2996 & \"\"\",\"\"\" & 'BX Language acquisition'!D2996 & \"\"\"\"","v":"\" \",\"\",\"\",\"\""}]
[{"$f":"\"\"\" \"& 'BX Language acquisition'!A2997 & \"\"\",\"\"\" & 'BX Language acquisition'!C2997 & \"\"\",\"\"\" & 'BX Language acquisition'!B2997 & \"\"\",\"\"\" & 'BX Language acquisition'!D2997 & \"\"\"\"","v":"\" \",\"\",\"\",\"\""}]
[{"$f":"\"\"\" \"& 'BX Language acquisition'!A2998 & \"\"\",\"\"\" & 'BX Language acquisition'!C2998 & \"\"\",\"\"\" & 'BX Language acquisition'!B2998 & \"\"\",\"\"\" & 'BX Language acquisition'!D2998 & \"\"\"\"","v":"\" \",\"\",\"\",\"\""}]
[{"$f":"\"\"\" \"& 'BX Language acquisition'!A2999 & \"\"\",\"\"\" & 'BX Language acquisition'!C2999 & \"\"\",\"\"\" & 'BX Language acquisition'!B2999 & \"\"\",\"\"\" & 'BX Language acquisition'!D2999 & \"\"\"\"","v":"\" \",\"\",\"\",\"\""}]
[{"$f":"\"\"\" \"& 'BX Language acquisition'!A3000 & \"\"\",\"\"\" & 'BX Language acquisition'!C3000 & \"\"\",\"\"\" & 'BX Language acquisition'!B3000 & \"\"\",\"\"\" & 'BX Language acquisition'!D3000 & \"\"\"\"","v":"\" \",\"\",\"\",\"\""}]
[{"$f":"\"\"\" \"& 'BX Language acquisition'!A3001 & \"\"\",\"\"\" & 'BX Language acquisition'!C3001 & \"\"\",\"\"\" & 'BX Language acquisition'!B3001 & \"\"\",\"\"\" & 'BX Language acquisition'!D3001 & \"\"\"\"","v":"\" \",\"\",\"\",\"\""}]
[{"$f":"\"\"\" \"& 'BX Language acquisition'!A3002 & \"\"\",\"\"\" & 'BX Language acquisition'!C3002 & \"\"\",\"\"\" & 'BX Language acquisition'!B3002 & \"\"\",\"\"\" & 'BX Language acquisition'!D3002 & \"\"\"\"","v":"\" \",\"\",\"\",\"\""}]
[{"$f":"\"\"\" \"& 'BX Language acquisition'!A3003 & \"\"\",\"\"\" & 'BX Language acquisition'!C3003 & \"\"\",\"\"\" & 'BX Language acquisition'!B3003 & \"\"\",\"\"\" & 'BX Language acquisition'!D3003 & \"\"\"\"","v":"\" \",\"\",\"\",\"\""}]
[{"$f":"\"\"\" \"& 'BX Language acquisition'!A3004 & \"\"\",\"\"\" & 'BX Language acquisition'!C3004 & \"\"\",\"\"\" & 'BX Language acquisition'!B3004 & \"\"\",\"\"\" & 'BX Language acquisition'!D3004 & \"\"\"\"","v":"\" \",\"\",\"\",\"\""}]
[{"$f":"\"\"\" \"& 'BX Language acquisition'!A3005 & \"\"\",\"\"\" & 'BX Language acquisition'!C3005 & \"\"\",\"\"\" & 'BX Language acquisition'!B3005 & \"\"\",\"\"\" & 'BX Language acquisition'!D3005 & \"\"\"\"","v":"\" \",\"\",\"\",\"\""}]
[{"$f":"\"\"\" \"& 'BX Language acquisition'!A3006 & \"\"\",\"\"\" & 'BX Language acquisition'!C3006 & \"\"\",\"\"\" & 'BX Language acquisition'!B3006 & \"\"\",\"\"\" & 'BX Language acquisition'!D3006 & \"\"\"\"","v":"\" \",\"\",\"\",\"\""}]
[{"$f":"\"\"\" \"& 'BX Language acquisition'!A3007 & \"\"\",\"\"\" & 'BX Language acquisition'!C3007 & \"\"\",\"\"\" & 'BX Language acquisition'!B3007 & \"\"\",\"\"\" & 'BX Language acquisition'!D3007 & \"\"\"\"","v":"\" \",\"\",\"\",\"\""}]
[{"$f":"\"\"\" \"& 'BX Language acquisition'!A3008 & \"\"\",\"\"\" & 'BX Language acquisition'!C3008 & \"\"\",\"\"\" & 'BX Language acquisition'!B3008 & \"\"\",\"\"\" & 'BX Language acquisition'!D3008 & \"\"\"\"","v":"\" \",\"\",\"\",\"\""}]
[{"$f":"\"\"\" \"& 'BX Language acquisition'!A3009 & \"\"\",\"\"\" & 'BX Language acquisition'!C3009 & \"\"\",\"\"\" & 'BX Language acquisition'!B3009 & \"\"\",\"\"\" & 'BX Language acquisition'!D3009 & \"\"\"\"","v":"\" \",\"\",\"\",\"\""}]
[{"$f":"\"\"\" \"& 'BX Language acquisition'!A3010 & \"\"\",\"\"\" & 'BX Language acquisition'!C3010 & \"\"\",\"\"\" & 'BX Language acquisition'!B3010 & \"\"\",\"\"\" & 'BX Language acquisition'!D3010 & \"\"\"\"","v":"\" \",\"\",\"\",\"\""}]
[{"$f":"\"\"\" \"& 'BX Language acquisition'!A3011 & \"\"\",\"\"\" & 'BX Language acquisition'!C3011 & \"\"\",\"\"\" & 'BX Language acquisition'!B3011 & \"\"\",\"\"\" & 'BX Language acquisition'!D3011 & \"\"\"\"","v":"\" \",\"\",\"\",\"\""}]
[{"$f":"\"\"\" \"& 'BX Language acquisition'!A3012 & \"\"\",\"\"\" & 'BX Language acquisition'!C3012 & \"\"\",\"\"\" & 'BX Language acquisition'!B3012 & \"\"\",\"\"\" & 'BX Language acquisition'!D3012 & \"\"\"\"","v":"\" \",\"\",\"\",\"\""}]
[{"$f":"\"\"\" \"& 'BX Language acquisition'!A3013 & \"\"\",\"\"\" & 'BX Language acquisition'!C3013 & \"\"\",\"\"\" & 'BX Language acquisition'!B3013 & \"\"\",\"\"\" & 'BX Language acquisition'!D3013 & \"\"\"\"","v":"\" \",\"\",\"\",\"\""}]
[{"$f":"\"\"\" \"& 'BX Language acquisition'!A3014 & \"\"\",\"\"\" & 'BX Language acquisition'!C3014 & \"\"\",\"\"\" & 'BX Language acquisition'!B3014 & \"\"\",\"\"\" & 'BX Language acquisition'!D3014 & \"\"\"\"","v":"\" \",\"\",\"\",\"\""}]
[{"$f":"\"\"\" \"& 'BX Language acquisition'!A3015 & \"\"\",\"\"\" & 'BX Language acquisition'!C3015 & \"\"\",\"\"\" & 'BX Language acquisition'!B3015 & \"\"\",\"\"\" & 'BX Language acquisition'!D3015 & \"\"\"\"","v":"\" \",\"\",\"\",\"\""}]
[{"$f":"\"\"\" \"& 'BX Language acquisition'!A3016 & \"\"\",\"\"\" & 'BX Language acquisition'!C3016 & \"\"\",\"\"\" & 'BX Language acquisition'!B3016 & \"\"\",\"\"\" & 'BX Language acquisition'!D3016 & \"\"\"\"","v":"\" \",\"\",\"\",\"\""}]
[{"$f":"\"\"\" \"& 'BX Language acquisition'!A3017 & \"\"\",\"\"\" & 'BX Language acquisition'!C3017 & \"\"\",\"\"\" & 'BX Language acquisition'!B3017 & \"\"\",\"\"\" & 'BX Language acquisition'!D3017 & \"\"\"\"","v":"\" \",\"\",\"\",\"\""}]
[{"$f":"\"\"\" \"& 'BX Language acquisition'!A3018 & \"\"\",\"\"\" & 'BX Language acquisition'!C3018 & \"\"\",\"\"\" & 'BX Language acquisition'!B3018 & \"\"\",\"\"\" & 'BX Language acquisition'!D3018 & \"\"\"\"","v":"\" \",\"\",\"\",\"\""}]
[{"$f":"\"\"\" \"& 'BX Language acquisition'!A3019 & \"\"\",\"\"\" & 'BX Language acquisition'!C3019 & \"\"\",\"\"\" & 'BX Language acquisition'!B3019 & \"\"\",\"\"\" & 'BX Language acquisition'!D3019 & \"\"\"\"","v":"\" \",\"\",\"\",\"\""}]
[{"$f":"\"\"\" \"& 'BX Language acquisition'!A3020 & \"\"\",\"\"\" & 'BX Language acquisition'!C3020 & \"\"\",\"\"\" & 'BX Language acquisition'!B3020 & \"\"\",\"\"\" & 'BX Language acquisition'!D3020 & \"\"\"\"","v":"\" \",\"\",\"\",\"\""}]
[{"$f":"\"\"\" \"& 'BX Language acquisition'!A3021 & \"\"\",\"\"\" & 'BX Language acquisition'!C3021 & \"\"\",\"\"\" & 'BX Language acquisition'!B3021 & \"\"\",\"\"\" & 'BX Language acquisition'!D3021 & \"\"\"\"","v":"\" \",\"\",\"\",\"\""}]
[{"$f":"\"\"\" \"& 'BX Language acquisition'!A3022 & \"\"\",\"\"\" & 'BX Language acquisition'!C3022 & \"\"\",\"\"\" & 'BX Language acquisition'!B3022 & \"\"\",\"\"\" & 'BX Language acquisition'!D3022 & \"\"\"\"","v":"\" \",\"\",\"\",\"\""}]
[{"$f":"\"\"\" \"& 'BX Language acquisition'!A3023 & \"\"\",\"\"\" & 'BX Language acquisition'!C3023 & \"\"\",\"\"\" & 'BX Language acquisition'!B3023 & \"\"\",\"\"\" & 'BX Language acquisition'!D3023 & \"\"\"\"","v":"\" \",\"\",\"\",\"\""}]
[{"$f":"\"\"\" \"& 'BX Language acquisition'!A3024 & \"\"\",\"\"\" & 'BX Language acquisition'!C3024 & \"\"\",\"\"\" & 'BX Language acquisition'!B3024 & \"\"\",\"\"\" & 'BX Language acquisition'!D3024 & \"\"\"\"","v":"\" \",\"\",\"\",\"\""}]
[{"$f":"\"\"\" \"& 'BX Language acquisition'!A3025 & \"\"\",\"\"\" & 'BX Language acquisition'!C3025 & \"\"\",\"\"\" & 'BX Language acquisition'!B3025 & \"\"\",\"\"\" & 'BX Language acquisition'!D3025 & \"\"\"\"","v":"\" \",\"\",\"\",\"\""}]
[{"$f":"\"\"\" \"& 'BX Language acquisition'!A3026 & \"\"\",\"\"\" & 'BX Language acquisition'!C3026 & \"\"\",\"\"\" & 'BX Language acquisition'!B3026 & \"\"\",\"\"\" & 'BX Language acquisition'!D3026 & \"\"\"\"","v":"\" \",\"\",\"\",\"\""}]
[{"$f":"\"\"\" \"& 'BX Language acquisition'!A3027 & \"\"\",\"\"\" & 'BX Language acquisition'!C3027 & \"\"\",\"\"\" & 'BX Language acquisition'!B3027 & \"\"\",\"\"\" & 'BX Language acquisition'!D3027 & \"\"\"\"","v":"\" \",\"\",\"\",\"\""}]
[{"$f":"\"\"\" \"& 'BX Language acquisition'!A3028 & \"\"\",\"\"\" & 'BX Language acquisition'!C3028 & \"\"\",\"\"\" & 'BX Language acquisition'!B3028 & \"\"\",\"\"\" & 'BX Language acquisition'!D3028 & \"\"\"\"","v":"\" \",\"\",\"\",\"\""}]
[{"$f":"\"\"\" \"& 'BX Language acquisition'!A3029 & \"\"\",\"\"\" & 'BX Language acquisition'!C3029 & \"\"\",\"\"\" & 'BX Language acquisition'!B3029 & \"\"\",\"\"\" & 'BX Language acquisition'!D3029 & \"\"\"\"","v":"\" \",\"\",\"\",\"\""}]
[{"$f":"\"\"\" \"& 'BX Language acquisition'!A3030 & \"\"\",\"\"\" & 'BX Language acquisition'!C3030 & \"\"\",\"\"\" & 'BX Language acquisition'!B3030 & \"\"\",\"\"\" & 'BX Language acquisition'!D3030 & \"\"\"\"","v":"\" \",\"\",\"\",\"\""}]
[{"$f":"\"\"\" \"& 'BX Language acquisition'!A3031 & \"\"\",\"\"\" & 'BX Language acquisition'!C3031 & \"\"\",\"\"\" & 'BX Language acquisition'!B3031 & \"\"\",\"\"\" & 'BX Language acquisition'!D3031 & \"\"\"\"","v":"\" \",\"\",\"\",\"\""}]
[{"$f":"\"\"\" \"& 'BX Language acquisition'!A3032 & \"\"\",\"\"\" & 'BX Language acquisition'!C3032 & \"\"\",\"\"\" & 'BX Language acquisition'!B3032 & \"\"\",\"\"\" & 'BX Language acquisition'!D3032 & \"\"\"\"","v":"\" \",\"\",\"\",\"\""}]
[{"$f":"\"\"\" \"& 'BX Language acquisition'!A3033 & \"\"\",\"\"\" & 'BX Language acquisition'!C3033 & \"\"\",\"\"\" & 'BX Language acquisition'!B3033 & \"\"\",\"\"\" & 'BX Language acquisition'!D3033 & \"\"\"\"","v":"\" \",\"\",\"\",\"\""}]
[{"$f":"\"\"\" \"& 'BX Language acquisition'!A3034 & \"\"\",\"\"\" & 'BX Language acquisition'!C3034 & \"\"\",\"\"\" & 'BX Language acquisition'!B3034 & \"\"\",\"\"\" & 'BX Language acquisition'!D3034 & \"\"\"\"","v":"\" \",\"\",\"\",\"\""}]
[{"$f":"\"\"\" \"& 'BX Language acquisition'!A3035 & \"\"\",\"\"\" & 'BX Language acquisition'!C3035 & \"\"\",\"\"\" & 'BX Language acquisition'!B3035 & \"\"\",\"\"\" & 'BX Language acquisition'!D3035 & \"\"\"\"","v":"\" \",\"\",\"\",\"\""}]
[{"$f":"\"\"\" \"& 'BX Language acquisition'!A3036 & \"\"\",\"\"\" & 'BX Language acquisition'!C3036 & \"\"\",\"\"\" & 'BX Language acquisition'!B3036 & \"\"\",\"\"\" & 'BX Language acquisition'!D3036 & \"\"\"\"","v":"\" \",\"\",\"\",\"\""}]
[{"$f":"\"\"\" \"& 'BX Language acquisition'!A3037 & \"\"\",\"\"\" & 'BX Language acquisition'!C3037 & \"\"\",\"\"\" & 'BX Language acquisition'!B3037 & \"\"\",\"\"\" & 'BX Language acquisition'!D3037 & \"\"\"\"","v":"\" \",\"\",\"\",\"\""}]
[{"$f":"\"\"\" \"& 'BX Language acquisition'!A3038 & \"\"\",\"\"\" & 'BX Language acquisition'!C3038 & \"\"\",\"\"\" & 'BX Language acquisition'!B3038 & \"\"\",\"\"\" & 'BX Language acquisition'!D3038 & \"\"\"\"","v":"\" \",\"\",\"\",\"\""}]
[{"$f":"\"\"\" \"& 'BX Language acquisition'!A3039 & \"\"\",\"\"\" & 'BX Language acquisition'!C3039 & \"\"\",\"\"\" & 'BX Language acquisition'!B3039 & \"\"\",\"\"\" & 'BX Language acquisition'!D3039 & \"\"\"\"","v":"\" \",\"\",\"\",\"\""}]
[{"$f":"\"\"\" \"& 'BX Language acquisition'!A3040 & \"\"\",\"\"\" & 'BX Language acquisition'!C3040 & \"\"\",\"\"\" & 'BX Language acquisition'!B3040 & \"\"\",\"\"\" & 'BX Language acquisition'!D3040 & \"\"\"\"","v":"\" \",\"\",\"\",\"\""}]
[{"$f":"\"\"\" \"& 'BX Language acquisition'!A3041 & \"\"\",\"\"\" & 'BX Language acquisition'!C3041 & \"\"\",\"\"\" & 'BX Language acquisition'!B3041 & \"\"\",\"\"\" & 'BX Language acquisition'!D3041 & \"\"\"\"","v":"\" \",\"\",\"\",\"\""}]
[{"$f":"\"\"\" \"& 'BX Language acquisition'!A3042 & \"\"\",\"\"\" & 'BX Language acquisition'!C3042 & \"\"\",\"\"\" & 'BX Language acquisition'!B3042 & \"\"\",\"\"\" & 'BX Language acquisition'!D3042 & \"\"\"\"","v":"\" \",\"\",\"\",\"\""}]
[{"$f":"\"\"\" \"& 'BX Language acquisition'!A3043 & \"\"\",\"\"\" & 'BX Language acquisition'!C3043 & \"\"\",\"\"\" & 'BX Language acquisition'!B3043 & \"\"\",\"\"\" & 'BX Language acquisition'!D3043 & \"\"\"\"","v":"\" \",\"\",\"\",\"\""}]
[{"$f":"\"\"\" \"& 'BX Language acquisition'!A3044 & \"\"\",\"\"\" & 'BX Language acquisition'!C3044 & \"\"\",\"\"\" & 'BX Language acquisition'!B3044 & \"\"\",\"\"\" & 'BX Language acquisition'!D3044 & \"\"\"\"","v":"\" \",\"\",\"\",\"\""}]
[{"$f":"\"\"\" \"& 'BX Language acquisition'!A3045 & \"\"\",\"\"\" & 'BX Language acquisition'!C3045 & \"\"\",\"\"\" & 'BX Language acquisition'!B3045 & \"\"\",\"\"\" & 'BX Language acquisition'!D3045 & \"\"\"\"","v":"\" \",\"\",\"\",\"\""}]
[{"$f":"\"\"\" \"& 'BX Language acquisition'!A3046 & \"\"\",\"\"\" & 'BX Language acquisition'!C3046 & \"\"\",\"\"\" & 'BX Language acquisition'!B3046 & \"\"\",\"\"\" & 'BX Language acquisition'!D3046 & \"\"\"\"","v":"\" \",\"\",\"\",\"\""}]
[{"$f":"\"\"\" \"& 'BX Language acquisition'!A3047 & \"\"\",\"\"\" & 'BX Language acquisition'!C3047 & \"\"\",\"\"\" & 'BX Language acquisition'!B3047 & \"\"\",\"\"\" & 'BX Language acquisition'!D3047 & \"\"\"\"","v":"\" \",\"\",\"\",\"\""}]
[{"$f":"\"\"\" \"& 'BX Language acquisition'!A3048 & \"\"\",\"\"\" & 'BX Language acquisition'!C3048 & \"\"\",\"\"\" & 'BX Language acquisition'!B3048 & \"\"\",\"\"\" & 'BX Language acquisition'!D3048 & \"\"\"\"","v":"\" \",\"\",\"\",\"\""}]
[{"$f":"\"\"\" \"& 'BX Language acquisition'!A3049 & \"\"\",\"\"\" & 'BX Language acquisition'!C3049 & \"\"\",\"\"\" & 'BX Language acquisition'!B3049 & \"\"\",\"\"\" & 'BX Language acquisition'!D3049 & \"\"\"\"","v":"\" \",\"\",\"\",\"\""}]
[{"$f":"\"\"\" \"& 'BX Language acquisition'!A3050 & \"\"\",\"\"\" & 'BX Language acquisition'!C3050 & \"\"\",\"\"\" & 'BX Language acquisition'!B3050 & \"\"\",\"\"\" & 'BX Language acquisition'!D3050 & \"\"\"\"","v":"\" \",\"\",\"\",\"\""}]
[{"$f":"\"\"\" \"& 'BX Language acquisition'!A3051 & \"\"\",\"\"\" & 'BX Language acquisition'!C3051 & \"\"\",\"\"\" & 'BX Language acquisition'!B3051 & \"\"\",\"\"\" & 'BX Language acquisition'!D3051 & \"\"\"\"","v":"\" \",\"\",\"\",\"\""}]
[{"$f":"\"\"\" \"& 'BX Language acquisition'!A3052 & \"\"\",\"\"\" & 'BX Language acquisition'!C3052 & \"\"\",\"\"\" & 'BX Language acquisition'!B3052 & \"\"\",\"\"\" & 'BX Language acquisition'!D3052 & \"\"\"\"","v":"\" \",\"\",\"\",\"\""}]
[{"$f":"\"\"\" \"& 'BX Language acquisition'!A3053 & \"\"\",\"\"\" & 'BX Language acquisition'!C3053 & \"\"\",\"\"\" & 'BX Language acquisition'!B3053 & \"\"\",\"\"\" & 'BX Language acquisition'!D3053 & \"\"\"\"","v":"\" \",\"\",\"\",\"\""}]
[{"$f":"\"\"\" \"& 'BX Language acquisition'!A3054 & \"\"\",\"\"\" & 'BX Language acquisition'!C3054 & \"\"\",\"\"\" & 'BX Language acquisition'!B3054 & \"\"\",\"\"\" & 'BX Language acquisition'!D3054 & \"\"\"\"","v":"\" \",\"\",\"\",\"\""}]
[{"$f":"\"\"\" \"& 'BX Language acquisition'!A3055 & \"\"\",\"\"\" & 'BX Language acquisition'!C3055 & \"\"\",\"\"\" & 'BX Language acquisition'!B3055 & \"\"\",\"\"\" & 'BX Language acquisition'!D3055 & \"\"\"\"","v":"\" \",\"\",\"\",\"\""}]
[{"$f":"\"\"\" \"& 'BX Language acquisition'!A3056 & \"\"\",\"\"\" & 'BX Language acquisition'!C3056 & \"\"\",\"\"\" & 'BX Language acquisition'!B3056 & \"\"\",\"\"\" & 'BX Language acquisition'!D3056 & \"\"\"\"","v":"\" \",\"\",\"\",\"\""}]
[{"$f":"\"\"\" \"& 'BX Language acquisition'!A3057 & \"\"\",\"\"\" & 'BX Language acquisition'!C3057 & \"\"\",\"\"\" & 'BX Language acquisition'!B3057 & \"\"\",\"\"\" & 'BX Language acquisition'!D3057 & \"\"\"\"","v":"\" \",\"\",\"\",\"\""}]
[{"$f":"\"\"\" \"& 'BX Language acquisition'!A3058 & \"\"\",\"\"\" & 'BX Language acquisition'!C3058 & \"\"\",\"\"\" & 'BX Language acquisition'!B3058 & \"\"\",\"\"\" & 'BX Language acquisition'!D3058 & \"\"\"\"","v":"\" \",\"\",\"\",\"\""}]
[{"$f":"\"\"\" \"& 'BX Language acquisition'!A3059 & \"\"\",\"\"\" & 'BX Language acquisition'!C3059 & \"\"\",\"\"\" & 'BX Language acquisition'!B3059 & \"\"\",\"\"\" & 'BX Language acquisition'!D3059 & \"\"\"\"","v":"\" \",\"\",\"\",\"\""}]
[{"$f":"\"\"\" \"& 'BX Language acquisition'!A3060 & \"\"\",\"\"\" & 'BX Language acquisition'!C3060 & \"\"\",\"\"\" & 'BX Language acquisition'!B3060 & \"\"\",\"\"\" & 'BX Language acquisition'!D3060 & \"\"\"\"","v":"\" \",\"\",\"\",\"\""}]
[{"$f":"\"\"\" \"& 'BX Language acquisition'!A3061 & \"\"\",\"\"\" & 'BX Language acquisition'!C3061 & \"\"\",\"\"\" & 'BX Language acquisition'!B3061 & \"\"\",\"\"\" & 'BX Language acquisition'!D3061 & \"\"\"\"","v":"\" \",\"\",\"\",\"\""}]
[{"$f":"\"\"\" \"& 'BX Language acquisition'!A3062 & \"\"\",\"\"\" & 'BX Language acquisition'!C3062 & \"\"\",\"\"\" & 'BX Language acquisition'!B3062 & \"\"\",\"\"\" & 'BX Language acquisition'!D3062 & \"\"\"\"","v":"\" \",\"\",\"\",\"\""}]
[{"$f":"\"\"\" \"& 'BX Language acquisition'!A3063 & \"\"\",\"\"\" & 'BX Language acquisition'!C3063 & \"\"\",\"\"\" & 'BX Language acquisition'!B3063 & \"\"\",\"\"\" & 'BX Language acquisition'!D3063 & \"\"\"\"","v":"\" \",\"\",\"\",\"\""}]
[{"$f":"\"\"\" \"& 'BX Language acquisition'!A3064 & \"\"\",\"\"\" & 'BX Language acquisition'!C3064 & \"\"\",\"\"\" & 'BX Language acquisition'!B3064 & \"\"\",\"\"\" & 'BX Language acquisition'!D3064 & \"\"\"\"","v":"\" \",\"\",\"\",\"\""}]
[{"$f":"\"\"\" \"& 'BX Language acquisition'!A3065 & \"\"\",\"\"\" & 'BX Language acquisition'!C3065 & \"\"\",\"\"\" & 'BX Language acquisition'!B3065 & \"\"\",\"\"\" & 'BX Language acquisition'!D3065 & \"\"\"\"","v":"\" \",\"\",\"\",\"\""}]
[{"$f":"\"\"\" \"& 'BX Language acquisition'!A3066 & \"\"\",\"\"\" & 'BX Language acquisition'!C3066 & \"\"\",\"\"\" & 'BX Language acquisition'!B3066 & \"\"\",\"\"\" & 'BX Language acquisition'!D3066 & \"\"\"\"","v":"\" \",\"\",\"\",\"\""}]
[{"$f":"\"\"\" \"& 'BX Language acquisition'!A3067 & \"\"\",\"\"\" & 'BX Language acquisition'!C3067 & \"\"\",\"\"\" & 'BX Language acquisition'!B3067 & \"\"\",\"\"\" & 'BX Language acquisition'!D3067 & \"\"\"\"","v":"\" \",\"\",\"\",\"\""}]
[{"$f":"\"\"\" \"& 'BX Language acquisition'!A3068 & \"\"\",\"\"\" & 'BX Language acquisition'!C3068 & \"\"\",\"\"\" & 'BX Language acquisition'!B3068 & \"\"\",\"\"\" & 'BX Language acquisition'!D3068 & \"\"\"\"","v":"\" \",\"\",\"\",\"\""}]
[{"$f":"\"\"\" \"& 'BX Language acquisition'!A3069 & \"\"\",\"\"\" & 'BX Language acquisition'!C3069 & \"\"\",\"\"\" & 'BX Language acquisition'!B3069 & \"\"\",\"\"\" & 'BX Language acquisition'!D3069 & \"\"\"\"","v":"\" \",\"\",\"\",\"\""}]
[{"$f":"\"\"\" \"& 'BX Language acquisition'!A3070 & \"\"\",\"\"\" & 'BX Language acquisition'!C3070 & \"\"\",\"\"\" & 'BX Language acquisition'!B3070 & \"\"\",\"\"\" & 'BX Language acquisition'!D3070 & \"\"\"\"","v":"\" \",\"\",\"\",\"\""}]
[{"$f":"\"\"\" \"& 'BX Language acquisition'!A3071 & \"\"\",\"\"\" & 'BX Language acquisition'!C3071 & \"\"\",\"\"\" & 'BX Language acquisition'!B3071 & \"\"\",\"\"\" & 'BX Language acquisition'!D3071 & \"\"\"\"","v":"\" \",\"\",\"\",\"\""}]
[{"$f":"\"\"\" \"& 'BX Language acquisition'!A3072 & \"\"\",\"\"\" & 'BX Language acquisition'!C3072 & \"\"\",\"\"\" & 'BX Language acquisition'!B3072 & \"\"\",\"\"\" & 'BX Language acquisition'!D3072 & \"\"\"\"","v":"\" \",\"\",\"\",\"\""}]
[{"$f":"\"\"\" \"& 'BX Language acquisition'!A3073 & \"\"\",\"\"\" & 'BX Language acquisition'!C3073 & \"\"\",\"\"\" & 'BX Language acquisition'!B3073 & \"\"\",\"\"\" & 'BX Language acquisition'!D3073 & \"\"\"\"","v":"\" \",\"\",\"\",\"\""}]
[{"$f":"\"\"\" \"& 'BX Language acquisition'!A3074 & \"\"\",\"\"\" & 'BX Language acquisition'!C3074 & \"\"\",\"\"\" & 'BX Language acquisition'!B3074 & \"\"\",\"\"\" & 'BX Language acquisition'!D3074 & \"\"\"\"","v":"\" \",\"\",\"\",\"\""}]
[{"$f":"\"\"\" \"& 'BX Language acquisition'!A3075 & \"\"\",\"\"\" & 'BX Language acquisition'!C3075 & \"\"\",\"\"\" & 'BX Language acquisition'!B3075 & \"\"\",\"\"\" & 'BX Language acquisition'!D3075 & \"\"\"\"","v":"\" \",\"\",\"\",\"\""}]
[{"$f":"\"\"\" \"& 'BX Language acquisition'!A3076 & \"\"\",\"\"\" & 'BX Language acquisition'!C3076 & \"\"\",\"\"\" & 'BX Language acquisition'!B3076 & \"\"\",\"\"\" & 'BX Language acquisition'!D3076 & \"\"\"\"","v":"\" \",\"\",\"\",\"\""}]
[{"$f":"\"\"\" \"& 'BX Language acquisition'!A3077 & \"\"\",\"\"\" & 'BX Language acquisition'!C3077 & \"\"\",\"\"\" & 'BX Language acquisition'!B3077 & \"\"\",\"\"\" & 'BX Language acquisition'!D3077 & \"\"\"\"","v":"\" \",\"\",\"\",\"\""}]
[{"$f":"\"\"\" \"& 'BX Language acquisition'!A3078 & \"\"\",\"\"\" & 'BX Language acquisition'!C3078 & \"\"\",\"\"\" & 'BX Language acquisition'!B3078 & \"\"\",\"\"\" & 'BX Language acquisition'!D3078 & \"\"\"\"","v":"\" \",\"\",\"\",\"\""}]
[{"$f":"\"\"\" \"& 'BX Language acquisition'!A3079 & \"\"\",\"\"\" & 'BX Language acquisition'!C3079 & \"\"\",\"\"\" & 'BX Language acquisition'!B3079 & \"\"\",\"\"\" & 'BX Language acquisition'!D3079 & \"\"\"\"","v":"\" \",\"\",\"\",\"\""}]
[{"$f":"\"\"\" \"& 'BX Language acquisition'!A3080 & \"\"\",\"\"\" & 'BX Language acquisition'!C3080 & \"\"\",\"\"\" & 'BX Language acquisition'!B3080 & \"\"\",\"\"\" & 'BX Language acquisition'!D3080 & \"\"\"\"","v":"\" \",\"\",\"\",\"\""}]
[{"$f":"\"\"\" \"& 'BX Language acquisition'!A3081 & \"\"\",\"\"\" & 'BX Language acquisition'!C3081 & \"\"\",\"\"\" & 'BX Language acquisition'!B3081 & \"\"\",\"\"\" & 'BX Language acquisition'!D3081 & \"\"\"\"","v":"\" \",\"\",\"\",\"\""}]
[{"$f":"\"\"\" \"& 'BX Language acquisition'!A3082 & \"\"\",\"\"\" & 'BX Language acquisition'!C3082 & \"\"\",\"\"\" & 'BX Language acquisition'!B3082 & \"\"\",\"\"\" & 'BX Language acquisition'!D3082 & \"\"\"\"","v":"\" \",\"\",\"\",\"\""}]
[{"$f":"\"\"\" \"& 'BX Language acquisition'!A3083 & \"\"\",\"\"\" & 'BX Language acquisition'!C3083 & \"\"\",\"\"\" & 'BX Language acquisition'!B3083 & \"\"\",\"\"\" & 'BX Language acquisition'!D3083 & \"\"\"\"","v":"\" \",\"\",\"\",\"\""}]
[{"$f":"\"\"\" \"& 'BX Language acquisition'!A3084 & \"\"\",\"\"\" & 'BX Language acquisition'!C3084 & \"\"\",\"\"\" & 'BX Language acquisition'!B3084 & \"\"\",\"\"\" & 'BX Language acquisition'!D3084 & \"\"\"\"","v":"\" \",\"\",\"\",\"\""}]
[{"$f":"\"\"\" \"& 'BX Language acquisition'!A3085 & \"\"\",\"\"\" & 'BX Language acquisition'!C3085 & \"\"\",\"\"\" & 'BX Language acquisition'!B3085 & \"\"\",\"\"\" & 'BX Language acquisition'!D3085 & \"\"\"\"","v":"\" \",\"\",\"\",\"\""}]
[{"$f":"\"\"\" \"& 'BX Language acquisition'!A3086 & \"\"\",\"\"\" & 'BX Language acquisition'!C3086 & \"\"\",\"\"\" & 'BX Language acquisition'!B3086 & \"\"\",\"\"\" & 'BX Language acquisition'!D3086 & \"\"\"\"","v":"\" \",\"\",\"\",\"\""}]
[{"$f":"\"\"\" \"& 'BX Language acquisition'!A3087 & \"\"\",\"\"\" & 'BX Language acquisition'!C3087 & \"\"\",\"\"\" & 'BX Language acquisition'!B3087 & \"\"\",\"\"\" & 'BX Language acquisition'!D3087 & \"\"\"\"","v":"\" \",\"\",\"\",\"\""}]
[{"$f":"\"\"\" \"& 'BX Language acquisition'!A3088 & \"\"\",\"\"\" & 'BX Language acquisition'!C3088 & \"\"\",\"\"\" & 'BX Language acquisition'!B3088 & \"\"\",\"\"\" & 'BX Language acquisition'!D3088 & \"\"\"\"","v":"\" \",\"\",\"\",\"\""}]
[{"$f":"\"\"\" \"& 'BX Language acquisition'!A3089 & \"\"\",\"\"\" & 'BX Language acquisition'!C3089 & \"\"\",\"\"\" & 'BX Language acquisition'!B3089 & \"\"\",\"\"\" & 'BX Language acquisition'!D3089 & \"\"\"\"","v":"\" \",\"\",\"\",\"\""}]
[{"$f":"\"\"\" \"& 'BX Language acquisition'!A3090 & \"\"\",\"\"\" & 'BX Language acquisition'!C3090 & \"\"\",\"\"\" & 'BX Language acquisition'!B3090 & \"\"\",\"\"\" & 'BX Language acquisition'!D3090 & \"\"\"\"","v":"\" \",\"\",\"\",\"\""}]
[{"$f":"\"\"\" \"& 'BX Language acquisition'!A3091 & \"\"\",\"\"\" & 'BX Language acquisition'!C3091 & \"\"\",\"\"\" & 'BX Language acquisition'!B3091 & \"\"\",\"\"\" & 'BX Language acquisition'!D3091 & \"\"\"\"","v":"\" \",\"\",\"\",\"\""}]
[{"$f":"\"\"\" \"& 'BX Language acquisition'!A3092 & \"\"\",\"\"\" & 'BX Language acquisition'!C3092 & \"\"\",\"\"\" & 'BX Language acquisition'!B3092 & \"\"\",\"\"\" & 'BX Language acquisition'!D3092 & \"\"\"\"","v":"\" \",\"\",\"\",\"\""}]
[{"$f":"\"\"\" \"& 'BX Language acquisition'!A3093 & \"\"\",\"\"\" & 'BX Language acquisition'!C3093 & \"\"\",\"\"\" & 'BX Language acquisition'!B3093 & \"\"\",\"\"\" & 'BX Language acquisition'!D3093 & \"\"\"\"","v":"\" \",\"\",\"\",\"\""}]
[{"$f":"\"\"\" \"& 'BX Language acquisition'!A3094 & \"\"\",\"\"\" & 'BX Language acquisition'!C3094 & \"\"\",\"\"\" & 'BX Language acquisition'!B3094 & \"\"\",\"\"\" & 'BX Language acquisition'!D3094 & \"\"\"\"","v":"\" \",\"\",\"\",\"\""}]
[{"$f":"\"\"\" \"& 'BX Language acquisition'!A3095 & \"\"\",\"\"\" & 'BX Language acquisition'!C3095 & \"\"\",\"\"\" & 'BX Language acquisition'!B3095 & \"\"\",\"\"\" & 'BX Language acquisition'!D3095 & \"\"\"\"","v":"\" \",\"\",\"\",\"\""}]
[{"$f":"\"\"\" \"& 'BX Language acquisition'!A3096 & \"\"\",\"\"\" & 'BX Language acquisition'!C3096 & \"\"\",\"\"\" & 'BX Language acquisition'!B3096 & \"\"\",\"\"\" & 'BX Language acquisition'!D3096 & \"\"\"\"","v":"\" \",\"\",\"\",\"\""}]
[{"$f":"\"\"\" \"& 'BX Language acquisition'!A3097 & \"\"\",\"\"\" & 'BX Language acquisition'!C3097 & \"\"\",\"\"\" & 'BX Language acquisition'!B3097 & \"\"\",\"\"\" & 'BX Language acquisition'!D3097 & \"\"\"\"","v":"\" \",\"\",\"\",\"\""}]
[{"$f":"\"\"\" \"& 'BX Language acquisition'!A3098 & \"\"\",\"\"\" & 'BX Language acquisition'!C3098 & \"\"\",\"\"\" & 'BX Language acquisition'!B3098 & \"\"\",\"\"\" & 'BX Language acquisition'!D3098 & \"\"\"\"","v":"\" \",\"\",\"\",\"\""}]
[{"$f":"\"\"\" \"& 'BX Language acquisition'!A3099 & \"\"\",\"\"\" & 'BX Language acquisition'!C3099 & \"\"\",\"\"\" & 'BX Language acquisition'!B3099 & \"\"\",\"\"\" & 'BX Language acquisition'!D3099 & \"\"\"\"","v":"\" \",\"\",\"\",\"\""}]
[{"$f":"\"\"\" \"& 'BX Language acquisition'!A3100 & \"\"\",\"\"\" & 'BX Language acquisition'!C3100 & \"\"\",\"\"\" & 'BX Language acquisition'!B3100 & \"\"\",\"\"\" & 'BX Language acquisition'!D3100 & \"\"\"\"","v":"\" \",\"\",\"\",\"\""}]
[{"$f":"\"\"\" \"& 'BX Language acquisition'!A3101 & \"\"\",\"\"\" & 'BX Language acquisition'!C3101 & \"\"\",\"\"\" & 'BX Language acquisition'!B3101 & \"\"\",\"\"\" & 'BX Language acquisition'!D3101 & \"\"\"\"","v":"\" \",\"\",\"\",\"\""}]
[{"$f":"\"\"\" \"& 'BX Language acquisition'!A3102 & \"\"\",\"\"\" & 'BX Language acquisition'!C3102 & \"\"\",\"\"\" & 'BX Language acquisition'!B3102 & \"\"\",\"\"\" & 'BX Language acquisition'!D3102 & \"\"\"\"","v":"\" \",\"\",\"\",\"\""}]
[{"$f":"\"\"\" \"& 'BX Language acquisition'!A3103 & \"\"\",\"\"\" & 'BX Language acquisition'!C3103 & \"\"\",\"\"\" & 'BX Language acquisition'!B3103 & \"\"\",\"\"\" & 'BX Language acquisition'!D3103 & \"\"\"\"","v":"\" \",\"\",\"\",\"\""}]
[{"$f":"\"\"\" \"& 'BX Language acquisition'!A3104 & \"\"\",\"\"\" & 'BX Language acquisition'!C3104 & \"\"\",\"\"\" & 'BX Language acquisition'!B3104 & \"\"\",\"\"\" & 'BX Language acquisition'!D3104 & \"\"\"\"","v":"\" \",\"\",\"\",\"\""}]
[{"$f":"\"\"\" \"& 'BX Language acquisition'!A3105 & \"\"\",\"\"\" & 'BX Language acquisition'!C3105 & \"\"\",\"\"\" & 'BX Language acquisition'!B3105 & \"\"\",\"\"\" & 'BX Language acquisition'!D3105 & \"\"\"\"","v":"\" \",\"\",\"\",\"\""}]
[{"$f":"\"\"\" \"& 'BX Language acquisition'!A3106 & \"\"\",\"\"\" & 'BX Language acquisition'!C3106 & \"\"\",\"\"\" & 'BX Language acquisition'!B3106 & \"\"\",\"\"\" & 'BX Language acquisition'!D3106 & \"\"\"\"","v":"\" \",\"\",\"\",\"\""}]
[{"$f":"\"\"\" \"& 'BX Language acquisition'!A3107 & \"\"\",\"\"\" & 'BX Language acquisition'!C3107 & \"\"\",\"\"\" & 'BX Language acquisition'!B3107 & \"\"\",\"\"\" & 'BX Language acquisition'!D3107 & \"\"\"\"","v":"\" \",\"\",\"\",\"\""}]
[{"$f":"\"\"\" \"& 'BX Language acquisition'!A3108 & \"\"\",\"\"\" & 'BX Language acquisition'!C3108 & \"\"\",\"\"\" & 'BX Language acquisition'!B3108 & \"\"\",\"\"\" & 'BX Language acquisition'!D3108 & \"\"\"\"","v":"\" \",\"\",\"\",\"\""}]
[{"$f":"\"\"\" \"& 'BX Language acquisition'!A3109 & \"\"\",\"\"\" & 'BX Language acquisition'!C3109 & \"\"\",\"\"\" & 'BX Language acquisition'!B3109 & \"\"\",\"\"\" & 'BX Language acquisition'!D3109 & \"\"\"\"","v":"\" \",\"\",\"\",\"\""}]
[{"$f":"\"\"\" \"& 'BX Language acquisition'!A3110 & \"\"\",\"\"\" & 'BX Language acquisition'!C3110 & \"\"\",\"\"\" & 'BX Language acquisition'!B3110 & \"\"\",\"\"\" & 'BX Language acquisition'!D3110 & \"\"\"\"","v":"\" \",\"\",\"\",\"\""}]
[{"$f":"\"\"\" \"& 'BX Language acquisition'!A3111 & \"\"\",\"\"\" & 'BX Language acquisition'!C3111 & \"\"\",\"\"\" & 'BX Language acquisition'!B3111 & \"\"\",\"\"\" & 'BX Language acquisition'!D3111 & \"\"\"\"","v":"\" \",\"\",\"\",\"\""}]
[{"$f":"\"\"\" \"& 'BX Language acquisition'!A3112 & \"\"\",\"\"\" & 'BX Language acquisition'!C3112 & \"\"\",\"\"\" & 'BX Language acquisition'!B3112 & \"\"\",\"\"\" & 'BX Language acquisition'!D3112 & \"\"\"\"","v":"\" \",\"\",\"\",\"\""}]
[{"$f":"\"\"\" \"& 'BX Language acquisition'!A3113 & \"\"\",\"\"\" & 'BX Language acquisition'!C3113 & \"\"\",\"\"\" & 'BX Language acquisition'!B3113 & \"\"\",\"\"\" & 'BX Language acquisition'!D3113 & \"\"\"\"","v":"\" \",\"\",\"\",\"\""}]
[{"$f":"\"\"\" \"& 'BX Language acquisition'!A3114 & \"\"\",\"\"\" & 'BX Language acquisition'!C3114 & \"\"\",\"\"\" & 'BX Language acquisition'!B3114 & \"\"\",\"\"\" & 'BX Language acquisition'!D3114 & \"\"\"\"","v":"\" \",\"\",\"\",\"\""}]
[{"$f":"\"\"\" \"& 'BX Language acquisition'!A3115 & \"\"\",\"\"\" & 'BX Language acquisition'!C3115 & \"\"\",\"\"\" & 'BX Language acquisition'!B3115 & \"\"\",\"\"\" & 'BX Language acquisition'!D3115 & \"\"\"\"","v":"\" \",\"\",\"\",\"\""}]
[{"$f":"\"\"\" \"& 'BX Language acquisition'!A3116 & \"\"\",\"\"\" & 'BX Language acquisition'!C3116 & \"\"\",\"\"\" & 'BX Language acquisition'!B3116 & \"\"\",\"\"\" & 'BX Language acquisition'!D3116 & \"\"\"\"","v":"\" \",\"\",\"\",\"\""}]
[{"$f":"\"\"\" \"& 'BX Language acquisition'!A3117 & \"\"\",\"\"\" & 'BX Language acquisition'!C3117 & \"\"\",\"\"\" & 'BX Language acquisition'!B3117 & \"\"\",\"\"\" & 'BX Language acquisition'!D3117 & \"\"\"\"","v":"\" \",\"\",\"\",\"\""}]
[{"$f":"\"\"\" \"& 'BX Language acquisition'!A3118 & \"\"\",\"\"\" & 'BX Language acquisition'!C3118 & \"\"\",\"\"\" & 'BX Language acquisition'!B3118 & \"\"\",\"\"\" & 'BX Language acquisition'!D3118 & \"\"\"\"","v":"\" \",\"\",\"\",\"\""}]
[{"$f":"\"\"\" \"& 'BX Language acquisition'!A3119 & \"\"\",\"\"\" & 'BX Language acquisition'!C3119 & \"\"\",\"\"\" & 'BX Language acquisition'!B3119 & \"\"\",\"\"\" & 'BX Language acquisition'!D3119 & \"\"\"\"","v":"\" \",\"\",\"\",\"\""}]
[{"$f":"\"\"\" \"& 'BX Language acquisition'!A3120 & \"\"\",\"\"\" & 'BX Language acquisition'!C3120 & \"\"\",\"\"\" & 'BX Language acquisition'!B3120 & \"\"\",\"\"\" & 'BX Language acquisition'!D3120 & \"\"\"\"","v":"\" \",\"\",\"\",\"\""}]
[{"$f":"\"\"\" \"& 'BX Language acquisition'!A3121 & \"\"\",\"\"\" & 'BX Language acquisition'!C3121 & \"\"\",\"\"\" & 'BX Language acquisition'!B3121 & \"\"\",\"\"\" & 'BX Language acquisition'!D3121 & \"\"\"\"","v":"\" \",\"\",\"\",\"\""}]
[{"$f":"\"\"\" \"& 'BX Language acquisition'!A3122 & \"\"\",\"\"\" & 'BX Language acquisition'!C3122 & \"\"\",\"\"\" & 'BX Language acquisition'!B3122 & \"\"\",\"\"\" & 'BX Language acquisition'!D3122 & \"\"\"\"","v":"\" \",\"\",\"\",\"\""}]
[{"$f":"\"\"\" \"& 'BX Language acquisition'!A3123 & \"\"\",\"\"\" & 'BX Language acquisition'!C3123 & \"\"\",\"\"\" & 'BX Language acquisition'!B3123 & \"\"\",\"\"\" & 'BX Language acquisition'!D3123 & \"\"\"\"","v":"\" \",\"\",\"\",\"\""}]
[{"$f":"\"\"\" \"& 'BX Language acquisition'!A3124 & \"\"\",\"\"\" & 'BX Language acquisition'!C3124 & \"\"\",\"\"\" & 'BX Language acquisition'!B3124 & \"\"\",\"\"\" & 'BX Language acquisition'!D3124 & \"\"\"\"","v":"\" \",\"\",\"\",\"\""}]
[{"$f":"\"\"\" \"& 'BX Language acquisition'!A3125 & \"\"\",\"\"\" & 'BX Language acquisition'!C3125 & \"\"\",\"\"\" & 'BX Language acquisition'!B3125 & \"\"\",\"\"\" & 'BX Language acquisition'!D3125 & \"\"\"\"","v":"\" \",\"\",\"\",\"\""}]
[{"$f":"\"\"\" \"& 'BX Language acquisition'!A3126 & \"\"\",\"\"\" & 'BX Language acquisition'!C3126 & \"\"\",\"\"\" & 'BX Language acquisition'!B3126 & \"\"\",\"\"\" & 'BX Language acquisition'!D3126 & \"\"\"\"","v":"\" \",\"\",\"\",\"\""}]
[{"$f":"\"\"\" \"& 'BX Language acquisition'!A3127 & \"\"\",\"\"\" & 'BX Language acquisition'!C3127 & \"\"\",\"\"\" & 'BX Language acquisition'!B3127 & \"\"\",\"\"\" & 'BX Language acquisition'!D3127 & \"\"\"\"","v":"\" \",\"\",\"\",\"\""}]
[{"$f":"\"\"\" \"& 'BX Language acquisition'!A3128 & \"\"\",\"\"\" & 'BX Language acquisition'!C3128 & \"\"\",\"\"\" & 'BX Language acquisition'!B3128 & \"\"\",\"\"\" & 'BX Language acquisition'!D3128 & \"\"\"\"","v":"\" \",\"\",\"\",\"\""}]
[{"$f":"\"\"\" \"& 'BX Language acquisition'!A3129 & \"\"\",\"\"\" & 'BX Language acquisition'!C3129 & \"\"\",\"\"\" & 'BX Language acquisition'!B3129 & \"\"\",\"\"\" & 'BX Language acquisition'!D3129 & \"\"\"\"","v":"\" \",\"\",\"\",\"\""}]
[{"$f":"\"\"\" \"& 'BX Language acquisition'!A3130 & \"\"\",\"\"\" & 'BX Language acquisition'!C3130 & \"\"\",\"\"\" & 'BX Language acquisition'!B3130 & \"\"\",\"\"\" & 'BX Language acquisition'!D3130 & \"\"\"\"","v":"\" \",\"\",\"\",\"\""}]
[{"$f":"\"\"\" \"& 'BX Language acquisition'!A3131 & \"\"\",\"\"\" & 'BX Language acquisition'!C3131 & \"\"\",\"\"\" & 'BX Language acquisition'!B3131 & \"\"\",\"\"\" & 'BX Language acquisition'!D3131 & \"\"\"\"","v":"\" \",\"\",\"\",\"\""}]
[{"$f":"\"\"\" \"& 'BX Language acquisition'!A3132 & \"\"\",\"\"\" & 'BX Language acquisition'!C3132 & \"\"\",\"\"\" & 'BX Language acquisition'!B3132 & \"\"\",\"\"\" & 'BX Language acquisition'!D3132 & \"\"\"\"","v":"\" \",\"\",\"\",\"\""}]
[{"$f":"\"\"\" \"& 'BX Language acquisition'!A3133 & \"\"\",\"\"\" & 'BX Language acquisition'!C3133 & \"\"\",\"\"\" & 'BX Language acquisition'!B3133 & \"\"\",\"\"\" & 'BX Language acquisition'!D3133 & \"\"\"\"","v":"\" \",\"\",\"\",\"\""}]
[{"$f":"\"\"\" \"& 'BX Language acquisition'!A3134 & \"\"\",\"\"\" & 'BX Language acquisition'!C3134 & \"\"\",\"\"\" & 'BX Language acquisition'!B3134 & \"\"\",\"\"\" & 'BX Language acquisition'!D3134 & \"\"\"\"","v":"\" \",\"\",\"\",\"\""}]
[{"$f":"\"\"\" \"& 'BX Language acquisition'!A3135 & \"\"\",\"\"\" & 'BX Language acquisition'!C3135 & \"\"\",\"\"\" & 'BX Language acquisition'!B3135 & \"\"\",\"\"\" & 'BX Language acquisition'!D3135 & \"\"\"\"","v":"\" \",\"\",\"\",\"\""}]
[{"$f":"\"\"\" \"& 'BX Language acquisition'!A3136 & \"\"\",\"\"\" & 'BX Language acquisition'!C3136 & \"\"\",\"\"\" & 'BX Language acquisition'!B3136 & \"\"\",\"\"\" & 'BX Language acquisition'!D3136 & \"\"\"\"","v":"\" \",\"\",\"\",\"\""}]
[{"$f":"\"\"\" \"& 'BX Language acquisition'!A3137 & \"\"\",\"\"\" & 'BX Language acquisition'!C3137 & \"\"\",\"\"\" & 'BX Language acquisition'!B3137 & \"\"\",\"\"\" & 'BX Language acquisition'!D3137 & \"\"\"\"","v":"\" \",\"\",\"\",\"\""}]
[{"$f":"\"\"\" \"& 'BX Language acquisition'!A3138 & \"\"\",\"\"\" & 'BX Language acquisition'!C3138 & \"\"\",\"\"\" & 'BX Language acquisition'!B3138 & \"\"\",\"\"\" & 'BX Language acquisition'!D3138 & \"\"\"\"","v":"\" \",\"\",\"\",\"\""}]
[{"$f":"\"\"\" \"& 'BX Language acquisition'!A3139 & \"\"\",\"\"\" & 'BX Language acquisition'!C3139 & \"\"\",\"\"\" & 'BX Language acquisition'!B3139 & \"\"\",\"\"\" & 'BX Language acquisition'!D3139 & \"\"\"\"","v":"\" \",\"\",\"\",\"\""}]
[{"$f":"\"\"\" \"& 'BX Language acquisition'!A3140 & \"\"\",\"\"\" & 'BX Language acquisition'!C3140 & \"\"\",\"\"\" & 'BX Language acquisition'!B3140 & \"\"\",\"\"\" & 'BX Language acquisition'!D3140 & \"\"\"\"","v":"\" \",\"\",\"\",\"\""}]
[{"$f":"\"\"\" \"& 'BX Language acquisition'!A3141 & \"\"\",\"\"\" & 'BX Language acquisition'!C3141 & \"\"\",\"\"\" & 'BX Language acquisition'!B3141 & \"\"\",\"\"\" & 'BX Language acquisition'!D3141 & \"\"\"\"","v":"\" \",\"\",\"\",\"\""}]
[{"$f":"\"\"\" \"& 'BX Language acquisition'!A3142 & \"\"\",\"\"\" & 'BX Language acquisition'!C3142 & \"\"\",\"\"\" & 'BX Language acquisition'!B3142 & \"\"\",\"\"\" & 'BX Language acquisition'!D3142 & \"\"\"\"","v":"\" \",\"\",\"\",\"\""}]
[{"$f":"\"\"\" \"& 'BX Language acquisition'!A3143 & \"\"\",\"\"\" & 'BX Language acquisition'!C3143 & \"\"\",\"\"\" & 'BX Language acquisition'!B3143 & \"\"\",\"\"\" & 'BX Language acquisition'!D3143 & \"\"\"\"","v":"\" \",\"\",\"\",\"\""}]
[{"$f":"\"\"\" \"& 'BX Language acquisition'!A3144 & \"\"\",\"\"\" & 'BX Language acquisition'!C3144 & \"\"\",\"\"\" & 'BX Language acquisition'!B3144 & \"\"\",\"\"\" & 'BX Language acquisition'!D3144 & \"\"\"\"","v":"\" \",\"\",\"\",\"\""}]
[{"$f":"\"\"\" \"& 'BX Language acquisition'!A3145 & \"\"\",\"\"\" & 'BX Language acquisition'!C3145 & \"\"\",\"\"\" & 'BX Language acquisition'!B3145 & \"\"\",\"\"\" & 'BX Language acquisition'!D3145 & \"\"\"\"","v":"\" \",\"\",\"\",\"\""}]
[{"$f":"\"\"\" \"& 'BX Language acquisition'!A3146 & \"\"\",\"\"\" & 'BX Language acquisition'!C3146 & \"\"\",\"\"\" & 'BX Language acquisition'!B3146 & \"\"\",\"\"\" & 'BX Language acquisition'!D3146 & \"\"\"\"","v":"\" \",\"\",\"\",\"\""}]
[{"$f":"\"\"\" \"& 'BX Language acquisition'!A3147 & \"\"\",\"\"\" & 'BX Language acquisition'!C3147 & \"\"\",\"\"\" & 'BX Language acquisition'!B3147 & \"\"\",\"\"\" & 'BX Language acquisition'!D3147 & \"\"\"\"","v":"\" \",\"\",\"\",\"\""}]
[{"$f":"\"\"\" \"& 'BX Language acquisition'!A3148 & \"\"\",\"\"\" & 'BX Language acquisition'!C3148 & \"\"\",\"\"\" & 'BX Language acquisition'!B3148 & \"\"\",\"\"\" & 'BX Language acquisition'!D3148 & \"\"\"\"","v":"\" \",\"\",\"\",\"\""}]
[{"$f":"\"\"\" \"& 'BX Language acquisition'!A3149 & \"\"\",\"\"\" & 'BX Language acquisition'!C3149 & \"\"\",\"\"\" & 'BX Language acquisition'!B3149 & \"\"\",\"\"\" & 'BX Language acquisition'!D3149 & \"\"\"\"","v":"\" \",\"\",\"\",\"\""}]
[{"$f":"\"\"\" \"& 'BX Language acquisition'!A3150 & \"\"\",\"\"\" & 'BX Language acquisition'!C3150 & \"\"\",\"\"\" & 'BX Language acquisition'!B3150 & \"\"\",\"\"\" & 'BX Language acquisition'!D3150 & \"\"\"\"","v":"\" \",\"\",\"\",\"\""}]
[{"$f":"\"\"\" \"& 'BX Language acquisition'!A3151 & \"\"\",\"\"\" & 'BX Language acquisition'!C3151 & \"\"\",\"\"\" & 'BX Language acquisition'!B3151 & \"\"\",\"\"\" & 'BX Language acquisition'!D3151 & \"\"\"\"","v":"\" \",\"\",\"\",\"\""}]
[{"$f":"\"\"\" \"& 'BX Language acquisition'!A3152 & \"\"\",\"\"\" & 'BX Language acquisition'!C3152 & \"\"\",\"\"\" & 'BX Language acquisition'!B3152 & \"\"\",\"\"\" & 'BX Language acquisition'!D3152 & \"\"\"\"","v":"\" \",\"\",\"\",\"\""}]
[{"$f":"\"\"\" \"& 'BX Language acquisition'!A3153 & \"\"\",\"\"\" & 'BX Language acquisition'!C3153 & \"\"\",\"\"\" & 'BX Language acquisition'!B3153 & \"\"\",\"\"\" & 'BX Language acquisition'!D3153 & \"\"\"\"","v":"\" \",\"\",\"\",\"\""}]
[{"$f":"\"\"\" \"& 'BX Language acquisition'!A3154 & \"\"\",\"\"\" & 'BX Language acquisition'!C3154 & \"\"\",\"\"\" & 'BX Language acquisition'!B3154 & \"\"\",\"\"\" & 'BX Language acquisition'!D3154 & \"\"\"\"","v":"\" \",\"\",\"\",\"\""}]
[{"$f":"\"\"\" \"& 'BX Language acquisition'!A3155 & \"\"\",\"\"\" & 'BX Language acquisition'!C3155 & \"\"\",\"\"\" & 'BX Language acquisition'!B3155 & \"\"\",\"\"\" & 'BX Language acquisition'!D3155 & \"\"\"\"","v":"\" \",\"\",\"\",\"\""}]
[{"$f":"\"\"\" \"& 'BX Language acquisition'!A3156 & \"\"\",\"\"\" & 'BX Language acquisition'!C3156 & \"\"\",\"\"\" & 'BX Language acquisition'!B3156 & \"\"\",\"\"\" & 'BX Language acquisition'!D3156 & \"\"\"\"","v":"\" \",\"\",\"\",\"\""}]
[{"$f":"\"\"\" \"& 'BX Language acquisition'!A3157 & \"\"\",\"\"\" & 'BX Language acquisition'!C3157 & \"\"\",\"\"\" & 'BX Language acquisition'!B3157 & \"\"\",\"\"\" & 'BX Language acquisition'!D3157 & \"\"\"\"","v":"\" \",\"\",\"\",\"\""}]
[{"$f":"\"\"\" \"& 'BX Language acquisition'!A3158 & \"\"\",\"\"\" & 'BX Language acquisition'!C3158 & \"\"\",\"\"\" & 'BX Language acquisition'!B3158 & \"\"\",\"\"\" & 'BX Language acquisition'!D3158 & \"\"\"\"","v":"\" \",\"\",\"\",\"\""}]
[{"$f":"\"\"\" \"& 'BX Language acquisition'!A3159 & \"\"\",\"\"\" & 'BX Language acquisition'!C3159 & \"\"\",\"\"\" & 'BX Language acquisition'!B3159 & \"\"\",\"\"\" & 'BX Language acquisition'!D3159 & \"\"\"\"","v":"\" \",\"\",\"\",\"\""}]
[{"$f":"\"\"\" \"& 'BX Language acquisition'!A3160 & \"\"\",\"\"\" & 'BX Language acquisition'!C3160 & \"\"\",\"\"\" & 'BX Language acquisition'!B3160 & \"\"\",\"\"\" & 'BX Language acquisition'!D3160 & \"\"\"\"","v":"\" \",\"\",\"\",\"\""}]
[{"$f":"\"\"\" \"& 'BX Language acquisition'!A3161 & \"\"\",\"\"\" & 'BX Language acquisition'!C3161 & \"\"\",\"\"\" & 'BX Language acquisition'!B3161 & \"\"\",\"\"\" & 'BX Language acquisition'!D3161 & \"\"\"\"","v":"\" \",\"\",\"\",\"\""}]
[{"$f":"\"\"\" \"& 'BX Language acquisition'!A3162 & \"\"\",\"\"\" & 'BX Language acquisition'!C3162 & \"\"\",\"\"\" & 'BX Language acquisition'!B3162 & \"\"\",\"\"\" & 'BX Language acquisition'!D3162 & \"\"\"\"","v":"\" \",\"\",\"\",\"\""}]
[{"$f":"\"\"\" \"& 'BX Language acquisition'!A3163 & \"\"\",\"\"\" & 'BX Language acquisition'!C3163 & \"\"\",\"\"\" & 'BX Language acquisition'!B3163 & \"\"\",\"\"\" & 'BX Language acquisition'!D3163 & \"\"\"\"","v":"\" \",\"\",\"\",\"\""}]
[{"$f":"\"\"\" \"& 'BX Language acquisition'!A3164 & \"\"\",\"\"\" & 'BX Language acquisition'!C3164 & \"\"\",\"\"\" & 'BX Language acquisition'!B3164 & \"\"\",\"\"\" & 'BX Language acquisition'!D3164 & \"\"\"\"","v":"\" \",\"\",\"\",\"\""}]
[{"$f":"\"\"\" \"& 'BX Language acquisition'!A3165 & \"\"\",\"\"\" & 'BX Language acquisition'!C3165 & \"\"\",\"\"\" & 'BX Language acquisition'!B3165 & \"\"\",\"\"\" & 'BX Language acquisition'!D3165 & \"\"\"\"","v":"\" \",\"\",\"\",\"\""}]
[{"$f":"\"\"\" \"& 'BX Language acquisition'!A3166 & \"\"\",\"\"\" & 'BX Language acquisition'!C3166 & \"\"\",\"\"\" & 'BX Language acquisition'!B3166 & \"\"\",\"\"\" & 'BX Language acquisition'!D3166 & \"\"\"\"","v":"\" \",\"\",\"\",\"\""}]
[{"$f":"\"\"\" \"& 'BX Language acquisition'!A3167 & \"\"\",\"\"\" & 'BX Language acquisition'!C3167 & \"\"\",\"\"\" & 'BX Language acquisition'!B3167 & \"\"\",\"\"\" & 'BX Language acquisition'!D3167 & \"\"\"\"","v":"\" \",\"\",\"\",\"\""}]
[{"$f":"\"\"\" \"& 'BX Language acquisition'!A3168 & \"\"\",\"\"\" & 'BX Language acquisition'!C3168 & \"\"\",\"\"\" & 'BX Language acquisition'!B3168 & \"\"\",\"\"\" & 'BX Language acquisition'!D3168 & \"\"\"\"","v":"\" \",\"\",\"\",\"\""}]
[{"$f":"\"\"\" \"& 'BX Language acquisition'!A3169 & \"\"\",\"\"\" & 'BX Language acquisition'!C3169 & \"\"\",\"\"\" & 'BX Language acquisition'!B3169 & \"\"\",\"\"\" & 'BX Language acquisition'!D3169 & \"\"\"\"","v":"\" \",\"\",\"\",\"\""}]
[{"$f":"\"\"\" \"& 'BX Language acquisition'!A3170 & \"\"\",\"\"\" & 'BX Language acquisition'!C3170 & \"\"\",\"\"\" & 'BX Language acquisition'!B3170 & \"\"\",\"\"\" & 'BX Language acquisition'!D3170 & \"\"\"\"","v":"\" \",\"\",\"\",\"\""}]
[{"$f":"\"\"\" \"& 'BX Language acquisition'!A3171 & \"\"\",\"\"\" & 'BX Language acquisition'!C3171 & \"\"\",\"\"\" & 'BX Language acquisition'!B3171 & \"\"\",\"\"\" & 'BX Language acquisition'!D3171 & \"\"\"\"","v":"\" \",\"\",\"\",\"\""}]
[{"$f":"\"\"\" \"& 'BX Language acquisition'!A3172 & \"\"\",\"\"\" & 'BX Language acquisition'!C3172 & \"\"\",\"\"\" & 'BX Language acquisition'!B3172 & \"\"\",\"\"\" & 'BX Language acquisition'!D3172 & \"\"\"\"","v":"\" \",\"\",\"\",\"\""}]
[{"$f":"\"\"\" \"& 'BX Language acquisition'!A3173 & \"\"\",\"\"\" & 'BX Language acquisition'!C3173 & \"\"\",\"\"\" & 'BX Language acquisition'!B3173 & \"\"\",\"\"\" & 'BX Language acquisition'!D3173 & \"\"\"\"","v":"\" \",\"\",\"\",\"\""}]
[{"$f":"\"\"\" \"& 'BX Language acquisition'!A3174 & \"\"\",\"\"\" & 'BX Language acquisition'!C3174 & \"\"\",\"\"\" & 'BX Language acquisition'!B3174 & \"\"\",\"\"\" & 'BX Language acquisition'!D3174 & \"\"\"\"","v":"\" \",\"\",\"\",\"\""}]
[{"$f":"\"\"\" \"& 'BX Language acquisition'!A3175 & \"\"\",\"\"\" & 'BX Language acquisition'!C3175 & \"\"\",\"\"\" & 'BX Language acquisition'!B3175 & \"\"\",\"\"\" & 'BX Language acquisition'!D3175 & \"\"\"\"","v":"\" \",\"\",\"\",\"\""}]
[{"$f":"\"\"\" \"& 'BX Language acquisition'!A3176 & \"\"\",\"\"\" & 'BX Language acquisition'!C3176 & \"\"\",\"\"\" & 'BX Language acquisition'!B3176 & \"\"\",\"\"\" & 'BX Language acquisition'!D3176 & \"\"\"\"","v":"\" \",\"\",\"\",\"\""}]
[{"$f":"\"\"\" \"& 'BX Language acquisition'!A3177 & \"\"\",\"\"\" & 'BX Language acquisition'!C3177 & \"\"\",\"\"\" & 'BX Language acquisition'!B3177 & \"\"\",\"\"\" & 'BX Language acquisition'!D3177 & \"\"\"\"","v":"\" \",\"\",\"\",\"\""}]
[{"$f":"\"\"\" \"& 'BX Language acquisition'!A3178 & \"\"\",\"\"\" & 'BX Language acquisition'!C3178 & \"\"\",\"\"\" & 'BX Language acquisition'!B3178 & \"\"\",\"\"\" & 'BX Language acquisition'!D3178 & \"\"\"\"","v":"\" \",\"\",\"\",\"\""}]
[{"$f":"\"\"\" \"& 'BX Language acquisition'!A3179 & \"\"\",\"\"\" & 'BX Language acquisition'!C3179 & \"\"\",\"\"\" & 'BX Language acquisition'!B3179 & \"\"\",\"\"\" & 'BX Language acquisition'!D3179 & \"\"\"\"","v":"\" \",\"\",\"\",\"\""}]
[{"$f":"\"\"\" \"& 'BX Language acquisition'!A3180 & \"\"\",\"\"\" & 'BX Language acquisition'!C3180 & \"\"\",\"\"\" & 'BX Language acquisition'!B3180 & \"\"\",\"\"\" & 'BX Language acquisition'!D3180 & \"\"\"\"","v":"\" \",\"\",\"\",\"\""}]
[{"$f":"\"\"\" \"& 'BX Language acquisition'!A3181 & \"\"\",\"\"\" & 'BX Language acquisition'!C3181 & \"\"\",\"\"\" & 'BX Language acquisition'!B3181 & \"\"\",\"\"\" & 'BX Language acquisition'!D3181 & \"\"\"\"","v":"\" \",\"\",\"\",\"\""}]
[{"$f":"\"\"\" \"& 'BX Language acquisition'!A3182 & \"\"\",\"\"\" & 'BX Language acquisition'!C3182 & \"\"\",\"\"\" & 'BX Language acquisition'!B3182 & \"\"\",\"\"\" & 'BX Language acquisition'!D3182 & \"\"\"\"","v":"\" \",\"\",\"\",\"\""}]
[{"$f":"\"\"\" \"& 'BX Language acquisition'!A3183 & \"\"\",\"\"\" & 'BX Language acquisition'!C3183 & \"\"\",\"\"\" & 'BX Language acquisition'!B3183 & \"\"\",\"\"\" & 'BX Language acquisition'!D3183 & \"\"\"\"","v":"\" \",\"\",\"\",\"\""}]
[{"$f":"\"\"\" \"& 'BX Language acquisition'!A3184 & \"\"\",\"\"\" & 'BX Language acquisition'!C3184 & \"\"\",\"\"\" & 'BX Language acquisition'!B3184 & \"\"\",\"\"\" & 'BX Language acquisition'!D3184 & \"\"\"\"","v":"\" \",\"\",\"\",\"\""}]
[{"$f":"\"\"\" \"& 'BX Language acquisition'!A3185 & \"\"\",\"\"\" & 'BX Language acquisition'!C3185 & \"\"\",\"\"\" & 'BX Language acquisition'!B3185 & \"\"\",\"\"\" & 'BX Language acquisition'!D3185 & \"\"\"\"","v":"\" \",\"\",\"\",\"\""}]
[{"$f":"\"\"\" \"& 'BX Language acquisition'!A3186 & \"\"\",\"\"\" & 'BX Language acquisition'!C3186 & \"\"\",\"\"\" & 'BX Language acquisition'!B3186 & \"\"\",\"\"\" & 'BX Language acquisition'!D3186 & \"\"\"\"","v":"\" \",\"\",\"\",\"\""}]
[{"$f":"\"\"\" \"& 'BX Language acquisition'!A3187 & \"\"\",\"\"\" & 'BX Language acquisition'!C3187 & \"\"\",\"\"\" & 'BX Language acquisition'!B3187 & \"\"\",\"\"\" & 'BX Language acquisition'!D3187 & \"\"\"\"","v":"\" \",\"\",\"\",\"\""}]
[{"$f":"\"\"\" \"& 'BX Language acquisition'!A3188 & \"\"\",\"\"\" & 'BX Language acquisition'!C3188 & \"\"\",\"\"\" & 'BX Language acquisition'!B3188 & \"\"\",\"\"\" & 'BX Language acquisition'!D3188 & \"\"\"\"","v":"\" \",\"\",\"\",\"\""}]
[{"$f":"\"\"\" \"& 'BX Language acquisition'!A3189 & \"\"\",\"\"\" & 'BX Language acquisition'!C3189 & \"\"\",\"\"\" & 'BX Language acquisition'!B3189 & \"\"\",\"\"\" & 'BX Language acquisition'!D3189 & \"\"\"\"","v":"\" \",\"\",\"\",\"\""}]
[{"$f":"\"\"\" \"& 'BX Language acquisition'!A3190 & \"\"\",\"\"\" & 'BX Language acquisition'!C3190 & \"\"\",\"\"\" & 'BX Language acquisition'!B3190 & \"\"\",\"\"\" & 'BX Language acquisition'!D3190 & \"\"\"\"","v":"\" \",\"\",\"\",\"\""}]
[{"$f":"\"\"\" \"& 'BX Language acquisition'!A3191 & \"\"\",\"\"\" & 'BX Language acquisition'!C3191 & \"\"\",\"\"\" & 'BX Language acquisition'!B3191 & \"\"\",\"\"\" & 'BX Language acquisition'!D3191 & \"\"\"\"","v":"\" \",\"\",\"\",\"\""}]
[{"$f":"\"\"\" \"& 'BX Language acquisition'!A3192 & \"\"\",\"\"\" & 'BX Language acquisition'!C3192 & \"\"\",\"\"\" & 'BX Language acquisition'!B3192 & \"\"\",\"\"\" & 'BX Language acquisition'!D3192 & \"\"\"\"","v":"\" \",\"\",\"\",\"\""}]
[{"$f":"\"\"\" \"& 'BX Language acquisition'!A3193 & \"\"\",\"\"\" & 'BX Language acquisition'!C3193 & \"\"\",\"\"\" & 'BX Language acquisition'!B3193 & \"\"\",\"\"\" & 'BX Language acquisition'!D3193 & \"\"\"\"","v":"\" \",\"\",\"\",\"\""}]
[{"$f":"\"\"\" \"& 'BX Language acquisition'!A3194 & \"\"\",\"\"\" & 'BX Language acquisition'!C3194 & \"\"\",\"\"\" & 'BX Language acquisition'!B3194 & \"\"\",\"\"\" & 'BX Language acquisition'!D3194 & \"\"\"\"","v":"\" \",\"\",\"\",\"\""}]
[{"$f":"\"\"\" \"& 'BX Language acquisition'!A3195 & \"\"\",\"\"\" & 'BX Language acquisition'!C3195 & \"\"\",\"\"\" & 'BX Language acquisition'!B3195 & \"\"\",\"\"\" & 'BX Language acquisition'!D3195 & \"\"\"\"","v":"\" \",\"\",\"\",\"\""}]
[{"$f":"\"\"\" \"& 'BX Language acquisition'!A3196 & \"\"\",\"\"\" & 'BX Language acquisition'!C3196 & \"\"\",\"\"\" & 'BX Language acquisition'!B3196 & \"\"\",\"\"\" & 'BX Language acquisition'!D3196 & \"\"\"\"","v":"\" \",\"\",\"\",\"\""}]
[{"$f":"\"\"\" \"& 'BX Language acquisition'!A3197 & \"\"\",\"\"\" & 'BX Language acquisition'!C3197 & \"\"\",\"\"\" & 'BX Language acquisition'!B3197 & \"\"\",\"\"\" & 'BX Language acquisition'!D3197 & \"\"\"\"","v":"\" \",\"\",\"\",\"\""}]
[{"$f":"\"\"\" \"& 'BX Language acquisition'!A3198 & \"\"\",\"\"\" & 'BX Language acquisition'!C3198 & \"\"\",\"\"\" & 'BX Language acquisition'!B3198 & \"\"\",\"\"\" & 'BX Language acquisition'!D3198 & \"\"\"\"","v":"\" \",\"\",\"\",\"\""}]
[{"$f":"\"\"\" \"& 'BX Language acquisition'!A3199 & \"\"\",\"\"\" & 'BX Language acquisition'!C3199 & \"\"\",\"\"\" & 'BX Language acquisition'!B3199 & \"\"\",\"\"\" & 'BX Language acquisition'!D3199 & \"\"\"\"","v":"\" \",\"\",\"\",\"\""}]
[{"$f":"\"\"\" \"& 'BX Language acquisition'!A3200 & \"\"\",\"\"\" & 'BX Language acquisition'!C3200 & \"\"\",\"\"\" & 'BX Language acquisition'!B3200 & \"\"\",\"\"\" & 'BX Language acquisition'!D3200 & \"\"\"\"","v":"\" \",\"\",\"\",\"\""}]
[{"$f":"\"\"\" \"& 'BX Language acquisition'!A3201 & \"\"\",\"\"\" & 'BX Language acquisition'!C3201 & \"\"\",\"\"\" & 'BX Language acquisition'!B3201 & \"\"\",\"\"\" & 'BX Language acquisition'!D3201 & \"\"\"\"","v":"\" \",\"\",\"\",\"\""}]
[{"$f":"\"\"\" \"& 'BX Language acquisition'!A3202 & \"\"\",\"\"\" & 'BX Language acquisition'!C3202 & \"\"\",\"\"\" & 'BX Language acquisition'!B3202 & \"\"\",\"\"\" & 'BX Language acquisition'!D3202 & \"\"\"\"","v":"\" \",\"\",\"\",\"\""}]
[{"$f":"\"\"\" \"& 'BX Language acquisition'!A3203 & \"\"\",\"\"\" & 'BX Language acquisition'!C3203 & \"\"\",\"\"\" & 'BX Language acquisition'!B3203 & \"\"\",\"\"\" & 'BX Language acquisition'!D3203 & \"\"\"\"","v":"\" \",\"\",\"\",\"\""}]
[{"$f":"\"\"\" \"& 'BX Language acquisition'!A3204 & \"\"\",\"\"\" & 'BX Language acquisition'!C3204 & \"\"\",\"\"\" & 'BX Language acquisition'!B3204 & \"\"\",\"\"\" & 'BX Language acquisition'!D3204 & \"\"\"\"","v":"\" \",\"\",\"\",\"\""}]
[{"$f":"\"\"\" \"& 'BX Language acquisition'!A3205 & \"\"\",\"\"\" & 'BX Language acquisition'!C3205 & \"\"\",\"\"\" & 'BX Language acquisition'!B3205 & \"\"\",\"\"\" & 'BX Language acquisition'!D3205 & \"\"\"\"","v":"\" \",\"\",\"\",\"\""}]
[{"$f":"\"\"\" \"& 'BX Language acquisition'!A3206 & \"\"\",\"\"\" & 'BX Language acquisition'!C3206 & \"\"\",\"\"\" & 'BX Language acquisition'!B3206 & \"\"\",\"\"\" & 'BX Language acquisition'!D3206 & \"\"\"\"","v":"\" \",\"\",\"\",\"\""}]
[{"$f":"\"\"\" \"& 'BX Language acquisition'!A3207 & \"\"\",\"\"\" & 'BX Language acquisition'!C3207 & \"\"\",\"\"\" & 'BX Language acquisition'!B3207 & \"\"\",\"\"\" & 'BX Language acquisition'!D3207 & \"\"\"\"","v":"\" \",\"\",\"\",\"\""}]
[{"$f":"\"\"\" \"& 'BX Language acquisition'!A3208 & \"\"\",\"\"\" & 'BX Language acquisition'!C3208 & \"\"\",\"\"\" & 'BX Language acquisition'!B3208 & \"\"\",\"\"\" & 'BX Language acquisition'!D3208 & \"\"\"\"","v":"\" \",\"\",\"\",\"\""}]
[{"$f":"\"\"\" \"& 'BX Language acquisition'!A3209 & \"\"\",\"\"\" & 'BX Language acquisition'!C3209 & \"\"\",\"\"\" & 'BX Language acquisition'!B3209 & \"\"\",\"\"\" & 'BX Language acquisition'!D3209 & \"\"\"\"","v":"\" \",\"\",\"\",\"\""}]
[{"$f":"\"\"\" \"& 'BX Language acquisition'!A3210 & \"\"\",\"\"\" & 'BX Language acquisition'!C3210 & \"\"\",\"\"\" & 'BX Language acquisition'!B3210 & \"\"\",\"\"\" & 'BX Language acquisition'!D3210 & \"\"\"\"","v":"\" \",\"\",\"\",\"\""}]
[{"$f":"\"\"\" \"& 'BX Language acquisition'!A3211 & \"\"\",\"\"\" & 'BX Language acquisition'!C3211 & \"\"\",\"\"\" & 'BX Language acquisition'!B3211 & \"\"\",\"\"\" & 'BX Language acquisition'!D3211 & \"\"\"\"","v":"\" \",\"\",\"\",\"\""}]
[{"$f":"\"\"\" \"& 'BX Language acquisition'!A3212 & \"\"\",\"\"\" & 'BX Language acquisition'!C3212 & \"\"\",\"\"\" & 'BX Language acquisition'!B3212 & \"\"\",\"\"\" & 'BX Language acquisition'!D3212 & \"\"\"\"","v":"\" \",\"\",\"\",\"\""}]
[{"$f":"\"\"\" \"& 'BX Language acquisition'!A3213 & \"\"\",\"\"\" & 'BX Language acquisition'!C3213 & \"\"\",\"\"\" & 'BX Language acquisition'!B3213 & \"\"\",\"\"\" & 'BX Language acquisition'!D3213 & \"\"\"\"","v":"\" \",\"\",\"\",\"\""}]
[{"$f":"\"\"\" \"& 'BX Language acquisition'!A3214 & \"\"\",\"\"\" & 'BX Language acquisition'!C3214 & \"\"\",\"\"\" & 'BX Language acquisition'!B3214 & \"\"\",\"\"\" & 'BX Language acquisition'!D3214 & \"\"\"\"","v":"\" \",\"\",\"\",\"\""}]
[{"$f":"\"\"\" \"& 'BX Language acquisition'!A3215 & \"\"\",\"\"\" & 'BX Language acquisition'!C3215 & \"\"\",\"\"\" & 'BX Language acquisition'!B3215 & \"\"\",\"\"\" & 'BX Language acquisition'!D3215 & \"\"\"\"","v":"\" \",\"\",\"\",\"\""}]
[{"$f":"\"\"\" \"& 'BX Language acquisition'!A3216 & \"\"\",\"\"\" & 'BX Language acquisition'!C3216 & \"\"\",\"\"\" & 'BX Language acquisition'!B3216 & \"\"\",\"\"\" & 'BX Language acquisition'!D3216 & \"\"\"\"","v":"\" \",\"\",\"\",\"\""}]
[{"$f":"\"\"\" \"& 'BX Language acquisition'!A3217 & \"\"\",\"\"\" & 'BX Language acquisition'!C3217 & \"\"\",\"\"\" & 'BX Language acquisition'!B3217 & \"\"\",\"\"\" & 'BX Language acquisition'!D3217 & \"\"\"\"","v":"\" \",\"\",\"\",\"\""}]
[{"$f":"\"\"\" \"& 'BX Language acquisition'!A3218 & \"\"\",\"\"\" & 'BX Language acquisition'!C3218 & \"\"\",\"\"\" & 'BX Language acquisition'!B3218 & \"\"\",\"\"\" & 'BX Language acquisition'!D3218 & \"\"\"\"","v":"\" \",\"\",\"\",\"\""}]
[{"$f":"\"\"\" \"& 'BX Language acquisition'!A3219 & \"\"\",\"\"\" & 'BX Language acquisition'!C3219 & \"\"\",\"\"\" & 'BX Language acquisition'!B3219 & \"\"\",\"\"\" & 'BX Language acquisition'!D3219 & \"\"\"\"","v":"\" \",\"\",\"\",\"\""}]
[{"$f":"\"\"\" \"& 'BX Language acquisition'!A3220 & \"\"\",\"\"\" & 'BX Language acquisition'!C3220 & \"\"\",\"\"\" & 'BX Language acquisition'!B3220 & \"\"\",\"\"\" & 'BX Language acquisition'!D3220 & \"\"\"\"","v":"\" \",\"\",\"\",\"\""}]
[{"$f":"\"\"\" \"& 'BX Language acquisition'!A3221 & \"\"\",\"\"\" & 'BX Language acquisition'!C3221 & \"\"\",\"\"\" & 'BX Language acquisition'!B3221 & \"\"\",\"\"\" & 'BX Language acquisition'!D3221 & \"\"\"\"","v":"\" \",\"\",\"\",\"\""}]
[{"$f":"\"\"\" \"& 'BX Language acquisition'!A3222 & \"\"\",\"\"\" & 'BX Language acquisition'!C3222 & \"\"\",\"\"\" & 'BX Language acquisition'!B3222 & \"\"\",\"\"\" & 'BX Language acquisition'!D3222 & \"\"\"\"","v":"\" \",\"\",\"\",\"\""}]
[{"$f":"\"\"\" \"& 'BX Language acquisition'!A3223 & \"\"\",\"\"\" & 'BX Language acquisition'!C3223 & \"\"\",\"\"\" & 'BX Language acquisition'!B3223 & \"\"\",\"\"\" & 'BX Language acquisition'!D3223 & \"\"\"\"","v":"\" \",\"\",\"\",\"\""}]
[{"$f":"\"\"\" \"& 'BX Language acquisition'!A3224 & \"\"\",\"\"\" & 'BX Language acquisition'!C3224 & \"\"\",\"\"\" & 'BX Language acquisition'!B3224 & \"\"\",\"\"\" & 'BX Language acquisition'!D3224 & \"\"\"\"","v":"\" \",\"\",\"\",\"\""}]
[{"$f":"\"\"\" \"& 'BX Language acquisition'!A3225 & \"\"\",\"\"\" & 'BX Language acquisition'!C3225 & \"\"\",\"\"\" & 'BX Language acquisition'!B3225 & \"\"\",\"\"\" & 'BX Language acquisition'!D3225 & \"\"\"\"","v":"\" \",\"\",\"\",\"\""}]
[{"$f":"\"\"\" \"& 'BX Language acquisition'!A3226 & \"\"\",\"\"\" & 'BX Language acquisition'!C3226 & \"\"\",\"\"\" & 'BX Language acquisition'!B3226 & \"\"\",\"\"\" & 'BX Language acquisition'!D3226 & \"\"\"\"","v":"\" \",\"\",\"\",\"\""}]
[{"$f":"\"\"\" \"& 'BX Language acquisition'!A3227 & \"\"\",\"\"\" & 'BX Language acquisition'!C3227 & \"\"\",\"\"\" & 'BX Language acquisition'!B3227 & \"\"\",\"\"\" & 'BX Language acquisition'!D3227 & \"\"\"\"","v":"\" \",\"\",\"\",\"\""}]
[{"$f":"\"\"\" \"& 'BX Language acquisition'!A3228 & \"\"\",\"\"\" & 'BX Language acquisition'!C3228 & \"\"\",\"\"\" & 'BX Language acquisition'!B3228 & \"\"\",\"\"\" & 'BX Language acquisition'!D3228 & \"\"\"\"","v":"\" \",\"\",\"\",\"\""}]
[{"$f":"\"\"\" \"& 'BX Language acquisition'!A3229 & \"\"\",\"\"\" & 'BX Language acquisition'!C3229 & \"\"\",\"\"\" & 'BX Language acquisition'!B3229 & \"\"\",\"\"\" & 'BX Language acquisition'!D3229 & \"\"\"\"","v":"\" \",\"\",\"\",\"\""}]
[{"$f":"\"\"\" \"& 'BX Language acquisition'!A3230 & \"\"\",\"\"\" & 'BX Language acquisition'!C3230 & \"\"\",\"\"\" & 'BX Language acquisition'!B3230 & \"\"\",\"\"\" & 'BX Language acquisition'!D3230 & \"\"\"\"","v":"\" \",\"\",\"\",\"\""}]
[{"$f":"\"\"\" \"& 'BX Language acquisition'!A3231 & \"\"\",\"\"\" & 'BX Language acquisition'!C3231 & \"\"\",\"\"\" & 'BX Language acquisition'!B3231 & \"\"\",\"\"\" & 'BX Language acquisition'!D3231 & \"\"\"\"","v":"\" \",\"\",\"\",\"\""}]
[{"$f":"\"\"\" \"& 'BX Language acquisition'!A3232 & \"\"\",\"\"\" & 'BX Language acquisition'!C3232 & \"\"\",\"\"\" & 'BX Language acquisition'!B3232 & \"\"\",\"\"\" & 'BX Language acquisition'!D3232 & \"\"\"\"","v":"\" \",\"\",\"\",\"\""}]
[{"$f":"\"\"\" \"& 'BX Language acquisition'!A3233 & \"\"\",\"\"\" & 'BX Language acquisition'!C3233 & \"\"\",\"\"\" & 'BX Language acquisition'!B3233 & \"\"\",\"\"\" & 'BX Language acquisition'!D3233 & \"\"\"\"","v":"\" \",\"\",\"\",\"\""}]
[{"$f":"\"\"\" \"& 'BX Language acquisition'!A3234 & \"\"\",\"\"\" & 'BX Language acquisition'!C3234 & \"\"\",\"\"\" & 'BX Language acquisition'!B3234 & \"\"\",\"\"\" & 'BX Language acquisition'!D3234 & \"\"\"\"","v":"\" \",\"\",\"\",\"\""}]
[{"$f":"\"\"\" \"& 'BX Language acquisition'!A3235 & \"\"\",\"\"\" & 'BX Language acquisition'!C3235 & \"\"\",\"\"\" & 'BX Language acquisition'!B3235 & \"\"\",\"\"\" & 'BX Language acquisition'!D3235 & \"\"\"\"","v":"\" \",\"\",\"\",\"\""}]
[{"$f":"\"\"\" \"& 'BX Language acquisition'!A3236 & \"\"\",\"\"\" & 'BX Language acquisition'!C3236 & \"\"\",\"\"\" & 'BX Language acquisition'!B3236 & \"\"\",\"\"\" & 'BX Language acquisition'!D3236 & \"\"\"\"","v":"\" \",\"\",\"\",\"\""}]
[{"$f":"\"\"\" \"& 'BX Language acquisition'!A3237 & \"\"\",\"\"\" & 'BX Language acquisition'!C3237 & \"\"\",\"\"\" & 'BX Language acquisition'!B3237 & \"\"\",\"\"\" & 'BX Language acquisition'!D3237 & \"\"\"\"","v":"\" \",\"\",\"\",\"\""}]
[{"$f":"\"\"\" \"& 'BX Language acquisition'!A3238 & \"\"\",\"\"\" & 'BX Language acquisition'!C3238 & \"\"\",\"\"\" & 'BX Language acquisition'!B3238 & \"\"\",\"\"\" & 'BX Language acquisition'!D3238 & \"\"\"\"","v":"\" \",\"\",\"\",\"\""}]
[{"$f":"\"\"\" \"& 'BX Language acquisition'!A3239 & \"\"\",\"\"\" & 'BX Language acquisition'!C3239 & \"\"\",\"\"\" & 'BX Language acquisition'!B3239 & \"\"\",\"\"\" & 'BX Language acquisition'!D3239 & \"\"\"\"","v":"\" \",\"\",\"\",\"\""}]
[{"$f":"\"\"\" \"& 'BX Language acquisition'!A3240 & \"\"\",\"\"\" & 'BX Language acquisition'!C3240 & \"\"\",\"\"\" & 'BX Language acquisition'!B3240 & \"\"\",\"\"\" & 'BX Language acquisition'!D3240 & \"\"\"\"","v":"\" \",\"\",\"\",\"\""}]
[{"$f":"\"\"\" \"& 'BX Language acquisition'!A3241 & \"\"\",\"\"\" & 'BX Language acquisition'!C3241 & \"\"\",\"\"\" & 'BX Language acquisition'!B3241 & \"\"\",\"\"\" & 'BX Language acquisition'!D3241 & \"\"\"\"","v":"\" \",\"\",\"\",\"\""}]
[{"$f":"\"\"\" \"& 'BX Language acquisition'!A3242 & \"\"\",\"\"\" & 'BX Language acquisition'!C3242 & \"\"\",\"\"\" & 'BX Language acquisition'!B3242 & \"\"\",\"\"\" & 'BX Language acquisition'!D3242 & \"\"\"\"","v":"\" \",\"\",\"\",\"\""}]
[{"$f":"\"\"\" \"& 'BX Language acquisition'!A3243 & \"\"\",\"\"\" & 'BX Language acquisition'!C3243 & \"\"\",\"\"\" & 'BX Language acquisition'!B3243 & \"\"\",\"\"\" & 'BX Language acquisition'!D3243 & \"\"\"\"","v":"\" \",\"\",\"\",\"\""}]
[{"$f":"\"\"\" \"& 'BX Language acquisition'!A3244 & \"\"\",\"\"\" & 'BX Language acquisition'!C3244 & \"\"\",\"\"\" & 'BX Language acquisition'!B3244 & \"\"\",\"\"\" & 'BX Language acquisition'!D3244 & \"\"\"\"","v":"\" \",\"\",\"\",\"\""}]
[{"$f":"\"\"\" \"& 'BX Language acquisition'!A3245 & \"\"\",\"\"\" & 'BX Language acquisition'!C3245 & \"\"\",\"\"\" & 'BX Language acquisition'!B3245 & \"\"\",\"\"\" & 'BX Language acquisition'!D3245 & \"\"\"\"","v":"\" \",\"\",\"\",\"\""}]
[{"$f":"\"\"\" \"& 'BX Language acquisition'!A3246 & \"\"\",\"\"\" & 'BX Language acquisition'!C3246 & \"\"\",\"\"\" & 'BX Language acquisition'!B3246 & \"\"\",\"\"\" & 'BX Language acquisition'!D3246 & \"\"\"\"","v":"\" \",\"\",\"\",\"\""}]
[{"$f":"\"\"\" \"& 'BX Language acquisition'!A3247 & \"\"\",\"\"\" & 'BX Language acquisition'!C3247 & \"\"\",\"\"\" & 'BX Language acquisition'!B3247 & \"\"\",\"\"\" & 'BX Language acquisition'!D3247 & \"\"\"\"","v":"\" \",\"\",\"\",\"\""}]
[{"$f":"\"\"\" \"& 'BX Language acquisition'!A3248 & \"\"\",\"\"\" & 'BX Language acquisition'!C3248 & \"\"\",\"\"\" & 'BX Language acquisition'!B3248 & \"\"\",\"\"\" & 'BX Language acquisition'!D3248 & \"\"\"\"","v":"\" \",\"\",\"\",\"\""}]
[{"$f":"\"\"\" \"& 'BX Language acquisition'!A3249 & \"\"\",\"\"\" & 'BX Language acquisition'!C3249 & \"\"\",\"\"\" & 'BX Language acquisition'!B3249 & \"\"\",\"\"\" & 'BX Language acquisition'!D3249 & \"\"\"\"","v":"\" \",\"\",\"\",\"\""}]
[{"$f":"\"\"\" \"& 'BX Language acquisition'!A3250 & \"\"\",\"\"\" & 'BX Language acquisition'!C3250 & \"\"\",\"\"\" & 'BX Language acquisition'!B3250 & \"\"\",\"\"\" & 'BX Language acquisition'!D3250 & \"\"\"\"","v":"\" \",\"\",\"\",\"\""}]
[{"$f":"\"\"\" \"& 'BX Language acquisition'!A3251 & \"\"\",\"\"\" & 'BX Language acquisition'!C3251 & \"\"\",\"\"\" & 'BX Language acquisition'!B3251 & \"\"\",\"\"\" & 'BX Language acquisition'!D3251 & \"\"\"\"","v":"\" \",\"\",\"\",\"\""}]
[{"$f":"\"\"\" \"& 'BX Language acquisition'!A3252 & \"\"\",\"\"\" & 'BX Language acquisition'!C3252 & \"\"\",\"\"\" & 'BX Language acquisition'!B3252 & \"\"\",\"\"\" & 'BX Language acquisition'!D3252 & \"\"\"\"","v":"\" \",\"\",\"\",\"\""}]
[{"$f":"\"\"\" \"& 'BX Language acquisition'!A3253 & \"\"\",\"\"\" & 'BX Language acquisition'!C3253 & \"\"\",\"\"\" & 'BX Language acquisition'!B3253 & \"\"\",\"\"\" & 'BX Language acquisition'!D3253 & \"\"\"\"","v":"\" \",\"\",\"\",\"\""}]
[{"$f":"\"\"\" \"& 'BX Language acquisition'!A3254 & \"\"\",\"\"\" & 'BX Language acquisition'!C3254 & \"\"\",\"\"\" & 'BX Language acquisition'!B3254 & \"\"\",\"\"\" & 'BX Language acquisition'!D3254 & \"\"\"\"","v":"\" \",\"\",\"\",\"\""}]
[{"$f":"\"\"\" \"& 'BX Language acquisition'!A3255 & \"\"\",\"\"\" & 'BX Language acquisition'!C3255 & \"\"\",\"\"\" & 'BX Language acquisition'!B3255 & \"\"\",\"\"\" & 'BX Language acquisition'!D3255 & \"\"\"\"","v":"\" \",\"\",\"\",\"\""}]
[{"$f":"\"\"\" \"& 'BX Language acquisition'!A3256 & \"\"\",\"\"\" & 'BX Language acquisition'!C3256 & \"\"\",\"\"\" & 'BX Language acquisition'!B3256 & \"\"\",\"\"\" & 'BX Language acquisition'!D3256 & \"\"\"\"","v":"\" \",\"\",\"\",\"\""}]
[{"$f":"\"\"\" \"& 'BX Language acquisition'!A3257 & \"\"\",\"\"\" & 'BX Language acquisition'!C3257 & \"\"\",\"\"\" & 'BX Language acquisition'!B3257 & \"\"\",\"\"\" & 'BX Language acquisition'!D3257 & \"\"\"\"","v":"\" \",\"\",\"\",\"\""}]
[{"$f":"\"\"\" \"& 'BX Language acquisition'!A3258 & \"\"\",\"\"\" & 'BX Language acquisition'!C3258 & \"\"\",\"\"\" & 'BX Language acquisition'!B3258 & \"\"\",\"\"\" & 'BX Language acquisition'!D3258 & \"\"\"\"","v":"\" \",\"\",\"\",\"\""}]
[{"$f":"\"\"\" \"& 'BX Language acquisition'!A3259 & \"\"\",\"\"\" & 'BX Language acquisition'!C3259 & \"\"\",\"\"\" & 'BX Language acquisition'!B3259 & \"\"\",\"\"\" & 'BX Language acquisition'!D3259 & \"\"\"\"","v":"\" \",\"\",\"\",\"\""}]
[{"$f":"\"\"\" \"& 'BX Language acquisition'!A3260 & \"\"\",\"\"\" & 'BX Language acquisition'!C3260 & \"\"\",\"\"\" & 'BX Language acquisition'!B3260 & \"\"\",\"\"\" & 'BX Language acquisition'!D3260 & \"\"\"\"","v":"\" \",\"\",\"\",\"\""}]
[{"$f":"\"\"\" \"& 'BX Language acquisition'!A3261 & \"\"\",\"\"\" & 'BX Language acquisition'!C3261 & \"\"\",\"\"\" & 'BX Language acquisition'!B3261 & \"\"\",\"\"\" & 'BX Language acquisition'!D3261 & \"\"\"\"","v":"\" \",\"\",\"\",\"\""}]
[{"$f":"\"\"\" \"& 'BX Language acquisition'!A3262 & \"\"\",\"\"\" & 'BX Language acquisition'!C3262 & \"\"\",\"\"\" & 'BX Language acquisition'!B3262 & \"\"\",\"\"\" & 'BX Language acquisition'!D3262 & \"\"\"\"","v":"\" \",\"\",\"\",\"\""}]
[{"$f":"\"\"\" \"& 'BX Language acquisition'!A3263 & \"\"\",\"\"\" & 'BX Language acquisition'!C3263 & \"\"\",\"\"\" & 'BX Language acquisition'!B3263 & \"\"\",\"\"\" & 'BX Language acquisition'!D3263 & \"\"\"\"","v":"\" \",\"\",\"\",\"\""}]
[{"$f":"\"\"\" \"& 'BX Language acquisition'!A3264 & \"\"\",\"\"\" & 'BX Language acquisition'!C3264 & \"\"\",\"\"\" & 'BX Language acquisition'!B3264 & \"\"\",\"\"\" & 'BX Language acquisition'!D3264 & \"\"\"\"","v":"\" \",\"\",\"\",\"\""}]
[{"$f":"\"\"\" \"& 'BX Language acquisition'!A3265 & \"\"\",\"\"\" & 'BX Language acquisition'!C3265 & \"\"\",\"\"\" & 'BX Language acquisition'!B3265 & \"\"\",\"\"\" & 'BX Language acquisition'!D3265 & \"\"\"\"","v":"\" \",\"\",\"\",\"\""}]
[{"$f":"\"\"\" \"& 'BX Language acquisition'!A3266 & \"\"\",\"\"\" & 'BX Language acquisition'!C3266 & \"\"\",\"\"\" & 'BX Language acquisition'!B3266 & \"\"\",\"\"\" & 'BX Language acquisition'!D3266 & \"\"\"\"","v":"\" \",\"\",\"\",\"\""}]
[{"$f":"\"\"\" \"& 'BX Language acquisition'!A3267 & \"\"\",\"\"\" & 'BX Language acquisition'!C3267 & \"\"\",\"\"\" & 'BX Language acquisition'!B3267 & \"\"\",\"\"\" & 'BX Language acquisition'!D3267 & \"\"\"\"","v":"\" \",\"\",\"\",\"\""}]
[{"$f":"\"\"\" \"& 'BX Language acquisition'!A3268 & \"\"\",\"\"\" & 'BX Language acquisition'!C3268 & \"\"\",\"\"\" & 'BX Language acquisition'!B3268 & \"\"\",\"\"\" & 'BX Language acquisition'!D3268 & \"\"\"\"","v":"\" \",\"\",\"\",\"\""}]
[{"$f":"\"\"\" \"& 'BX Language acquisition'!A3269 & \"\"\",\"\"\" & 'BX Language acquisition'!C3269 & \"\"\",\"\"\" & 'BX Language acquisition'!B3269 & \"\"\",\"\"\" & 'BX Language acquisition'!D3269 & \"\"\"\"","v":"\" \",\"\",\"\",\"\""}]
[{"$f":"\"\"\" \"& 'BX Language acquisition'!A3270 & \"\"\",\"\"\" & 'BX Language acquisition'!C3270 & \"\"\",\"\"\" & 'BX Language acquisition'!B3270 & \"\"\",\"\"\" & 'BX Language acquisition'!D3270 & \"\"\"\"","v":"\" \",\"\",\"\",\"\""}]
[{"$f":"\"\"\" \"& 'BX Language acquisition'!A3271 & \"\"\",\"\"\" & 'BX Language acquisition'!C3271 & \"\"\",\"\"\" & 'BX Language acquisition'!B3271 & \"\"\",\"\"\" & 'BX Language acquisition'!D3271 & \"\"\"\"","v":"\" \",\"\",\"\",\"\""}]
[{"$f":"\"\"\" \"& 'BX Language acquisition'!A3272 & \"\"\",\"\"\" & 'BX Language acquisition'!C3272 & \"\"\",\"\"\" & 'BX Language acquisition'!B3272 & \"\"\",\"\"\" & 'BX Language acquisition'!D3272 & \"\"\"\"","v":"\" \",\"\",\"\",\"\""}]
[{"$f":"\"\"\" \"& 'BX Language acquisition'!A3273 & \"\"\",\"\"\" & 'BX Language acquisition'!C3273 & \"\"\",\"\"\" & 'BX Language acquisition'!B3273 & \"\"\",\"\"\" & 'BX Language acquisition'!D3273 & \"\"\"\"","v":"\" \",\"\",\"\",\"\""}]
[{"$f":"\"\"\" \"& 'BX Language acquisition'!A3274 & \"\"\",\"\"\" & 'BX Language acquisition'!C3274 & \"\"\",\"\"\" & 'BX Language acquisition'!B3274 & \"\"\",\"\"\" & 'BX Language acquisition'!D3274 & \"\"\"\"","v":"\" \",\"\",\"\",\"\""}]
[{"$f":"\"\"\" \"& 'BX Language acquisition'!A3275 & \"\"\",\"\"\" & 'BX Language acquisition'!C3275 & \"\"\",\"\"\" & 'BX Language acquisition'!B3275 & \"\"\",\"\"\" & 'BX Language acquisition'!D3275 & \"\"\"\"","v":"\" \",\"\",\"\",\"\""}]
[{"$f":"\"\"\" \"& 'BX Language acquisition'!A3276 & \"\"\",\"\"\" & 'BX Language acquisition'!C3276 & \"\"\",\"\"\" & 'BX Language acquisition'!B3276 & \"\"\",\"\"\" & 'BX Language acquisition'!D3276 & \"\"\"\"","v":"\" \",\"\",\"\",\"\""}]
[{"$f":"\"\"\" \"& 'BX Language acquisition'!A3277 & \"\"\",\"\"\" & 'BX Language acquisition'!C3277 & \"\"\",\"\"\" & 'BX Language acquisition'!B3277 & \"\"\",\"\"\" & 'BX Language acquisition'!D3277 & \"\"\"\"","v":"\" \",\"\",\"\",\"\""}]
[{"$f":"\"\"\" \"& 'BX Language acquisition'!A3278 & \"\"\",\"\"\" & 'BX Language acquisition'!C3278 & \"\"\",\"\"\" & 'BX Language acquisition'!B3278 & \"\"\",\"\"\" & 'BX Language acquisition'!D3278 & \"\"\"\"","v":"\" \",\"\",\"\",\"\""}]
[{"$f":"\"\"\" \"& 'BX Language acquisition'!A3279 & \"\"\",\"\"\" & 'BX Language acquisition'!C3279 & \"\"\",\"\"\" & 'BX Language acquisition'!B3279 & \"\"\",\"\"\" & 'BX Language acquisition'!D3279 & \"\"\"\"","v":"\" \",\"\",\"\",\"\""}]
[{"$f":"\"\"\" \"& 'BX Language acquisition'!A3280 & \"\"\",\"\"\" & 'BX Language acquisition'!C3280 & \"\"\",\"\"\" & 'BX Language acquisition'!B3280 & \"\"\",\"\"\" & 'BX Language acquisition'!D3280 & \"\"\"\"","v":"\" \",\"\",\"\",\"\""}]
[{"$f":"\"\"\" \"& 'BX Language acquisition'!A3281 & \"\"\",\"\"\" & 'BX Language acquisition'!C3281 & \"\"\",\"\"\" & 'BX Language acquisition'!B3281 & \"\"\",\"\"\" & 'BX Language acquisition'!D3281 & \"\"\"\"","v":"\" \",\"\",\"\",\"\""}]
[{"$f":"\"\"\" \"& 'BX Language acquisition'!A3282 & \"\"\",\"\"\" & 'BX Language acquisition'!C3282 & \"\"\",\"\"\" & 'BX Language acquisition'!B3282 & \"\"\",\"\"\" & 'BX Language acquisition'!D3282 & \"\"\"\"","v":"\" \",\"\",\"\",\"\""}]
[{"$f":"\"\"\" \"& 'BX Language acquisition'!A3283 & \"\"\",\"\"\" & 'BX Language acquisition'!C3283 & \"\"\",\"\"\" & 'BX Language acquisition'!B3283 & \"\"\",\"\"\" & 'BX Language acquisition'!D3283 & \"\"\"\"","v":"\" \",\"\",\"\",\"\""}]
[{"$f":"\"\"\" \"& 'BX Language acquisition'!A3284 & \"\"\",\"\"\" & 'BX Language acquisition'!C3284 & \"\"\",\"\"\" & 'BX Language acquisition'!B3284 & \"\"\",\"\"\" & 'BX Language acquisition'!D3284 & \"\"\"\"","v":"\" \",\"\",\"\",\"\""}]
[{"$f":"\"\"\" \"& 'BX Language acquisition'!A3285 & \"\"\",\"\"\" & 'BX Language acquisition'!C3285 & \"\"\",\"\"\" & 'BX Language acquisition'!B3285 & \"\"\",\"\"\" & 'BX Language acquisition'!D3285 & \"\"\"\"","v":"\" \",\"\",\"\",\"\""}]
[{"$f":"\"\"\" \"& 'BX Language acquisition'!A3286 & \"\"\",\"\"\" & 'BX Language acquisition'!C3286 & \"\"\",\"\"\" & 'BX Language acquisition'!B3286 & \"\"\",\"\"\" & 'BX Language acquisition'!D3286 & \"\"\"\"","v":"\" \",\"\",\"\",\"\""}]
[{"$f":"\"\"\" \"& 'BX Language acquisition'!A3287 & \"\"\",\"\"\" & 'BX Language acquisition'!C3287 & \"\"\",\"\"\" & 'BX Language acquisition'!B3287 & \"\"\",\"\"\" & 'BX Language acquisition'!D3287 & \"\"\"\"","v":"\" \",\"\",\"\",\"\""}]
[{"$f":"\"\"\" \"& 'BX Language acquisition'!A3288 & \"\"\",\"\"\" & 'BX Language acquisition'!C3288 & \"\"\",\"\"\" & 'BX Language acquisition'!B3288 & \"\"\",\"\"\" & 'BX Language acquisition'!D3288 & \"\"\"\"","v":"\" \",\"\",\"\",\"\""}]
[{"$f":"\"\"\" \"& 'BX Language acquisition'!A3289 & \"\"\",\"\"\" & 'BX Language acquisition'!C3289 & \"\"\",\"\"\" & 'BX Language acquisition'!B3289 & \"\"\",\"\"\" & 'BX Language acquisition'!D3289 & \"\"\"\"","v":"\" \",\"\",\"\",\"\""}]
[{"$f":"\"\"\" \"& 'BX Language acquisition'!A3290 & \"\"\",\"\"\" & 'BX Language acquisition'!C3290 & \"\"\",\"\"\" & 'BX Language acquisition'!B3290 & \"\"\",\"\"\" & 'BX Language acquisition'!D3290 & \"\"\"\"","v":"\" \",\"\",\"\",\"\""}]
[{"$f":"\"\"\" \"& 'BX Language acquisition'!A3291 & \"\"\",\"\"\" & 'BX Language acquisition'!C3291 & \"\"\",\"\"\" & 'BX Language acquisition'!B3291 & \"\"\",\"\"\" & 'BX Language acquisition'!D3291 & \"\"\"\"","v":"\" \",\"\",\"\",\"\""}]
[{"$f":"\"\"\" \"& 'BX Language acquisition'!A3292 & \"\"\",\"\"\" & 'BX Language acquisition'!C3292 & \"\"\",\"\"\" & 'BX Language acquisition'!B3292 & \"\"\",\"\"\" & 'BX Language acquisition'!D3292 & \"\"\"\"","v":"\" \",\"\",\"\",\"\""}]
[{"$f":"\"\"\" \"& 'BX Language acquisition'!A3293 & \"\"\",\"\"\" & 'BX Language acquisition'!C3293 & \"\"\",\"\"\" & 'BX Language acquisition'!B3293 & \"\"\",\"\"\" & 'BX Language acquisition'!D3293 & \"\"\"\"","v":"\" \",\"\",\"\",\"\""}]
[{"$f":"\"\"\" \"& 'BX Language acquisition'!A3294 & \"\"\",\"\"\" & 'BX Language acquisition'!C3294 & \"\"\",\"\"\" & 'BX Language acquisition'!B3294 & \"\"\",\"\"\" & 'BX Language acquisition'!D3294 & \"\"\"\"","v":"\" \",\"\",\"\",\"\""}]
[{"$f":"\"\"\" \"& 'BX Language acquisition'!A3295 & \"\"\",\"\"\" & 'BX Language acquisition'!C3295 & \"\"\",\"\"\" & 'BX Language acquisition'!B3295 & \"\"\",\"\"\" & 'BX Language acquisition'!D3295 & \"\"\"\"","v":"\" \",\"\",\"\",\"\""}]
[{"$f":"\"\"\" \"& 'BX Language acquisition'!A3296 & \"\"\",\"\"\" & 'BX Language acquisition'!C3296 & \"\"\",\"\"\" & 'BX Language acquisition'!B3296 & \"\"\",\"\"\" & 'BX Language acquisition'!D3296 & \"\"\"\"","v":"\" \",\"\",\"\",\"\""}]
[{"$f":"\"\"\" \"& 'BX Language acquisition'!A3297 & \"\"\",\"\"\" & 'BX Language acquisition'!C3297 & \"\"\",\"\"\" & 'BX Language acquisition'!B3297 & \"\"\",\"\"\" & 'BX Language acquisition'!D3297 & \"\"\"\"","v":"\" \",\"\",\"\",\"\""}]
[{"$f":"\"\"\" \"& 'BX Language acquisition'!A3298 & \"\"\",\"\"\" & 'BX Language acquisition'!C3298 & \"\"\",\"\"\" & 'BX Language acquisition'!B3298 & \"\"\",\"\"\" & 'BX Language acquisition'!D3298 & \"\"\"\"","v":"\" \",\"\",\"\",\"\""}]
[{"$f":"\"\"\" \"& 'BX Language acquisition'!A3299 & \"\"\",\"\"\" & 'BX Language acquisition'!C3299 & \"\"\",\"\"\" & 'BX Language acquisition'!B3299 & \"\"\",\"\"\" & 'BX Language acquisition'!D3299 & \"\"\"\"","v":"\" \",\"\",\"\",\"\""}]
[{"$f":"\"\"\" \"& 'BX Language acquisition'!A3300 & \"\"\",\"\"\" & 'BX Language acquisition'!C3300 & \"\"\",\"\"\" & 'BX Language acquisition'!B3300 & \"\"\",\"\"\" & 'BX Language acquisition'!D3300 & \"\"\"\"","v":"\" \",\"\",\"\",\"\""}]
[{"$f":"\"\"\" \"& 'BX Language acquisition'!A3301 & \"\"\",\"\"\" & 'BX Language acquisition'!C3301 & \"\"\",\"\"\" & 'BX Language acquisition'!B3301 & \"\"\",\"\"\" & 'BX Language acquisition'!D3301 & \"\"\"\"","v":"\" \",\"\",\"\",\"\""}]
[{"$f":"\"\"\" \"& 'BX Language acquisition'!A3302 & \"\"\",\"\"\" & 'BX Language acquisition'!C3302 & \"\"\",\"\"\" & 'BX Language acquisition'!B3302 & \"\"\",\"\"\" & 'BX Language acquisition'!D3302 & \"\"\"\"","v":"\" \",\"\",\"\",\"\""}]
[{"$f":"\"\"\" \"& 'BX Language acquisition'!A3303 & \"\"\",\"\"\" & 'BX Language acquisition'!C3303 & \"\"\",\"\"\" & 'BX Language acquisition'!B3303 & \"\"\",\"\"\" & 'BX Language acquisition'!D3303 & \"\"\"\"","v":"\" \",\"\",\"\",\"\""}]
[{"$f":"\"\"\" \"& 'BX Language acquisition'!A3304 & \"\"\",\"\"\" & 'BX Language acquisition'!C3304 & \"\"\",\"\"\" & 'BX Language acquisition'!B3304 & \"\"\",\"\"\" & 'BX Language acquisition'!D3304 & \"\"\"\"","v":"\" \",\"\",\"\",\"\""}]
[{"$f":"\"\"\" \"& 'BX Language acquisition'!A3305 & \"\"\",\"\"\" & 'BX Language acquisition'!C3305 & \"\"\",\"\"\" & 'BX Language acquisition'!B3305 & \"\"\",\"\"\" & 'BX Language acquisition'!D3305 & \"\"\"\"","v":"\" \",\"\",\"\",\"\""}]
[{"$f":"\"\"\" \"& 'BX Language acquisition'!A3306 & \"\"\",\"\"\" & 'BX Language acquisition'!C3306 & \"\"\",\"\"\" & 'BX Language acquisition'!B3306 & \"\"\",\"\"\" & 'BX Language acquisition'!D3306 & \"\"\"\"","v":"\" \",\"\",\"\",\"\""}]
[{"$f":"\"\"\" \"& 'BX Language acquisition'!A3307 & \"\"\",\"\"\" & 'BX Language acquisition'!C3307 & \"\"\",\"\"\" & 'BX Language acquisition'!B3307 & \"\"\",\"\"\" & 'BX Language acquisition'!D3307 & \"\"\"\"","v":"\" \",\"\",\"\",\"\""}]
[{"$f":"\"\"\" \"& 'BX Language acquisition'!A3308 & \"\"\",\"\"\" & 'BX Language acquisition'!C3308 & \"\"\",\"\"\" & 'BX Language acquisition'!B3308 & \"\"\",\"\"\" & 'BX Language acquisition'!D3308 & \"\"\"\"","v":"\" \",\"\",\"\",\"\""}]
[{"$f":"\"\"\" \"& 'BX Language acquisition'!A3309 & \"\"\",\"\"\" & 'BX Language acquisition'!C3309 & \"\"\",\"\"\" & 'BX Language acquisition'!B3309 & \"\"\",\"\"\" & 'BX Language acquisition'!D3309 & \"\"\"\"","v":"\" \",\"\",\"\",\"\""}]
[{"$f":"\"\"\" \"& 'BX Language acquisition'!A3310 & \"\"\",\"\"\" & 'BX Language acquisition'!C3310 & \"\"\",\"\"\" & 'BX Language acquisition'!B3310 & \"\"\",\"\"\" & 'BX Language acquisition'!D3310 & \"\"\"\"","v":"\" \",\"\",\"\",\"\""}]
[{"$f":"\"\"\" \"& 'BX Language acquisition'!A3311 & \"\"\",\"\"\" & 'BX Language acquisition'!C3311 & \"\"\",\"\"\" & 'BX Language acquisition'!B3311 & \"\"\",\"\"\" & 'BX Language acquisition'!D3311 & \"\"\"\"","v":"\" \",\"\",\"\",\"\""}]
[{"$f":"\"\"\" \"& 'BX Language acquisition'!A3312 & \"\"\",\"\"\" & 'BX Language acquisition'!C3312 & \"\"\",\"\"\" & 'BX Language acquisition'!B3312 & \"\"\",\"\"\" & 'BX Language acquisition'!D3312 & \"\"\"\"","v":"\" \",\"\",\"\",\"\""}]
[{"$f":"\"\"\" \"& 'BX Language acquisition'!A3313 & \"\"\",\"\"\" & 'BX Language acquisition'!C3313 & \"\"\",\"\"\" & 'BX Language acquisition'!B3313 & \"\"\",\"\"\" & 'BX Language acquisition'!D3313 & \"\"\"\"","v":"\" \",\"\",\"\",\"\""}]
[{"$f":"\"\"\" \"& 'BX Language acquisition'!A3314 & \"\"\",\"\"\" & 'BX Language acquisition'!C3314 & \"\"\",\"\"\" & 'BX Language acquisition'!B3314 & \"\"\",\"\"\" & 'BX Language acquisition'!D3314 & \"\"\"\"","v":"\" \",\"\",\"\",\"\""}]
[{"$f":"\"\"\" \"& 'BX Language acquisition'!A3315 & \"\"\",\"\"\" & 'BX Language acquisition'!C3315 & \"\"\",\"\"\" & 'BX Language acquisition'!B3315 & \"\"\",\"\"\" & 'BX Language acquisition'!D3315 & \"\"\"\"","v":"\" \",\"\",\"\",\"\""}]
[{"$f":"\"\"\" \"& 'BX Language acquisition'!A3316 & \"\"\",\"\"\" & 'BX Language acquisition'!C3316 & \"\"\",\"\"\" & 'BX Language acquisition'!B3316 & \"\"\",\"\"\" & 'BX Language acquisition'!D3316 & \"\"\"\"","v":"\" \",\"\",\"\",\"\""}]
[{"$f":"\"\"\" \"& 'BX Language acquisition'!A3317 & \"\"\",\"\"\" & 'BX Language acquisition'!C3317 & \"\"\",\"\"\" & 'BX Language acquisition'!B3317 & \"\"\",\"\"\" & 'BX Language acquisition'!D3317 & \"\"\"\"","v":"\" \",\"\",\"\",\"\""}]
[{"$f":"\"\"\" \"& 'BX Language acquisition'!A3318 & \"\"\",\"\"\" & 'BX Language acquisition'!C3318 & \"\"\",\"\"\" & 'BX Language acquisition'!B3318 & \"\"\",\"\"\" & 'BX Language acquisition'!D3318 & \"\"\"\"","v":"\" \",\"\",\"\",\"\""}]
[{"$f":"\"\"\" \"& 'BX Language acquisition'!A3319 & \"\"\",\"\"\" & 'BX Language acquisition'!C3319 & \"\"\",\"\"\" & 'BX Language acquisition'!B3319 & \"\"\",\"\"\" & 'BX Language acquisition'!D3319 & \"\"\"\"","v":"\" \",\"\",\"\",\"\""}]
[{"$f":"\"\"\" \"& 'BX Language acquisition'!A3320 & \"\"\",\"\"\" & 'BX Language acquisition'!C3320 & \"\"\",\"\"\" & 'BX Language acquisition'!B3320 & \"\"\",\"\"\" & 'BX Language acquisition'!D3320 & \"\"\"\"","v":"\" \",\"\",\"\",\"\""}]
[{"$f":"\"\"\" \"& 'BX Language acquisition'!A3321 & \"\"\",\"\"\" & 'BX Language acquisition'!C3321 & \"\"\",\"\"\" & 'BX Language acquisition'!B3321 & \"\"\",\"\"\" & 'BX Language acquisition'!D3321 & \"\"\"\"","v":"\" \",\"\",\"\",\"\""}]
[{"$f":"\"\"\" \"& 'BX Language acquisition'!A3322 & \"\"\",\"\"\" & 'BX Language acquisition'!C3322 & \"\"\",\"\"\" & 'BX Language acquisition'!B3322 & \"\"\",\"\"\" & 'BX Language acquisition'!D3322 & \"\"\"\"","v":"\" \",\"\",\"\",\"\""}]
[{"$f":"\"\"\" \"& 'BX Language acquisition'!A3323 & \"\"\",\"\"\" & 'BX Language acquisition'!C3323 & \"\"\",\"\"\" & 'BX Language acquisition'!B3323 & \"\"\",\"\"\" & 'BX Language acquisition'!D3323 & \"\"\"\"","v":"\" \",\"\",\"\",\"\""}]
[{"$f":"\"\"\" \"& 'BX Language acquisition'!A3324 & \"\"\",\"\"\" & 'BX Language acquisition'!C3324 & \"\"\",\"\"\" & 'BX Language acquisition'!B3324 & \"\"\",\"\"\" & 'BX Language acquisition'!D3324 & \"\"\"\"","v":"\" \",\"\",\"\",\"\""}]
[{"$f":"\"\"\" \"& 'BX Language acquisition'!A3325 & \"\"\",\"\"\" & 'BX Language acquisition'!C3325 & \"\"\",\"\"\" & 'BX Language acquisition'!B3325 & \"\"\",\"\"\" & 'BX Language acquisition'!D3325 & \"\"\"\"","v":"\" \",\"\",\"\",\"\""}]
[{"$f":"\"\"\" \"& 'BX Language acquisition'!A3326 & \"\"\",\"\"\" & 'BX Language acquisition'!C3326 & \"\"\",\"\"\" & 'BX Language acquisition'!B3326 & \"\"\",\"\"\" & 'BX Language acquisition'!D3326 & \"\"\"\"","v":"\" \",\"\",\"\",\"\""}]
[{"$f":"\"\"\" \"& 'BX Language acquisition'!A3327 & \"\"\",\"\"\" & 'BX Language acquisition'!C3327 & \"\"\",\"\"\" & 'BX Language acquisition'!B3327 & \"\"\",\"\"\" & 'BX Language acquisition'!D3327 & \"\"\"\"","v":"\" \",\"\",\"\",\"\""}]
[{"$f":"\"\"\" \"& 'BX Language acquisition'!A3328 & \"\"\",\"\"\" & 'BX Language acquisition'!C3328 & \"\"\",\"\"\" & 'BX Language acquisition'!B3328 & \"\"\",\"\"\" & 'BX Language acquisition'!D3328 & \"\"\"\"","v":"\" \",\"\",\"\",\"\""}]
[{"$f":"\"\"\" \"& 'BX Language acquisition'!A3329 & \"\"\",\"\"\" & 'BX Language acquisition'!C3329 & \"\"\",\"\"\" & 'BX Language acquisition'!B3329 & \"\"\",\"\"\" & 'BX Language acquisition'!D3329 & \"\"\"\"","v":"\" \",\"\",\"\",\"\""}]
[{"$f":"\"\"\" \"& 'BX Language acquisition'!A3330 & \"\"\",\"\"\" & 'BX Language acquisition'!C3330 & \"\"\",\"\"\" & 'BX Language acquisition'!B3330 & \"\"\",\"\"\" & 'BX Language acquisition'!D3330 & \"\"\"\"","v":"\" \",\"\",\"\",\"\""}]
[{"$f":"\"\"\" \"& 'BX Language acquisition'!A3331 & \"\"\",\"\"\" & 'BX Language acquisition'!C3331 & \"\"\",\"\"\" & 'BX Language acquisition'!B3331 & \"\"\",\"\"\" & 'BX Language acquisition'!D3331 & \"\"\"\"","v":"\" \",\"\",\"\",\"\""}]
[{"$f":"\"\"\" \"& 'BX Language acquisition'!A3332 & \"\"\",\"\"\" & 'BX Language acquisition'!C3332 & \"\"\",\"\"\" & 'BX Language acquisition'!B3332 & \"\"\",\"\"\" & 'BX Language acquisition'!D3332 & \"\"\"\"","v":"\" \",\"\",\"\",\"\""}]
[{"$f":"\"\"\" \"& 'BX Language acquisition'!A3333 & \"\"\",\"\"\" & 'BX Language acquisition'!C3333 & \"\"\",\"\"\" & 'BX Language acquisition'!B3333 & \"\"\",\"\"\" & 'BX Language acquisition'!D3333 & \"\"\"\"","v":"\" \",\"\",\"\",\"\""}]
[{"$f":"\"\"\" \"& 'BX Language acquisition'!A3334 & \"\"\",\"\"\" & 'BX Language acquisition'!C3334 & \"\"\",\"\"\" & 'BX Language acquisition'!B3334 & \"\"\",\"\"\" & 'BX Language acquisition'!D3334 & \"\"\"\"","v":"\" \",\"\",\"\",\"\""}]
[{"$f":"\"\"\" \"& 'BX Language acquisition'!A3335 & \"\"\",\"\"\" & 'BX Language acquisition'!C3335 & \"\"\",\"\"\" & 'BX Language acquisition'!B3335 & \"\"\",\"\"\" & 'BX Language acquisition'!D3335 & \"\"\"\"","v":"\" \",\"\",\"\",\"\""}]
[{"$f":"\"\"\" \"& 'BX Language acquisition'!A3336 & \"\"\",\"\"\" & 'BX Language acquisition'!C3336 & \"\"\",\"\"\" & 'BX Language acquisition'!B3336 & \"\"\",\"\"\" & 'BX Language acquisition'!D3336 & \"\"\"\"","v":"\" \",\"\",\"\",\"\""}]
[{"$f":"\"\"\" \"& 'BX Language acquisition'!A3337 & \"\"\",\"\"\" & 'BX Language acquisition'!C3337 & \"\"\",\"\"\" & 'BX Language acquisition'!B3337 & \"\"\",\"\"\" & 'BX Language acquisition'!D3337 & \"\"\"\"","v":"\" \",\"\",\"\",\"\""}]
[{"$f":"\"\"\" \"& 'BX Language acquisition'!A3338 & \"\"\",\"\"\" & 'BX Language acquisition'!C3338 & \"\"\",\"\"\" & 'BX Language acquisition'!B3338 & \"\"\",\"\"\" & 'BX Language acquisition'!D3338 & \"\"\"\"","v":"\" \",\"\",\"\",\"\""}]
[{"$f":"\"\"\" \"& 'BX Language acquisition'!A3339 & \"\"\",\"\"\" & 'BX Language acquisition'!C3339 & \"\"\",\"\"\" & 'BX Language acquisition'!B3339 & \"\"\",\"\"\" & 'BX Language acquisition'!D3339 & \"\"\"\"","v":"\" \",\"\",\"\",\"\""}]
[{"$f":"\"\"\" \"& 'BX Language acquisition'!A3340 & \"\"\",\"\"\" & 'BX Language acquisition'!C3340 & \"\"\",\"\"\" & 'BX Language acquisition'!B3340 & \"\"\",\"\"\" & 'BX Language acquisition'!D3340 & \"\"\"\"","v":"\" \",\"\",\"\",\"\""}]
[{"$f":"\"\"\" \"& 'BX Language acquisition'!A3341 & \"\"\",\"\"\" & 'BX Language acquisition'!C3341 & \"\"\",\"\"\" & 'BX Language acquisition'!B3341 & \"\"\",\"\"\" & 'BX Language acquisition'!D3341 & \"\"\"\"","v":"\" \",\"\",\"\",\"\""}]
[{"$f":"\"\"\" \"& 'BX Language acquisition'!A3342 & \"\"\",\"\"\" & 'BX Language acquisition'!C3342 & \"\"\",\"\"\" & 'BX Language acquisition'!B3342 & \"\"\",\"\"\" & 'BX Language acquisition'!D3342 & \"\"\"\"","v":"\" \",\"\",\"\",\"\""}]
[{"$f":"\"\"\" \"& 'BX Language acquisition'!A3343 & \"\"\",\"\"\" & 'BX Language acquisition'!C3343 & \"\"\",\"\"\" & 'BX Language acquisition'!B3343 & \"\"\",\"\"\" & 'BX Language acquisition'!D3343 & \"\"\"\"","v":"\" \",\"\",\"\",\"\""}]
[{"$f":"\"\"\" \"& 'BX Language acquisition'!A3344 & \"\"\",\"\"\" & 'BX Language acquisition'!C3344 & \"\"\",\"\"\" & 'BX Language acquisition'!B3344 & \"\"\",\"\"\" & 'BX Language acquisition'!D3344 & \"\"\"\"","v":"\" \",\"\",\"\",\"\""}]
[{"$f":"\"\"\" \"& 'BX Language acquisition'!A3345 & \"\"\",\"\"\" & 'BX Language acquisition'!C3345 & \"\"\",\"\"\" & 'BX Language acquisition'!B3345 & \"\"\",\"\"\" & 'BX Language acquisition'!D3345 & \"\"\"\"","v":"\" \",\"\",\"\",\"\""}]
[{"$f":"\"\"\" \"& 'BX Language acquisition'!A3346 & \"\"\",\"\"\" & 'BX Language acquisition'!C3346 & \"\"\",\"\"\" & 'BX Language acquisition'!B3346 & \"\"\",\"\"\" & 'BX Language acquisition'!D3346 & \"\"\"\"","v":"\" \",\"\",\"\",\"\""}]
[{"$f":"\"\"\" \"& 'BX Language acquisition'!A3347 & \"\"\",\"\"\" & 'BX Language acquisition'!C3347 & \"\"\",\"\"\" & 'BX Language acquisition'!B3347 & \"\"\",\"\"\" & 'BX Language acquisition'!D3347 & \"\"\"\"","v":"\" \",\"\",\"\",\"\""}]
[{"$f":"\"\"\" \"& 'BX Language acquisition'!A3348 & \"\"\",\"\"\" & 'BX Language acquisition'!C3348 & \"\"\",\"\"\" & 'BX Language acquisition'!B3348 & \"\"\",\"\"\" & 'BX Language acquisition'!D3348 & \"\"\"\"","v":"\" \",\"\",\"\",\"\""}]
[{"$f":"\"\"\" \"& 'BX Language acquisition'!A3349 & \"\"\",\"\"\" & 'BX Language acquisition'!C3349 & \"\"\",\"\"\" & 'BX Language acquisition'!B3349 & \"\"\",\"\"\" & 'BX Language acquisition'!D3349 & \"\"\"\"","v":"\" \",\"\",\"\",\"\""}]
[{"$f":"\"\"\" \"& 'BX Language acquisition'!A3350 & \"\"\",\"\"\" & 'BX Language acquisition'!C3350 & \"\"\",\"\"\" & 'BX Language acquisition'!B3350 & \"\"\",\"\"\" & 'BX Language acquisition'!D3350 & \"\"\"\"","v":"\" \",\"\",\"\",\"\""}]
[{"$f":"\"\"\" \"& 'BX Language acquisition'!A3351 & \"\"\",\"\"\" & 'BX Language acquisition'!C3351 & \"\"\",\"\"\" & 'BX Language acquisition'!B3351 & \"\"\",\"\"\" & 'BX Language acquisition'!D3351 & \"\"\"\"","v":"\" \",\"\",\"\",\"\""}]
[{"$f":"\"\"\" \"& 'BX Language acquisition'!A3352 & \"\"\",\"\"\" & 'BX Language acquisition'!C3352 & \"\"\",\"\"\" & 'BX Language acquisition'!B3352 & \"\"\",\"\"\" & 'BX Language acquisition'!D3352 & \"\"\"\"","v":"\" \",\"\",\"\",\"\""}]
[{"$f":"\"\"\" \"& 'BX Language acquisition'!A3353 & \"\"\",\"\"\" & 'BX Language acquisition'!C3353 & \"\"\",\"\"\" & 'BX Language acquisition'!B3353 & \"\"\",\"\"\" & 'BX Language acquisition'!D3353 & \"\"\"\"","v":"\" \",\"\",\"\",\"\""}]
[{"$f":"\"\"\" \"& 'BX Language acquisition'!A3354 & \"\"\",\"\"\" & 'BX Language acquisition'!C3354 & \"\"\",\"\"\" & 'BX Language acquisition'!B3354 & \"\"\",\"\"\" & 'BX Language acquisition'!D3354 & \"\"\"\"","v":"\" \",\"\",\"\",\"\""}]
[{"$f":"\"\"\" \"& 'BX Language acquisition'!A3355 & \"\"\",\"\"\" & 'BX Language acquisition'!C3355 & \"\"\",\"\"\" & 'BX Language acquisition'!B3355 & \"\"\",\"\"\" & 'BX Language acquisition'!D3355 & \"\"\"\"","v":"\" \",\"\",\"\",\"\""}]
[{"$f":"\"\"\" \"& 'BX Language acquisition'!A3356 & \"\"\",\"\"\" & 'BX Language acquisition'!C3356 & \"\"\",\"\"\" & 'BX Language acquisition'!B3356 & \"\"\",\"\"\" & 'BX Language acquisition'!D3356 & \"\"\"\"","v":"\" \",\"\",\"\",\"\""}]
[{"$f":"\"\"\" \"& 'BX Language acquisition'!A3357 & \"\"\",\"\"\" & 'BX Language acquisition'!C3357 & \"\"\",\"\"\" & 'BX Language acquisition'!B3357 & \"\"\",\"\"\" & 'BX Language acquisition'!D3357 & \"\"\"\"","v":"\" \",\"\",\"\",\"\""}]
[{"$f":"\"\"\" \"& 'BX Language acquisition'!A3358 & \"\"\",\"\"\" & 'BX Language acquisition'!C3358 & \"\"\",\"\"\" & 'BX Language acquisition'!B3358 & \"\"\",\"\"\" & 'BX Language acquisition'!D3358 & \"\"\"\"","v":"\" \",\"\",\"\",\"\""}]
[{"$f":"\"\"\" \"& 'BX Language acquisition'!A3359 & \"\"\",\"\"\" & 'BX Language acquisition'!C3359 & \"\"\",\"\"\" & 'BX Language acquisition'!B3359 & \"\"\",\"\"\" & 'BX Language acquisition'!D3359 & \"\"\"\"","v":"\" \",\"\",\"\",\"\""}]
[{"$f":"\"\"\" \"& 'BX Language acquisition'!A3360 & \"\"\",\"\"\" & 'BX Language acquisition'!C3360 & \"\"\",\"\"\" & 'BX Language acquisition'!B3360 & \"\"\",\"\"\" & 'BX Language acquisition'!D3360 & \"\"\"\"","v":"\" \",\"\",\"\",\"\""}]
[{"$f":"\"\"\" \"& 'BX Language acquisition'!A3361 & \"\"\",\"\"\" & 'BX Language acquisition'!C3361 & \"\"\",\"\"\" & 'BX Language acquisition'!B3361 & \"\"\",\"\"\" & 'BX Language acquisition'!D3361 & \"\"\"\"","v":"\" \",\"\",\"\",\"\""}]
[{"$f":"\"\"\" \"& 'BX Language acquisition'!A3362 & \"\"\",\"\"\" & 'BX Language acquisition'!C3362 & \"\"\",\"\"\" & 'BX Language acquisition'!B3362 & \"\"\",\"\"\" & 'BX Language acquisition'!D3362 & \"\"\"\"","v":"\" \",\"\",\"\",\"\""}]
[{"$f":"\"\"\" \"& 'BX Language acquisition'!A3363 & \"\"\",\"\"\" & 'BX Language acquisition'!C3363 & \"\"\",\"\"\" & 'BX Language acquisition'!B3363 & \"\"\",\"\"\" & 'BX Language acquisition'!D3363 & \"\"\"\"","v":"\" \",\"\",\"\",\"\""}]
[{"$f":"\"\"\" \"& 'BX Language acquisition'!A3364 & \"\"\",\"\"\" & 'BX Language acquisition'!C3364 & \"\"\",\"\"\" & 'BX Language acquisition'!B3364 & \"\"\",\"\"\" & 'BX Language acquisition'!D3364 & \"\"\"\"","v":"\" \",\"\",\"\",\"\""}]
[{"$f":"\"\"\" \"& 'BX Language acquisition'!A3365 & \"\"\",\"\"\" & 'BX Language acquisition'!C3365 & \"\"\",\"\"\" & 'BX Language acquisition'!B3365 & \"\"\",\"\"\" & 'BX Language acquisition'!D3365 & \"\"\"\"","v":"\" \",\"\",\"\",\"\""}]
[{"$f":"\"\"\" \"& 'BX Language acquisition'!A3366 & \"\"\",\"\"\" & 'BX Language acquisition'!C3366 & \"\"\",\"\"\" & 'BX Language acquisition'!B3366 & \"\"\",\"\"\" & 'BX Language acquisition'!D3366 & \"\"\"\"","v":"\" \",\"\",\"\",\"\""}]
[{"$f":"\"\"\" \"& 'BX Language acquisition'!A3367 & \"\"\",\"\"\" & 'BX Language acquisition'!C3367 & \"\"\",\"\"\" & 'BX Language acquisition'!B3367 & \"\"\",\"\"\" & 'BX Language acquisition'!D3367 & \"\"\"\"","v":"\" \",\"\",\"\",\"\""}]
[{"$f":"\"\"\" \"& 'BX Language acquisition'!A3368 & \"\"\",\"\"\" & 'BX Language acquisition'!C3368 & \"\"\",\"\"\" & 'BX Language acquisition'!B3368 & \"\"\",\"\"\" & 'BX Language acquisition'!D3368 & \"\"\"\"","v":"\" \",\"\",\"\",\"\""}]
[{"$f":"\"\"\" \"& 'BX Language acquisition'!A3369 & \"\"\",\"\"\" & 'BX Language acquisition'!C3369 & \"\"\",\"\"\" & 'BX Language acquisition'!B3369 & \"\"\",\"\"\" & 'BX Language acquisition'!D3369 & \"\"\"\"","v":"\" \",\"\",\"\",\"\""}]
[{"$f":"\"\"\" \"& 'BX Language acquisition'!A3370 & \"\"\",\"\"\" & 'BX Language acquisition'!C3370 & \"\"\",\"\"\" & 'BX Language acquisition'!B3370 & \"\"\",\"\"\" & 'BX Language acquisition'!D3370 & \"\"\"\"","v":"\" \",\"\",\"\",\"\""}]
[{"$f":"\"\"\" \"& 'BX Language acquisition'!A3371 & \"\"\",\"\"\" & 'BX Language acquisition'!C3371 & \"\"\",\"\"\" & 'BX Language acquisition'!B3371 & \"\"\",\"\"\" & 'BX Language acquisition'!D3371 & \"\"\"\"","v":"\" \",\"\",\"\",\"\""}]
[{"$f":"\"\"\" \"& 'BX Language acquisition'!A3372 & \"\"\",\"\"\" & 'BX Language acquisition'!C3372 & \"\"\",\"\"\" & 'BX Language acquisition'!B3372 & \"\"\",\"\"\" & 'BX Language acquisition'!D3372 & \"\"\"\"","v":"\" \",\"\",\"\",\"\""}]
[{"$f":"\"\"\" \"& 'BX Language acquisition'!A3373 & \"\"\",\"\"\" & 'BX Language acquisition'!C3373 & \"\"\",\"\"\" & 'BX Language acquisition'!B3373 & \"\"\",\"\"\" & 'BX Language acquisition'!D3373 & \"\"\"\"","v":"\" \",\"\",\"\",\"\""}]
[{"$f":"\"\"\" \"& 'BX Language acquisition'!A3374 & \"\"\",\"\"\" & 'BX Language acquisition'!C3374 & \"\"\",\"\"\" & 'BX Language acquisition'!B3374 & \"\"\",\"\"\" & 'BX Language acquisition'!D3374 & \"\"\"\"","v":"\" \",\"\",\"\",\"\""}]
[{"$f":"\"\"\" \"& 'BX Language acquisition'!A3375 & \"\"\",\"\"\" & 'BX Language acquisition'!C3375 & \"\"\",\"\"\" & 'BX Language acquisition'!B3375 & \"\"\",\"\"\" & 'BX Language acquisition'!D3375 & \"\"\"\"","v":"\" \",\"\",\"\",\"\""}]
[{"$f":"\"\"\" \"& 'BX Language acquisition'!A3376 & \"\"\",\"\"\" & 'BX Language acquisition'!C3376 & \"\"\",\"\"\" & 'BX Language acquisition'!B3376 & \"\"\",\"\"\" & 'BX Language acquisition'!D3376 & \"\"\"\"","v":"\" \",\"\",\"\",\"\""}]
[{"$f":"\"\"\" \"& 'BX Language acquisition'!A3377 & \"\"\",\"\"\" & 'BX Language acquisition'!C3377 & \"\"\",\"\"\" & 'BX Language acquisition'!B3377 & \"\"\",\"\"\" & 'BX Language acquisition'!D3377 & \"\"\"\"","v":"\" \",\"\",\"\",\"\""}]
[{"$f":"\"\"\" \"& 'BX Language acquisition'!A3378 & \"\"\",\"\"\" & 'BX Language acquisition'!C3378 & \"\"\",\"\"\" & 'BX Language acquisition'!B3378 & \"\"\",\"\"\" & 'BX Language acquisition'!D3378 & \"\"\"\"","v":"\" \",\"\",\"\",\"\""}]
[{"$f":"\"\"\" \"& 'BX Language acquisition'!A3379 & \"\"\",\"\"\" & 'BX Language acquisition'!C3379 & \"\"\",\"\"\" & 'BX Language acquisition'!B3379 & \"\"\",\"\"\" & 'BX Language acquisition'!D3379 & \"\"\"\"","v":"\" \",\"\",\"\",\"\""}]
[{"$f":"\"\"\" \"& 'BX Language acquisition'!A3380 & \"\"\",\"\"\" & 'BX Language acquisition'!C3380 & \"\"\",\"\"\" & 'BX Language acquisition'!B3380 & \"\"\",\"\"\" & 'BX Language acquisition'!D3380 & \"\"\"\"","v":"\" \",\"\",\"\",\"\""}]
[{"$f":"\"\"\" \"& 'BX Language acquisition'!A3381 & \"\"\",\"\"\" & 'BX Language acquisition'!C3381 & \"\"\",\"\"\" & 'BX Language acquisition'!B3381 & \"\"\",\"\"\" & 'BX Language acquisition'!D3381 & \"\"\"\"","v":"\" \",\"\",\"\",\"\""}]
[{"$f":"\"\"\" \"& 'BX Language acquisition'!A3382 & \"\"\",\"\"\" & 'BX Language acquisition'!C3382 & \"\"\",\"\"\" & 'BX Language acquisition'!B3382 & \"\"\",\"\"\" & 'BX Language acquisition'!D3382 & \"\"\"\"","v":"\" \",\"\",\"\",\"\""}]
[{"$f":"\"\"\" \"& 'BX Language acquisition'!A3383 & \"\"\",\"\"\" & 'BX Language acquisition'!C3383 & \"\"\",\"\"\" & 'BX Language acquisition'!B3383 & \"\"\",\"\"\" & 'BX Language acquisition'!D3383 & \"\"\"\"","v":"\" \",\"\",\"\",\"\""}]
[{"$f":"\"\"\" \"& 'BX Language acquisition'!A3384 & \"\"\",\"\"\" & 'BX Language acquisition'!C3384 & \"\"\",\"\"\" & 'BX Language acquisition'!B3384 & \"\"\",\"\"\" & 'BX Language acquisition'!D3384 & \"\"\"\"","v":"\" \",\"\",\"\",\"\""}]
[{"$f":"\"\"\" \"& 'BX Language acquisition'!A3385 & \"\"\",\"\"\" & 'BX Language acquisition'!C3385 & \"\"\",\"\"\" & 'BX Language acquisition'!B3385 & \"\"\",\"\"\" & 'BX Language acquisition'!D3385 & \"\"\"\"","v":"\" \",\"\",\"\",\"\""}]
[{"$f":"\"\"\" \"& 'BX Language acquisition'!A3386 & \"\"\",\"\"\" & 'BX Language acquisition'!C3386 & \"\"\",\"\"\" & 'BX Language acquisition'!B3386 & \"\"\",\"\"\" & 'BX Language acquisition'!D3386 & \"\"\"\"","v":"\" \",\"\",\"\",\"\""}]
[{"$f":"\"\"\" \"& 'BX Language acquisition'!A3387 & \"\"\",\"\"\" & 'BX Language acquisition'!C3387 & \"\"\",\"\"\" & 'BX Language acquisition'!B3387 & \"\"\",\"\"\" & 'BX Language acquisition'!D3387 & \"\"\"\"","v":"\" \",\"\",\"\",\"\""}]
[{"$f":"\"\"\" \"& 'BX Language acquisition'!A3388 & \"\"\",\"\"\" & 'BX Language acquisition'!C3388 & \"\"\",\"\"\" & 'BX Language acquisition'!B3388 & \"\"\",\"\"\" & 'BX Language acquisition'!D3388 & \"\"\"\"","v":"\" \",\"\",\"\",\"\""}]
[{"$f":"\"\"\" \"& 'BX Language acquisition'!A3389 & \"\"\",\"\"\" & 'BX Language acquisition'!C3389 & \"\"\",\"\"\" & 'BX Language acquisition'!B3389 & \"\"\",\"\"\" & 'BX Language acquisition'!D3389 & \"\"\"\"","v":"\" \",\"\",\"\",\"\""}]
[{"$f":"\"\"\" \"& 'BX Language acquisition'!A3390 & \"\"\",\"\"\" & 'BX Language acquisition'!C3390 & \"\"\",\"\"\" & 'BX Language acquisition'!B3390 & \"\"\",\"\"\" & 'BX Language acquisition'!D3390 & \"\"\"\"","v":"\" \",\"\",\"\",\"\""}]
[{"$f":"\"\"\" \"& 'BX Language acquisition'!A3391 & \"\"\",\"\"\" & 'BX Language acquisition'!C3391 & \"\"\",\"\"\" & 'BX Language acquisition'!B3391 & \"\"\",\"\"\" & 'BX Language acquisition'!D3391 & \"\"\"\"","v":"\" \",\"\",\"\",\"\""}]
[{"$f":"\"\"\" \"& 'BX Language acquisition'!A3392 & \"\"\",\"\"\" & 'BX Language acquisition'!C3392 & \"\"\",\"\"\" & 'BX Language acquisition'!B3392 & \"\"\",\"\"\" & 'BX Language acquisition'!D3392 & \"\"\"\"","v":"\" \",\"\",\"\",\"\""}]
[{"$f":"\"\"\" \"& 'BX Language acquisition'!A3393 & \"\"\",\"\"\" & 'BX Language acquisition'!C3393 & \"\"\",\"\"\" & 'BX Language acquisition'!B3393 & \"\"\",\"\"\" & 'BX Language acquisition'!D3393 & \"\"\"\"","v":"\" \",\"\",\"\",\"\""}]
[{"$f":"\"\"\" \"& 'BX Language acquisition'!A3394 & \"\"\",\"\"\" & 'BX Language acquisition'!C3394 & \"\"\",\"\"\" & 'BX Language acquisition'!B3394 & \"\"\",\"\"\" & 'BX Language acquisition'!D3394 & \"\"\"\"","v":"\" \",\"\",\"\",\"\""}]
[{"$f":"\"\"\" \"& 'BX Language acquisition'!A3395 & \"\"\",\"\"\" & 'BX Language acquisition'!C3395 & \"\"\",\"\"\" & 'BX Language acquisition'!B3395 & \"\"\",\"\"\" & 'BX Language acquisition'!D3395 & \"\"\"\"","v":"\" \",\"\",\"\",\"\""}]
[{"$f":"\"\"\" \"& 'BX Language acquisition'!A3396 & \"\"\",\"\"\" & 'BX Language acquisition'!C3396 & \"\"\",\"\"\" & 'BX Language acquisition'!B3396 & \"\"\",\"\"\" & 'BX Language acquisition'!D3396 & \"\"\"\"","v":"\" \",\"\",\"\",\"\""}]
[{"$f":"\"\"\" \"& 'BX Language acquisition'!A3397 & \"\"\",\"\"\" & 'BX Language acquisition'!C3397 & \"\"\",\"\"\" & 'BX Language acquisition'!B3397 & \"\"\",\"\"\" & 'BX Language acquisition'!D3397 & \"\"\"\"","v":"\" \",\"\",\"\",\"\""}]
[{"$f":"\"\"\" \"& 'BX Language acquisition'!A3398 & \"\"\",\"\"\" & 'BX Language acquisition'!C3398 & \"\"\",\"\"\" & 'BX Language acquisition'!B3398 & \"\"\",\"\"\" & 'BX Language acquisition'!D3398 & \"\"\"\"","v":"\" \",\"\",\"\",\"\""}]
[{"$f":"\"\"\" \"& 'BX Language acquisition'!A3399 & \"\"\",\"\"\" & 'BX Language acquisition'!C3399 & \"\"\",\"\"\" & 'BX Language acquisition'!B3399 & \"\"\",\"\"\" & 'BX Language acquisition'!D3399 & \"\"\"\"","v":"\" \",\"\",\"\",\"\""}]
[{"$f":"\"\"\" \"& 'BX Language acquisition'!A3400 & \"\"\",\"\"\" & 'BX Language acquisition'!C3400 & \"\"\",\"\"\" & 'BX Language acquisition'!B3400 & \"\"\",\"\"\" & 'BX Language acquisition'!D3400 & \"\"\"\"","v":"\" \",\"\",\"\",\"\""}]
[{"$f":"\"\"\" \"& 'BX Language acquisition'!A3401 & \"\"\",\"\"\" & 'BX Language acquisition'!C3401 & \"\"\",\"\"\" & 'BX Language acquisition'!B3401 & \"\"\",\"\"\" & 'BX Language acquisition'!D3401 & \"\"\"\"","v":"\" \",\"\",\"\",\"\""}]
[{"$f":"\"\"\" \"& 'BX Language acquisition'!A3402 & \"\"\",\"\"\" & 'BX Language acquisition'!C3402 & \"\"\",\"\"\" & 'BX Language acquisition'!B3402 & \"\"\",\"\"\" & 'BX Language acquisition'!D3402 & \"\"\"\"","v":"\" \",\"\",\"\",\"\""}]
[{"$f":"\"\"\" \"& 'BX Language acquisition'!A3403 & \"\"\",\"\"\" & 'BX Language acquisition'!C3403 & \"\"\",\"\"\" & 'BX Language acquisition'!B3403 & \"\"\",\"\"\" & 'BX Language acquisition'!D3403 & \"\"\"\"","v":"\" \",\"\",\"\",\"\""}]
[{"$f":"\"\"\" \"& 'BX Language acquisition'!A3404 & \"\"\",\"\"\" & 'BX Language acquisition'!C3404 & \"\"\",\"\"\" & 'BX Language acquisition'!B3404 & \"\"\",\"\"\" & 'BX Language acquisition'!D3404 & \"\"\"\"","v":"\" \",\"\",\"\",\"\""}]
[{"$f":"\"\"\" \"& 'BX Language acquisition'!A3405 & \"\"\",\"\"\" & 'BX Language acquisition'!C3405 & \"\"\",\"\"\" & 'BX Language acquisition'!B3405 & \"\"\",\"\"\" & 'BX Language acquisition'!D3405 & \"\"\"\"","v":"\" \",\"\",\"\",\"\""}]
[{"$f":"\"\"\" \"& 'BX Language acquisition'!A3406 & \"\"\",\"\"\" & 'BX Language acquisition'!C3406 & \"\"\",\"\"\" & 'BX Language acquisition'!B3406 & \"\"\",\"\"\" & 'BX Language acquisition'!D3406 & \"\"\"\"","v":"\" \",\"\",\"\",\"\""}]
[{"$f":"\"\"\" \"& 'BX Language acquisition'!A3407 & \"\"\",\"\"\" & 'BX Language acquisition'!C3407 & \"\"\",\"\"\" & 'BX Language acquisition'!B3407 & \"\"\",\"\"\" & 'BX Language acquisition'!D3407 & \"\"\"\"","v":"\" \",\"\",\"\",\"\""}]
[{"$f":"\"\"\" \"& 'BX Language acquisition'!A3408 & \"\"\",\"\"\" & 'BX Language acquisition'!C3408 & \"\"\",\"\"\" & 'BX Language acquisition'!B3408 & \"\"\",\"\"\" & 'BX Language acquisition'!D3408 & \"\"\"\"","v":"\" \",\"\",\"\",\"\""}]
[{"$f":"\"\"\" \"& 'BX Language acquisition'!A3409 & \"\"\",\"\"\" & 'BX Language acquisition'!C3409 & \"\"\",\"\"\" & 'BX Language acquisition'!B3409 & \"\"\",\"\"\" & 'BX Language acquisition'!D3409 & \"\"\"\"","v":"\" \",\"\",\"\",\"\""}]
[{"$f":"\"\"\" \"& 'BX Language acquisition'!A3410 & \"\"\",\"\"\" & 'BX Language acquisition'!C3410 & \"\"\",\"\"\" & 'BX Language acquisition'!B3410 & \"\"\",\"\"\" & 'BX Language acquisition'!D3410 & \"\"\"\"","v":"\" \",\"\",\"\",\"\""}]
[{"$f":"\"\"\" \"& 'BX Language acquisition'!A3411 & \"\"\",\"\"\" & 'BX Language acquisition'!C3411 & \"\"\",\"\"\" & 'BX Language acquisition'!B3411 & \"\"\",\"\"\" & 'BX Language acquisition'!D3411 & \"\"\"\"","v":"\" \",\"\",\"\",\"\""}]
[{"$f":"\"\"\" \"& 'BX Language acquisition'!A3412 & \"\"\",\"\"\" & 'BX Language acquisition'!C3412 & \"\"\",\"\"\" & 'BX Language acquisition'!B3412 & \"\"\",\"\"\" & 'BX Language acquisition'!D3412 & \"\"\"\"","v":"\" \",\"\",\"\",\"\""}]
[{"$f":"\"\"\" \"& 'BX Language acquisition'!A3413 & \"\"\",\"\"\" & 'BX Language acquisition'!C3413 & \"\"\",\"\"\" & 'BX Language acquisition'!B3413 & \"\"\",\"\"\" & 'BX Language acquisition'!D3413 & \"\"\"\"","v":"\" \",\"\",\"\",\"\""}]
[{"$f":"\"\"\" \"& 'BX Language acquisition'!A3414 & \"\"\",\"\"\" & 'BX Language acquisition'!C3414 & \"\"\",\"\"\" & 'BX Language acquisition'!B3414 & \"\"\",\"\"\" & 'BX Language acquisition'!D3414 & \"\"\"\"","v":"\" \",\"\",\"\",\"\""}]
[{"$f":"\"\"\" \"& 'BX Language acquisition'!A3415 & \"\"\",\"\"\" & 'BX Language acquisition'!C3415 & \"\"\",\"\"\" & 'BX Language acquisition'!B3415 & \"\"\",\"\"\" & 'BX Language acquisition'!D3415 & \"\"\"\"","v":"\" \",\"\",\"\",\"\""}]
[{"$f":"\"\"\" \"& 'BX Language acquisition'!A3416 & \"\"\",\"\"\" & 'BX Language acquisition'!C3416 & \"\"\",\"\"\" & 'BX Language acquisition'!B3416 & \"\"\",\"\"\" & 'BX Language acquisition'!D3416 & \"\"\"\"","v":"\" \",\"\",\"\",\"\""}]
[{"$f":"\"\"\" \"& 'BX Language acquisition'!A3417 & \"\"\",\"\"\" & 'BX Language acquisition'!C3417 & \"\"\",\"\"\" & 'BX Language acquisition'!B3417 & \"\"\",\"\"\" & 'BX Language acquisition'!D3417 & \"\"\"\"","v":"\" \",\"\",\"\",\"\""}]
[{"$f":"\"\"\" \"& 'BX Language acquisition'!A3418 & \"\"\",\"\"\" & 'BX Language acquisition'!C3418 & \"\"\",\"\"\" & 'BX Language acquisition'!B3418 & \"\"\",\"\"\" & 'BX Language acquisition'!D3418 & \"\"\"\"","v":"\" \",\"\",\"\",\"\""}]
[{"$f":"\"\"\" \"& 'BX Language acquisition'!A3419 & \"\"\",\"\"\" & 'BX Language acquisition'!C3419 & \"\"\",\"\"\" & 'BX Language acquisition'!B3419 & \"\"\",\"\"\" & 'BX Language acquisition'!D3419 & \"\"\"\"","v":"\" \",\"\",\"\",\"\""}]
[{"$f":"\"\"\" \"& 'BX Language acquisition'!A3420 & \"\"\",\"\"\" & 'BX Language acquisition'!C3420 & \"\"\",\"\"\" & 'BX Language acquisition'!B3420 & \"\"\",\"\"\" & 'BX Language acquisition'!D3420 & \"\"\"\"","v":"\" \",\"\",\"\",\"\""}]
[{"$f":"\"\"\" \"& 'BX Language acquisition'!A3421 & \"\"\",\"\"\" & 'BX Language acquisition'!C3421 & \"\"\",\"\"\" & 'BX Language acquisition'!B3421 & \"\"\",\"\"\" & 'BX Language acquisition'!D3421 & \"\"\"\"","v":"\" \",\"\",\"\",\"\""}]
[{"$f":"\"\"\" \"& 'BX Language acquisition'!A3422 & \"\"\",\"\"\" & 'BX Language acquisition'!C3422 & \"\"\",\"\"\" & 'BX Language acquisition'!B3422 & \"\"\",\"\"\" & 'BX Language acquisition'!D3422 & \"\"\"\"","v":"\" \",\"\",\"\",\"\""}]
[{"$f":"\"\"\" \"& 'BX Language acquisition'!A3423 & \"\"\",\"\"\" & 'BX Language acquisition'!C3423 & \"\"\",\"\"\" & 'BX Language acquisition'!B3423 & \"\"\",\"\"\" & 'BX Language acquisition'!D3423 & \"\"\"\"","v":"\" \",\"\",\"\",\"\""}]
[{"$f":"\"\"\" \"& 'BX Language acquisition'!A3424 & \"\"\",\"\"\" & 'BX Language acquisition'!C3424 & \"\"\",\"\"\" & 'BX Language acquisition'!B3424 & \"\"\",\"\"\" & 'BX Language acquisition'!D3424 & \"\"\"\"","v":"\" \",\"\",\"\",\"\""}]
[{"$f":"\"\"\" \"& 'BX Language acquisition'!A3425 & \"\"\",\"\"\" & 'BX Language acquisition'!C3425 & \"\"\",\"\"\" & 'BX Language acquisition'!B3425 & \"\"\",\"\"\" & 'BX Language acquisition'!D3425 & \"\"\"\"","v":"\" \",\"\",\"\",\"\""}]
[{"$f":"\"\"\" \"& 'BX Language acquisition'!A3426 & \"\"\",\"\"\" & 'BX Language acquisition'!C3426 & \"\"\",\"\"\" & 'BX Language acquisition'!B3426 & \"\"\",\"\"\" & 'BX Language acquisition'!D3426 & \"\"\"\"","v":"\" \",\"\",\"\",\"\""}]
[{"$f":"\"\"\" \"& 'BX Language acquisition'!A3427 & \"\"\",\"\"\" & 'BX Language acquisition'!C3427 & \"\"\",\"\"\" & 'BX Language acquisition'!B3427 & \"\"\",\"\"\" & 'BX Language acquisition'!D3427 & \"\"\"\"","v":"\" \",\"\",\"\",\"\""}]
[{"$f":"\"\"\" \"& 'BX Language acquisition'!A3428 & \"\"\",\"\"\" & 'BX Language acquisition'!C3428 & \"\"\",\"\"\" & 'BX Language acquisition'!B3428 & \"\"\",\"\"\" & 'BX Language acquisition'!D3428 & \"\"\"\"","v":"\" \",\"\",\"\",\"\""}]
[{"$f":"\"\"\" \"& 'BX Language acquisition'!A3429 & \"\"\",\"\"\" & 'BX Language acquisition'!C3429 & \"\"\",\"\"\" & 'BX Language acquisition'!B3429 & \"\"\",\"\"\" & 'BX Language acquisition'!D3429 & \"\"\"\"","v":"\" \",\"\",\"\",\"\""}]
[{"$f":"\"\"\" \"& 'BX Language acquisition'!A3430 & \"\"\",\"\"\" & 'BX Language acquisition'!C3430 & \"\"\",\"\"\" & 'BX Language acquisition'!B3430 & \"\"\",\"\"\" & 'BX Language acquisition'!D3430 & \"\"\"\"","v":"\" \",\"\",\"\",\"\""}]
[{"$f":"\"\"\" \"& 'BX Language acquisition'!A3431 & \"\"\",\"\"\" & 'BX Language acquisition'!C3431 & \"\"\",\"\"\" & 'BX Language acquisition'!B3431 & \"\"\",\"\"\" & 'BX Language acquisition'!D3431 & \"\"\"\"","v":"\" \",\"\",\"\",\"\""}]
[{"$f":"\"\"\" \"& 'BX Language acquisition'!A3432 & \"\"\",\"\"\" & 'BX Language acquisition'!C3432 & \"\"\",\"\"\" & 'BX Language acquisition'!B3432 & \"\"\",\"\"\" & 'BX Language acquisition'!D3432 & \"\"\"\"","v":"\" \",\"\",\"\",\"\""}]
[{"$f":"\"\"\" \"& 'BX Language acquisition'!A3433 & \"\"\",\"\"\" & 'BX Language acquisition'!C3433 & \"\"\",\"\"\" & 'BX Language acquisition'!B3433 & \"\"\",\"\"\" & 'BX Language acquisition'!D3433 & \"\"\"\"","v":"\" \",\"\",\"\",\"\""}]
[{"$f":"\"\"\" \"& 'BX Language acquisition'!A3434 & \"\"\",\"\"\" & 'BX Language acquisition'!C3434 & \"\"\",\"\"\" & 'BX Language acquisition'!B3434 & \"\"\",\"\"\" & 'BX Language acquisition'!D3434 & \"\"\"\"","v":"\" \",\"\",\"\",\"\""}]
[{"$f":"\"\"\" \"& 'BX Language acquisition'!A3435 & \"\"\",\"\"\" & 'BX Language acquisition'!C3435 & \"\"\",\"\"\" & 'BX Language acquisition'!B3435 & \"\"\",\"\"\" & 'BX Language acquisition'!D3435 & \"\"\"\"","v":"\" \",\"\",\"\",\"\""}]
[{"$f":"\"\"\" \"& 'BX Language acquisition'!A3436 & \"\"\",\"\"\" & 'BX Language acquisition'!C3436 & \"\"\",\"\"\" & 'BX Language acquisition'!B3436 & \"\"\",\"\"\" & 'BX Language acquisition'!D3436 & \"\"\"\"","v":"\" \",\"\",\"\",\"\""}]
[{"$f":"\"\"\" \"& 'BX Language acquisition'!A3437 & \"\"\",\"\"\" & 'BX Language acquisition'!C3437 & \"\"\",\"\"\" & 'BX Language acquisition'!B3437 & \"\"\",\"\"\" & 'BX Language acquisition'!D3437 & \"\"\"\"","v":"\" \",\"\",\"\",\"\""}]
[{"$f":"\"\"\" \"& 'BX Language acquisition'!A3438 & \"\"\",\"\"\" & 'BX Language acquisition'!C3438 & \"\"\",\"\"\" & 'BX Language acquisition'!B3438 & \"\"\",\"\"\" & 'BX Language acquisition'!D3438 & \"\"\"\"","v":"\" \",\"\",\"\",\"\""}]
[{"$f":"\"\"\" \"& 'BX Language acquisition'!A3439 & \"\"\",\"\"\" & 'BX Language acquisition'!C3439 & \"\"\",\"\"\" & 'BX Language acquisition'!B3439 & \"\"\",\"\"\" & 'BX Language acquisition'!D3439 & \"\"\"\"","v":"\" \",\"\",\"\",\"\""}]
[{"$f":"\"\"\" \"& 'BX Language acquisition'!A3440 & \"\"\",\"\"\" & 'BX Language acquisition'!C3440 & \"\"\",\"\"\" & 'BX Language acquisition'!B3440 & \"\"\",\"\"\" & 'BX Language acquisition'!D3440 & \"\"\"\"","v":"\" \",\"\",\"\",\"\""}]
[{"$f":"\"\"\" \"& 'BX Language acquisition'!A3441 & \"\"\",\"\"\" & 'BX Language acquisition'!C3441 & \"\"\",\"\"\" & 'BX Language acquisition'!B3441 & \"\"\",\"\"\" & 'BX Language acquisition'!D3441 & \"\"\"\"","v":"\" \",\"\",\"\",\"\""}]
[{"$f":"\"\"\" \"& 'BX Language acquisition'!A3442 & \"\"\",\"\"\" & 'BX Language acquisition'!C3442 & \"\"\",\"\"\" & 'BX Language acquisition'!B3442 & \"\"\",\"\"\" & 'BX Language acquisition'!D3442 & \"\"\"\"","v":"\" \",\"\",\"\",\"\""}]
[{"$f":"\"\"\" \"& 'BX Language acquisition'!A3443 & \"\"\",\"\"\" & 'BX Language acquisition'!C3443 & \"\"\",\"\"\" & 'BX Language acquisition'!B3443 & \"\"\",\"\"\" & 'BX Language acquisition'!D3443 & \"\"\"\"","v":"\" \",\"\",\"\",\"\""}]
[{"$f":"\"\"\" \"& 'BX Language acquisition'!A3444 & \"\"\",\"\"\" & 'BX Language acquisition'!C3444 & \"\"\",\"\"\" & 'BX Language acquisition'!B3444 & \"\"\",\"\"\" & 'BX Language acquisition'!D3444 & \"\"\"\"","v":"\" \",\"\",\"\",\"\""}]
[{"$f":"\"\"\" \"& 'BX Language acquisition'!A3445 & \"\"\",\"\"\" & 'BX Language acquisition'!C3445 & \"\"\",\"\"\" & 'BX Language acquisition'!B3445 & \"\"\",\"\"\" & 'BX Language acquisition'!D3445 & \"\"\"\"","v":"\" \",\"\",\"\",\"\""}]
[{"$f":"\"\"\" \"& 'BX Language acquisition'!A3446 & \"\"\",\"\"\" & 'BX Language acquisition'!C3446 & \"\"\",\"\"\" & 'BX Language acquisition'!B3446 & \"\"\",\"\"\" & 'BX Language acquisition'!D3446 & \"\"\"\"","v":"\" \",\"\",\"\",\"\""}]
[{"$f":"\"\"\" \"& 'BX Language acquisition'!A3447 & \"\"\",\"\"\" & 'BX Language acquisition'!C3447 & \"\"\",\"\"\" & 'BX Language acquisition'!B3447 & \"\"\",\"\"\" & 'BX Language acquisition'!D3447 & \"\"\"\"","v":"\" \",\"\",\"\",\"\""}]
[{"$f":"\"\"\" \"& 'BX Language acquisition'!A3448 & \"\"\",\"\"\" & 'BX Language acquisition'!C3448 & \"\"\",\"\"\" & 'BX Language acquisition'!B3448 & \"\"\",\"\"\" & 'BX Language acquisition'!D3448 & \"\"\"\"","v":"\" \",\"\",\"\",\"\""}]
[{"$f":"\"\"\" \"& 'BX Language acquisition'!A3449 & \"\"\",\"\"\" & 'BX Language acquisition'!C3449 & \"\"\",\"\"\" & 'BX Language acquisition'!B3449 & \"\"\",\"\"\" & 'BX Language acquisition'!D3449 & \"\"\"\"","v":"\" \",\"\",\"\",\"\""}]
[{"$f":"\"\"\" \"& 'BX Language acquisition'!A3450 & \"\"\",\"\"\" & 'BX Language acquisition'!C3450 & \"\"\",\"\"\" & 'BX Language acquisition'!B3450 & \"\"\",\"\"\" & 'BX Language acquisition'!D3450 & \"\"\"\"","v":"\" \",\"\",\"\",\"\""}]
[{"$f":"\"\"\" \"& 'BX Language acquisition'!A3451 & \"\"\",\"\"\" & 'BX Language acquisition'!C3451 & \"\"\",\"\"\" & 'BX Language acquisition'!B3451 & \"\"\",\"\"\" & 'BX Language acquisition'!D3451 & \"\"\"\"","v":"\" \",\"\",\"\",\"\""}]
[{"$f":"\"\"\" \"& 'BX Language acquisition'!A3452 & \"\"\",\"\"\" & 'BX Language acquisition'!C3452 & \"\"\",\"\"\" & 'BX Language acquisition'!B3452 & \"\"\",\"\"\" & 'BX Language acquisition'!D3452 & \"\"\"\"","v":"\" \",\"\",\"\",\"\""}]
[{"$f":"\"\"\" \"& 'BX Language acquisition'!A3453 & \"\"\",\"\"\" & 'BX Language acquisition'!C3453 & \"\"\",\"\"\" & 'BX Language acquisition'!B3453 & \"\"\",\"\"\" & 'BX Language acquisition'!D3453 & \"\"\"\"","v":"\" \",\"\",\"\",\"\""}]
[{"$f":"\"\"\" \"& 'BX Language acquisition'!A3454 & \"\"\",\"\"\" & 'BX Language acquisition'!C3454 & \"\"\",\"\"\" & 'BX Language acquisition'!B3454 & \"\"\",\"\"\" & 'BX Language acquisition'!D3454 & \"\"\"\"","v":"\" \",\"\",\"\",\"\""}]
[{"$f":"\"\"\" \"& 'BX Language acquisition'!A3455 & \"\"\",\"\"\" & 'BX Language acquisition'!C3455 & \"\"\",\"\"\" & 'BX Language acquisition'!B3455 & \"\"\",\"\"\" & 'BX Language acquisition'!D3455 & \"\"\"\"","v":"\" \",\"\",\"\",\"\""}]
[{"$f":"\"\"\" \"& 'BX Language acquisition'!A3456 & \"\"\",\"\"\" & 'BX Language acquisition'!C3456 & \"\"\",\"\"\" & 'BX Language acquisition'!B3456 & \"\"\",\"\"\" & 'BX Language acquisition'!D3456 & \"\"\"\"","v":"\" \",\"\",\"\",\"\""}]
[{"$f":"\"\"\" \"& 'BX Language acquisition'!A3457 & \"\"\",\"\"\" & 'BX Language acquisition'!C3457 & \"\"\",\"\"\" & 'BX Language acquisition'!B3457 & \"\"\",\"\"\" & 'BX Language acquisition'!D3457 & \"\"\"\"","v":"\" \",\"\",\"\",\"\""}]
[{"$f":"\"\"\" \"& 'BX Language acquisition'!A3458 & \"\"\",\"\"\" & 'BX Language acquisition'!C3458 & \"\"\",\"\"\" & 'BX Language acquisition'!B3458 & \"\"\",\"\"\" & 'BX Language acquisition'!D3458 & \"\"\"\"","v":"\" \",\"\",\"\",\"\""}]
[{"$f":"\"\"\" \"& 'BX Language acquisition'!A3459 & \"\"\",\"\"\" & 'BX Language acquisition'!C3459 & \"\"\",\"\"\" & 'BX Language acquisition'!B3459 & \"\"\",\"\"\" & 'BX Language acquisition'!D3459 & \"\"\"\"","v":"\" \",\"\",\"\",\"\""}]
[{"$f":"\"\"\" \"& 'BX Language acquisition'!A3460 & \"\"\",\"\"\" & 'BX Language acquisition'!C3460 & \"\"\",\"\"\" & 'BX Language acquisition'!B3460 & \"\"\",\"\"\" & 'BX Language acquisition'!D3460 & \"\"\"\"","v":"\" \",\"\",\"\",\"\""}]
[{"$f":"\"\"\" \"& 'BX Language acquisition'!A3461 & \"\"\",\"\"\" & 'BX Language acquisition'!C3461 & \"\"\",\"\"\" & 'BX Language acquisition'!B3461 & \"\"\",\"\"\" & 'BX Language acquisition'!D3461 & \"\"\"\"","v":"\" \",\"\",\"\",\"\""}]
[{"$f":"\"\"\" \"& 'BX Language acquisition'!A3462 & \"\"\",\"\"\" & 'BX Language acquisition'!C3462 & \"\"\",\"\"\" & 'BX Language acquisition'!B3462 & \"\"\",\"\"\" & 'BX Language acquisition'!D3462 & \"\"\"\"","v":"\" \",\"\",\"\",\"\""}]
[{"$f":"\"\"\" \"& 'BX Language acquisition'!A3463 & \"\"\",\"\"\" & 'BX Language acquisition'!C3463 & \"\"\",\"\"\" & 'BX Language acquisition'!B3463 & \"\"\",\"\"\" & 'BX Language acquisition'!D3463 & \"\"\"\"","v":"\" \",\"\",\"\",\"\""}]
[{"$f":"\"\"\" \"& 'BX Language acquisition'!A3464 & \"\"\",\"\"\" & 'BX Language acquisition'!C3464 & \"\"\",\"\"\" & 'BX Language acquisition'!B3464 & \"\"\",\"\"\" & 'BX Language acquisition'!D3464 & \"\"\"\"","v":"\" \",\"\",\"\",\"\""}]
[{"$f":"\"\"\" \"& 'BX Language acquisition'!A3465 & \"\"\",\"\"\" & 'BX Language acquisition'!C3465 & \"\"\",\"\"\" & 'BX Language acquisition'!B3465 & \"\"\",\"\"\" & 'BX Language acquisition'!D3465 & \"\"\"\"","v":"\" \",\"\",\"\",\"\""}]
[{"$f":"\"\"\" \"& 'BX Language acquisition'!A3466 & \"\"\",\"\"\" & 'BX Language acquisition'!C3466 & \"\"\",\"\"\" & 'BX Language acquisition'!B3466 & \"\"\",\"\"\" & 'BX Language acquisition'!D3466 & \"\"\"\"","v":"\" \",\"\",\"\",\"\""}]
[{"$f":"\"\"\" \"& 'BX Language acquisition'!A3467 & \"\"\",\"\"\" & 'BX Language acquisition'!C3467 & \"\"\",\"\"\" & 'BX Language acquisition'!B3467 & \"\"\",\"\"\" & 'BX Language acquisition'!D3467 & \"\"\"\"","v":"\" \",\"\",\"\",\"\""}]
[{"$f":"\"\"\" \"& 'BX Language acquisition'!A3468 & \"\"\",\"\"\" & 'BX Language acquisition'!C3468 & \"\"\",\"\"\" & 'BX Language acquisition'!B3468 & \"\"\",\"\"\" & 'BX Language acquisition'!D3468 & \"\"\"\"","v":"\" \",\"\",\"\",\"\""}]
[{"$f":"\"\"\" \"& 'BX Language acquisition'!A3469 & \"\"\",\"\"\" & 'BX Language acquisition'!C3469 & \"\"\",\"\"\" & 'BX Language acquisition'!B3469 & \"\"\",\"\"\" & 'BX Language acquisition'!D3469 & \"\"\"\"","v":"\" \",\"\",\"\",\"\""}]
[{"$f":"\"\"\" \"& 'BX Language acquisition'!A3470 & \"\"\",\"\"\" & 'BX Language acquisition'!C3470 & \"\"\",\"\"\" & 'BX Language acquisition'!B3470 & \"\"\",\"\"\" & 'BX Language acquisition'!D3470 & \"\"\"\"","v":"\" \",\"\",\"\",\"\""}]
[{"$f":"\"\"\" \"& 'BX Language acquisition'!A3471 & \"\"\",\"\"\" & 'BX Language acquisition'!C3471 & \"\"\",\"\"\" & 'BX Language acquisition'!B3471 & \"\"\",\"\"\" & 'BX Language acquisition'!D3471 & \"\"\"\"","v":"\" \",\"\",\"\",\"\""}]
[{"$f":"\"\"\" \"& 'BX Language acquisition'!A3472 & \"\"\",\"\"\" & 'BX Language acquisition'!C3472 & \"\"\",\"\"\" & 'BX Language acquisition'!B3472 & \"\"\",\"\"\" & 'BX Language acquisition'!D3472 & \"\"\"\"","v":"\" \",\"\",\"\",\"\""}]
[{"$f":"\"\"\" \"& 'BX Language acquisition'!A3473 & \"\"\",\"\"\" & 'BX Language acquisition'!C3473 & \"\"\",\"\"\" & 'BX Language acquisition'!B3473 & \"\"\",\"\"\" & 'BX Language acquisition'!D3473 & \"\"\"\"","v":"\" \",\"\",\"\",\"\""}]
[{"$f":"\"\"\" \"& 'BX Language acquisition'!A3474 & \"\"\",\"\"\" & 'BX Language acquisition'!C3474 & \"\"\",\"\"\" & 'BX Language acquisition'!B3474 & \"\"\",\"\"\" & 'BX Language acquisition'!D3474 & \"\"\"\"","v":"\" \",\"\",\"\",\"\""}]
[{"$f":"\"\"\" \"& 'BX Language acquisition'!A3475 & \"\"\",\"\"\" & 'BX Language acquisition'!C3475 & \"\"\",\"\"\" & 'BX Language acquisition'!B3475 & \"\"\",\"\"\" & 'BX Language acquisition'!D3475 & \"\"\"\"","v":"\" \",\"\",\"\",\"\""}]
[{"$f":"\"\"\" \"& 'BX Language acquisition'!A3476 & \"\"\",\"\"\" & 'BX Language acquisition'!C3476 & \"\"\",\"\"\" & 'BX Language acquisition'!B3476 & \"\"\",\"\"\" & 'BX Language acquisition'!D3476 & \"\"\"\"","v":"\" \",\"\",\"\",\"\""}]
[{"$f":"\"\"\" \"& 'BX Language acquisition'!A3477 & \"\"\",\"\"\" & 'BX Language acquisition'!C3477 & \"\"\",\"\"\" & 'BX Language acquisition'!B3477 & \"\"\",\"\"\" & 'BX Language acquisition'!D3477 & \"\"\"\"","v":"\" \",\"\",\"\",\"\""}]
[{"$f":"\"\"\" \"& 'BX Language acquisition'!A3478 & \"\"\",\"\"\" & 'BX Language acquisition'!C3478 & \"\"\",\"\"\" & 'BX Language acquisition'!B3478 & \"\"\",\"\"\" & 'BX Language acquisition'!D3478 & \"\"\"\"","v":"\" \",\"\",\"\",\"\""}]
[{"$f":"\"\"\" \"& 'BX Language acquisition'!A3479 & \"\"\",\"\"\" & 'BX Language acquisition'!C3479 & \"\"\",\"\"\" & 'BX Language acquisition'!B3479 & \"\"\",\"\"\" & 'BX Language acquisition'!D3479 & \"\"\"\"","v":"\" \",\"\",\"\",\"\""}]
[{"$f":"\"\"\" \"& 'BX Language acquisition'!A3480 & \"\"\",\"\"\" & 'BX Language acquisition'!C3480 & \"\"\",\"\"\" & 'BX Language acquisition'!B3480 & \"\"\",\"\"\" & 'BX Language acquisition'!D3480 & \"\"\"\"","v":"\" \",\"\",\"\",\"\""}]
[{"$f":"\"\"\" \"& 'BX Language acquisition'!A3481 & \"\"\",\"\"\" & 'BX Language acquisition'!C3481 & \"\"\",\"\"\" & 'BX Language acquisition'!B3481 & \"\"\",\"\"\" & 'BX Language acquisition'!D3481 & \"\"\"\"","v":"\" \",\"\",\"\",\"\""}]
[{"$f":"\"\"\" \"& 'BX Language acquisition'!A3482 & \"\"\",\"\"\" & 'BX Language acquisition'!C3482 & \"\"\",\"\"\" & 'BX Language acquisition'!B3482 & \"\"\",\"\"\" & 'BX Language acquisition'!D3482 & \"\"\"\"","v":"\" \",\"\",\"\",\"\""}]
[{"$f":"\"\"\" \"& 'BX Language acquisition'!A3483 & \"\"\",\"\"\" & 'BX Language acquisition'!C3483 & \"\"\",\"\"\" & 'BX Language acquisition'!B3483 & \"\"\",\"\"\" & 'BX Language acquisition'!D3483 & \"\"\"\"","v":"\" \",\"\",\"\",\"\""}]
[{"$f":"\"\"\" \"& 'BX Language acquisition'!A3484 & \"\"\",\"\"\" & 'BX Language acquisition'!C3484 & \"\"\",\"\"\" & 'BX Language acquisition'!B3484 & \"\"\",\"\"\" & 'BX Language acquisition'!D3484 & \"\"\"\"","v":"\" \",\"\",\"\",\"\""}]
[{"$f":"\"\"\" \"& 'BX Language acquisition'!A3485 & \"\"\",\"\"\" & 'BX Language acquisition'!C3485 & \"\"\",\"\"\" & 'BX Language acquisition'!B3485 & \"\"\",\"\"\" & 'BX Language acquisition'!D3485 & \"\"\"\"","v":"\" \",\"\",\"\",\"\""}]
[{"$f":"\"\"\" \"& 'BX Language acquisition'!A3486 & \"\"\",\"\"\" & 'BX Language acquisition'!C3486 & \"\"\",\"\"\" & 'BX Language acquisition'!B3486 & \"\"\",\"\"\" & 'BX Language acquisition'!D3486 & \"\"\"\"","v":"\" \",\"\",\"\",\"\""}]
[{"$f":"\"\"\" \"& 'BX Language acquisition'!A3487 & \"\"\",\"\"\" & 'BX Language acquisition'!C3487 & \"\"\",\"\"\" & 'BX Language acquisition'!B3487 & \"\"\",\"\"\" & 'BX Language acquisition'!D3487 & \"\"\"\"","v":"\" \",\"\",\"\",\"\""}]
[{"$f":"\"\"\" \"& 'BX Language acquisition'!A3488 & \"\"\",\"\"\" & 'BX Language acquisition'!C3488 & \"\"\",\"\"\" & 'BX Language acquisition'!B3488 & \"\"\",\"\"\" & 'BX Language acquisition'!D3488 & \"\"\"\"","v":"\" \",\"\",\"\",\"\""}]
[{"$f":"\"\"\" \"& 'BX Language acquisition'!A3489 & \"\"\",\"\"\" & 'BX Language acquisition'!C3489 & \"\"\",\"\"\" & 'BX Language acquisition'!B3489 & \"\"\",\"\"\" & 'BX Language acquisition'!D3489 & \"\"\"\"","v":"\" \",\"\",\"\",\"\""}]
[{"$f":"\"\"\" \"& 'BX Language acquisition'!A3490 & \"\"\",\"\"\" & 'BX Language acquisition'!C3490 & \"\"\",\"\"\" & 'BX Language acquisition'!B3490 & \"\"\",\"\"\" & 'BX Language acquisition'!D3490 & \"\"\"\"","v":"\" \",\"\",\"\",\"\""}]
[{"$f":"\"\"\" \"& 'BX Language acquisition'!A3491 & \"\"\",\"\"\" & 'BX Language acquisition'!C3491 & \"\"\",\"\"\" & 'BX Language acquisition'!B3491 & \"\"\",\"\"\" & 'BX Language acquisition'!D3491 & \"\"\"\"","v":"\" \",\"\",\"\",\"\""}]
[{"$f":"\"\"\" \"& 'BX Language acquisition'!A3492 & \"\"\",\"\"\" & 'BX Language acquisition'!C3492 & \"\"\",\"\"\" & 'BX Language acquisition'!B3492 & \"\"\",\"\"\" & 'BX Language acquisition'!D3492 & \"\"\"\"","v":"\" \",\"\",\"\",\"\""}]
[{"$f":"\"\"\" \"& 'BX Language acquisition'!A3493 & \"\"\",\"\"\" & 'BX Language acquisition'!C3493 & \"\"\",\"\"\" & 'BX Language acquisition'!B3493 & \"\"\",\"\"\" & 'BX Language acquisition'!D3493 & \"\"\"\"","v":"\" \",\"\",\"\",\"\""}]
[{"$f":"\"\"\" \"& 'BX Language acquisition'!A3494 & \"\"\",\"\"\" & 'BX Language acquisition'!C3494 & \"\"\",\"\"\" & 'BX Language acquisition'!B3494 & \"\"\",\"\"\" & 'BX Language acquisition'!D3494 & \"\"\"\"","v":"\" \",\"\",\"\",\"\""}]
[{"$f":"\"\"\" \"& 'BX Language acquisition'!A3495 & \"\"\",\"\"\" & 'BX Language acquisition'!C3495 & \"\"\",\"\"\" & 'BX Language acquisition'!B3495 & \"\"\",\"\"\" & 'BX Language acquisition'!D3495 & \"\"\"\"","v":"\" \",\"\",\"\",\"\""}]
[{"$f":"\"\"\" \"& 'BX Language acquisition'!A3496 & \"\"\",\"\"\" & 'BX Language acquisition'!C3496 & \"\"\",\"\"\" & 'BX Language acquisition'!B3496 & \"\"\",\"\"\" & 'BX Language acquisition'!D3496 & \"\"\"\"","v":"\" \",\"\",\"\",\"\""}]
[{"$f":"\"\"\" \"& 'BX Language acquisition'!A3497 & \"\"\",\"\"\" & 'BX Language acquisition'!C3497 & \"\"\",\"\"\" & 'BX Language acquisition'!B3497 & \"\"\",\"\"\" & 'BX Language acquisition'!D3497 & \"\"\"\"","v":"\" \",\"\",\"\",\"\""}]
[{"$f":"\"\"\" \"& 'BX Language acquisition'!A3498 & \"\"\",\"\"\" & 'BX Language acquisition'!C3498 & \"\"\",\"\"\" & 'BX Language acquisition'!B3498 & \"\"\",\"\"\" & 'BX Language acquisition'!D3498 & \"\"\"\"","v":"\" \",\"\",\"\",\"\""}]
[{"$f":"\"\"\" \"& 'BX Language acquisition'!A3499 & \"\"\",\"\"\" & 'BX Language acquisition'!C3499 & \"\"\",\"\"\" & 'BX Language acquisition'!B3499 & \"\"\",\"\"\" & 'BX Language acquisition'!D3499 & \"\"\"\"","v":"\" \",\"\",\"\",\"\""}]
[{"$f":"\"\"\" \"& 'BX Language acquisition'!A3500 & \"\"\",\"\"\" & 'BX Language acquisition'!C3500 & \"\"\",\"\"\" & 'BX Language acquisition'!B3500 & \"\"\",\"\"\" & 'BX Language acquisition'!D3500 & \"\"\"\"","v":"\" \",\"\",\"\",\"\""}]
[{"$f":"\"\"\" \"& 'BX Language acquisition'!A3501 & \"\"\",\"\"\" & 'BX Language acquisition'!C3501 & \"\"\",\"\"\" & 'BX Language acquisition'!B3501 & \"\"\",\"\"\" & 'BX Language acquisition'!D3501 & \"\"\"\"","v":"\" \",\"\",\"\",\"\""}]
[{"$f":"\"\"\" \"& 'BX Language acquisition'!A3502 & \"\"\",\"\"\" & 'BX Language acquisition'!C3502 & \"\"\",\"\"\" & 'BX Language acquisition'!B3502 & \"\"\",\"\"\" & 'BX Language acquisition'!D3502 & \"\"\"\"","v":"\" \",\"\",\"\",\"\""}]
[{"$f":"\"\"\" \"& 'BX Language acquisition'!A3503 & \"\"\",\"\"\" & 'BX Language acquisition'!C3503 & \"\"\",\"\"\" & 'BX Language acquisition'!B3503 & \"\"\",\"\"\" & 'BX Language acquisition'!D3503 & \"\"\"\"","v":"\" \",\"\",\"\",\"\""}]
[{"$f":"\"\"\" \"& 'BX Language acquisition'!A3504 & \"\"\",\"\"\" & 'BX Language acquisition'!C3504 & \"\"\",\"\"\" & 'BX Language acquisition'!B3504 & \"\"\",\"\"\" & 'BX Language acquisition'!D3504 & \"\"\"\"","v":"\" \",\"\",\"\",\"\""}]
[{"$f":"\"\"\" \"& 'BX Language acquisition'!A3505 & \"\"\",\"\"\" & 'BX Language acquisition'!C3505 & \"\"\",\"\"\" & 'BX Language acquisition'!B3505 & \"\"\",\"\"\" & 'BX Language acquisition'!D3505 & \"\"\"\"","v":"\" \",\"\",\"\",\"\""}]
[{"$f":"\"\"\" \"& 'BX Language acquisition'!A3506 & \"\"\",\"\"\" & 'BX Language acquisition'!C3506 & \"\"\",\"\"\" & 'BX Language acquisition'!B3506 & \"\"\",\"\"\" & 'BX Language acquisition'!D3506 & \"\"\"\"","v":"\" \",\"\",\"\",\"\""}]
[{"$f":"\"\"\" \"& 'BX Language acquisition'!A3507 & \"\"\",\"\"\" & 'BX Language acquisition'!C3507 & \"\"\",\"\"\" & 'BX Language acquisition'!B3507 & \"\"\",\"\"\" & 'BX Language acquisition'!D3507 & \"\"\"\"","v":"\" \",\"\",\"\",\"\""}]
[{"$f":"\"\"\" \"& 'BX Language acquisition'!A3508 & \"\"\",\"\"\" & 'BX Language acquisition'!C3508 & \"\"\",\"\"\" & 'BX Language acquisition'!B3508 & \"\"\",\"\"\" & 'BX Language acquisition'!D3508 & \"\"\"\"","v":"\" \",\"\",\"\",\"\""}]
[{"$f":"\"\"\" \"& 'BX Language acquisition'!A3509 & \"\"\",\"\"\" & 'BX Language acquisition'!C3509 & \"\"\",\"\"\" & 'BX Language acquisition'!B3509 & \"\"\",\"\"\" & 'BX Language acquisition'!D3509 & \"\"\"\"","v":"\" \",\"\",\"\",\"\""}]
[{"$f":"\"\"\" \"& 'BX Language acquisition'!A3510 & \"\"\",\"\"\" & 'BX Language acquisition'!C3510 & \"\"\",\"\"\" & 'BX Language acquisition'!B3510 & \"\"\",\"\"\" & 'BX Language acquisition'!D3510 & \"\"\"\"","v":"\" \",\"\",\"\",\"\""}]
[{"$f":"\"\"\" \"& 'BX Language acquisition'!A3511 & \"\"\",\"\"\" & 'BX Language acquisition'!C3511 & \"\"\",\"\"\" & 'BX Language acquisition'!B3511 & \"\"\",\"\"\" & 'BX Language acquisition'!D3511 & \"\"\"\"","v":"\" \",\"\",\"\",\"\""}]
[{"$f":"\"\"\" \"& 'BX Language acquisition'!A3512 & \"\"\",\"\"\" & 'BX Language acquisition'!C3512 & \"\"\",\"\"\" & 'BX Language acquisition'!B3512 & \"\"\",\"\"\" & 'BX Language acquisition'!D3512 & \"\"\"\"","v":"\" \",\"\",\"\",\"\""}]
[{"$f":"\"\"\" \"& 'BX Language acquisition'!A3513 & \"\"\",\"\"\" & 'BX Language acquisition'!C3513 & \"\"\",\"\"\" & 'BX Language acquisition'!B3513 & \"\"\",\"\"\" & 'BX Language acquisition'!D3513 & \"\"\"\"","v":"\" \",\"\",\"\",\"\""}]
[{"$f":"\"\"\" \"& 'BX Language acquisition'!A3514 & \"\"\",\"\"\" & 'BX Language acquisition'!C3514 & \"\"\",\"\"\" & 'BX Language acquisition'!B3514 & \"\"\",\"\"\" & 'BX Language acquisition'!D3514 & \"\"\"\"","v":"\" \",\"\",\"\",\"\""}]
[{"$f":"\"\"\" \"& 'BX Language acquisition'!A3515 & \"\"\",\"\"\" & 'BX Language acquisition'!C3515 & \"\"\",\"\"\" & 'BX Language acquisition'!B3515 & \"\"\",\"\"\" & 'BX Language acquisition'!D3515 & \"\"\"\"","v":"\" \",\"\",\"\",\"\""}]
[{"$f":"\"\"\" \"& 'BX Language acquisition'!A3516 & \"\"\",\"\"\" & 'BX Language acquisition'!C3516 & \"\"\",\"\"\" & 'BX Language acquisition'!B3516 & \"\"\",\"\"\" & 'BX Language acquisition'!D3516 & \"\"\"\"","v":"\" \",\"\",\"\",\"\""}]
[{"$f":"\"\"\" \"& 'BX Language acquisition'!A3517 & \"\"\",\"\"\" & 'BX Language acquisition'!C3517 & \"\"\",\"\"\" & 'BX Language acquisition'!B3517 & \"\"\",\"\"\" & 'BX Language acquisition'!D3517 & \"\"\"\"","v":"\" \",\"\",\"\",\"\""}]
[{"$f":"\"\"\" \"& 'BX Language acquisition'!A3518 & \"\"\",\"\"\" & 'BX Language acquisition'!C3518 & \"\"\",\"\"\" & 'BX Language acquisition'!B3518 & \"\"\",\"\"\" & 'BX Language acquisition'!D3518 & \"\"\"\"","v":"\" \",\"\",\"\",\"\""}]
[{"$f":"\"\"\" \"& 'BX Language acquisition'!A3519 & \"\"\",\"\"\" & 'BX Language acquisition'!C3519 & \"\"\",\"\"\" & 'BX Language acquisition'!B3519 & \"\"\",\"\"\" & 'BX Language acquisition'!D3519 & \"\"\"\"","v":"\" \",\"\",\"\",\"\""}]
[{"$f":"\"\"\" \"& 'BX Language acquisition'!A3520 & \"\"\",\"\"\" & 'BX Language acquisition'!C3520 & \"\"\",\"\"\" & 'BX Language acquisition'!B3520 & \"\"\",\"\"\" & 'BX Language acquisition'!D3520 & \"\"\"\"","v":"\" \",\"\",\"\",\"\""}]
[{"$f":"\"\"\" \"& 'BX Language acquisition'!A3521 & \"\"\",\"\"\" & 'BX Language acquisition'!C3521 & \"\"\",\"\"\" & 'BX Language acquisition'!B3521 & \"\"\",\"\"\" & 'BX Language acquisition'!D3521 & \"\"\"\"","v":"\" \",\"\",\"\",\"\""}]
[{"$f":"\"\"\" \"& 'BX Language acquisition'!A3522 & \"\"\",\"\"\" & 'BX Language acquisition'!C3522 & \"\"\",\"\"\" & 'BX Language acquisition'!B3522 & \"\"\",\"\"\" & 'BX Language acquisition'!D3522 & \"\"\"\"","v":"\" \",\"\",\"\",\"\""}]
[{"$f":"\"\"\" \"& 'BX Language acquisition'!A3523 & \"\"\",\"\"\" & 'BX Language acquisition'!C3523 & \"\"\",\"\"\" & 'BX Language acquisition'!B3523 & \"\"\",\"\"\" & 'BX Language acquisition'!D3523 & \"\"\"\"","v":"\" \",\"\",\"\",\"\""}]
[{"$f":"\"\"\" \"& 'BX Language acquisition'!A3524 & \"\"\",\"\"\" & 'BX Language acquisition'!C3524 & \"\"\",\"\"\" & 'BX Language acquisition'!B3524 & \"\"\",\"\"\" & 'BX Language acquisition'!D3524 & \"\"\"\"","v":"\" \",\"\",\"\",\"\""}]
[{"$f":"\"\"\" \"& 'BX Language acquisition'!A3525 & \"\"\",\"\"\" & 'BX Language acquisition'!C3525 & \"\"\",\"\"\" & 'BX Language acquisition'!B3525 & \"\"\",\"\"\" & 'BX Language acquisition'!D3525 & \"\"\"\"","v":"\" \",\"\",\"\",\"\""}]
[{"$f":"\"\"\" \"& 'BX Language acquisition'!A3526 & \"\"\",\"\"\" & 'BX Language acquisition'!C3526 & \"\"\",\"\"\" & 'BX Language acquisition'!B3526 & \"\"\",\"\"\" & 'BX Language acquisition'!D3526 & \"\"\"\"","v":"\" \",\"\",\"\",\"\""}]
[{"$f":"\"\"\" \"& 'BX Language acquisition'!A3527 & \"\"\",\"\"\" & 'BX Language acquisition'!C3527 & \"\"\",\"\"\" & 'BX Language acquisition'!B3527 & \"\"\",\"\"\" & 'BX Language acquisition'!D3527 & \"\"\"\"","v":"\" \",\"\",\"\",\"\""}]
[{"$f":"\"\"\" \"& 'BX Language acquisition'!A3528 & \"\"\",\"\"\" & 'BX Language acquisition'!C3528 & \"\"\",\"\"\" & 'BX Language acquisition'!B3528 & \"\"\",\"\"\" & 'BX Language acquisition'!D3528 & \"\"\"\"","v":"\" \",\"\",\"\",\"\""}]
[{"$f":"\"\"\" \"& 'BX Language acquisition'!A3529 & \"\"\",\"\"\" & 'BX Language acquisition'!C3529 & \"\"\",\"\"\" & 'BX Language acquisition'!B3529 & \"\"\",\"\"\" & 'BX Language acquisition'!D3529 & \"\"\"\"","v":"\" \",\"\",\"\",\"\""}]
[{"$f":"\"\"\" \"& 'BX Language acquisition'!A3530 & \"\"\",\"\"\" & 'BX Language acquisition'!C3530 & \"\"\",\"\"\" & 'BX Language acquisition'!B3530 & \"\"\",\"\"\" & 'BX Language acquisition'!D3530 & \"\"\"\"","v":"\" \",\"\",\"\",\"\""}]
[{"$f":"\"\"\" \"& 'BX Language acquisition'!A3531 & \"\"\",\"\"\" & 'BX Language acquisition'!C3531 & \"\"\",\"\"\" & 'BX Language acquisition'!B3531 & \"\"\",\"\"\" & 'BX Language acquisition'!D3531 & \"\"\"\"","v":"\" \",\"\",\"\",\"\""}]
[{"$f":"\"\"\" \"& 'BX Language acquisition'!A3532 & \"\"\",\"\"\" & 'BX Language acquisition'!C3532 & \"\"\",\"\"\" & 'BX Language acquisition'!B3532 & \"\"\",\"\"\" & 'BX Language acquisition'!D3532 & \"\"\"\"","v":"\" \",\"\",\"\",\"\""}]
[{"$f":"\"\"\" \"& 'BX Language acquisition'!A3533 & \"\"\",\"\"\" & 'BX Language acquisition'!C3533 & \"\"\",\"\"\" & 'BX Language acquisition'!B3533 & \"\"\",\"\"\" & 'BX Language acquisition'!D3533 & \"\"\"\"","v":"\" \",\"\",\"\",\"\""}]
[{"$f":"\"\"\" \"& 'BX Language acquisition'!A3534 & \"\"\",\"\"\" & 'BX Language acquisition'!C3534 & \"\"\",\"\"\" & 'BX Language acquisition'!B3534 & \"\"\",\"\"\" & 'BX Language acquisition'!D3534 & \"\"\"\"","v":"\" \",\"\",\"\",\"\""}]
[{"$f":"\"\"\" \"& 'BX Language acquisition'!A3535 & \"\"\",\"\"\" & 'BX Language acquisition'!C3535 & \"\"\",\"\"\" & 'BX Language acquisition'!B3535 & \"\"\",\"\"\" & 'BX Language acquisition'!D3535 & \"\"\"\"","v":"\" \",\"\",\"\",\"\""}]
[{"$f":"\"\"\" \"& 'BX Language acquisition'!A3536 & \"\"\",\"\"\" & 'BX Language acquisition'!C3536 & \"\"\",\"\"\" & 'BX Language acquisition'!B3536 & \"\"\",\"\"\" & 'BX Language acquisition'!D3536 & \"\"\"\"","v":"\" \",\"\",\"\",\"\""}]
[{"$f":"\"\"\" \"& 'BX Language acquisition'!A3537 & \"\"\",\"\"\" & 'BX Language acquisition'!C3537 & \"\"\",\"\"\" & 'BX Language acquisition'!B3537 & \"\"\",\"\"\" & 'BX Language acquisition'!D3537 & \"\"\"\"","v":"\" \",\"\",\"\",\"\""}]
[{"$f":"\"\"\" \"& 'BX Language acquisition'!A3538 & \"\"\",\"\"\" & 'BX Language acquisition'!C3538 & \"\"\",\"\"\" & 'BX Language acquisition'!B3538 & \"\"\",\"\"\" & 'BX Language acquisition'!D3538 & \"\"\"\"","v":"\" \",\"\",\"\",\"\""}]
[{"$f":"\"\"\" \"& 'BX Language acquisition'!A3539 & \"\"\",\"\"\" & 'BX Language acquisition'!C3539 & \"\"\",\"\"\" & 'BX Language acquisition'!B3539 & \"\"\",\"\"\" & 'BX Language acquisition'!D3539 & \"\"\"\"","v":"\" \",\"\",\"\",\"\""}]
[{"$f":"\"\"\" \"& 'BX Language acquisition'!A3540 & \"\"\",\"\"\" & 'BX Language acquisition'!C3540 & \"\"\",\"\"\" & 'BX Language acquisition'!B3540 & \"\"\",\"\"\" & 'BX Language acquisition'!D3540 & \"\"\"\"","v":"\" \",\"\",\"\",\"\""}]
[{"$f":"\"\"\" \"& 'BX Language acquisition'!A3541 & \"\"\",\"\"\" & 'BX Language acquisition'!C3541 & \"\"\",\"\"\" & 'BX Language acquisition'!B3541 & \"\"\",\"\"\" & 'BX Language acquisition'!D3541 & \"\"\"\"","v":"\" \",\"\",\"\",\"\""}]
[{"$f":"\"\"\" \"& 'BX Language acquisition'!A3542 & \"\"\",\"\"\" & 'BX Language acquisition'!C3542 & \"\"\",\"\"\" & 'BX Language acquisition'!B3542 & \"\"\",\"\"\" & 'BX Language acquisition'!D3542 & \"\"\"\"","v":"\" \",\"\",\"\",\"\""}]
[{"$f":"\"\"\" \"& 'BX Language acquisition'!A3543 & \"\"\",\"\"\" & 'BX Language acquisition'!C3543 & \"\"\",\"\"\" & 'BX Language acquisition'!B3543 & \"\"\",\"\"\" & 'BX Language acquisition'!D3543 & \"\"\"\"","v":"\" \",\"\",\"\",\"\""}]
[{"$f":"\"\"\" \"& 'BX Language acquisition'!A3544 & \"\"\",\"\"\" & 'BX Language acquisition'!C3544 & \"\"\",\"\"\" & 'BX Language acquisition'!B3544 & \"\"\",\"\"\" & 'BX Language acquisition'!D3544 & \"\"\"\"","v":"\" \",\"\",\"\",\"\""}]
[{"$f":"\"\"\" \"& 'BX Language acquisition'!A3545 & \"\"\",\"\"\" & 'BX Language acquisition'!C3545 & \"\"\",\"\"\" & 'BX Language acquisition'!B3545 & \"\"\",\"\"\" & 'BX Language acquisition'!D3545 & \"\"\"\"","v":"\" \",\"\",\"\",\"\""}]
[{"$f":"\"\"\" \"& 'BX Language acquisition'!A3546 & \"\"\",\"\"\" & 'BX Language acquisition'!C3546 & \"\"\",\"\"\" & 'BX Language acquisition'!B3546 & \"\"\",\"\"\" & 'BX Language acquisition'!D3546 & \"\"\"\"","v":"\" \",\"\",\"\",\"\""}]
[{"$f":"\"\"\" \"& 'BX Language acquisition'!A3547 & \"\"\",\"\"\" & 'BX Language acquisition'!C3547 & \"\"\",\"\"\" & 'BX Language acquisition'!B3547 & \"\"\",\"\"\" & 'BX Language acquisition'!D3547 & \"\"\"\"","v":"\" \",\"\",\"\",\"\""}]
[{"$f":"\"\"\" \"& 'BX Language acquisition'!A3548 & \"\"\",\"\"\" & 'BX Language acquisition'!C3548 & \"\"\",\"\"\" & 'BX Language acquisition'!B3548 & \"\"\",\"\"\" & 'BX Language acquisition'!D3548 & \"\"\"\"","v":"\" \",\"\",\"\",\"\""}]
[{"$f":"\"\"\" \"& 'BX Language acquisition'!A3549 & \"\"\",\"\"\" & 'BX Language acquisition'!C3549 & \"\"\",\"\"\" & 'BX Language acquisition'!B3549 & \"\"\",\"\"\" & 'BX Language acquisition'!D3549 & \"\"\"\"","v":"\" \",\"\",\"\",\"\""}]
[{"$f":"\"\"\" \"& 'BX Language acquisition'!A3550 & \"\"\",\"\"\" & 'BX Language acquisition'!C3550 & \"\"\",\"\"\" & 'BX Language acquisition'!B3550 & \"\"\",\"\"\" & 'BX Language acquisition'!D3550 & \"\"\"\"","v":"\" \",\"\",\"\",\"\""}]
[{"$f":"\"\"\" \"& 'BX Language acquisition'!A3551 & \"\"\",\"\"\" & 'BX Language acquisition'!C3551 & \"\"\",\"\"\" & 'BX Language acquisition'!B3551 & \"\"\",\"\"\" & 'BX Language acquisition'!D3551 & \"\"\"\"","v":"\" \",\"\",\"\",\"\""}]
[{"$f":"\"\"\" \"& 'BX Language acquisition'!A3552 & \"\"\",\"\"\" & 'BX Language acquisition'!C3552 & \"\"\",\"\"\" & 'BX Language acquisition'!B3552 & \"\"\",\"\"\" & 'BX Language acquisition'!D3552 & \"\"\"\"","v":"\" \",\"\",\"\",\"\""}]
[{"$f":"\"\"\" \"& 'BX Language acquisition'!A3553 & \"\"\",\"\"\" & 'BX Language acquisition'!C3553 & \"\"\",\"\"\" & 'BX Language acquisition'!B3553 & \"\"\",\"\"\" & 'BX Language acquisition'!D3553 & \"\"\"\"","v":"\" \",\"\",\"\",\"\""}]
[{"$f":"\"\"\" \"& 'BX Language acquisition'!A3554 & \"\"\",\"\"\" & 'BX Language acquisition'!C3554 & \"\"\",\"\"\" & 'BX Language acquisition'!B3554 & \"\"\",\"\"\" & 'BX Language acquisition'!D3554 & \"\"\"\"","v":"\" \",\"\",\"\",\"\""}]
[{"$f":"\"\"\" \"& 'BX Language acquisition'!A3555 & \"\"\",\"\"\" & 'BX Language acquisition'!C3555 & \"\"\",\"\"\" & 'BX Language acquisition'!B3555 & \"\"\",\"\"\" & 'BX Language acquisition'!D3555 & \"\"\"\"","v":"\" \",\"\",\"\",\"\""}]
[{"$f":"\"\"\" \"& 'BX Language acquisition'!A3556 & \"\"\",\"\"\" & 'BX Language acquisition'!C3556 & \"\"\",\"\"\" & 'BX Language acquisition'!B3556 & \"\"\",\"\"\" & 'BX Language acquisition'!D3556 & \"\"\"\"","v":"\" \",\"\",\"\",\"\""}]
[{"$f":"\"\"\" \"& 'BX Language acquisition'!A3557 & \"\"\",\"\"\" & 'BX Language acquisition'!C3557 & \"\"\",\"\"\" & 'BX Language acquisition'!B3557 & \"\"\",\"\"\" & 'BX Language acquisition'!D3557 & \"\"\"\"","v":"\" \",\"\",\"\",\"\""}]
[{"$f":"\"\"\" \"& 'BX Language acquisition'!A3558 & \"\"\",\"\"\" & 'BX Language acquisition'!C3558 & \"\"\",\"\"\" & 'BX Language acquisition'!B3558 & \"\"\",\"\"\" & 'BX Language acquisition'!D3558 & \"\"\"\"","v":"\" \",\"\",\"\",\"\""}]
[{"$f":"\"\"\" \"& 'BX Language acquisition'!A3559 & \"\"\",\"\"\" & 'BX Language acquisition'!C3559 & \"\"\",\"\"\" & 'BX Language acquisition'!B3559 & \"\"\",\"\"\" & 'BX Language acquisition'!D3559 & \"\"\"\"","v":"\" \",\"\",\"\",\"\""}]
[{"$f":"\"\"\" \"& 'BX Language acquisition'!A3560 & \"\"\",\"\"\" & 'BX Language acquisition'!C3560 & \"\"\",\"\"\" & 'BX Language acquisition'!B3560 & \"\"\",\"\"\" & 'BX Language acquisition'!D3560 & \"\"\"\"","v":"\" \",\"\",\"\",\"\""}]
[{"$f":"\"\"\" \"& 'BX Language acquisition'!A3561 & \"\"\",\"\"\" & 'BX Language acquisition'!C3561 & \"\"\",\"\"\" & 'BX Language acquisition'!B3561 & \"\"\",\"\"\" & 'BX Language acquisition'!D3561 & \"\"\"\"","v":"\" \",\"\",\"\",\"\""}]
[{"$f":"\"\"\" \"& 'BX Language acquisition'!A3562 & \"\"\",\"\"\" & 'BX Language acquisition'!C3562 & \"\"\",\"\"\" & 'BX Language acquisition'!B3562 & \"\"\",\"\"\" & 'BX Language acquisition'!D3562 & \"\"\"\"","v":"\" \",\"\",\"\",\"\""}]
[{"$f":"\"\"\" \"& 'BX Language acquisition'!A3563 & \"\"\",\"\"\" & 'BX Language acquisition'!C3563 & \"\"\",\"\"\" & 'BX Language acquisition'!B3563 & \"\"\",\"\"\" & 'BX Language acquisition'!D3563 & \"\"\"\"","v":"\" \",\"\",\"\",\"\""}]
[{"$f":"\"\"\" \"& 'BX Language acquisition'!A3564 & \"\"\",\"\"\" & 'BX Language acquisition'!C3564 & \"\"\",\"\"\" & 'BX Language acquisition'!B3564 & \"\"\",\"\"\" & 'BX Language acquisition'!D3564 & \"\"\"\"","v":"\" \",\"\",\"\",\"\""}]
[{"$f":"\"\"\" \"& 'BX Language acquisition'!A3565 & \"\"\",\"\"\" & 'BX Language acquisition'!C3565 & \"\"\",\"\"\" & 'BX Language acquisition'!B3565 & \"\"\",\"\"\" & 'BX Language acquisition'!D3565 & \"\"\"\"","v":"\" \",\"\",\"\",\"\""}]
[{"$f":"\"\"\" \"& 'BX Language acquisition'!A3566 & \"\"\",\"\"\" & 'BX Language acquisition'!C3566 & \"\"\",\"\"\" & 'BX Language acquisition'!B3566 & \"\"\",\"\"\" & 'BX Language acquisition'!D3566 & \"\"\"\"","v":"\" \",\"\",\"\",\"\""}]
[{"$f":"\"\"\" \"& 'BX Language acquisition'!A3567 & \"\"\",\"\"\" & 'BX Language acquisition'!C3567 & \"\"\",\"\"\" & 'BX Language acquisition'!B3567 & \"\"\",\"\"\" & 'BX Language acquisition'!D3567 & \"\"\"\"","v":"\" \",\"\",\"\",\"\""}]
[{"$f":"\"\"\" \"& 'BX Language acquisition'!A3568 & \"\"\",\"\"\" & 'BX Language acquisition'!C3568 & \"\"\",\"\"\" & 'BX Language acquisition'!B3568 & \"\"\",\"\"\" & 'BX Language acquisition'!D3568 & \"\"\"\"","v":"\" \",\"\",\"\",\"\""}]
[{"$f":"\"\"\" \"& 'BX Language acquisition'!A3569 & \"\"\",\"\"\" & 'BX Language acquisition'!C3569 & \"\"\",\"\"\" & 'BX Language acquisition'!B3569 & \"\"\",\"\"\" & 'BX Language acquisition'!D3569 & \"\"\"\"","v":"\" \",\"\",\"\",\"\""}]
[{"$f":"\"\"\" \"& 'BX Language acquisition'!A3570 & \"\"\",\"\"\" & 'BX Language acquisition'!C3570 & \"\"\",\"\"\" & 'BX Language acquisition'!B3570 & \"\"\",\"\"\" & 'BX Language acquisition'!D3570 & \"\"\"\"","v":"\" \",\"\",\"\",\"\""}]
[{"$f":"\"\"\" \"& 'BX Language acquisition'!A3571 & \"\"\",\"\"\" & 'BX Language acquisition'!C3571 & \"\"\",\"\"\" & 'BX Language acquisition'!B3571 & \"\"\",\"\"\" & 'BX Language acquisition'!D3571 & \"\"\"\"","v":"\" \",\"\",\"\",\"\""}]
[{"$f":"\"\"\" \"& 'BX Language acquisition'!A3572 & \"\"\",\"\"\" & 'BX Language acquisition'!C3572 & \"\"\",\"\"\" & 'BX Language acquisition'!B3572 & \"\"\",\"\"\" & 'BX Language acquisition'!D3572 & \"\"\"\"","v":"\" \",\"\",\"\",\"\""}]
[{"$f":"\"\"\" \"& 'BX Language acquisition'!A3573 & \"\"\",\"\"\" & 'BX Language acquisition'!C3573 & \"\"\",\"\"\" & 'BX Language acquisition'!B3573 & \"\"\",\"\"\" & 'BX Language acquisition'!D3573 & \"\"\"\"","v":"\" \",\"\",\"\",\"\""}]
[{"$f":"\"\"\" \"& 'BX Language acquisition'!A3574 & \"\"\",\"\"\" & 'BX Language acquisition'!C3574 & \"\"\",\"\"\" & 'BX Language acquisition'!B3574 & \"\"\",\"\"\" & 'BX Language acquisition'!D3574 & \"\"\"\"","v":"\" \",\"\",\"\",\"\""}]
[{"$f":"\"\"\" \"& 'BX Language acquisition'!A3575 & \"\"\",\"\"\" & 'BX Language acquisition'!C3575 & \"\"\",\"\"\" & 'BX Language acquisition'!B3575 & \"\"\",\"\"\" & 'BX Language acquisition'!D3575 & \"\"\"\"","v":"\" \",\"\",\"\",\"\""}]
[{"$f":"\"\"\" \"& 'BX Language acquisition'!A3576 & \"\"\",\"\"\" & 'BX Language acquisition'!C3576 & \"\"\",\"\"\" & 'BX Language acquisition'!B3576 & \"\"\",\"\"\" & 'BX Language acquisition'!D3576 & \"\"\"\"","v":"\" \",\"\",\"\",\"\""}]
[{"$f":"\"\"\" \"& 'BX Language acquisition'!A3577 & \"\"\",\"\"\" & 'BX Language acquisition'!C3577 & \"\"\",\"\"\" & 'BX Language acquisition'!B3577 & \"\"\",\"\"\" & 'BX Language acquisition'!D3577 & \"\"\"\"","v":"\" \",\"\",\"\",\"\""}]
[{"$f":"\"\"\" \"& 'BX Language acquisition'!A3578 & \"\"\",\"\"\" & 'BX Language acquisition'!C3578 & \"\"\",\"\"\" & 'BX Language acquisition'!B3578 & \"\"\",\"\"\" & 'BX Language acquisition'!D3578 & \"\"\"\"","v":"\" \",\"\",\"\",\"\""}]
[{"$f":"\"\"\" \"& 'BX Language acquisition'!A3579 & \"\"\",\"\"\" & 'BX Language acquisition'!C3579 & \"\"\",\"\"\" & 'BX Language acquisition'!B3579 & \"\"\",\"\"\" & 'BX Language acquisition'!D3579 & \"\"\"\"","v":"\" \",\"\",\"\",\"\""}]
[{"$f":"\"\"\" \"& 'BX Language acquisition'!A3580 & \"\"\",\"\"\" & 'BX Language acquisition'!C3580 & \"\"\",\"\"\" & 'BX Language acquisition'!B3580 & \"\"\",\"\"\" & 'BX Language acquisition'!D3580 & \"\"\"\"","v":"\" \",\"\",\"\",\"\""}]
[{"$f":"\"\"\" \"& 'BX Language acquisition'!A3581 & \"\"\",\"\"\" & 'BX Language acquisition'!C3581 & \"\"\",\"\"\" & 'BX Language acquisition'!B3581 & \"\"\",\"\"\" & 'BX Language acquisition'!D3581 & \"\"\"\"","v":"\" \",\"\",\"\",\"\""}]
[{"$f":"\"\"\" \"& 'BX Language acquisition'!A3582 & \"\"\",\"\"\" & 'BX Language acquisition'!C3582 & \"\"\",\"\"\" & 'BX Language acquisition'!B3582 & \"\"\",\"\"\" & 'BX Language acquisition'!D3582 & \"\"\"\"","v":"\" \",\"\",\"\",\"\""}]
[{"$f":"\"\"\" \"& 'BX Language acquisition'!A3583 & \"\"\",\"\"\" & 'BX Language acquisition'!C3583 & \"\"\",\"\"\" & 'BX Language acquisition'!B3583 & \"\"\",\"\"\" & 'BX Language acquisition'!D3583 & \"\"\"\"","v":"\" \",\"\",\"\",\"\""}]
[{"$f":"\"\"\" \"& 'BX Language acquisition'!A3584 & \"\"\",\"\"\" & 'BX Language acquisition'!C3584 & \"\"\",\"\"\" & 'BX Language acquisition'!B3584 & \"\"\",\"\"\" & 'BX Language acquisition'!D3584 & \"\"\"\"","v":"\" \",\"\",\"\",\"\""}]
[{"$f":"\"\"\" \"& 'BX Language acquisition'!A3585 & \"\"\",\"\"\" & 'BX Language acquisition'!C3585 & \"\"\",\"\"\" & 'BX Language acquisition'!B3585 & \"\"\",\"\"\" & 'BX Language acquisition'!D3585 & \"\"\"\"","v":"\" \",\"\",\"\",\"\""}]
[{"$f":"\"\"\" \"& 'BX Language acquisition'!A3586 & \"\"\",\"\"\" & 'BX Language acquisition'!C3586 & \"\"\",\"\"\" & 'BX Language acquisition'!B3586 & \"\"\",\"\"\" & 'BX Language acquisition'!D3586 & \"\"\"\"","v":"\" \",\"\",\"\",\"\""}]
[{"$f":"\"\"\" \"& 'BX Language acquisition'!A3587 & \"\"\",\"\"\" & 'BX Language acquisition'!C3587 & \"\"\",\"\"\" & 'BX Language acquisition'!B3587 & \"\"\",\"\"\" & 'BX Language acquisition'!D3587 & \"\"\"\"","v":"\" \",\"\",\"\",\"\""}]
[{"$f":"\"\"\" \"& 'BX Language acquisition'!A3588 & \"\"\",\"\"\" & 'BX Language acquisition'!C3588 & \"\"\",\"\"\" & 'BX Language acquisition'!B3588 & \"\"\",\"\"\" & 'BX Language acquisition'!D3588 & \"\"\"\"","v":"\" \",\"\",\"\",\"\""}]
[{"$f":"\"\"\" \"& 'BX Language acquisition'!A3589 & \"\"\",\"\"\" & 'BX Language acquisition'!C3589 & \"\"\",\"\"\" & 'BX Language acquisition'!B3589 & \"\"\",\"\"\" & 'BX Language acquisition'!D3589 & \"\"\"\"","v":"\" \",\"\",\"\",\"\""}]
[{"$f":"\"\"\" \"& 'BX Language acquisition'!A3590 & \"\"\",\"\"\" & 'BX Language acquisition'!C3590 & \"\"\",\"\"\" & 'BX Language acquisition'!B3590 & \"\"\",\"\"\" & 'BX Language acquisition'!D3590 & \"\"\"\"","v":"\" \",\"\",\"\",\"\""}]
[{"$f":"\"\"\" \"& 'BX Language acquisition'!A3591 & \"\"\",\"\"\" & 'BX Language acquisition'!C3591 & \"\"\",\"\"\" & 'BX Language acquisition'!B3591 & \"\"\",\"\"\" & 'BX Language acquisition'!D3591 & \"\"\"\"","v":"\" \",\"\",\"\",\"\""}]
[{"$f":"\"\"\" \"& 'BX Language acquisition'!A3592 & \"\"\",\"\"\" & 'BX Language acquisition'!C3592 & \"\"\",\"\"\" & 'BX Language acquisition'!B3592 & \"\"\",\"\"\" & 'BX Language acquisition'!D3592 & \"\"\"\"","v":"\" \",\"\",\"\",\"\""}]
[{"$f":"\"\"\" \"& 'BX Language acquisition'!A3593 & \"\"\",\"\"\" & 'BX Language acquisition'!C3593 & \"\"\",\"\"\" & 'BX Language acquisition'!B3593 & \"\"\",\"\"\" & 'BX Language acquisition'!D3593 & \"\"\"\"","v":"\" \",\"\",\"\",\"\""}]
[{"$f":"\"\"\" \"& 'BX Language acquisition'!A3594 & \"\"\",\"\"\" & 'BX Language acquisition'!C3594 & \"\"\",\"\"\" & 'BX Language acquisition'!B3594 & \"\"\",\"\"\" & 'BX Language acquisition'!D3594 & \"\"\"\"","v":"\" \",\"\",\"\",\"\""}]
[{"$f":"\"\"\" \"& 'BX Language acquisition'!A3595 & \"\"\",\"\"\" & 'BX Language acquisition'!C3595 & \"\"\",\"\"\" & 'BX Language acquisition'!B3595 & \"\"\",\"\"\" & 'BX Language acquisition'!D3595 & \"\"\"\"","v":"\" \",\"\",\"\",\"\""}]
[{"$f":"\"\"\" \"& 'BX Language acquisition'!A3596 & \"\"\",\"\"\" & 'BX Language acquisition'!C3596 & \"\"\",\"\"\" & 'BX Language acquisition'!B3596 & \"\"\",\"\"\" & 'BX Language acquisition'!D3596 & \"\"\"\"","v":"\" \",\"\",\"\",\"\""}]
[{"$f":"\"\"\" \"& 'BX Language acquisition'!A3597 & \"\"\",\"\"\" & 'BX Language acquisition'!C3597 & \"\"\",\"\"\" & 'BX Language acquisition'!B3597 & \"\"\",\"\"\" & 'BX Language acquisition'!D3597 & \"\"\"\"","v":"\" \",\"\",\"\",\"\""}]
[{"$f":"\"\"\" \"& 'BX Language acquisition'!A3598 & \"\"\",\"\"\" & 'BX Language acquisition'!C3598 & \"\"\",\"\"\" & 'BX Language acquisition'!B3598 & \"\"\",\"\"\" & 'BX Language acquisition'!D3598 & \"\"\"\"","v":"\" \",\"\",\"\",\"\""}]
[{"$f":"\"\"\" \"& 'BX Language acquisition'!A3599 & \"\"\",\"\"\" & 'BX Language acquisition'!C3599 & \"\"\",\"\"\" & 'BX Language acquisition'!B3599 & \"\"\",\"\"\" & 'BX Language acquisition'!D3599 & \"\"\"\"","v":"\" \",\"\",\"\",\"\""}]
[{"$f":"\"\"\" \"& 'BX Language acquisition'!A3600 & \"\"\",\"\"\" & 'BX Language acquisition'!C3600 & \"\"\",\"\"\" & 'BX Language acquisition'!B3600 & \"\"\",\"\"\" & 'BX Language acquisition'!D3600 & \"\"\"\"","v":"\" \",\"\",\"\",\"\""}]
[{"$f":"\"\"\" \"& 'BX Language acquisition'!A3601 & \"\"\",\"\"\" & 'BX Language acquisition'!C3601 & \"\"\",\"\"\" & 'BX Language acquisition'!B3601 & \"\"\",\"\"\" & 'BX Language acquisition'!D3601 & \"\"\"\"","v":"\" \",\"\",\"\",\"\""}]
[{"$f":"\"\"\" \"& 'BX Language acquisition'!A3602 & \"\"\",\"\"\" & 'BX Language acquisition'!C3602 & \"\"\",\"\"\" & 'BX Language acquisition'!B3602 & \"\"\",\"\"\" & 'BX Language acquisition'!D3602 & \"\"\"\"","v":"\" \",\"\",\"\",\"\""}]
[{"$f":"\"\"\" \"& 'BX Language acquisition'!A3603 & \"\"\",\"\"\" & 'BX Language acquisition'!C3603 & \"\"\",\"\"\" & 'BX Language acquisition'!B3603 & \"\"\",\"\"\" & 'BX Language acquisition'!D3603 & \"\"\"\"","v":"\" \",\"\",\"\",\"\""}]
[{"$f":"\"\"\" \"& 'BX Language acquisition'!A3604 & \"\"\",\"\"\" & 'BX Language acquisition'!C3604 & \"\"\",\"\"\" & 'BX Language acquisition'!B3604 & \"\"\",\"\"\" & 'BX Language acquisition'!D3604 & \"\"\"\"","v":"\" \",\"\",\"\",\"\""}]
[{"$f":"\"\"\" \"& 'BX Language acquisition'!A3605 & \"\"\",\"\"\" & 'BX Language acquisition'!C3605 & \"\"\",\"\"\" & 'BX Language acquisition'!B3605 & \"\"\",\"\"\" & 'BX Language acquisition'!D3605 & \"\"\"\"","v":"\" \",\"\",\"\",\"\""}]
[{"$f":"\"\"\" \"& 'BX Language acquisition'!A3606 & \"\"\",\"\"\" & 'BX Language acquisition'!C3606 & \"\"\",\"\"\" & 'BX Language acquisition'!B3606 & \"\"\",\"\"\" & 'BX Language acquisition'!D3606 & \"\"\"\"","v":"\" \",\"\",\"\",\"\""}]
[{"$f":"\"\"\" \"& 'BX Language acquisition'!A3607 & \"\"\",\"\"\" & 'BX Language acquisition'!C3607 & \"\"\",\"\"\" & 'BX Language acquisition'!B3607 & \"\"\",\"\"\" & 'BX Language acquisition'!D3607 & \"\"\"\"","v":"\" \",\"\",\"\",\"\""}]
[{"$f":"\"\"\" \"& 'BX Language acquisition'!A3608 & \"\"\",\"\"\" & 'BX Language acquisition'!C3608 & \"\"\",\"\"\" & 'BX Language acquisition'!B3608 & \"\"\",\"\"\" & 'BX Language acquisition'!D3608 & \"\"\"\"","v":"\" \",\"\",\"\",\"\""}]
[{"$f":"\"\"\" \"& 'BX Language acquisition'!A3609 & \"\"\",\"\"\" & 'BX Language acquisition'!C3609 & \"\"\",\"\"\" & 'BX Language acquisition'!B3609 & \"\"\",\"\"\" & 'BX Language acquisition'!D3609 & \"\"\"\"","v":"\" \",\"\",\"\",\"\""}]
[{"$f":"\"\"\" \"& 'BX Language acquisition'!A3610 & \"\"\",\"\"\" & 'BX Language acquisition'!C3610 & \"\"\",\"\"\" & 'BX Language acquisition'!B3610 & \"\"\",\"\"\" & 'BX Language acquisition'!D3610 & \"\"\"\"","v":"\" \",\"\",\"\",\"\""}]
[{"$f":"\"\"\" \"& 'BX Language acquisition'!A3611 & \"\"\",\"\"\" & 'BX Language acquisition'!C3611 & \"\"\",\"\"\" & 'BX Language acquisition'!B3611 & \"\"\",\"\"\" & 'BX Language acquisition'!D3611 & \"\"\"\"","v":"\" \",\"\",\"\",\"\""}]
[{"$f":"\"\"\" \"& 'BX Language acquisition'!A3612 & \"\"\",\"\"\" & 'BX Language acquisition'!C3612 & \"\"\",\"\"\" & 'BX Language acquisition'!B3612 & \"\"\",\"\"\" & 'BX Language acquisition'!D3612 & \"\"\"\"","v":"\" \",\"\",\"\",\"\""}]
[{"$f":"\"\"\" \"& 'BX Language acquisition'!A3613 & \"\"\",\"\"\" & 'BX Language acquisition'!C3613 & \"\"\",\"\"\" & 'BX Language acquisition'!B3613 & \"\"\",\"\"\" & 'BX Language acquisition'!D3613 & \"\"\"\"","v":"\" \",\"\",\"\",\"\""}]
[{"$f":"\"\"\" \"& 'BX Language acquisition'!A3614 & \"\"\",\"\"\" & 'BX Language acquisition'!C3614 & \"\"\",\"\"\" & 'BX Language acquisition'!B3614 & \"\"\",\"\"\" & 'BX Language acquisition'!D3614 & \"\"\"\"","v":"\" \",\"\",\"\",\"\""}]
[{"$f":"\"\"\" \"& 'BX Language acquisition'!A3615 & \"\"\",\"\"\" & 'BX Language acquisition'!C3615 & \"\"\",\"\"\" & 'BX Language acquisition'!B3615 & \"\"\",\"\"\" & 'BX Language acquisition'!D3615 & \"\"\"\"","v":"\" \",\"\",\"\",\"\""}]
[{"$f":"\"\"\" \"& 'BX Language acquisition'!A3616 & \"\"\",\"\"\" & 'BX Language acquisition'!C3616 & \"\"\",\"\"\" & 'BX Language acquisition'!B3616 & \"\"\",\"\"\" & 'BX Language acquisition'!D3616 & \"\"\"\"","v":"\" \",\"\",\"\",\"\""}]
[{"$f":"\"\"\" \"& 'BX Language acquisition'!A3617 & \"\"\",\"\"\" & 'BX Language acquisition'!C3617 & \"\"\",\"\"\" & 'BX Language acquisition'!B3617 & \"\"\",\"\"\" & 'BX Language acquisition'!D3617 & \"\"\"\"","v":"\" \",\"\",\"\",\"\""}]
[{"$f":"\"\"\" \"& 'BX Language acquisition'!A3618 & \"\"\",\"\"\" & 'BX Language acquisition'!C3618 & \"\"\",\"\"\" & 'BX Language acquisition'!B3618 & \"\"\",\"\"\" & 'BX Language acquisition'!D3618 & \"\"\"\"","v":"\" \",\"\",\"\",\"\""}]
[{"$f":"\"\"\" \"& 'BX Language acquisition'!A3619 & \"\"\",\"\"\" & 'BX Language acquisition'!C3619 & \"\"\",\"\"\" & 'BX Language acquisition'!B3619 & \"\"\",\"\"\" & 'BX Language acquisition'!D3619 & \"\"\"\"","v":"\" \",\"\",\"\",\"\""}]
[{"$f":"\"\"\" \"& 'BX Language acquisition'!A3620 & \"\"\",\"\"\" & 'BX Language acquisition'!C3620 & \"\"\",\"\"\" & 'BX Language acquisition'!B3620 & \"\"\",\"\"\" & 'BX Language acquisition'!D3620 & \"\"\"\"","v":"\" \",\"\",\"\",\"\""}]
[{"$f":"\"\"\" \"& 'BX Language acquisition'!A3621 & \"\"\",\"\"\" & 'BX Language acquisition'!C3621 & \"\"\",\"\"\" & 'BX Language acquisition'!B3621 & \"\"\",\"\"\" & 'BX Language acquisition'!D3621 & \"\"\"\"","v":"\" \",\"\",\"\",\"\""}]
[{"$f":"\"\"\" \"& 'BX Language acquisition'!A3622 & \"\"\",\"\"\" & 'BX Language acquisition'!C3622 & \"\"\",\"\"\" & 'BX Language acquisition'!B3622 & \"\"\",\"\"\" & 'BX Language acquisition'!D3622 & \"\"\"\"","v":"\" \",\"\",\"\",\"\""}]
[{"$f":"\"\"\" \"& 'BX Language acquisition'!A3623 & \"\"\",\"\"\" & 'BX Language acquisition'!C3623 & \"\"\",\"\"\" & 'BX Language acquisition'!B3623 & \"\"\",\"\"\" & 'BX Language acquisition'!D3623 & \"\"\"\"","v":"\" \",\"\",\"\",\"\""}]
[{"$f":"\"\"\" \"& 'BX Language acquisition'!A3624 & \"\"\",\"\"\" & 'BX Language acquisition'!C3624 & \"\"\",\"\"\" & 'BX Language acquisition'!B3624 & \"\"\",\"\"\" & 'BX Language acquisition'!D3624 & \"\"\"\"","v":"\" \",\"\",\"\",\"\""}]
[{"$f":"\"\"\" \"& 'BX Language acquisition'!A3625 & \"\"\",\"\"\" & 'BX Language acquisition'!C3625 & \"\"\",\"\"\" & 'BX Language acquisition'!B3625 & \"\"\",\"\"\" & 'BX Language acquisition'!D3625 & \"\"\"\"","v":"\" \",\"\",\"\",\"\""}]
[{"$f":"\"\"\" \"& 'BX Language acquisition'!A3626 & \"\"\",\"\"\" & 'BX Language acquisition'!C3626 & \"\"\",\"\"\" & 'BX Language acquisition'!B3626 & \"\"\",\"\"\" & 'BX Language acquisition'!D3626 & \"\"\"\"","v":"\" \",\"\",\"\",\"\""}]
[{"$f":"\"\"\" \"& 'BX Language acquisition'!A3627 & \"\"\",\"\"\" & 'BX Language acquisition'!C3627 & \"\"\",\"\"\" & 'BX Language acquisition'!B3627 & \"\"\",\"\"\" & 'BX Language acquisition'!D3627 & \"\"\"\"","v":"\" \",\"\",\"\",\"\""}]
[{"$f":"\"\"\" \"& 'BX Language acquisition'!A3628 & \"\"\",\"\"\" & 'BX Language acquisition'!C3628 & \"\"\",\"\"\" & 'BX Language acquisition'!B3628 & \"\"\",\"\"\" & 'BX Language acquisition'!D3628 & \"\"\"\"","v":"\" \",\"\",\"\",\"\""}]
[{"$f":"\"\"\" \"& 'BX Language acquisition'!A3629 & \"\"\",\"\"\" & 'BX Language acquisition'!C3629 & \"\"\",\"\"\" & 'BX Language acquisition'!B3629 & \"\"\",\"\"\" & 'BX Language acquisition'!D3629 & \"\"\"\"","v":"\" \",\"\",\"\",\"\""}]
[{"$f":"\"\"\" \"& 'BX Language acquisition'!A3630 & \"\"\",\"\"\" & 'BX Language acquisition'!C3630 & \"\"\",\"\"\" & 'BX Language acquisition'!B3630 & \"\"\",\"\"\" & 'BX Language acquisition'!D3630 & \"\"\"\"","v":"\" \",\"\",\"\",\"\""}]
[{"$f":"\"\"\" \"& 'BX Language acquisition'!A3631 & \"\"\",\"\"\" & 'BX Language acquisition'!C3631 & \"\"\",\"\"\" & 'BX Language acquisition'!B3631 & \"\"\",\"\"\" & 'BX Language acquisition'!D3631 & \"\"\"\"","v":"\" \",\"\",\"\",\"\""}]
[{"$f":"\"\"\" \"& 'BX Language acquisition'!A3632 & \"\"\",\"\"\" & 'BX Language acquisition'!C3632 & \"\"\",\"\"\" & 'BX Language acquisition'!B3632 & \"\"\",\"\"\" & 'BX Language acquisition'!D3632 & \"\"\"\"","v":"\" \",\"\",\"\",\"\""}]
[{"$f":"\"\"\" \"& 'BX Language acquisition'!A3633 & \"\"\",\"\"\" & 'BX Language acquisition'!C3633 & \"\"\",\"\"\" & 'BX Language acquisition'!B3633 & \"\"\",\"\"\" & 'BX Language acquisition'!D3633 & \"\"\"\"","v":"\" \",\"\",\"\",\"\""}]
[{"$f":"\"\"\" \"& 'BX Language acquisition'!A3634 & \"\"\",\"\"\" & 'BX Language acquisition'!C3634 & \"\"\",\"\"\" & 'BX Language acquisition'!B3634 & \"\"\",\"\"\" & 'BX Language acquisition'!D3634 & \"\"\"\"","v":"\" \",\"\",\"\",\"\""}]
[{"$f":"\"\"\" \"& 'BX Language acquisition'!A3635 & \"\"\",\"\"\" & 'BX Language acquisition'!C3635 & \"\"\",\"\"\" & 'BX Language acquisition'!B3635 & \"\"\",\"\"\" & 'BX Language acquisition'!D3635 & \"\"\"\"","v":"\" \",\"\",\"\",\"\""}]
[{"$f":"\"\"\" \"& 'BX Language acquisition'!A3636 & \"\"\",\"\"\" & 'BX Language acquisition'!C3636 & \"\"\",\"\"\" & 'BX Language acquisition'!B3636 & \"\"\",\"\"\" & 'BX Language acquisition'!D3636 & \"\"\"\"","v":"\" \",\"\",\"\",\"\""}]
[{"$f":"\"\"\" \"& 'BX Language acquisition'!A3637 & \"\"\",\"\"\" & 'BX Language acquisition'!C3637 & \"\"\",\"\"\" & 'BX Language acquisition'!B3637 & \"\"\",\"\"\" & 'BX Language acquisition'!D3637 & \"\"\"\"","v":"\" \",\"\",\"\",\"\""}]
[{"$f":"\"\"\" \"& 'BX Language acquisition'!A3638 & \"\"\",\"\"\" & 'BX Language acquisition'!C3638 & \"\"\",\"\"\" & 'BX Language acquisition'!B3638 & \"\"\",\"\"\" & 'BX Language acquisition'!D3638 & \"\"\"\"","v":"\" \",\"\",\"\",\"\""}]
[{"$f":"\"\"\" \"& 'BX Language acquisition'!A3639 & \"\"\",\"\"\" & 'BX Language acquisition'!C3639 & \"\"\",\"\"\" & 'BX Language acquisition'!B3639 & \"\"\",\"\"\" & 'BX Language acquisition'!D3639 & \"\"\"\"","v":"\" \",\"\",\"\",\"\""}]
[{"$f":"\"\"\" \"& 'BX Language acquisition'!A3640 & \"\"\",\"\"\" & 'BX Language acquisition'!C3640 & \"\"\",\"\"\" & 'BX Language acquisition'!B3640 & \"\"\",\"\"\" & 'BX Language acquisition'!D3640 & \"\"\"\"","v":"\" \",\"\",\"\",\"\""}]
[{"$f":"\"\"\" \"& 'BX Language acquisition'!A3641 & \"\"\",\"\"\" & 'BX Language acquisition'!C3641 & \"\"\",\"\"\" & 'BX Language acquisition'!B3641 & \"\"\",\"\"\" & 'BX Language acquisition'!D3641 & \"\"\"\"","v":"\" \",\"\",\"\",\"\""}]
[{"$f":"\"\"\" \"& 'BX Language acquisition'!A3642 & \"\"\",\"\"\" & 'BX Language acquisition'!C3642 & \"\"\",\"\"\" & 'BX Language acquisition'!B3642 & \"\"\",\"\"\" & 'BX Language acquisition'!D3642 & \"\"\"\"","v":"\" \",\"\",\"\",\"\""}]
[{"$f":"\"\"\" \"& 'BX Language acquisition'!A3643 & \"\"\",\"\"\" & 'BX Language acquisition'!C3643 & \"\"\",\"\"\" & 'BX Language acquisition'!B3643 & \"\"\",\"\"\" & 'BX Language acquisition'!D3643 & \"\"\"\"","v":"\" \",\"\",\"\",\"\""}]
[{"$f":"\"\"\" \"& 'BX Language acquisition'!A3644 & \"\"\",\"\"\" & 'BX Language acquisition'!C3644 & \"\"\",\"\"\" & 'BX Language acquisition'!B3644 & \"\"\",\"\"\" & 'BX Language acquisition'!D3644 & \"\"\"\"","v":"\" \",\"\",\"\",\"\""}]
[{"$f":"\"\"\" \"& 'BX Language acquisition'!A3645 & \"\"\",\"\"\" & 'BX Language acquisition'!C3645 & \"\"\",\"\"\" & 'BX Language acquisition'!B3645 & \"\"\",\"\"\" & 'BX Language acquisition'!D3645 & \"\"\"\"","v":"\" \",\"\",\"\",\"\""}]
[{"$f":"\"\"\" \"& 'BX Language acquisition'!A3646 & \"\"\",\"\"\" & 'BX Language acquisition'!C3646 & \"\"\",\"\"\" & 'BX Language acquisition'!B3646 & \"\"\",\"\"\" & 'BX Language acquisition'!D3646 & \"\"\"\"","v":"\" \",\"\",\"\",\"\""}]
[{"$f":"\"\"\" \"& 'BX Language acquisition'!A3647 & \"\"\",\"\"\" & 'BX Language acquisition'!C3647 & \"\"\",\"\"\" & 'BX Language acquisition'!B3647 & \"\"\",\"\"\" & 'BX Language acquisition'!D3647 & \"\"\"\"","v":"\" \",\"\",\"\",\"\""}]
[{"$f":"\"\"\" \"& 'BX Language acquisition'!A3648 & \"\"\",\"\"\" & 'BX Language acquisition'!C3648 & \"\"\",\"\"\" & 'BX Language acquisition'!B3648 & \"\"\",\"\"\" & 'BX Language acquisition'!D3648 & \"\"\"\"","v":"\" \",\"\",\"\",\"\""}]
[{"$f":"\"\"\" \"& 'BX Language acquisition'!A3649 & \"\"\",\"\"\" & 'BX Language acquisition'!C3649 & \"\"\",\"\"\" & 'BX Language acquisition'!B3649 & \"\"\",\"\"\" & 'BX Language acquisition'!D3649 & \"\"\"\"","v":"\" \",\"\",\"\",\"\""}]
[{"$f":"\"\"\" \"& 'BX Language acquisition'!A3650 & \"\"\",\"\"\" & 'BX Language acquisition'!C3650 & \"\"\",\"\"\" & 'BX Language acquisition'!B3650 & \"\"\",\"\"\" & 'BX Language acquisition'!D3650 & \"\"\"\"","v":"\" \",\"\",\"\",\"\""}]
[{"$f":"\"\"\" \"& 'BX Language acquisition'!A3651 & \"\"\",\"\"\" & 'BX Language acquisition'!C3651 & \"\"\",\"\"\" & 'BX Language acquisition'!B3651 & \"\"\",\"\"\" & 'BX Language acquisition'!D3651 & \"\"\"\"","v":"\" \",\"\",\"\",\"\""}]
[{"$f":"\"\"\" \"& 'BX Language acquisition'!A3652 & \"\"\",\"\"\" & 'BX Language acquisition'!C3652 & \"\"\",\"\"\" & 'BX Language acquisition'!B3652 & \"\"\",\"\"\" & 'BX Language acquisition'!D3652 & \"\"\"\"","v":"\" \",\"\",\"\",\"\""}]
[{"$f":"\"\"\" \"& 'BX Language acquisition'!A3653 & \"\"\",\"\"\" & 'BX Language acquisition'!C3653 & \"\"\",\"\"\" & 'BX Language acquisition'!B3653 & \"\"\",\"\"\" & 'BX Language acquisition'!D3653 & \"\"\"\"","v":"\" \",\"\",\"\",\"\""}]
[{"$f":"\"\"\" \"& 'BX Language acquisition'!A3654 & \"\"\",\"\"\" & 'BX Language acquisition'!C3654 & \"\"\",\"\"\" & 'BX Language acquisition'!B3654 & \"\"\",\"\"\" & 'BX Language acquisition'!D3654 & \"\"\"\"","v":"\" \",\"\",\"\",\"\""}]
[{"$f":"\"\"\" \"& 'BX Language acquisition'!A3655 & \"\"\",\"\"\" & 'BX Language acquisition'!C3655 & \"\"\",\"\"\" & 'BX Language acquisition'!B3655 & \"\"\",\"\"\" & 'BX Language acquisition'!D3655 & \"\"\"\"","v":"\" \",\"\",\"\",\"\""}]
[{"$f":"\"\"\" \"& 'BX Language acquisition'!A3656 & \"\"\",\"\"\" & 'BX Language acquisition'!C3656 & \"\"\",\"\"\" & 'BX Language acquisition'!B3656 & \"\"\",\"\"\" & 'BX Language acquisition'!D3656 & \"\"\"\"","v":"\" \",\"\",\"\",\"\""}]
[{"$f":"\"\"\" \"& 'BX Language acquisition'!A3657 & \"\"\",\"\"\" & 'BX Language acquisition'!C3657 & \"\"\",\"\"\" & 'BX Language acquisition'!B3657 & \"\"\",\"\"\" & 'BX Language acquisition'!D3657 & \"\"\"\"","v":"\" \",\"\",\"\",\"\""}]
[{"$f":"\"\"\" \"& 'BX Language acquisition'!A3658 & \"\"\",\"\"\" & 'BX Language acquisition'!C3658 & \"\"\",\"\"\" & 'BX Language acquisition'!B3658 & \"\"\",\"\"\" & 'BX Language acquisition'!D3658 & \"\"\"\"","v":"\" \",\"\",\"\",\"\""}]
[{"$f":"\"\"\" \"& 'BX Language acquisition'!A3659 & \"\"\",\"\"\" & 'BX Language acquisition'!C3659 & \"\"\",\"\"\" & 'BX Language acquisition'!B3659 & \"\"\",\"\"\" & 'BX Language acquisition'!D3659 & \"\"\"\"","v":"\" \",\"\",\"\",\"\""}]
[{"$f":"\"\"\" \"& 'BX Language acquisition'!A3660 & \"\"\",\"\"\" & 'BX Language acquisition'!C3660 & \"\"\",\"\"\" & 'BX Language acquisition'!B3660 & \"\"\",\"\"\" & 'BX Language acquisition'!D3660 & \"\"\"\"","v":"\" \",\"\",\"\",\"\""}]
[{"$f":"\"\"\" \"& 'BX Language acquisition'!A3661 & \"\"\",\"\"\" & 'BX Language acquisition'!C3661 & \"\"\",\"\"\" & 'BX Language acquisition'!B3661 & \"\"\",\"\"\" & 'BX Language acquisition'!D3661 & \"\"\"\"","v":"\" \",\"\",\"\",\"\""}]
[{"$f":"\"\"\" \"& 'BX Language acquisition'!A3662 & \"\"\",\"\"\" & 'BX Language acquisition'!C3662 & \"\"\",\"\"\" & 'BX Language acquisition'!B3662 & \"\"\",\"\"\" & 'BX Language acquisition'!D3662 & \"\"\"\"","v":"\" \",\"\",\"\",\"\""}]
[{"$f":"\"\"\" \"& 'BX Language acquisition'!A3663 & \"\"\",\"\"\" & 'BX Language acquisition'!C3663 & \"\"\",\"\"\" & 'BX Language acquisition'!B3663 & \"\"\",\"\"\" & 'BX Language acquisition'!D3663 & \"\"\"\"","v":"\" \",\"\",\"\",\"\""}]
[{"$f":"\"\"\" \"& 'BX Language acquisition'!A3664 & \"\"\",\"\"\" & 'BX Language acquisition'!C3664 & \"\"\",\"\"\" & 'BX Language acquisition'!B3664 & \"\"\",\"\"\" & 'BX Language acquisition'!D3664 & \"\"\"\"","v":"\" \",\"\",\"\",\"\""}]
[{"$f":"\"\"\" \"& 'BX Language acquisition'!A3665 & \"\"\",\"\"\" & 'BX Language acquisition'!C3665 & \"\"\",\"\"\" & 'BX Language acquisition'!B3665 & \"\"\",\"\"\" & 'BX Language acquisition'!D3665 & \"\"\"\"","v":"\" \",\"\",\"\",\"\""}]
[{"$f":"\"\"\" \"& 'BX Language acquisition'!A3666 & \"\"\",\"\"\" & 'BX Language acquisition'!C3666 & \"\"\",\"\"\" & 'BX Language acquisition'!B3666 & \"\"\",\"\"\" & 'BX Language acquisition'!D3666 & \"\"\"\"","v":"\" \",\"\",\"\",\"\""}]
[{"$f":"\"\"\" \"& 'BX Language acquisition'!A3667 & \"\"\",\"\"\" & 'BX Language acquisition'!C3667 & \"\"\",\"\"\" & 'BX Language acquisition'!B3667 & \"\"\",\"\"\" & 'BX Language acquisition'!D3667 & \"\"\"\"","v":"\" \",\"\",\"\",\"\""}]
[{"$f":"\"\"\" \"& 'BX Language acquisition'!A3668 & \"\"\",\"\"\" & 'BX Language acquisition'!C3668 & \"\"\",\"\"\" & 'BX Language acquisition'!B3668 & \"\"\",\"\"\" & 'BX Language acquisition'!D3668 & \"\"\"\"","v":"\" \",\"\",\"\",\"\""}]
[{"$f":"\"\"\" \"& 'BX Language acquisition'!A3669 & \"\"\",\"\"\" & 'BX Language acquisition'!C3669 & \"\"\",\"\"\" & 'BX Language acquisition'!B3669 & \"\"\",\"\"\" & 'BX Language acquisition'!D3669 & \"\"\"\"","v":"\" \",\"\",\"\",\"\""}]
[{"$f":"\"\"\" \"& 'BX Language acquisition'!A3670 & \"\"\",\"\"\" & 'BX Language acquisition'!C3670 & \"\"\",\"\"\" & 'BX Language acquisition'!B3670 & \"\"\",\"\"\" & 'BX Language acquisition'!D3670 & \"\"\"\"","v":"\" \",\"\",\"\",\"\""}]
[{"$f":"\"\"\" \"& 'BX Language acquisition'!A3671 & \"\"\",\"\"\" & 'BX Language acquisition'!C3671 & \"\"\",\"\"\" & 'BX Language acquisition'!B3671 & \"\"\",\"\"\" & 'BX Language acquisition'!D3671 & \"\"\"\"","v":"\" \",\"\",\"\",\"\""}]
[{"$f":"\"\"\" \"& 'BX Language acquisition'!A3672 & \"\"\",\"\"\" & 'BX Language acquisition'!C3672 & \"\"\",\"\"\" & 'BX Language acquisition'!B3672 & \"\"\",\"\"\" & 'BX Language acquisition'!D3672 & \"\"\"\"","v":"\" \",\"\",\"\",\"\""}]
[{"$f":"\"\"\" \"& 'BX Language acquisition'!A3673 & \"\"\",\"\"\" & 'BX Language acquisition'!C3673 & \"\"\",\"\"\" & 'BX Language acquisition'!B3673 & \"\"\",\"\"\" & 'BX Language acquisition'!D3673 & \"\"\"\"","v":"\" \",\"\",\"\",\"\""}]
[{"$f":"\"\"\" \"& 'BX Language acquisition'!A3674 & \"\"\",\"\"\" & 'BX Language acquisition'!C3674 & \"\"\",\"\"\" & 'BX Language acquisition'!B3674 & \"\"\",\"\"\" & 'BX Language acquisition'!D3674 & \"\"\"\"","v":"\" \",\"\",\"\",\"\""}]
[{"$f":"\"\"\" \"& 'BX Language acquisition'!A3675 & \"\"\",\"\"\" & 'BX Language acquisition'!C3675 & \"\"\",\"\"\" & 'BX Language acquisition'!B3675 & \"\"\",\"\"\" & 'BX Language acquisition'!D3675 & \"\"\"\"","v":"\" \",\"\",\"\",\"\""}]
[{"$f":"\"\"\" \"& 'BX Language acquisition'!A3676 & \"\"\",\"\"\" & 'BX Language acquisition'!C3676 & \"\"\",\"\"\" & 'BX Language acquisition'!B3676 & \"\"\",\"\"\" & 'BX Language acquisition'!D3676 & \"\"\"\"","v":"\" \",\"\",\"\",\"\""}]
[{"$f":"\"\"\" \"& 'BX Language acquisition'!A3677 & \"\"\",\"\"\" & 'BX Language acquisition'!C3677 & \"\"\",\"\"\" & 'BX Language acquisition'!B3677 & \"\"\",\"\"\" & 'BX Language acquisition'!D3677 & \"\"\"\"","v":"\" \",\"\",\"\",\"\""}]
[{"$f":"\"\"\" \"& 'BX Language acquisition'!A3678 & \"\"\",\"\"\" & 'BX Language acquisition'!C3678 & \"\"\",\"\"\" & 'BX Language acquisition'!B3678 & \"\"\",\"\"\" & 'BX Language acquisition'!D3678 & \"\"\"\"","v":"\" \",\"\",\"\",\"\""}]
[{"$f":"\"\"\" \"& 'BX Language acquisition'!A3679 & \"\"\",\"\"\" & 'BX Language acquisition'!C3679 & \"\"\",\"\"\" & 'BX Language acquisition'!B3679 & \"\"\",\"\"\" & 'BX Language acquisition'!D3679 & \"\"\"\"","v":"\" \",\"\",\"\",\"\""}]
[{"$f":"\"\"\" \"& 'BX Language acquisition'!A3680 & \"\"\",\"\"\" & 'BX Language acquisition'!C3680 & \"\"\",\"\"\" & 'BX Language acquisition'!B3680 & \"\"\",\"\"\" & 'BX Language acquisition'!D3680 & \"\"\"\"","v":"\" \",\"\",\"\",\"\""}]
[{"$f":"\"\"\" \"& 'BX Language acquisition'!A3681 & \"\"\",\"\"\" & 'BX Language acquisition'!C3681 & \"\"\",\"\"\" & 'BX Language acquisition'!B3681 & \"\"\",\"\"\" & 'BX Language acquisition'!D3681 & \"\"\"\"","v":"\" \",\"\",\"\",\"\""}]
[{"$f":"\"\"\" \"& 'BX Language acquisition'!A3682 & \"\"\",\"\"\" & 'BX Language acquisition'!C3682 & \"\"\",\"\"\" & 'BX Language acquisition'!B3682 & \"\"\",\"\"\" & 'BX Language acquisition'!D3682 & \"\"\"\"","v":"\" \",\"\",\"\",\"\""}]
[{"$f":"\"\"\" \"& 'BX Language acquisition'!A3683 & \"\"\",\"\"\" & 'BX Language acquisition'!C3683 & \"\"\",\"\"\" & 'BX Language acquisition'!B3683 & \"\"\",\"\"\" & 'BX Language acquisition'!D3683 & \"\"\"\"","v":"\" \",\"\",\"\",\"\""}]
[{"$f":"\"\"\" \"& 'BX Language acquisition'!A3684 & \"\"\",\"\"\" & 'BX Language acquisition'!C3684 & \"\"\",\"\"\" & 'BX Language acquisition'!B3684 & \"\"\",\"\"\" & 'BX Language acquisition'!D3684 & \"\"\"\"","v":"\" \",\"\",\"\",\"\""}]
[{"$f":"\"\"\" \"& 'BX Language acquisition'!A3685 & \"\"\",\"\"\" & 'BX Language acquisition'!C3685 & \"\"\",\"\"\" & 'BX Language acquisition'!B3685 & \"\"\",\"\"\" & 'BX Language acquisition'!D3685 & \"\"\"\"","v":"\" \",\"\",\"\",\"\""}]
[{"$f":"\"\"\" \"& 'BX Language acquisition'!A3686 & \"\"\",\"\"\" & 'BX Language acquisition'!C3686 & \"\"\",\"\"\" & 'BX Language acquisition'!B3686 & \"\"\",\"\"\" & 'BX Language acquisition'!D3686 & \"\"\"\"","v":"\" \",\"\",\"\",\"\""}]
[{"$f":"\"\"\" \"& 'BX Language acquisition'!A3687 & \"\"\",\"\"\" & 'BX Language acquisition'!C3687 & \"\"\",\"\"\" & 'BX Language acquisition'!B3687 & \"\"\",\"\"\" & 'BX Language acquisition'!D3687 & \"\"\"\"","v":"\" \",\"\",\"\",\"\""}]
[{"$f":"\"\"\" \"& 'BX Language acquisition'!A3688 & \"\"\",\"\"\" & 'BX Language acquisition'!C3688 & \"\"\",\"\"\" & 'BX Language acquisition'!B3688 & \"\"\",\"\"\" & 'BX Language acquisition'!D3688 & \"\"\"\"","v":"\" \",\"\",\"\",\"\""}]
[{"$f":"\"\"\" \"& 'BX Language acquisition'!A3689 & \"\"\",\"\"\" & 'BX Language acquisition'!C3689 & \"\"\",\"\"\" & 'BX Language acquisition'!B3689 & \"\"\",\"\"\" & 'BX Language acquisition'!D3689 & \"\"\"\"","v":"\" \",\"\",\"\",\"\""}]
[{"$f":"\"\"\" \"& 'BX Language acquisition'!A3690 & \"\"\",\"\"\" & 'BX Language acquisition'!C3690 & \"\"\",\"\"\" & 'BX Language acquisition'!B3690 & \"\"\",\"\"\" & 'BX Language acquisition'!D3690 & \"\"\"\"","v":"\" \",\"\",\"\",\"\""}]
[{"$f":"\"\"\" \"& 'BX Language acquisition'!A3691 & \"\"\",\"\"\" & 'BX Language acquisition'!C3691 & \"\"\",\"\"\" & 'BX Language acquisition'!B3691 & \"\"\",\"\"\" & 'BX Language acquisition'!D3691 & \"\"\"\"","v":"\" \",\"\",\"\",\"\""}]
[{"$f":"\"\"\" \"& 'BX Language acquisition'!A3692 & \"\"\",\"\"\" & 'BX Language acquisition'!C3692 & \"\"\",\"\"\" & 'BX Language acquisition'!B3692 & \"\"\",\"\"\" & 'BX Language acquisition'!D3692 & \"\"\"\"","v":"\" \",\"\",\"\",\"\""}]
[{"$f":"\"\"\" \"& 'BX Language acquisition'!A3693 & \"\"\",\"\"\" & 'BX Language acquisition'!C3693 & \"\"\",\"\"\" & 'BX Language acquisition'!B3693 & \"\"\",\"\"\" & 'BX Language acquisition'!D3693 & \"\"\"\"","v":"\" \",\"\",\"\",\"\""}]
[{"$f":"\"\"\" \"& 'BX Language acquisition'!A3694 & \"\"\",\"\"\" & 'BX Language acquisition'!C3694 & \"\"\",\"\"\" & 'BX Language acquisition'!B3694 & \"\"\",\"\"\" & 'BX Language acquisition'!D3694 & \"\"\"\"","v":"\" \",\"\",\"\",\"\""}]
[{"$f":"\"\"\" \"& 'BX Language acquisition'!A3695 & \"\"\",\"\"\" & 'BX Language acquisition'!C3695 & \"\"\",\"\"\" & 'BX Language acquisition'!B3695 & \"\"\",\"\"\" & 'BX Language acquisition'!D3695 & \"\"\"\"","v":"\" \",\"\",\"\",\"\""}]
[{"$f":"\"\"\" \"& 'BX Language acquisition'!A3696 & \"\"\",\"\"\" & 'BX Language acquisition'!C3696 & \"\"\",\"\"\" & 'BX Language acquisition'!B3696 & \"\"\",\"\"\" & 'BX Language acquisition'!D3696 & \"\"\"\"","v":"\" \",\"\",\"\",\"\""}]
[{"$f":"\"\"\" \"& 'BX Language acquisition'!A3697 & \"\"\",\"\"\" & 'BX Language acquisition'!C3697 & \"\"\",\"\"\" & 'BX Language acquisition'!B3697 & \"\"\",\"\"\" & 'BX Language acquisition'!D3697 & \"\"\"\"","v":"\" \",\"\",\"\",\"\""}]
[{"$f":"\"\"\" \"& 'BX Language acquisition'!A3698 & \"\"\",\"\"\" & 'BX Language acquisition'!C3698 & \"\"\",\"\"\" & 'BX Language acquisition'!B3698 & \"\"\",\"\"\" & 'BX Language acquisition'!D3698 & \"\"\"\"","v":"\" \",\"\",\"\",\"\""}]
[{"$f":"\"\"\" \"& 'BX Language acquisition'!A3699 & \"\"\",\"\"\" & 'BX Language acquisition'!C3699 & \"\"\",\"\"\" & 'BX Language acquisition'!B3699 & \"\"\",\"\"\" & 'BX Language acquisition'!D3699 & \"\"\"\"","v":"\" \",\"\",\"\",\"\""}]
[{"$f":"\"\"\" \"& 'BX Language acquisition'!A3700 & \"\"\",\"\"\" & 'BX Language acquisition'!C3700 & \"\"\",\"\"\" & 'BX Language acquisition'!B3700 & \"\"\",\"\"\" & 'BX Language acquisition'!D3700 & \"\"\"\"","v":"\" \",\"\",\"\",\"\""}]
[{"$f":"\"\"\" \"& 'BX Language acquisition'!A3701 & \"\"\",\"\"\" & 'BX Language acquisition'!C3701 & \"\"\",\"\"\" & 'BX Language acquisition'!B3701 & \"\"\",\"\"\" & 'BX Language acquisition'!D3701 & \"\"\"\"","v":"\" \",\"\",\"\",\"\""}]
[{"$f":"\"\"\" \"& 'BX Language acquisition'!A3702 & \"\"\",\"\"\" & 'BX Language acquisition'!C3702 & \"\"\",\"\"\" & 'BX Language acquisition'!B3702 & \"\"\",\"\"\" & 'BX Language acquisition'!D3702 & \"\"\"\"","v":"\" \",\"\",\"\",\"\""}]
[{"$f":"\"\"\" \"& 'BX Language acquisition'!A3703 & \"\"\",\"\"\" & 'BX Language acquisition'!C3703 & \"\"\",\"\"\" & 'BX Language acquisition'!B3703 & \"\"\",\"\"\" & 'BX Language acquisition'!D3703 & \"\"\"\"","v":"\" \",\"\",\"\",\"\""}]
[{"$f":"\"\"\" \"& 'BX Language acquisition'!A3704 & \"\"\",\"\"\" & 'BX Language acquisition'!C3704 & \"\"\",\"\"\" & 'BX Language acquisition'!B3704 & \"\"\",\"\"\" & 'BX Language acquisition'!D3704 & \"\"\"\"","v":"\" \",\"\",\"\",\"\""}]
[{"$f":"\"\"\" \"& 'BX Language acquisition'!A3705 & \"\"\",\"\"\" & 'BX Language acquisition'!C3705 & \"\"\",\"\"\" & 'BX Language acquisition'!B3705 & \"\"\",\"\"\" & 'BX Language acquisition'!D3705 & \"\"\"\"","v":"\" \",\"\",\"\",\"\""}]
[{"$f":"\"\"\" \"& 'BX Language acquisition'!A3706 & \"\"\",\"\"\" & 'BX Language acquisition'!C3706 & \"\"\",\"\"\" & 'BX Language acquisition'!B3706 & \"\"\",\"\"\" & 'BX Language acquisition'!D3706 & \"\"\"\"","v":"\" \",\"\",\"\",\"\""}]
[{"$f":"\"\"\" \"& 'BX Language acquisition'!A3707 & \"\"\",\"\"\" & 'BX Language acquisition'!C3707 & \"\"\",\"\"\" & 'BX Language acquisition'!B3707 & \"\"\",\"\"\" & 'BX Language acquisition'!D3707 & \"\"\"\"","v":"\" \",\"\",\"\",\"\""}]
[{"$f":"\"\"\" \"& 'BX Language acquisition'!A3708 & \"\"\",\"\"\" & 'BX Language acquisition'!C3708 & \"\"\",\"\"\" & 'BX Language acquisition'!B3708 & \"\"\",\"\"\" & 'BX Language acquisition'!D3708 & \"\"\"\"","v":"\" \",\"\",\"\",\"\""}]
[{"$f":"\"\"\" \"& 'BX Language acquisition'!A3709 & \"\"\",\"\"\" & 'BX Language acquisition'!C3709 & \"\"\",\"\"\" & 'BX Language acquisition'!B3709 & \"\"\",\"\"\" & 'BX Language acquisition'!D3709 & \"\"\"\"","v":"\" \",\"\",\"\",\"\""}]
[{"$f":"\"\"\" \"& 'BX Language acquisition'!A3710 & \"\"\",\"\"\" & 'BX Language acquisition'!C3710 & \"\"\",\"\"\" & 'BX Language acquisition'!B3710 & \"\"\",\"\"\" & 'BX Language acquisition'!D3710 & \"\"\"\"","v":"\" \",\"\",\"\",\"\""}]
[{"$f":"\"\"\" \"& 'BX Language acquisition'!A3711 & \"\"\",\"\"\" & 'BX Language acquisition'!C3711 & \"\"\",\"\"\" & 'BX Language acquisition'!B3711 & \"\"\",\"\"\" & 'BX Language acquisition'!D3711 & \"\"\"\"","v":"\" \",\"\",\"\",\"\""}]
[{"$f":"\"\"\" \"& 'BX Language acquisition'!A3712 & \"\"\",\"\"\" & 'BX Language acquisition'!C3712 & \"\"\",\"\"\" & 'BX Language acquisition'!B3712 & \"\"\",\"\"\" & 'BX Language acquisition'!D3712 & \"\"\"\"","v":"\" \",\"\",\"\",\"\""}]
[{"$f":"\"\"\" \"& 'BX Language acquisition'!A3713 & \"\"\",\"\"\" & 'BX Language acquisition'!C3713 & \"\"\",\"\"\" & 'BX Language acquisition'!B3713 & \"\"\",\"\"\" & 'BX Language acquisition'!D3713 & \"\"\"\"","v":"\" \",\"\",\"\",\"\""}]
[{"$f":"\"\"\" \"& 'BX Language acquisition'!A3714 & \"\"\",\"\"\" & 'BX Language acquisition'!C3714 & \"\"\",\"\"\" & 'BX Language acquisition'!B3714 & \"\"\",\"\"\" & 'BX Language acquisition'!D3714 & \"\"\"\"","v":"\" \",\"\",\"\",\"\""}]
[{"$f":"\"\"\" \"& 'BX Language acquisition'!A3715 & \"\"\",\"\"\" & 'BX Language acquisition'!C3715 & \"\"\",\"\"\" & 'BX Language acquisition'!B3715 & \"\"\",\"\"\" & 'BX Language acquisition'!D3715 & \"\"\"\"","v":"\" \",\"\",\"\",\"\""}]
[{"$f":"\"\"\" \"& 'BX Language acquisition'!A3716 & \"\"\",\"\"\" & 'BX Language acquisition'!C3716 & \"\"\",\"\"\" & 'BX Language acquisition'!B3716 & \"\"\",\"\"\" & 'BX Language acquisition'!D3716 & \"\"\"\"","v":"\" \",\"\",\"\",\"\""}]
[{"$f":"\"\"\" \"& 'BX Language acquisition'!A3717 & \"\"\",\"\"\" & 'BX Language acquisition'!C3717 & \"\"\",\"\"\" & 'BX Language acquisition'!B3717 & \"\"\",\"\"\" & 'BX Language acquisition'!D3717 & \"\"\"\"","v":"\" \",\"\",\"\",\"\""}]
[{"$f":"\"\"\" \"& 'BX Language acquisition'!A3718 & \"\"\",\"\"\" & 'BX Language acquisition'!C3718 & \"\"\",\"\"\" & 'BX Language acquisition'!B3718 & \"\"\",\"\"\" & 'BX Language acquisition'!D3718 & \"\"\"\"","v":"\" \",\"\",\"\",\"\""}]
[{"$f":"\"\"\" \"& 'BX Language acquisition'!A3719 & \"\"\",\"\"\" & 'BX Language acquisition'!C3719 & \"\"\",\"\"\" & 'BX Language acquisition'!B3719 & \"\"\",\"\"\" & 'BX Language acquisition'!D3719 & \"\"\"\"","v":"\" \",\"\",\"\",\"\""}]
[{"$f":"\"\"\" \"& 'BX Language acquisition'!A3720 & \"\"\",\"\"\" & 'BX Language acquisition'!C3720 & \"\"\",\"\"\" & 'BX Language acquisition'!B3720 & \"\"\",\"\"\" & 'BX Language acquisition'!D3720 & \"\"\"\"","v":"\" \",\"\",\"\",\"\""}]
[{"$f":"\"\"\" \"& 'BX Language acquisition'!A3721 & \"\"\",\"\"\" & 'BX Language acquisition'!C3721 & \"\"\",\"\"\" & 'BX Language acquisition'!B3721 & \"\"\",\"\"\" & 'BX Language acquisition'!D3721 & \"\"\"\"","v":"\" \",\"\",\"\",\"\""}]
[{"$f":"\"\"\" \"& 'BX Language acquisition'!A3722 & \"\"\",\"\"\" & 'BX Language acquisition'!C3722 & \"\"\",\"\"\" & 'BX Language acquisition'!B3722 & \"\"\",\"\"\" & 'BX Language acquisition'!D3722 & \"\"\"\"","v":"\" \",\"\",\"\",\"\""}]
[{"$f":"\"\"\" \"& 'BX Language acquisition'!A3723 & \"\"\",\"\"\" & 'BX Language acquisition'!C3723 & \"\"\",\"\"\" & 'BX Language acquisition'!B3723 & \"\"\",\"\"\" & 'BX Language acquisition'!D3723 & \"\"\"\"","v":"\" \",\"\",\"\",\"\""}]
[{"$f":"\"\"\" \"& 'BX Language acquisition'!A3724 & \"\"\",\"\"\" & 'BX Language acquisition'!C3724 & \"\"\",\"\"\" & 'BX Language acquisition'!B3724 & \"\"\",\"\"\" & 'BX Language acquisition'!D3724 & \"\"\"\"","v":"\" \",\"\",\"\",\"\""}]
[{"$f":"\"\"\" \"& 'BX Language acquisition'!A3725 & \"\"\",\"\"\" & 'BX Language acquisition'!C3725 & \"\"\",\"\"\" & 'BX Language acquisition'!B3725 & \"\"\",\"\"\" & 'BX Language acquisition'!D3725 & \"\"\"\"","v":"\" \",\"\",\"\",\"\""}]
[{"$f":"\"\"\" \"& 'BX Language acquisition'!A3726 & \"\"\",\"\"\" & 'BX Language acquisition'!C3726 & \"\"\",\"\"\" & 'BX Language acquisition'!B3726 & \"\"\",\"\"\" & 'BX Language acquisition'!D3726 & \"\"\"\"","v":"\" \",\"\",\"\",\"\""}]
[{"$f":"\"\"\" \"& 'BX Language acquisition'!A3727 & \"\"\",\"\"\" & 'BX Language acquisition'!C3727 & \"\"\",\"\"\" & 'BX Language acquisition'!B3727 & \"\"\",\"\"\" & 'BX Language acquisition'!D3727 & \"\"\"\"","v":"\" \",\"\",\"\",\"\""}]
[{"$f":"\"\"\" \"& 'BX Language acquisition'!A3728 & \"\"\",\"\"\" & 'BX Language acquisition'!C3728 & \"\"\",\"\"\" & 'BX Language acquisition'!B3728 & \"\"\",\"\"\" & 'BX Language acquisition'!D3728 & \"\"\"\"","v":"\" \",\"\",\"\",\"\""}]
[{"$f":"\"\"\" \"& 'BX Language acquisition'!A3729 & \"\"\",\"\"\" & 'BX Language acquisition'!C3729 & \"\"\",\"\"\" & 'BX Language acquisition'!B3729 & \"\"\",\"\"\" & 'BX Language acquisition'!D3729 & \"\"\"\"","v":"\" \",\"\",\"\",\"\""}]
[{"$f":"\"\"\" \"& 'BX Language acquisition'!A3730 & \"\"\",\"\"\" & 'BX Language acquisition'!C3730 & \"\"\",\"\"\" & 'BX Language acquisition'!B3730 & \"\"\",\"\"\" & 'BX Language acquisition'!D3730 & \"\"\"\"","v":"\" \",\"\",\"\",\"\""}]
[{"$f":"\"\"\" \"& 'BX Language acquisition'!A3731 & \"\"\",\"\"\" & 'BX Language acquisition'!C3731 & \"\"\",\"\"\" & 'BX Language acquisition'!B3731 & \"\"\",\"\"\" & 'BX Language acquisition'!D3731 & \"\"\"\"","v":"\" \",\"\",\"\",\"\""}]
[{"$f":"\"\"\" \"& 'BX Language acquisition'!A3732 & \"\"\",\"\"\" & 'BX Language acquisition'!C3732 & \"\"\",\"\"\" & 'BX Language acquisition'!B3732 & \"\"\",\"\"\" & 'BX Language acquisition'!D3732 & \"\"\"\"","v":"\" \",\"\",\"\",\"\""}]
[{"$f":"\"\"\" \"& 'BX Language acquisition'!A3733 & \"\"\",\"\"\" & 'BX Language acquisition'!C3733 & \"\"\",\"\"\" & 'BX Language acquisition'!B3733 & \"\"\",\"\"\" & 'BX Language acquisition'!D3733 & \"\"\"\"","v":"\" \",\"\",\"\",\"\""}]
[{"$f":"\"\"\" \"& 'BX Language acquisition'!A3734 & \"\"\",\"\"\" & 'BX Language acquisition'!C3734 & \"\"\",\"\"\" & 'BX Language acquisition'!B3734 & \"\"\",\"\"\" & 'BX Language acquisition'!D3734 & \"\"\"\"","v":"\" \",\"\",\"\",\"\""}]
[{"$f":"\"\"\" \"& 'BX Language acquisition'!A3735 & \"\"\",\"\"\" & 'BX Language acquisition'!C3735 & \"\"\",\"\"\" & 'BX Language acquisition'!B3735 & \"\"\",\"\"\" & 'BX Language acquisition'!D3735 & \"\"\"\"","v":"\" \",\"\",\"\",\"\""}]
[{"$f":"\"\"\" \"& 'BX Language acquisition'!A3736 & \"\"\",\"\"\" & 'BX Language acquisition'!C3736 & \"\"\",\"\"\" & 'BX Language acquisition'!B3736 & \"\"\",\"\"\" & 'BX Language acquisition'!D3736 & \"\"\"\"","v":"\" \",\"\",\"\",\"\""}]
[{"$f":"\"\"\" \"& 'BX Language acquisition'!A3737 & \"\"\",\"\"\" & 'BX Language acquisition'!C3737 & \"\"\",\"\"\" & 'BX Language acquisition'!B3737 & \"\"\",\"\"\" & 'BX Language acquisition'!D3737 & \"\"\"\"","v":"\" \",\"\",\"\",\"\""}]
[{"$f":"\"\"\" \"& 'BX Language acquisition'!A3738 & \"\"\",\"\"\" & 'BX Language acquisition'!C3738 & \"\"\",\"\"\" & 'BX Language acquisition'!B3738 & \"\"\",\"\"\" & 'BX Language acquisition'!D3738 & \"\"\"\"","v":"\" \",\"\",\"\",\"\""}]
[{"$f":"\"\"\" \"& 'BX Language acquisition'!A3739 & \"\"\",\"\"\" & 'BX Language acquisition'!C3739 & \"\"\",\"\"\" & 'BX Language acquisition'!B3739 & \"\"\",\"\"\" & 'BX Language acquisition'!D3739 & \"\"\"\"","v":"\" \",\"\",\"\",\"\""}]
[{"$f":"\"\"\" \"& 'BX Language acquisition'!A3740 & \"\"\",\"\"\" & 'BX Language acquisition'!C3740 & \"\"\",\"\"\" & 'BX Language acquisition'!B3740 & \"\"\",\"\"\" & 'BX Language acquisition'!D3740 & \"\"\"\"","v":"\" \",\"\",\"\",\"\""}]
[{"$f":"\"\"\" \"& 'BX Language acquisition'!A3741 & \"\"\",\"\"\" & 'BX Language acquisition'!C3741 & \"\"\",\"\"\" & 'BX Language acquisition'!B3741 & \"\"\",\"\"\" & 'BX Language acquisition'!D3741 & \"\"\"\"","v":"\" \",\"\",\"\",\"\""}]
[{"$f":"\"\"\" \"& 'BX Language acquisition'!A3742 & \"\"\",\"\"\" & 'BX Language acquisition'!C3742 & \"\"\",\"\"\" & 'BX Language acquisition'!B3742 & \"\"\",\"\"\" & 'BX Language acquisition'!D3742 & \"\"\"\"","v":"\" \",\"\",\"\",\"\""}]
[{"$f":"\"\"\" \"& 'BX Language acquisition'!A3743 & \"\"\",\"\"\" & 'BX Language acquisition'!C3743 & \"\"\",\"\"\" & 'BX Language acquisition'!B3743 & \"\"\",\"\"\" & 'BX Language acquisition'!D3743 & \"\"\"\"","v":"\" \",\"\",\"\",\"\""}]
[{"$f":"\"\"\" \"& 'BX Language acquisition'!A3744 & \"\"\",\"\"\" & 'BX Language acquisition'!C3744 & \"\"\",\"\"\" & 'BX Language acquisition'!B3744 & \"\"\",\"\"\" & 'BX Language acquisition'!D3744 & \"\"\"\"","v":"\" \",\"\",\"\",\"\""}]
[{"$f":"\"\"\" \"& 'BX Language acquisition'!A3745 & \"\"\",\"\"\" & 'BX Language acquisition'!C3745 & \"\"\",\"\"\" & 'BX Language acquisition'!B3745 & \"\"\",\"\"\" & 'BX Language acquisition'!D3745 & \"\"\"\"","v":"\" \",\"\",\"\",\"\""}]
[{"$f":"\"\"\" \"& 'BX Language acquisition'!A3746 & \"\"\",\"\"\" & 'BX Language acquisition'!C3746 & \"\"\",\"\"\" & 'BX Language acquisition'!B3746 & \"\"\",\"\"\" & 'BX Language acquisition'!D3746 & \"\"\"\"","v":"\" \",\"\",\"\",\"\""}]
[{"$f":"\"\"\" \"& 'BX Language acquisition'!A3747 & \"\"\",\"\"\" & 'BX Language acquisition'!C3747 & \"\"\",\"\"\" & 'BX Language acquisition'!B3747 & \"\"\",\"\"\" & 'BX Language acquisition'!D3747 & \"\"\"\"","v":"\" \",\"\",\"\",\"\""}]
[{"$f":"\"\"\" \"& 'BX Language acquisition'!A3748 & \"\"\",\"\"\" & 'BX Language acquisition'!C3748 & \"\"\",\"\"\" & 'BX Language acquisition'!B3748 & \"\"\",\"\"\" & 'BX Language acquisition'!D3748 & \"\"\"\"","v":"\" \",\"\",\"\",\"\""}]
[{"$f":"\"\"\" \"& 'BX Language acquisition'!A3749 & \"\"\",\"\"\" & 'BX Language acquisition'!C3749 & \"\"\",\"\"\" & 'BX Language acquisition'!B3749 & \"\"\",\"\"\" & 'BX Language acquisition'!D3749 & \"\"\"\"","v":"\" \",\"\",\"\",\"\""}]
[{"$f":"\"\"\" \"& 'BX Language acquisition'!A3750 & \"\"\",\"\"\" & 'BX Language acquisition'!C3750 & \"\"\",\"\"\" & 'BX Language acquisition'!B3750 & \"\"\",\"\"\" & 'BX Language acquisition'!D3750 & \"\"\"\"","v":"\" \",\"\",\"\",\"\""}]
[{"$f":"\"\"\" \"& 'BX Language acquisition'!A3751 & \"\"\",\"\"\" & 'BX Language acquisition'!C3751 & \"\"\",\"\"\" & 'BX Language acquisition'!B3751 & \"\"\",\"\"\" & 'BX Language acquisition'!D3751 & \"\"\"\"","v":"\" \",\"\",\"\",\"\""}]
[{"$f":"\"\"\" \"& 'BX Language acquisition'!A3752 & \"\"\",\"\"\" & 'BX Language acquisition'!C3752 & \"\"\",\"\"\" & 'BX Language acquisition'!B3752 & \"\"\",\"\"\" & 'BX Language acquisition'!D3752 & \"\"\"\"","v":"\" \",\"\",\"\",\"\""}]
[{"$f":"\"\"\" \"& 'BX Language acquisition'!A3753 & \"\"\",\"\"\" & 'BX Language acquisition'!C3753 & \"\"\",\"\"\" & 'BX Language acquisition'!B3753 & \"\"\",\"\"\" & 'BX Language acquisition'!D3753 & \"\"\"\"","v":"\" \",\"\",\"\",\"\""}]
[{"$f":"\"\"\" \"& 'BX Language acquisition'!A3754 & \"\"\",\"\"\" & 'BX Language acquisition'!C3754 & \"\"\",\"\"\" & 'BX Language acquisition'!B3754 & \"\"\",\"\"\" & 'BX Language acquisition'!D3754 & \"\"\"\"","v":"\" \",\"\",\"\",\"\""}]
[{"$f":"\"\"\" \"& 'BX Language acquisition'!A3755 & \"\"\",\"\"\" & 'BX Language acquisition'!C3755 & \"\"\",\"\"\" & 'BX Language acquisition'!B3755 & \"\"\",\"\"\" & 'BX Language acquisition'!D3755 & \"\"\"\"","v":"\" \",\"\",\"\",\"\""}]
[{"$f":"\"\"\" \"& 'BX Language acquisition'!A3756 & \"\"\",\"\"\" & 'BX Language acquisition'!C3756 & \"\"\",\"\"\" & 'BX Language acquisition'!B3756 & \"\"\",\"\"\" & 'BX Language acquisition'!D3756 & \"\"\"\"","v":"\" \",\"\",\"\",\"\""}]
[{"$f":"\"\"\" \"& 'BX Language acquisition'!A3757 & \"\"\",\"\"\" & 'BX Language acquisition'!C3757 & \"\"\",\"\"\" & 'BX Language acquisition'!B3757 & \"\"\",\"\"\" & 'BX Language acquisition'!D3757 & \"\"\"\"","v":"\" \",\"\",\"\",\"\""}]
[{"$f":"\"\"\" \"& 'BX Language acquisition'!A3758 & \"\"\",\"\"\" & 'BX Language acquisition'!C3758 & \"\"\",\"\"\" & 'BX Language acquisition'!B3758 & \"\"\",\"\"\" & 'BX Language acquisition'!D3758 & \"\"\"\"","v":"\" \",\"\",\"\",\"\""}]
[{"$f":"\"\"\" \"& 'BX Language acquisition'!A3759 & \"\"\",\"\"\" & 'BX Language acquisition'!C3759 & \"\"\",\"\"\" & 'BX Language acquisition'!B3759 & \"\"\",\"\"\" & 'BX Language acquisition'!D3759 & \"\"\"\"","v":"\" \",\"\",\"\",\"\""}]
[{"$f":"\"\"\" \"& 'BX Language acquisition'!A3760 & \"\"\",\"\"\" & 'BX Language acquisition'!C3760 & \"\"\",\"\"\" & 'BX Language acquisition'!B3760 & \"\"\",\"\"\" & 'BX Language acquisition'!D3760 & \"\"\"\"","v":"\" \",\"\",\"\",\"\""}]
[{"$f":"\"\"\" \"& 'BX Language acquisition'!A3761 & \"\"\",\"\"\" & 'BX Language acquisition'!C3761 & \"\"\",\"\"\" & 'BX Language acquisition'!B3761 & \"\"\",\"\"\" & 'BX Language acquisition'!D3761 & \"\"\"\"","v":"\" \",\"\",\"\",\"\""}]
[{"$f":"\"\"\" \"& 'BX Language acquisition'!A3762 & \"\"\",\"\"\" & 'BX Language acquisition'!C3762 & \"\"\",\"\"\" & 'BX Language acquisition'!B3762 & \"\"\",\"\"\" & 'BX Language acquisition'!D3762 & \"\"\"\"","v":"\" \",\"\",\"\",\"\""}]
[{"$f":"\"\"\" \"& 'BX Language acquisition'!A3763 & \"\"\",\"\"\" & 'BX Language acquisition'!C3763 & \"\"\",\"\"\" & 'BX Language acquisition'!B3763 & \"\"\",\"\"\" & 'BX Language acquisition'!D3763 & \"\"\"\"","v":"\" \",\"\",\"\",\"\""}]
[{"$f":"\"\"\" \"& 'BX Language acquisition'!A3764 & \"\"\",\"\"\" & 'BX Language acquisition'!C3764 & \"\"\",\"\"\" & 'BX Language acquisition'!B3764 & \"\"\",\"\"\" & 'BX Language acquisition'!D3764 & \"\"\"\"","v":"\" \",\"\",\"\",\"\""}]
[{"$f":"\"\"\" \"& 'BX Language acquisition'!A3765 & \"\"\",\"\"\" & 'BX Language acquisition'!C3765 & \"\"\",\"\"\" & 'BX Language acquisition'!B3765 & \"\"\",\"\"\" & 'BX Language acquisition'!D3765 & \"\"\"\"","v":"\" \",\"\",\"\",\"\""}]
[{"$f":"\"\"\" \"& 'BX Language acquisition'!A3766 & \"\"\",\"\"\" & 'BX Language acquisition'!C3766 & \"\"\",\"\"\" & 'BX Language acquisition'!B3766 & \"\"\",\"\"\" & 'BX Language acquisition'!D3766 & \"\"\"\"","v":"\" \",\"\",\"\",\"\""}]
[{"$f":"\"\"\" \"& 'BX Language acquisition'!A3767 & \"\"\",\"\"\" & 'BX Language acquisition'!C3767 & \"\"\",\"\"\" & 'BX Language acquisition'!B3767 & \"\"\",\"\"\" & 'BX Language acquisition'!D3767 & \"\"\"\"","v":"\" \",\"\",\"\",\"\""}]
[{"$f":"\"\"\" \"& 'BX Language acquisition'!A3768 & \"\"\",\"\"\" & 'BX Language acquisition'!C3768 & \"\"\",\"\"\" & 'BX Language acquisition'!B3768 & \"\"\",\"\"\" & 'BX Language acquisition'!D3768 & \"\"\"\"","v":"\" \",\"\",\"\",\"\""}]
[{"$f":"\"\"\" \"& 'BX Language acquisition'!A3769 & \"\"\",\"\"\" & 'BX Language acquisition'!C3769 & \"\"\",\"\"\" & 'BX Language acquisition'!B3769 & \"\"\",\"\"\" & 'BX Language acquisition'!D3769 & \"\"\"\"","v":"\" \",\"\",\"\",\"\""}]
[{"$f":"\"\"\" \"& 'BX Language acquisition'!A3770 & \"\"\",\"\"\" & 'BX Language acquisition'!C3770 & \"\"\",\"\"\" & 'BX Language acquisition'!B3770 & \"\"\",\"\"\" & 'BX Language acquisition'!D3770 & \"\"\"\"","v":"\" \",\"\",\"\",\"\""}]
[{"$f":"\"\"\" \"& 'BX Language acquisition'!A3771 & \"\"\",\"\"\" & 'BX Language acquisition'!C3771 & \"\"\",\"\"\" & 'BX Language acquisition'!B3771 & \"\"\",\"\"\" & 'BX Language acquisition'!D3771 & \"\"\"\"","v":"\" \",\"\",\"\",\"\""}]
[{"$f":"\"\"\" \"& 'BX Language acquisition'!A3772 & \"\"\",\"\"\" & 'BX Language acquisition'!C3772 & \"\"\",\"\"\" & 'BX Language acquisition'!B3772 & \"\"\",\"\"\" & 'BX Language acquisition'!D3772 & \"\"\"\"","v":"\" \",\"\",\"\",\"\""}]
[{"$f":"\"\"\" \"& 'BX Language acquisition'!A3773 & \"\"\",\"\"\" & 'BX Language acquisition'!C3773 & \"\"\",\"\"\" & 'BX Language acquisition'!B3773 & \"\"\",\"\"\" & 'BX Language acquisition'!D3773 & \"\"\"\"","v":"\" \",\"\",\"\",\"\""}]
[{"$f":"\"\"\" \"& 'BX Language acquisition'!A3774 & \"\"\",\"\"\" & 'BX Language acquisition'!C3774 & \"\"\",\"\"\" & 'BX Language acquisition'!B3774 & \"\"\",\"\"\" & 'BX Language acquisition'!D3774 & \"\"\"\"","v":"\" \",\"\",\"\",\"\""}]
[{"$f":"\"\"\" \"& 'BX Language acquisition'!A3775 & \"\"\",\"\"\" & 'BX Language acquisition'!C3775 & \"\"\",\"\"\" & 'BX Language acquisition'!B3775 & \"\"\",\"\"\" & 'BX Language acquisition'!D3775 & \"\"\"\"","v":"\" \",\"\",\"\",\"\""}]
[{"$f":"\"\"\" \"& 'BX Language acquisition'!A3776 & \"\"\",\"\"\" & 'BX Language acquisition'!C3776 & \"\"\",\"\"\" & 'BX Language acquisition'!B3776 & \"\"\",\"\"\" & 'BX Language acquisition'!D3776 & \"\"\"\"","v":"\" \",\"\",\"\",\"\""}]
[{"$f":"\"\"\" \"& 'BX Language acquisition'!A3777 & \"\"\",\"\"\" & 'BX Language acquisition'!C3777 & \"\"\",\"\"\" & 'BX Language acquisition'!B3777 & \"\"\",\"\"\" & 'BX Language acquisition'!D3777 & \"\"\"\"","v":"\" \",\"\",\"\",\"\""}]
[{"$f":"\"\"\" \"& 'BX Language acquisition'!A3778 & \"\"\",\"\"\" & 'BX Language acquisition'!C3778 & \"\"\",\"\"\" & 'BX Language acquisition'!B3778 & \"\"\",\"\"\" & 'BX Language acquisition'!D3778 & \"\"\"\"","v":"\" \",\"\",\"\",\"\""}]
[{"$f":"\"\"\" \"& 'BX Language acquisition'!A3779 & \"\"\",\"\"\" & 'BX Language acquisition'!C3779 & \"\"\",\"\"\" & 'BX Language acquisition'!B3779 & \"\"\",\"\"\" & 'BX Language acquisition'!D3779 & \"\"\"\"","v":"\" \",\"\",\"\",\"\""}]
[{"$f":"\"\"\" \"& 'BX Language acquisition'!A3780 & \"\"\",\"\"\" & 'BX Language acquisition'!C3780 & \"\"\",\"\"\" & 'BX Language acquisition'!B3780 & \"\"\",\"\"\" & 'BX Language acquisition'!D3780 & \"\"\"\"","v":"\" \",\"\",\"\",\"\""}]
[{"$f":"\"\"\" \"& 'BX Language acquisition'!A3781 & \"\"\",\"\"\" & 'BX Language acquisition'!C3781 & \"\"\",\"\"\" & 'BX Language acquisition'!B3781 & \"\"\",\"\"\" & 'BX Language acquisition'!D3781 & \"\"\"\"","v":"\" \",\"\",\"\",\"\""}]
[{"$f":"\"\"\" \"& 'BX Language acquisition'!A3782 & \"\"\",\"\"\" & 'BX Language acquisition'!C3782 & \"\"\",\"\"\" & 'BX Language acquisition'!B3782 & \"\"\",\"\"\" & 'BX Language acquisition'!D3782 & \"\"\"\"","v":"\" \",\"\",\"\",\"\""}]
[{"$f":"\"\"\" \"& 'BX Language acquisition'!A3783 & \"\"\",\"\"\" & 'BX Language acquisition'!C3783 & \"\"\",\"\"\" & 'BX Language acquisition'!B3783 & \"\"\",\"\"\" & 'BX Language acquisition'!D3783 & \"\"\"\"","v":"\" \",\"\",\"\",\"\""}]
[{"$f":"\"\"\" \"& 'BX Language acquisition'!A3784 & \"\"\",\"\"\" & 'BX Language acquisition'!C3784 & \"\"\",\"\"\" & 'BX Language acquisition'!B3784 & \"\"\",\"\"\" & 'BX Language acquisition'!D3784 & \"\"\"\"","v":"\" \",\"\",\"\",\"\""}]
[{"$f":"\"\"\" \"& 'BX Language acquisition'!A3785 & \"\"\",\"\"\" & 'BX Language acquisition'!C3785 & \"\"\",\"\"\" & 'BX Language acquisition'!B3785 & \"\"\",\"\"\" & 'BX Language acquisition'!D3785 & \"\"\"\"","v":"\" \",\"\",\"\",\"\""}]
[{"$f":"\"\"\" \"& 'BX Language acquisition'!A3786 & \"\"\",\"\"\" & 'BX Language acquisition'!C3786 & \"\"\",\"\"\" & 'BX Language acquisition'!B3786 & \"\"\",\"\"\" & 'BX Language acquisition'!D3786 & \"\"\"\"","v":"\" \",\"\",\"\",\"\""}]
[{"$f":"\"\"\" \"& 'BX Language acquisition'!A3787 & \"\"\",\"\"\" & 'BX Language acquisition'!C3787 & \"\"\",\"\"\" & 'BX Language acquisition'!B3787 & \"\"\",\"\"\" & 'BX Language acquisition'!D3787 & \"\"\"\"","v":"\" \",\"\",\"\",\"\""}]
[{"$f":"\"\"\" \"& 'BX Language acquisition'!A3788 & \"\"\",\"\"\" & 'BX Language acquisition'!C3788 & \"\"\",\"\"\" & 'BX Language acquisition'!B3788 & \"\"\",\"\"\" & 'BX Language acquisition'!D3788 & \"\"\"\"","v":"\" \",\"\",\"\",\"\""}]
[{"$f":"\"\"\" \"& 'BX Language acquisition'!A3789 & \"\"\",\"\"\" & 'BX Language acquisition'!C3789 & \"\"\",\"\"\" & 'BX Language acquisition'!B3789 & \"\"\",\"\"\" & 'BX Language acquisition'!D3789 & \"\"\"\"","v":"\" \",\"\",\"\",\"\""}]
[{"$f":"\"\"\" \"& 'BX Language acquisition'!A3790 & \"\"\",\"\"\" & 'BX Language acquisition'!C3790 & \"\"\",\"\"\" & 'BX Language acquisition'!B3790 & \"\"\",\"\"\" & 'BX Language acquisition'!D3790 & \"\"\"\"","v":"\" \",\"\",\"\",\"\""}]
[{"$f":"\"\"\" \"& 'BX Language acquisition'!A3791 & \"\"\",\"\"\" & 'BX Language acquisition'!C3791 & \"\"\",\"\"\" & 'BX Language acquisition'!B3791 & \"\"\",\"\"\" & 'BX Language acquisition'!D3791 & \"\"\"\"","v":"\" \",\"\",\"\",\"\""}]
[{"$f":"\"\"\" \"& 'BX Language acquisition'!A3792 & \"\"\",\"\"\" & 'BX Language acquisition'!C3792 & \"\"\",\"\"\" & 'BX Language acquisition'!B3792 & \"\"\",\"\"\" & 'BX Language acquisition'!D3792 & \"\"\"\"","v":"\" \",\"\",\"\",\"\""}]
[{"$f":"\"\"\" \"& 'BX Language acquisition'!A3793 & \"\"\",\"\"\" & 'BX Language acquisition'!C3793 & \"\"\",\"\"\" & 'BX Language acquisition'!B3793 & \"\"\",\"\"\" & 'BX Language acquisition'!D3793 & \"\"\"\"","v":"\" \",\"\",\"\",\"\""}]
[{"$f":"\"\"\" \"& 'BX Language acquisition'!A3794 & \"\"\",\"\"\" & 'BX Language acquisition'!C3794 & \"\"\",\"\"\" & 'BX Language acquisition'!B3794 & \"\"\",\"\"\" & 'BX Language acquisition'!D3794 & \"\"\"\"","v":"\" \",\"\",\"\",\"\""}]
[{"$f":"\"\"\" \"& 'BX Language acquisition'!A3795 & \"\"\",\"\"\" & 'BX Language acquisition'!C3795 & \"\"\",\"\"\" & 'BX Language acquisition'!B3795 & \"\"\",\"\"\" & 'BX Language acquisition'!D3795 & \"\"\"\"","v":"\" \",\"\",\"\",\"\""}]
[{"$f":"\"\"\" \"& 'BX Language acquisition'!A3796 & \"\"\",\"\"\" & 'BX Language acquisition'!C3796 & \"\"\",\"\"\" & 'BX Language acquisition'!B3796 & \"\"\",\"\"\" & 'BX Language acquisition'!D3796 & \"\"\"\"","v":"\" \",\"\",\"\",\"\""}]
[{"$f":"\"\"\" \"& 'BX Language acquisition'!A3797 & \"\"\",\"\"\" & 'BX Language acquisition'!C3797 & \"\"\",\"\"\" & 'BX Language acquisition'!B3797 & \"\"\",\"\"\" & 'BX Language acquisition'!D3797 & \"\"\"\"","v":"\" \",\"\",\"\",\"\""}]
[{"$f":"\"\"\" \"& 'BX Language acquisition'!A3798 & \"\"\",\"\"\" & 'BX Language acquisition'!C3798 & \"\"\",\"\"\" & 'BX Language acquisition'!B3798 & \"\"\",\"\"\" & 'BX Language acquisition'!D3798 & \"\"\"\"","v":"\" \",\"\",\"\",\"\""}]
[{"$f":"\"\"\" \"& 'BX Language acquisition'!A3799 & \"\"\",\"\"\" & 'BX Language acquisition'!C3799 & \"\"\",\"\"\" & 'BX Language acquisition'!B3799 & \"\"\",\"\"\" & 'BX Language acquisition'!D3799 & \"\"\"\"","v":"\" \",\"\",\"\",\"\""}]
[{"$f":"\"\"\" \"& 'BX Language acquisition'!A3800 & \"\"\",\"\"\" & 'BX Language acquisition'!C3800 & \"\"\",\"\"\" & 'BX Language acquisition'!B3800 & \"\"\",\"\"\" & 'BX Language acquisition'!D3800 & \"\"\"\"","v":"\" \",\"\",\"\",\"\""}]
[{"$f":"\"\"\" \"& 'BX Language acquisition'!A3801 & \"\"\",\"\"\" & 'BX Language acquisition'!C3801 & \"\"\",\"\"\" & 'BX Language acquisition'!B3801 & \"\"\",\"\"\" & 'BX Language acquisition'!D3801 & \"\"\"\"","v":"\" \",\"\",\"\",\"\""}]
[{"$f":"\"\"\" \"& 'BX Language acquisition'!A3802 & \"\"\",\"\"\" & 'BX Language acquisition'!C3802 & \"\"\",\"\"\" & 'BX Language acquisition'!B3802 & \"\"\",\"\"\" & 'BX Language acquisition'!D3802 & \"\"\"\"","v":"\" \",\"\",\"\",\"\""}]
[{"$f":"\"\"\" \"& 'BX Language acquisition'!A3803 & \"\"\",\"\"\" & 'BX Language acquisition'!C3803 & \"\"\",\"\"\" & 'BX Language acquisition'!B3803 & \"\"\",\"\"\" & 'BX Language acquisition'!D3803 & \"\"\"\"","v":"\" \",\"\",\"\",\"\""}]
[{"$f":"\"\"\" \"& 'BX Language acquisition'!A3804 & \"\"\",\"\"\" & 'BX Language acquisition'!C3804 & \"\"\",\"\"\" & 'BX Language acquisition'!B3804 & \"\"\",\"\"\" & 'BX Language acquisition'!D3804 & \"\"\"\"","v":"\" \",\"\",\"\",\"\""}]
[{"$f":"\"\"\" \"& 'BX Language acquisition'!A3805 & \"\"\",\"\"\" & 'BX Language acquisition'!C3805 & \"\"\",\"\"\" & 'BX Language acquisition'!B3805 & \"\"\",\"\"\" & 'BX Language acquisition'!D3805 & \"\"\"\"","v":"\" \",\"\",\"\",\"\""}]
[{"$f":"\"\"\" \"& 'BX Language acquisition'!A3806 & \"\"\",\"\"\" & 'BX Language acquisition'!C3806 & \"\"\",\"\"\" & 'BX Language acquisition'!B3806 & \"\"\",\"\"\" & 'BX Language acquisition'!D3806 & \"\"\"\"","v":"\" \",\"\",\"\",\"\""}]
[{"$f":"\"\"\" \"& 'BX Language acquisition'!A3807 & \"\"\",\"\"\" & 'BX Language acquisition'!C3807 & \"\"\",\"\"\" & 'BX Language acquisition'!B3807 & \"\"\",\"\"\" & 'BX Language acquisition'!D3807 & \"\"\"\"","v":"\" \",\"\",\"\",\"\""}]
[{"$f":"\"\"\" \"& 'BX Language acquisition'!A3808 & \"\"\",\"\"\" & 'BX Language acquisition'!C3808 & \"\"\",\"\"\" & 'BX Language acquisition'!B3808 & \"\"\",\"\"\" & 'BX Language acquisition'!D3808 & \"\"\"\"","v":"\" \",\"\",\"\",\"\""}]
[{"$f":"\"\"\" \"& 'BX Language acquisition'!A3809 & \"\"\",\"\"\" & 'BX Language acquisition'!C3809 & \"\"\",\"\"\" & 'BX Language acquisition'!B3809 & \"\"\",\"\"\" & 'BX Language acquisition'!D3809 & \"\"\"\"","v":"\" \",\"\",\"\",\"\""}]
[{"$f":"\"\"\" \"& 'BX Language acquisition'!A3810 & \"\"\",\"\"\" & 'BX Language acquisition'!C3810 & \"\"\",\"\"\" & 'BX Language acquisition'!B3810 & \"\"\",\"\"\" & 'BX Language acquisition'!D3810 & \"\"\"\"","v":"\" \",\"\",\"\",\"\""}]
[{"$f":"\"\"\" \"& 'BX Language acquisition'!A3811 & \"\"\",\"\"\" & 'BX Language acquisition'!C3811 & \"\"\",\"\"\" & 'BX Language acquisition'!B3811 & \"\"\",\"\"\" & 'BX Language acquisition'!D3811 & \"\"\"\"","v":"\" \",\"\",\"\",\"\""}]
[{"$f":"\"\"\" \"& 'BX Language acquisition'!A3812 & \"\"\",\"\"\" & 'BX Language acquisition'!C3812 & \"\"\",\"\"\" & 'BX Language acquisition'!B3812 & \"\"\",\"\"\" & 'BX Language acquisition'!D3812 & \"\"\"\"","v":"\" \",\"\",\"\",\"\""}]
[{"$f":"\"\"\" \"& 'BX Language acquisition'!A3813 & \"\"\",\"\"\" & 'BX Language acquisition'!C3813 & \"\"\",\"\"\" & 'BX Language acquisition'!B3813 & \"\"\",\"\"\" & 'BX Language acquisition'!D3813 & \"\"\"\"","v":"\" \",\"\",\"\",\"\""}]
[{"$f":"\"\"\" \"& 'BX Language acquisition'!A3814 & \"\"\",\"\"\" & 'BX Language acquisition'!C3814 & \"\"\",\"\"\" & 'BX Language acquisition'!B3814 & \"\"\",\"\"\" & 'BX Language acquisition'!D3814 & \"\"\"\"","v":"\" \",\"\",\"\",\"\""}]
[{"$f":"\"\"\" \"& 'BX Language acquisition'!A3815 & \"\"\",\"\"\" & 'BX Language acquisition'!C3815 & \"\"\",\"\"\" & 'BX Language acquisition'!B3815 & \"\"\",\"\"\" & 'BX Language acquisition'!D3815 & \"\"\"\"","v":"\" \",\"\",\"\",\"\""}]
[{"$f":"\"\"\" \"& 'BX Language acquisition'!A3816 & \"\"\",\"\"\" & 'BX Language acquisition'!C3816 & \"\"\",\"\"\" & 'BX Language acquisition'!B3816 & \"\"\",\"\"\" & 'BX Language acquisition'!D3816 & \"\"\"\"","v":"\" \",\"\",\"\",\"\""}]
[{"$f":"\"\"\" \"& 'BX Language acquisition'!A3817 & \"\"\",\"\"\" & 'BX Language acquisition'!C3817 & \"\"\",\"\"\" & 'BX Language acquisition'!B3817 & \"\"\",\"\"\" & 'BX Language acquisition'!D3817 & \"\"\"\"","v":"\" \",\"\",\"\",\"\""}]
[{"$f":"\"\"\" \"& 'BX Language acquisition'!A3818 & \"\"\",\"\"\" & 'BX Language acquisition'!C3818 & \"\"\",\"\"\" & 'BX Language acquisition'!B3818 & \"\"\",\"\"\" & 'BX Language acquisition'!D3818 & \"\"\"\"","v":"\" \",\"\",\"\",\"\""}]
[{"$f":"\"\"\" \"& 'BX Language acquisition'!A3819 & \"\"\",\"\"\" & 'BX Language acquisition'!C3819 & \"\"\",\"\"\" & 'BX Language acquisition'!B3819 & \"\"\",\"\"\" & 'BX Language acquisition'!D3819 & \"\"\"\"","v":"\" \",\"\",\"\",\"\""}]
[{"$f":"\"\"\" \"& 'BX Language acquisition'!A3820 & \"\"\",\"\"\" & 'BX Language acquisition'!C3820 & \"\"\",\"\"\" & 'BX Language acquisition'!B3820 & \"\"\",\"\"\" & 'BX Language acquisition'!D3820 & \"\"\"\"","v":"\" \",\"\",\"\",\"\""}]
[{"$f":"\"\"\" \"& 'BX Language acquisition'!A3821 & \"\"\",\"\"\" & 'BX Language acquisition'!C3821 & \"\"\",\"\"\" & 'BX Language acquisition'!B3821 & \"\"\",\"\"\" & 'BX Language acquisition'!D3821 & \"\"\"\"","v":"\" \",\"\",\"\",\"\""}]
[{"$f":"\"\"\" \"& 'BX Language acquisition'!A3822 & \"\"\",\"\"\" & 'BX Language acquisition'!C3822 & \"\"\",\"\"\" & 'BX Language acquisition'!B3822 & \"\"\",\"\"\" & 'BX Language acquisition'!D3822 & \"\"\"\"","v":"\" \",\"\",\"\",\"\""}]
[{"$f":"\"\"\" \"& 'BX Language acquisition'!A3823 & \"\"\",\"\"\" & 'BX Language acquisition'!C3823 & \"\"\",\"\"\" & 'BX Language acquisition'!B3823 & \"\"\",\"\"\" & 'BX Language acquisition'!D3823 & \"\"\"\"","v":"\" \",\"\",\"\",\"\""}]
[{"$f":"\"\"\" \"& 'BX Language acquisition'!A3824 & \"\"\",\"\"\" & 'BX Language acquisition'!C3824 & \"\"\",\"\"\" & 'BX Language acquisition'!B3824 & \"\"\",\"\"\" & 'BX Language acquisition'!D3824 & \"\"\"\"","v":"\" \",\"\",\"\",\"\""}]
[{"$f":"\"\"\" \"& 'BX Language acquisition'!A3825 & \"\"\",\"\"\" & 'BX Language acquisition'!C3825 & \"\"\",\"\"\" & 'BX Language acquisition'!B3825 & \"\"\",\"\"\" & 'BX Language acquisition'!D3825 & \"\"\"\"","v":"\" \",\"\",\"\",\"\""}]
[{"$f":"\"\"\" \"& 'BX Language acquisition'!A3826 & \"\"\",\"\"\" & 'BX Language acquisition'!C3826 & \"\"\",\"\"\" & 'BX Language acquisition'!B3826 & \"\"\",\"\"\" & 'BX Language acquisition'!D3826 & \"\"\"\"","v":"\" \",\"\",\"\",\"\""}]
[{"$f":"\"\"\" \"& 'BX Language acquisition'!A3827 & \"\"\",\"\"\" & 'BX Language acquisition'!C3827 & \"\"\",\"\"\" & 'BX Language acquisition'!B3827 & \"\"\",\"\"\" & 'BX Language acquisition'!D3827 & \"\"\"\"","v":"\" \",\"\",\"\",\"\""}]
[{"$f":"\"\"\" \"& 'BX Language acquisition'!A3828 & \"\"\",\"\"\" & 'BX Language acquisition'!C3828 & \"\"\",\"\"\" & 'BX Language acquisition'!B3828 & \"\"\",\"\"\" & 'BX Language acquisition'!D3828 & \"\"\"\"","v":"\" \",\"\",\"\",\"\""}]
[{"$f":"\"\"\" \"& 'BX Language acquisition'!A3829 & \"\"\",\"\"\" & 'BX Language acquisition'!C3829 & \"\"\",\"\"\" & 'BX Language acquisition'!B3829 & \"\"\",\"\"\" & 'BX Language acquisition'!D3829 & \"\"\"\"","v":"\" \",\"\",\"\",\"\""}]
[{"$f":"\"\"\" \"& 'BX Language acquisition'!A3830 & \"\"\",\"\"\" & 'BX Language acquisition'!C3830 & \"\"\",\"\"\" & 'BX Language acquisition'!B3830 & \"\"\",\"\"\" & 'BX Language acquisition'!D3830 & \"\"\"\"","v":"\" \",\"\",\"\",\"\""}]
[{"$f":"\"\"\" \"& 'BX Language acquisition'!A3831 & \"\"\",\"\"\" & 'BX Language acquisition'!C3831 & \"\"\",\"\"\" & 'BX Language acquisition'!B3831 & \"\"\",\"\"\" & 'BX Language acquisition'!D3831 & \"\"\"\"","v":"\" \",\"\",\"\",\"\""}]
[{"$f":"\"\"\" \"& 'BX Language acquisition'!A3832 & \"\"\",\"\"\" & 'BX Language acquisition'!C3832 & \"\"\",\"\"\" & 'BX Language acquisition'!B3832 & \"\"\",\"\"\" & 'BX Language acquisition'!D3832 & \"\"\"\"","v":"\" \",\"\",\"\",\"\""}]
[{"$f":"\"\"\" \"& 'BX Language acquisition'!A3833 & \"\"\",\"\"\" & 'BX Language acquisition'!C3833 & \"\"\",\"\"\" & 'BX Language acquisition'!B3833 & \"\"\",\"\"\" & 'BX Language acquisition'!D3833 & \"\"\"\"","v":"\" \",\"\",\"\",\"\""}]
[{"$f":"\"\"\" \"& 'BX Language acquisition'!A3834 & \"\"\",\"\"\" & 'BX Language acquisition'!C3834 & \"\"\",\"\"\" & 'BX Language acquisition'!B3834 & \"\"\",\"\"\" & 'BX Language acquisition'!D3834 & \"\"\"\"","v":"\" \",\"\",\"\",\"\""}]
[{"$f":"\"\"\" \"& 'BX Language acquisition'!A3835 & \"\"\",\"\"\" & 'BX Language acquisition'!C3835 & \"\"\",\"\"\" & 'BX Language acquisition'!B3835 & \"\"\",\"\"\" & 'BX Language acquisition'!D3835 & \"\"\"\"","v":"\" \",\"\",\"\",\"\""}]
[{"$f":"\"\"\" \"& 'BX Language acquisition'!A3836 & \"\"\",\"\"\" & 'BX Language acquisition'!C3836 & \"\"\",\"\"\" & 'BX Language acquisition'!B3836 & \"\"\",\"\"\" & 'BX Language acquisition'!D3836 & \"\"\"\"","v":"\" \",\"\",\"\",\"\""}]
[{"$f":"\"\"\" \"& 'BX Language acquisition'!A3837 & \"\"\",\"\"\" & 'BX Language acquisition'!C3837 & \"\"\",\"\"\" & 'BX Language acquisition'!B3837 & \"\"\",\"\"\" & 'BX Language acquisition'!D3837 & \"\"\"\"","v":"\" \",\"\",\"\",\"\""}]
[{"$f":"\"\"\" \"& 'BX Language acquisition'!A3838 & \"\"\",\"\"\" & 'BX Language acquisition'!C3838 & \"\"\",\"\"\" & 'BX Language acquisition'!B3838 & \"\"\",\"\"\" & 'BX Language acquisition'!D3838 & \"\"\"\"","v":"\" \",\"\",\"\",\"\""}]
[{"$f":"\"\"\" \"& 'BX Language acquisition'!A3839 & \"\"\",\"\"\" & 'BX Language acquisition'!C3839 & \"\"\",\"\"\" & 'BX Language acquisition'!B3839 & \"\"\",\"\"\" & 'BX Language acquisition'!D3839 & \"\"\"\"","v":"\" \",\"\",\"\",\"\""}]
[{"$f":"\"\"\" \"& 'BX Language acquisition'!A3840 & \"\"\",\"\"\" & 'BX Language acquisition'!C3840 & \"\"\",\"\"\" & 'BX Language acquisition'!B3840 & \"\"\",\"\"\" & 'BX Language acquisition'!D3840 & \"\"\"\"","v":"\" \",\"\",\"\",\"\""}]
[{"$f":"\"\"\" \"& 'BX Language acquisition'!A3841 & \"\"\",\"\"\" & 'BX Language acquisition'!C3841 & \"\"\",\"\"\" & 'BX Language acquisition'!B3841 & \"\"\",\"\"\" & 'BX Language acquisition'!D3841 & \"\"\"\"","v":"\" \",\"\",\"\",\"\""}]
[{"$f":"\"\"\" \"& 'BX Language acquisition'!A3842 & \"\"\",\"\"\" & 'BX Language acquisition'!C3842 & \"\"\",\"\"\" & 'BX Language acquisition'!B3842 & \"\"\",\"\"\" & 'BX Language acquisition'!D3842 & \"\"\"\"","v":"\" \",\"\",\"\",\"\""}]
[{"$f":"\"\"\" \"& 'BX Language acquisition'!A3843 & \"\"\",\"\"\" & 'BX Language acquisition'!C3843 & \"\"\",\"\"\" & 'BX Language acquisition'!B3843 & \"\"\",\"\"\" & 'BX Language acquisition'!D3843 & \"\"\"\"","v":"\" \",\"\",\"\",\"\""}]
[{"$f":"\"\"\" \"& 'BX Language acquisition'!A3844 & \"\"\",\"\"\" & 'BX Language acquisition'!C3844 & \"\"\",\"\"\" & 'BX Language acquisition'!B3844 & \"\"\",\"\"\" & 'BX Language acquisition'!D3844 & \"\"\"\"","v":"\" \",\"\",\"\",\"\""}]
[{"$f":"\"\"\" \"& 'BX Language acquisition'!A3845 & \"\"\",\"\"\" & 'BX Language acquisition'!C3845 & \"\"\",\"\"\" & 'BX Language acquisition'!B3845 & \"\"\",\"\"\" & 'BX Language acquisition'!D3845 & \"\"\"\"","v":"\" \",\"\",\"\",\"\""}]
[{"$f":"\"\"\" \"& 'BX Language acquisition'!A3846 & \"\"\",\"\"\" & 'BX Language acquisition'!C3846 & \"\"\",\"\"\" & 'BX Language acquisition'!B3846 & \"\"\",\"\"\" & 'BX Language acquisition'!D3846 & \"\"\"\"","v":"\" \",\"\",\"\",\"\""}]
[{"$f":"\"\"\" \"& 'BX Language acquisition'!A3847 & \"\"\",\"\"\" & 'BX Language acquisition'!C3847 & \"\"\",\"\"\" & 'BX Language acquisition'!B3847 & \"\"\",\"\"\" & 'BX Language acquisition'!D3847 & \"\"\"\"","v":"\" \",\"\",\"\",\"\""}]
[{"$f":"\"\"\" \"& 'BX Language acquisition'!A3848 & \"\"\",\"\"\" & 'BX Language acquisition'!C3848 & \"\"\",\"\"\" & 'BX Language acquisition'!B3848 & \"\"\",\"\"\" & 'BX Language acquisition'!D3848 & \"\"\"\"","v":"\" \",\"\",\"\",\"\""}]
[{"$f":"\"\"\" \"& 'BX Language acquisition'!A3849 & \"\"\",\"\"\" & 'BX Language acquisition'!C3849 & \"\"\",\"\"\" & 'BX Language acquisition'!B3849 & \"\"\",\"\"\" & 'BX Language acquisition'!D3849 & \"\"\"\"","v":"\" \",\"\",\"\",\"\""}]
[{"$f":"\"\"\" \"& 'BX Language acquisition'!A3850 & \"\"\",\"\"\" & 'BX Language acquisition'!C3850 & \"\"\",\"\"\" & 'BX Language acquisition'!B3850 & \"\"\",\"\"\" & 'BX Language acquisition'!D3850 & \"\"\"\"","v":"\" \",\"\",\"\",\"\""}]
[{"$f":"\"\"\" \"& 'BX Language acquisition'!A3851 & \"\"\",\"\"\" & 'BX Language acquisition'!C3851 & \"\"\",\"\"\" & 'BX Language acquisition'!B3851 & \"\"\",\"\"\" & 'BX Language acquisition'!D3851 & \"\"\"\"","v":"\" \",\"\",\"\",\"\""}]
[{"$f":"\"\"\" \"& 'BX Language acquisition'!A3852 & \"\"\",\"\"\" & 'BX Language acquisition'!C3852 & \"\"\",\"\"\" & 'BX Language acquisition'!B3852 & \"\"\",\"\"\" & 'BX Language acquisition'!D3852 & \"\"\"\"","v":"\" \",\"\",\"\",\"\""}]
[{"$f":"\"\"\" \"& 'BX Language acquisition'!A3853 & \"\"\",\"\"\" & 'BX Language acquisition'!C3853 & \"\"\",\"\"\" & 'BX Language acquisition'!B3853 & \"\"\",\"\"\" & 'BX Language acquisition'!D3853 & \"\"\"\"","v":"\" \",\"\",\"\",\"\""}]
[{"$f":"\"\"\" \"& 'BX Language acquisition'!A3854 & \"\"\",\"\"\" & 'BX Language acquisition'!C3854 & \"\"\",\"\"\" & 'BX Language acquisition'!B3854 & \"\"\",\"\"\" & 'BX Language acquisition'!D3854 & \"\"\"\"","v":"\" \",\"\",\"\",\"\""}]
[{"$f":"\"\"\" \"& 'BX Language acquisition'!A3855 & \"\"\",\"\"\" & 'BX Language acquisition'!C3855 & \"\"\",\"\"\" & 'BX Language acquisition'!B3855 & \"\"\",\"\"\" & 'BX Language acquisition'!D3855 & \"\"\"\"","v":"\" \",\"\",\"\",\"\""}]
[{"$f":"\"\"\" \"& 'BX Language acquisition'!A3856 & \"\"\",\"\"\" & 'BX Language acquisition'!C3856 & \"\"\",\"\"\" & 'BX Language acquisition'!B3856 & \"\"\",\"\"\" & 'BX Language acquisition'!D3856 & \"\"\"\"","v":"\" \",\"\",\"\",\"\""}]
[{"$f":"\"\"\" \"& 'BX Language acquisition'!A3857 & \"\"\",\"\"\" & 'BX Language acquisition'!C3857 & \"\"\",\"\"\" & 'BX Language acquisition'!B3857 & \"\"\",\"\"\" & 'BX Language acquisition'!D3857 & \"\"\"\"","v":"\" \",\"\",\"\",\"\""}]
[{"$f":"\"\"\" \"& 'BX Language acquisition'!A3858 & \"\"\",\"\"\" & 'BX Language acquisition'!C3858 & \"\"\",\"\"\" & 'BX Language acquisition'!B3858 & \"\"\",\"\"\" & 'BX Language acquisition'!D3858 & \"\"\"\"","v":"\" \",\"\",\"\",\"\""}]
[{"$f":"\"\"\" \"& 'BX Language acquisition'!A3859 & \"\"\",\"\"\" & 'BX Language acquisition'!C3859 & \"\"\",\"\"\" & 'BX Language acquisition'!B3859 & \"\"\",\"\"\" & 'BX Language acquisition'!D3859 & \"\"\"\"","v":"\" \",\"\",\"\",\"\""}]
[{"$f":"\"\"\" \"& 'BX Language acquisition'!A3860 & \"\"\",\"\"\" & 'BX Language acquisition'!C3860 & \"\"\",\"\"\" & 'BX Language acquisition'!B3860 & \"\"\",\"\"\" & 'BX Language acquisition'!D3860 & \"\"\"\"","v":"\" \",\"\",\"\",\"\""}]
[{"$f":"\"\"\" \"& 'BX Language acquisition'!A3861 & \"\"\",\"\"\" & 'BX Language acquisition'!C3861 & \"\"\",\"\"\" & 'BX Language acquisition'!B3861 & \"\"\",\"\"\" & 'BX Language acquisition'!D3861 & \"\"\"\"","v":"\" \",\"\",\"\",\"\""}]
[{"$f":"\"\"\" \"& 'BX Language acquisition'!A3862 & \"\"\",\"\"\" & 'BX Language acquisition'!C3862 & \"\"\",\"\"\" & 'BX Language acquisition'!B3862 & \"\"\",\"\"\" & 'BX Language acquisition'!D3862 & \"\"\"\"","v":"\" \",\"\",\"\",\"\""}]
[{"$f":"\"\"\" \"& 'BX Language acquisition'!A3863 & \"\"\",\"\"\" & 'BX Language acquisition'!C3863 & \"\"\",\"\"\" & 'BX Language acquisition'!B3863 & \"\"\",\"\"\" & 'BX Language acquisition'!D3863 & \"\"\"\"","v":"\" \",\"\",\"\",\"\""}]
[{"$f":"\"\"\" \"& 'BX Language acquisition'!A3864 & \"\"\",\"\"\" & 'BX Language acquisition'!C3864 & \"\"\",\"\"\" & 'BX Language acquisition'!B3864 & \"\"\",\"\"\" & 'BX Language acquisition'!D3864 & \"\"\"\"","v":"\" \",\"\",\"\",\"\""}]
[{"$f":"\"\"\" \"& 'BX Language acquisition'!A3865 & \"\"\",\"\"\" & 'BX Language acquisition'!C3865 & \"\"\",\"\"\" & 'BX Language acquisition'!B3865 & \"\"\",\"\"\" & 'BX Language acquisition'!D3865 & \"\"\"\"","v":"\" \",\"\",\"\",\"\""}]
[{"$f":"\"\"\" \"& 'BX Language acquisition'!A3866 & \"\"\",\"\"\" & 'BX Language acquisition'!C3866 & \"\"\",\"\"\" & 'BX Language acquisition'!B3866 & \"\"\",\"\"\" & 'BX Language acquisition'!D3866 & \"\"\"\"","v":"\" \",\"\",\"\",\"\""}]
[{"$f":"\"\"\" \"& 'BX Language acquisition'!A3867 & \"\"\",\"\"\" & 'BX Language acquisition'!C3867 & \"\"\",\"\"\" & 'BX Language acquisition'!B3867 & \"\"\",\"\"\" & 'BX Language acquisition'!D3867 & \"\"\"\"","v":"\" \",\"\",\"\",\"\""}]
[{"$f":"\"\"\" \"& 'BX Language acquisition'!A3868 & \"\"\",\"\"\" & 'BX Language acquisition'!C3868 & \"\"\",\"\"\" & 'BX Language acquisition'!B3868 & \"\"\",\"\"\" & 'BX Language acquisition'!D3868 & \"\"\"\"","v":"\" \",\"\",\"\",\"\""}]
[{"$f":"\"\"\" \"& 'BX Language acquisition'!A3869 & \"\"\",\"\"\" & 'BX Language acquisition'!C3869 & \"\"\",\"\"\" & 'BX Language acquisition'!B3869 & \"\"\",\"\"\" & 'BX Language acquisition'!D3869 & \"\"\"\"","v":"\" \",\"\",\"\",\"\""}]
[{"$f":"\"\"\" \"& 'BX Language acquisition'!A3870 & \"\"\",\"\"\" & 'BX Language acquisition'!C3870 & \"\"\",\"\"\" & 'BX Language acquisition'!B3870 & \"\"\",\"\"\" & 'BX Language acquisition'!D3870 & \"\"\"\"","v":"\" \",\"\",\"\",\"\""}]
[{"$f":"\"\"\" \"& 'BX Language acquisition'!A3871 & \"\"\",\"\"\" & 'BX Language acquisition'!C3871 & \"\"\",\"\"\" & 'BX Language acquisition'!B3871 & \"\"\",\"\"\" & 'BX Language acquisition'!D3871 & \"\"\"\"","v":"\" \",\"\",\"\",\"\""}]
[{"$f":"\"\"\" \"& 'BX Language acquisition'!A3872 & \"\"\",\"\"\" & 'BX Language acquisition'!C3872 & \"\"\",\"\"\" & 'BX Language acquisition'!B3872 & \"\"\",\"\"\" & 'BX Language acquisition'!D3872 & \"\"\"\"","v":"\" \",\"\",\"\",\"\""}]
[{"$f":"\"\"\" \"& 'BX Language acquisition'!A3873 & \"\"\",\"\"\" & 'BX Language acquisition'!C3873 & \"\"\",\"\"\" & 'BX Language acquisition'!B3873 & \"\"\",\"\"\" & 'BX Language acquisition'!D3873 & \"\"\"\"","v":"\" \",\"\",\"\",\"\""}]
[{"$f":"\"\"\" \"& 'BX Language acquisition'!A3874 & \"\"\",\"\"\" & 'BX Language acquisition'!C3874 & \"\"\",\"\"\" & 'BX Language acquisition'!B3874 & \"\"\",\"\"\" & 'BX Language acquisition'!D3874 & \"\"\"\"","v":"\" \",\"\",\"\",\"\""}]
[{"$f":"\"\"\" \"& 'BX Language acquisition'!A3875 & \"\"\",\"\"\" & 'BX Language acquisition'!C3875 & \"\"\",\"\"\" & 'BX Language acquisition'!B3875 & \"\"\",\"\"\" & 'BX Language acquisition'!D3875 & \"\"\"\"","v":"\" \",\"\",\"\",\"\""}]
[{"$f":"\"\"\" \"& 'BX Language acquisition'!A3876 & \"\"\",\"\"\" & 'BX Language acquisition'!C3876 & \"\"\",\"\"\" & 'BX Language acquisition'!B3876 & \"\"\",\"\"\" & 'BX Language acquisition'!D3876 & \"\"\"\"","v":"\" \",\"\",\"\",\"\""}]
[{"$f":"\"\"\" \"& 'BX Language acquisition'!A3877 & \"\"\",\"\"\" & 'BX Language acquisition'!C3877 & \"\"\",\"\"\" & 'BX Language acquisition'!B3877 & \"\"\",\"\"\" & 'BX Language acquisition'!D3877 & \"\"\"\"","v":"\" \",\"\",\"\",\"\""}]
[{"$f":"\"\"\" \"& 'BX Language acquisition'!A3878 & \"\"\",\"\"\" & 'BX Language acquisition'!C3878 & \"\"\",\"\"\" & 'BX Language acquisition'!B3878 & \"\"\",\"\"\" & 'BX Language acquisition'!D3878 & \"\"\"\"","v":"\" \",\"\",\"\",\"\""}]
[{"$f":"\"\"\" \"& 'BX Language acquisition'!A3879 & \"\"\",\"\"\" & 'BX Language acquisition'!C3879 & \"\"\",\"\"\" & 'BX Language acquisition'!B3879 & \"\"\",\"\"\" & 'BX Language acquisition'!D3879 & \"\"\"\"","v":"\" \",\"\",\"\",\"\""}]
[{"$f":"\"\"\" \"& 'BX Language acquisition'!A3880 & \"\"\",\"\"\" & 'BX Language acquisition'!C3880 & \"\"\",\"\"\" & 'BX Language acquisition'!B3880 & \"\"\",\"\"\" & 'BX Language acquisition'!D3880 & \"\"\"\"","v":"\" \",\"\",\"\",\"\""}]
[{"$f":"\"\"\" \"& 'BX Language acquisition'!A3881 & \"\"\",\"\"\" & 'BX Language acquisition'!C3881 & \"\"\",\"\"\" & 'BX Language acquisition'!B3881 & \"\"\",\"\"\" & 'BX Language acquisition'!D3881 & \"\"\"\"","v":"\" \",\"\",\"\",\"\""}]
[{"$f":"\"\"\" \"& 'BX Language acquisition'!A3882 & \"\"\",\"\"\" & 'BX Language acquisition'!C3882 & \"\"\",\"\"\" & 'BX Language acquisition'!B3882 & \"\"\",\"\"\" & 'BX Language acquisition'!D3882 & \"\"\"\"","v":"\" \",\"\",\"\",\"\""}]
[{"$f":"\"\"\" \"& 'BX Language acquisition'!A3883 & \"\"\",\"\"\" & 'BX Language acquisition'!C3883 & \"\"\",\"\"\" & 'BX Language acquisition'!B3883 & \"\"\",\"\"\" & 'BX Language acquisition'!D3883 & \"\"\"\"","v":"\" \",\"\",\"\",\"\""}]
[{"$f":"\"\"\" \"& 'BX Language acquisition'!A3884 & \"\"\",\"\"\" & 'BX Language acquisition'!C3884 & \"\"\",\"\"\" & 'BX Language acquisition'!B3884 & \"\"\",\"\"\" & 'BX Language acquisition'!D3884 & \"\"\"\"","v":"\" \",\"\",\"\",\"\""}]
[{"$f":"\"\"\" \"& 'BX Language acquisition'!A3885 & \"\"\",\"\"\" & 'BX Language acquisition'!C3885 & \"\"\",\"\"\" & 'BX Language acquisition'!B3885 & \"\"\",\"\"\" & 'BX Language acquisition'!D3885 & \"\"\"\"","v":"\" \",\"\",\"\",\"\""}]
[{"$f":"\"\"\" \"& 'BX Language acquisition'!A3886 & \"\"\",\"\"\" & 'BX Language acquisition'!C3886 & \"\"\",\"\"\" & 'BX Language acquisition'!B3886 & \"\"\",\"\"\" & 'BX Language acquisition'!D3886 & \"\"\"\"","v":"\" \",\"\",\"\",\"\""}]
[{"$f":"\"\"\" \"& 'BX Language acquisition'!A3887 & \"\"\",\"\"\" & 'BX Language acquisition'!C3887 & \"\"\",\"\"\" & 'BX Language acquisition'!B3887 & \"\"\",\"\"\" & 'BX Language acquisition'!D3887 & \"\"\"\"","v":"\" \",\"\",\"\",\"\""}]
[{"$f":"\"\"\" \"& 'BX Language acquisition'!A3888 & \"\"\",\"\"\" & 'BX Language acquisition'!C3888 & \"\"\",\"\"\" & 'BX Language acquisition'!B3888 & \"\"\",\"\"\" & 'BX Language acquisition'!D3888 & \"\"\"\"","v":"\" \",\"\",\"\",\"\""}]
[{"$f":"\"\"\" \"& 'BX Language acquisition'!A3889 & \"\"\",\"\"\" & 'BX Language acquisition'!C3889 & \"\"\",\"\"\" & 'BX Language acquisition'!B3889 & \"\"\",\"\"\" & 'BX Language acquisition'!D3889 & \"\"\"\"","v":"\" \",\"\",\"\",\"\""}]
[{"$f":"\"\"\" \"& 'BX Language acquisition'!A3890 & \"\"\",\"\"\" & 'BX Language acquisition'!C3890 & \"\"\",\"\"\" & 'BX Language acquisition'!B3890 & \"\"\",\"\"\" & 'BX Language acquisition'!D3890 & \"\"\"\"","v":"\" \",\"\",\"\",\"\""}]
[{"$f":"\"\"\" \"& 'BX Language acquisition'!A3891 & \"\"\",\"\"\" & 'BX Language acquisition'!C3891 & \"\"\",\"\"\" & 'BX Language acquisition'!B3891 & \"\"\",\"\"\" & 'BX Language acquisition'!D3891 & \"\"\"\"","v":"\" \",\"\",\"\",\"\""}]
[{"$f":"\"\"\" \"& 'BX Language acquisition'!A3892 & \"\"\",\"\"\" & 'BX Language acquisition'!C3892 & \"\"\",\"\"\" & 'BX Language acquisition'!B3892 & \"\"\",\"\"\" & 'BX Language acquisition'!D3892 & \"\"\"\"","v":"\" \",\"\",\"\",\"\""}]
[{"$f":"\"\"\" \"& 'BX Language acquisition'!A3893 & \"\"\",\"\"\" & 'BX Language acquisition'!C3893 & \"\"\",\"\"\" & 'BX Language acquisition'!B3893 & \"\"\",\"\"\" & 'BX Language acquisition'!D3893 & \"\"\"\"","v":"\" \",\"\",\"\",\"\""}]
[{"$f":"\"\"\" \"& 'BX Language acquisition'!A3894 & \"\"\",\"\"\" & 'BX Language acquisition'!C3894 & \"\"\",\"\"\" & 'BX Language acquisition'!B3894 & \"\"\",\"\"\" & 'BX Language acquisition'!D3894 & \"\"\"\"","v":"\" \",\"\",\"\",\"\""}]
[{"$f":"\"\"\" \"& 'BX Language acquisition'!A3895 & \"\"\",\"\"\" & 'BX Language acquisition'!C3895 & \"\"\",\"\"\" & 'BX Language acquisition'!B3895 & \"\"\",\"\"\" & 'BX Language acquisition'!D3895 & \"\"\"\"","v":"\" \",\"\",\"\",\"\""}]
[{"$f":"\"\"\" \"& 'BX Language acquisition'!A3896 & \"\"\",\"\"\" & 'BX Language acquisition'!C3896 & \"\"\",\"\"\" & 'BX Language acquisition'!B3896 & \"\"\",\"\"\" & 'BX Language acquisition'!D3896 & \"\"\"\"","v":"\" \",\"\",\"\",\"\""}]
[{"$f":"\"\"\" \"& 'BX Language acquisition'!A3897 & \"\"\",\"\"\" & 'BX Language acquisition'!C3897 & \"\"\",\"\"\" & 'BX Language acquisition'!B3897 & \"\"\",\"\"\" & 'BX Language acquisition'!D3897 & \"\"\"\"","v":"\" \",\"\",\"\",\"\""}]
[{"$f":"\"\"\" \"& 'BX Language acquisition'!A3898 & \"\"\",\"\"\" & 'BX Language acquisition'!C3898 & \"\"\",\"\"\" & 'BX Language acquisition'!B3898 & \"\"\",\"\"\" & 'BX Language acquisition'!D3898 & \"\"\"\"","v":"\" \",\"\",\"\",\"\""}]
[{"$f":"\"\"\" \"& 'BX Language acquisition'!A3899 & \"\"\",\"\"\" & 'BX Language acquisition'!C3899 & \"\"\",\"\"\" & 'BX Language acquisition'!B3899 & \"\"\",\"\"\" & 'BX Language acquisition'!D3899 & \"\"\"\"","v":"\" \",\"\",\"\",\"\""}]
[{"$f":"\"\"\" \"& 'BX Language acquisition'!A3900 & \"\"\",\"\"\" & 'BX Language acquisition'!C3900 & \"\"\",\"\"\" & 'BX Language acquisition'!B3900 & \"\"\",\"\"\" & 'BX Language acquisition'!D3900 & \"\"\"\"","v":"\" \",\"\",\"\",\"\""}]
[{"$f":"\"\"\" \"& 'BX Language acquisition'!A3901 & \"\"\",\"\"\" & 'BX Language acquisition'!C3901 & \"\"\",\"\"\" & 'BX Language acquisition'!B3901 & \"\"\",\"\"\" & 'BX Language acquisition'!D3901 & \"\"\"\"","v":"\" \",\"\",\"\",\"\""}]
[{"$f":"\"\"\" \"& 'BX Language acquisition'!A3902 & \"\"\",\"\"\" & 'BX Language acquisition'!C3902 & \"\"\",\"\"\" & 'BX Language acquisition'!B3902 & \"\"\",\"\"\" & 'BX Language acquisition'!D3902 & \"\"\"\"","v":"\" \",\"\",\"\",\"\""}]
[{"$f":"\"\"\" \"& 'BX Language acquisition'!A3903 & \"\"\",\"\"\" & 'BX Language acquisition'!C3903 & \"\"\",\"\"\" & 'BX Language acquisition'!B3903 & \"\"\",\"\"\" & 'BX Language acquisition'!D3903 & \"\"\"\"","v":"\" \",\"\",\"\",\"\""}]
[{"$f":"\"\"\" \"& 'BX Language acquisition'!A3904 & \"\"\",\"\"\" & 'BX Language acquisition'!C3904 & \"\"\",\"\"\" & 'BX Language acquisition'!B3904 & \"\"\",\"\"\" & 'BX Language acquisition'!D3904 & \"\"\"\"","v":"\" \",\"\",\"\",\"\""}]
[{"$f":"\"\"\" \"& 'BX Language acquisition'!A3905 & \"\"\",\"\"\" & 'BX Language acquisition'!C3905 & \"\"\",\"\"\" & 'BX Language acquisition'!B3905 & \"\"\",\"\"\" & 'BX Language acquisition'!D3905 & \"\"\"\"","v":"\" \",\"\",\"\",\"\""}]
[{"$f":"\"\"\" \"& 'BX Language acquisition'!A3906 & \"\"\",\"\"\" & 'BX Language acquisition'!C3906 & \"\"\",\"\"\" & 'BX Language acquisition'!B3906 & \"\"\",\"\"\" & 'BX Language acquisition'!D3906 & \"\"\"\"","v":"\" \",\"\",\"\",\"\""}]
[{"$f":"\"\"\" \"& 'BX Language acquisition'!A3907 & \"\"\",\"\"\" & 'BX Language acquisition'!C3907 & \"\"\",\"\"\" & 'BX Language acquisition'!B3907 & \"\"\",\"\"\" & 'BX Language acquisition'!D3907 & \"\"\"\"","v":"\" \",\"\",\"\",\"\""}]
[{"$f":"\"\"\" \"& 'BX Language acquisition'!A3908 & \"\"\",\"\"\" & 'BX Language acquisition'!C3908 & \"\"\",\"\"\" & 'BX Language acquisition'!B3908 & \"\"\",\"\"\" & 'BX Language acquisition'!D3908 & \"\"\"\"","v":"\" \",\"\",\"\",\"\""}]
[{"$f":"\"\"\" \"& 'BX Language acquisition'!A3909 & \"\"\",\"\"\" & 'BX Language acquisition'!C3909 & \"\"\",\"\"\" & 'BX Language acquisition'!B3909 & \"\"\",\"\"\" & 'BX Language acquisition'!D3909 & \"\"\"\"","v":"\" \",\"\",\"\",\"\""}]
[{"$f":"\"\"\" \"& 'BX Language acquisition'!A3910 & \"\"\",\"\"\" & 'BX Language acquisition'!C3910 & \"\"\",\"\"\" & 'BX Language acquisition'!B3910 & \"\"\",\"\"\" & 'BX Language acquisition'!D3910 & \"\"\"\"","v":"\" \",\"\",\"\",\"\""}]
[{"$f":"\"\"\" \"& 'BX Language acquisition'!A3911 & \"\"\",\"\"\" & 'BX Language acquisition'!C3911 & \"\"\",\"\"\" & 'BX Language acquisition'!B3911 & \"\"\",\"\"\" & 'BX Language acquisition'!D3911 & \"\"\"\"","v":"\" \",\"\",\"\",\"\""}]
[{"$f":"\"\"\" \"& 'BX Language acquisition'!A3912 & \"\"\",\"\"\" & 'BX Language acquisition'!C3912 & \"\"\",\"\"\" & 'BX Language acquisition'!B3912 & \"\"\",\"\"\" & 'BX Language acquisition'!D3912 & \"\"\"\"","v":"\" \",\"\",\"\",\"\""}]
[{"$f":"\"\"\" \"& 'BX Language acquisition'!A3913 & \"\"\",\"\"\" & 'BX Language acquisition'!C3913 & \"\"\",\"\"\" & 'BX Language acquisition'!B3913 & \"\"\",\"\"\" & 'BX Language acquisition'!D3913 & \"\"\"\"","v":"\" \",\"\",\"\",\"\""}]
[{"$f":"\"\"\" \"& 'BX Language acquisition'!A3914 & \"\"\",\"\"\" & 'BX Language acquisition'!C3914 & \"\"\",\"\"\" & 'BX Language acquisition'!B3914 & \"\"\",\"\"\" & 'BX Language acquisition'!D3914 & \"\"\"\"","v":"\" \",\"\",\"\",\"\""}]
[{"$f":"\"\"\" \"& 'BX Language acquisition'!A3915 & \"\"\",\"\"\" & 'BX Language acquisition'!C3915 & \"\"\",\"\"\" & 'BX Language acquisition'!B3915 & \"\"\",\"\"\" & 'BX Language acquisition'!D3915 & \"\"\"\"","v":"\" \",\"\",\"\",\"\""}]
[{"$f":"\"\"\" \"& 'BX Language acquisition'!A3916 & \"\"\",\"\"\" & 'BX Language acquisition'!C3916 & \"\"\",\"\"\" & 'BX Language acquisition'!B3916 & \"\"\",\"\"\" & 'BX Language acquisition'!D3916 & \"\"\"\"","v":"\" \",\"\",\"\",\"\""}]
[{"$f":"\"\"\" \"& 'BX Language acquisition'!A3917 & \"\"\",\"\"\" & 'BX Language acquisition'!C3917 & \"\"\",\"\"\" & 'BX Language acquisition'!B3917 & \"\"\",\"\"\" & 'BX Language acquisition'!D3917 & \"\"\"\"","v":"\" \",\"\",\"\",\"\""}]
[{"$f":"\"\"\" \"& 'BX Language acquisition'!A3918 & \"\"\",\"\"\" & 'BX Language acquisition'!C3918 & \"\"\",\"\"\" & 'BX Language acquisition'!B3918 & \"\"\",\"\"\" & 'BX Language acquisition'!D3918 & \"\"\"\"","v":"\" \",\"\",\"\",\"\""}]
[{"$f":"\"\"\" \"& 'BX Language acquisition'!A3919 & \"\"\",\"\"\" & 'BX Language acquisition'!C3919 & \"\"\",\"\"\" & 'BX Language acquisition'!B3919 & \"\"\",\"\"\" & 'BX Language acquisition'!D3919 & \"\"\"\"","v":"\" \",\"\",\"\",\"\""}]
[{"$f":"\"\"\" \"& 'BX Language acquisition'!A3920 & \"\"\",\"\"\" & 'BX Language acquisition'!C3920 & \"\"\",\"\"\" & 'BX Language acquisition'!B3920 & \"\"\",\"\"\" & 'BX Language acquisition'!D3920 & \"\"\"\"","v":"\" \",\"\",\"\",\"\""}]
[{"$f":"\"\"\" \"& 'BX Language acquisition'!A3921 & \"\"\",\"\"\" & 'BX Language acquisition'!C3921 & \"\"\",\"\"\" & 'BX Language acquisition'!B3921 & \"\"\",\"\"\" & 'BX Language acquisition'!D3921 & \"\"\"\"","v":"\" \",\"\",\"\",\"\""}]
[{"$f":"\"\"\" \"& 'BX Language acquisition'!A3922 & \"\"\",\"\"\" & 'BX Language acquisition'!C3922 & \"\"\",\"\"\" & 'BX Language acquisition'!B3922 & \"\"\",\"\"\" & 'BX Language acquisition'!D3922 & \"\"\"\"","v":"\" \",\"\",\"\",\"\""}]
[{"$f":"\"\"\" \"& 'BX Language acquisition'!A3923 & \"\"\",\"\"\" & 'BX Language acquisition'!C3923 & \"\"\",\"\"\" & 'BX Language acquisition'!B3923 & \"\"\",\"\"\" & 'BX Language acquisition'!D3923 & \"\"\"\"","v":"\" \",\"\",\"\",\"\""}]
[{"$f":"\"\"\" \"& 'BX Language acquisition'!A3924 & \"\"\",\"\"\" & 'BX Language acquisition'!C3924 & \"\"\",\"\"\" & 'BX Language acquisition'!B3924 & \"\"\",\"\"\" & 'BX Language acquisition'!D3924 & \"\"\"\"","v":"\" \",\"\",\"\",\"\""}]
[{"$f":"\"\"\" \"& 'BX Language acquisition'!A3925 & \"\"\",\"\"\" & 'BX Language acquisition'!C3925 & \"\"\",\"\"\" & 'BX Language acquisition'!B3925 & \"\"\",\"\"\" & 'BX Language acquisition'!D3925 & \"\"\"\"","v":"\" \",\"\",\"\",\"\""}]
[{"$f":"\"\"\" \"& 'BX Language acquisition'!A3926 & \"\"\",\"\"\" & 'BX Language acquisition'!C3926 & \"\"\",\"\"\" & 'BX Language acquisition'!B3926 & \"\"\",\"\"\" & 'BX Language acquisition'!D3926 & \"\"\"\"","v":"\" \",\"\",\"\",\"\""}]
[{"$f":"\"\"\" \"& 'BX Language acquisition'!A3927 & \"\"\",\"\"\" & 'BX Language acquisition'!C3927 & \"\"\",\"\"\" & 'BX Language acquisition'!B3927 & \"\"\",\"\"\" & 'BX Language acquisition'!D3927 & \"\"\"\"","v":"\" \",\"\",\"\",\"\""}]
[{"$f":"\"\"\" \"& 'BX Language acquisition'!A3928 & \"\"\",\"\"\" & 'BX Language acquisition'!C3928 & \"\"\",\"\"\" & 'BX Language acquisition'!B3928 & \"\"\",\"\"\" & 'BX Language acquisition'!D3928 & \"\"\"\"","v":"\" \",\"\",\"\",\"\""}]
[{"$f":"\"\"\" \"& 'BX Language acquisition'!A3929 & \"\"\",\"\"\" & 'BX Language acquisition'!C3929 & \"\"\",\"\"\" & 'BX Language acquisition'!B3929 & \"\"\",\"\"\" & 'BX Language acquisition'!D3929 & \"\"\"\"","v":"\" \",\"\",\"\",\"\""}]
[{"$f":"\"\"\" \"& 'BX Language acquisition'!A3930 & \"\"\",\"\"\" & 'BX Language acquisition'!C3930 & \"\"\",\"\"\" & 'BX Language acquisition'!B3930 & \"\"\",\"\"\" & 'BX Language acquisition'!D3930 & \"\"\"\"","v":"\" \",\"\",\"\",\"\""}]
[{"$f":"\"\"\" \"& 'BX Language acquisition'!A3931 & \"\"\",\"\"\" & 'BX Language acquisition'!C3931 & \"\"\",\"\"\" & 'BX Language acquisition'!B3931 & \"\"\",\"\"\" & 'BX Language acquisition'!D3931 & \"\"\"\"","v":"\" \",\"\",\"\",\"\""}]
[{"$f":"\"\"\" \"& 'BX Language acquisition'!A3932 & \"\"\",\"\"\" & 'BX Language acquisition'!C3932 & \"\"\",\"\"\" & 'BX Language acquisition'!B3932 & \"\"\",\"\"\" & 'BX Language acquisition'!D3932 & \"\"\"\"","v":"\" \",\"\",\"\",\"\""}]
[{"$f":"\"\"\" \"& 'BX Language acquisition'!A3933 & \"\"\",\"\"\" & 'BX Language acquisition'!C3933 & \"\"\",\"\"\" & 'BX Language acquisition'!B3933 & \"\"\",\"\"\" & 'BX Language acquisition'!D3933 & \"\"\"\"","v":"\" \",\"\",\"\",\"\""}]
[{"$f":"\"\"\" \"& 'BX Language acquisition'!A3934 & \"\"\",\"\"\" & 'BX Language acquisition'!C3934 & \"\"\",\"\"\" & 'BX Language acquisition'!B3934 & \"\"\",\"\"\" & 'BX Language acquisition'!D3934 & \"\"\"\"","v":"\" \",\"\",\"\",\"\""}]
[{"$f":"\"\"\" \"& 'BX Language acquisition'!A3935 & \"\"\",\"\"\" & 'BX Language acquisition'!C3935 & \"\"\",\"\"\" & 'BX Language acquisition'!B3935 & \"\"\",\"\"\" & 'BX Language acquisition'!D3935 & \"\"\"\"","v":"\" \",\"\",\"\",\"\""}]
[{"$f":"\"\"\" \"& 'BX Language acquisition'!A3936 & \"\"\",\"\"\" & 'BX Language acquisition'!C3936 & \"\"\",\"\"\" & 'BX Language acquisition'!B3936 & \"\"\",\"\"\" & 'BX Language acquisition'!D3936 & \"\"\"\"","v":"\" \",\"\",\"\",\"\""}]
[{"$f":"\"\"\" \"& 'BX Language acquisition'!A3937 & \"\"\",\"\"\" & 'BX Language acquisition'!C3937 & \"\"\",\"\"\" & 'BX Language acquisition'!B3937 & \"\"\",\"\"\" & 'BX Language acquisition'!D3937 & \"\"\"\"","v":"\" \",\"\",\"\",\"\""}]
[{"$f":"\"\"\" \"& 'BX Language acquisition'!A3938 & \"\"\",\"\"\" & 'BX Language acquisition'!C3938 & \"\"\",\"\"\" & 'BX Language acquisition'!B3938 & \"\"\",\"\"\" & 'BX Language acquisition'!D3938 & \"\"\"\"","v":"\" \",\"\",\"\",\"\""}]
[{"$f":"\"\"\" \"& 'BX Language acquisition'!A3939 & \"\"\",\"\"\" & 'BX Language acquisition'!C3939 & \"\"\",\"\"\" & 'BX Language acquisition'!B3939 & \"\"\",\"\"\" & 'BX Language acquisition'!D3939 & \"\"\"\"","v":"\" \",\"\",\"\",\"\""}]
[{"$f":"\"\"\" \"& 'BX Language acquisition'!A3940 & \"\"\",\"\"\" & 'BX Language acquisition'!C3940 & \"\"\",\"\"\" & 'BX Language acquisition'!B3940 & \"\"\",\"\"\" & 'BX Language acquisition'!D3940 & \"\"\"\"","v":"\" \",\"\",\"\",\"\""}]
[{"$f":"\"\"\" \"& 'BX Language acquisition'!A3941 & \"\"\",\"\"\" & 'BX Language acquisition'!C3941 & \"\"\",\"\"\" & 'BX Language acquisition'!B3941 & \"\"\",\"\"\" & 'BX Language acquisition'!D3941 & \"\"\"\"","v":"\" \",\"\",\"\",\"\""}]
[{"$f":"\"\"\" \"& 'BX Language acquisition'!A3942 & \"\"\",\"\"\" & 'BX Language acquisition'!C3942 & \"\"\",\"\"\" & 'BX Language acquisition'!B3942 & \"\"\",\"\"\" & 'BX Language acquisition'!D3942 & \"\"\"\"","v":"\" \",\"\",\"\",\"\""}]
[{"$f":"\"\"\" \"& 'BX Language acquisition'!A3943 & \"\"\",\"\"\" & 'BX Language acquisition'!C3943 & \"\"\",\"\"\" & 'BX Language acquisition'!B3943 & \"\"\",\"\"\" & 'BX Language acquisition'!D3943 & \"\"\"\"","v":"\" \",\"\",\"\",\"\""}]
[{"$f":"\"\"\" \"& 'BX Language acquisition'!A3944 & \"\"\",\"\"\" & 'BX Language acquisition'!C3944 & \"\"\",\"\"\" & 'BX Language acquisition'!B3944 & \"\"\",\"\"\" & 'BX Language acquisition'!D3944 & \"\"\"\"","v":"\" \",\"\",\"\",\"\""}]
[{"$f":"\"\"\" \"& 'BX Language acquisition'!A3945 & \"\"\",\"\"\" & 'BX Language acquisition'!C3945 & \"\"\",\"\"\" & 'BX Language acquisition'!B3945 & \"\"\",\"\"\" & 'BX Language acquisition'!D3945 & \"\"\"\"","v":"\" \",\"\",\"\",\"\""}]
[{"$f":"\"\"\" \"& 'BX Language acquisition'!A3946 & \"\"\",\"\"\" & 'BX Language acquisition'!C3946 & \"\"\",\"\"\" & 'BX Language acquisition'!B3946 & \"\"\",\"\"\" & 'BX Language acquisition'!D3946 & \"\"\"\"","v":"\" \",\"\",\"\",\"\""}]
[{"$f":"\"\"\" \"& 'BX Language acquisition'!A3947 & \"\"\",\"\"\" & 'BX Language acquisition'!C3947 & \"\"\",\"\"\" & 'BX Language acquisition'!B3947 & \"\"\",\"\"\" & 'BX Language acquisition'!D3947 & \"\"\"\"","v":"\" \",\"\",\"\",\"\""}]
[{"$f":"\"\"\" \"& 'BX Language acquisition'!A3948 & \"\"\",\"\"\" & 'BX Language acquisition'!C3948 & \"\"\",\"\"\" & 'BX Language acquisition'!B3948 & \"\"\",\"\"\" & 'BX Language acquisition'!D3948 & \"\"\"\"","v":"\" \",\"\",\"\",\"\""}]
[{"$f":"\"\"\" \"& 'BX Language acquisition'!A3949 & \"\"\",\"\"\" & 'BX Language acquisition'!C3949 & \"\"\",\"\"\" & 'BX Language acquisition'!B3949 & \"\"\",\"\"\" & 'BX Language acquisition'!D3949 & \"\"\"\"","v":"\" \",\"\",\"\",\"\""}]
[{"$f":"\"\"\" \"& 'BX Language acquisition'!A3950 & \"\"\",\"\"\" & 'BX Language acquisition'!C3950 & \"\"\",\"\"\" & 'BX Language acquisition'!B3950 & \"\"\",\"\"\" & 'BX Language acquisition'!D3950 & \"\"\"\"","v":"\" \",\"\",\"\",\"\""}]
[{"$f":"\"\"\" \"& 'BX Language acquisition'!A3951 & \"\"\",\"\"\" & 'BX Language acquisition'!C3951 & \"\"\",\"\"\" & 'BX Language acquisition'!B3951 & \"\"\",\"\"\" & 'BX Language acquisition'!D3951 & \"\"\"\"","v":"\" \",\"\",\"\",\"\""}]
[{"$f":"\"\"\" \"& 'BX Language acquisition'!A3952 & \"\"\",\"\"\" & 'BX Language acquisition'!C3952 & \"\"\",\"\"\" & 'BX Language acquisition'!B3952 & \"\"\",\"\"\" & 'BX Language acquisition'!D3952 & \"\"\"\"","v":"\" \",\"\",\"\",\"\""}]
[{"$f":"\"\"\" \"& 'BX Language acquisition'!A3953 & \"\"\",\"\"\" & 'BX Language acquisition'!C3953 & \"\"\",\"\"\" & 'BX Language acquisition'!B3953 & \"\"\",\"\"\" & 'BX Language acquisition'!D3953 & \"\"\"\"","v":"\" \",\"\",\"\",\"\""}]
[{"$f":"\"\"\" \"& 'BX Language acquisition'!A3954 & \"\"\",\"\"\" & 'BX Language acquisition'!C3954 & \"\"\",\"\"\" & 'BX Language acquisition'!B3954 & \"\"\",\"\"\" & 'BX Language acquisition'!D3954 & \"\"\"\"","v":"\" \",\"\",\"\",\"\""}]
[{"$f":"\"\"\" \"& 'BX Language acquisition'!A3955 & \"\"\",\"\"\" & 'BX Language acquisition'!C3955 & \"\"\",\"\"\" & 'BX Language acquisition'!B3955 & \"\"\",\"\"\" & 'BX Language acquisition'!D3955 & \"\"\"\"","v":"\" \",\"\",\"\",\"\""}]
[{"$f":"\"\"\" \"& 'BX Language acquisition'!A3956 & \"\"\",\"\"\" & 'BX Language acquisition'!C3956 & \"\"\",\"\"\" & 'BX Language acquisition'!B3956 & \"\"\",\"\"\" & 'BX Language acquisition'!D3956 & \"\"\"\"","v":"\" \",\"\",\"\",\"\""}]
[{"$f":"\"\"\" \"& 'BX Language acquisition'!A3957 & \"\"\",\"\"\" & 'BX Language acquisition'!C3957 & \"\"\",\"\"\" & 'BX Language acquisition'!B3957 & \"\"\",\"\"\" & 'BX Language acquisition'!D3957 & \"\"\"\"","v":"\" \",\"\",\"\",\"\""}]
[{"$f":"\"\"\" \"& 'BX Language acquisition'!A3958 & \"\"\",\"\"\" & 'BX Language acquisition'!C3958 & \"\"\",\"\"\" & 'BX Language acquisition'!B3958 & \"\"\",\"\"\" & 'BX Language acquisition'!D3958 & \"\"\"\"","v":"\" \",\"\",\"\",\"\""}]
[{"$f":"\"\"\" \"& 'BX Language acquisition'!A3959 & \"\"\",\"\"\" & 'BX Language acquisition'!C3959 & \"\"\",\"\"\" & 'BX Language acquisition'!B3959 & \"\"\",\"\"\" & 'BX Language acquisition'!D3959 & \"\"\"\"","v":"\" \",\"\",\"\",\"\""}]
[{"$f":"\"\"\" \"& 'BX Language acquisition'!A3960 & \"\"\",\"\"\" & 'BX Language acquisition'!C3960 & \"\"\",\"\"\" & 'BX Language acquisition'!B3960 & \"\"\",\"\"\" & 'BX Language acquisition'!D3960 & \"\"\"\"","v":"\" \",\"\",\"\",\"\""}]
[{"$f":"\"\"\" \"& 'BX Language acquisition'!A3961 & \"\"\",\"\"\" & 'BX Language acquisition'!C3961 & \"\"\",\"\"\" & 'BX Language acquisition'!B3961 & \"\"\",\"\"\" & 'BX Language acquisition'!D3961 & \"\"\"\"","v":"\" \",\"\",\"\",\"\""}]
[{"$f":"\"\"\" \"& 'BX Language acquisition'!A3962 & \"\"\",\"\"\" & 'BX Language acquisition'!C3962 & \"\"\",\"\"\" & 'BX Language acquisition'!B3962 & \"\"\",\"\"\" & 'BX Language acquisition'!D3962 & \"\"\"\"","v":"\" \",\"\",\"\",\"\""}]
[{"$f":"\"\"\" \"& 'BX Language acquisition'!A3963 & \"\"\",\"\"\" & 'BX Language acquisition'!C3963 & \"\"\",\"\"\" & 'BX Language acquisition'!B3963 & \"\"\",\"\"\" & 'BX Language acquisition'!D3963 & \"\"\"\"","v":"\" \",\"\",\"\",\"\""}]
[{"$f":"\"\"\" \"& 'BX Language acquisition'!A3964 & \"\"\",\"\"\" & 'BX Language acquisition'!C3964 & \"\"\",\"\"\" & 'BX Language acquisition'!B3964 & \"\"\",\"\"\" & 'BX Language acquisition'!D3964 & \"\"\"\"","v":"\" \",\"\",\"\",\"\""}]
[{"$f":"\"\"\" \"& 'BX Language acquisition'!A3965 & \"\"\",\"\"\" & 'BX Language acquisition'!C3965 & \"\"\",\"\"\" & 'BX Language acquisition'!B3965 & \"\"\",\"\"\" & 'BX Language acquisition'!D3965 & \"\"\"\"","v":"\" \",\"\",\"\",\"\""}]
[{"$f":"\"\"\" \"& 'BX Language acquisition'!A3966 & \"\"\",\"\"\" & 'BX Language acquisition'!C3966 & \"\"\",\"\"\" & 'BX Language acquisition'!B3966 & \"\"\",\"\"\" & 'BX Language acquisition'!D3966 & \"\"\"\"","v":"\" \",\"\",\"\",\"\""}]
[{"$f":"\"\"\" \"& 'BX Language acquisition'!A3967 & \"\"\",\"\"\" & 'BX Language acquisition'!C3967 & \"\"\",\"\"\" & 'BX Language acquisition'!B3967 & \"\"\",\"\"\" & 'BX Language acquisition'!D3967 & \"\"\"\"","v":"\" \",\"\",\"\",\"\""}]
[{"$f":"\"\"\" \"& 'BX Language acquisition'!A3968 & \"\"\",\"\"\" & 'BX Language acquisition'!C3968 & \"\"\",\"\"\" & 'BX Language acquisition'!B3968 & \"\"\",\"\"\" & 'BX Language acquisition'!D3968 & \"\"\"\"","v":"\" \",\"\",\"\",\"\""}]
[{"$f":"\"\"\" \"& 'BX Language acquisition'!A3969 & \"\"\",\"\"\" & 'BX Language acquisition'!C3969 & \"\"\",\"\"\" & 'BX Language acquisition'!B3969 & \"\"\",\"\"\" & 'BX Language acquisition'!D3969 & \"\"\"\"","v":"\" \",\"\",\"\",\"\""}]
[{"$f":"\"\"\" \"& 'BX Language acquisition'!A3970 & \"\"\",\"\"\" & 'BX Language acquisition'!C3970 & \"\"\",\"\"\" & 'BX Language acquisition'!B3970 & \"\"\",\"\"\" & 'BX Language acquisition'!D3970 & \"\"\"\"","v":"\" \",\"\",\"\",\"\""}]
[{"$f":"\"\"\" \"& 'BX Language acquisition'!A3971 & \"\"\",\"\"\" & 'BX Language acquisition'!C3971 & \"\"\",\"\"\" & 'BX Language acquisition'!B3971 & \"\"\",\"\"\" & 'BX Language acquisition'!D3971 & \"\"\"\"","v":"\" \",\"\",\"\",\"\""}]
[{"$f":"\"\"\" \"& 'BX Language acquisition'!A3972 & \"\"\",\"\"\" & 'BX Language acquisition'!C3972 & \"\"\",\"\"\" & 'BX Language acquisition'!B3972 & \"\"\",\"\"\" & 'BX Language acquisition'!D3972 & \"\"\"\"","v":"\" \",\"\",\"\",\"\""}]
[{"$f":"\"\"\" \"& 'BX Language acquisition'!A3973 & \"\"\",\"\"\" & 'BX Language acquisition'!C3973 & \"\"\",\"\"\" & 'BX Language acquisition'!B3973 & \"\"\",\"\"\" & 'BX Language acquisition'!D3973 & \"\"\"\"","v":"\" \",\"\",\"\",\"\""}]
[{"$f":"\"\"\" \"& 'BX Language acquisition'!A3974 & \"\"\",\"\"\" & 'BX Language acquisition'!C3974 & \"\"\",\"\"\" & 'BX Language acquisition'!B3974 & \"\"\",\"\"\" & 'BX Language acquisition'!D3974 & \"\"\"\"","v":"\" \",\"\",\"\",\"\""}]
[{"$f":"\"\"\" \"& 'BX Language acquisition'!A3975 & \"\"\",\"\"\" & 'BX Language acquisition'!C3975 & \"\"\",\"\"\" & 'BX Language acquisition'!B3975 & \"\"\",\"\"\" & 'BX Language acquisition'!D3975 & \"\"\"\"","v":"\" \",\"\",\"\",\"\""}]
[{"$f":"\"\"\" \"& 'BX Language acquisition'!A3976 & \"\"\",\"\"\" & 'BX Language acquisition'!C3976 & \"\"\",\"\"\" & 'BX Language acquisition'!B3976 & \"\"\",\"\"\" & 'BX Language acquisition'!D3976 & \"\"\"\"","v":"\" \",\"\",\"\",\"\""}]
[{"$f":"\"\"\" \"& 'BX Language acquisition'!A3977 & \"\"\",\"\"\" & 'BX Language acquisition'!C3977 & \"\"\",\"\"\" & 'BX Language acquisition'!B3977 & \"\"\",\"\"\" & 'BX Language acquisition'!D3977 & \"\"\"\"","v":"\" \",\"\",\"\",\"\""}]
[{"$f":"\"\"\" \"& 'BX Language acquisition'!A3978 & \"\"\",\"\"\" & 'BX Language acquisition'!C3978 & \"\"\",\"\"\" & 'BX Language acquisition'!B3978 & \"\"\",\"\"\" & 'BX Language acquisition'!D3978 & \"\"\"\"","v":"\" \",\"\",\"\",\"\""}]
[{"$f":"\"\"\" \"& 'BX Language acquisition'!A3979 & \"\"\",\"\"\" & 'BX Language acquisition'!C3979 & \"\"\",\"\"\" & 'BX Language acquisition'!B3979 & \"\"\",\"\"\" & 'BX Language acquisition'!D3979 & \"\"\"\"","v":"\" \",\"\",\"\",\"\""}]
[{"$f":"\"\"\" \"& 'BX Language acquisition'!A3980 & \"\"\",\"\"\" & 'BX Language acquisition'!C3980 & \"\"\",\"\"\" & 'BX Language acquisition'!B3980 & \"\"\",\"\"\" & 'BX Language acquisition'!D3980 & \"\"\"\"","v":"\" \",\"\",\"\",\"\""}]
[{"$f":"\"\"\" \"& 'BX Language acquisition'!A3981 & \"\"\",\"\"\" & 'BX Language acquisition'!C3981 & \"\"\",\"\"\" & 'BX Language acquisition'!B3981 & \"\"\",\"\"\" & 'BX Language acquisition'!D3981 & \"\"\"\"","v":"\" \",\"\",\"\",\"\""}]
[{"$f":"\"\"\" \"& 'BX Language acquisition'!A3982 & \"\"\",\"\"\" & 'BX Language acquisition'!C3982 & \"\"\",\"\"\" & 'BX Language acquisition'!B3982 & \"\"\",\"\"\" & 'BX Language acquisition'!D3982 & \"\"\"\"","v":"\" \",\"\",\"\",\"\""}]
[{"$f":"\"\"\" \"& 'BX Language acquisition'!A3983 & \"\"\",\"\"\" & 'BX Language acquisition'!C3983 & \"\"\",\"\"\" & 'BX Language acquisition'!B3983 & \"\"\",\"\"\" & 'BX Language acquisition'!D3983 & \"\"\"\"","v":"\" \",\"\",\"\",\"\""}]
[{"$f":"\"\"\" \"& 'BX Language acquisition'!A3984 & \"\"\",\"\"\" & 'BX Language acquisition'!C3984 & \"\"\",\"\"\" & 'BX Language acquisition'!B3984 & \"\"\",\"\"\" & 'BX Language acquisition'!D3984 & \"\"\"\"","v":"\" \",\"\",\"\",\"\""}]
[{"$f":"\"\"\" \"& 'BX Language acquisition'!A3985 & \"\"\",\"\"\" & 'BX Language acquisition'!C3985 & \"\"\",\"\"\" & 'BX Language acquisition'!B3985 & \"\"\",\"\"\" & 'BX Language acquisition'!D3985 & \"\"\"\"","v":"\" \",\"\",\"\",\"\""}]
[{"$f":"\"\"\" \"& 'BX Language acquisition'!A3986 & \"\"\",\"\"\" & 'BX Language acquisition'!C3986 & \"\"\",\"\"\" & 'BX Language acquisition'!B3986 & \"\"\",\"\"\" & 'BX Language acquisition'!D3986 & \"\"\"\"","v":"\" \",\"\",\"\",\"\""}]
[{"$f":"\"\"\" \"& 'BX Language acquisition'!A3987 & \"\"\",\"\"\" & 'BX Language acquisition'!C3987 & \"\"\",\"\"\" & 'BX Language acquisition'!B3987 & \"\"\",\"\"\" & 'BX Language acquisition'!D3987 & \"\"\"\"","v":"\" \",\"\",\"\",\"\""}]
[{"$f":"\"\"\" \"& 'BX Language acquisition'!A3988 & \"\"\",\"\"\" & 'BX Language acquisition'!C3988 & \"\"\",\"\"\" & 'BX Language acquisition'!B3988 & \"\"\",\"\"\" & 'BX Language acquisition'!D3988 & \"\"\"\"","v":"\" \",\"\",\"\",\"\""}]
[{"$f":"\"\"\" \"& 'BX Language acquisition'!A3989 & \"\"\",\"\"\" & 'BX Language acquisition'!C3989 & \"\"\",\"\"\" & 'BX Language acquisition'!B3989 & \"\"\",\"\"\" & 'BX Language acquisition'!D3989 & \"\"\"\"","v":"\" \",\"\",\"\",\"\""}]
[{"$f":"\"\"\" \"& 'BX Language acquisition'!A3990 & \"\"\",\"\"\" & 'BX Language acquisition'!C3990 & \"\"\",\"\"\" & 'BX Language acquisition'!B3990 & \"\"\",\"\"\" & 'BX Language acquisition'!D3990 & \"\"\"\"","v":"\" \",\"\",\"\",\"\""}]
[{"$f":"\"\"\" \"& 'BX Language acquisition'!A3991 & \"\"\",\"\"\" & 'BX Language acquisition'!C3991 & \"\"\",\"\"\" & 'BX Language acquisition'!B3991 & \"\"\",\"\"\" & 'BX Language acquisition'!D3991 & \"\"\"\"","v":"\" \",\"\",\"\",\"\""}]
[{"$f":"\"\"\" \"& 'BX Language acquisition'!A3992 & \"\"\",\"\"\" & 'BX Language acquisition'!C3992 & \"\"\",\"\"\" & 'BX Language acquisition'!B3992 & \"\"\",\"\"\" & 'BX Language acquisition'!D3992 & \"\"\"\"","v":"\" \",\"\",\"\",\"\""}]
[{"$f":"\"\"\" \"& 'BX Language acquisition'!A3993 & \"\"\",\"\"\" & 'BX Language acquisition'!C3993 & \"\"\",\"\"\" & 'BX Language acquisition'!B3993 & \"\"\",\"\"\" & 'BX Language acquisition'!D3993 & \"\"\"\"","v":"\" \",\"\",\"\",\"\""}]
[{"$f":"\"\"\" \"& 'BX Language acquisition'!A3994 & \"\"\",\"\"\" & 'BX Language acquisition'!C3994 & \"\"\",\"\"\" & 'BX Language acquisition'!B3994 & \"\"\",\"\"\" & 'BX Language acquisition'!D3994 & \"\"\"\"","v":"\" \",\"\",\"\",\"\""}]
[{"$f":"\"\"\" \"& 'BX Language acquisition'!A3995 & \"\"\",\"\"\" & 'BX Language acquisition'!C3995 & \"\"\",\"\"\" & 'BX Language acquisition'!B3995 & \"\"\",\"\"\" & 'BX Language acquisition'!D3995 & \"\"\"\"","v":"\" \",\"\",\"\",\"\""}]
[{"$f":"\"\"\" \"& 'BX Language acquisition'!A3996 & \"\"\",\"\"\" & 'BX Language acquisition'!C3996 & \"\"\",\"\"\" & 'BX Language acquisition'!B3996 & \"\"\",\"\"\" & 'BX Language acquisition'!D3996 & \"\"\"\"","v":"\" \",\"\",\"\",\"\""}]
[{"$f":"\"\"\" \"& 'BX Language acquisition'!A3997 & \"\"\",\"\"\" & 'BX Language acquisition'!C3997 & \"\"\",\"\"\" & 'BX Language acquisition'!B3997 & \"\"\",\"\"\" & 'BX Language acquisition'!D3997 & \"\"\"\"","v":"\" \",\"\",\"\",\"\""}]
[{"$f":"\"\"\" \"& 'BX Language acquisition'!A3998 & \"\"\",\"\"\" & 'BX Language acquisition'!C3998 & \"\"\",\"\"\" & 'BX Language acquisition'!B3998 & \"\"\",\"\"\" & 'BX Language acquisition'!D3998 & \"\"\"\"","v":"\" \",\"\",\"\",\"\""}]
[{"$f":"\"\"\" \"& 'BX Language acquisition'!A3999 & \"\"\",\"\"\" & 'BX Language acquisition'!C3999 & \"\"\",\"\"\" & 'BX Language acquisition'!B3999 & \"\"\",\"\"\" & 'BX Language acquisition'!D3999 & \"\"\"\"","v":"\" \",\"\",\"\",\"\""}]
[{"$f":"\"\"\" \"& 'BX Language acquisition'!A4000 & \"\"\",\"\"\" & 'BX Language acquisition'!C4000 & \"\"\",\"\"\" & 'BX Language acquisition'!B4000 & \"\"\",\"\"\" & 'BX Language acquisition'!D4000 & \"\"\"\"","v":"\" \",\"\",\"\",\"\""}]
[{"$f":"\"\"\" \"& 'BX Language acquisition'!A4001 & \"\"\",\"\"\" & 'BX Language acquisition'!C4001 & \"\"\",\"\"\" & 'BX Language acquisition'!B4001 & \"\"\",\"\"\" & 'BX Language acquisition'!D4001 & \"\"\"\"","v":"\" \",\"\",\"\",\"\""}]
[{"$f":"\"\"\" \"& 'BX Language acquisition'!A4002 & \"\"\",\"\"\" & 'BX Language acquisition'!C4002 & \"\"\",\"\"\" & 'BX Language acquisition'!B4002 & \"\"\",\"\"\" & 'BX Language acquisition'!D4002 & \"\"\"\"","v":"\" \",\"\",\"\",\"\""}]
[{"$f":"\"\"\" \"& 'BX Language acquisition'!A4003 & \"\"\",\"\"\" & 'BX Language acquisition'!C4003 & \"\"\",\"\"\" & 'BX Language acquisition'!B4003 & \"\"\",\"\"\" & 'BX Language acquisition'!D4003 & \"\"\"\"","v":"\" \",\"\",\"\",\"\""}]
[{"$f":"\"\"\" \"& 'BX Language acquisition'!A4004 & \"\"\",\"\"\" & 'BX Language acquisition'!C4004 & \"\"\",\"\"\" & 'BX Language acquisition'!B4004 & \"\"\",\"\"\" & 'BX Language acquisition'!D4004 & \"\"\"\"","v":"\" \",\"\",\"\",\"\""}]
[{"$f":"\"\"\" \"& 'BX Language acquisition'!A4005 & \"\"\",\"\"\" & 'BX Language acquisition'!C4005 & \"\"\",\"\"\" & 'BX Language acquisition'!B4005 & \"\"\",\"\"\" & 'BX Language acquisition'!D4005 & \"\"\"\"","v":"\" \",\"\",\"\",\"\""}]
[{"$f":"\"\"\" \"& 'BX Language acquisition'!A4006 & \"\"\",\"\"\" & 'BX Language acquisition'!C4006 & \"\"\",\"\"\" & 'BX Language acquisition'!B4006 & \"\"\",\"\"\" & 'BX Language acquisition'!D4006 & \"\"\"\"","v":"\" \",\"\",\"\",\"\""}]
[{"$f":"\"\"\" \"& 'BX Language acquisition'!A4007 & \"\"\",\"\"\" & 'BX Language acquisition'!C4007 & \"\"\",\"\"\" & 'BX Language acquisition'!B4007 & \"\"\",\"\"\" & 'BX Language acquisition'!D4007 & \"\"\"\"","v":"\" \",\"\",\"\",\"\""}]
[{"$f":"\"\"\" \"& 'BX Language acquisition'!A4008 & \"\"\",\"\"\" & 'BX Language acquisition'!C4008 & \"\"\",\"\"\" & 'BX Language acquisition'!B4008 & \"\"\",\"\"\" & 'BX Language acquisition'!D4008 & \"\"\"\"","v":"\" \",\"\",\"\",\"\""}]
[{"$f":"\"\"\" \"& 'BX Language acquisition'!A4009 & \"\"\",\"\"\" & 'BX Language acquisition'!C4009 & \"\"\",\"\"\" & 'BX Language acquisition'!B4009 & \"\"\",\"\"\" & 'BX Language acquisition'!D4009 & \"\"\"\"","v":"\" \",\"\",\"\",\"\""}]
[{"$f":"\"\"\" \"& 'BX Language acquisition'!A4010 & \"\"\",\"\"\" & 'BX Language acquisition'!C4010 & \"\"\",\"\"\" & 'BX Language acquisition'!B4010 & \"\"\",\"\"\" & 'BX Language acquisition'!D4010 & \"\"\"\"","v":"\" \",\"\",\"\",\"\""}]
[{"$f":"\"\"\" \"& 'BX Language acquisition'!A4011 & \"\"\",\"\"\" & 'BX Language acquisition'!C4011 & \"\"\",\"\"\" & 'BX Language acquisition'!B4011 & \"\"\",\"\"\" & 'BX Language acquisition'!D4011 & \"\"\"\"","v":"\" \",\"\",\"\",\"\""}]
[{"$f":"\"\"\" \"& 'BX Language acquisition'!A4012 & \"\"\",\"\"\" & 'BX Language acquisition'!C4012 & \"\"\",\"\"\" & 'BX Language acquisition'!B4012 & \"\"\",\"\"\" & 'BX Language acquisition'!D4012 & \"\"\"\"","v":"\" \",\"\",\"\",\"\""}]
[{"$f":"\"\"\" \"& 'BX Language acquisition'!A4013 & \"\"\",\"\"\" & 'BX Language acquisition'!C4013 & \"\"\",\"\"\" & 'BX Language acquisition'!B4013 & \"\"\",\"\"\" & 'BX Language acquisition'!D4013 & \"\"\"\"","v":"\" \",\"\",\"\",\"\""}]
[{"$f":"\"\"\" \"& 'BX Language acquisition'!A4014 & \"\"\",\"\"\" & 'BX Language acquisition'!C4014 & \"\"\",\"\"\" & 'BX Language acquisition'!B4014 & \"\"\",\"\"\" & 'BX Language acquisition'!D4014 & \"\"\"\"","v":"\" \",\"\",\"\",\"\""}]
[{"$f":"\"\"\" \"& 'BX Language acquisition'!A4015 & \"\"\",\"\"\" & 'BX Language acquisition'!C4015 & \"\"\",\"\"\" & 'BX Language acquisition'!B4015 & \"\"\",\"\"\" & 'BX Language acquisition'!D4015 & \"\"\"\"","v":"\" \",\"\",\"\",\"\""}]
[{"$f":"\"\"\" \"& 'BX Language acquisition'!A4016 & \"\"\",\"\"\" & 'BX Language acquisition'!C4016 & \"\"\",\"\"\" & 'BX Language acquisition'!B4016 & \"\"\",\"\"\" & 'BX Language acquisition'!D4016 & \"\"\"\"","v":"\" \",\"\",\"\",\"\""}]
[{"$f":"\"\"\" \"& 'BX Language acquisition'!A4017 & \"\"\",\"\"\" & 'BX Language acquisition'!C4017 & \"\"\",\"\"\" & 'BX Language acquisition'!B4017 & \"\"\",\"\"\" & 'BX Language acquisition'!D4017 & \"\"\"\"","v":"\" \",\"\",\"\",\"\""}]
[{"$f":"\"\"\" \"& 'BX Language acquisition'!A4018 & \"\"\",\"\"\" & 'BX Language acquisition'!C4018 & \"\"\",\"\"\" & 'BX Language acquisition'!B4018 & \"\"\",\"\"\" & 'BX Language acquisition'!D4018 & \"\"\"\"","v":"\" \",\"\",\"\",\"\""}]
[{"$f":"\"\"\" \"& 'BX Language acquisition'!A4019 & \"\"\",\"\"\" & 'BX Language acquisition'!C4019 & \"\"\",\"\"\" & 'BX Language acquisition'!B4019 & \"\"\",\"\"\" & 'BX Language acquisition'!D4019 & \"\"\"\"","v":"\" \",\"\",\"\",\"\""}]
[{"$f":"\"\"\" \"& 'BX Language acquisition'!A4020 & \"\"\",\"\"\" & 'BX Language acquisition'!C4020 & \"\"\",\"\"\" & 'BX Language acquisition'!B4020 & \"\"\",\"\"\" & 'BX Language acquisition'!D4020 & \"\"\"\"","v":"\" \",\"\",\"\",\"\""}]
[{"$f":"\"\"\" \"& 'BX Language acquisition'!A4021 & \"\"\",\"\"\" & 'BX Language acquisition'!C4021 & \"\"\",\"\"\" & 'BX Language acquisition'!B4021 & \"\"\",\"\"\" & 'BX Language acquisition'!D4021 & \"\"\"\"","v":"\" \",\"\",\"\",\"\""}]
[{"$f":"\"\"\" \"& 'BX Language acquisition'!A4022 & \"\"\",\"\"\" & 'BX Language acquisition'!C4022 & \"\"\",\"\"\" & 'BX Language acquisition'!B4022 & \"\"\",\"\"\" & 'BX Language acquisition'!D4022 & \"\"\"\"","v":"\" \",\"\",\"\",\"\""}]
[{"$f":"\"\"\" \"& 'BX Language acquisition'!A4023 & \"\"\",\"\"\" & 'BX Language acquisition'!C4023 & \"\"\",\"\"\" & 'BX Language acquisition'!B4023 & \"\"\",\"\"\" & 'BX Language acquisition'!D4023 & \"\"\"\"","v":"\" \",\"\",\"\",\"\""}]
[{"$f":"\"\"\" \"& 'BX Language acquisition'!A4024 & \"\"\",\"\"\" & 'BX Language acquisition'!C4024 & \"\"\",\"\"\" & 'BX Language acquisition'!B4024 & \"\"\",\"\"\" & 'BX Language acquisition'!D4024 & \"\"\"\"","v":"\" \",\"\",\"\",\"\""}]
[{"$f":"\"\"\" \"& 'BX Language acquisition'!A4025 & \"\"\",\"\"\" & 'BX Language acquisition'!C4025 & \"\"\",\"\"\" & 'BX Language acquisition'!B4025 & \"\"\",\"\"\" & 'BX Language acquisition'!D4025 & \"\"\"\"","v":"\" \",\"\",\"\",\"\""}]
[{"$f":"\"\"\" \"& 'BX Language acquisition'!A4026 & \"\"\",\"\"\" & 'BX Language acquisition'!C4026 & \"\"\",\"\"\" & 'BX Language acquisition'!B4026 & \"\"\",\"\"\" & 'BX Language acquisition'!D4026 & \"\"\"\"","v":"\" \",\"\",\"\",\"\""}]
[{"$f":"\"\"\" \"& 'BX Language acquisition'!A4027 & \"\"\",\"\"\" & 'BX Language acquisition'!C4027 & \"\"\",\"\"\" & 'BX Language acquisition'!B4027 & \"\"\",\"\"\" & 'BX Language acquisition'!D4027 & \"\"\"\"","v":"\" \",\"\",\"\",\"\""}]
[{"$f":"\"\"\" \"& 'BX Language acquisition'!A4028 & \"\"\",\"\"\" & 'BX Language acquisition'!C4028 & \"\"\",\"\"\" & 'BX Language acquisition'!B4028 & \"\"\",\"\"\" & 'BX Language acquisition'!D4028 & \"\"\"\"","v":"\" \",\"\",\"\",\"\""}]
[{"$f":"\"\"\" \"& 'BX Language acquisition'!A4029 & \"\"\",\"\"\" & 'BX Language acquisition'!C4029 & \"\"\",\"\"\" & 'BX Language acquisition'!B4029 & \"\"\",\"\"\" & 'BX Language acquisition'!D4029 & \"\"\"\"","v":"\" \",\"\",\"\",\"\""}]
[{"$f":"\"\"\" \"& 'BX Language acquisition'!A4030 & \"\"\",\"\"\" & 'BX Language acquisition'!C4030 & \"\"\",\"\"\" & 'BX Language acquisition'!B4030 & \"\"\",\"\"\" & 'BX Language acquisition'!D4030 & \"\"\"\"","v":"\" \",\"\",\"\",\"\""}]
[{"$f":"\"\"\" \"& 'BX Language acquisition'!A4031 & \"\"\",\"\"\" & 'BX Language acquisition'!C4031 & \"\"\",\"\"\" & 'BX Language acquisition'!B4031 & \"\"\",\"\"\" & 'BX Language acquisition'!D4031 & \"\"\"\"","v":"\" \",\"\",\"\",\"\""}]
[{"$f":"\"\"\" \"& 'BX Language acquisition'!A4032 & \"\"\",\"\"\" & 'BX Language acquisition'!C4032 & \"\"\",\"\"\" & 'BX Language acquisition'!B4032 & \"\"\",\"\"\" & 'BX Language acquisition'!D4032 & \"\"\"\"","v":"\" \",\"\",\"\",\"\""}]
[{"$f":"\"\"\" \"& 'BX Language acquisition'!A4033 & \"\"\",\"\"\" & 'BX Language acquisition'!C4033 & \"\"\",\"\"\" & 'BX Language acquisition'!B4033 & \"\"\",\"\"\" & 'BX Language acquisition'!D4033 & \"\"\"\"","v":"\" \",\"\",\"\",\"\""}]
[{"$f":"\"\"\" \"& 'BX Language acquisition'!A4034 & \"\"\",\"\"\" & 'BX Language acquisition'!C4034 & \"\"\",\"\"\" & 'BX Language acquisition'!B4034 & \"\"\",\"\"\" & 'BX Language acquisition'!D4034 & \"\"\"\"","v":"\" \",\"\",\"\",\"\""}]
[{"$f":"\"\"\" \"& 'BX Language acquisition'!A4035 & \"\"\",\"\"\" & 'BX Language acquisition'!C4035 & \"\"\",\"\"\" & 'BX Language acquisition'!B4035 & \"\"\",\"\"\" & 'BX Language acquisition'!D4035 & \"\"\"\"","v":"\" \",\"\",\"\",\"\""}]
[{"$f":"\"\"\" \"& 'BX Language acquisition'!A4036 & \"\"\",\"\"\" & 'BX Language acquisition'!C4036 & \"\"\",\"\"\" & 'BX Language acquisition'!B4036 & \"\"\",\"\"\" & 'BX Language acquisition'!D4036 & \"\"\"\"","v":"\" \",\"\",\"\",\"\""}]
[{"$f":"\"\"\" \"& 'BX Language acquisition'!A4037 & \"\"\",\"\"\" & 'BX Language acquisition'!C4037 & \"\"\",\"\"\" & 'BX Language acquisition'!B4037 & \"\"\",\"\"\" & 'BX Language acquisition'!D4037 & \"\"\"\"","v":"\" \",\"\",\"\",\"\""}]
[{"$f":"\"\"\" \"& 'BX Language acquisition'!A4038 & \"\"\",\"\"\" & 'BX Language acquisition'!C4038 & \"\"\",\"\"\" & 'BX Language acquisition'!B4038 & \"\"\",\"\"\" & 'BX Language acquisition'!D4038 & \"\"\"\"","v":"\" \",\"\",\"\",\"\""}]
[{"$f":"\"\"\" \"& 'BX Language acquisition'!A4039 & \"\"\",\"\"\" & 'BX Language acquisition'!C4039 & \"\"\",\"\"\" & 'BX Language acquisition'!B4039 & \"\"\",\"\"\" & 'BX Language acquisition'!D4039 & \"\"\"\"","v":"\" \",\"\",\"\",\"\""}]
[{"$f":"\"\"\" \"& 'BX Language acquisition'!A4040 & \"\"\",\"\"\" & 'BX Language acquisition'!C4040 & \"\"\",\"\"\" & 'BX Language acquisition'!B4040 & \"\"\",\"\"\" & 'BX Language acquisition'!D4040 & \"\"\"\"","v":"\" \",\"\",\"\",\"\""}]
[{"$f":"\"\"\" \"& 'BX Language acquisition'!A4041 & \"\"\",\"\"\" & 'BX Language acquisition'!C4041 & \"\"\",\"\"\" & 'BX Language acquisition'!B4041 & \"\"\",\"\"\" & 'BX Language acquisition'!D4041 & \"\"\"\"","v":"\" \",\"\",\"\",\"\""}]
[{"$f":"\"\"\" \"& 'BX Language acquisition'!A4042 & \"\"\",\"\"\" & 'BX Language acquisition'!C4042 & \"\"\",\"\"\" & 'BX Language acquisition'!B4042 & \"\"\",\"\"\" & 'BX Language acquisition'!D4042 & \"\"\"\"","v":"\" \",\"\",\"\",\"\""}]
[{"$f":"\"\"\" \"& 'BX Language acquisition'!A4043 & \"\"\",\"\"\" & 'BX Language acquisition'!C4043 & \"\"\",\"\"\" & 'BX Language acquisition'!B4043 & \"\"\",\"\"\" & 'BX Language acquisition'!D4043 & \"\"\"\"","v":"\" \",\"\",\"\",\"\""}]
[{"$f":"\"\"\" \"& 'BX Language acquisition'!A4044 & \"\"\",\"\"\" & 'BX Language acquisition'!C4044 & \"\"\",\"\"\" & 'BX Language acquisition'!B4044 & \"\"\",\"\"\" & 'BX Language acquisition'!D4044 & \"\"\"\"","v":"\" \",\"\",\"\",\"\""}]
[{"$f":"\"\"\" \"& 'BX Language acquisition'!A4045 & \"\"\",\"\"\" & 'BX Language acquisition'!C4045 & \"\"\",\"\"\" & 'BX Language acquisition'!B4045 & \"\"\",\"\"\" & 'BX Language acquisition'!D4045 & \"\"\"\"","v":"\" \",\"\",\"\",\"\""}]
[{"$f":"\"\"\" \"& 'BX Language acquisition'!A4046 & \"\"\",\"\"\" & 'BX Language acquisition'!C4046 & \"\"\",\"\"\" & 'BX Language acquisition'!B4046 & \"\"\",\"\"\" & 'BX Language acquisition'!D4046 & \"\"\"\"","v":"\" \",\"\",\"\",\"\""}]
[{"$f":"\"\"\" \"& 'BX Language acquisition'!A4047 & \"\"\",\"\"\" & 'BX Language acquisition'!C4047 & \"\"\",\"\"\" & 'BX Language acquisition'!B4047 & \"\"\",\"\"\" & 'BX Language acquisition'!D4047 & \"\"\"\"","v":"\" \",\"\",\"\",\"\""}]
[{"$f":"\"\"\" \"& 'BX Language acquisition'!A4048 & \"\"\",\"\"\" & 'BX Language acquisition'!C4048 & \"\"\",\"\"\" & 'BX Language acquisition'!B4048 & \"\"\",\"\"\" & 'BX Language acquisition'!D4048 & \"\"\"\"","v":"\" \",\"\",\"\",\"\""}]
[{"$f":"\"\"\" \"& 'BX Language acquisition'!A4049 & \"\"\",\"\"\" & 'BX Language acquisition'!C4049 & \"\"\",\"\"\" & 'BX Language acquisition'!B4049 & \"\"\",\"\"\" & 'BX Language acquisition'!D4049 & \"\"\"\"","v":"\" \",\"\",\"\",\"\""}]
[{"$f":"\"\"\" \"& 'BX Language acquisition'!A4050 & \"\"\",\"\"\" & 'BX Language acquisition'!C4050 & \"\"\",\"\"\" & 'BX Language acquisition'!B4050 & \"\"\",\"\"\" & 'BX Language acquisition'!D4050 & \"\"\"\"","v":"\" \",\"\",\"\",\"\""}]
[{"$f":"\"\"\" \"& 'BX Language acquisition'!A4051 & \"\"\",\"\"\" & 'BX Language acquisition'!C4051 & \"\"\",\"\"\" & 'BX Language acquisition'!B4051 & \"\"\",\"\"\" & 'BX Language acquisition'!D4051 & \"\"\"\"","v":"\" \",\"\",\"\",\"\""}]
[{"$f":"\"\"\" \"& 'BX Language acquisition'!A4052 & \"\"\",\"\"\" & 'BX Language acquisition'!C4052 & \"\"\",\"\"\" & 'BX Language acquisition'!B4052 & \"\"\",\"\"\" & 'BX Language acquisition'!D4052 & \"\"\"\"","v":"\" \",\"\",\"\",\"\""}]
[{"$f":"\"\"\" \"& 'BX Language acquisition'!A4053 & \"\"\",\"\"\" & 'BX Language acquisition'!C4053 & \"\"\",\"\"\" & 'BX Language acquisition'!B4053 & \"\"\",\"\"\" & 'BX Language acquisition'!D4053 & \"\"\"\"","v":"\" \",\"\",\"\",\"\""}]
[{"$f":"\"\"\" \"& 'BX Language acquisition'!A4054 & \"\"\",\"\"\" & 'BX Language acquisition'!C4054 & \"\"\",\"\"\" & 'BX Language acquisition'!B4054 & \"\"\",\"\"\" & 'BX Language acquisition'!D4054 & \"\"\"\"","v":"\" \",\"\",\"\",\"\""}]
[{"$f":"\"\"\" \"& 'BX Language acquisition'!A4055 & \"\"\",\"\"\" & 'BX Language acquisition'!C4055 & \"\"\",\"\"\" & 'BX Language acquisition'!B4055 & \"\"\",\"\"\" & 'BX Language acquisition'!D4055 & \"\"\"\"","v":"\" \",\"\",\"\",\"\""}]
[{"$f":"\"\"\" \"& 'BX Language acquisition'!A4056 & \"\"\",\"\"\" & 'BX Language acquisition'!C4056 & \"\"\",\"\"\" & 'BX Language acquisition'!B4056 & \"\"\",\"\"\" & 'BX Language acquisition'!D4056 & \"\"\"\"","v":"\" \",\"\",\"\",\"\""}]
[{"$f":"\"\"\" \"& 'BX Language acquisition'!A4057 & \"\"\",\"\"\" & 'BX Language acquisition'!C4057 & \"\"\",\"\"\" & 'BX Language acquisition'!B4057 & \"\"\",\"\"\" & 'BX Language acquisition'!D4057 & \"\"\"\"","v":"\" \",\"\",\"\",\"\""}]
[{"$f":"\"\"\" \"& 'BX Language acquisition'!A4058 & \"\"\",\"\"\" & 'BX Language acquisition'!C4058 & \"\"\",\"\"\" & 'BX Language acquisition'!B4058 & \"\"\",\"\"\" & 'BX Language acquisition'!D4058 & \"\"\"\"","v":"\" \",\"\",\"\",\"\""}]
[{"$f":"\"\"\" \"& 'BX Language acquisition'!A4059 & \"\"\",\"\"\" & 'BX Language acquisition'!C4059 & \"\"\",\"\"\" & 'BX Language acquisition'!B4059 & \"\"\",\"\"\" & 'BX Language acquisition'!D4059 & \"\"\"\"","v":"\" \",\"\",\"\",\"\""}]
[{"$f":"\"\"\" \"& 'BX Language acquisition'!A4060 & \"\"\",\"\"\" & 'BX Language acquisition'!C4060 & \"\"\",\"\"\" & 'BX Language acquisition'!B4060 & \"\"\",\"\"\" & 'BX Language acquisition'!D4060 & \"\"\"\"","v":"\" \",\"\",\"\",\"\""}]
[{"$f":"\"\"\" \"& 'BX Language acquisition'!A4061 & \"\"\",\"\"\" & 'BX Language acquisition'!C4061 & \"\"\",\"\"\" & 'BX Language acquisition'!B4061 & \"\"\",\"\"\" & 'BX Language acquisition'!D4061 & \"\"\"\"","v":"\" \",\"\",\"\",\"\""}]
[{"$f":"\"\"\" \"& 'BX Language acquisition'!A4062 & \"\"\",\"\"\" & 'BX Language acquisition'!C4062 & \"\"\",\"\"\" & 'BX Language acquisition'!B4062 & \"\"\",\"\"\" & 'BX Language acquisition'!D4062 & \"\"\"\"","v":"\" \",\"\",\"\",\"\""}]
[{"$f":"\"\"\" \"& 'BX Language acquisition'!A4063 & \"\"\",\"\"\" & 'BX Language acquisition'!C4063 & \"\"\",\"\"\" & 'BX Language acquisition'!B4063 & \"\"\",\"\"\" & 'BX Language acquisition'!D4063 & \"\"\"\"","v":"\" \",\"\",\"\",\"\""}]
[{"$f":"\"\"\" \"& 'BX Language acquisition'!A4064 & \"\"\",\"\"\" & 'BX Language acquisition'!C4064 & \"\"\",\"\"\" & 'BX Language acquisition'!B4064 & \"\"\",\"\"\" & 'BX Language acquisition'!D4064 & \"\"\"\"","v":"\" \",\"\",\"\",\"\""}]
[{"$f":"\"\"\" \"& 'BX Language acquisition'!A4065 & \"\"\",\"\"\" & 'BX Language acquisition'!C4065 & \"\"\",\"\"\" & 'BX Language acquisition'!B4065 & \"\"\",\"\"\" & 'BX Language acquisition'!D4065 & \"\"\"\"","v":"\" \",\"\",\"\",\"\""}]
[{"$f":"\"\"\" \"& 'BX Language acquisition'!A4066 & \"\"\",\"\"\" & 'BX Language acquisition'!C4066 & \"\"\",\"\"\" & 'BX Language acquisition'!B4066 & \"\"\",\"\"\" & 'BX Language acquisition'!D4066 & \"\"\"\"","v":"\" \",\"\",\"\",\"\""}]
[{"$f":"\"\"\" \"& 'BX Language acquisition'!A4067 & \"\"\",\"\"\" & 'BX Language acquisition'!C4067 & \"\"\",\"\"\" & 'BX Language acquisition'!B4067 & \"\"\",\"\"\" & 'BX Language acquisition'!D4067 & \"\"\"\"","v":"\" \",\"\",\"\",\"\""}]
[{"$f":"\"\"\" \"& 'BX Language acquisition'!A4068 & \"\"\",\"\"\" & 'BX Language acquisition'!C4068 & \"\"\",\"\"\" & 'BX Language acquisition'!B4068 & \"\"\",\"\"\" & 'BX Language acquisition'!D4068 & \"\"\"\"","v":"\" \",\"\",\"\",\"\""}]
[{"$f":"\"\"\" \"& 'BX Language acquisition'!A4069 & \"\"\",\"\"\" & 'BX Language acquisition'!C4069 & \"\"\",\"\"\" & 'BX Language acquisition'!B4069 & \"\"\",\"\"\" & 'BX Language acquisition'!D4069 & \"\"\"\"","v":"\" \",\"\",\"\",\"\""}]
[{"$f":"\"\"\" \"& 'BX Language acquisition'!A4070 & \"\"\",\"\"\" & 'BX Language acquisition'!C4070 & \"\"\",\"\"\" & 'BX Language acquisition'!B4070 & \"\"\",\"\"\" & 'BX Language acquisition'!D4070 & \"\"\"\"","v":"\" \",\"\",\"\",\"\""}]
[{"$f":"\"\"\" \"& 'BX Language acquisition'!A4071 & \"\"\",\"\"\" & 'BX Language acquisition'!C4071 & \"\"\",\"\"\" & 'BX Language acquisition'!B4071 & \"\"\",\"\"\" & 'BX Language acquisition'!D4071 & \"\"\"\"","v":"\" \",\"\",\"\",\"\""}]
[{"$f":"\"\"\" \"& 'BX Language acquisition'!A4072 & \"\"\",\"\"\" & 'BX Language acquisition'!C4072 & \"\"\",\"\"\" & 'BX Language acquisition'!B4072 & \"\"\",\"\"\" & 'BX Language acquisition'!D4072 & \"\"\"\"","v":"\" \",\"\",\"\",\"\""}]
[{"$f":"\"\"\" \"& 'BX Language acquisition'!A4073 & \"\"\",\"\"\" & 'BX Language acquisition'!C4073 & \"\"\",\"\"\" & 'BX Language acquisition'!B4073 & \"\"\",\"\"\" & 'BX Language acquisition'!D4073 & \"\"\"\"","v":"\" \",\"\",\"\",\"\""}]
[{"$f":"\"\"\" \"& 'BX Language acquisition'!A4074 & \"\"\",\"\"\" & 'BX Language acquisition'!C4074 & \"\"\",\"\"\" & 'BX Language acquisition'!B4074 & \"\"\",\"\"\" & 'BX Language acquisition'!D4074 & \"\"\"\"","v":"\" \",\"\",\"\",\"\""}]
[{"$f":"\"\"\" \"& 'BX Language acquisition'!A4075 & \"\"\",\"\"\" & 'BX Language acquisition'!C4075 & \"\"\",\"\"\" & 'BX Language acquisition'!B4075 & \"\"\",\"\"\" & 'BX Language acquisition'!D4075 & \"\"\"\"","v":"\" \",\"\",\"\",\"\""}]
[{"$f":"\"\"\" \"& 'BX Language acquisition'!A4076 & \"\"\",\"\"\" & 'BX Language acquisition'!C4076 & \"\"\",\"\"\" & 'BX Language acquisition'!B4076 & \"\"\",\"\"\" & 'BX Language acquisition'!D4076 & \"\"\"\"","v":"\" \",\"\",\"\",\"\""}]
[{"$f":"\"\"\" \"& 'BX Language acquisition'!A4077 & \"\"\",\"\"\" & 'BX Language acquisition'!C4077 & \"\"\",\"\"\" & 'BX Language acquisition'!B4077 & \"\"\",\"\"\" & 'BX Language acquisition'!D4077 & \"\"\"\"","v":"\" \",\"\",\"\",\"\""}]
[{"$f":"\"\"\" \"& 'BX Language acquisition'!A4078 & \"\"\",\"\"\" & 'BX Language acquisition'!C4078 & \"\"\",\"\"\" & 'BX Language acquisition'!B4078 & \"\"\",\"\"\" & 'BX Language acquisition'!D4078 & \"\"\"\"","v":"\" \",\"\",\"\",\"\""}]
[{"$f":"\"\"\" \"& 'BX Language acquisition'!A4079 & \"\"\",\"\"\" & 'BX Language acquisition'!C4079 & \"\"\",\"\"\" & 'BX Language acquisition'!B4079 & \"\"\",\"\"\" & 'BX Language acquisition'!D4079 & \"\"\"\"","v":"\" \",\"\",\"\",\"\""}]
[{"$f":"\"\"\" \"& 'BX Language acquisition'!A4080 & \"\"\",\"\"\" & 'BX Language acquisition'!C4080 & \"\"\",\"\"\" & 'BX Language acquisition'!B4080 & \"\"\",\"\"\" & 'BX Language acquisition'!D4080 & \"\"\"\"","v":"\" \",\"\",\"\",\"\""}]
[{"$f":"\"\"\" \"& 'BX Language acquisition'!A4081 & \"\"\",\"\"\" & 'BX Language acquisition'!C4081 & \"\"\",\"\"\" & 'BX Language acquisition'!B4081 & \"\"\",\"\"\" & 'BX Language acquisition'!D4081 & \"\"\"\"","v":"\" \",\"\",\"\",\"\""}]
[{"$f":"\"\"\" \"& 'BX Language acquisition'!A4082 & \"\"\",\"\"\" & 'BX Language acquisition'!C4082 & \"\"\",\"\"\" & 'BX Language acquisition'!B4082 & \"\"\",\"\"\" & 'BX Language acquisition'!D4082 & \"\"\"\"","v":"\" \",\"\",\"\",\"\""}]
[{"$f":"\"\"\" \"& 'BX Language acquisition'!A4083 & \"\"\",\"\"\" & 'BX Language acquisition'!C4083 & \"\"\",\"\"\" & 'BX Language acquisition'!B4083 & \"\"\",\"\"\" & 'BX Language acquisition'!D4083 & \"\"\"\"","v":"\" \",\"\",\"\",\"\""}]
[{"$f":"\"\"\" \"& 'BX Language acquisition'!A4084 & \"\"\",\"\"\" & 'BX Language acquisition'!C4084 & \"\"\",\"\"\" & 'BX Language acquisition'!B4084 & \"\"\",\"\"\" & 'BX Language acquisition'!D4084 & \"\"\"\"","v":"\" \",\"\",\"\",\"\""}]
[{"$f":"\"\"\" \"& 'BX Language acquisition'!A4085 & \"\"\",\"\"\" & 'BX Language acquisition'!C4085 & \"\"\",\"\"\" & 'BX Language acquisition'!B4085 & \"\"\",\"\"\" & 'BX Language acquisition'!D4085 & \"\"\"\"","v":"\" \",\"\",\"\",\"\""}]
[{"$f":"\"\"\" \"& 'BX Language acquisition'!A4086 & \"\"\",\"\"\" & 'BX Language acquisition'!C4086 & \"\"\",\"\"\" & 'BX Language acquisition'!B4086 & \"\"\",\"\"\" & 'BX Language acquisition'!D4086 & \"\"\"\"","v":"\" \",\"\",\"\",\"\""}]
[{"$f":"\"\"\" \"& 'BX Language acquisition'!A4087 & \"\"\",\"\"\" & 'BX Language acquisition'!C4087 & \"\"\",\"\"\" & 'BX Language acquisition'!B4087 & \"\"\",\"\"\" & 'BX Language acquisition'!D4087 & \"\"\"\"","v":"\" \",\"\",\"\",\"\""}]
[{"$f":"\"\"\" \"& 'BX Language acquisition'!A4088 & \"\"\",\"\"\" & 'BX Language acquisition'!C4088 & \"\"\",\"\"\" & 'BX Language acquisition'!B4088 & \"\"\",\"\"\" & 'BX Language acquisition'!D4088 & \"\"\"\"","v":"\" \",\"\",\"\",\"\""}]
[{"$f":"\"\"\" \"& 'BX Language acquisition'!A4089 & \"\"\",\"\"\" & 'BX Language acquisition'!C4089 & \"\"\",\"\"\" & 'BX Language acquisition'!B4089 & \"\"\",\"\"\" & 'BX Language acquisition'!D4089 & \"\"\"\"","v":"\" \",\"\",\"\",\"\""}]
[{"$f":"\"\"\" \"& 'BX Language acquisition'!A4090 & \"\"\",\"\"\" & 'BX Language acquisition'!C4090 & \"\"\",\"\"\" & 'BX Language acquisition'!B4090 & \"\"\",\"\"\" & 'BX Language acquisition'!D4090 & \"\"\"\"","v":"\" \",\"\",\"\",\"\""}]
[{"$f":"\"\"\" \"& 'BX Language acquisition'!A4091 & \"\"\",\"\"\" & 'BX Language acquisition'!C4091 & \"\"\",\"\"\" & 'BX Language acquisition'!B4091 & \"\"\",\"\"\" & 'BX Language acquisition'!D4091 & \"\"\"\"","v":"\" \",\"\",\"\",\"\""}]
[{"$f":"\"\"\" \"& 'BX Language acquisition'!A4092 & \"\"\",\"\"\" & 'BX Language acquisition'!C4092 & \"\"\",\"\"\" & 'BX Language acquisition'!B4092 & \"\"\",\"\"\" & 'BX Language acquisition'!D4092 & \"\"\"\"","v":"\" \",\"\",\"\",\"\""}]
[{"$f":"\"\"\" \"& 'BX Language acquisition'!A4093 & \"\"\",\"\"\" & 'BX Language acquisition'!C4093 & \"\"\",\"\"\" & 'BX Language acquisition'!B4093 & \"\"\",\"\"\" & 'BX Language acquisition'!D4093 & \"\"\"\"","v":"\" \",\"\",\"\",\"\""}]
[{"$f":"\"\"\" \"& 'BX Language acquisition'!A4094 & \"\"\",\"\"\" & 'BX Language acquisition'!C4094 & \"\"\",\"\"\" & 'BX Language acquisition'!B4094 & \"\"\",\"\"\" & 'BX Language acquisition'!D4094 & \"\"\"\"","v":"\" \",\"\",\"\",\"\""}]
[{"$f":"\"\"\" \"& 'BX Language acquisition'!A4095 & \"\"\",\"\"\" & 'BX Language acquisition'!C4095 & \"\"\",\"\"\" & 'BX Language acquisition'!B4095 & \"\"\",\"\"\" & 'BX Language acquisition'!D4095 & \"\"\"\"","v":"\" \",\"\",\"\",\"\""}]
[{"$f":"\"\"\" \"& 'BX Language acquisition'!A4096 & \"\"\",\"\"\" & 'BX Language acquisition'!C4096 & \"\"\",\"\"\" & 'BX Language acquisition'!B4096 & \"\"\",\"\"\" & 'BX Language acquisition'!D4096 & \"\"\"\"","v":"\" \",\"\",\"\",\"\""}]
[{"$f":"\"\"\" \"& 'BX Language acquisition'!A4097 & \"\"\",\"\"\" & 'BX Language acquisition'!C4097 & \"\"\",\"\"\" & 'BX Language acquisition'!B4097 & \"\"\",\"\"\" & 'BX Language acquisition'!D4097 & \"\"\"\"","v":"\" \",\"\",\"\",\"\""}]
[{"$f":"\"\"\" \"& 'BX Language acquisition'!A4098 & \"\"\",\"\"\" & 'BX Language acquisition'!C4098 & \"\"\",\"\"\" & 'BX Language acquisition'!B4098 & \"\"\",\"\"\" & 'BX Language acquisition'!D4098 & \"\"\"\"","v":"\" \",\"\",\"\",\"\""}]
[{"$f":"\"\"\" \"& 'BX Language acquisition'!A4099 & \"\"\",\"\"\" & 'BX Language acquisition'!C4099 & \"\"\",\"\"\" & 'BX Language acquisition'!B4099 & \"\"\",\"\"\" & 'BX Language acquisition'!D4099 & \"\"\"\"","v":"\" \",\"\",\"\",\"\""}]
[{"$f":"\"\"\" \"& 'BX Language acquisition'!A4100 & \"\"\",\"\"\" & 'BX Language acquisition'!C4100 & \"\"\",\"\"\" & 'BX Language acquisition'!B4100 & \"\"\",\"\"\" & 'BX Language acquisition'!D4100 & \"\"\"\"","v":"\" \",\"\",\"\",\"\""}]
[{"$f":"\"\"\" \"& 'BX Language acquisition'!A4101 & \"\"\",\"\"\" & 'BX Language acquisition'!C4101 & \"\"\",\"\"\" & 'BX Language acquisition'!B4101 & \"\"\",\"\"\" & 'BX Language acquisition'!D4101 & \"\"\"\"","v":"\" \",\"\",\"\",\"\""}]
[{"$f":"\"\"\" \"& 'BX Language acquisition'!A4102 & \"\"\",\"\"\" & 'BX Language acquisition'!C4102 & \"\"\",\"\"\" & 'BX Language acquisition'!B4102 & \"\"\",\"\"\" & 'BX Language acquisition'!D4102 & \"\"\"\"","v":"\" \",\"\",\"\",\"\""}]
[{"$f":"\"\"\" \"& 'BX Language acquisition'!A4103 & \"\"\",\"\"\" & 'BX Language acquisition'!C4103 & \"\"\",\"\"\" & 'BX Language acquisition'!B4103 & \"\"\",\"\"\" & 'BX Language acquisition'!D4103 & \"\"\"\"","v":"\" \",\"\",\"\",\"\""}]
[{"$f":"\"\"\" \"& 'BX Language acquisition'!A4104 & \"\"\",\"\"\" & 'BX Language acquisition'!C4104 & \"\"\",\"\"\" & 'BX Language acquisition'!B4104 & \"\"\",\"\"\" & 'BX Language acquisition'!D4104 & \"\"\"\"","v":"\" \",\"\",\"\",\"\""}]
[{"$f":"\"\"\" \"& 'BX Language acquisition'!A4105 & \"\"\",\"\"\" & 'BX Language acquisition'!C4105 & \"\"\",\"\"\" & 'BX Language acquisition'!B4105 & \"\"\",\"\"\" & 'BX Language acquisition'!D4105 & \"\"\"\"","v":"\" \",\"\",\"\",\"\""}]
[{"$f":"\"\"\" \"& 'BX Language acquisition'!A4106 & \"\"\",\"\"\" & 'BX Language acquisition'!C4106 & \"\"\",\"\"\" & 'BX Language acquisition'!B4106 & \"\"\",\"\"\" & 'BX Language acquisition'!D4106 & \"\"\"\"","v":"\" \",\"\",\"\",\"\""}]
[{"$f":"\"\"\" \"& 'BX Language acquisition'!A4107 & \"\"\",\"\"\" & 'BX Language acquisition'!C4107 & \"\"\",\"\"\" & 'BX Language acquisition'!B4107 & \"\"\",\"\"\" & 'BX Language acquisition'!D4107 & \"\"\"\"","v":"\" \",\"\",\"\",\"\""}]
[{"$f":"\"\"\" \"& 'BX Language acquisition'!A4108 & \"\"\",\"\"\" & 'BX Language acquisition'!C4108 & \"\"\",\"\"\" & 'BX Language acquisition'!B4108 & \"\"\",\"\"\" & 'BX Language acquisition'!D4108 & \"\"\"\"","v":"\" \",\"\",\"\",\"\""}]
[{"$f":"\"\"\" \"& 'BX Language acquisition'!A4109 & \"\"\",\"\"\" & 'BX Language acquisition'!C4109 & \"\"\",\"\"\" & 'BX Language acquisition'!B4109 & \"\"\",\"\"\" & 'BX Language acquisition'!D4109 & \"\"\"\"","v":"\" \",\"\",\"\",\"\""}]
[{"$f":"\"\"\" \"& 'BX Language acquisition'!A4110 & \"\"\",\"\"\" & 'BX Language acquisition'!C4110 & \"\"\",\"\"\" & 'BX Language acquisition'!B4110 & \"\"\",\"\"\" & 'BX Language acquisition'!D4110 & \"\"\"\"","v":"\" \",\"\",\"\",\"\""}]
[{"$f":"\"\"\" \"& 'BX Language acquisition'!A4111 & \"\"\",\"\"\" & 'BX Language acquisition'!C4111 & \"\"\",\"\"\" & 'BX Language acquisition'!B4111 & \"\"\",\"\"\" & 'BX Language acquisition'!D4111 & \"\"\"\"","v":"\" \",\"\",\"\",\"\""}]
[{"$f":"\"\"\" \"& 'BX Language acquisition'!A4112 & \"\"\",\"\"\" & 'BX Language acquisition'!C4112 & \"\"\",\"\"\" & 'BX Language acquisition'!B4112 & \"\"\",\"\"\" & 'BX Language acquisition'!D4112 & \"\"\"\"","v":"\" \",\"\",\"\",\"\""}]
[{"$f":"\"\"\" \"& 'BX Language acquisition'!A4113 & \"\"\",\"\"\" & 'BX Language acquisition'!C4113 & \"\"\",\"\"\" & 'BX Language acquisition'!B4113 & \"\"\",\"\"\" & 'BX Language acquisition'!D4113 & \"\"\"\"","v":"\" \",\"\",\"\",\"\""}]
[{"$f":"\"\"\" \"& 'BX Language acquisition'!A4114 & \"\"\",\"\"\" & 'BX Language acquisition'!C4114 & \"\"\",\"\"\" & 'BX Language acquisition'!B4114 & \"\"\",\"\"\" & 'BX Language acquisition'!D4114 & \"\"\"\"","v":"\" \",\"\",\"\",\"\""}]
[{"$f":"\"\"\" \"& 'BX Language acquisition'!A4115 & \"\"\",\"\"\" & 'BX Language acquisition'!C4115 & \"\"\",\"\"\" & 'BX Language acquisition'!B4115 & \"\"\",\"\"\" & 'BX Language acquisition'!D4115 & \"\"\"\"","v":"\" \",\"\",\"\",\"\""}]
[{"$f":"\"\"\" \"& 'BX Language acquisition'!A4116 & \"\"\",\"\"\" & 'BX Language acquisition'!C4116 & \"\"\",\"\"\" & 'BX Language acquisition'!B4116 & \"\"\",\"\"\" & 'BX Language acquisition'!D4116 & \"\"\"\"","v":"\" \",\"\",\"\",\"\""}]
[{"$f":"\"\"\" \"& 'BX Language acquisition'!A4117 & \"\"\",\"\"\" & 'BX Language acquisition'!C4117 & \"\"\",\"\"\" & 'BX Language acquisition'!B4117 & \"\"\",\"\"\" & 'BX Language acquisition'!D4117 & \"\"\"\"","v":"\" \",\"\",\"\",\"\""}]
[{"$f":"\"\"\" \"& 'BX Language acquisition'!A4118 & \"\"\",\"\"\" & 'BX Language acquisition'!C4118 & \"\"\",\"\"\" & 'BX Language acquisition'!B4118 & \"\"\",\"\"\" & 'BX Language acquisition'!D4118 & \"\"\"\"","v":"\" \",\"\",\"\",\"\""}]
[{"$f":"\"\"\" \"& 'BX Language acquisition'!A4119 & \"\"\",\"\"\" & 'BX Language acquisition'!C4119 & \"\"\",\"\"\" & 'BX Language acquisition'!B4119 & \"\"\",\"\"\" & 'BX Language acquisition'!D4119 & \"\"\"\"","v":"\" \",\"\",\"\",\"\""}]
[{"$f":"\"\"\" \"& 'BX Language acquisition'!A4120 & \"\"\",\"\"\" & 'BX Language acquisition'!C4120 & \"\"\",\"\"\" & 'BX Language acquisition'!B4120 & \"\"\",\"\"\" & 'BX Language acquisition'!D4120 & \"\"\"\"","v":"\" \",\"\",\"\",\"\""}]
[{"$f":"\"\"\" \"& 'BX Language acquisition'!A4121 & \"\"\",\"\"\" & 'BX Language acquisition'!C4121 & \"\"\",\"\"\" & 'BX Language acquisition'!B4121 & \"\"\",\"\"\" & 'BX Language acquisition'!D4121 & \"\"\"\"","v":"\" \",\"\",\"\",\"\""}]
[{"$f":"\"\"\" \"& 'BX Language acquisition'!A4122 & \"\"\",\"\"\" & 'BX Language acquisition'!C4122 & \"\"\",\"\"\" & 'BX Language acquisition'!B4122 & \"\"\",\"\"\" & 'BX Language acquisition'!D4122 & \"\"\"\"","v":"\" \",\"\",\"\",\"\""}]
[{"$f":"\"\"\" \"& 'BX Language acquisition'!A4123 & \"\"\",\"\"\" & 'BX Language acquisition'!C4123 & \"\"\",\"\"\" & 'BX Language acquisition'!B4123 & \"\"\",\"\"\" & 'BX Language acquisition'!D4123 & \"\"\"\"","v":"\" \",\"\",\"\",\"\""}]
[{"$f":"\"\"\" \"& 'BX Language acquisition'!A4124 & \"\"\",\"\"\" & 'BX Language acquisition'!C4124 & \"\"\",\"\"\" & 'BX Language acquisition'!B4124 & \"\"\",\"\"\" & 'BX Language acquisition'!D4124 & \"\"\"\"","v":"\" \",\"\",\"\",\"\""}]
[{"$f":"\"\"\" \"& 'BX Language acquisition'!A4125 & \"\"\",\"\"\" & 'BX Language acquisition'!C4125 & \"\"\",\"\"\" & 'BX Language acquisition'!B4125 & \"\"\",\"\"\" & 'BX Language acquisition'!D4125 & \"\"\"\"","v":"\" \",\"\",\"\",\"\""}]
[{"$f":"\"\"\" \"& 'BX Language acquisition'!A4126 & \"\"\",\"\"\" & 'BX Language acquisition'!C4126 & \"\"\",\"\"\" & 'BX Language acquisition'!B4126 & \"\"\",\"\"\" & 'BX Language acquisition'!D4126 & \"\"\"\"","v":"\" \",\"\",\"\",\"\""}]
[{"$f":"\"\"\" \"& 'BX Language acquisition'!A4127 & \"\"\",\"\"\" & 'BX Language acquisition'!C4127 & \"\"\",\"\"\" & 'BX Language acquisition'!B4127 & \"\"\",\"\"\" & 'BX Language acquisition'!D4127 & \"\"\"\"","v":"\" \",\"\",\"\",\"\""}]
[{"$f":"\"\"\" \"& 'BX Language acquisition'!A4128 & \"\"\",\"\"\" & 'BX Language acquisition'!C4128 & \"\"\",\"\"\" & 'BX Language acquisition'!B4128 & \"\"\",\"\"\" & 'BX Language acquisition'!D4128 & \"\"\"\"","v":"\" \",\"\",\"\",\"\""}]
[{"$f":"\"\"\" \"& 'BX Language acquisition'!A4129 & \"\"\",\"\"\" & 'BX Language acquisition'!C4129 & \"\"\",\"\"\" & 'BX Language acquisition'!B4129 & \"\"\",\"\"\" & 'BX Language acquisition'!D4129 & \"\"\"\"","v":"\" \",\"\",\"\",\"\""}]
[{"$f":"\"\"\" \"& 'BX Language acquisition'!A4130 & \"\"\",\"\"\" & 'BX Language acquisition'!C4130 & \"\"\",\"\"\" & 'BX Language acquisition'!B4130 & \"\"\",\"\"\" & 'BX Language acquisition'!D4130 & \"\"\"\"","v":"\" \",\"\",\"\",\"\""}]
[{"$f":"\"\"\" \"& 'BX Language acquisition'!A4131 & \"\"\",\"\"\" & 'BX Language acquisition'!C4131 & \"\"\",\"\"\" & 'BX Language acquisition'!B4131 & \"\"\",\"\"\" & 'BX Language acquisition'!D4131 & \"\"\"\"","v":"\" \",\"\",\"\",\"\""}]
[{"$f":"\"\"\" \"& 'BX Language acquisition'!A4132 & \"\"\",\"\"\" & 'BX Language acquisition'!C4132 & \"\"\",\"\"\" & 'BX Language acquisition'!B4132 & \"\"\",\"\"\" & 'BX Language acquisition'!D4132 & \"\"\"\"","v":"\" \",\"\",\"\",\"\""}]
[{"$f":"\"\"\" \"& 'BX Language acquisition'!A4133 & \"\"\",\"\"\" & 'BX Language acquisition'!C4133 & \"\"\",\"\"\" & 'BX Language acquisition'!B4133 & \"\"\",\"\"\" & 'BX Language acquisition'!D4133 & \"\"\"\"","v":"\" \",\"\",\"\",\"\""}]
[{"$f":"\"\"\" \"& 'BX Language acquisition'!A4134 & \"\"\",\"\"\" & 'BX Language acquisition'!C4134 & \"\"\",\"\"\" & 'BX Language acquisition'!B4134 & \"\"\",\"\"\" & 'BX Language acquisition'!D4134 & \"\"\"\"","v":"\" \",\"\",\"\",\"\""}]
[{"$f":"\"\"\" \"& 'BX Language acquisition'!A4135 & \"\"\",\"\"\" & 'BX Language acquisition'!C4135 & \"\"\",\"\"\" & 'BX Language acquisition'!B4135 & \"\"\",\"\"\" & 'BX Language acquisition'!D4135 & \"\"\"\"","v":"\" \",\"\",\"\",\"\""}]
[{"$f":"\"\"\" \"& 'BX Language acquisition'!A4136 & \"\"\",\"\"\" & 'BX Language acquisition'!C4136 & \"\"\",\"\"\" & 'BX Language acquisition'!B4136 & \"\"\",\"\"\" & 'BX Language acquisition'!D4136 & \"\"\"\"","v":"\" \",\"\",\"\",\"\""}]
[{"$f":"\"\"\" \"& 'BX Language acquisition'!A4137 & \"\"\",\"\"\" & 'BX Language acquisition'!C4137 & \"\"\",\"\"\" & 'BX Language acquisition'!B4137 & \"\"\",\"\"\" & 'BX Language acquisition'!D4137 & \"\"\"\"","v":"\" \",\"\",\"\",\"\""}]
[{"$f":"\"\"\" \"& 'BX Language acquisition'!A4138 & \"\"\",\"\"\" & 'BX Language acquisition'!C4138 & \"\"\",\"\"\" & 'BX Language acquisition'!B4138 & \"\"\",\"\"\" & 'BX Language acquisition'!D4138 & \"\"\"\"","v":"\" \",\"\",\"\",\"\""}]
[{"$f":"\"\"\" \"& 'BX Language acquisition'!A4139 & \"\"\",\"\"\" & 'BX Language acquisition'!C4139 & \"\"\",\"\"\" & 'BX Language acquisition'!B4139 & \"\"\",\"\"\" & 'BX Language acquisition'!D4139 & \"\"\"\"","v":"\" \",\"\",\"\",\"\""}]
[{"$f":"\"\"\" \"& 'BX Language acquisition'!A4140 & \"\"\",\"\"\" & 'BX Language acquisition'!C4140 & \"\"\",\"\"\" & 'BX Language acquisition'!B4140 & \"\"\",\"\"\" & 'BX Language acquisition'!D4140 & \"\"\"\"","v":"\" \",\"\",\"\",\"\""}]
[{"$f":"\"\"\" \"& 'BX Language acquisition'!A4141 & \"\"\",\"\"\" & 'BX Language acquisition'!C4141 & \"\"\",\"\"\" & 'BX Language acquisition'!B4141 & \"\"\",\"\"\" & 'BX Language acquisition'!D4141 & \"\"\"\"","v":"\" \",\"\",\"\",\"\""}]
[{"$f":"\"\"\" \"& 'BX Language acquisition'!A4142 & \"\"\",\"\"\" & 'BX Language acquisition'!C4142 & \"\"\",\"\"\" & 'BX Language acquisition'!B4142 & \"\"\",\"\"\" & 'BX Language acquisition'!D4142 & \"\"\"\"","v":"\" \",\"\",\"\",\"\""}]
[{"$f":"\"\"\" \"& 'BX Language acquisition'!A4143 & \"\"\",\"\"\" & 'BX Language acquisition'!C4143 & \"\"\",\"\"\" & 'BX Language acquisition'!B4143 & \"\"\",\"\"\" & 'BX Language acquisition'!D4143 & \"\"\"\"","v":"\" \",\"\",\"\",\"\""}]
[{"$f":"\"\"\" \"& 'BX Language acquisition'!A4144 & \"\"\",\"\"\" & 'BX Language acquisition'!C4144 & \"\"\",\"\"\" & 'BX Language acquisition'!B4144 & \"\"\",\"\"\" & 'BX Language acquisition'!D4144 & \"\"\"\"","v":"\" \",\"\",\"\",\"\""}]
[{"$f":"\"\"\" \"& 'BX Language acquisition'!A4145 & \"\"\",\"\"\" & 'BX Language acquisition'!C4145 & \"\"\",\"\"\" & 'BX Language acquisition'!B4145 & \"\"\",\"\"\" & 'BX Language acquisition'!D4145 & \"\"\"\"","v":"\" \",\"\",\"\",\"\""}]
[{"$f":"\"\"\" \"& 'BX Language acquisition'!A4146 & \"\"\",\"\"\" & 'BX Language acquisition'!C4146 & \"\"\",\"\"\" & 'BX Language acquisition'!B4146 & \"\"\",\"\"\" & 'BX Language acquisition'!D4146 & \"\"\"\"","v":"\" \",\"\",\"\",\"\""}]
[{"$f":"\"\"\" \"& 'BX Language acquisition'!A4147 & \"\"\",\"\"\" & 'BX Language acquisition'!C4147 & \"\"\",\"\"\" & 'BX Language acquisition'!B4147 & \"\"\",\"\"\" & 'BX Language acquisition'!D4147 & \"\"\"\"","v":"\" \",\"\",\"\",\"\""}]
[{"$f":"\"\"\" \"& 'BX Language acquisition'!A4148 & \"\"\",\"\"\" & 'BX Language acquisition'!C4148 & \"\"\",\"\"\" & 'BX Language acquisition'!B4148 & \"\"\",\"\"\" & 'BX Language acquisition'!D4148 & \"\"\"\"","v":"\" \",\"\",\"\",\"\""}]
[{"$f":"\"\"\" \"& 'BX Language acquisition'!A4149 & \"\"\",\"\"\" & 'BX Language acquisition'!C4149 & \"\"\",\"\"\" & 'BX Language acquisition'!B4149 & \"\"\",\"\"\" & 'BX Language acquisition'!D4149 & \"\"\"\"","v":"\" \",\"\",\"\",\"\""}]
[{"$f":"\"\"\" \"& 'BX Language acquisition'!A4150 & \"\"\",\"\"\" & 'BX Language acquisition'!C4150 & \"\"\",\"\"\" & 'BX Language acquisition'!B4150 & \"\"\",\"\"\" & 'BX Language acquisition'!D4150 & \"\"\"\"","v":"\" \",\"\",\"\",\"\""}]
[{"$f":"\"\"\" \"& 'BX Language acquisition'!A4151 & \"\"\",\"\"\" & 'BX Language acquisition'!C4151 & \"\"\",\"\"\" & 'BX Language acquisition'!B4151 & \"\"\",\"\"\" & 'BX Language acquisition'!D4151 & \"\"\"\"","v":"\" \",\"\",\"\",\"\""}]
[{"$f":"\"\"\" \"& 'BX Language acquisition'!A4152 & \"\"\",\"\"\" & 'BX Language acquisition'!C4152 & \"\"\",\"\"\" & 'BX Language acquisition'!B4152 & \"\"\",\"\"\" & 'BX Language acquisition'!D4152 & \"\"\"\"","v":"\" \",\"\",\"\",\"\""}]
[{"$f":"\"\"\" \"& 'BX Language acquisition'!A4153 & \"\"\",\"\"\" & 'BX Language acquisition'!C4153 & \"\"\",\"\"\" & 'BX Language acquisition'!B4153 & \"\"\",\"\"\" & 'BX Language acquisition'!D4153 & \"\"\"\"","v":"\" \",\"\",\"\",\"\""}]
[{"$f":"\"\"\" \"& 'BX Language acquisition'!A4154 & \"\"\",\"\"\" & 'BX Language acquisition'!C4154 & \"\"\",\"\"\" & 'BX Language acquisition'!B4154 & \"\"\",\"\"\" & 'BX Language acquisition'!D4154 & \"\"\"\"","v":"\" \",\"\",\"\",\"\""}]
[{"$f":"\"\"\" \"& 'BX Language acquisition'!A4155 & \"\"\",\"\"\" & 'BX Language acquisition'!C4155 & \"\"\",\"\"\" & 'BX Language acquisition'!B4155 & \"\"\",\"\"\" & 'BX Language acquisition'!D4155 & \"\"\"\"","v":"\" \",\"\",\"\",\"\""}]
[{"$f":"\"\"\" \"& 'BX Language acquisition'!A4156 & \"\"\",\"\"\" & 'BX Language acquisition'!C4156 & \"\"\",\"\"\" & 'BX Language acquisition'!B4156 & \"\"\",\"\"\" & 'BX Language acquisition'!D4156 & \"\"\"\"","v":"\" \",\"\",\"\",\"\""}]
[{"$f":"\"\"\" \"& 'BX Language acquisition'!A4157 & \"\"\",\"\"\" & 'BX Language acquisition'!C4157 & \"\"\",\"\"\" & 'BX Language acquisition'!B4157 & \"\"\",\"\"\" & 'BX Language acquisition'!D4157 & \"\"\"\"","v":"\" \",\"\",\"\",\"\""}]
[{"$f":"\"\"\" \"& 'BX Language acquisition'!A4158 & \"\"\",\"\"\" & 'BX Language acquisition'!C4158 & \"\"\",\"\"\" & 'BX Language acquisition'!B4158 & \"\"\",\"\"\" & 'BX Language acquisition'!D4158 & \"\"\"\"","v":"\" \",\"\",\"\",\"\""}]
[{"$f":"\"\"\" \"& 'BX Language acquisition'!A4159 & \"\"\",\"\"\" & 'BX Language acquisition'!C4159 & \"\"\",\"\"\" & 'BX Language acquisition'!B4159 & \"\"\",\"\"\" & 'BX Language acquisition'!D4159 & \"\"\"\"","v":"\" \",\"\",\"\",\"\""}]
[{"$f":"\"\"\" \"& 'BX Language acquisition'!A4160 & \"\"\",\"\"\" & 'BX Language acquisition'!C4160 & \"\"\",\"\"\" & 'BX Language acquisition'!B4160 & \"\"\",\"\"\" & 'BX Language acquisition'!D4160 & \"\"\"\"","v":"\" \",\"\",\"\",\"\""}]
[{"$f":"\"\"\" \"& 'BX Language acquisition'!A4161 & \"\"\",\"\"\" & 'BX Language acquisition'!C4161 & \"\"\",\"\"\" & 'BX Language acquisition'!B4161 & \"\"\",\"\"\" & 'BX Language acquisition'!D4161 & \"\"\"\"","v":"\" \",\"\",\"\",\"\""}]
[{"$f":"\"\"\" \"& 'BX Language acquisition'!A4162 & \"\"\",\"\"\" & 'BX Language acquisition'!C4162 & \"\"\",\"\"\" & 'BX Language acquisition'!B4162 & \"\"\",\"\"\" & 'BX Language acquisition'!D4162 & \"\"\"\"","v":"\" \",\"\",\"\",\"\""}]
[{"$f":"\"\"\" \"& 'BX Language acquisition'!A4163 & \"\"\",\"\"\" & 'BX Language acquisition'!C4163 & \"\"\",\"\"\" & 'BX Language acquisition'!B4163 & \"\"\",\"\"\" & 'BX Language acquisition'!D4163 & \"\"\"\"","v":"\" \",\"\",\"\",\"\""}]
[{"$f":"\"\"\" \"& 'BX Language acquisition'!A4164 & \"\"\",\"\"\" & 'BX Language acquisition'!C4164 & \"\"\",\"\"\" & 'BX Language acquisition'!B4164 & \"\"\",\"\"\" & 'BX Language acquisition'!D4164 & \"\"\"\"","v":"\" \",\"\",\"\",\"\""}]
[{"$f":"\"\"\" \"& 'BX Language acquisition'!A4165 & \"\"\",\"\"\" & 'BX Language acquisition'!C4165 & \"\"\",\"\"\" & 'BX Language acquisition'!B4165 & \"\"\",\"\"\" & 'BX Language acquisition'!D4165 & \"\"\"\"","v":"\" \",\"\",\"\",\"\""}]
[{"$f":"\"\"\" \"& 'BX Language acquisition'!A4166 & \"\"\",\"\"\" & 'BX Language acquisition'!C4166 & \"\"\",\"\"\" & 'BX Language acquisition'!B4166 & \"\"\",\"\"\" & 'BX Language acquisition'!D4166 & \"\"\"\"","v":"\" \",\"\",\"\",\"\""}]
[{"$f":"\"\"\" \"& 'BX Language acquisition'!A4167 & \"\"\",\"\"\" & 'BX Language acquisition'!C4167 & \"\"\",\"\"\" & 'BX Language acquisition'!B4167 & \"\"\",\"\"\" & 'BX Language acquisition'!D4167 & \"\"\"\"","v":"\" \",\"\",\"\",\"\""}]
[{"$f":"\"\"\" \"& 'BX Language acquisition'!A4168 & \"\"\",\"\"\" & 'BX Language acquisition'!C4168 & \"\"\",\"\"\" & 'BX Language acquisition'!B4168 & \"\"\",\"\"\" & 'BX Language acquisition'!D4168 & \"\"\"\"","v":"\" \",\"\",\"\",\"\""}]
[{"$f":"\"\"\" \"& 'BX Language acquisition'!A4169 & \"\"\",\"\"\" & 'BX Language acquisition'!C4169 & \"\"\",\"\"\" & 'BX Language acquisition'!B4169 & \"\"\",\"\"\" & 'BX Language acquisition'!D4169 & \"\"\"\"","v":"\" \",\"\",\"\",\"\""}]
[{"$f":"\"\"\" \"& 'BX Language acquisition'!A4170 & \"\"\",\"\"\" & 'BX Language acquisition'!C4170 & \"\"\",\"\"\" & 'BX Language acquisition'!B4170 & \"\"\",\"\"\" & 'BX Language acquisition'!D4170 & \"\"\"\"","v":"\" \",\"\",\"\",\"\""}]
[{"$f":"\"\"\" \"& 'BX Language acquisition'!A4171 & \"\"\",\"\"\" & 'BX Language acquisition'!C4171 & \"\"\",\"\"\" & 'BX Language acquisition'!B4171 & \"\"\",\"\"\" & 'BX Language acquisition'!D4171 & \"\"\"\"","v":"\" \",\"\",\"\",\"\""}]
[{"$f":"\"\"\" \"& 'BX Language acquisition'!A4172 & \"\"\",\"\"\" & 'BX Language acquisition'!C4172 & \"\"\",\"\"\" & 'BX Language acquisition'!B4172 & \"\"\",\"\"\" & 'BX Language acquisition'!D4172 & \"\"\"\"","v":"\" \",\"\",\"\",\"\""}]
[{"$f":"\"\"\" \"& 'BX Language acquisition'!A4173 & \"\"\",\"\"\" & 'BX Language acquisition'!C4173 & \"\"\",\"\"\" & 'BX Language acquisition'!B4173 & \"\"\",\"\"\" & 'BX Language acquisition'!D4173 & \"\"\"\"","v":"\" \",\"\",\"\",\"\""}]
[{"$f":"\"\"\" \"& 'BX Language acquisition'!A4174 & \"\"\",\"\"\" & 'BX Language acquisition'!C4174 & \"\"\",\"\"\" & 'BX Language acquisition'!B4174 & \"\"\",\"\"\" & 'BX Language acquisition'!D4174 & \"\"\"\"","v":"\" \",\"\",\"\",\"\""}]
[{"$f":"\"\"\" \"& 'BX Language acquisition'!A4175 & \"\"\",\"\"\" & 'BX Language acquisition'!C4175 & \"\"\",\"\"\" & 'BX Language acquisition'!B4175 & \"\"\",\"\"\" & 'BX Language acquisition'!D4175 & \"\"\"\"","v":"\" \",\"\",\"\",\"\""}]
[{"$f":"\"\"\" \"& 'BX Language acquisition'!A4176 & \"\"\",\"\"\" & 'BX Language acquisition'!C4176 & \"\"\",\"\"\" & 'BX Language acquisition'!B4176 & \"\"\",\"\"\" & 'BX Language acquisition'!D4176 & \"\"\"\"","v":"\" \",\"\",\"\",\"\""}]
[{"$f":"\"\"\" \"& 'BX Language acquisition'!A4177 & \"\"\",\"\"\" & 'BX Language acquisition'!C4177 & \"\"\",\"\"\" & 'BX Language acquisition'!B4177 & \"\"\",\"\"\" & 'BX Language acquisition'!D4177 & \"\"\"\"","v":"\" \",\"\",\"\",\"\""}]
[{"$f":"\"\"\" \"& 'BX Language acquisition'!A4178 & \"\"\",\"\"\" & 'BX Language acquisition'!C4178 & \"\"\",\"\"\" & 'BX Language acquisition'!B4178 & \"\"\",\"\"\" & 'BX Language acquisition'!D4178 & \"\"\"\"","v":"\" \",\"\",\"\",\"\""}]
[{"$f":"\"\"\" \"& 'BX Language acquisition'!A4179 & \"\"\",\"\"\" & 'BX Language acquisition'!C4179 & \"\"\",\"\"\" & 'BX Language acquisition'!B4179 & \"\"\",\"\"\" & 'BX Language acquisition'!D4179 & \"\"\"\"","v":"\" \",\"\",\"\",\"\""}]
[{"$f":"\"\"\" \"& 'BX Language acquisition'!A4180 & \"\"\",\"\"\" & 'BX Language acquisition'!C4180 & \"\"\",\"\"\" & 'BX Language acquisition'!B4180 & \"\"\",\"\"\" & 'BX Language acquisition'!D4180 & \"\"\"\"","v":"\" \",\"\",\"\",\"\""}]
[{"$f":"\"\"\" \"& 'BX Language acquisition'!A4181 & \"\"\",\"\"\" & 'BX Language acquisition'!C4181 & \"\"\",\"\"\" & 'BX Language acquisition'!B4181 & \"\"\",\"\"\" & 'BX Language acquisition'!D4181 & \"\"\"\"","v":"\" \",\"\",\"\",\"\""}]
[{"$f":"\"\"\" \"& 'BX Language acquisition'!A4182 & \"\"\",\"\"\" & 'BX Language acquisition'!C4182 & \"\"\",\"\"\" & 'BX Language acquisition'!B4182 & \"\"\",\"\"\" & 'BX Language acquisition'!D4182 & \"\"\"\"","v":"\" \",\"\",\"\",\"\""}]
[{"$f":"\"\"\" \"& 'BX Language acquisition'!A4183 & \"\"\",\"\"\" & 'BX Language acquisition'!C4183 & \"\"\",\"\"\" & 'BX Language acquisition'!B4183 & \"\"\",\"\"\" & 'BX Language acquisition'!D4183 & \"\"\"\"","v":"\" \",\"\",\"\",\"\""}]
[{"$f":"\"\"\" \"& 'BX Language acquisition'!A4184 & \"\"\",\"\"\" & 'BX Language acquisition'!C4184 & \"\"\",\"\"\" & 'BX Language acquisition'!B4184 & \"\"\",\"\"\" & 'BX Language acquisition'!D4184 & \"\"\"\"","v":"\" \",\"\",\"\",\"\""}]
[{"$f":"\"\"\" \"& 'BX Language acquisition'!A4185 & \"\"\",\"\"\" & 'BX Language acquisition'!C4185 & \"\"\",\"\"\" & 'BX Language acquisition'!B4185 & \"\"\",\"\"\" & 'BX Language acquisition'!D4185 & \"\"\"\"","v":"\" \",\"\",\"\",\"\""}]
[{"$f":"\"\"\" \"& 'BX Language acquisition'!A4186 & \"\"\",\"\"\" & 'BX Language acquisition'!C4186 & \"\"\",\"\"\" & 'BX Language acquisition'!B4186 & \"\"\",\"\"\" & 'BX Language acquisition'!D4186 & \"\"\"\"","v":"\" \",\"\",\"\",\"\""}]
[{"$f":"\"\"\" \"& 'BX Language acquisition'!A4187 & \"\"\",\"\"\" & 'BX Language acquisition'!C4187 & \"\"\",\"\"\" & 'BX Language acquisition'!B4187 & \"\"\",\"\"\" & 'BX Language acquisition'!D4187 & \"\"\"\"","v":"\" \",\"\",\"\",\"\""}]
[{"$f":"\"\"\" \"& 'BX Language acquisition'!A4188 & \"\"\",\"\"\" & 'BX Language acquisition'!C4188 & \"\"\",\"\"\" & 'BX Language acquisition'!B4188 & \"\"\",\"\"\" & 'BX Language acquisition'!D4188 & \"\"\"\"","v":"\" \",\"\",\"\",\"\""}]
[{"$f":"\"\"\" \"& 'BX Language acquisition'!A4189 & \"\"\",\"\"\" & 'BX Language acquisition'!C4189 & \"\"\",\"\"\" & 'BX Language acquisition'!B4189 & \"\"\",\"\"\" & 'BX Language acquisition'!D4189 & \"\"\"\"","v":"\" \",\"\",\"\",\"\""}]
[{"$f":"\"\"\" \"& 'BX Language acquisition'!A4190 & \"\"\",\"\"\" & 'BX Language acquisition'!C4190 & \"\"\",\"\"\" & 'BX Language acquisition'!B4190 & \"\"\",\"\"\" & 'BX Language acquisition'!D4190 & \"\"\"\"","v":"\" \",\"\",\"\",\"\""}]
[{"$f":"\"\"\" \"& 'BX Language acquisition'!A4191 & \"\"\",\"\"\" & 'BX Language acquisition'!C4191 & \"\"\",\"\"\" & 'BX Language acquisition'!B4191 & \"\"\",\"\"\" & 'BX Language acquisition'!D4191 & \"\"\"\"","v":"\" \",\"\",\"\",\"\""}]
[{"$f":"\"\"\" \"& 'BX Language acquisition'!A4192 & \"\"\",\"\"\" & 'BX Language acquisition'!C4192 & \"\"\",\"\"\" & 'BX Language acquisition'!B4192 & \"\"\",\"\"\" & 'BX Language acquisition'!D4192 & \"\"\"\"","v":"\" \",\"\",\"\",\"\""}]
[{"$f":"\"\"\" \"& 'BX Language acquisition'!A4193 & \"\"\",\"\"\" & 'BX Language acquisition'!C4193 & \"\"\",\"\"\" & 'BX Language acquisition'!B4193 & \"\"\",\"\"\" & 'BX Language acquisition'!D4193 & \"\"\"\"","v":"\" \",\"\",\"\",\"\""}]
[{"$f":"\"\"\" \"& 'BX Language acquisition'!A4194 & \"\"\",\"\"\" & 'BX Language acquisition'!C4194 & \"\"\",\"\"\" & 'BX Language acquisition'!B4194 & \"\"\",\"\"\" & 'BX Language acquisition'!D4194 & \"\"\"\"","v":"\" \",\"\",\"\",\"\""}]
[{"$f":"\"\"\" \"& 'BX Language acquisition'!A4195 & \"\"\",\"\"\" & 'BX Language acquisition'!C4195 & \"\"\",\"\"\" & 'BX Language acquisition'!B4195 & \"\"\",\"\"\" & 'BX Language acquisition'!D4195 & \"\"\"\"","v":"\" \",\"\",\"\",\"\""}]
[{"$f":"\"\"\" \"& 'BX Language acquisition'!A4196 & \"\"\",\"\"\" & 'BX Language acquisition'!C4196 & \"\"\",\"\"\" & 'BX Language acquisition'!B4196 & \"\"\",\"\"\" & 'BX Language acquisition'!D4196 & \"\"\"\"","v":"\" \",\"\",\"\",\"\""}]
[{"$f":"\"\"\" \"& 'BX Language acquisition'!A4197 & \"\"\",\"\"\" & 'BX Language acquisition'!C4197 & \"\"\",\"\"\" & 'BX Language acquisition'!B4197 & \"\"\",\"\"\" & 'BX Language acquisition'!D4197 & \"\"\"\"","v":"\" \",\"\",\"\",\"\""}]
[{"$f":"\"\"\" \"& 'BX Language acquisition'!A4198 & \"\"\",\"\"\" & 'BX Language acquisition'!C4198 & \"\"\",\"\"\" & 'BX Language acquisition'!B4198 & \"\"\",\"\"\" & 'BX Language acquisition'!D4198 & \"\"\"\"","v":"\" \",\"\",\"\",\"\""}]
[{"$f":"\"\"\" \"& 'BX Language acquisition'!A4199 & \"\"\",\"\"\" & 'BX Language acquisition'!C4199 & \"\"\",\"\"\" & 'BX Language acquisition'!B4199 & \"\"\",\"\"\" & 'BX Language acquisition'!D4199 & \"\"\"\"","v":"\" \",\"\",\"\",\"\""}]
[{"$f":"\"\"\" \"& 'BX Language acquisition'!A4200 & \"\"\",\"\"\" & 'BX Language acquisition'!C4200 & \"\"\",\"\"\" & 'BX Language acquisition'!B4200 & \"\"\",\"\"\" & 'BX Language acquisition'!D4200 & \"\"\"\"","v":"\" \",\"\",\"\",\"\""}]
[{"$f":"\"\"\" \"& 'BX Language acquisition'!A4201 & \"\"\",\"\"\" & 'BX Language acquisition'!C4201 & \"\"\",\"\"\" & 'BX Language acquisition'!B4201 & \"\"\",\"\"\" & 'BX Language acquisition'!D4201 & \"\"\"\"","v":"\" \",\"\",\"\",\"\""}]
[{"$f":"\"\"\" \"& 'BX Language acquisition'!A4202 & \"\"\",\"\"\" & 'BX Language acquisition'!C4202 & \"\"\",\"\"\" & 'BX Language acquisition'!B4202 & \"\"\",\"\"\" & 'BX Language acquisition'!D4202 & \"\"\"\"","v":"\" \",\"\",\"\",\"\""}]
[{"$f":"\"\"\" \"& 'BX Language acquisition'!A4203 & \"\"\",\"\"\" & 'BX Language acquisition'!C4203 & \"\"\",\"\"\" & 'BX Language acquisition'!B4203 & \"\"\",\"\"\" & 'BX Language acquisition'!D4203 & \"\"\"\"","v":"\" \",\"\",\"\",\"\""}]
[{"$f":"\"\"\" \"& 'BX Language acquisition'!A4204 & \"\"\",\"\"\" & 'BX Language acquisition'!C4204 & \"\"\",\"\"\" & 'BX Language acquisition'!B4204 & \"\"\",\"\"\" & 'BX Language acquisition'!D4204 & \"\"\"\"","v":"\" \",\"\",\"\",\"\""}]
[{"$f":"\"\"\" \"& 'BX Language acquisition'!A4205 & \"\"\",\"\"\" & 'BX Language acquisition'!C4205 & \"\"\",\"\"\" & 'BX Language acquisition'!B4205 & \"\"\",\"\"\" & 'BX Language acquisition'!D4205 & \"\"\"\"","v":"\" \",\"\",\"\",\"\""}]
[{"$f":"\"\"\" \"& 'BX Language acquisition'!A4206 & \"\"\",\"\"\" & 'BX Language acquisition'!C4206 & \"\"\",\"\"\" & 'BX Language acquisition'!B4206 & \"\"\",\"\"\" & 'BX Language acquisition'!D4206 & \"\"\"\"","v":"\" \",\"\",\"\",\"\""}]
[{"$f":"\"\"\" \"& 'BX Language acquisition'!A4207 & \"\"\",\"\"\" & 'BX Language acquisition'!C4207 & \"\"\",\"\"\" & 'BX Language acquisition'!B4207 & \"\"\",\"\"\" & 'BX Language acquisition'!D4207 & \"\"\"\"","v":"\" \",\"\",\"\",\"\""}]
[{"$f":"\"\"\" \"& 'BX Language acquisition'!A4208 & \"\"\",\"\"\" & 'BX Language acquisition'!C4208 & \"\"\",\"\"\" & 'BX Language acquisition'!B4208 & \"\"\",\"\"\" & 'BX Language acquisition'!D4208 & \"\"\"\"","v":"\" \",\"\",\"\",\"\""}]
[{"$f":"\"\"\" \"& 'BX Language acquisition'!A4209 & \"\"\",\"\"\" & 'BX Language acquisition'!C4209 & \"\"\",\"\"\" & 'BX Language acquisition'!B4209 & \"\"\",\"\"\" & 'BX Language acquisition'!D4209 & \"\"\"\"","v":"\" \",\"\",\"\",\"\""}]
[{"$f":"\"\"\" \"& 'BX Language acquisition'!A4210 & \"\"\",\"\"\" & 'BX Language acquisition'!C4210 & \"\"\",\"\"\" & 'BX Language acquisition'!B4210 & \"\"\",\"\"\" & 'BX Language acquisition'!D4210 & \"\"\"\"","v":"\" \",\"\",\"\",\"\""}]
[{"$f":"\"\"\" \"& 'BX Language acquisition'!A4211 & \"\"\",\"\"\" & 'BX Language acquisition'!C4211 & \"\"\",\"\"\" & 'BX Language acquisition'!B4211 & \"\"\",\"\"\" & 'BX Language acquisition'!D4211 & \"\"\"\"","v":"\" \",\"\",\"\",\"\""}]
[{"$f":"\"\"\" \"& 'BX Language acquisition'!A4212 & \"\"\",\"\"\" & 'BX Language acquisition'!C4212 & \"\"\",\"\"\" & 'BX Language acquisition'!B4212 & \"\"\",\"\"\" & 'BX Language acquisition'!D4212 & \"\"\"\"","v":"\" \",\"\",\"\",\"\""}]
[{"$f":"\"\"\" \"& 'BX Language acquisition'!A4213 & \"\"\",\"\"\" & 'BX Language acquisition'!C4213 & \"\"\",\"\"\" & 'BX Language acquisition'!B4213 & \"\"\",\"\"\" & 'BX Language acquisition'!D4213 & \"\"\"\"","v":"\" \",\"\",\"\",\"\""}]
[{"$f":"\"\"\" \"& 'BX Language acquisition'!A4214 & \"\"\",\"\"\" & 'BX Language acquisition'!C4214 & \"\"\",\"\"\" & 'BX Language acquisition'!B4214 & \"\"\",\"\"\" & 'BX Language acquisition'!D4214 & \"\"\"\"","v":"\" \",\"\",\"\",\"\""}]
[{"$f":"\"\"\" \"& 'BX Language acquisition'!A4215 & \"\"\",\"\"\" & 'BX Language acquisition'!C4215 & \"\"\",\"\"\" & 'BX Language acquisition'!B4215 & \"\"\",\"\"\" & 'BX Language acquisition'!D4215 & \"\"\"\"","v":"\" \",\"\",\"\",\"\""}]
[{"$f":"\"\"\" \"& 'BX Language acquisition'!A4216 & \"\"\",\"\"\" & 'BX Language acquisition'!C4216 & \"\"\",\"\"\" & 'BX Language acquisition'!B4216 & \"\"\",\"\"\" & 'BX Language acquisition'!D4216 & \"\"\"\"","v":"\" \",\"\",\"\",\"\""}]
[{"$f":"\"\"\" \"& 'BX Language acquisition'!A4217 & \"\"\",\"\"\" & 'BX Language acquisition'!C4217 & \"\"\",\"\"\" & 'BX Language acquisition'!B4217 & \"\"\",\"\"\" & 'BX Language acquisition'!D4217 & \"\"\"\"","v":"\" \",\"\",\"\",\"\""}]
[{"$f":"\"\"\" \"& 'BX Language acquisition'!A4218 & \"\"\",\"\"\" & 'BX Language acquisition'!C4218 & \"\"\",\"\"\" & 'BX Language acquisition'!B4218 & \"\"\",\"\"\" & 'BX Language acquisition'!D4218 & \"\"\"\"","v":"\" \",\"\",\"\",\"\""}]
[{"$f":"\"\"\" \"& 'BX Language acquisition'!A4219 & \"\"\",\"\"\" & 'BX Language acquisition'!C4219 & \"\"\",\"\"\" & 'BX Language acquisition'!B4219 & \"\"\",\"\"\" & 'BX Language acquisition'!D4219 & \"\"\"\"","v":"\" \",\"\",\"\",\"\""}]
[{"$f":"\"\"\" \"& 'BX Language acquisition'!A4220 & \"\"\",\"\"\" & 'BX Language acquisition'!C4220 & \"\"\",\"\"\" & 'BX Language acquisition'!B4220 & \"\"\",\"\"\" & 'BX Language acquisition'!D4220 & \"\"\"\"","v":"\" \",\"\",\"\",\"\""}]
[{"$f":"\"\"\" \"& 'BX Language acquisition'!A4221 & \"\"\",\"\"\" & 'BX Language acquisition'!C4221 & \"\"\",\"\"\" & 'BX Language acquisition'!B4221 & \"\"\",\"\"\" & 'BX Language acquisition'!D4221 & \"\"\"\"","v":"\" \",\"\",\"\",\"\""}]
[{"$f":"\"\"\" \"& 'BX Language acquisition'!A4222 & \"\"\",\"\"\" & 'BX Language acquisition'!C4222 & \"\"\",\"\"\" & 'BX Language acquisition'!B4222 & \"\"\",\"\"\" & 'BX Language acquisition'!D4222 & \"\"\"\"","v":"\" \",\"\",\"\",\"\""}]
[{"$f":"\"\"\" \"& 'BX Language acquisition'!A4223 & \"\"\",\"\"\" & 'BX Language acquisition'!C4223 & \"\"\",\"\"\" & 'BX Language acquisition'!B4223 & \"\"\",\"\"\" & 'BX Language acquisition'!D4223 & \"\"\"\"","v":"\" \",\"\",\"\",\"\""}]
[{"$f":"\"\"\" \"& 'BX Language acquisition'!A4224 & \"\"\",\"\"\" & 'BX Language acquisition'!C4224 & \"\"\",\"\"\" & 'BX Language acquisition'!B4224 & \"\"\",\"\"\" & 'BX Language acquisition'!D4224 & \"\"\"\"","v":"\" \",\"\",\"\",\"\""}]
[{"$f":"\"\"\" \"& 'BX Language acquisition'!A4225 & \"\"\",\"\"\" & 'BX Language acquisition'!C4225 & \"\"\",\"\"\" & 'BX Language acquisition'!B4225 & \"\"\",\"\"\" & 'BX Language acquisition'!D4225 & \"\"\"\"","v":"\" \",\"\",\"\",\"\""}]
[{"$f":"\"\"\" \"& 'BX Language acquisition'!A4226 & \"\"\",\"\"\" & 'BX Language acquisition'!C4226 & \"\"\",\"\"\" & 'BX Language acquisition'!B4226 & \"\"\",\"\"\" & 'BX Language acquisition'!D4226 & \"\"\"\"","v":"\" \",\"\",\"\",\"\""}]
[{"$f":"\"\"\" \"& 'BX Language acquisition'!A4227 & \"\"\",\"\"\" & 'BX Language acquisition'!C4227 & \"\"\",\"\"\" & 'BX Language acquisition'!B4227 & \"\"\",\"\"\" & 'BX Language acquisition'!D4227 & \"\"\"\"","v":"\" \",\"\",\"\",\"\""}]
[{"$f":"\"\"\" \"& 'BX Language acquisition'!A4228 & \"\"\",\"\"\" & 'BX Language acquisition'!C4228 & \"\"\",\"\"\" & 'BX Language acquisition'!B4228 & \"\"\",\"\"\" & 'BX Language acquisition'!D4228 & \"\"\"\"","v":"\" \",\"\",\"\",\"\""}]
[{"$f":"\"\"\" \"& 'BX Language acquisition'!A4229 & \"\"\",\"\"\" & 'BX Language acquisition'!C4229 & \"\"\",\"\"\" & 'BX Language acquisition'!B4229 & \"\"\",\"\"\" & 'BX Language acquisition'!D4229 & \"\"\"\"","v":"\" \",\"\",\"\",\"\""}]
[{"$f":"\"\"\" \"& 'BX Language acquisition'!A4230 & \"\"\",\"\"\" & 'BX Language acquisition'!C4230 & \"\"\",\"\"\" & 'BX Language acquisition'!B4230 & \"\"\",\"\"\" & 'BX Language acquisition'!D4230 & \"\"\"\"","v":"\" \",\"\",\"\",\"\""}]
[{"$f":"\"\"\" \"& 'BX Language acquisition'!A4231 & \"\"\",\"\"\" & 'BX Language acquisition'!C4231 & \"\"\",\"\"\" & 'BX Language acquisition'!B4231 & \"\"\",\"\"\" & 'BX Language acquisition'!D4231 & \"\"\"\"","v":"\" \",\"\",\"\",\"\""}]
[{"$f":"\"\"\" \"& 'BX Language acquisition'!A4232 & \"\"\",\"\"\" & 'BX Language acquisition'!C4232 & \"\"\",\"\"\" & 'BX Language acquisition'!B4232 & \"\"\",\"\"\" & 'BX Language acquisition'!D4232 & \"\"\"\"","v":"\" \",\"\",\"\",\"\""}]
[{"$f":"\"\"\" \"& 'BX Language acquisition'!A4233 & \"\"\",\"\"\" & 'BX Language acquisition'!C4233 & \"\"\",\"\"\" & 'BX Language acquisition'!B4233 & \"\"\",\"\"\" & 'BX Language acquisition'!D4233 & \"\"\"\"","v":"\" \",\"\",\"\",\"\""}]
[{"$f":"\"\"\" \"& 'BX Language acquisition'!A4234 & \"\"\",\"\"\" & 'BX Language acquisition'!C4234 & \"\"\",\"\"\" & 'BX Language acquisition'!B4234 & \"\"\",\"\"\" & 'BX Language acquisition'!D4234 & \"\"\"\"","v":"\" \",\"\",\"\",\"\""}]
[{"$f":"\"\"\" \"& 'BX Language acquisition'!A4235 & \"\"\",\"\"\" & 'BX Language acquisition'!C4235 & \"\"\",\"\"\" & 'BX Language acquisition'!B4235 & \"\"\",\"\"\" & 'BX Language acquisition'!D4235 & \"\"\"\"","v":"\" \",\"\",\"\",\"\""}]
[{"$f":"\"\"\" \"& 'BX Language acquisition'!A4236 & \"\"\",\"\"\" & 'BX Language acquisition'!C4236 & \"\"\",\"\"\" & 'BX Language acquisition'!B4236 & \"\"\",\"\"\" & 'BX Language acquisition'!D4236 & \"\"\"\"","v":"\" \",\"\",\"\",\"\""}]
[{"$f":"\"\"\" \"& 'BX Language acquisition'!A4237 & \"\"\",\"\"\" & 'BX Language acquisition'!C4237 & \"\"\",\"\"\" & 'BX Language acquisition'!B4237 & \"\"\",\"\"\" & 'BX Language acquisition'!D4237 & \"\"\"\"","v":"\" \",\"\",\"\",\"\""}]
[{"$f":"\"\"\" \"& 'BX Language acquisition'!A4238 & \"\"\",\"\"\" & 'BX Language acquisition'!C4238 & \"\"\",\"\"\" & 'BX Language acquisition'!B4238 & \"\"\",\"\"\" & 'BX Language acquisition'!D4238 & \"\"\"\"","v":"\" \",\"\",\"\",\"\""}]
[{"$f":"\"\"\" \"& 'BX Language acquisition'!A4239 & \"\"\",\"\"\" & 'BX Language acquisition'!C4239 & \"\"\",\"\"\" & 'BX Language acquisition'!B4239 & \"\"\",\"\"\" & 'BX Language acquisition'!D4239 & \"\"\"\"","v":"\" \",\"\",\"\",\"\""}]
[{"$f":"\"\"\" \"& 'BX Language acquisition'!A4240 & \"\"\",\"\"\" & 'BX Language acquisition'!C4240 & \"\"\",\"\"\" & 'BX Language acquisition'!B4240 & \"\"\",\"\"\" & 'BX Language acquisition'!D4240 & \"\"\"\"","v":"\" \",\"\",\"\",\"\""}]
[{"$f":"\"\"\" \"& 'BX Language acquisition'!A4241 & \"\"\",\"\"\" & 'BX Language acquisition'!C4241 & \"\"\",\"\"\" & 'BX Language acquisition'!B4241 & \"\"\",\"\"\" & 'BX Language acquisition'!D4241 & \"\"\"\"","v":"\" \",\"\",\"\",\"\""}]
[{"$f":"\"\"\" \"& 'BX Language acquisition'!A4242 & \"\"\",\"\"\" & 'BX Language acquisition'!C4242 & \"\"\",\"\"\" & 'BX Language acquisition'!B4242 & \"\"\",\"\"\" & 'BX Language acquisition'!D4242 & \"\"\"\"","v":"\" \",\"\",\"\",\"\""}]
[{"$f":"\"\"\" \"& 'BX Language acquisition'!A4243 & \"\"\",\"\"\" & 'BX Language acquisition'!C4243 & \"\"\",\"\"\" & 'BX Language acquisition'!B4243 & \"\"\",\"\"\" & 'BX Language acquisition'!D4243 & \"\"\"\"","v":"\" \",\"\",\"\",\"\""}]
[{"$f":"\"\"\" \"& 'BX Language acquisition'!A4244 & \"\"\",\"\"\" & 'BX Language acquisition'!C4244 & \"\"\",\"\"\" & 'BX Language acquisition'!B4244 & \"\"\",\"\"\" & 'BX Language acquisition'!D4244 & \"\"\"\"","v":"\" \",\"\",\"\",\"\""}]
[{"$f":"\"\"\" \"& 'BX Language acquisition'!A4245 & \"\"\",\"\"\" & 'BX Language acquisition'!C4245 & \"\"\",\"\"\" & 'BX Language acquisition'!B4245 & \"\"\",\"\"\" & 'BX Language acquisition'!D4245 & \"\"\"\"","v":"\" \",\"\",\"\",\"\""}]
[{"$f":"\"\"\" \"& 'BX Language acquisition'!A4246 & \"\"\",\"\"\" & 'BX Language acquisition'!C4246 & \"\"\",\"\"\" & 'BX Language acquisition'!B4246 & \"\"\",\"\"\" & 'BX Language acquisition'!D4246 & \"\"\"\"","v":"\" \",\"\",\"\",\"\""}]
[{"$f":"\"\"\" \"& 'BX Language acquisition'!A4247 & \"\"\",\"\"\" & 'BX Language acquisition'!C4247 & \"\"\",\"\"\" & 'BX Language acquisition'!B4247 & \"\"\",\"\"\" & 'BX Language acquisition'!D4247 & \"\"\"\"","v":"\" \",\"\",\"\",\"\""}]
[{"$f":"\"\"\" \"& 'BX Language acquisition'!A4248 & \"\"\",\"\"\" & 'BX Language acquisition'!C4248 & \"\"\",\"\"\" & 'BX Language acquisition'!B4248 & \"\"\",\"\"\" & 'BX Language acquisition'!D4248 & \"\"\"\"","v":"\" \",\"\",\"\",\"\""}]
[{"$f":"\"\"\" \"& 'BX Language acquisition'!A4249 & \"\"\",\"\"\" & 'BX Language acquisition'!C4249 & \"\"\",\"\"\" & 'BX Language acquisition'!B4249 & \"\"\",\"\"\" & 'BX Language acquisition'!D4249 & \"\"\"\"","v":"\" \",\"\",\"\",\"\""}]
[{"$f":"\"\"\" \"& 'BX Language acquisition'!A4250 & \"\"\",\"\"\" & 'BX Language acquisition'!C4250 & \"\"\",\"\"\" & 'BX Language acquisition'!B4250 & \"\"\",\"\"\" & 'BX Language acquisition'!D4250 & \"\"\"\"","v":"\" \",\"\",\"\",\"\""}]
[{"$f":"\"\"\" \"& 'BX Language acquisition'!A4251 & \"\"\",\"\"\" & 'BX Language acquisition'!C4251 & \"\"\",\"\"\" & 'BX Language acquisition'!B4251 & \"\"\",\"\"\" & 'BX Language acquisition'!D4251 & \"\"\"\"","v":"\" \",\"\",\"\",\"\""}]
[{"$f":"\"\"\" \"& 'BX Language acquisition'!A4252 & \"\"\",\"\"\" & 'BX Language acquisition'!C4252 & \"\"\",\"\"\" & 'BX Language acquisition'!B4252 & \"\"\",\"\"\" & 'BX Language acquisition'!D4252 & \"\"\"\"","v":"\" \",\"\",\"\",\"\""}]
[{"$f":"\"\"\" \"& 'BX Language acquisition'!A4253 & \"\"\",\"\"\" & 'BX Language acquisition'!C4253 & \"\"\",\"\"\" & 'BX Language acquisition'!B4253 & \"\"\",\"\"\" & 'BX Language acquisition'!D4253 & \"\"\"\"","v":"\" \",\"\",\"\",\"\""}]
[{"$f":"\"\"\" \"& 'BX Language acquisition'!A4254 & \"\"\",\"\"\" & 'BX Language acquisition'!C4254 & \"\"\",\"\"\" & 'BX Language acquisition'!B4254 & \"\"\",\"\"\" & 'BX Language acquisition'!D4254 & \"\"\"\"","v":"\" \",\"\",\"\",\"\""}]
[{"$f":"\"\"\" \"& 'BX Language acquisition'!A4255 & \"\"\",\"\"\" & 'BX Language acquisition'!C4255 & \"\"\",\"\"\" & 'BX Language acquisition'!B4255 & \"\"\",\"\"\" & 'BX Language acquisition'!D4255 & \"\"\"\"","v":"\" \",\"\",\"\",\"\""}]
[{"$f":"\"\"\" \"& 'BX Language acquisition'!A4256 & \"\"\",\"\"\" & 'BX Language acquisition'!C4256 & \"\"\",\"\"\" & 'BX Language acquisition'!B4256 & \"\"\",\"\"\" & 'BX Language acquisition'!D4256 & \"\"\"\"","v":"\" \",\"\",\"\",\"\""}]
[{"$f":"\"\"\" \"& 'BX Language acquisition'!A4257 & \"\"\",\"\"\" & 'BX Language acquisition'!C4257 & \"\"\",\"\"\" & 'BX Language acquisition'!B4257 & \"\"\",\"\"\" & 'BX Language acquisition'!D4257 & \"\"\"\"","v":"\" \",\"\",\"\",\"\""}]
[{"$f":"\"\"\" \"& 'BX Language acquisition'!A4258 & \"\"\",\"\"\" & 'BX Language acquisition'!C4258 & \"\"\",\"\"\" & 'BX Language acquisition'!B4258 & \"\"\",\"\"\" & 'BX Language acquisition'!D4258 & \"\"\"\"","v":"\" \",\"\",\"\",\"\""}]
[{"$f":"\"\"\" \"& 'BX Language acquisition'!A4259 & \"\"\",\"\"\" & 'BX Language acquisition'!C4259 & \"\"\",\"\"\" & 'BX Language acquisition'!B4259 & \"\"\",\"\"\" & 'BX Language acquisition'!D4259 & \"\"\"\"","v":"\" \",\"\",\"\",\"\""}]
[{"$f":"\"\"\" \"& 'BX Language acquisition'!A4260 & \"\"\",\"\"\" & 'BX Language acquisition'!C4260 & \"\"\",\"\"\" & 'BX Language acquisition'!B4260 & \"\"\",\"\"\" & 'BX Language acquisition'!D4260 & \"\"\"\"","v":"\" \",\"\",\"\",\"\""}]
[{"$f":"\"\"\" \"& 'BX Language acquisition'!A4261 & \"\"\",\"\"\" & 'BX Language acquisition'!C4261 & \"\"\",\"\"\" & 'BX Language acquisition'!B4261 & \"\"\",\"\"\" & 'BX Language acquisition'!D4261 & \"\"\"\"","v":"\" \",\"\",\"\",\"\""}]
[{"$f":"\"\"\" \"& 'BX Language acquisition'!A4262 & \"\"\",\"\"\" & 'BX Language acquisition'!C4262 & \"\"\",\"\"\" & 'BX Language acquisition'!B4262 & \"\"\",\"\"\" & 'BX Language acquisition'!D4262 & \"\"\"\"","v":"\" \",\"\",\"\",\"\""}]
[{"$f":"\"\"\" \"& 'BX Language acquisition'!A4263 & \"\"\",\"\"\" & 'BX Language acquisition'!C4263 & \"\"\",\"\"\" & 'BX Language acquisition'!B4263 & \"\"\",\"\"\" & 'BX Language acquisition'!D4263 & \"\"\"\"","v":"\" \",\"\",\"\",\"\""}]
[{"$f":"\"\"\" \"& 'BX Language acquisition'!A4264 & \"\"\",\"\"\" & 'BX Language acquisition'!C4264 & \"\"\",\"\"\" & 'BX Language acquisition'!B4264 & \"\"\",\"\"\" & 'BX Language acquisition'!D4264 & \"\"\"\"","v":"\" \",\"\",\"\",\"\""}]
[{"$f":"\"\"\" \"& 'BX Language acquisition'!A4265 & \"\"\",\"\"\" & 'BX Language acquisition'!C4265 & \"\"\",\"\"\" & 'BX Language acquisition'!B4265 & \"\"\",\"\"\" & 'BX Language acquisition'!D4265 & \"\"\"\"","v":"\" \",\"\",\"\",\"\""}]
[{"$f":"\"\"\" \"& 'BX Language acquisition'!A4266 & \"\"\",\"\"\" & 'BX Language acquisition'!C4266 & \"\"\",\"\"\" & 'BX Language acquisition'!B4266 & \"\"\",\"\"\" & 'BX Language acquisition'!D4266 & \"\"\"\"","v":"\" \",\"\",\"\",\"\""}]
[{"$f":"\"\"\" \"& 'BX Language acquisition'!A4267 & \"\"\",\"\"\" & 'BX Language acquisition'!C4267 & \"\"\",\"\"\" & 'BX Language acquisition'!B4267 & \"\"\",\"\"\" & 'BX Language acquisition'!D4267 & \"\"\"\"","v":"\" \",\"\",\"\",\"\""}]
[{"$f":"\"\"\" \"& 'BX Language acquisition'!A4268 & \"\"\",\"\"\" & 'BX Language acquisition'!C4268 & \"\"\",\"\"\" & 'BX Language acquisition'!B4268 & \"\"\",\"\"\" & 'BX Language acquisition'!D4268 & \"\"\"\"","v":"\" \",\"\",\"\",\"\""}]
[{"$f":"\"\"\" \"& 'BX Language acquisition'!A4269 & \"\"\",\"\"\" & 'BX Language acquisition'!C4269 & \"\"\",\"\"\" & 'BX Language acquisition'!B4269 & \"\"\",\"\"\" & 'BX Language acquisition'!D4269 & \"\"\"\"","v":"\" \",\"\",\"\",\"\""}]
[{"$f":"\"\"\" \"& 'BX Language acquisition'!A4270 & \"\"\",\"\"\" & 'BX Language acquisition'!C4270 & \"\"\",\"\"\" & 'BX Language acquisition'!B4270 & \"\"\",\"\"\" & 'BX Language acquisition'!D4270 & \"\"\"\"","v":"\" \",\"\",\"\",\"\""}]
[{"$f":"\"\"\" \"& 'BX Language acquisition'!A4271 & \"\"\",\"\"\" & 'BX Language acquisition'!C4271 & \"\"\",\"\"\" & 'BX Language acquisition'!B4271 & \"\"\",\"\"\" & 'BX Language acquisition'!D4271 & \"\"\"\"","v":"\" \",\"\",\"\",\"\""}]
[{"$f":"\"\"\" \"& 'BX Language acquisition'!A4272 & \"\"\",\"\"\" & 'BX Language acquisition'!C4272 & \"\"\",\"\"\" & 'BX Language acquisition'!B4272 & \"\"\",\"\"\" & 'BX Language acquisition'!D4272 & \"\"\"\"","v":"\" \",\"\",\"\",\"\""}]
[{"$f":"\"\"\" \"& 'BX Language acquisition'!A4273 & \"\"\",\"\"\" & 'BX Language acquisition'!C4273 & \"\"\",\"\"\" & 'BX Language acquisition'!B4273 & \"\"\",\"\"\" & 'BX Language acquisition'!D4273 & \"\"\"\"","v":"\" \",\"\",\"\",\"\""}]
[{"$f":"\"\"\" \"& 'BX Language acquisition'!A4274 & \"\"\",\"\"\" & 'BX Language acquisition'!C4274 & \"\"\",\"\"\" & 'BX Language acquisition'!B4274 & \"\"\",\"\"\" & 'BX Language acquisition'!D4274 & \"\"\"\"","v":"\" \",\"\",\"\",\"\""}]
[{"$f":"\"\"\" \"& 'BX Language acquisition'!A4275 & \"\"\",\"\"\" & 'BX Language acquisition'!C4275 & \"\"\",\"\"\" & 'BX Language acquisition'!B4275 & \"\"\",\"\"\" & 'BX Language acquisition'!D4275 & \"\"\"\"","v":"\" \",\"\",\"\",\"\""}]
[{"$f":"\"\"\" \"& 'BX Language acquisition'!A4276 & \"\"\",\"\"\" & 'BX Language acquisition'!C4276 & \"\"\",\"\"\" & 'BX Language acquisition'!B4276 & \"\"\",\"\"\" & 'BX Language acquisition'!D4276 & \"\"\"\"","v":"\" \",\"\",\"\",\"\""}]
[{"$f":"\"\"\" \"& 'BX Language acquisition'!A4277 & \"\"\",\"\"\" & 'BX Language acquisition'!C4277 & \"\"\",\"\"\" & 'BX Language acquisition'!B4277 & \"\"\",\"\"\" & 'BX Language acquisition'!D4277 & \"\"\"\"","v":"\" \",\"\",\"\",\"\""}]
[{"$f":"\"\"\" \"& 'BX Language acquisition'!A4278 & \"\"\",\"\"\" & 'BX Language acquisition'!C4278 & \"\"\",\"\"\" & 'BX Language acquisition'!B4278 & \"\"\",\"\"\" & 'BX Language acquisition'!D4278 & \"\"\"\"","v":"\" \",\"\",\"\",\"\""}]
[{"$f":"\"\"\" \"& 'BX Language acquisition'!A4279 & \"\"\",\"\"\" & 'BX Language acquisition'!C4279 & \"\"\",\"\"\" & 'BX Language acquisition'!B4279 & \"\"\",\"\"\" & 'BX Language acquisition'!D4279 & \"\"\"\"","v":"\" \",\"\",\"\",\"\""}]
[{"$f":"\"\"\" \"& 'BX Language acquisition'!A4280 & \"\"\",\"\"\" & 'BX Language acquisition'!C4280 & \"\"\",\"\"\" & 'BX Language acquisition'!B4280 & \"\"\",\"\"\" & 'BX Language acquisition'!D4280 & \"\"\"\"","v":"\" \",\"\",\"\",\"\""}]
[{"$f":"\"\"\" \"& 'BX Language acquisition'!A4281 & \"\"\",\"\"\" & 'BX Language acquisition'!C4281 & \"\"\",\"\"\" & 'BX Language acquisition'!B4281 & \"\"\",\"\"\" & 'BX Language acquisition'!D4281 & \"\"\"\"","v":"\" \",\"\",\"\",\"\""}]
[{"$f":"\"\"\" \"& 'BX Language acquisition'!A4282 & \"\"\",\"\"\" & 'BX Language acquisition'!C4282 & \"\"\",\"\"\" & 'BX Language acquisition'!B4282 & \"\"\",\"\"\" & 'BX Language acquisition'!D4282 & \"\"\"\"","v":"\" \",\"\",\"\",\"\""}]
[{"$f":"\"\"\" \"& 'BX Language acquisition'!A4283 & \"\"\",\"\"\" & 'BX Language acquisition'!C4283 & \"\"\",\"\"\" & 'BX Language acquisition'!B4283 & \"\"\",\"\"\" & 'BX Language acquisition'!D4283 & \"\"\"\"","v":"\" \",\"\",\"\",\"\""}]
[{"$f":"\"\"\" \"& 'BX Language acquisition'!A4284 & \"\"\",\"\"\" & 'BX Language acquisition'!C4284 & \"\"\",\"\"\" & 'BX Language acquisition'!B4284 & \"\"\",\"\"\" & 'BX Language acquisition'!D4284 & \"\"\"\"","v":"\" \",\"\",\"\",\"\""}]
[{"$f":"\"\"\" \"& 'BX Language acquisition'!A4285 & \"\"\",\"\"\" & 'BX Language acquisition'!C4285 & \"\"\",\"\"\" & 'BX Language acquisition'!B4285 & \"\"\",\"\"\" & 'BX Language acquisition'!D4285 & \"\"\"\"","v":"\" \",\"\",\"\",\"\""}]
[{"$f":"\"\"\" \"& 'BX Language acquisition'!A4286 & \"\"\",\"\"\" & 'BX Language acquisition'!C4286 & \"\"\",\"\"\" & 'BX Language acquisition'!B4286 & \"\"\",\"\"\" & 'BX Language acquisition'!D4286 & \"\"\"\"","v":"\" \",\"\",\"\",\"\""}]
[{"$f":"\"\"\" \"& 'BX Language acquisition'!A4287 & \"\"\",\"\"\" & 'BX Language acquisition'!C4287 & \"\"\",\"\"\" & 'BX Language acquisition'!B4287 & \"\"\",\"\"\" & 'BX Language acquisition'!D4287 & \"\"\"\"","v":"\" \",\"\",\"\",\"\""}]
[{"$f":"\"\"\" \"& 'BX Language acquisition'!A4288 & \"\"\",\"\"\" & 'BX Language acquisition'!C4288 & \"\"\",\"\"\" & 'BX Language acquisition'!B4288 & \"\"\",\"\"\" & 'BX Language acquisition'!D4288 & \"\"\"\"","v":"\" \",\"\",\"\",\"\""}]
[{"$f":"\"\"\" \"& 'BX Language acquisition'!A4289 & \"\"\",\"\"\" & 'BX Language acquisition'!C4289 & \"\"\",\"\"\" & 'BX Language acquisition'!B4289 & \"\"\",\"\"\" & 'BX Language acquisition'!D4289 & \"\"\"\"","v":"\" \",\"\",\"\",\"\""}]
[{"$f":"\"\"\" \"& 'BX Language acquisition'!A4290 & \"\"\",\"\"\" & 'BX Language acquisition'!C4290 & \"\"\",\"\"\" & 'BX Language acquisition'!B4290 & \"\"\",\"\"\" & 'BX Language acquisition'!D4290 & \"\"\"\"","v":"\" \",\"\",\"\",\"\""}]
[{"$f":"\"\"\" \"& 'BX Language acquisition'!A4291 & \"\"\",\"\"\" & 'BX Language acquisition'!C4291 & \"\"\",\"\"\" & 'BX Language acquisition'!B4291 & \"\"\",\"\"\" & 'BX Language acquisition'!D4291 & \"\"\"\"","v":"\" \",\"\",\"\",\"\""}]
[{"$f":"\"\"\" \"& 'BX Language acquisition'!A4292 & \"\"\",\"\"\" & 'BX Language acquisition'!C4292 & \"\"\",\"\"\" & 'BX Language acquisition'!B4292 & \"\"\",\"\"\" & 'BX Language acquisition'!D4292 & \"\"\"\"","v":"\" \",\"\",\"\",\"\""}]
[{"$f":"\"\"\" \"& 'BX Language acquisition'!A4293 & \"\"\",\"\"\" & 'BX Language acquisition'!C4293 & \"\"\",\"\"\" & 'BX Language acquisition'!B4293 & \"\"\",\"\"\" & 'BX Language acquisition'!D4293 & \"\"\"\"","v":"\" \",\"\",\"\",\"\""}]
[{"$f":"\"\"\" \"& 'BX Language acquisition'!A4294 & \"\"\",\"\"\" & 'BX Language acquisition'!C4294 & \"\"\",\"\"\" & 'BX Language acquisition'!B4294 & \"\"\",\"\"\" & 'BX Language acquisition'!D4294 & \"\"\"\"","v":"\" \",\"\",\"\",\"\""}]
[{"$f":"\"\"\" \"& 'BX Language acquisition'!A4295 & \"\"\",\"\"\" & 'BX Language acquisition'!C4295 & \"\"\",\"\"\" & 'BX Language acquisition'!B4295 & \"\"\",\"\"\" & 'BX Language acquisition'!D4295 & \"\"\"\"","v":"\" \",\"\",\"\",\"\""}]
[{"$f":"\"\"\" \"& 'BX Language acquisition'!A4296 & \"\"\",\"\"\" & 'BX Language acquisition'!C4296 & \"\"\",\"\"\" & 'BX Language acquisition'!B4296 & \"\"\",\"\"\" & 'BX Language acquisition'!D4296 & \"\"\"\"","v":"\" \",\"\",\"\",\"\""}]
[{"$f":"\"\"\" \"& 'BX Language acquisition'!A4297 & \"\"\",\"\"\" & 'BX Language acquisition'!C4297 & \"\"\",\"\"\" & 'BX Language acquisition'!B4297 & \"\"\",\"\"\" & 'BX Language acquisition'!D4297 & \"\"\"\"","v":"\" \",\"\",\"\",\"\""}]
[{"$f":"\"\"\" \"& 'BX Language acquisition'!A4298 & \"\"\",\"\"\" & 'BX Language acquisition'!C4298 & \"\"\",\"\"\" & 'BX Language acquisition'!B4298 & \"\"\",\"\"\" & 'BX Language acquisition'!D4298 & \"\"\"\"","v":"\" \",\"\",\"\",\"\""}]
[{"$f":"\"\"\" \"& 'BX Language acquisition'!A4299 & \"\"\",\"\"\" & 'BX Language acquisition'!C4299 & \"\"\",\"\"\" & 'BX Language acquisition'!B4299 & \"\"\",\"\"\" & 'BX Language acquisition'!D4299 & \"\"\"\"","v":"\" \",\"\",\"\",\"\""}]
[{"$f":"\"\"\" \"& 'BX Language acquisition'!A4300 & \"\"\",\"\"\" & 'BX Language acquisition'!C4300 & \"\"\",\"\"\" & 'BX Language acquisition'!B4300 & \"\"\",\"\"\" & 'BX Language acquisition'!D4300 & \"\"\"\"","v":"\" \",\"\",\"\",\"\""}]
[{"$f":"\"\"\" \"& 'BX Language acquisition'!A4301 & \"\"\",\"\"\" & 'BX Language acquisition'!C4301 & \"\"\",\"\"\" & 'BX Language acquisition'!B4301 & \"\"\",\"\"\" & 'BX Language acquisition'!D4301 & \"\"\"\"","v":"\" \",\"\",\"\",\"\""}]
[{"$f":"\"\"\" \"& 'BX Language acquisition'!A4302 & \"\"\",\"\"\" & 'BX Language acquisition'!C4302 & \"\"\",\"\"\" & 'BX Language acquisition'!B4302 & \"\"\",\"\"\" & 'BX Language acquisition'!D4302 & \"\"\"\"","v":"\" \",\"\",\"\",\"\""}]
[{"$f":"\"\"\" \"& 'BX Language acquisition'!A4303 & \"\"\",\"\"\" & 'BX Language acquisition'!C4303 & \"\"\",\"\"\" & 'BX Language acquisition'!B4303 & \"\"\",\"\"\" & 'BX Language acquisition'!D4303 & \"\"\"\"","v":"\" \",\"\",\"\",\"\""}]
[{"$f":"\"\"\" \"& 'BX Language acquisition'!A4304 & \"\"\",\"\"\" & 'BX Language acquisition'!C4304 & \"\"\",\"\"\" & 'BX Language acquisition'!B4304 & \"\"\",\"\"\" & 'BX Language acquisition'!D4304 & \"\"\"\"","v":"\" \",\"\",\"\",\"\""}]
[{"$f":"\"\"\" \"& 'BX Language acquisition'!A4305 & \"\"\",\"\"\" & 'BX Language acquisition'!C4305 & \"\"\",\"\"\" & 'BX Language acquisition'!B4305 & \"\"\",\"\"\" & 'BX Language acquisition'!D4305 & \"\"\"\"","v":"\" \",\"\",\"\",\"\""}]
[{"$f":"\"\"\" \"& 'BX Language acquisition'!A4306 & \"\"\",\"\"\" & 'BX Language acquisition'!C4306 & \"\"\",\"\"\" & 'BX Language acquisition'!B4306 & \"\"\",\"\"\" & 'BX Language acquisition'!D4306 & \"\"\"\"","v":"\" \",\"\",\"\",\"\""}]
[{"$f":"\"\"\" \"& 'BX Language acquisition'!A4307 & \"\"\",\"\"\" & 'BX Language acquisition'!C4307 & \"\"\",\"\"\" & 'BX Language acquisition'!B4307 & \"\"\",\"\"\" & 'BX Language acquisition'!D4307 & \"\"\"\"","v":"\" \",\"\",\"\",\"\""}]
[{"$f":"\"\"\" \"& 'BX Language acquisition'!A4308 & \"\"\",\"\"\" & 'BX Language acquisition'!C4308 & \"\"\",\"\"\" & 'BX Language acquisition'!B4308 & \"\"\",\"\"\" & 'BX Language acquisition'!D4308 & \"\"\"\"","v":"\" \",\"\",\"\",\"\""}]
[{"$f":"\"\"\" \"& 'BX Language acquisition'!A4309 & \"\"\",\"\"\" & 'BX Language acquisition'!C4309 & \"\"\",\"\"\" & 'BX Language acquisition'!B4309 & \"\"\",\"\"\" & 'BX Language acquisition'!D4309 & \"\"\"\"","v":"\" \",\"\",\"\",\"\""}]
[{"$f":"\"\"\" \"& 'BX Language acquisition'!A4310 & \"\"\",\"\"\" & 'BX Language acquisition'!C4310 & \"\"\",\"\"\" & 'BX Language acquisition'!B4310 & \"\"\",\"\"\" & 'BX Language acquisition'!D4310 & \"\"\"\"","v":"\" \",\"\",\"\",\"\""}]
[{"$f":"\"\"\" \"& 'BX Language acquisition'!A4311 & \"\"\",\"\"\" & 'BX Language acquisition'!C4311 & \"\"\",\"\"\" & 'BX Language acquisition'!B4311 & \"\"\",\"\"\" & 'BX Language acquisition'!D4311 & \"\"\"\"","v":"\" \",\"\",\"\",\"\""}]
[{"$f":"\"\"\" \"& 'BX Language acquisition'!A4312 & \"\"\",\"\"\" & 'BX Language acquisition'!C4312 & \"\"\",\"\"\" & 'BX Language acquisition'!B4312 & \"\"\",\"\"\" & 'BX Language acquisition'!D4312 & \"\"\"\"","v":"\" \",\"\",\"\",\"\""}]
[{"$f":"\"\"\" \"& 'BX Language acquisition'!A4313 & \"\"\",\"\"\" & 'BX Language acquisition'!C4313 & \"\"\",\"\"\" & 'BX Language acquisition'!B4313 & \"\"\",\"\"\" & 'BX Language acquisition'!D4313 & \"\"\"\"","v":"\" \",\"\",\"\",\"\""}]
[{"$f":"\"\"\" \"& 'BX Language acquisition'!A4314 & \"\"\",\"\"\" & 'BX Language acquisition'!C4314 & \"\"\",\"\"\" & 'BX Language acquisition'!B4314 & \"\"\",\"\"\" & 'BX Language acquisition'!D4314 & \"\"\"\"","v":"\" \",\"\",\"\",\"\""}]
[{"$f":"\"\"\" \"& 'BX Language acquisition'!A4315 & \"\"\",\"\"\" & 'BX Language acquisition'!C4315 & \"\"\",\"\"\" & 'BX Language acquisition'!B4315 & \"\"\",\"\"\" & 'BX Language acquisition'!D4315 & \"\"\"\"","v":"\" \",\"\",\"\",\"\""}]
[{"$f":"\"\"\" \"& 'BX Language acquisition'!A4316 & \"\"\",\"\"\" & 'BX Language acquisition'!C4316 & \"\"\",\"\"\" & 'BX Language acquisition'!B4316 & \"\"\",\"\"\" & 'BX Language acquisition'!D4316 & \"\"\"\"","v":"\" \",\"\",\"\",\"\""}]
[{"$f":"\"\"\" \"& 'BX Language acquisition'!A4317 & \"\"\",\"\"\" & 'BX Language acquisition'!C4317 & \"\"\",\"\"\" & 'BX Language acquisition'!B4317 & \"\"\",\"\"\" & 'BX Language acquisition'!D4317 & \"\"\"\"","v":"\" \",\"\",\"\",\"\""}]
[{"$f":"\"\"\" \"& 'BX Language acquisition'!A4318 & \"\"\",\"\"\" & 'BX Language acquisition'!C4318 & \"\"\",\"\"\" & 'BX Language acquisition'!B4318 & \"\"\",\"\"\" & 'BX Language acquisition'!D4318 & \"\"\"\"","v":"\" \",\"\",\"\",\"\""}]
[{"$f":"\"\"\" \"& 'BX Language acquisition'!A4319 & \"\"\",\"\"\" & 'BX Language acquisition'!C4319 & \"\"\",\"\"\" & 'BX Language acquisition'!B4319 & \"\"\",\"\"\" & 'BX Language acquisition'!D4319 & \"\"\"\"","v":"\" \",\"\",\"\",\"\""}]
[{"$f":"\"\"\" \"& 'BX Language acquisition'!A4320 & \"\"\",\"\"\" & 'BX Language acquisition'!C4320 & \"\"\",\"\"\" & 'BX Language acquisition'!B4320 & \"\"\",\"\"\" & 'BX Language acquisition'!D4320 & \"\"\"\"","v":"\" \",\"\",\"\",\"\""}]
[{"$f":"\"\"\" \"& 'BX Language acquisition'!A4321 & \"\"\",\"\"\" & 'BX Language acquisition'!C4321 & \"\"\",\"\"\" & 'BX Language acquisition'!B4321 & \"\"\",\"\"\" & 'BX Language acquisition'!D4321 & \"\"\"\"","v":"\" \",\"\",\"\",\"\""}]
[{"$f":"\"\"\" \"& 'BX Language acquisition'!A4322 & \"\"\",\"\"\" & 'BX Language acquisition'!C4322 & \"\"\",\"\"\" & 'BX Language acquisition'!B4322 & \"\"\",\"\"\" & 'BX Language acquisition'!D4322 & \"\"\"\"","v":"\" \",\"\",\"\",\"\""}]
[{"$f":"\"\"\" \"& 'BX Language acquisition'!A4323 & \"\"\",\"\"\" & 'BX Language acquisition'!C4323 & \"\"\",\"\"\" & 'BX Language acquisition'!B4323 & \"\"\",\"\"\" & 'BX Language acquisition'!D4323 & \"\"\"\"","v":"\" \",\"\",\"\",\"\""}]
[{"$f":"\"\"\" \"& 'BX Language acquisition'!A4324 & \"\"\",\"\"\" & 'BX Language acquisition'!C4324 & \"\"\",\"\"\" & 'BX Language acquisition'!B4324 & \"\"\",\"\"\" & 'BX Language acquisition'!D4324 & \"\"\"\"","v":"\" \",\"\",\"\",\"\""}]
[{"$f":"\"\"\" \"& 'BX Language acquisition'!A4325 & \"\"\",\"\"\" & 'BX Language acquisition'!C4325 & \"\"\",\"\"\" & 'BX Language acquisition'!B4325 & \"\"\",\"\"\" & 'BX Language acquisition'!D4325 & \"\"\"\"","v":"\" \",\"\",\"\",\"\""}]
[{"$f":"\"\"\" \"& 'BX Language acquisition'!A4326 & \"\"\",\"\"\" & 'BX Language acquisition'!C4326 & \"\"\",\"\"\" & 'BX Language acquisition'!B4326 & \"\"\",\"\"\" & 'BX Language acquisition'!D4326 & \"\"\"\"","v":"\" \",\"\",\"\",\"\""}]
[{"$f":"\"\"\" \"& 'BX Language acquisition'!A4327 & \"\"\",\"\"\" & 'BX Language acquisition'!C4327 & \"\"\",\"\"\" & 'BX Language acquisition'!B4327 & \"\"\",\"\"\" & 'BX Language acquisition'!D4327 & \"\"\"\"","v":"\" \",\"\",\"\",\"\""}]
[{"$f":"\"\"\" \"& 'BX Language acquisition'!A4328 & \"\"\",\"\"\" & 'BX Language acquisition'!C4328 & \"\"\",\"\"\" & 'BX Language acquisition'!B4328 & \"\"\",\"\"\" & 'BX Language acquisition'!D4328 & \"\"\"\"","v":"\" \",\"\",\"\",\"\""}]
[{"$f":"\"\"\" \"& 'BX Language acquisition'!A4329 & \"\"\",\"\"\" & 'BX Language acquisition'!C4329 & \"\"\",\"\"\" & 'BX Language acquisition'!B4329 & \"\"\",\"\"\" & 'BX Language acquisition'!D4329 & \"\"\"\"","v":"\" \",\"\",\"\",\"\""}]
[{"$f":"\"\"\" \"& 'BX Language acquisition'!A4330 & \"\"\",\"\"\" & 'BX Language acquisition'!C4330 & \"\"\",\"\"\" & 'BX Language acquisition'!B4330 & \"\"\",\"\"\" & 'BX Language acquisition'!D4330 & \"\"\"\"","v":"\" \",\"\",\"\",\"\""}]
[{"$f":"\"\"\" \"& 'BX Language acquisition'!A4331 & \"\"\",\"\"\" & 'BX Language acquisition'!C4331 & \"\"\",\"\"\" & 'BX Language acquisition'!B4331 & \"\"\",\"\"\" & 'BX Language acquisition'!D4331 & \"\"\"\"","v":"\" \",\"\",\"\",\"\""}]
[{"$f":"\"\"\" \"& 'BX Language acquisition'!A4332 & \"\"\",\"\"\" & 'BX Language acquisition'!C4332 & \"\"\",\"\"\" & 'BX Language acquisition'!B4332 & \"\"\",\"\"\" & 'BX Language acquisition'!D4332 & \"\"\"\"","v":"\" \",\"\",\"\",\"\""}]
[{"$f":"\"\"\" \"& 'BX Language acquisition'!A4333 & \"\"\",\"\"\" & 'BX Language acquisition'!C4333 & \"\"\",\"\"\" & 'BX Language acquisition'!B4333 & \"\"\",\"\"\" & 'BX Language acquisition'!D4333 & \"\"\"\"","v":"\" \",\"\",\"\",\"\""}]
[{"$f":"\"\"\" \"& 'BX Language acquisition'!A4334 & \"\"\",\"\"\" & 'BX Language acquisition'!C4334 & \"\"\",\"\"\" & 'BX Language acquisition'!B4334 & \"\"\",\"\"\" & 'BX Language acquisition'!D4334 & \"\"\"\"","v":"\" \",\"\",\"\",\"\""}]
[{"$f":"\"\"\" \"& 'BX Language acquisition'!A4335 & \"\"\",\"\"\" & 'BX Language acquisition'!C4335 & \"\"\",\"\"\" & 'BX Language acquisition'!B4335 & \"\"\",\"\"\" & 'BX Language acquisition'!D4335 & \"\"\"\"","v":"\" \",\"\",\"\",\"\""}]
[{"$f":"\"\"\" \"& 'BX Language acquisition'!A4336 & \"\"\",\"\"\" & 'BX Language acquisition'!C4336 & \"\"\",\"\"\" & 'BX Language acquisition'!B4336 & \"\"\",\"\"\" & 'BX Language acquisition'!D4336 & \"\"\"\"","v":"\" \",\"\",\"\",\"\""}]
[{"$f":"\"\"\" \"& 'BX Language acquisition'!A4337 & \"\"\",\"\"\" & 'BX Language acquisition'!C4337 & \"\"\",\"\"\" & 'BX Language acquisition'!B4337 & \"\"\",\"\"\" & 'BX Language acquisition'!D4337 & \"\"\"\"","v":"\" \",\"\",\"\",\"\""}]
[{"$f":"\"\"\" \"& 'BX Language acquisition'!A4338 & \"\"\",\"\"\" & 'BX Language acquisition'!C4338 & \"\"\",\"\"\" & 'BX Language acquisition'!B4338 & \"\"\",\"\"\" & 'BX Language acquisition'!D4338 & \"\"\"\"","v":"\" \",\"\",\"\",\"\""}]
[{"$f":"\"\"\" \"& 'BX Language acquisition'!A4339 & \"\"\",\"\"\" & 'BX Language acquisition'!C4339 & \"\"\",\"\"\" & 'BX Language acquisition'!B4339 & \"\"\",\"\"\" & 'BX Language acquisition'!D4339 & \"\"\"\"","v":"\" \",\"\",\"\",\"\""}]
[{"$f":"\"\"\" \"& 'BX Language acquisition'!A4340 & \"\"\",\"\"\" & 'BX Language acquisition'!C4340 & \"\"\",\"\"\" & 'BX Language acquisition'!B4340 & \"\"\",\"\"\" & 'BX Language acquisition'!D4340 & \"\"\"\"","v":"\" \",\"\",\"\",\"\""}]
[{"$f":"\"\"\" \"& 'BX Language acquisition'!A4341 & \"\"\",\"\"\" & 'BX Language acquisition'!C4341 & \"\"\",\"\"\" & 'BX Language acquisition'!B4341 & \"\"\",\"\"\" & 'BX Language acquisition'!D4341 & \"\"\"\"","v":"\" \",\"\",\"\",\"\""}]
[{"$f":"\"\"\" \"& 'BX Language acquisition'!A4342 & \"\"\",\"\"\" & 'BX Language acquisition'!C4342 & \"\"\",\"\"\" & 'BX Language acquisition'!B4342 & \"\"\",\"\"\" & 'BX Language acquisition'!D4342 & \"\"\"\"","v":"\" \",\"\",\"\",\"\""}]
[{"$f":"\"\"\" \"& 'BX Language acquisition'!A4343 & \"\"\",\"\"\" & 'BX Language acquisition'!C4343 & \"\"\",\"\"\" & 'BX Language acquisition'!B4343 & \"\"\",\"\"\" & 'BX Language acquisition'!D4343 & \"\"\"\"","v":"\" \",\"\",\"\",\"\""}]
[{"$f":"\"\"\" \"& 'BX Language acquisition'!A4344 & \"\"\",\"\"\" & 'BX Language acquisition'!C4344 & \"\"\",\"\"\" & 'BX Language acquisition'!B4344 & \"\"\",\"\"\" & 'BX Language acquisition'!D4344 & \"\"\"\"","v":"\" \",\"\",\"\",\"\""}]
[{"$f":"\"\"\" \"& 'BX Language acquisition'!A4345 & \"\"\",\"\"\" & 'BX Language acquisition'!C4345 & \"\"\",\"\"\" & 'BX Language acquisition'!B4345 & \"\"\",\"\"\" & 'BX Language acquisition'!D4345 & \"\"\"\"","v":"\" \",\"\",\"\",\"\""}]
[{"$f":"\"\"\" \"& 'BX Language acquisition'!A4346 & \"\"\",\"\"\" & 'BX Language acquisition'!C4346 & \"\"\",\"\"\" & 'BX Language acquisition'!B4346 & \"\"\",\"\"\" & 'BX Language acquisition'!D4346 & \"\"\"\"","v":"\" \",\"\",\"\",\"\""}]
[{"$f":"\"\"\" \"& 'BX Language acquisition'!A4347 & \"\"\",\"\"\" & 'BX Language acquisition'!C4347 & \"\"\",\"\"\" & 'BX Language acquisition'!B4347 & \"\"\",\"\"\" & 'BX Language acquisition'!D4347 & \"\"\"\"","v":"\" \",\"\",\"\",\"\""}]
[{"$f":"\"\"\" \"& 'BX Language acquisition'!A4348 & \"\"\",\"\"\" & 'BX Language acquisition'!C4348 & \"\"\",\"\"\" & 'BX Language acquisition'!B4348 & \"\"\",\"\"\" & 'BX Language acquisition'!D4348 & \"\"\"\"","v":"\" \",\"\",\"\",\"\""}]
[{"$f":"\"\"\" \"& 'BX Language acquisition'!A4349 & \"\"\",\"\"\" & 'BX Language acquisition'!C4349 & \"\"\",\"\"\" & 'BX Language acquisition'!B4349 & \"\"\",\"\"\" & 'BX Language acquisition'!D4349 & \"\"\"\"","v":"\" \",\"\",\"\",\"\""}]
[{"$f":"\"\"\" \"& 'BX Language acquisition'!A4350 & \"\"\",\"\"\" & 'BX Language acquisition'!C4350 & \"\"\",\"\"\" & 'BX Language acquisition'!B4350 & \"\"\",\"\"\" & 'BX Language acquisition'!D4350 & \"\"\"\"","v":"\" \",\"\",\"\",\"\""}]
[{"$f":"\"\"\" \"& 'BX Language acquisition'!A4351 & \"\"\",\"\"\" & 'BX Language acquisition'!C4351 & \"\"\",\"\"\" & 'BX Language acquisition'!B4351 & \"\"\",\"\"\" & 'BX Language acquisition'!D4351 & \"\"\"\"","v":"\" \",\"\",\"\",\"\""}]
[{"$f":"\"\"\" \"& 'BX Language acquisition'!A4352 & \"\"\",\"\"\" & 'BX Language acquisition'!C4352 & \"\"\",\"\"\" & 'BX Language acquisition'!B4352 & \"\"\",\"\"\" & 'BX Language acquisition'!D4352 & \"\"\"\"","v":"\" \",\"\",\"\",\"\""}]
[{"$f":"\"\"\" \"& 'BX Language acquisition'!A4353 & \"\"\",\"\"\" & 'BX Language acquisition'!C4353 & \"\"\",\"\"\" & 'BX Language acquisition'!B4353 & \"\"\",\"\"\" & 'BX Language acquisition'!D4353 & \"\"\"\"","v":"\" \",\"\",\"\",\"\""}]
[{"$f":"\"\"\" \"& 'BX Language acquisition'!A4354 & \"\"\",\"\"\" & 'BX Language acquisition'!C4354 & \"\"\",\"\"\" & 'BX Language acquisition'!B4354 & \"\"\",\"\"\" & 'BX Language acquisition'!D4354 & \"\"\"\"","v":"\" \",\"\",\"\",\"\""}]
[{"$f":"\"\"\" \"& 'BX Language acquisition'!A4355 & \"\"\",\"\"\" & 'BX Language acquisition'!C4355 & \"\"\",\"\"\" & 'BX Language acquisition'!B4355 & \"\"\",\"\"\" & 'BX Language acquisition'!D4355 & \"\"\"\"","v":"\" \",\"\",\"\",\"\""}]
[{"$f":"\"\"\" \"& 'BX Language acquisition'!A4356 & \"\"\",\"\"\" & 'BX Language acquisition'!C4356 & \"\"\",\"\"\" & 'BX Language acquisition'!B4356 & \"\"\",\"\"\" & 'BX Language acquisition'!D4356 & \"\"\"\"","v":"\" \",\"\",\"\",\"\""}]
[{"$f":"\"\"\" \"& 'BX Language acquisition'!A4357 & \"\"\",\"\"\" & 'BX Language acquisition'!C4357 & \"\"\",\"\"\" & 'BX Language acquisition'!B4357 & \"\"\",\"\"\" & 'BX Language acquisition'!D4357 & \"\"\"\"","v":"\" \",\"\",\"\",\"\""}]
[{"$f":"\"\"\" \"& 'BX Language acquisition'!A4358 & \"\"\",\"\"\" & 'BX Language acquisition'!C4358 & \"\"\",\"\"\" & 'BX Language acquisition'!B4358 & \"\"\",\"\"\" & 'BX Language acquisition'!D4358 & \"\"\"\"","v":"\" \",\"\",\"\",\"\""}]
[{"$f":"\"\"\" \"& 'BX Language acquisition'!A4359 & \"\"\",\"\"\" & 'BX Language acquisition'!C4359 & \"\"\",\"\"\" & 'BX Language acquisition'!B4359 & \"\"\",\"\"\" & 'BX Language acquisition'!D4359 & \"\"\"\"","v":"\" \",\"\",\"\",\"\""}]
[{"$f":"\"\"\" \"& 'BX Language acquisition'!A4360 & \"\"\",\"\"\" & 'BX Language acquisition'!C4360 & \"\"\",\"\"\" & 'BX Language acquisition'!B4360 & \"\"\",\"\"\" & 'BX Language acquisition'!D4360 & \"\"\"\"","v":"\" \",\"\",\"\",\"\""}]
[{"$f":"\"\"\" \"& 'BX Language acquisition'!A4361 & \"\"\",\"\"\" & 'BX Language acquisition'!C4361 & \"\"\",\"\"\" & 'BX Language acquisition'!B4361 & \"\"\",\"\"\" & 'BX Language acquisition'!D4361 & \"\"\"\"","v":"\" \",\"\",\"\",\"\""}]
[{"$f":"\"\"\" \"& 'BX Language acquisition'!A4362 & \"\"\",\"\"\" & 'BX Language acquisition'!C4362 & \"\"\",\"\"\" & 'BX Language acquisition'!B4362 & \"\"\",\"\"\" & 'BX Language acquisition'!D4362 & \"\"\"\"","v":"\" \",\"\",\"\",\"\""}]
[{"$f":"\"\"\" \"& 'BX Language acquisition'!A4363 & \"\"\",\"\"\" & 'BX Language acquisition'!C4363 & \"\"\",\"\"\" & 'BX Language acquisition'!B4363 & \"\"\",\"\"\" & 'BX Language acquisition'!D4363 & \"\"\"\"","v":"\" \",\"\",\"\",\"\""}]
[{"$f":"\"\"\" \"& 'BX Language acquisition'!A4364 & \"\"\",\"\"\" & 'BX Language acquisition'!C4364 & \"\"\",\"\"\" & 'BX Language acquisition'!B4364 & \"\"\",\"\"\" & 'BX Language acquisition'!D4364 & \"\"\"\"","v":"\" \",\"\",\"\",\"\""}]
[{"$f":"\"\"\" \"& 'BX Language acquisition'!A4365 & \"\"\",\"\"\" & 'BX Language acquisition'!C4365 & \"\"\",\"\"\" & 'BX Language acquisition'!B4365 & \"\"\",\"\"\" & 'BX Language acquisition'!D4365 & \"\"\"\"","v":"\" \",\"\",\"\",\"\""}]
[{"$f":"\"\"\" \"& 'BX Language acquisition'!A4366 & \"\"\",\"\"\" & 'BX Language acquisition'!C4366 & \"\"\",\"\"\" & 'BX Language acquisition'!B4366 & \"\"\",\"\"\" & 'BX Language acquisition'!D4366 & \"\"\"\"","v":"\" \",\"\",\"\",\"\""}]
[{"$f":"\"\"\" \"& 'BX Language acquisition'!A4367 & \"\"\",\"\"\" & 'BX Language acquisition'!C4367 & \"\"\",\"\"\" & 'BX Language acquisition'!B4367 & \"\"\",\"\"\" & 'BX Language acquisition'!D4367 & \"\"\"\"","v":"\" \",\"\",\"\",\"\""}]
[{"$f":"\"\"\" \"& 'BX Language acquisition'!A4368 & \"\"\",\"\"\" & 'BX Language acquisition'!C4368 & \"\"\",\"\"\" & 'BX Language acquisition'!B4368 & \"\"\",\"\"\" & 'BX Language acquisition'!D4368 & \"\"\"\"","v":"\" \",\"\",\"\",\"\""}]
[{"$f":"\"\"\" \"& 'BX Language acquisition'!A4369 & \"\"\",\"\"\" & 'BX Language acquisition'!C4369 & \"\"\",\"\"\" & 'BX Language acquisition'!B4369 & \"\"\",\"\"\" & 'BX Language acquisition'!D4369 & \"\"\"\"","v":"\" \",\"\",\"\",\"\""}]
[{"$f":"\"\"\" \"& 'BX Language acquisition'!A4370 & \"\"\",\"\"\" & 'BX Language acquisition'!C4370 & \"\"\",\"\"\" & 'BX Language acquisition'!B4370 & \"\"\",\"\"\" & 'BX Language acquisition'!D4370 & \"\"\"\"","v":"\" \",\"\",\"\",\"\""}]
[{"$f":"\"\"\" \"& 'BX Language acquisition'!A4371 & \"\"\",\"\"\" & 'BX Language acquisition'!C4371 & \"\"\",\"\"\" & 'BX Language acquisition'!B4371 & \"\"\",\"\"\" & 'BX Language acquisition'!D4371 & \"\"\"\"","v":"\" \",\"\",\"\",\"\""}]
[{"$f":"\"\"\" \"& 'BX Language acquisition'!A4372 & \"\"\",\"\"\" & 'BX Language acquisition'!C4372 & \"\"\",\"\"\" & 'BX Language acquisition'!B4372 & \"\"\",\"\"\" & 'BX Language acquisition'!D4372 & \"\"\"\"","v":"\" \",\"\",\"\",\"\""}]
[{"$f":"\"\"\" \"& 'BX Language acquisition'!A4373 & \"\"\",\"\"\" & 'BX Language acquisition'!C4373 & \"\"\",\"\"\" & 'BX Language acquisition'!B4373 & \"\"\",\"\"\" & 'BX Language acquisition'!D4373 & \"\"\"\"","v":"\" \",\"\",\"\",\"\""}]
[{"$f":"\"\"\" \"& 'BX Language acquisition'!A4374 & \"\"\",\"\"\" & 'BX Language acquisition'!C4374 & \"\"\",\"\"\" & 'BX Language acquisition'!B4374 & \"\"\",\"\"\" & 'BX Language acquisition'!D4374 & \"\"\"\"","v":"\" \",\"\",\"\",\"\""}]
[{"$f":"\"\"\" \"& 'BX Language acquisition'!A4375 & \"\"\",\"\"\" & 'BX Language acquisition'!C4375 & \"\"\",\"\"\" & 'BX Language acquisition'!B4375 & \"\"\",\"\"\" & 'BX Language acquisition'!D4375 & \"\"\"\"","v":"\" \",\"\",\"\",\"\""}]
[{"$f":"\"\"\" \"& 'BX Language acquisition'!A4376 & \"\"\",\"\"\" & 'BX Language acquisition'!C4376 & \"\"\",\"\"\" & 'BX Language acquisition'!B4376 & \"\"\",\"\"\" & 'BX Language acquisition'!D4376 & \"\"\"\"","v":"\" \",\"\",\"\",\"\""}]
[{"$f":"\"\"\" \"& 'BX Language acquisition'!A4377 & \"\"\",\"\"\" & 'BX Language acquisition'!C4377 & \"\"\",\"\"\" & 'BX Language acquisition'!B4377 & \"\"\",\"\"\" & 'BX Language acquisition'!D4377 & \"\"\"\"","v":"\" \",\"\",\"\",\"\""}]
[{"$f":"\"\"\" \"& 'BX Language acquisition'!A4378 & \"\"\",\"\"\" & 'BX Language acquisition'!C4378 & \"\"\",\"\"\" & 'BX Language acquisition'!B4378 & \"\"\",\"\"\" & 'BX Language acquisition'!D4378 & \"\"\"\"","v":"\" \",\"\",\"\",\"\""}]
[{"$f":"\"\"\" \"& 'BX Language acquisition'!A4379 & \"\"\",\"\"\" & 'BX Language acquisition'!C4379 & \"\"\",\"\"\" & 'BX Language acquisition'!B4379 & \"\"\",\"\"\" & 'BX Language acquisition'!D4379 & \"\"\"\"","v":"\" \",\"\",\"\",\"\""}]
[{"$f":"\"\"\" \"& 'BX Language acquisition'!A4380 & \"\"\",\"\"\" & 'BX Language acquisition'!C4380 & \"\"\",\"\"\" & 'BX Language acquisition'!B4380 & \"\"\",\"\"\" & 'BX Language acquisition'!D4380 & \"\"\"\"","v":"\" \",\"\",\"\",\"\""}]
[{"$f":"\"\"\" \"& 'BX Language acquisition'!A4381 & \"\"\",\"\"\" & 'BX Language acquisition'!C4381 & \"\"\",\"\"\" & 'BX Language acquisition'!B4381 & \"\"\",\"\"\" & 'BX Language acquisition'!D4381 & \"\"\"\"","v":"\" \",\"\",\"\",\"\""}]
[{"$f":"\"\"\" \"& 'BX Language acquisition'!A4382 & \"\"\",\"\"\" & 'BX Language acquisition'!C4382 & \"\"\",\"\"\" & 'BX Language acquisition'!B4382 & \"\"\",\"\"\" & 'BX Language acquisition'!D4382 & \"\"\"\"","v":"\" \",\"\",\"\",\"\""}]
[{"$f":"\"\"\" \"& 'BX Language acquisition'!A4383 & \"\"\",\"\"\" & 'BX Language acquisition'!C4383 & \"\"\",\"\"\" & 'BX Language acquisition'!B4383 & \"\"\",\"\"\" & 'BX Language acquisition'!D4383 & \"\"\"\"","v":"\" \",\"\",\"\",\"\""}]
[{"$f":"\"\"\" \"& 'BX Language acquisition'!A4384 & \"\"\",\"\"\" & 'BX Language acquisition'!C4384 & \"\"\",\"\"\" & 'BX Language acquisition'!B4384 & \"\"\",\"\"\" & 'BX Language acquisition'!D4384 & \"\"\"\"","v":"\" \",\"\",\"\",\"\""}]
[{"$f":"\"\"\" \"& 'BX Language acquisition'!A4385 & \"\"\",\"\"\" & 'BX Language acquisition'!C4385 & \"\"\",\"\"\" & 'BX Language acquisition'!B4385 & \"\"\",\"\"\" & 'BX Language acquisition'!D4385 & \"\"\"\"","v":"\" \",\"\",\"\",\"\""}]
[{"$f":"\"\"\" \"& 'BX Language acquisition'!A4386 & \"\"\",\"\"\" & 'BX Language acquisition'!C4386 & \"\"\",\"\"\" & 'BX Language acquisition'!B4386 & \"\"\",\"\"\" & 'BX Language acquisition'!D4386 & \"\"\"\"","v":"\" \",\"\",\"\",\"\""}]
[{"$f":"\"\"\" \"& 'BX Language acquisition'!A4387 & \"\"\",\"\"\" & 'BX Language acquisition'!C4387 & \"\"\",\"\"\" & 'BX Language acquisition'!B4387 & \"\"\",\"\"\" & 'BX Language acquisition'!D4387 & \"\"\"\"","v":"\" \",\"\",\"\",\"\""}]
[{"$f":"\"\"\" \"& 'BX Language acquisition'!A4388 & \"\"\",\"\"\" & 'BX Language acquisition'!C4388 & \"\"\",\"\"\" & 'BX Language acquisition'!B4388 & \"\"\",\"\"\" & 'BX Language acquisition'!D4388 & \"\"\"\"","v":"\" \",\"\",\"\",\"\""}]
[{"$f":"\"\"\" \"& 'BX Language acquisition'!A4389 & \"\"\",\"\"\" & 'BX Language acquisition'!C4389 & \"\"\",\"\"\" & 'BX Language acquisition'!B4389 & \"\"\",\"\"\" & 'BX Language acquisition'!D4389 & \"\"\"\"","v":"\" \",\"\",\"\",\"\""}]
[{"$f":"\"\"\" \"& 'BX Language acquisition'!A4390 & \"\"\",\"\"\" & 'BX Language acquisition'!C4390 & \"\"\",\"\"\" & 'BX Language acquisition'!B4390 & \"\"\",\"\"\" & 'BX Language acquisition'!D4390 & \"\"\"\"","v":"\" \",\"\",\"\",\"\""}]
[{"$f":"\"\"\" \"& 'BX Language acquisition'!A4391 & \"\"\",\"\"\" & 'BX Language acquisition'!C4391 & \"\"\",\"\"\" & 'BX Language acquisition'!B4391 & \"\"\",\"\"\" & 'BX Language acquisition'!D4391 & \"\"\"\"","v":"\" \",\"\",\"\",\"\""}]
[{"$f":"\"\"\" \"& 'BX Language acquisition'!A4392 & \"\"\",\"\"\" & 'BX Language acquisition'!C4392 & \"\"\",\"\"\" & 'BX Language acquisition'!B4392 & \"\"\",\"\"\" & 'BX Language acquisition'!D4392 & \"\"\"\"","v":"\" \",\"\",\"\",\"\""}]
[{"$f":"\"\"\" \"& 'BX Language acquisition'!A4393 & \"\"\",\"\"\" & 'BX Language acquisition'!C4393 & \"\"\",\"\"\" & 'BX Language acquisition'!B4393 & \"\"\",\"\"\" & 'BX Language acquisition'!D4393 & \"\"\"\"","v":"\" \",\"\",\"\",\"\""}]
[{"$f":"\"\"\" \"& 'BX Language acquisition'!A4394 & \"\"\",\"\"\" & 'BX Language acquisition'!C4394 & \"\"\",\"\"\" & 'BX Language acquisition'!B4394 & \"\"\",\"\"\" & 'BX Language acquisition'!D4394 & \"\"\"\"","v":"\" \",\"\",\"\",\"\""}]
[{"$f":"\"\"\" \"& 'BX Language acquisition'!A4395 & \"\"\",\"\"\" & 'BX Language acquisition'!C4395 & \"\"\",\"\"\" & 'BX Language acquisition'!B4395 & \"\"\",\"\"\" & 'BX Language acquisition'!D4395 & \"\"\"\"","v":"\" \",\"\",\"\",\"\""}]
[{"$f":"\"\"\" \"& 'BX Language acquisition'!A4396 & \"\"\",\"\"\" & 'BX Language acquisition'!C4396 & \"\"\",\"\"\" & 'BX Language acquisition'!B4396 & \"\"\",\"\"\" & 'BX Language acquisition'!D4396 & \"\"\"\"","v":"\" \",\"\",\"\",\"\""}]
[{"$f":"\"\"\" \"& 'BX Language acquisition'!A4397 & \"\"\",\"\"\" & 'BX Language acquisition'!C4397 & \"\"\",\"\"\" & 'BX Language acquisition'!B4397 & \"\"\",\"\"\" & 'BX Language acquisition'!D4397 & \"\"\"\"","v":"\" \",\"\",\"\",\"\""}]
[{"$f":"\"\"\" \"& 'BX Language acquisition'!A4398 & \"\"\",\"\"\" & 'BX Language acquisition'!C4398 & \"\"\",\"\"\" & 'BX Language acquisition'!B4398 & \"\"\",\"\"\" & 'BX Language acquisition'!D4398 & \"\"\"\"","v":"\" \",\"\",\"\",\"\""}]
[{"$f":"\"\"\" \"& 'BX Language acquisition'!A4399 & \"\"\",\"\"\" & 'BX Language acquisition'!C4399 & \"\"\",\"\"\" & 'BX Language acquisition'!B4399 & \"\"\",\"\"\" & 'BX Language acquisition'!D4399 & \"\"\"\"","v":"\" \",\"\",\"\",\"\""}]
[{"$f":"\"\"\" \"& 'BX Language acquisition'!A4400 & \"\"\",\"\"\" & 'BX Language acquisition'!C4400 & \"\"\",\"\"\" & 'BX Language acquisition'!B4400 & \"\"\",\"\"\" & 'BX Language acquisition'!D4400 & \"\"\"\"","v":"\" \",\"\",\"\",\"\""}]
[{"$f":"\"\"\" \"& 'BX Language acquisition'!A4401 & \"\"\",\"\"\" & 'BX Language acquisition'!C4401 & \"\"\",\"\"\" & 'BX Language acquisition'!B4401 & \"\"\",\"\"\" & 'BX Language acquisition'!D4401 & \"\"\"\"","v":"\" \",\"\",\"\",\"\""}]
[{"$f":"\"\"\" \"& 'BX Language acquisition'!A4402 & \"\"\",\"\"\" & 'BX Language acquisition'!C4402 & \"\"\",\"\"\" & 'BX Language acquisition'!B4402 & \"\"\",\"\"\" & 'BX Language acquisition'!D4402 & \"\"\"\"","v":"\" \",\"\",\"\",\"\""}]
[{"$f":"\"\"\" \"& 'BX Language acquisition'!A4403 & \"\"\",\"\"\" & 'BX Language acquisition'!C4403 & \"\"\",\"\"\" & 'BX Language acquisition'!B4403 & \"\"\",\"\"\" & 'BX Language acquisition'!D4403 & \"\"\"\"","v":"\" \",\"\",\"\",\"\""}]
[{"$f":"\"\"\" \"& 'BX Language acquisition'!A4404 & \"\"\",\"\"\" & 'BX Language acquisition'!C4404 & \"\"\",\"\"\" & 'BX Language acquisition'!B4404 & \"\"\",\"\"\" & 'BX Language acquisition'!D4404 & \"\"\"\"","v":"\" \",\"\",\"\",\"\""}]
[{"$f":"\"\"\" \"& 'BX Language acquisition'!A4405 & \"\"\",\"\"\" & 'BX Language acquisition'!C4405 & \"\"\",\"\"\" & 'BX Language acquisition'!B4405 & \"\"\",\"\"\" & 'BX Language acquisition'!D4405 & \"\"\"\"","v":"\" \",\"\",\"\",\"\""}]
[{"$f":"\"\"\" \"& 'BX Language acquisition'!A4406 & \"\"\",\"\"\" & 'BX Language acquisition'!C4406 & \"\"\",\"\"\" & 'BX Language acquisition'!B4406 & \"\"\",\"\"\" & 'BX Language acquisition'!D4406 & \"\"\"\"","v":"\" \",\"\",\"\",\"\""}]
[{"$f":"\"\"\" \"& 'BX Language acquisition'!A4407 & \"\"\",\"\"\" & 'BX Language acquisition'!C4407 & \"\"\",\"\"\" & 'BX Language acquisition'!B4407 & \"\"\",\"\"\" & 'BX Language acquisition'!D4407 & \"\"\"\"","v":"\" \",\"\",\"\",\"\""}]
[{"$f":"\"\"\" \"& 'BX Language acquisition'!A4408 & \"\"\",\"\"\" & 'BX Language acquisition'!C4408 & \"\"\",\"\"\" & 'BX Language acquisition'!B4408 & \"\"\",\"\"\" & 'BX Language acquisition'!D4408 & \"\"\"\"","v":"\" \",\"\",\"\",\"\""}]
[{"$f":"\"\"\" \"& 'BX Language acquisition'!A4409 & \"\"\",\"\"\" & 'BX Language acquisition'!C4409 & \"\"\",\"\"\" & 'BX Language acquisition'!B4409 & \"\"\",\"\"\" & 'BX Language acquisition'!D4409 & \"\"\"\"","v":"\" \",\"\",\"\",\"\""}]
[{"$f":"\"\"\" \"& 'BX Language acquisition'!A4410 & \"\"\",\"\"\" & 'BX Language acquisition'!C4410 & \"\"\",\"\"\" & 'BX Language acquisition'!B4410 & \"\"\",\"\"\" & 'BX Language acquisition'!D4410 & \"\"\"\"","v":"\" \",\"\",\"\",\"\""}]
[{"$f":"\"\"\" \"& 'BX Language acquisition'!A4411 & \"\"\",\"\"\" & 'BX Language acquisition'!C4411 & \"\"\",\"\"\" & 'BX Language acquisition'!B4411 & \"\"\",\"\"\" & 'BX Language acquisition'!D4411 & \"\"\"\"","v":"\" \",\"\",\"\",\"\""}]
[{"$f":"\"\"\" \"& 'BX Language acquisition'!A4412 & \"\"\",\"\"\" & 'BX Language acquisition'!C4412 & \"\"\",\"\"\" & 'BX Language acquisition'!B4412 & \"\"\",\"\"\" & 'BX Language acquisition'!D4412 & \"\"\"\"","v":"\" \",\"\",\"\",\"\""}]
[{"$f":"\"\"\" \"& 'BX Language acquisition'!A4413 & \"\"\",\"\"\" & 'BX Language acquisition'!C4413 & \"\"\",\"\"\" & 'BX Language acquisition'!B4413 & \"\"\",\"\"\" & 'BX Language acquisition'!D4413 & \"\"\"\"","v":"\" \",\"\",\"\",\"\""}]
[{"$f":"\"\"\" \"& 'BX Language acquisition'!A4414 & \"\"\",\"\"\" & 'BX Language acquisition'!C4414 & \"\"\",\"\"\" & 'BX Language acquisition'!B4414 & \"\"\",\"\"\" & 'BX Language acquisition'!D4414 & \"\"\"\"","v":"\" \",\"\",\"\",\"\""}]
[{"$f":"\"\"\" \"& 'BX Language acquisition'!A4415 & \"\"\",\"\"\" & 'BX Language acquisition'!C4415 & \"\"\",\"\"\" & 'BX Language acquisition'!B4415 & \"\"\",\"\"\" & 'BX Language acquisition'!D4415 & \"\"\"\"","v":"\" \",\"\",\"\",\"\""}]
[{"$f":"\"\"\" \"& 'BX Language acquisition'!A4416 & \"\"\",\"\"\" & 'BX Language acquisition'!C4416 & \"\"\",\"\"\" & 'BX Language acquisition'!B4416 & \"\"\",\"\"\" & 'BX Language acquisition'!D4416 & \"\"\"\"","v":"\" \",\"\",\"\",\"\""}]
[{"$f":"\"\"\" \"& 'BX Language acquisition'!A4417 & \"\"\",\"\"\" & 'BX Language acquisition'!C4417 & \"\"\",\"\"\" & 'BX Language acquisition'!B4417 & \"\"\",\"\"\" & 'BX Language acquisition'!D4417 & \"\"\"\"","v":"\" \",\"\",\"\",\"\""}]
[{"$f":"\"\"\" \"& 'BX Language acquisition'!A4418 & \"\"\",\"\"\" & 'BX Language acquisition'!C4418 & \"\"\",\"\"\" & 'BX Language acquisition'!B4418 & \"\"\",\"\"\" & 'BX Language acquisition'!D4418 & \"\"\"\"","v":"\" \",\"\",\"\",\"\""}]
[{"$f":"\"\"\" \"& 'BX Language acquisition'!A4419 & \"\"\",\"\"\" & 'BX Language acquisition'!C4419 & \"\"\",\"\"\" & 'BX Language acquisition'!B4419 & \"\"\",\"\"\" & 'BX Language acquisition'!D4419 & \"\"\"\"","v":"\" \",\"\",\"\",\"\""}]
[{"$f":"\"\"\" \"& 'BX Language acquisition'!A4420 & \"\"\",\"\"\" & 'BX Language acquisition'!C4420 & \"\"\",\"\"\" & 'BX Language acquisition'!B4420 & \"\"\",\"\"\" & 'BX Language acquisition'!D4420 & \"\"\"\"","v":"\" \",\"\",\"\",\"\""}]
[{"$f":"\"\"\" \"& 'BX Language acquisition'!A4421 & \"\"\",\"\"\" & 'BX Language acquisition'!C4421 & \"\"\",\"\"\" & 'BX Language acquisition'!B4421 & \"\"\",\"\"\" & 'BX Language acquisition'!D4421 & \"\"\"\"","v":"\" \",\"\",\"\",\"\""}]
[{"$f":"\"\"\" \"& 'BX Language acquisition'!A4422 & \"\"\",\"\"\" & 'BX Language acquisition'!C4422 & \"\"\",\"\"\" & 'BX Language acquisition'!B4422 & \"\"\",\"\"\" & 'BX Language acquisition'!D4422 & \"\"\"\"","v":"\" \",\"\",\"\",\"\""}]
[{"$f":"\"\"\" \"& 'BX Language acquisition'!A4423 & \"\"\",\"\"\" & 'BX Language acquisition'!C4423 & \"\"\",\"\"\" & 'BX Language acquisition'!B4423 & \"\"\",\"\"\" & 'BX Language acquisition'!D4423 & \"\"\"\"","v":"\" \",\"\",\"\",\"\""}]
[{"$f":"\"\"\" \"& 'BX Language acquisition'!A4424 & \"\"\",\"\"\" & 'BX Language acquisition'!C4424 & \"\"\",\"\"\" & 'BX Language acquisition'!B4424 & \"\"\",\"\"\" & 'BX Language acquisition'!D4424 & \"\"\"\"","v":"\" \",\"\",\"\",\"\""}]
[{"$f":"\"\"\" \"& 'BX Language acquisition'!A4425 & \"\"\",\"\"\" & 'BX Language acquisition'!C4425 & \"\"\",\"\"\" & 'BX Language acquisition'!B4425 & \"\"\",\"\"\" & 'BX Language acquisition'!D4425 & \"\"\"\"","v":"\" \",\"\",\"\",\"\""}]
[{"$f":"\"\"\" \"& 'BX Language acquisition'!A4426 & \"\"\",\"\"\" & 'BX Language acquisition'!C4426 & \"\"\",\"\"\" & 'BX Language acquisition'!B4426 & \"\"\",\"\"\" & 'BX Language acquisition'!D4426 & \"\"\"\"","v":"\" \",\"\",\"\",\"\""}]
[{"$f":"\"\"\" \"& 'BX Language acquisition'!A4427 & \"\"\",\"\"\" & 'BX Language acquisition'!C4427 & \"\"\",\"\"\" & 'BX Language acquisition'!B4427 & \"\"\",\"\"\" & 'BX Language acquisition'!D4427 & \"\"\"\"","v":"\" \",\"\",\"\",\"\""}]
[{"$f":"\"\"\" \"& 'BX Language acquisition'!A4428 & \"\"\",\"\"\" & 'BX Language acquisition'!C4428 & \"\"\",\"\"\" & 'BX Language acquisition'!B4428 & \"\"\",\"\"\" & 'BX Language acquisition'!D4428 & \"\"\"\"","v":"\" \",\"\",\"\",\"\""}]
[{"$f":"\"\"\" \"& 'BX Language acquisition'!A4429 & \"\"\",\"\"\" & 'BX Language acquisition'!C4429 & \"\"\",\"\"\" & 'BX Language acquisition'!B4429 & \"\"\",\"\"\" & 'BX Language acquisition'!D4429 & \"\"\"\"","v":"\" \",\"\",\"\",\"\""}]
[{"$f":"\"\"\" \"& 'BX Language acquisition'!A4430 & \"\"\",\"\"\" & 'BX Language acquisition'!C4430 & \"\"\",\"\"\" & 'BX Language acquisition'!B4430 & \"\"\",\"\"\" & 'BX Language acquisition'!D4430 & \"\"\"\"","v":"\" \",\"\",\"\",\"\""}]
[{"$f":"\"\"\" \"& 'BX Language acquisition'!A4431 & \"\"\",\"\"\" & 'BX Language acquisition'!C4431 & \"\"\",\"\"\" & 'BX Language acquisition'!B4431 & \"\"\",\"\"\" & 'BX Language acquisition'!D4431 & \"\"\"\"","v":"\" \",\"\",\"\",\"\""}]
[{"$f":"\"\"\" \"& 'BX Language acquisition'!A4432 & \"\"\",\"\"\" & 'BX Language acquisition'!C4432 & \"\"\",\"\"\" & 'BX Language acquisition'!B4432 & \"\"\",\"\"\" & 'BX Language acquisition'!D4432 & \"\"\"\"","v":"\" \",\"\",\"\",\"\""}]
[{"$f":"\"\"\" \"& 'BX Language acquisition'!A4433 & \"\"\",\"\"\" & 'BX Language acquisition'!C4433 & \"\"\",\"\"\" & 'BX Language acquisition'!B4433 & \"\"\",\"\"\" & 'BX Language acquisition'!D4433 & \"\"\"\"","v":"\" \",\"\",\"\",\"\""}]
[{"$f":"\"\"\" \"& 'BX Language acquisition'!A4434 & \"\"\",\"\"\" & 'BX Language acquisition'!C4434 & \"\"\",\"\"\" & 'BX Language acquisition'!B4434 & \"\"\",\"\"\" & 'BX Language acquisition'!D4434 & \"\"\"\"","v":"\" \",\"\",\"\",\"\""}]
[{"$f":"\"\"\" \"& 'BX Language acquisition'!A4435 & \"\"\",\"\"\" & 'BX Language acquisition'!C4435 & \"\"\",\"\"\" & 'BX Language acquisition'!B4435 & \"\"\",\"\"\" & 'BX Language acquisition'!D4435 & \"\"\"\"","v":"\" \",\"\",\"\",\"\""}]
[{"$f":"\"\"\" \"& 'BX Language acquisition'!A4436 & \"\"\",\"\"\" & 'BX Language acquisition'!C4436 & \"\"\",\"\"\" & 'BX Language acquisition'!B4436 & \"\"\",\"\"\" & 'BX Language acquisition'!D4436 & \"\"\"\"","v":"\" \",\"\",\"\",\"\""}]
[{"$f":"\"\"\" \"& 'BX Language acquisition'!A4437 & \"\"\",\"\"\" & 'BX Language acquisition'!C4437 & \"\"\",\"\"\" & 'BX Language acquisition'!B4437 & \"\"\",\"\"\" & 'BX Language acquisition'!D4437 & \"\"\"\"","v":"\" \",\"\",\"\",\"\""}]
[{"$f":"\"\"\" \"& 'BX Language acquisition'!A4438 & \"\"\",\"\"\" & 'BX Language acquisition'!C4438 & \"\"\",\"\"\" & 'BX Language acquisition'!B4438 & \"\"\",\"\"\" & 'BX Language acquisition'!D4438 & \"\"\"\"","v":"\" \",\"\",\"\",\"\""}]
[{"$f":"\"\"\" \"& 'BX Language acquisition'!A4439 & \"\"\",\"\"\" & 'BX Language acquisition'!C4439 & \"\"\",\"\"\" & 'BX Language acquisition'!B4439 & \"\"\",\"\"\" & 'BX Language acquisition'!D4439 & \"\"\"\"","v":"\" \",\"\",\"\",\"\""}]
[{"$f":"\"\"\" \"& 'BX Language acquisition'!A4440 & \"\"\",\"\"\" & 'BX Language acquisition'!C4440 & \"\"\",\"\"\" & 'BX Language acquisition'!B4440 & \"\"\",\"\"\" & 'BX Language acquisition'!D4440 & \"\"\"\"","v":"\" \",\"\",\"\",\"\""}]
[{"$f":"\"\"\" \"& 'BX Language acquisition'!A4441 & \"\"\",\"\"\" & 'BX Language acquisition'!C4441 & \"\"\",\"\"\" & 'BX Language acquisition'!B4441 & \"\"\",\"\"\" & 'BX Language acquisition'!D4441 & \"\"\"\"","v":"\" \",\"\",\"\",\"\""}]
[{"$f":"\"\"\" \"& 'BX Language acquisition'!A4442 & \"\"\",\"\"\" & 'BX Language acquisition'!C4442 & \"\"\",\"\"\" & 'BX Language acquisition'!B4442 & \"\"\",\"\"\" & 'BX Language acquisition'!D4442 & \"\"\"\"","v":"\" \",\"\",\"\",\"\""}]
[{"$f":"\"\"\" \"& 'BX Language acquisition'!A4443 & \"\"\",\"\"\" & 'BX Language acquisition'!C4443 & \"\"\",\"\"\" & 'BX Language acquisition'!B4443 & \"\"\",\"\"\" & 'BX Language acquisition'!D4443 & \"\"\"\"","v":"\" \",\"\",\"\",\"\""}]
[{"$f":"\"\"\" \"& 'BX Language acquisition'!A4444 & \"\"\",\"\"\" & 'BX Language acquisition'!C4444 & \"\"\",\"\"\" & 'BX Language acquisition'!B4444 & \"\"\",\"\"\" & 'BX Language acquisition'!D4444 & \"\"\"\"","v":"\" \",\"\",\"\",\"\""}]
[{"$f":"\"\"\" \"& 'BX Language acquisition'!A4445 & \"\"\",\"\"\" & 'BX Language acquisition'!C4445 & \"\"\",\"\"\" & 'BX Language acquisition'!B4445 & \"\"\",\"\"\" & 'BX Language acquisition'!D4445 & \"\"\"\"","v":"\" \",\"\",\"\",\"\""}]
[{"$f":"\"\"\" \"& 'BX Language acquisition'!A4446 & \"\"\",\"\"\" & 'BX Language acquisition'!C4446 & \"\"\",\"\"\" & 'BX Language acquisition'!B4446 & \"\"\",\"\"\" & 'BX Language acquisition'!D4446 & \"\"\"\"","v":"\" \",\"\",\"\",\"\""}]
[{"$f":"\"\"\" \"& 'BX Language acquisition'!A4447 & \"\"\",\"\"\" & 'BX Language acquisition'!C4447 & \"\"\",\"\"\" & 'BX Language acquisition'!B4447 & \"\"\",\"\"\" & 'BX Language acquisition'!D4447 & \"\"\"\"","v":"\" \",\"\",\"\",\"\""}]
[{"$f":"\"\"\" \"& 'BX Language acquisition'!A4448 & \"\"\",\"\"\" & 'BX Language acquisition'!C4448 & \"\"\",\"\"\" & 'BX Language acquisition'!B4448 & \"\"\",\"\"\" & 'BX Language acquisition'!D4448 & \"\"\"\"","v":"\" \",\"\",\"\",\"\""}]
[{"$f":"\"\"\" \"& 'BX Language acquisition'!A4449 & \"\"\",\"\"\" & 'BX Language acquisition'!C4449 & \"\"\",\"\"\" & 'BX Language acquisition'!B4449 & \"\"\",\"\"\" & 'BX Language acquisition'!D4449 & \"\"\"\"","v":"\" \",\"\",\"\",\"\""}]
[{"$f":"\"\"\" \"& 'BX Language acquisition'!A4450 & \"\"\",\"\"\" & 'BX Language acquisition'!C4450 & \"\"\",\"\"\" & 'BX Language acquisition'!B4450 & \"\"\",\"\"\" & 'BX Language acquisition'!D4450 & \"\"\"\"","v":"\" \",\"\",\"\",\"\""}]
[{"$f":"\"\"\" \"& 'BX Language acquisition'!A4451 & \"\"\",\"\"\" & 'BX Language acquisition'!C4451 & \"\"\",\"\"\" & 'BX Language acquisition'!B4451 & \"\"\",\"\"\" & 'BX Language acquisition'!D4451 & \"\"\"\"","v":"\" \",\"\",\"\",\"\""}]
[{"$f":"\"\"\" \"& 'BX Language acquisition'!A4452 & \"\"\",\"\"\" & 'BX Language acquisition'!C4452 & \"\"\",\"\"\" & 'BX Language acquisition'!B4452 & \"\"\",\"\"\" & 'BX Language acquisition'!D4452 & \"\"\"\"","v":"\" \",\"\",\"\",\"\""}]
[{"$f":"\"\"\" \"& 'BX Language acquisition'!A4453 & \"\"\",\"\"\" & 'BX Language acquisition'!C4453 & \"\"\",\"\"\" & 'BX Language acquisition'!B4453 & \"\"\",\"\"\" & 'BX Language acquisition'!D4453 & \"\"\"\"","v":"\" \",\"\",\"\",\"\""}]
[{"$f":"\"\"\" \"& 'BX Language acquisition'!A4454 & \"\"\",\"\"\" & 'BX Language acquisition'!C4454 & \"\"\",\"\"\" & 'BX Language acquisition'!B4454 & \"\"\",\"\"\" & 'BX Language acquisition'!D4454 & \"\"\"\"","v":"\" \",\"\",\"\",\"\""}]
[{"$f":"\"\"\" \"& 'BX Language acquisition'!A4455 & \"\"\",\"\"\" & 'BX Language acquisition'!C4455 & \"\"\",\"\"\" & 'BX Language acquisition'!B4455 & \"\"\",\"\"\" & 'BX Language acquisition'!D4455 & \"\"\"\"","v":"\" \",\"\",\"\",\"\""}]
[{"$f":"\"\"\" \"& 'BX Language acquisition'!A4456 & \"\"\",\"\"\" & 'BX Language acquisition'!C4456 & \"\"\",\"\"\" & 'BX Language acquisition'!B4456 & \"\"\",\"\"\" & 'BX Language acquisition'!D4456 & \"\"\"\"","v":"\" \",\"\",\"\",\"\""}]
[{"$f":"\"\"\" \"& 'BX Language acquisition'!A4457 & \"\"\",\"\"\" & 'BX Language acquisition'!C4457 & \"\"\",\"\"\" & 'BX Language acquisition'!B4457 & \"\"\",\"\"\" & 'BX Language acquisition'!D4457 & \"\"\"\"","v":"\" \",\"\",\"\",\"\""}]
[{"$f":"\"\"\" \"& 'BX Language acquisition'!A4458 & \"\"\",\"\"\" & 'BX Language acquisition'!C4458 & \"\"\",\"\"\" & 'BX Language acquisition'!B4458 & \"\"\",\"\"\" & 'BX Language acquisition'!D4458 & \"\"\"\"","v":"\" \",\"\",\"\",\"\""}]
[{"$f":"\"\"\" \"& 'BX Language acquisition'!A4459 & \"\"\",\"\"\" & 'BX Language acquisition'!C4459 & \"\"\",\"\"\" & 'BX Language acquisition'!B4459 & \"\"\",\"\"\" & 'BX Language acquisition'!D4459 & \"\"\"\"","v":"\" \",\"\",\"\",\"\""}]
[{"$f":"\"\"\" \"& 'BX Language acquisition'!A4460 & \"\"\",\"\"\" & 'BX Language acquisition'!C4460 & \"\"\",\"\"\" & 'BX Language acquisition'!B4460 & \"\"\",\"\"\" & 'BX Language acquisition'!D4460 & \"\"\"\"","v":"\" \",\"\",\"\",\"\""}]
[{"$f":"\"\"\" \"& 'BX Language acquisition'!A4461 & \"\"\",\"\"\" & 'BX Language acquisition'!C4461 & \"\"\",\"\"\" & 'BX Language acquisition'!B4461 & \"\"\",\"\"\" & 'BX Language acquisition'!D4461 & \"\"\"\"","v":"\" \",\"\",\"\",\"\""}]
[{"$f":"\"\"\" \"& 'BX Language acquisition'!A4462 & \"\"\",\"\"\" & 'BX Language acquisition'!C4462 & \"\"\",\"\"\" & 'BX Language acquisition'!B4462 & \"\"\",\"\"\" & 'BX Language acquisition'!D4462 & \"\"\"\"","v":"\" \",\"\",\"\",\"\""}]
[{"$f":"\"\"\" \"& 'BX Language acquisition'!A4463 & \"\"\",\"\"\" & 'BX Language acquisition'!C4463 & \"\"\",\"\"\" & 'BX Language acquisition'!B4463 & \"\"\",\"\"\" & 'BX Language acquisition'!D4463 & \"\"\"\"","v":"\" \",\"\",\"\",\"\""}]
[{"$f":"\"\"\" \"& 'BX Language acquisition'!A4464 & \"\"\",\"\"\" & 'BX Language acquisition'!C4464 & \"\"\",\"\"\" & 'BX Language acquisition'!B4464 & \"\"\",\"\"\" & 'BX Language acquisition'!D4464 & \"\"\"\"","v":"\" \",\"\",\"\",\"\""}]
[{"$f":"\"\"\" \"& 'BX Language acquisition'!A4465 & \"\"\",\"\"\" & 'BX Language acquisition'!C4465 & \"\"\",\"\"\" & 'BX Language acquisition'!B4465 & \"\"\",\"\"\" & 'BX Language acquisition'!D4465 & \"\"\"\"","v":"\" \",\"\",\"\",\"\""}]
[{"$f":"\"\"\" \"& 'BX Language acquisition'!A4466 & \"\"\",\"\"\" & 'BX Language acquisition'!C4466 & \"\"\",\"\"\" & 'BX Language acquisition'!B4466 & \"\"\",\"\"\" & 'BX Language acquisition'!D4466 & \"\"\"\"","v":"\" \",\"\",\"\",\"\""}]
[{"$f":"\"\"\" \"& 'BX Language acquisition'!A4467 & \"\"\",\"\"\" & 'BX Language acquisition'!C4467 & \"\"\",\"\"\" & 'BX Language acquisition'!B4467 & \"\"\",\"\"\" & 'BX Language acquisition'!D4467 & \"\"\"\"","v":"\" \",\"\",\"\",\"\""}]
[{"$f":"\"\"\" \"& 'BX Language acquisition'!A4468 & \"\"\",\"\"\" & 'BX Language acquisition'!C4468 & \"\"\",\"\"\" & 'BX Language acquisition'!B4468 & \"\"\",\"\"\" & 'BX Language acquisition'!D4468 & \"\"\"\"","v":"\" \",\"\",\"\",\"\""}]
[{"$f":"\"\"\" \"& 'BX Language acquisition'!A4469 & \"\"\",\"\"\" & 'BX Language acquisition'!C4469 & \"\"\",\"\"\" & 'BX Language acquisition'!B4469 & \"\"\",\"\"\" & 'BX Language acquisition'!D4469 & \"\"\"\"","v":"\" \",\"\",\"\",\"\""}]
[{"$f":"\"\"\" \"& 'BX Language acquisition'!A4470 & \"\"\",\"\"\" & 'BX Language acquisition'!C4470 & \"\"\",\"\"\" & 'BX Language acquisition'!B4470 & \"\"\",\"\"\" & 'BX Language acquisition'!D4470 & \"\"\"\"","v":"\" \",\"\",\"\",\"\""}]
[{"$f":"\"\"\" \"& 'BX Language acquisition'!A4471 & \"\"\",\"\"\" & 'BX Language acquisition'!C4471 & \"\"\",\"\"\" & 'BX Language acquisition'!B4471 & \"\"\",\"\"\" & 'BX Language acquisition'!D4471 & \"\"\"\"","v":"\" \",\"\",\"\",\"\""}]
[{"$f":"\"\"\" \"& 'BX Language acquisition'!A4472 & \"\"\",\"\"\" & 'BX Language acquisition'!C4472 & \"\"\",\"\"\" & 'BX Language acquisition'!B4472 & \"\"\",\"\"\" & 'BX Language acquisition'!D4472 & \"\"\"\"","v":"\" \",\"\",\"\",\"\""}]
[{"$f":"\"\"\" \"& 'BX Language acquisition'!A4473 & \"\"\",\"\"\" & 'BX Language acquisition'!C4473 & \"\"\",\"\"\" & 'BX Language acquisition'!B4473 & \"\"\",\"\"\" & 'BX Language acquisition'!D4473 & \"\"\"\"","v":"\" \",\"\",\"\",\"\""}]
[{"$f":"\"\"\" \"& 'BX Language acquisition'!A4474 & \"\"\",\"\"\" & 'BX Language acquisition'!C4474 & \"\"\",\"\"\" & 'BX Language acquisition'!B4474 & \"\"\",\"\"\" & 'BX Language acquisition'!D4474 & \"\"\"\"","v":"\" \",\"\",\"\",\"\""}]
[{"$f":"\"\"\" \"& 'BX Language acquisition'!A4475 & \"\"\",\"\"\" & 'BX Language acquisition'!C4475 & \"\"\",\"\"\" & 'BX Language acquisition'!B4475 & \"\"\",\"\"\" & 'BX Language acquisition'!D4475 & \"\"\"\"","v":"\" \",\"\",\"\",\"\""}]
[{"$f":"\"\"\" \"& 'BX Language acquisition'!A4476 & \"\"\",\"\"\" & 'BX Language acquisition'!C4476 & \"\"\",\"\"\" & 'BX Language acquisition'!B4476 & \"\"\",\"\"\" & 'BX Language acquisition'!D4476 & \"\"\"\"","v":"\" \",\"\",\"\",\"\""}]
[{"$f":"\"\"\" \"& 'BX Language acquisition'!A4477 & \"\"\",\"\"\" & 'BX Language acquisition'!C4477 & \"\"\",\"\"\" & 'BX Language acquisition'!B4477 & \"\"\",\"\"\" & 'BX Language acquisition'!D4477 & \"\"\"\"","v":"\" \",\"\",\"\",\"\""}]
[{"$f":"\"\"\" \"& 'BX Language acquisition'!A4478 & \"\"\",\"\"\" & 'BX Language acquisition'!C4478 & \"\"\",\"\"\" & 'BX Language acquisition'!B4478 & \"\"\",\"\"\" & 'BX Language acquisition'!D4478 & \"\"\"\"","v":"\" \",\"\",\"\",\"\""}]
[{"$f":"\"\"\" \"& 'BX Language acquisition'!A4479 & \"\"\",\"\"\" & 'BX Language acquisition'!C4479 & \"\"\",\"\"\" & 'BX Language acquisition'!B4479 & \"\"\",\"\"\" & 'BX Language acquisition'!D4479 & \"\"\"\"","v":"\" \",\"\",\"\",\"\""}]
[{"$f":"\"\"\" \"& 'BX Language acquisition'!A4480 & \"\"\",\"\"\" & 'BX Language acquisition'!C4480 & \"\"\",\"\"\" & 'BX Language acquisition'!B4480 & \"\"\",\"\"\" & 'BX Language acquisition'!D4480 & \"\"\"\"","v":"\" \",\"\",\"\",\"\""}]
[{"$f":"\"\"\" \"& 'BX Language acquisition'!A4481 & \"\"\",\"\"\" & 'BX Language acquisition'!C4481 & \"\"\",\"\"\" & 'BX Language acquisition'!B4481 & \"\"\",\"\"\" & 'BX Language acquisition'!D4481 & \"\"\"\"","v":"\" \",\"\",\"\",\"\""}]
[{"$f":"\"\"\" \"& 'BX Language acquisition'!A4482 & \"\"\",\"\"\" & 'BX Language acquisition'!C4482 & \"\"\",\"\"\" & 'BX Language acquisition'!B4482 & \"\"\",\"\"\" & 'BX Language acquisition'!D4482 & \"\"\"\"","v":"\" \",\"\",\"\",\"\""}]
[{"$f":"\"\"\" \"& 'BX Language acquisition'!A4483 & \"\"\",\"\"\" & 'BX Language acquisition'!C4483 & \"\"\",\"\"\" & 'BX Language acquisition'!B4483 & \"\"\",\"\"\" & 'BX Language acquisition'!D4483 & \"\"\"\"","v":"\" \",\"\",\"\",\"\""}]
[{"$f":"\"\"\" \"& 'BX Language acquisition'!A4484 & \"\"\",\"\"\" & 'BX Language acquisition'!C4484 & \"\"\",\"\"\" & 'BX Language acquisition'!B4484 & \"\"\",\"\"\" & 'BX Language acquisition'!D4484 & \"\"\"\"","v":"\" \",\"\",\"\",\"\""}]
[{"$f":"\"\"\" \"& 'BX Language acquisition'!A4485 & \"\"\",\"\"\" & 'BX Language acquisition'!C4485 & \"\"\",\"\"\" & 'BX Language acquisition'!B4485 & \"\"\",\"\"\" & 'BX Language acquisition'!D4485 & \"\"\"\"","v":"\" \",\"\",\"\",\"\""}]
[{"$f":"\"\"\" \"& 'BX Language acquisition'!A4486 & \"\"\",\"\"\" & 'BX Language acquisition'!C4486 & \"\"\",\"\"\" & 'BX Language acquisition'!B4486 & \"\"\",\"\"\" & 'BX Language acquisition'!D4486 & \"\"\"\"","v":"\" \",\"\",\"\",\"\""}]
[{"$f":"\"\"\" \"& 'BX Language acquisition'!A4487 & \"\"\",\"\"\" & 'BX Language acquisition'!C4487 & \"\"\",\"\"\" & 'BX Language acquisition'!B4487 & \"\"\",\"\"\" & 'BX Language acquisition'!D4487 & \"\"\"\"","v":"\" \",\"\",\"\",\"\""}]
[{"$f":"\"\"\" \"& 'BX Language acquisition'!A4488 & \"\"\",\"\"\" & 'BX Language acquisition'!C4488 & \"\"\",\"\"\" & 'BX Language acquisition'!B4488 & \"\"\",\"\"\" & 'BX Language acquisition'!D4488 & \"\"\"\"","v":"\" \",\"\",\"\",\"\""}]
[{"$f":"\"\"\" \"& 'BX Language acquisition'!A4489 & \"\"\",\"\"\" & 'BX Language acquisition'!C4489 & \"\"\",\"\"\" & 'BX Language acquisition'!B4489 & \"\"\",\"\"\" & 'BX Language acquisition'!D4489 & \"\"\"\"","v":"\" \",\"\",\"\",\"\""}]
[{"$f":"\"\"\" \"& 'BX Language acquisition'!A4490 & \"\"\",\"\"\" & 'BX Language acquisition'!C4490 & \"\"\",\"\"\" & 'BX Language acquisition'!B4490 & \"\"\",\"\"\" & 'BX Language acquisition'!D4490 & \"\"\"\"","v":"\" \",\"\",\"\",\"\""}]
[{"$f":"\"\"\" \"& 'BX Language acquisition'!A4491 & \"\"\",\"\"\" & 'BX Language acquisition'!C4491 & \"\"\",\"\"\" & 'BX Language acquisition'!B4491 & \"\"\",\"\"\" & 'BX Language acquisition'!D4491 & \"\"\"\"","v":"\" \",\"\",\"\",\"\""}]
[{"$f":"\"\"\" \"& 'BX Language acquisition'!A4492 & \"\"\",\"\"\" & 'BX Language acquisition'!C4492 & \"\"\",\"\"\" & 'BX Language acquisition'!B4492 & \"\"\",\"\"\" & 'BX Language acquisition'!D4492 & \"\"\"\"","v":"\" \",\"\",\"\",\"\""}]
[{"$f":"\"\"\" \"& 'BX Language acquisition'!A4493 & \"\"\",\"\"\" & 'BX Language acquisition'!C4493 & \"\"\",\"\"\" & 'BX Language acquisition'!B4493 & \"\"\",\"\"\" & 'BX Language acquisition'!D4493 & \"\"\"\"","v":"\" \",\"\",\"\",\"\""}]
[{"$f":"\"\"\" \"& 'BX Language acquisition'!A4494 & \"\"\",\"\"\" & 'BX Language acquisition'!C4494 & \"\"\",\"\"\" & 'BX Language acquisition'!B4494 & \"\"\",\"\"\" & 'BX Language acquisition'!D4494 & \"\"\"\"","v":"\" \",\"\",\"\",\"\""}]
[{"$f":"\"\"\" \"& 'BX Language acquisition'!A4495 & \"\"\",\"\"\" & 'BX Language acquisition'!C4495 & \"\"\",\"\"\" & 'BX Language acquisition'!B4495 & \"\"\",\"\"\" & 'BX Language acquisition'!D4495 & \"\"\"\"","v":"\" \",\"\",\"\",\"\""}]
[{"$f":"\"\"\" \"& 'BX Language acquisition'!A4496 & \"\"\",\"\"\" & 'BX Language acquisition'!C4496 & \"\"\",\"\"\" & 'BX Language acquisition'!B4496 & \"\"\",\"\"\" & 'BX Language acquisition'!D4496 & \"\"\"\"","v":"\" \",\"\",\"\",\"\""}]
[{"$f":"\"\"\" \"& 'BX Language acquisition'!A4497 & \"\"\",\"\"\" & 'BX Language acquisition'!C4497 & \"\"\",\"\"\" & 'BX Language acquisition'!B4497 & \"\"\",\"\"\" & 'BX Language acquisition'!D4497 & \"\"\"\"","v":"\" \",\"\",\"\",\"\""}]
[{"$f":"\"\"\" \"& 'BX Language acquisition'!A4498 & \"\"\",\"\"\" & 'BX Language acquisition'!C4498 & \"\"\",\"\"\" & 'BX Language acquisition'!B4498 & \"\"\",\"\"\" & 'BX Language acquisition'!D4498 & \"\"\"\"","v":"\" \",\"\",\"\",\"\""}]
[{"$f":"\"\"\" \"& 'BX Language acquisition'!A4499 & \"\"\",\"\"\" & 'BX Language acquisition'!C4499 & \"\"\",\"\"\" & 'BX Language acquisition'!B4499 & \"\"\",\"\"\" & 'BX Language acquisition'!D4499 & \"\"\"\"","v":"\" \",\"\",\"\",\"\""}]
[{"$f":"\"\"\" \"& 'BX Language acquisition'!A4500 & \"\"\",\"\"\" & 'BX Language acquisition'!C4500 & \"\"\",\"\"\" & 'BX Language acquisition'!B4500 & \"\"\",\"\"\" & 'BX Language acquisition'!D4500 & \"\"\"\"","v":"\" \",\"\",\"\",\"\""}]
[{"$f":"\"\"\" \"& 'BX Language acquisition'!A4501 & \"\"\",\"\"\" & 'BX Language acquisition'!C4501 & \"\"\",\"\"\" & 'BX Language acquisition'!B4501 & \"\"\",\"\"\" & 'BX Language acquisition'!D4501 & \"\"\"\"","v":"\" \",\"\",\"\",\"\""}]
[{"$f":"\"\"\" \"& 'BX Language acquisition'!A4502 & \"\"\",\"\"\" & 'BX Language acquisition'!C4502 & \"\"\",\"\"\" & 'BX Language acquisition'!B4502 & \"\"\",\"\"\" & 'BX Language acquisition'!D4502 & \"\"\"\"","v":"\" \",\"\",\"\",\"\""}]
[{"$f":"\"\"\" \"& 'BX Language acquisition'!A4503 & \"\"\",\"\"\" & 'BX Language acquisition'!C4503 & \"\"\",\"\"\" & 'BX Language acquisition'!B4503 & \"\"\",\"\"\" & 'BX Language acquisition'!D4503 & \"\"\"\"","v":"\" \",\"\",\"\",\"\""}]
[{"$f":"\"\"\" \"& 'BX Language acquisition'!A4504 & \"\"\",\"\"\" & 'BX Language acquisition'!C4504 & \"\"\",\"\"\" & 'BX Language acquisition'!B4504 & \"\"\",\"\"\" & 'BX Language acquisition'!D4504 & \"\"\"\"","v":"\" \",\"\",\"\",\"\""}]
[{"$f":"\"\"\" \"& 'BX Language acquisition'!A4505 & \"\"\",\"\"\" & 'BX Language acquisition'!C4505 & \"\"\",\"\"\" & 'BX Language acquisition'!B4505 & \"\"\",\"\"\" & 'BX Language acquisition'!D4505 & \"\"\"\"","v":"\" \",\"\",\"\",\"\""}]
[{"$f":"\"\"\" \"& 'BX Language acquisition'!A4506 & \"\"\",\"\"\" & 'BX Language acquisition'!C4506 & \"\"\",\"\"\" & 'BX Language acquisition'!B4506 & \"\"\",\"\"\" & 'BX Language acquisition'!D4506 & \"\"\"\"","v":"\" \",\"\",\"\",\"\""}]
[{"$f":"\"\"\" \"& 'BX Language acquisition'!A4507 & \"\"\",\"\"\" & 'BX Language acquisition'!C4507 & \"\"\",\"\"\" & 'BX Language acquisition'!B4507 & \"\"\",\"\"\" & 'BX Language acquisition'!D4507 & \"\"\"\"","v":"\" \",\"\",\"\",\"\""}]
[{"$f":"\"\"\" \"& 'BX Language acquisition'!A4508 & \"\"\",\"\"\" & 'BX Language acquisition'!C4508 & \"\"\",\"\"\" & 'BX Language acquisition'!B4508 & \"\"\",\"\"\" & 'BX Language acquisition'!D4508 & \"\"\"\"","v":"\" \",\"\",\"\",\"\""}]
[{"$f":"\"\"\" \"& 'BX Language acquisition'!A4509 & \"\"\",\"\"\" & 'BX Language acquisition'!C4509 & \"\"\",\"\"\" & 'BX Language acquisition'!B4509 & \"\"\",\"\"\" & 'BX Language acquisition'!D4509 & \"\"\"\"","v":"\" \",\"\",\"\",\"\""}]
[{"$f":"\"\"\" \"& 'BX Language acquisition'!A4510 & \"\"\",\"\"\" & 'BX Language acquisition'!C4510 & \"\"\",\"\"\" & 'BX Language acquisition'!B4510 & \"\"\",\"\"\" & 'BX Language acquisition'!D4510 & \"\"\"\"","v":"\" \",\"\",\"\",\"\""}]
[{"$f":"\"\"\" \"& 'BX Language acquisition'!A4511 & \"\"\",\"\"\" & 'BX Language acquisition'!C4511 & \"\"\",\"\"\" & 'BX Language acquisition'!B4511 & \"\"\",\"\"\" & 'BX Language acquisition'!D4511 & \"\"\"\"","v":"\" \",\"\",\"\",\"\""}]
[{"$f":"\"\"\" \"& 'BX Language acquisition'!A4512 & \"\"\",\"\"\" & 'BX Language acquisition'!C4512 & \"\"\",\"\"\" & 'BX Language acquisition'!B4512 & \"\"\",\"\"\" & 'BX Language acquisition'!D4512 & \"\"\"\"","v":"\" \",\"\",\"\",\"\""}]
[{"$f":"\"\"\" \"& 'BX Language acquisition'!A4513 & \"\"\",\"\"\" & 'BX Language acquisition'!C4513 & \"\"\",\"\"\" & 'BX Language acquisition'!B4513 & \"\"\",\"\"\" & 'BX Language acquisition'!D4513 & \"\"\"\"","v":"\" \",\"\",\"\",\"\""}]
[{"$f":"\"\"\" \"& 'BX Language acquisition'!A4514 & \"\"\",\"\"\" & 'BX Language acquisition'!C4514 & \"\"\",\"\"\" & 'BX Language acquisition'!B4514 & \"\"\",\"\"\" & 'BX Language acquisition'!D4514 & \"\"\"\"","v":"\" \",\"\",\"\",\"\""}]
[{"$f":"\"\"\" \"& 'BX Language acquisition'!A4515 & \"\"\",\"\"\" & 'BX Language acquisition'!C4515 & \"\"\",\"\"\" & 'BX Language acquisition'!B4515 & \"\"\",\"\"\" & 'BX Language acquisition'!D4515 & \"\"\"\"","v":"\" \",\"\",\"\",\"\""}]
[{"$f":"\"\"\" \"& 'BX Language acquisition'!A4516 & \"\"\",\"\"\" & 'BX Language acquisition'!C4516 & \"\"\",\"\"\" & 'BX Language acquisition'!B4516 & \"\"\",\"\"\" & 'BX Language acquisition'!D4516 & \"\"\"\"","v":"\" \",\"\",\"\",\"\""}]
[{"$f":"\"\"\" \"& 'BX Language acquisition'!A4517 & \"\"\",\"\"\" & 'BX Language acquisition'!C4517 & \"\"\",\"\"\" & 'BX Language acquisition'!B4517 & \"\"\",\"\"\" & 'BX Language acquisition'!D4517 & \"\"\"\"","v":"\" \",\"\",\"\",\"\""}]
[{"$f":"\"\"\" \"& 'BX Language acquisition'!A4518 & \"\"\",\"\"\" & 'BX Language acquisition'!C4518 & \"\"\",\"\"\" & 'BX Language acquisition'!B4518 & \"\"\",\"\"\" & 'BX Language acquisition'!D4518 & \"\"\"\"","v":"\" \",\"\",\"\",\"\""}]
[{"$f":"\"\"\" \"& 'BX Language acquisition'!A4519 & \"\"\",\"\"\" & 'BX Language acquisition'!C4519 & \"\"\",\"\"\" & 'BX Language acquisition'!B4519 & \"\"\",\"\"\" & 'BX Language acquisition'!D4519 & \"\"\"\"","v":"\" \",\"\",\"\",\"\""}]
[{"$f":"\"\"\" \"& 'BX Language acquisition'!A4520 & \"\"\",\"\"\" & 'BX Language acquisition'!C4520 & \"\"\",\"\"\" & 'BX Language acquisition'!B4520 & \"\"\",\"\"\" & 'BX Language acquisition'!D4520 & \"\"\"\"","v":"\" \",\"\",\"\",\"\""}]
[{"$f":"\"\"\" \"& 'BX Language acquisition'!A4521 & \"\"\",\"\"\" & 'BX Language acquisition'!C4521 & \"\"\",\"\"\" & 'BX Language acquisition'!B4521 & \"\"\",\"\"\" & 'BX Language acquisition'!D4521 & \"\"\"\"","v":"\" \",\"\",\"\",\"\""}]
[{"$f":"\"\"\" \"& 'BX Language acquisition'!A4522 & \"\"\",\"\"\" & 'BX Language acquisition'!C4522 & \"\"\",\"\"\" & 'BX Language acquisition'!B4522 & \"\"\",\"\"\" & 'BX Language acquisition'!D4522 & \"\"\"\"","v":"\" \",\"\",\"\",\"\""}]
[{"$f":"\"\"\" \"& 'BX Language acquisition'!A4523 & \"\"\",\"\"\" & 'BX Language acquisition'!C4523 & \"\"\",\"\"\" & 'BX Language acquisition'!B4523 & \"\"\",\"\"\" & 'BX Language acquisition'!D4523 & \"\"\"\"","v":"\" \",\"\",\"\",\"\""}]
[{"$f":"\"\"\" \"& 'BX Language acquisition'!A4524 & \"\"\",\"\"\" & 'BX Language acquisition'!C4524 & \"\"\",\"\"\" & 'BX Language acquisition'!B4524 & \"\"\",\"\"\" & 'BX Language acquisition'!D4524 & \"\"\"\"","v":"\" \",\"\",\"\",\"\""}]
[{"$f":"\"\"\" \"& 'BX Language acquisition'!A4525 & \"\"\",\"\"\" & 'BX Language acquisition'!C4525 & \"\"\",\"\"\" & 'BX Language acquisition'!B4525 & \"\"\",\"\"\" & 'BX Language acquisition'!D4525 & \"\"\"\"","v":"\" \",\"\",\"\",\"\""}]
[{"$f":"\"\"\" \"& 'BX Language acquisition'!A4526 & \"\"\",\"\"\" & 'BX Language acquisition'!C4526 & \"\"\",\"\"\" & 'BX Language acquisition'!B4526 & \"\"\",\"\"\" & 'BX Language acquisition'!D4526 & \"\"\"\"","v":"\" \",\"\",\"\",\"\""}]
[{"$f":"\"\"\" \"& 'BX Language acquisition'!A4527 & \"\"\",\"\"\" & 'BX Language acquisition'!C4527 & \"\"\",\"\"\" & 'BX Language acquisition'!B4527 & \"\"\",\"\"\" & 'BX Language acquisition'!D4527 & \"\"\"\"","v":"\" \",\"\",\"\",\"\""}]
[{"$f":"\"\"\" \"& 'BX Language acquisition'!A4528 & \"\"\",\"\"\" & 'BX Language acquisition'!C4528 & \"\"\",\"\"\" & 'BX Language acquisition'!B4528 & \"\"\",\"\"\" & 'BX Language acquisition'!D4528 & \"\"\"\"","v":"\" \",\"\",\"\",\"\""}]
[{"$f":"\"\"\" \"& 'BX Language acquisition'!A4529 & \"\"\",\"\"\" & 'BX Language acquisition'!C4529 & \"\"\",\"\"\" & 'BX Language acquisition'!B4529 & \"\"\",\"\"\" & 'BX Language acquisition'!D4529 & \"\"\"\"","v":"\" \",\"\",\"\",\"\""}]
[{"$f":"\"\"\" \"& 'BX Language acquisition'!A4530 & \"\"\",\"\"\" & 'BX Language acquisition'!C4530 & \"\"\",\"\"\" & 'BX Language acquisition'!B4530 & \"\"\",\"\"\" & 'BX Language acquisition'!D4530 & \"\"\"\"","v":"\" \",\"\",\"\",\"\""}]
[{"$f":"\"\"\" \"& 'BX Language acquisition'!A4531 & \"\"\",\"\"\" & 'BX Language acquisition'!C4531 & \"\"\",\"\"\" & 'BX Language acquisition'!B4531 & \"\"\",\"\"\" & 'BX Language acquisition'!D4531 & \"\"\"\"","v":"\" \",\"\",\"\",\"\""}]
[{"$f":"\"\"\" \"& 'BX Language acquisition'!A4532 & \"\"\",\"\"\" & 'BX Language acquisition'!C4532 & \"\"\",\"\"\" & 'BX Language acquisition'!B4532 & \"\"\",\"\"\" & 'BX Language acquisition'!D4532 & \"\"\"\"","v":"\" \",\"\",\"\",\"\""}]
[{"$f":"\"\"\" \"& 'BX Language acquisition'!A4533 & \"\"\",\"\"\" & 'BX Language acquisition'!C4533 & \"\"\",\"\"\" & 'BX Language acquisition'!B4533 & \"\"\",\"\"\" & 'BX Language acquisition'!D4533 & \"\"\"\"","v":"\" \",\"\",\"\",\"\""}]
[{"$f":"\"\"\" \"& 'BX Language acquisition'!A4534 & \"\"\",\"\"\" & 'BX Language acquisition'!C4534 & \"\"\",\"\"\" & 'BX Language acquisition'!B4534 & \"\"\",\"\"\" & 'BX Language acquisition'!D4534 & \"\"\"\"","v":"\" \",\"\",\"\",\"\""}]
[{"$f":"\"\"\" \"& 'BX Language acquisition'!A4535 & \"\"\",\"\"\" & 'BX Language acquisition'!C4535 & \"\"\",\"\"\" & 'BX Language acquisition'!B4535 & \"\"\",\"\"\" & 'BX Language acquisition'!D4535 & \"\"\"\"","v":"\" \",\"\",\"\",\"\""}]
[{"$f":"\"\"\" \"& 'BX Language acquisition'!A4536 & \"\"\",\"\"\" & 'BX Language acquisition'!C4536 & \"\"\",\"\"\" & 'BX Language acquisition'!B4536 & \"\"\",\"\"\" & 'BX Language acquisition'!D4536 & \"\"\"\"","v":"\" \",\"\",\"\",\"\""}]
[{"$f":"\"\"\" \"& 'BX Language acquisition'!A4537 & \"\"\",\"\"\" & 'BX Language acquisition'!C4537 & \"\"\",\"\"\" & 'BX Language acquisition'!B4537 & \"\"\",\"\"\" & 'BX Language acquisition'!D4537 & \"\"\"\"","v":"\" \",\"\",\"\",\"\""}]
[{"$f":"\"\"\" \"& 'BX Language acquisition'!A4538 & \"\"\",\"\"\" & 'BX Language acquisition'!C4538 & \"\"\",\"\"\" & 'BX Language acquisition'!B4538 & \"\"\",\"\"\" & 'BX Language acquisition'!D4538 & \"\"\"\"","v":"\" \",\"\",\"\",\"\""}]
[{"$f":"\"\"\" \"& 'BX Language acquisition'!A4539 & \"\"\",\"\"\" & 'BX Language acquisition'!C4539 & \"\"\",\"\"\" & 'BX Language acquisition'!B4539 & \"\"\",\"\"\" & 'BX Language acquisition'!D4539 & \"\"\"\"","v":"\" \",\"\",\"\",\"\""}]
[{"$f":"\"\"\" \"& 'BX Language acquisition'!A4540 & \"\"\",\"\"\" & 'BX Language acquisition'!C4540 & \"\"\",\"\"\" & 'BX Language acquisition'!B4540 & \"\"\",\"\"\" & 'BX Language acquisition'!D4540 & \"\"\"\"","v":"\" \",\"\",\"\",\"\""}]
[{"$f":"\"\"\" \"& 'BX Language acquisition'!A4541 & \"\"\",\"\"\" & 'BX Language acquisition'!C4541 & \"\"\",\"\"\" & 'BX Language acquisition'!B4541 & \"\"\",\"\"\" & 'BX Language acquisition'!D4541 & \"\"\"\"","v":"\" \",\"\",\"\",\"\""}]
[{"$f":"\"\"\" \"& 'BX Language acquisition'!A4542 & \"\"\",\"\"\" & 'BX Language acquisition'!C4542 & \"\"\",\"\"\" & 'BX Language acquisition'!B4542 & \"\"\",\"\"\" & 'BX Language acquisition'!D4542 & \"\"\"\"","v":"\" \",\"\",\"\",\"\""}]
[{"$f":"\"\"\" \"& 'BX Language acquisition'!A4543 & \"\"\",\"\"\" & 'BX Language acquisition'!C4543 & \"\"\",\"\"\" & 'BX Language acquisition'!B4543 & \"\"\",\"\"\" & 'BX Language acquisition'!D4543 & \"\"\"\"","v":"\" \",\"\",\"\",\"\""}]
[{"$f":"\"\"\" \"& 'BX Language acquisition'!A4544 & \"\"\",\"\"\" & 'BX Language acquisition'!C4544 & \"\"\",\"\"\" & 'BX Language acquisition'!B4544 & \"\"\",\"\"\" & 'BX Language acquisition'!D4544 & \"\"\"\"","v":"\" \",\"\",\"\",\"\""}]
[{"$f":"\"\"\" \"& 'BX Language acquisition'!A4545 & \"\"\",\"\"\" & 'BX Language acquisition'!C4545 & \"\"\",\"\"\" & 'BX Language acquisition'!B4545 & \"\"\",\"\"\" & 'BX Language acquisition'!D4545 & \"\"\"\"","v":"\" \",\"\",\"\",\"\""}]
[{"$f":"\"\"\" \"& 'BX Language acquisition'!A4546 & \"\"\",\"\"\" & 'BX Language acquisition'!C4546 & \"\"\",\"\"\" & 'BX Language acquisition'!B4546 & \"\"\",\"\"\" & 'BX Language acquisition'!D4546 & \"\"\"\"","v":"\" \",\"\",\"\",\"\""}]
[{"$f":"\"\"\" \"& 'BX Language acquisition'!A4547 & \"\"\",\"\"\" & 'BX Language acquisition'!C4547 & \"\"\",\"\"\" & 'BX Language acquisition'!B4547 & \"\"\",\"\"\" & 'BX Language acquisition'!D4547 & \"\"\"\"","v":"\" \",\"\",\"\",\"\""}]
[{"$f":"\"\"\" \"& 'BX Language acquisition'!A4548 & \"\"\",\"\"\" & 'BX Language acquisition'!C4548 & \"\"\",\"\"\" & 'BX Language acquisition'!B4548 & \"\"\",\"\"\" & 'BX Language acquisition'!D4548 & \"\"\"\"","v":"\" \",\"\",\"\",\"\""}]
[{"$f":"\"\"\" \"& 'BX Language acquisition'!A4549 & \"\"\",\"\"\" & 'BX Language acquisition'!C4549 & \"\"\",\"\"\" & 'BX Language acquisition'!B4549 & \"\"\",\"\"\" & 'BX Language acquisition'!D4549 & \"\"\"\"","v":"\" \",\"\",\"\",\"\""}]
[{"$f":"\"\"\" \"& 'BX Language acquisition'!A4550 & \"\"\",\"\"\" & 'BX Language acquisition'!C4550 & \"\"\",\"\"\" & 'BX Language acquisition'!B4550 & \"\"\",\"\"\" & 'BX Language acquisition'!D4550 & \"\"\"\"","v":"\" \",\"\",\"\",\"\""}]
[{"$f":"\"\"\" \"& 'BX Language acquisition'!A4551 & \"\"\",\"\"\" & 'BX Language acquisition'!C4551 & \"\"\",\"\"\" & 'BX Language acquisition'!B4551 & \"\"\",\"\"\" & 'BX Language acquisition'!D4551 & \"\"\"\"","v":"\" \",\"\",\"\",\"\""}]
[{"$f":"\"\"\" \"& 'BX Language acquisition'!A4552 & \"\"\",\"\"\" & 'BX Language acquisition'!C4552 & \"\"\",\"\"\" & 'BX Language acquisition'!B4552 & \"\"\",\"\"\" & 'BX Language acquisition'!D4552 & \"\"\"\"","v":"\" \",\"\",\"\",\"\""}]
[{"$f":"\"\"\" \"& 'BX Language acquisition'!A4553 & \"\"\",\"\"\" & 'BX Language acquisition'!C4553 & \"\"\",\"\"\" & 'BX Language acquisition'!B4553 & \"\"\",\"\"\" & 'BX Language acquisition'!D4553 & \"\"\"\"","v":"\" \",\"\",\"\",\"\""}]
[{"$f":"\"\"\" \"& 'BX Language acquisition'!A4554 & \"\"\",\"\"\" & 'BX Language acquisition'!C4554 & \"\"\",\"\"\" & 'BX Language acquisition'!B4554 & \"\"\",\"\"\" & 'BX Language acquisition'!D4554 & \"\"\"\"","v":"\" \",\"\",\"\",\"\""}]
[{"$f":"\"\"\" \"& 'BX Language acquisition'!A4555 & \"\"\",\"\"\" & 'BX Language acquisition'!C4555 & \"\"\",\"\"\" & 'BX Language acquisition'!B4555 & \"\"\",\"\"\" & 'BX Language acquisition'!D4555 & \"\"\"\"","v":"\" \",\"\",\"\",\"\""}]
[{"$f":"\"\"\" \"& 'BX Language acquisition'!A4556 & \"\"\",\"\"\" & 'BX Language acquisition'!C4556 & \"\"\",\"\"\" & 'BX Language acquisition'!B4556 & \"\"\",\"\"\" & 'BX Language acquisition'!D4556 & \"\"\"\"","v":"\" \",\"\",\"\",\"\""}]
[{"$f":"\"\"\" \"& 'BX Language acquisition'!A4557 & \"\"\",\"\"\" & 'BX Language acquisition'!C4557 & \"\"\",\"\"\" & 'BX Language acquisition'!B4557 & \"\"\",\"\"\" & 'BX Language acquisition'!D4557 & \"\"\"\"","v":"\" \",\"\",\"\",\"\""}]
[{"$f":"\"\"\" \"& 'BX Language acquisition'!A4558 & \"\"\",\"\"\" & 'BX Language acquisition'!C4558 & \"\"\",\"\"\" & 'BX Language acquisition'!B4558 & \"\"\",\"\"\" & 'BX Language acquisition'!D4558 & \"\"\"\"","v":"\" \",\"\",\"\",\"\""}]
[{"$f":"\"\"\" \"& 'BX Language acquisition'!A4559 & \"\"\",\"\"\" & 'BX Language acquisition'!C4559 & \"\"\",\"\"\" & 'BX Language acquisition'!B4559 & \"\"\",\"\"\" & 'BX Language acquisition'!D4559 & \"\"\"\"","v":"\" \",\"\",\"\",\"\""}]
[{"$f":"\"\"\" \"& 'BX Language acquisition'!A4560 & \"\"\",\"\"\" & 'BX Language acquisition'!C4560 & \"\"\",\"\"\" & 'BX Language acquisition'!B4560 & \"\"\",\"\"\" & 'BX Language acquisition'!D4560 & \"\"\"\"","v":"\" \",\"\",\"\",\"\""}]
[{"$f":"\"\"\" \"& 'BX Language acquisition'!A4561 & \"\"\",\"\"\" & 'BX Language acquisition'!C4561 & \"\"\",\"\"\" & 'BX Language acquisition'!B4561 & \"\"\",\"\"\" & 'BX Language acquisition'!D4561 & \"\"\"\"","v":"\" \",\"\",\"\",\"\""}]
[{"$f":"\"\"\" \"& 'BX Language acquisition'!A4562 & \"\"\",\"\"\" & 'BX Language acquisition'!C4562 & \"\"\",\"\"\" & 'BX Language acquisition'!B4562 & \"\"\",\"\"\" & 'BX Language acquisition'!D4562 & \"\"\"\"","v":"\" \",\"\",\"\",\"\""}]
[{"$f":"\"\"\" \"& 'BX Language acquisition'!A4563 & \"\"\",\"\"\" & 'BX Language acquisition'!C4563 & \"\"\",\"\"\" & 'BX Language acquisition'!B4563 & \"\"\",\"\"\" & 'BX Language acquisition'!D4563 & \"\"\"\"","v":"\" \",\"\",\"\",\"\""}]
[{"$f":"\"\"\" \"& 'BX Language acquisition'!A4564 & \"\"\",\"\"\" & 'BX Language acquisition'!C4564 & \"\"\",\"\"\" & 'BX Language acquisition'!B4564 & \"\"\",\"\"\" & 'BX Language acquisition'!D4564 & \"\"\"\"","v":"\" \",\"\",\"\",\"\""}]
[{"$f":"\"\"\" \"& 'BX Language acquisition'!A4565 & \"\"\",\"\"\" & 'BX Language acquisition'!C4565 & \"\"\",\"\"\" & 'BX Language acquisition'!B4565 & \"\"\",\"\"\" & 'BX Language acquisition'!D4565 & \"\"\"\"","v":"\" \",\"\",\"\",\"\""}]
[{"$f":"\"\"\" \"& 'BX Language acquisition'!A4566 & \"\"\",\"\"\" & 'BX Language acquisition'!C4566 & \"\"\",\"\"\" & 'BX Language acquisition'!B4566 & \"\"\",\"\"\" & 'BX Language acquisition'!D4566 & \"\"\"\"","v":"\" \",\"\",\"\",\"\""}]
[{"$f":"\"\"\" \"& 'BX Language acquisition'!A4567 & \"\"\",\"\"\" & 'BX Language acquisition'!C4567 & \"\"\",\"\"\" & 'BX Language acquisition'!B4567 & \"\"\",\"\"\" & 'BX Language acquisition'!D4567 & \"\"\"\"","v":"\" \",\"\",\"\",\"\""}]
[{"$f":"\"\"\" \"& 'BX Language acquisition'!A4568 & \"\"\",\"\"\" & 'BX Language acquisition'!C4568 & \"\"\",\"\"\" & 'BX Language acquisition'!B4568 & \"\"\",\"\"\" & 'BX Language acquisition'!D4568 & \"\"\"\"","v":"\" \",\"\",\"\",\"\""}]
[{"$f":"\"\"\" \"& 'BX Language acquisition'!A4569 & \"\"\",\"\"\" & 'BX Language acquisition'!C4569 & \"\"\",\"\"\" & 'BX Language acquisition'!B4569 & \"\"\",\"\"\" & 'BX Language acquisition'!D4569 & \"\"\"\"","v":"\" \",\"\",\"\",\"\""}]
[{"$f":"\"\"\" \"& 'BX Language acquisition'!A4570 & \"\"\",\"\"\" & 'BX Language acquisition'!C4570 & \"\"\",\"\"\" & 'BX Language acquisition'!B4570 & \"\"\",\"\"\" & 'BX Language acquisition'!D4570 & \"\"\"\"","v":"\" \",\"\",\"\",\"\""}]
[{"$f":"\"\"\" \"& 'BX Language acquisition'!A4571 & \"\"\",\"\"\" & 'BX Language acquisition'!C4571 & \"\"\",\"\"\" & 'BX Language acquisition'!B4571 & \"\"\",\"\"\" & 'BX Language acquisition'!D4571 & \"\"\"\"","v":"\" \",\"\",\"\",\"\""}]
[{"$f":"\"\"\" \"& 'BX Language acquisition'!A4572 & \"\"\",\"\"\" & 'BX Language acquisition'!C4572 & \"\"\",\"\"\" & 'BX Language acquisition'!B4572 & \"\"\",\"\"\" & 'BX Language acquisition'!D4572 & \"\"\"\"","v":"\" \",\"\",\"\",\"\""}]
[{"$f":"\"\"\" \"& 'BX Language acquisition'!A4573 & \"\"\",\"\"\" & 'BX Language acquisition'!C4573 & \"\"\",\"\"\" & 'BX Language acquisition'!B4573 & \"\"\",\"\"\" & 'BX Language acquisition'!D4573 & \"\"\"\"","v":"\" \",\"\",\"\",\"\""}]
[{"$f":"\"\"\" \"& 'BX Language acquisition'!A4574 & \"\"\",\"\"\" & 'BX Language acquisition'!C4574 & \"\"\",\"\"\" & 'BX Language acquisition'!B4574 & \"\"\",\"\"\" & 'BX Language acquisition'!D4574 & \"\"\"\"","v":"\" \",\"\",\"\",\"\""}]
[{"$f":"\"\"\" \"& 'BX Language acquisition'!A4575 & \"\"\",\"\"\" & 'BX Language acquisition'!C4575 & \"\"\",\"\"\" & 'BX Language acquisition'!B4575 & \"\"\",\"\"\" & 'BX Language acquisition'!D4575 & \"\"\"\"","v":"\" \",\"\",\"\",\"\""}]
[{"$f":"\"\"\" \"& 'BX Language acquisition'!A4576 & \"\"\",\"\"\" & 'BX Language acquisition'!C4576 & \"\"\",\"\"\" & 'BX Language acquisition'!B4576 & \"\"\",\"\"\" & 'BX Language acquisition'!D4576 & \"\"\"\"","v":"\" \",\"\",\"\",\"\""}]
[{"$f":"\"\"\" \"& 'BX Language acquisition'!A4577 & \"\"\",\"\"\" & 'BX Language acquisition'!C4577 & \"\"\",\"\"\" & 'BX Language acquisition'!B4577 & \"\"\",\"\"\" & 'BX Language acquisition'!D4577 & \"\"\"\"","v":"\" \",\"\",\"\",\"\""}]
[{"$f":"\"\"\" \"& 'BX Language acquisition'!A4578 & \"\"\",\"\"\" & 'BX Language acquisition'!C4578 & \"\"\",\"\"\" & 'BX Language acquisition'!B4578 & \"\"\",\"\"\" & 'BX Language acquisition'!D4578 & \"\"\"\"","v":"\" \",\"\",\"\",\"\""}]
[{"$f":"\"\"\" \"& 'BX Language acquisition'!A4579 & \"\"\",\"\"\" & 'BX Language acquisition'!C4579 & \"\"\",\"\"\" & 'BX Language acquisition'!B4579 & \"\"\",\"\"\" & 'BX Language acquisition'!D4579 & \"\"\"\"","v":"\" \",\"\",\"\",\"\""}]
[{"$f":"\"\"\" \"& 'BX Language acquisition'!A4580 & \"\"\",\"\"\" & 'BX Language acquisition'!C4580 & \"\"\",\"\"\" & 'BX Language acquisition'!B4580 & \"\"\",\"\"\" & 'BX Language acquisition'!D4580 & \"\"\"\"","v":"\" \",\"\",\"\",\"\""}]
[{"$f":"\"\"\" \"& 'BX Language acquisition'!A4581 & \"\"\",\"\"\" & 'BX Language acquisition'!C4581 & \"\"\",\"\"\" & 'BX Language acquisition'!B4581 & \"\"\",\"\"\" & 'BX Language acquisition'!D4581 & \"\"\"\"","v":"\" \",\"\",\"\",\"\""}]
[{"$f":"\"\"\" \"& 'BX Language acquisition'!A4582 & \"\"\",\"\"\" & 'BX Language acquisition'!C4582 & \"\"\",\"\"\" & 'BX Language acquisition'!B4582 & \"\"\",\"\"\" & 'BX Language acquisition'!D4582 & \"\"\"\"","v":"\" \",\"\",\"\",\"\""}]
[{"$f":"\"\"\" \"& 'BX Language acquisition'!A4583 & \"\"\",\"\"\" & 'BX Language acquisition'!C4583 & \"\"\",\"\"\" & 'BX Language acquisition'!B4583 & \"\"\",\"\"\" & 'BX Language acquisition'!D4583 & \"\"\"\"","v":"\" \",\"\",\"\",\"\""}]
[{"$f":"\"\"\" \"& 'BX Language acquisition'!A4584 & \"\"\",\"\"\" & 'BX Language acquisition'!C4584 & \"\"\",\"\"\" & 'BX Language acquisition'!B4584 & \"\"\",\"\"\" & 'BX Language acquisition'!D4584 & \"\"\"\"","v":"\" \",\"\",\"\",\"\""}]
[{"$f":"\"\"\" \"& 'BX Language acquisition'!A4585 & \"\"\",\"\"\" & 'BX Language acquisition'!C4585 & \"\"\",\"\"\" & 'BX Language acquisition'!B4585 & \"\"\",\"\"\" & 'BX Language acquisition'!D4585 & \"\"\"\"","v":"\" \",\"\",\"\",\"\""}]
[{"$f":"\"\"\" \"& 'BX Language acquisition'!A4586 & \"\"\",\"\"\" & 'BX Language acquisition'!C4586 & \"\"\",\"\"\" & 'BX Language acquisition'!B4586 & \"\"\",\"\"\" & 'BX Language acquisition'!D4586 & \"\"\"\"","v":"\" \",\"\",\"\",\"\""}]
[{"$f":"\"\"\" \"& 'BX Language acquisition'!A4587 & \"\"\",\"\"\" & 'BX Language acquisition'!C4587 & \"\"\",\"\"\" & 'BX Language acquisition'!B4587 & \"\"\",\"\"\" & 'BX Language acquisition'!D4587 & \"\"\"\"","v":"\" \",\"\",\"\",\"\""}]
[{"$f":"\"\"\" \"& 'BX Language acquisition'!A4588 & \"\"\",\"\"\" & 'BX Language acquisition'!C4588 & \"\"\",\"\"\" & 'BX Language acquisition'!B4588 & \"\"\",\"\"\" & 'BX Language acquisition'!D4588 & \"\"\"\"","v":"\" \",\"\",\"\",\"\""}]
[{"$f":"\"\"\" \"& 'BX Language acquisition'!A4589 & \"\"\",\"\"\" & 'BX Language acquisition'!C4589 & \"\"\",\"\"\" & 'BX Language acquisition'!B4589 & \"\"\",\"\"\" & 'BX Language acquisition'!D4589 & \"\"\"\"","v":"\" \",\"\",\"\",\"\""}]
[{"$f":"\"\"\" \"& 'BX Language acquisition'!A4590 & \"\"\",\"\"\" & 'BX Language acquisition'!C4590 & \"\"\",\"\"\" & 'BX Language acquisition'!B4590 & \"\"\",\"\"\" & 'BX Language acquisition'!D4590 & \"\"\"\"","v":"\" \",\"\",\"\",\"\""}]
[{"$f":"\"\"\" \"& 'BX Language acquisition'!A4591 & \"\"\",\"\"\" & 'BX Language acquisition'!C4591 & \"\"\",\"\"\" & 'BX Language acquisition'!B4591 & \"\"\",\"\"\" & 'BX Language acquisition'!D4591 & \"\"\"\"","v":"\" \",\"\",\"\",\"\""}]
[{"$f":"\"\"\" \"& 'BX Language acquisition'!A4592 & \"\"\",\"\"\" & 'BX Language acquisition'!C4592 & \"\"\",\"\"\" & 'BX Language acquisition'!B4592 & \"\"\",\"\"\" & 'BX Language acquisition'!D4592 & \"\"\"\"","v":"\" \",\"\",\"\",\"\""}]
[{"$f":"\"\"\" \"& 'BX Language acquisition'!A4593 & \"\"\",\"\"\" & 'BX Language acquisition'!C4593 & \"\"\",\"\"\" & 'BX Language acquisition'!B4593 & \"\"\",\"\"\" & 'BX Language acquisition'!D4593 & \"\"\"\"","v":"\" \",\"\",\"\",\"\""}]
[{"$f":"\"\"\" \"& 'BX Language acquisition'!A4594 & \"\"\",\"\"\" & 'BX Language acquisition'!C4594 & \"\"\",\"\"\" & 'BX Language acquisition'!B4594 & \"\"\",\"\"\" & 'BX Language acquisition'!D4594 & \"\"\"\"","v":"\" \",\"\",\"\",\"\""}]
[{"$f":"\"\"\" \"& 'BX Language acquisition'!A4595 & \"\"\",\"\"\" & 'BX Language acquisition'!C4595 & \"\"\",\"\"\" & 'BX Language acquisition'!B4595 & \"\"\",\"\"\" & 'BX Language acquisition'!D4595 & \"\"\"\"","v":"\" \",\"\",\"\",\"\""}]
[{"$f":"\"\"\" \"& 'BX Language acquisition'!A4596 & \"\"\",\"\"\" & 'BX Language acquisition'!C4596 & \"\"\",\"\"\" & 'BX Language acquisition'!B4596 & \"\"\",\"\"\" & 'BX Language acquisition'!D4596 & \"\"\"\"","v":"\" \",\"\",\"\",\"\""}]
[{"$f":"\"\"\" \"& 'BX Language acquisition'!A4597 & \"\"\",\"\"\" & 'BX Language acquisition'!C4597 & \"\"\",\"\"\" & 'BX Language acquisition'!B4597 & \"\"\",\"\"\" & 'BX Language acquisition'!D4597 & \"\"\"\"","v":"\" \",\"\",\"\",\"\""}]
[{"$f":"\"\"\" \"& 'BX Language acquisition'!A4598 & \"\"\",\"\"\" & 'BX Language acquisition'!C4598 & \"\"\",\"\"\" & 'BX Language acquisition'!B4598 & \"\"\",\"\"\" & 'BX Language acquisition'!D4598 & \"\"\"\"","v":"\" \",\"\",\"\",\"\""}]
[{"$f":"\"\"\" \"& 'BX Language acquisition'!A4599 & \"\"\",\"\"\" & 'BX Language acquisition'!C4599 & \"\"\",\"\"\" & 'BX Language acquisition'!B4599 & \"\"\",\"\"\" & 'BX Language acquisition'!D4599 & \"\"\"\"","v":"\" \",\"\",\"\",\"\""}]
[{"$f":"\"\"\" \"& 'BX Language acquisition'!A4600 & \"\"\",\"\"\" & 'BX Language acquisition'!C4600 & \"\"\",\"\"\" & 'BX Language acquisition'!B4600 & \"\"\",\"\"\" & 'BX Language acquisition'!D4600 & \"\"\"\"","v":"\" \",\"\",\"\",\"\""}]
[{"$f":"\"\"\" \"& 'BX Language acquisition'!A4601 & \"\"\",\"\"\" & 'BX Language acquisition'!C4601 & \"\"\",\"\"\" & 'BX Language acquisition'!B4601 & \"\"\",\"\"\" & 'BX Language acquisition'!D4601 & \"\"\"\"","v":"\" \",\"\",\"\",\"\""}]
[{"$f":"\"\"\" \"& 'BX Language acquisition'!A4602 & \"\"\",\"\"\" & 'BX Language acquisition'!C4602 & \"\"\",\"\"\" & 'BX Language acquisition'!B4602 & \"\"\",\"\"\" & 'BX Language acquisition'!D4602 & \"\"\"\"","v":"\" \",\"\",\"\",\"\""}]
[{"$f":"\"\"\" \"& 'BX Language acquisition'!A4603 & \"\"\",\"\"\" & 'BX Language acquisition'!C4603 & \"\"\",\"\"\" & 'BX Language acquisition'!B4603 & \"\"\",\"\"\" & 'BX Language acquisition'!D4603 & \"\"\"\"","v":"\" \",\"\",\"\",\"\""}]
[{"$f":"\"\"\" \"& 'BX Language acquisition'!A4604 & \"\"\",\"\"\" & 'BX Language acquisition'!C4604 & \"\"\",\"\"\" & 'BX Language acquisition'!B4604 & \"\"\",\"\"\" & 'BX Language acquisition'!D4604 & \"\"\"\"","v":"\" \",\"\",\"\",\"\""}]
[{"$f":"\"\"\" \"& 'BX Language acquisition'!A4605 & \"\"\",\"\"\" & 'BX Language acquisition'!C4605 & \"\"\",\"\"\" & 'BX Language acquisition'!B4605 & \"\"\",\"\"\" & 'BX Language acquisition'!D4605 & \"\"\"\"","v":"\" \",\"\",\"\",\"\""}]
[{"$f":"\"\"\" \"& 'BX Language acquisition'!A4606 & \"\"\",\"\"\" & 'BX Language acquisition'!C4606 & \"\"\",\"\"\" & 'BX Language acquisition'!B4606 & \"\"\",\"\"\" & 'BX Language acquisition'!D4606 & \"\"\"\"","v":"\" \",\"\",\"\",\"\""}]
[{"$f":"\"\"\" \"& 'BX Language acquisition'!A4607 & \"\"\",\"\"\" & 'BX Language acquisition'!C4607 & \"\"\",\"\"\" & 'BX Language acquisition'!B4607 & \"\"\",\"\"\" & 'BX Language acquisition'!D4607 & \"\"\"\"","v":"\" \",\"\",\"\",\"\""}]
[{"$f":"\"\"\" \"& 'BX Language acquisition'!A4608 & \"\"\",\"\"\" & 'BX Language acquisition'!C4608 & \"\"\",\"\"\" & 'BX Language acquisition'!B4608 & \"\"\",\"\"\" & 'BX Language acquisition'!D4608 & \"\"\"\"","v":"\" \",\"\",\"\",\"\""}]
[{"$f":"\"\"\" \"& 'BX Language acquisition'!A4609 & \"\"\",\"\"\" & 'BX Language acquisition'!C4609 & \"\"\",\"\"\" & 'BX Language acquisition'!B4609 & \"\"\",\"\"\" & 'BX Language acquisition'!D4609 & \"\"\"\"","v":"\" \",\"\",\"\",\"\""}]
[{"$f":"\"\"\" \"& 'BX Language acquisition'!A4610 & \"\"\",\"\"\" & 'BX Language acquisition'!C4610 & \"\"\",\"\"\" & 'BX Language acquisition'!B4610 & \"\"\",\"\"\" & 'BX Language acquisition'!D4610 & \"\"\"\"","v":"\" \",\"\",\"\",\"\""}]
[{"$f":"\"\"\" \"& 'BX Language acquisition'!A4611 & \"\"\",\"\"\" & 'BX Language acquisition'!C4611 & \"\"\",\"\"\" & 'BX Language acquisition'!B4611 & \"\"\",\"\"\" & 'BX Language acquisition'!D4611 & \"\"\"\"","v":"\" \",\"\",\"\",\"\""}]
[{"$f":"\"\"\" \"& 'BX Language acquisition'!A4612 & \"\"\",\"\"\" & 'BX Language acquisition'!C4612 & \"\"\",\"\"\" & 'BX Language acquisition'!B4612 & \"\"\",\"\"\" & 'BX Language acquisition'!D4612 & \"\"\"\"","v":"\" \",\"\",\"\",\"\""}]
[{"$f":"\"\"\" \"& 'BX Language acquisition'!A4613 & \"\"\",\"\"\" & 'BX Language acquisition'!C4613 & \"\"\",\"\"\" & 'BX Language acquisition'!B4613 & \"\"\",\"\"\" & 'BX Language acquisition'!D4613 & \"\"\"\"","v":"\" \",\"\",\"\",\"\""}]
[{"$f":"\"\"\" \"& 'BX Language acquisition'!A4614 & \"\"\",\"\"\" & 'BX Language acquisition'!C4614 & \"\"\",\"\"\" & 'BX Language acquisition'!B4614 & \"\"\",\"\"\" & 'BX Language acquisition'!D4614 & \"\"\"\"","v":"\" \",\"\",\"\",\"\""}]
[{"$f":"\"\"\" \"& 'BX Language acquisition'!A4615 & \"\"\",\"\"\" & 'BX Language acquisition'!C4615 & \"\"\",\"\"\" & 'BX Language acquisition'!B4615 & \"\"\",\"\"\" & 'BX Language acquisition'!D4615 & \"\"\"\"","v":"\" \",\"\",\"\",\"\""}]
[{"$f":"\"\"\" \"& 'BX Language acquisition'!A4616 & \"\"\",\"\"\" & 'BX Language acquisition'!C4616 & \"\"\",\"\"\" & 'BX Language acquisition'!B4616 & \"\"\",\"\"\" & 'BX Language acquisition'!D4616 & \"\"\"\"","v":"\" \",\"\",\"\",\"\""}]
[{"$f":"\"\"\" \"& 'BX Language acquisition'!A4617 & \"\"\",\"\"\" & 'BX Language acquisition'!C4617 & \"\"\",\"\"\" & 'BX Language acquisition'!B4617 & \"\"\",\"\"\" & 'BX Language acquisition'!D4617 & \"\"\"\"","v":"\" \",\"\",\"\",\"\""}]
[{"$f":"\"\"\" \"& 'BX Language acquisition'!A4618 & \"\"\",\"\"\" & 'BX Language acquisition'!C4618 & \"\"\",\"\"\" & 'BX Language acquisition'!B4618 & \"\"\",\"\"\" & 'BX Language acquisition'!D4618 & \"\"\"\"","v":"\" \",\"\",\"\",\"\""}]
[{"$f":"\"\"\" \"& 'BX Language acquisition'!A4619 & \"\"\",\"\"\" & 'BX Language acquisition'!C4619 & \"\"\",\"\"\" & 'BX Language acquisition'!B4619 & \"\"\",\"\"\" & 'BX Language acquisition'!D4619 & \"\"\"\"","v":"\" \",\"\",\"\",\"\""}]
[{"$f":"\"\"\" \"& 'BX Language acquisition'!A4620 & \"\"\",\"\"\" & 'BX Language acquisition'!C4620 & \"\"\",\"\"\" & 'BX Language acquisition'!B4620 & \"\"\",\"\"\" & 'BX Language acquisition'!D4620 & \"\"\"\"","v":"\" \",\"\",\"\",\"\""}]
[{"$f":"\"\"\" \"& 'BX Language acquisition'!A4621 & \"\"\",\"\"\" & 'BX Language acquisition'!C4621 & \"\"\",\"\"\" & 'BX Language acquisition'!B4621 & \"\"\",\"\"\" & 'BX Language acquisition'!D4621 & \"\"\"\"","v":"\" \",\"\",\"\",\"\""}]
[{"$f":"\"\"\" \"& 'BX Language acquisition'!A4622 & \"\"\",\"\"\" & 'BX Language acquisition'!C4622 & \"\"\",\"\"\" & 'BX Language acquisition'!B4622 & \"\"\",\"\"\" & 'BX Language acquisition'!D4622 & \"\"\"\"","v":"\" \",\"\",\"\",\"\""}]
[{"$f":"\"\"\" \"& 'BX Language acquisition'!A4623 & \"\"\",\"\"\" & 'BX Language acquisition'!C4623 & \"\"\",\"\"\" & 'BX Language acquisition'!B4623 & \"\"\",\"\"\" & 'BX Language acquisition'!D4623 & \"\"\"\"","v":"\" \",\"\",\"\",\"\""}]
[{"$f":"\"\"\" \"& 'BX Language acquisition'!A4624 & \"\"\",\"\"\" & 'BX Language acquisition'!C4624 & \"\"\",\"\"\" & 'BX Language acquisition'!B4624 & \"\"\",\"\"\" & 'BX Language acquisition'!D4624 & \"\"\"\"","v":"\" \",\"\",\"\",\"\""}]
[{"$f":"\"\"\" \"& 'BX Language acquisition'!A4625 & \"\"\",\"\"\" & 'BX Language acquisition'!C4625 & \"\"\",\"\"\" & 'BX Language acquisition'!B4625 & \"\"\",\"\"\" & 'BX Language acquisition'!D4625 & \"\"\"\"","v":"\" \",\"\",\"\",\"\""}]
[{"$f":"\"\"\" \"& 'BX Language acquisition'!A4626 & \"\"\",\"\"\" & 'BX Language acquisition'!C4626 & \"\"\",\"\"\" & 'BX Language acquisition'!B4626 & \"\"\",\"\"\" & 'BX Language acquisition'!D4626 & \"\"\"\"","v":"\" \",\"\",\"\",\"\""}]
[{"$f":"\"\"\" \"& 'BX Language acquisition'!A4627 & \"\"\",\"\"\" & 'BX Language acquisition'!C4627 & \"\"\",\"\"\" & 'BX Language acquisition'!B4627 & \"\"\",\"\"\" & 'BX Language acquisition'!D4627 & \"\"\"\"","v":"\" \",\"\",\"\",\"\""}]
[{"$f":"\"\"\" \"& 'BX Language acquisition'!A4628 & \"\"\",\"\"\" & 'BX Language acquisition'!C4628 & \"\"\",\"\"\" & 'BX Language acquisition'!B4628 & \"\"\",\"\"\" & 'BX Language acquisition'!D4628 & \"\"\"\"","v":"\" \",\"\",\"\",\"\""}]
[{"$f":"\"\"\" \"& 'BX Language acquisition'!A4629 & \"\"\",\"\"\" & 'BX Language acquisition'!C4629 & \"\"\",\"\"\" & 'BX Language acquisition'!B4629 & \"\"\",\"\"\" & 'BX Language acquisition'!D4629 & \"\"\"\"","v":"\" \",\"\",\"\",\"\""}]
[{"$f":"\"\"\" \"& 'BX Language acquisition'!A4630 & \"\"\",\"\"\" & 'BX Language acquisition'!C4630 & \"\"\",\"\"\" & 'BX Language acquisition'!B4630 & \"\"\",\"\"\" & 'BX Language acquisition'!D4630 & \"\"\"\"","v":"\" \",\"\",\"\",\"\""}]
[{"$f":"\"\"\" \"& 'BX Language acquisition'!A4631 & \"\"\",\"\"\" & 'BX Language acquisition'!C4631 & \"\"\",\"\"\" & 'BX Language acquisition'!B4631 & \"\"\",\"\"\" & 'BX Language acquisition'!D4631 & \"\"\"\"","v":"\" \",\"\",\"\",\"\""}]
[{"$f":"\"\"\" \"& 'BX Language acquisition'!A4632 & \"\"\",\"\"\" & 'BX Language acquisition'!C4632 & \"\"\",\"\"\" & 'BX Language acquisition'!B4632 & \"\"\",\"\"\" & 'BX Language acquisition'!D4632 & \"\"\"\"","v":"\" \",\"\",\"\",\"\""}]
[{"$f":"\"\"\" \"& 'BX Language acquisition'!A4633 & \"\"\",\"\"\" & 'BX Language acquisition'!C4633 & \"\"\",\"\"\" & 'BX Language acquisition'!B4633 & \"\"\",\"\"\" & 'BX Language acquisition'!D4633 & \"\"\"\"","v":"\" \",\"\",\"\",\"\""}]
[{"$f":"\"\"\" \"& 'BX Language acquisition'!A4634 & \"\"\",\"\"\" & 'BX Language acquisition'!C4634 & \"\"\",\"\"\" & 'BX Language acquisition'!B4634 & \"\"\",\"\"\" & 'BX Language acquisition'!D4634 & \"\"\"\"","v":"\" \",\"\",\"\",\"\""}]
[{"$f":"\"\"\" \"& 'BX Language acquisition'!A4635 & \"\"\",\"\"\" & 'BX Language acquisition'!C4635 & \"\"\",\"\"\" & 'BX Language acquisition'!B4635 & \"\"\",\"\"\" & 'BX Language acquisition'!D4635 & \"\"\"\"","v":"\" \",\"\",\"\",\"\""}]
[{"$f":"\"\"\" \"& 'BX Language acquisition'!A4636 & \"\"\",\"\"\" & 'BX Language acquisition'!C4636 & \"\"\",\"\"\" & 'BX Language acquisition'!B4636 & \"\"\",\"\"\" & 'BX Language acquisition'!D4636 & \"\"\"\"","v":"\" \",\"\",\"\",\"\""}]
[{"$f":"\"\"\" \"& 'BX Language acquisition'!A4637 & \"\"\",\"\"\" & 'BX Language acquisition'!C4637 & \"\"\",\"\"\" & 'BX Language acquisition'!B4637 & \"\"\",\"\"\" & 'BX Language acquisition'!D4637 & \"\"\"\"","v":"\" \",\"\",\"\",\"\""}]
[{"$f":"\"\"\" \"& 'BX Language acquisition'!A4638 & \"\"\",\"\"\" & 'BX Language acquisition'!C4638 & \"\"\",\"\"\" & 'BX Language acquisition'!B4638 & \"\"\",\"\"\" & 'BX Language acquisition'!D4638 & \"\"\"\"","v":"\" \",\"\",\"\",\"\""}]
[{"$f":"\"\"\" \"& 'BX Language acquisition'!A4639 & \"\"\",\"\"\" & 'BX Language acquisition'!C4639 & \"\"\",\"\"\" & 'BX Language acquisition'!B4639 & \"\"\",\"\"\" & 'BX Language acquisition'!D4639 & \"\"\"\"","v":"\" \",\"\",\"\",\"\""}]
[{"$f":"\"\"\" \"& 'BX Language acquisition'!A4640 & \"\"\",\"\"\" & 'BX Language acquisition'!C4640 & \"\"\",\"\"\" & 'BX Language acquisition'!B4640 & \"\"\",\"\"\" & 'BX Language acquisition'!D4640 & \"\"\"\"","v":"\" \",\"\",\"\",\"\""}]
[{"$f":"\"\"\" \"& 'BX Language acquisition'!A4641 & \"\"\",\"\"\" & 'BX Language acquisition'!C4641 & \"\"\",\"\"\" & 'BX Language acquisition'!B4641 & \"\"\",\"\"\" & 'BX Language acquisition'!D4641 & \"\"\"\"","v":"\" \",\"\",\"\",\"\""}]
[{"$f":"\"\"\" \"& 'BX Language acquisition'!A4642 & \"\"\",\"\"\" & 'BX Language acquisition'!C4642 & \"\"\",\"\"\" & 'BX Language acquisition'!B4642 & \"\"\",\"\"\" & 'BX Language acquisition'!D4642 & \"\"\"\"","v":"\" \",\"\",\"\",\"\""}]
[{"$f":"\"\"\" \"& 'BX Language acquisition'!A4643 & \"\"\",\"\"\" & 'BX Language acquisition'!C4643 & \"\"\",\"\"\" & 'BX Language acquisition'!B4643 & \"\"\",\"\"\" & 'BX Language acquisition'!D4643 & \"\"\"\"","v":"\" \",\"\",\"\",\"\""}]
[{"$f":"\"\"\" \"& 'BX Language acquisition'!A4644 & \"\"\",\"\"\" & 'BX Language acquisition'!C4644 & \"\"\",\"\"\" & 'BX Language acquisition'!B4644 & \"\"\",\"\"\" & 'BX Language acquisition'!D4644 & \"\"\"\"","v":"\" \",\"\",\"\",\"\""}]
[{"$f":"\"\"\" \"& 'BX Language acquisition'!A4645 & \"\"\",\"\"\" & 'BX Language acquisition'!C4645 & \"\"\",\"\"\" & 'BX Language acquisition'!B4645 & \"\"\",\"\"\" & 'BX Language acquisition'!D4645 & \"\"\"\"","v":"\" \",\"\",\"\",\"\""}]
[{"$f":"\"\"\" \"& 'BX Language acquisition'!A4646 & \"\"\",\"\"\" & 'BX Language acquisition'!C4646 & \"\"\",\"\"\" & 'BX Language acquisition'!B4646 & \"\"\",\"\"\" & 'BX Language acquisition'!D4646 & \"\"\"\"","v":"\" \",\"\",\"\",\"\""}]
[{"$f":"\"\"\" \"& 'BX Language acquisition'!A4647 & \"\"\",\"\"\" & 'BX Language acquisition'!C4647 & \"\"\",\"\"\" & 'BX Language acquisition'!B4647 & \"\"\",\"\"\" & 'BX Language acquisition'!D4647 & \"\"\"\"","v":"\" \",\"\",\"\",\"\""}]
[{"$f":"\"\"\" \"& 'BX Language acquisition'!A4648 & \"\"\",\"\"\" & 'BX Language acquisition'!C4648 & \"\"\",\"\"\" & 'BX Language acquisition'!B4648 & \"\"\",\"\"\" & 'BX Language acquisition'!D4648 & \"\"\"\"","v":"\" \",\"\",\"\",\"\""}]
[{"$f":"\"\"\" \"& 'BX Language acquisition'!A4649 & \"\"\",\"\"\" & 'BX Language acquisition'!C4649 & \"\"\",\"\"\" & 'BX Language acquisition'!B4649 & \"\"\",\"\"\" & 'BX Language acquisition'!D4649 & \"\"\"\"","v":"\" \",\"\",\"\",\"\""}]
[{"$f":"\"\"\" \"& 'BX Language acquisition'!A4650 & \"\"\",\"\"\" & 'BX Language acquisition'!C4650 & \"\"\",\"\"\" & 'BX Language acquisition'!B4650 & \"\"\",\"\"\" & 'BX Language acquisition'!D4650 & \"\"\"\"","v":"\" \",\"\",\"\",\"\""}]
[{"$f":"\"\"\" \"& 'BX Language acquisition'!A4651 & \"\"\",\"\"\" & 'BX Language acquisition'!C4651 & \"\"\",\"\"\" & 'BX Language acquisition'!B4651 & \"\"\",\"\"\" & 'BX Language acquisition'!D4651 & \"\"\"\"","v":"\" \",\"\",\"\",\"\""}]
[{"$f":"\"\"\" \"& 'BX Language acquisition'!A4652 & \"\"\",\"\"\" & 'BX Language acquisition'!C4652 & \"\"\",\"\"\" & 'BX Language acquisition'!B4652 & \"\"\",\"\"\" & 'BX Language acquisition'!D4652 & \"\"\"\"","v":"\" \",\"\",\"\",\"\""}]
[{"$f":"\"\"\" \"& 'BX Language acquisition'!A4653 & \"\"\",\"\"\" & 'BX Language acquisition'!C4653 & \"\"\",\"\"\" & 'BX Language acquisition'!B4653 & \"\"\",\"\"\" & 'BX Language acquisition'!D4653 & \"\"\"\"","v":"\" \",\"\",\"\",\"\""}]
[{"$f":"\"\"\" \"& 'BX Language acquisition'!A4654 & \"\"\",\"\"\" & 'BX Language acquisition'!C4654 & \"\"\",\"\"\" & 'BX Language acquisition'!B4654 & \"\"\",\"\"\" & 'BX Language acquisition'!D4654 & \"\"\"\"","v":"\" \",\"\",\"\",\"\""}]
[{"$f":"\"\"\" \"& 'BX Language acquisition'!A4655 & \"\"\",\"\"\" & 'BX Language acquisition'!C4655 & \"\"\",\"\"\" & 'BX Language acquisition'!B4655 & \"\"\",\"\"\" & 'BX Language acquisition'!D4655 & \"\"\"\"","v":"\" \",\"\",\"\",\"\""}]
[{"$f":"\"\"\" \"& 'BX Language acquisition'!A4656 & \"\"\",\"\"\" & 'BX Language acquisition'!C4656 & \"\"\",\"\"\" & 'BX Language acquisition'!B4656 & \"\"\",\"\"\" & 'BX Language acquisition'!D4656 & \"\"\"\"","v":"\" \",\"\",\"\",\"\""}]
[{"$f":"\"\"\" \"& 'BX Language acquisition'!A4657 & \"\"\",\"\"\" & 'BX Language acquisition'!C4657 & \"\"\",\"\"\" & 'BX Language acquisition'!B4657 & \"\"\",\"\"\" & 'BX Language acquisition'!D4657 & \"\"\"\"","v":"\" \",\"\",\"\",\"\""}]
[{"$f":"\"\"\" \"& 'BX Language acquisition'!A4658 & \"\"\",\"\"\" & 'BX Language acquisition'!C4658 & \"\"\",\"\"\" & 'BX Language acquisition'!B4658 & \"\"\",\"\"\" & 'BX Language acquisition'!D4658 & \"\"\"\"","v":"\" \",\"\",\"\",\"\""}]
[{"$f":"\"\"\" \"& 'BX Language acquisition'!A4659 & \"\"\",\"\"\" & 'BX Language acquisition'!C4659 & \"\"\",\"\"\" & 'BX Language acquisition'!B4659 & \"\"\",\"\"\" & 'BX Language acquisition'!D4659 & \"\"\"\"","v":"\" \",\"\",\"\",\"\""}]
[{"$f":"\"\"\" \"& 'BX Language acquisition'!A4660 & \"\"\",\"\"\" & 'BX Language acquisition'!C4660 & \"\"\",\"\"\" & 'BX Language acquisition'!B4660 & \"\"\",\"\"\" & 'BX Language acquisition'!D4660 & \"\"\"\"","v":"\" \",\"\",\"\",\"\""}]
[{"$f":"\"\"\" \"& 'BX Language acquisition'!A4661 & \"\"\",\"\"\" & 'BX Language acquisition'!C4661 & \"\"\",\"\"\" & 'BX Language acquisition'!B4661 & \"\"\",\"\"\" & 'BX Language acquisition'!D4661 & \"\"\"\"","v":"\" \",\"\",\"\",\"\""}]
[{"$f":"\"\"\" \"& 'BX Language acquisition'!A4662 & \"\"\",\"\"\" & 'BX Language acquisition'!C4662 & \"\"\",\"\"\" & 'BX Language acquisition'!B4662 & \"\"\",\"\"\" & 'BX Language acquisition'!D4662 & \"\"\"\"","v":"\" \",\"\",\"\",\"\""}]
[{"$f":"\"\"\" \"& 'BX Language acquisition'!A4663 & \"\"\",\"\"\" & 'BX Language acquisition'!C4663 & \"\"\",\"\"\" & 'BX Language acquisition'!B4663 & \"\"\",\"\"\" & 'BX Language acquisition'!D4663 & \"\"\"\"","v":"\" \",\"\",\"\",\"\""}]
[{"$f":"\"\"\" \"& 'BX Language acquisition'!A4664 & \"\"\",\"\"\" & 'BX Language acquisition'!C4664 & \"\"\",\"\"\" & 'BX Language acquisition'!B4664 & \"\"\",\"\"\" & 'BX Language acquisition'!D4664 & \"\"\"\"","v":"\" \",\"\",\"\",\"\""}]
[{"$f":"\"\"\" \"& 'BX Language acquisition'!A4665 & \"\"\",\"\"\" & 'BX Language acquisition'!C4665 & \"\"\",\"\"\" & 'BX Language acquisition'!B4665 & \"\"\",\"\"\" & 'BX Language acquisition'!D4665 & \"\"\"\"","v":"\" \",\"\",\"\",\"\""}]
[{"$f":"\"\"\" \"& 'BX Language acquisition'!A4666 & \"\"\",\"\"\" & 'BX Language acquisition'!C4666 & \"\"\",\"\"\" & 'BX Language acquisition'!B4666 & \"\"\",\"\"\" & 'BX Language acquisition'!D4666 & \"\"\"\"","v":"\" \",\"\",\"\",\"\""}]
[{"$f":"\"\"\" \"& 'BX Language acquisition'!A4667 & \"\"\",\"\"\" & 'BX Language acquisition'!C4667 & \"\"\",\"\"\" & 'BX Language acquisition'!B4667 & \"\"\",\"\"\" & 'BX Language acquisition'!D4667 & \"\"\"\"","v":"\" \",\"\",\"\",\"\""}]
[{"$f":"\"\"\" \"& 'BX Language acquisition'!A4668 & \"\"\",\"\"\" & 'BX Language acquisition'!C4668 & \"\"\",\"\"\" & 'BX Language acquisition'!B4668 & \"\"\",\"\"\" & 'BX Language acquisition'!D4668 & \"\"\"\"","v":"\" \",\"\",\"\",\"\""}]
[{"$f":"\"\"\" \"& 'BX Language acquisition'!A4669 & \"\"\",\"\"\" & 'BX Language acquisition'!C4669 & \"\"\",\"\"\" & 'BX Language acquisition'!B4669 & \"\"\",\"\"\" & 'BX Language acquisition'!D4669 & \"\"\"\"","v":"\" \",\"\",\"\",\"\""}]
[{"$f":"\"\"\" \"& 'BX Language acquisition'!A4670 & \"\"\",\"\"\" & 'BX Language acquisition'!C4670 & \"\"\",\"\"\" & 'BX Language acquisition'!B4670 & \"\"\",\"\"\" & 'BX Language acquisition'!D4670 & \"\"\"\"","v":"\" \",\"\",\"\",\"\""}]
[{"$f":"\"\"\" \"& 'BX Language acquisition'!A4671 & \"\"\",\"\"\" & 'BX Language acquisition'!C4671 & \"\"\",\"\"\" & 'BX Language acquisition'!B4671 & \"\"\",\"\"\" & 'BX Language acquisition'!D4671 & \"\"\"\"","v":"\" \",\"\",\"\",\"\""}]
[{"$f":"\"\"\" \"& 'BX Language acquisition'!A4672 & \"\"\",\"\"\" & 'BX Language acquisition'!C4672 & \"\"\",\"\"\" & 'BX Language acquisition'!B4672 & \"\"\",\"\"\" & 'BX Language acquisition'!D4672 & \"\"\"\"","v":"\" \",\"\",\"\",\"\""}]
[{"$f":"\"\"\" \"& 'BX Language acquisition'!A4673 & \"\"\",\"\"\" & 'BX Language acquisition'!C4673 & \"\"\",\"\"\" & 'BX Language acquisition'!B4673 & \"\"\",\"\"\" & 'BX Language acquisition'!D4673 & \"\"\"\"","v":"\" \",\"\",\"\",\"\""}]
[{"$f":"\"\"\" \"& 'BX Language acquisition'!A4674 & \"\"\",\"\"\" & 'BX Language acquisition'!C4674 & \"\"\",\"\"\" & 'BX Language acquisition'!B4674 & \"\"\",\"\"\" & 'BX Language acquisition'!D4674 & \"\"\"\"","v":"\" \",\"\",\"\",\"\""}]
[{"$f":"\"\"\" \"& 'BX Language acquisition'!A4675 & \"\"\",\"\"\" & 'BX Language acquisition'!C4675 & \"\"\",\"\"\" & 'BX Language acquisition'!B4675 & \"\"\",\"\"\" & 'BX Language acquisition'!D4675 & \"\"\"\"","v":"\" \",\"\",\"\",\"\""}]
[{"$f":"\"\"\" \"& 'BX Language acquisition'!A4676 & \"\"\",\"\"\" & 'BX Language acquisition'!C4676 & \"\"\",\"\"\" & 'BX Language acquisition'!B4676 & \"\"\",\"\"\" & 'BX Language acquisition'!D4676 & \"\"\"\"","v":"\" \",\"\",\"\",\"\""}]
[{"$f":"\"\"\" \"& 'BX Language acquisition'!A4677 & \"\"\",\"\"\" & 'BX Language acquisition'!C4677 & \"\"\",\"\"\" & 'BX Language acquisition'!B4677 & \"\"\",\"\"\" & 'BX Language acquisition'!D4677 & \"\"\"\"","v":"\" \",\"\",\"\",\"\""}]
[{"$f":"\"\"\" \"& 'BX Language acquisition'!A4678 & \"\"\",\"\"\" & 'BX Language acquisition'!C4678 & \"\"\",\"\"\" & 'BX Language acquisition'!B4678 & \"\"\",\"\"\" & 'BX Language acquisition'!D4678 & \"\"\"\"","v":"\" \",\"\",\"\",\"\""}]
[{"$f":"\"\"\" \"& 'BX Language acquisition'!A4679 & \"\"\",\"\"\" & 'BX Language acquisition'!C4679 & \"\"\",\"\"\" & 'BX Language acquisition'!B4679 & \"\"\",\"\"\" & 'BX Language acquisition'!D4679 & \"\"\"\"","v":"\" \",\"\",\"\",\"\""}]
[{"$f":"\"\"\" \"& 'BX Language acquisition'!A4680 & \"\"\",\"\"\" & 'BX Language acquisition'!C4680 & \"\"\",\"\"\" & 'BX Language acquisition'!B4680 & \"\"\",\"\"\" & 'BX Language acquisition'!D4680 & \"\"\"\"","v":"\" \",\"\",\"\",\"\""}]
[{"$f":"\"\"\" \"& 'BX Language acquisition'!A4681 & \"\"\",\"\"\" & 'BX Language acquisition'!C4681 & \"\"\",\"\"\" & 'BX Language acquisition'!B4681 & \"\"\",\"\"\" & 'BX Language acquisition'!D4681 & \"\"\"\"","v":"\" \",\"\",\"\",\"\""}]
[{"$f":"\"\"\" \"& 'BX Language acquisition'!A4682 & \"\"\",\"\"\" & 'BX Language acquisition'!C4682 & \"\"\",\"\"\" & 'BX Language acquisition'!B4682 & \"\"\",\"\"\" & 'BX Language acquisition'!D4682 & \"\"\"\"","v":"\" \",\"\",\"\",\"\""}]
[{"$f":"\"\"\" \"& 'BX Language acquisition'!A4683 & \"\"\",\"\"\" & 'BX Language acquisition'!C4683 & \"\"\",\"\"\" & 'BX Language acquisition'!B4683 & \"\"\",\"\"\" & 'BX Language acquisition'!D4683 & \"\"\"\"","v":"\" \",\"\",\"\",\"\""}]
[{"$f":"\"\"\" \"& 'BX Language acquisition'!A4684 & \"\"\",\"\"\" & 'BX Language acquisition'!C4684 & \"\"\",\"\"\" & 'BX Language acquisition'!B4684 & \"\"\",\"\"\" & 'BX Language acquisition'!D4684 & \"\"\"\"","v":"\" \",\"\",\"\",\"\""}]
[{"$f":"\"\"\" \"& 'BX Language acquisition'!A4685 & \"\"\",\"\"\" & 'BX Language acquisition'!C4685 & \"\"\",\"\"\" & 'BX Language acquisition'!B4685 & \"\"\",\"\"\" & 'BX Language acquisition'!D4685 & \"\"\"\"","v":"\" \",\"\",\"\",\"\""}]
[{"$f":"\"\"\" \"& 'BX Language acquisition'!A4686 & \"\"\",\"\"\" & 'BX Language acquisition'!C4686 & \"\"\",\"\"\" & 'BX Language acquisition'!B4686 & \"\"\",\"\"\" & 'BX Language acquisition'!D4686 & \"\"\"\"","v":"\" \",\"\",\"\",\"\""}]
[{"$f":"\"\"\" \"& 'BX Language acquisition'!A4687 & \"\"\",\"\"\" & 'BX Language acquisition'!C4687 & \"\"\",\"\"\" & 'BX Language acquisition'!B4687 & \"\"\",\"\"\" & 'BX Language acquisition'!D4687 & \"\"\"\"","v":"\" \",\"\",\"\",\"\""}]
[{"$f":"\"\"\" \"& 'BX Language acquisition'!A4688 & \"\"\",\"\"\" & 'BX Language acquisition'!C4688 & \"\"\",\"\"\" & 'BX Language acquisition'!B4688 & \"\"\",\"\"\" & 'BX Language acquisition'!D4688 & \"\"\"\"","v":"\" \",\"\",\"\",\"\""}]
[{"$f":"\"\"\" \"& 'BX Language acquisition'!A4689 & \"\"\",\"\"\" & 'BX Language acquisition'!C4689 & \"\"\",\"\"\" & 'BX Language acquisition'!B4689 & \"\"\",\"\"\" & 'BX Language acquisition'!D4689 & \"\"\"\"","v":"\" \",\"\",\"\",\"\""}]
[{"$f":"\"\"\" \"& 'BX Language acquisition'!A4690 & \"\"\",\"\"\" & 'BX Language acquisition'!C4690 & \"\"\",\"\"\" & 'BX Language acquisition'!B4690 & \"\"\",\"\"\" & 'BX Language acquisition'!D4690 & \"\"\"\"","v":"\" \",\"\",\"\",\"\""}]
[{"$f":"\"\"\" \"& 'BX Language acquisition'!A4691 & \"\"\",\"\"\" & 'BX Language acquisition'!C4691 & \"\"\",\"\"\" & 'BX Language acquisition'!B4691 & \"\"\",\"\"\" & 'BX Language acquisition'!D4691 & \"\"\"\"","v":"\" \",\"\",\"\",\"\""}]
[{"$f":"\"\"\" \"& 'BX Language acquisition'!A4692 & \"\"\",\"\"\" & 'BX Language acquisition'!C4692 & \"\"\",\"\"\" & 'BX Language acquisition'!B4692 & \"\"\",\"\"\" & 'BX Language acquisition'!D4692 & \"\"\"\"","v":"\" \",\"\",\"\",\"\""}]
[{"$f":"\"\"\" \"& 'BX Language acquisition'!A4693 & \"\"\",\"\"\" & 'BX Language acquisition'!C4693 & \"\"\",\"\"\" & 'BX Language acquisition'!B4693 & \"\"\",\"\"\" & 'BX Language acquisition'!D4693 & \"\"\"\"","v":"\" \",\"\",\"\",\"\""}]
[{"$f":"\"\"\" \"& 'BX Language acquisition'!A4694 & \"\"\",\"\"\" & 'BX Language acquisition'!C4694 & \"\"\",\"\"\" & 'BX Language acquisition'!B4694 & \"\"\",\"\"\" & 'BX Language acquisition'!D4694 & \"\"\"\"","v":"\" \",\"\",\"\",\"\""}]
[{"$f":"\"\"\" \"& 'BX Language acquisition'!A4695 & \"\"\",\"\"\" & 'BX Language acquisition'!C4695 & \"\"\",\"\"\" & 'BX Language acquisition'!B4695 & \"\"\",\"\"\" & 'BX Language acquisition'!D4695 & \"\"\"\"","v":"\" \",\"\",\"\",\"\""}]
[{"$f":"\"\"\" \"& 'BX Language acquisition'!A4696 & \"\"\",\"\"\" & 'BX Language acquisition'!C4696 & \"\"\",\"\"\" & 'BX Language acquisition'!B4696 & \"\"\",\"\"\" & 'BX Language acquisition'!D4696 & \"\"\"\"","v":"\" \",\"\",\"\",\"\""}]
[{"$f":"\"\"\" \"& 'BX Language acquisition'!A4697 & \"\"\",\"\"\" & 'BX Language acquisition'!C4697 & \"\"\",\"\"\" & 'BX Language acquisition'!B4697 & \"\"\",\"\"\" & 'BX Language acquisition'!D4697 & \"\"\"\"","v":"\" \",\"\",\"\",\"\""}]
[{"$f":"\"\"\" \"& 'BX Language acquisition'!A4698 & \"\"\",\"\"\" & 'BX Language acquisition'!C4698 & \"\"\",\"\"\" & 'BX Language acquisition'!B4698 & \"\"\",\"\"\" & 'BX Language acquisition'!D4698 & \"\"\"\"","v":"\" \",\"\",\"\",\"\""}]
[{"$f":"\"\"\" \"& 'BX Language acquisition'!A4699 & \"\"\",\"\"\" & 'BX Language acquisition'!C4699 & \"\"\",\"\"\" & 'BX Language acquisition'!B4699 & \"\"\",\"\"\" & 'BX Language acquisition'!D4699 & \"\"\"\"","v":"\" \",\"\",\"\",\"\""}]
[{"$f":"\"\"\" \"& 'BX Language acquisition'!A4700 & \"\"\",\"\"\" & 'BX Language acquisition'!C4700 & \"\"\",\"\"\" & 'BX Language acquisition'!B4700 & \"\"\",\"\"\" & 'BX Language acquisition'!D4700 & \"\"\"\"","v":"\" \",\"\",\"\",\"\""}]
[{"$f":"\"\"\" \"& 'BX Language acquisition'!A4701 & \"\"\",\"\"\" & 'BX Language acquisition'!C4701 & \"\"\",\"\"\" & 'BX Language acquisition'!B4701 & \"\"\",\"\"\" & 'BX Language acquisition'!D4701 & \"\"\"\"","v":"\" \",\"\",\"\",\"\""}]
[{"$f":"\"\"\" \"& 'BX Language acquisition'!A4702 & \"\"\",\"\"\" & 'BX Language acquisition'!C4702 & \"\"\",\"\"\" & 'BX Language acquisition'!B4702 & \"\"\",\"\"\" & 'BX Language acquisition'!D4702 & \"\"\"\"","v":"\" \",\"\",\"\",\"\""}]
[{"$f":"\"\"\" \"& 'BX Language acquisition'!A4703 & \"\"\",\"\"\" & 'BX Language acquisition'!C4703 & \"\"\",\"\"\" & 'BX Language acquisition'!B4703 & \"\"\",\"\"\" & 'BX Language acquisition'!D4703 & \"\"\"\"","v":"\" \",\"\",\"\",\"\""}]
[{"$f":"\"\"\" \"& 'BX Language acquisition'!A4704 & \"\"\",\"\"\" & 'BX Language acquisition'!C4704 & \"\"\",\"\"\" & 'BX Language acquisition'!B4704 & \"\"\",\"\"\" & 'BX Language acquisition'!D4704 & \"\"\"\"","v":"\" \",\"\",\"\",\"\""}]
[{"$f":"\"\"\" \"& 'BX Language acquisition'!A4705 & \"\"\",\"\"\" & 'BX Language acquisition'!C4705 & \"\"\",\"\"\" & 'BX Language acquisition'!B4705 & \"\"\",\"\"\" & 'BX Language acquisition'!D4705 & \"\"\"\"","v":"\" \",\"\",\"\",\"\""}]
[{"$f":"\"\"\" \"& 'BX Language acquisition'!A4706 & \"\"\",\"\"\" & 'BX Language acquisition'!C4706 & \"\"\",\"\"\" & 'BX Language acquisition'!B4706 & \"\"\",\"\"\" & 'BX Language acquisition'!D4706 & \"\"\"\"","v":"\" \",\"\",\"\",\"\""}]
[{"$f":"\"\"\" \"& 'BX Language acquisition'!A4707 & \"\"\",\"\"\" & 'BX Language acquisition'!C4707 & \"\"\",\"\"\" & 'BX Language acquisition'!B4707 & \"\"\",\"\"\" & 'BX Language acquisition'!D4707 & \"\"\"\"","v":"\" \",\"\",\"\",\"\""}]
[{"$f":"\"\"\" \"& 'BX Language acquisition'!A4708 & \"\"\",\"\"\" & 'BX Language acquisition'!C4708 & \"\"\",\"\"\" & 'BX Language acquisition'!B4708 & \"\"\",\"\"\" & 'BX Language acquisition'!D4708 & \"\"\"\"","v":"\" \",\"\",\"\",\"\""}]
[{"$f":"\"\"\" \"& 'BX Language acquisition'!A4709 & \"\"\",\"\"\" & 'BX Language acquisition'!C4709 & \"\"\",\"\"\" & 'BX Language acquisition'!B4709 & \"\"\",\"\"\" & 'BX Language acquisition'!D4709 & \"\"\"\"","v":"\" \",\"\",\"\",\"\""}]
[{"$f":"\"\"\" \"& 'BX Language acquisition'!A4710 & \"\"\",\"\"\" & 'BX Language acquisition'!C4710 & \"\"\",\"\"\" & 'BX Language acquisition'!B4710 & \"\"\",\"\"\" & 'BX Language acquisition'!D4710 & \"\"\"\"","v":"\" \",\"\",\"\",\"\""}]
[{"$f":"\"\"\" \"& 'BX Language acquisition'!A4711 & \"\"\",\"\"\" & 'BX Language acquisition'!C4711 & \"\"\",\"\"\" & 'BX Language acquisition'!B4711 & \"\"\",\"\"\" & 'BX Language acquisition'!D4711 & \"\"\"\"","v":"\" \",\"\",\"\",\"\""}]
[{"$f":"\"\"\" \"& 'BX Language acquisition'!A4712 & \"\"\",\"\"\" & 'BX Language acquisition'!C4712 & \"\"\",\"\"\" & 'BX Language acquisition'!B4712 & \"\"\",\"\"\" & 'BX Language acquisition'!D4712 & \"\"\"\"","v":"\" \",\"\",\"\",\"\""}]
[{"$f":"\"\"\" \"& 'BX Language acquisition'!A4713 & \"\"\",\"\"\" & 'BX Language acquisition'!C4713 & \"\"\",\"\"\" & 'BX Language acquisition'!B4713 & \"\"\",\"\"\" & 'BX Language acquisition'!D4713 & \"\"\"\"","v":"\" \",\"\",\"\",\"\""}]
[{"$f":"\"\"\" \"& 'BX Language acquisition'!A4714 & \"\"\",\"\"\" & 'BX Language acquisition'!C4714 & \"\"\",\"\"\" & 'BX Language acquisition'!B4714 & \"\"\",\"\"\" & 'BX Language acquisition'!D4714 & \"\"\"\"","v":"\" \",\"\",\"\",\"\""}]
[{"$f":"\"\"\" \"& 'BX Language acquisition'!A4715 & \"\"\",\"\"\" & 'BX Language acquisition'!C4715 & \"\"\",\"\"\" & 'BX Language acquisition'!B4715 & \"\"\",\"\"\" & 'BX Language acquisition'!D4715 & \"\"\"\"","v":"\" \",\"\",\"\",\"\""}]
[{"$f":"\"\"\" \"& 'BX Language acquisition'!A4716 & \"\"\",\"\"\" & 'BX Language acquisition'!C4716 & \"\"\",\"\"\" & 'BX Language acquisition'!B4716 & \"\"\",\"\"\" & 'BX Language acquisition'!D4716 & \"\"\"\"","v":"\" \",\"\",\"\",\"\""}]
[{"$f":"\"\"\" \"& 'BX Language acquisition'!A4717 & \"\"\",\"\"\" & 'BX Language acquisition'!C4717 & \"\"\",\"\"\" & 'BX Language acquisition'!B4717 & \"\"\",\"\"\" & 'BX Language acquisition'!D4717 & \"\"\"\"","v":"\" \",\"\",\"\",\"\""}]
[{"$f":"\"\"\" \"& 'BX Language acquisition'!A4718 & \"\"\",\"\"\" & 'BX Language acquisition'!C4718 & \"\"\",\"\"\" & 'BX Language acquisition'!B4718 & \"\"\",\"\"\" & 'BX Language acquisition'!D4718 & \"\"\"\"","v":"\" \",\"\",\"\",\"\""}]
[{"$f":"\"\"\" \"& 'BX Language acquisition'!A4719 & \"\"\",\"\"\" & 'BX Language acquisition'!C4719 & \"\"\",\"\"\" & 'BX Language acquisition'!B4719 & \"\"\",\"\"\" & 'BX Language acquisition'!D4719 & \"\"\"\"","v":"\" \",\"\",\"\",\"\""}]
[{"$f":"\"\"\" \"& 'BX Language acquisition'!A4720 & \"\"\",\"\"\" & 'BX Language acquisition'!C4720 & \"\"\",\"\"\" & 'BX Language acquisition'!B4720 & \"\"\",\"\"\" & 'BX Language acquisition'!D4720 & \"\"\"\"","v":"\" \",\"\",\"\",\"\""}]
[{"$f":"\"\"\" \"& 'BX Language acquisition'!A4721 & \"\"\",\"\"\" & 'BX Language acquisition'!C4721 & \"\"\",\"\"\" & 'BX Language acquisition'!B4721 & \"\"\",\"\"\" & 'BX Language acquisition'!D4721 & \"\"\"\"","v":"\" \",\"\",\"\",\"\""}]
[{"$f":"\"\"\" \"& 'BX Language acquisition'!A4722 & \"\"\",\"\"\" & 'BX Language acquisition'!C4722 & \"\"\",\"\"\" & 'BX Language acquisition'!B4722 & \"\"\",\"\"\" & 'BX Language acquisition'!D4722 & \"\"\"\"","v":"\" \",\"\",\"\",\"\""}]
[{"$f":"\"\"\" \"& 'BX Language acquisition'!A4723 & \"\"\",\"\"\" & 'BX Language acquisition'!C4723 & \"\"\",\"\"\" & 'BX Language acquisition'!B4723 & \"\"\",\"\"\" & 'BX Language acquisition'!D4723 & \"\"\"\"","v":"\" \",\"\",\"\",\"\""}]
[{"$f":"\"\"\" \"& 'BX Language acquisition'!A4724 & \"\"\",\"\"\" & 'BX Language acquisition'!C4724 & \"\"\",\"\"\" & 'BX Language acquisition'!B4724 & \"\"\",\"\"\" & 'BX Language acquisition'!D4724 & \"\"\"\"","v":"\" \",\"\",\"\",\"\""}]
[{"$f":"\"\"\" \"& 'BX Language acquisition'!A4725 & \"\"\",\"\"\" & 'BX Language acquisition'!C4725 & \"\"\",\"\"\" & 'BX Language acquisition'!B4725 & \"\"\",\"\"\" & 'BX Language acquisition'!D4725 & \"\"\"\"","v":"\" \",\"\",\"\",\"\""}]
[{"$f":"\"\"\" \"& 'BX Language acquisition'!A4726 & \"\"\",\"\"\" & 'BX Language acquisition'!C4726 & \"\"\",\"\"\" & 'BX Language acquisition'!B4726 & \"\"\",\"\"\" & 'BX Language acquisition'!D4726 & \"\"\"\"","v":"\" \",\"\",\"\",\"\""}]
[{"$f":"\"\"\" \"& 'BX Language acquisition'!A4727 & \"\"\",\"\"\" & 'BX Language acquisition'!C4727 & \"\"\",\"\"\" & 'BX Language acquisition'!B4727 & \"\"\",\"\"\" & 'BX Language acquisition'!D4727 & \"\"\"\"","v":"\" \",\"\",\"\",\"\""}]
[{"$f":"\"\"\" \"& 'BX Language acquisition'!A4728 & \"\"\",\"\"\" & 'BX Language acquisition'!C4728 & \"\"\",\"\"\" & 'BX Language acquisition'!B4728 & \"\"\",\"\"\" & 'BX Language acquisition'!D4728 & \"\"\"\"","v":"\" \",\"\",\"\",\"\""}]
[{"$f":"\"\"\" \"& 'BX Language acquisition'!A4729 & \"\"\",\"\"\" & 'BX Language acquisition'!C4729 & \"\"\",\"\"\" & 'BX Language acquisition'!B4729 & \"\"\",\"\"\" & 'BX Language acquisition'!D4729 & \"\"\"\"","v":"\" \",\"\",\"\",\"\""}]
[{"$f":"\"\"\" \"& 'BX Language acquisition'!A4730 & \"\"\",\"\"\" & 'BX Language acquisition'!C4730 & \"\"\",\"\"\" & 'BX Language acquisition'!B4730 & \"\"\",\"\"\" & 'BX Language acquisition'!D4730 & \"\"\"\"","v":"\" \",\"\",\"\",\"\""}]
[{"$f":"\"\"\" \"& 'BX Language acquisition'!A4731 & \"\"\",\"\"\" & 'BX Language acquisition'!C4731 & \"\"\",\"\"\" & 'BX Language acquisition'!B4731 & \"\"\",\"\"\" & 'BX Language acquisition'!D4731 & \"\"\"\"","v":"\" \",\"\",\"\",\"\""}]
[{"$f":"\"\"\" \"& 'BX Language acquisition'!A4732 & \"\"\",\"\"\" & 'BX Language acquisition'!C4732 & \"\"\",\"\"\" & 'BX Language acquisition'!B4732 & \"\"\",\"\"\" & 'BX Language acquisition'!D4732 & \"\"\"\"","v":"\" \",\"\",\"\",\"\""}]
[{"$f":"\"\"\" \"& 'BX Language acquisition'!A4733 & \"\"\",\"\"\" & 'BX Language acquisition'!C4733 & \"\"\",\"\"\" & 'BX Language acquisition'!B4733 & \"\"\",\"\"\" & 'BX Language acquisition'!D4733 & \"\"\"\"","v":"\" \",\"\",\"\",\"\""}]
[{"$f":"\"\"\" \"& 'BX Language acquisition'!A4734 & \"\"\",\"\"\" & 'BX Language acquisition'!C4734 & \"\"\",\"\"\" & 'BX Language acquisition'!B4734 & \"\"\",\"\"\" & 'BX Language acquisition'!D4734 & \"\"\"\"","v":"\" \",\"\",\"\",\"\""}]
[{"$f":"\"\"\" \"& 'BX Language acquisition'!A4735 & \"\"\",\"\"\" & 'BX Language acquisition'!C4735 & \"\"\",\"\"\" & 'BX Language acquisition'!B4735 & \"\"\",\"\"\" & 'BX Language acquisition'!D4735 & \"\"\"\"","v":"\" \",\"\",\"\",\"\""}]
[{"$f":"\"\"\" \"& 'BX Language acquisition'!A4736 & \"\"\",\"\"\" & 'BX Language acquisition'!C4736 & \"\"\",\"\"\" & 'BX Language acquisition'!B4736 & \"\"\",\"\"\" & 'BX Language acquisition'!D4736 & \"\"\"\"","v":"\" \",\"\",\"\",\"\""}]
[{"$f":"\"\"\" \"& 'BX Language acquisition'!A4737 & \"\"\",\"\"\" & 'BX Language acquisition'!C4737 & \"\"\",\"\"\" & 'BX Language acquisition'!B4737 & \"\"\",\"\"\" & 'BX Language acquisition'!D4737 & \"\"\"\"","v":"\" \",\"\",\"\",\"\""}]
[{"$f":"\"\"\" \"& 'BX Language acquisition'!A4738 & \"\"\",\"\"\" & 'BX Language acquisition'!C4738 & \"\"\",\"\"\" & 'BX Language acquisition'!B4738 & \"\"\",\"\"\" & 'BX Language acquisition'!D4738 & \"\"\"\"","v":"\" \",\"\",\"\",\"\""}]
[{"$f":"\"\"\" \"& 'BX Language acquisition'!A4739 & \"\"\",\"\"\" & 'BX Language acquisition'!C4739 & \"\"\",\"\"\" & 'BX Language acquisition'!B4739 & \"\"\",\"\"\" & 'BX Language acquisition'!D4739 & \"\"\"\"","v":"\" \",\"\",\"\",\"\""}]
[{"$f":"\"\"\" \"& 'BX Language acquisition'!A4740 & \"\"\",\"\"\" & 'BX Language acquisition'!C4740 & \"\"\",\"\"\" & 'BX Language acquisition'!B4740 & \"\"\",\"\"\" & 'BX Language acquisition'!D4740 & \"\"\"\"","v":"\" \",\"\",\"\",\"\""}]
[{"$f":"\"\"\" \"& 'BX Language acquisition'!A4741 & \"\"\",\"\"\" & 'BX Language acquisition'!C4741 & \"\"\",\"\"\" & 'BX Language acquisition'!B4741 & \"\"\",\"\"\" & 'BX Language acquisition'!D4741 & \"\"\"\"","v":"\" \",\"\",\"\",\"\""}]
[{"$f":"\"\"\" \"& 'BX Language acquisition'!A4742 & \"\"\",\"\"\" & 'BX Language acquisition'!C4742 & \"\"\",\"\"\" & 'BX Language acquisition'!B4742 & \"\"\",\"\"\" & 'BX Language acquisition'!D4742 & \"\"\"\"","v":"\" \",\"\",\"\",\"\""}]
[{"$f":"\"\"\" \"& 'BX Language acquisition'!A4743 & \"\"\",\"\"\" & 'BX Language acquisition'!C4743 & \"\"\",\"\"\" & 'BX Language acquisition'!B4743 & \"\"\",\"\"\" & 'BX Language acquisition'!D4743 & \"\"\"\"","v":"\" \",\"\",\"\",\"\""}]
[{"$f":"\"\"\" \"& 'BX Language acquisition'!A4744 & \"\"\",\"\"\" & 'BX Language acquisition'!C4744 & \"\"\",\"\"\" & 'BX Language acquisition'!B4744 & \"\"\",\"\"\" & 'BX Language acquisition'!D4744 & \"\"\"\"","v":"\" \",\"\",\"\",\"\""}]
[{"$f":"\"\"\" \"& 'BX Language acquisition'!A4745 & \"\"\",\"\"\" & 'BX Language acquisition'!C4745 & \"\"\",\"\"\" & 'BX Language acquisition'!B4745 & \"\"\",\"\"\" & 'BX Language acquisition'!D4745 & \"\"\"\"","v":"\" \",\"\",\"\",\"\""}]
[{"$f":"\"\"\" \"& 'BX Language acquisition'!A4746 & \"\"\",\"\"\" & 'BX Language acquisition'!C4746 & \"\"\",\"\"\" & 'BX Language acquisition'!B4746 & \"\"\",\"\"\" & 'BX Language acquisition'!D4746 & \"\"\"\"","v":"\" \",\"\",\"\",\"\""}]
[{"$f":"\"\"\" \"& 'BX Language acquisition'!A4747 & \"\"\",\"\"\" & 'BX Language acquisition'!C4747 & \"\"\",\"\"\" & 'BX Language acquisition'!B4747 & \"\"\",\"\"\" & 'BX Language acquisition'!D4747 & \"\"\"\"","v":"\" \",\"\",\"\",\"\""}]
[{"$f":"\"\"\" \"& 'BX Language acquisition'!A4748 & \"\"\",\"\"\" & 'BX Language acquisition'!C4748 & \"\"\",\"\"\" & 'BX Language acquisition'!B4748 & \"\"\",\"\"\" & 'BX Language acquisition'!D4748 & \"\"\"\"","v":"\" \",\"\",\"\",\"\""}]
[{"$f":"\"\"\" \"& 'BX Language acquisition'!A4749 & \"\"\",\"\"\" & 'BX Language acquisition'!C4749 & \"\"\",\"\"\" & 'BX Language acquisition'!B4749 & \"\"\",\"\"\" & 'BX Language acquisition'!D4749 & \"\"\"\"","v":"\" \",\"\",\"\",\"\""}]
[{"$f":"\"\"\" \"& 'BX Language acquisition'!A4750 & \"\"\",\"\"\" & 'BX Language acquisition'!C4750 & \"\"\",\"\"\" & 'BX Language acquisition'!B4750 & \"\"\",\"\"\" & 'BX Language acquisition'!D4750 & \"\"\"\"","v":"\" \",\"\",\"\",\"\""}]
[{"$f":"\"\"\" \"& 'BX Language acquisition'!A4751 & \"\"\",\"\"\" & 'BX Language acquisition'!C4751 & \"\"\",\"\"\" & 'BX Language acquisition'!B4751 & \"\"\",\"\"\" & 'BX Language acquisition'!D4751 & \"\"\"\"","v":"\" \",\"\",\"\",\"\""}]
[{"$f":"\"\"\" \"& 'BX Language acquisition'!A4752 & \"\"\",\"\"\" & 'BX Language acquisition'!C4752 & \"\"\",\"\"\" & 'BX Language acquisition'!B4752 & \"\"\",\"\"\" & 'BX Language acquisition'!D4752 & \"\"\"\"","v":"\" \",\"\",\"\",\"\""}]
[{"$f":"\"\"\" \"& 'BX Language acquisition'!A4753 & \"\"\",\"\"\" & 'BX Language acquisition'!C4753 & \"\"\",\"\"\" & 'BX Language acquisition'!B4753 & \"\"\",\"\"\" & 'BX Language acquisition'!D4753 & \"\"\"\"","v":"\" \",\"\",\"\",\"\""}]
[{"$f":"\"\"\" \"& 'BX Language acquisition'!A4754 & \"\"\",\"\"\" & 'BX Language acquisition'!C4754 & \"\"\",\"\"\" & 'BX Language acquisition'!B4754 & \"\"\",\"\"\" & 'BX Language acquisition'!D4754 & \"\"\"\"","v":"\" \",\"\",\"\",\"\""}]
[{"$f":"\"\"\" \"& 'BX Language acquisition'!A4755 & \"\"\",\"\"\" & 'BX Language acquisition'!C4755 & \"\"\",\"\"\" & 'BX Language acquisition'!B4755 & \"\"\",\"\"\" & 'BX Language acquisition'!D4755 & \"\"\"\"","v":"\" \",\"\",\"\",\"\""}]
[{"$f":"\"\"\" \"& 'BX Language acquisition'!A4756 & \"\"\",\"\"\" & 'BX Language acquisition'!C4756 & \"\"\",\"\"\" & 'BX Language acquisition'!B4756 & \"\"\",\"\"\" & 'BX Language acquisition'!D4756 & \"\"\"\"","v":"\" \",\"\",\"\",\"\""}]
[{"$f":"\"\"\" \"& 'BX Language acquisition'!A4757 & \"\"\",\"\"\" & 'BX Language acquisition'!C4757 & \"\"\",\"\"\" & 'BX Language acquisition'!B4757 & \"\"\",\"\"\" & 'BX Language acquisition'!D4757 & \"\"\"\"","v":"\" \",\"\",\"\",\"\""}]
[{"$f":"\"\"\" \"& 'BX Language acquisition'!A4758 & \"\"\",\"\"\" & 'BX Language acquisition'!C4758 & \"\"\",\"\"\" & 'BX Language acquisition'!B4758 & \"\"\",\"\"\" & 'BX Language acquisition'!D4758 & \"\"\"\"","v":"\" \",\"\",\"\",\"\""}]
[{"$f":"\"\"\" \"& 'BX Language acquisition'!A4759 & \"\"\",\"\"\" & 'BX Language acquisition'!C4759 & \"\"\",\"\"\" & 'BX Language acquisition'!B4759 & \"\"\",\"\"\" & 'BX Language acquisition'!D4759 & \"\"\"\"","v":"\" \",\"\",\"\",\"\""}]
[{"$f":"\"\"\" \"& 'BX Language acquisition'!A4760 & \"\"\",\"\"\" & 'BX Language acquisition'!C4760 & \"\"\",\"\"\" & 'BX Language acquisition'!B4760 & \"\"\",\"\"\" & 'BX Language acquisition'!D4760 & \"\"\"\"","v":"\" \",\"\",\"\",\"\""}]
[{"$f":"\"\"\" \"& 'BX Language acquisition'!A4761 & \"\"\",\"\"\" & 'BX Language acquisition'!C4761 & \"\"\",\"\"\" & 'BX Language acquisition'!B4761 & \"\"\",\"\"\" & 'BX Language acquisition'!D4761 & \"\"\"\"","v":"\" \",\"\",\"\",\"\""}]
[{"$f":"\"\"\" \"& 'BX Language acquisition'!A4762 & \"\"\",\"\"\" & 'BX Language acquisition'!C4762 & \"\"\",\"\"\" & 'BX Language acquisition'!B4762 & \"\"\",\"\"\" & 'BX Language acquisition'!D4762 & \"\"\"\"","v":"\" \",\"\",\"\",\"\""}]
[{"$f":"\"\"\" \"& 'BX Language acquisition'!A4763 & \"\"\",\"\"\" & 'BX Language acquisition'!C4763 & \"\"\",\"\"\" & 'BX Language acquisition'!B4763 & \"\"\",\"\"\" & 'BX Language acquisition'!D4763 & \"\"\"\"","v":"\" \",\"\",\"\",\"\""}]
[{"$f":"\"\"\" \"& 'BX Language acquisition'!A4764 & \"\"\",\"\"\" & 'BX Language acquisition'!C4764 & \"\"\",\"\"\" & 'BX Language acquisition'!B4764 & \"\"\",\"\"\" & 'BX Language acquisition'!D4764 & \"\"\"\"","v":"\" \",\"\",\"\",\"\""}]
[{"$f":"\"\"\" \"& 'BX Language acquisition'!A4765 & \"\"\",\"\"\" & 'BX Language acquisition'!C4765 & \"\"\",\"\"\" & 'BX Language acquisition'!B4765 & \"\"\",\"\"\" & 'BX Language acquisition'!D4765 & \"\"\"\"","v":"\" \",\"\",\"\",\"\""}]
[{"$f":"\"\"\" \"& 'BX Language acquisition'!A4766 & \"\"\",\"\"\" & 'BX Language acquisition'!C4766 & \"\"\",\"\"\" & 'BX Language acquisition'!B4766 & \"\"\",\"\"\" & 'BX Language acquisition'!D4766 & \"\"\"\"","v":"\" \",\"\",\"\",\"\""}]
[{"$f":"\"\"\" \"& 'BX Language acquisition'!A4767 & \"\"\",\"\"\" & 'BX Language acquisition'!C4767 & \"\"\",\"\"\" & 'BX Language acquisition'!B4767 & \"\"\",\"\"\" & 'BX Language acquisition'!D4767 & \"\"\"\"","v":"\" \",\"\",\"\",\"\""}]
[{"$f":"\"\"\" \"& 'BX Language acquisition'!A4768 & \"\"\",\"\"\" & 'BX Language acquisition'!C4768 & \"\"\",\"\"\" & 'BX Language acquisition'!B4768 & \"\"\",\"\"\" & 'BX Language acquisition'!D4768 & \"\"\"\"","v":"\" \",\"\",\"\",\"\""}]
[{"$f":"\"\"\" \"& 'BX Language acquisition'!A4769 & \"\"\",\"\"\" & 'BX Language acquisition'!C4769 & \"\"\",\"\"\" & 'BX Language acquisition'!B4769 & \"\"\",\"\"\" & 'BX Language acquisition'!D4769 & \"\"\"\"","v":"\" \",\"\",\"\",\"\""}]
[{"$f":"\"\"\" \"& 'BX Language acquisition'!A4770 & \"\"\",\"\"\" & 'BX Language acquisition'!C4770 & \"\"\",\"\"\" & 'BX Language acquisition'!B4770 & \"\"\",\"\"\" & 'BX Language acquisition'!D4770 & \"\"\"\"","v":"\" \",\"\",\"\",\"\""}]
[{"$f":"\"\"\" \"& 'BX Language acquisition'!A4771 & \"\"\",\"\"\" & 'BX Language acquisition'!C4771 & \"\"\",\"\"\" & 'BX Language acquisition'!B4771 & \"\"\",\"\"\" & 'BX Language acquisition'!D4771 & \"\"\"\"","v":"\" \",\"\",\"\",\"\""}]
[{"$f":"\"\"\" \"& 'BX Language acquisition'!A4772 & \"\"\",\"\"\" & 'BX Language acquisition'!C4772 & \"\"\",\"\"\" & 'BX Language acquisition'!B4772 & \"\"\",\"\"\" & 'BX Language acquisition'!D4772 & \"\"\"\"","v":"\" \",\"\",\"\",\"\""}]
[{"$f":"\"\"\" \"& 'BX Language acquisition'!A4773 & \"\"\",\"\"\" & 'BX Language acquisition'!C4773 & \"\"\",\"\"\" & 'BX Language acquisition'!B4773 & \"\"\",\"\"\" & 'BX Language acquisition'!D4773 & \"\"\"\"","v":"\" \",\"\",\"\",\"\""}]
[{"$f":"\"\"\" \"& 'BX Language acquisition'!A4774 & \"\"\",\"\"\" & 'BX Language acquisition'!C4774 & \"\"\",\"\"\" & 'BX Language acquisition'!B4774 & \"\"\",\"\"\" & 'BX Language acquisition'!D4774 & \"\"\"\"","v":"\" \",\"\",\"\",\"\""}]
[{"$f":"\"\"\" \"& 'BX Language acquisition'!A4775 & \"\"\",\"\"\" & 'BX Language acquisition'!C4775 & \"\"\",\"\"\" & 'BX Language acquisition'!B4775 & \"\"\",\"\"\" & 'BX Language acquisition'!D4775 & \"\"\"\"","v":"\" \",\"\",\"\",\"\""}]
[{"$f":"\"\"\" \"& 'BX Language acquisition'!A4776 & \"\"\",\"\"\" & 'BX Language acquisition'!C4776 & \"\"\",\"\"\" & 'BX Language acquisition'!B4776 & \"\"\",\"\"\" & 'BX Language acquisition'!D4776 & \"\"\"\"","v":"\" \",\"\",\"\",\"\""}]
[{"$f":"\"\"\" \"& 'BX Language acquisition'!A4777 & \"\"\",\"\"\" & 'BX Language acquisition'!C4777 & \"\"\",\"\"\" & 'BX Language acquisition'!B4777 & \"\"\",\"\"\" & 'BX Language acquisition'!D4777 & \"\"\"\"","v":"\" \",\"\",\"\",\"\""}]
[{"$f":"\"\"\" \"& 'BX Language acquisition'!A4778 & \"\"\",\"\"\" & 'BX Language acquisition'!C4778 & \"\"\",\"\"\" & 'BX Language acquisition'!B4778 & \"\"\",\"\"\" & 'BX Language acquisition'!D4778 & \"\"\"\"","v":"\" \",\"\",\"\",\"\""}]
[{"$f":"\"\"\" \"& 'BX Language acquisition'!A4779 & \"\"\",\"\"\" & 'BX Language acquisition'!C4779 & \"\"\",\"\"\" & 'BX Language acquisition'!B4779 & \"\"\",\"\"\" & 'BX Language acquisition'!D4779 & \"\"\"\"","v":"\" \",\"\",\"\",\"\""}]
[{"$f":"\"\"\" \"& 'BX Language acquisition'!A4780 & \"\"\",\"\"\" & 'BX Language acquisition'!C4780 & \"\"\",\"\"\" & 'BX Language acquisition'!B4780 & \"\"\",\"\"\" & 'BX Language acquisition'!D4780 & \"\"\"\"","v":"\" \",\"\",\"\",\"\""}]
[{"$f":"\"\"\" \"& 'BX Language acquisition'!A4781 & \"\"\",\"\"\" & 'BX Language acquisition'!C4781 & \"\"\",\"\"\" & 'BX Language acquisition'!B4781 & \"\"\",\"\"\" & 'BX Language acquisition'!D4781 & \"\"\"\"","v":"\" \",\"\",\"\",\"\""}]
[{"$f":"\"\"\" \"& 'BX Language acquisition'!A4782 & \"\"\",\"\"\" & 'BX Language acquisition'!C4782 & \"\"\",\"\"\" & 'BX Language acquisition'!B4782 & \"\"\",\"\"\" & 'BX Language acquisition'!D4782 & \"\"\"\"","v":"\" \",\"\",\"\",\"\""}]
[{"$f":"\"\"\" \"& 'BX Language acquisition'!A4783 & \"\"\",\"\"\" & 'BX Language acquisition'!C4783 & \"\"\",\"\"\" & 'BX Language acquisition'!B4783 & \"\"\",\"\"\" & 'BX Language acquisition'!D4783 & \"\"\"\"","v":"\" \",\"\",\"\",\"\""}]
[{"$f":"\"\"\" \"& 'BX Language acquisition'!A4784 & \"\"\",\"\"\" & 'BX Language acquisition'!C4784 & \"\"\",\"\"\" & 'BX Language acquisition'!B4784 & \"\"\",\"\"\" & 'BX Language acquisition'!D4784 & \"\"\"\"","v":"\" \",\"\",\"\",\"\""}]
[{"$f":"\"\"\" \"& 'BX Language acquisition'!A4785 & \"\"\",\"\"\" & 'BX Language acquisition'!C4785 & \"\"\",\"\"\" & 'BX Language acquisition'!B4785 & \"\"\",\"\"\" & 'BX Language acquisition'!D4785 & \"\"\"\"","v":"\" \",\"\",\"\",\"\""}]
[{"$f":"\"\"\" \"& 'BX Language acquisition'!A4786 & \"\"\",\"\"\" & 'BX Language acquisition'!C4786 & \"\"\",\"\"\" & 'BX Language acquisition'!B4786 & \"\"\",\"\"\" & 'BX Language acquisition'!D4786 & \"\"\"\"","v":"\" \",\"\",\"\",\"\""}]
[{"$f":"\"\"\" \"& 'BX Language acquisition'!A4787 & \"\"\",\"\"\" & 'BX Language acquisition'!C4787 & \"\"\",\"\"\" & 'BX Language acquisition'!B4787 & \"\"\",\"\"\" & 'BX Language acquisition'!D4787 & \"\"\"\"","v":"\" \",\"\",\"\",\"\""}]
[{"$f":"\"\"\" \"& 'BX Language acquisition'!A4788 & \"\"\",\"\"\" & 'BX Language acquisition'!C4788 & \"\"\",\"\"\" & 'BX Language acquisition'!B4788 & \"\"\",\"\"\" & 'BX Language acquisition'!D4788 & \"\"\"\"","v":"\" \",\"\",\"\",\"\""}]
[{"$f":"\"\"\" \"& 'BX Language acquisition'!A4789 & \"\"\",\"\"\" & 'BX Language acquisition'!C4789 & \"\"\",\"\"\" & 'BX Language acquisition'!B4789 & \"\"\",\"\"\" & 'BX Language acquisition'!D4789 & \"\"\"\"","v":"\" \",\"\",\"\",\"\""}]
[{"$f":"\"\"\" \"& 'BX Language acquisition'!A4790 & \"\"\",\"\"\" & 'BX Language acquisition'!C4790 & \"\"\",\"\"\" & 'BX Language acquisition'!B4790 & \"\"\",\"\"\" & 'BX Language acquisition'!D4790 & \"\"\"\"","v":"\" \",\"\",\"\",\"\""}]
[{"$f":"\"\"\" \"& 'BX Language acquisition'!A4791 & \"\"\",\"\"\" & 'BX Language acquisition'!C4791 & \"\"\",\"\"\" & 'BX Language acquisition'!B4791 & \"\"\",\"\"\" & 'BX Language acquisition'!D4791 & \"\"\"\"","v":"\" \",\"\",\"\",\"\""}]
[{"$f":"\"\"\" \"& 'BX Language acquisition'!A4792 & \"\"\",\"\"\" & 'BX Language acquisition'!C4792 & \"\"\",\"\"\" & 'BX Language acquisition'!B4792 & \"\"\",\"\"\" & 'BX Language acquisition'!D4792 & \"\"\"\"","v":"\" \",\"\",\"\",\"\""}]
[{"$f":"\"\"\" \"& 'BX Language acquisition'!A4793 & \"\"\",\"\"\" & 'BX Language acquisition'!C4793 & \"\"\",\"\"\" & 'BX Language acquisition'!B4793 & \"\"\",\"\"\" & 'BX Language acquisition'!D4793 & \"\"\"\"","v":"\" \",\"\",\"\",\"\""}]
[{"$f":"\"\"\" \"& 'BX Language acquisition'!A4794 & \"\"\",\"\"\" & 'BX Language acquisition'!C4794 & \"\"\",\"\"\" & 'BX Language acquisition'!B4794 & \"\"\",\"\"\" & 'BX Language acquisition'!D4794 & \"\"\"\"","v":"\" \",\"\",\"\",\"\""}]
[{"$f":"\"\"\" \"& 'BX Language acquisition'!A4795 & \"\"\",\"\"\" & 'BX Language acquisition'!C4795 & \"\"\",\"\"\" & 'BX Language acquisition'!B4795 & \"\"\",\"\"\" & 'BX Language acquisition'!D4795 & \"\"\"\"","v":"\" \",\"\",\"\",\"\""}]
[{"$f":"\"\"\" \"& 'BX Language acquisition'!A4796 & \"\"\",\"\"\" & 'BX Language acquisition'!C4796 & \"\"\",\"\"\" & 'BX Language acquisition'!B4796 & \"\"\",\"\"\" & 'BX Language acquisition'!D4796 & \"\"\"\"","v":"\" \",\"\",\"\",\"\""}]
[{"$f":"\"\"\" \"& 'BX Language acquisition'!A4797 & \"\"\",\"\"\" & 'BX Language acquisition'!C4797 & \"\"\",\"\"\" & 'BX Language acquisition'!B4797 & \"\"\",\"\"\" & 'BX Language acquisition'!D4797 & \"\"\"\"","v":"\" \",\"\",\"\",\"\""}]
[{"$f":"\"\"\" \"& 'BX Language acquisition'!A4798 & \"\"\",\"\"\" & 'BX Language acquisition'!C4798 & \"\"\",\"\"\" & 'BX Language acquisition'!B4798 & \"\"\",\"\"\" & 'BX Language acquisition'!D4798 & \"\"\"\"","v":"\" \",\"\",\"\",\"\""}]
[{"$f":"\"\"\" \"& 'BX Language acquisition'!A4799 & \"\"\",\"\"\" & 'BX Language acquisition'!C4799 & \"\"\",\"\"\" & 'BX Language acquisition'!B4799 & \"\"\",\"\"\" & 'BX Language acquisition'!D4799 & \"\"\"\"","v":"\" \",\"\",\"\",\"\""}]
[{"$f":"\"\"\" \"& 'BX Language acquisition'!A4800 & \"\"\",\"\"\" & 'BX Language acquisition'!C4800 & \"\"\",\"\"\" & 'BX Language acquisition'!B4800 & \"\"\",\"\"\" & 'BX Language acquisition'!D4800 & \"\"\"\"","v":"\" \",\"\",\"\",\"\""}]
[{"$f":"\"\"\" \"& 'BX Language acquisition'!A4801 & \"\"\",\"\"\" & 'BX Language acquisition'!C4801 & \"\"\",\"\"\" & 'BX Language acquisition'!B4801 & \"\"\",\"\"\" & 'BX Language acquisition'!D4801 & \"\"\"\"","v":"\" \",\"\",\"\",\"\""}]
[{"$f":"\"\"\" \"& 'BX Language acquisition'!A4802 & \"\"\",\"\"\" & 'BX Language acquisition'!C4802 & \"\"\",\"\"\" & 'BX Language acquisition'!B4802 & \"\"\",\"\"\" & 'BX Language acquisition'!D4802 & \"\"\"\"","v":"\" \",\"\",\"\",\"\""}]
[{"$f":"\"\"\" \"& 'BX Language acquisition'!A4803 & \"\"\",\"\"\" & 'BX Language acquisition'!C4803 & \"\"\",\"\"\" & 'BX Language acquisition'!B4803 & \"\"\",\"\"\" & 'BX Language acquisition'!D4803 & \"\"\"\"","v":"\" \",\"\",\"\",\"\""}]
[{"$f":"\"\"\" \"& 'BX Language acquisition'!A4804 & \"\"\",\"\"\" & 'BX Language acquisition'!C4804 & \"\"\",\"\"\" & 'BX Language acquisition'!B4804 & \"\"\",\"\"\" & 'BX Language acquisition'!D4804 & \"\"\"\"","v":"\" \",\"\",\"\",\"\""}]
[{"$f":"\"\"\" \"& 'BX Language acquisition'!A4805 & \"\"\",\"\"\" & 'BX Language acquisition'!C4805 & \"\"\",\"\"\" & 'BX Language acquisition'!B4805 & \"\"\",\"\"\" & 'BX Language acquisition'!D4805 & \"\"\"\"","v":"\" \",\"\",\"\",\"\""}]
[{"$f":"\"\"\" \"& 'BX Language acquisition'!A4806 & \"\"\",\"\"\" & 'BX Language acquisition'!C4806 & \"\"\",\"\"\" & 'BX Language acquisition'!B4806 & \"\"\",\"\"\" & 'BX Language acquisition'!D4806 & \"\"\"\"","v":"\" \",\"\",\"\",\"\""}]
[{"$f":"\"\"\" \"& 'BX Language acquisition'!A4807 & \"\"\",\"\"\" & 'BX Language acquisition'!C4807 & \"\"\",\"\"\" & 'BX Language acquisition'!B4807 & \"\"\",\"\"\" & 'BX Language acquisition'!D4807 & \"\"\"\"","v":"\" \",\"\",\"\",\"\""}]
[{"$f":"\"\"\" \"& 'BX Language acquisition'!A4808 & \"\"\",\"\"\" & 'BX Language acquisition'!C4808 & \"\"\",\"\"\" & 'BX Language acquisition'!B4808 & \"\"\",\"\"\" & 'BX Language acquisition'!D4808 & \"\"\"\"","v":"\" \",\"\",\"\",\"\""}]
[{"$f":"\"\"\" \"& 'BX Language acquisition'!A4809 & \"\"\",\"\"\" & 'BX Language acquisition'!C4809 & \"\"\",\"\"\" & 'BX Language acquisition'!B4809 & \"\"\",\"\"\" & 'BX Language acquisition'!D4809 & \"\"\"\"","v":"\" \",\"\",\"\",\"\""}]
[{"$f":"\"\"\" \"& 'BX Language acquisition'!A4810 & \"\"\",\"\"\" & 'BX Language acquisition'!C4810 & \"\"\",\"\"\" & 'BX Language acquisition'!B4810 & \"\"\",\"\"\" & 'BX Language acquisition'!D4810 & \"\"\"\"","v":"\" \",\"\",\"\",\"\""}]
[{"$f":"\"\"\" \"& 'BX Language acquisition'!A4811 & \"\"\",\"\"\" & 'BX Language acquisition'!C4811 & \"\"\",\"\"\" & 'BX Language acquisition'!B4811 & \"\"\",\"\"\" & 'BX Language acquisition'!D4811 & \"\"\"\"","v":"\" \",\"\",\"\",\"\""}]
[{"$f":"\"\"\" \"& 'BX Language acquisition'!A4812 & \"\"\",\"\"\" & 'BX Language acquisition'!C4812 & \"\"\",\"\"\" & 'BX Language acquisition'!B4812 & \"\"\",\"\"\" & 'BX Language acquisition'!D4812 & \"\"\"\"","v":"\" \",\"\",\"\",\"\""}]
[{"$f":"\"\"\" \"& 'BX Language acquisition'!A4813 & \"\"\",\"\"\" & 'BX Language acquisition'!C4813 & \"\"\",\"\"\" & 'BX Language acquisition'!B4813 & \"\"\",\"\"\" & 'BX Language acquisition'!D4813 & \"\"\"\"","v":"\" \",\"\",\"\",\"\""}]
[{"$f":"\"\"\" \"& 'BX Language acquisition'!A4814 & \"\"\",\"\"\" & 'BX Language acquisition'!C4814 & \"\"\",\"\"\" & 'BX Language acquisition'!B4814 & \"\"\",\"\"\" & 'BX Language acquisition'!D4814 & \"\"\"\"","v":"\" \",\"\",\"\",\"\""}]
[{"$f":"\"\"\" \"& 'BX Language acquisition'!A4815 & \"\"\",\"\"\" & 'BX Language acquisition'!C4815 & \"\"\",\"\"\" & 'BX Language acquisition'!B4815 & \"\"\",\"\"\" & 'BX Language acquisition'!D4815 & \"\"\"\"","v":"\" \",\"\",\"\",\"\""}]
[{"$f":"\"\"\" \"& 'BX Language acquisition'!A4816 & \"\"\",\"\"\" & 'BX Language acquisition'!C4816 & \"\"\",\"\"\" & 'BX Language acquisition'!B4816 & \"\"\",\"\"\" & 'BX Language acquisition'!D4816 & \"\"\"\"","v":"\" \",\"\",\"\",\"\""}]
[{"$f":"\"\"\" \"& 'BX Language acquisition'!A4817 & \"\"\",\"\"\" & 'BX Language acquisition'!C4817 & \"\"\",\"\"\" & 'BX Language acquisition'!B4817 & \"\"\",\"\"\" & 'BX Language acquisition'!D4817 & \"\"\"\"","v":"\" \",\"\",\"\",\"\""}]
[{"$f":"\"\"\" \"& 'BX Language acquisition'!A4818 & \"\"\",\"\"\" & 'BX Language acquisition'!C4818 & \"\"\",\"\"\" & 'BX Language acquisition'!B4818 & \"\"\",\"\"\" & 'BX Language acquisition'!D4818 & \"\"\"\"","v":"\" \",\"\",\"\",\"\""}]
[{"$f":"\"\"\" \"& 'BX Language acquisition'!A4819 & \"\"\",\"\"\" & 'BX Language acquisition'!C4819 & \"\"\",\"\"\" & 'BX Language acquisition'!B4819 & \"\"\",\"\"\" & 'BX Language acquisition'!D4819 & \"\"\"\"","v":"\" \",\"\",\"\",\"\""}]
[{"$f":"\"\"\" \"& 'BX Language acquisition'!A4820 & \"\"\",\"\"\" & 'BX Language acquisition'!C4820 & \"\"\",\"\"\" & 'BX Language acquisition'!B4820 & \"\"\",\"\"\" & 'BX Language acquisition'!D4820 & \"\"\"\"","v":"\" \",\"\",\"\",\"\""}]
[{"$f":"\"\"\" \"& 'BX Language acquisition'!A4821 & \"\"\",\"\"\" & 'BX Language acquisition'!C4821 & \"\"\",\"\"\" & 'BX Language acquisition'!B4821 & \"\"\",\"\"\" & 'BX Language acquisition'!D4821 & \"\"\"\"","v":"\" \",\"\",\"\",\"\""}]
[{"$f":"\"\"\" \"& 'BX Language acquisition'!A4822 & \"\"\",\"\"\" & 'BX Language acquisition'!C4822 & \"\"\",\"\"\" & 'BX Language acquisition'!B4822 & \"\"\",\"\"\" & 'BX Language acquisition'!D4822 & \"\"\"\"","v":"\" \",\"\",\"\",\"\""}]
[{"$f":"\"\"\" \"& 'BX Language acquisition'!A4823 & \"\"\",\"\"\" & 'BX Language acquisition'!C4823 & \"\"\",\"\"\" & 'BX Language acquisition'!B4823 & \"\"\",\"\"\" & 'BX Language acquisition'!D4823 & \"\"\"\"","v":"\" \",\"\",\"\",\"\""}]
[{"$f":"\"\"\" \"& 'BX Language acquisition'!A4824 & \"\"\",\"\"\" & 'BX Language acquisition'!C4824 & \"\"\",\"\"\" & 'BX Language acquisition'!B4824 & \"\"\",\"\"\" & 'BX Language acquisition'!D4824 & \"\"\"\"","v":"\" \",\"\",\"\",\"\""}]
[{"$f":"\"\"\" \"& 'BX Language acquisition'!A4825 & \"\"\",\"\"\" & 'BX Language acquisition'!C4825 & \"\"\",\"\"\" & 'BX Language acquisition'!B4825 & \"\"\",\"\"\" & 'BX Language acquisition'!D4825 & \"\"\"\"","v":"\" \",\"\",\"\",\"\""}]
[{"$f":"\"\"\" \"& 'BX Language acquisition'!A4826 & \"\"\",\"\"\" & 'BX Language acquisition'!C4826 & \"\"\",\"\"\" & 'BX Language acquisition'!B4826 & \"\"\",\"\"\" & 'BX Language acquisition'!D4826 & \"\"\"\"","v":"\" \",\"\",\"\",\"\""}]
[{"$f":"\"\"\" \"& 'BX Language acquisition'!A4827 & \"\"\",\"\"\" & 'BX Language acquisition'!C4827 & \"\"\",\"\"\" & 'BX Language acquisition'!B4827 & \"\"\",\"\"\" & 'BX Language acquisition'!D4827 & \"\"\"\"","v":"\" \",\"\",\"\",\"\""}]
[{"$f":"\"\"\" \"& 'BX Language acquisition'!A4828 & \"\"\",\"\"\" & 'BX Language acquisition'!C4828 & \"\"\",\"\"\" & 'BX Language acquisition'!B4828 & \"\"\",\"\"\" & 'BX Language acquisition'!D4828 & \"\"\"\"","v":"\" \",\"\",\"\",\"\""}]
[{"$f":"\"\"\" \"& 'BX Language acquisition'!A4829 & \"\"\",\"\"\" & 'BX Language acquisition'!C4829 & \"\"\",\"\"\" & 'BX Language acquisition'!B4829 & \"\"\",\"\"\" & 'BX Language acquisition'!D4829 & \"\"\"\"","v":"\" \",\"\",\"\",\"\""}]
[{"$f":"\"\"\" \"& 'BX Language acquisition'!A4830 & \"\"\",\"\"\" & 'BX Language acquisition'!C4830 & \"\"\",\"\"\" & 'BX Language acquisition'!B4830 & \"\"\",\"\"\" & 'BX Language acquisition'!D4830 & \"\"\"\"","v":"\" \",\"\",\"\",\"\""}]
[{"$f":"\"\"\" \"& 'BX Language acquisition'!A4831 & \"\"\",\"\"\" & 'BX Language acquisition'!C4831 & \"\"\",\"\"\" & 'BX Language acquisition'!B4831 & \"\"\",\"\"\" & 'BX Language acquisition'!D4831 & \"\"\"\"","v":"\" \",\"\",\"\",\"\""}]
[{"$f":"\"\"\" \"& 'BX Language acquisition'!A4832 & \"\"\",\"\"\" & 'BX Language acquisition'!C4832 & \"\"\",\"\"\" & 'BX Language acquisition'!B4832 & \"\"\",\"\"\" & 'BX Language acquisition'!D4832 & \"\"\"\"","v":"\" \",\"\",\"\",\"\""}]
[{"$f":"\"\"\" \"& 'BX Language acquisition'!A4833 & \"\"\",\"\"\" & 'BX Language acquisition'!C4833 & \"\"\",\"\"\" & 'BX Language acquisition'!B4833 & \"\"\",\"\"\" & 'BX Language acquisition'!D4833 & \"\"\"\"","v":"\" \",\"\",\"\",\"\""}]
[{"$f":"\"\"\" \"& 'BX Language acquisition'!A4834 & \"\"\",\"\"\" & 'BX Language acquisition'!C4834 & \"\"\",\"\"\" & 'BX Language acquisition'!B4834 & \"\"\",\"\"\" & 'BX Language acquisition'!D4834 & \"\"\"\"","v":"\" \",\"\",\"\",\"\""}]
[{"$f":"\"\"\" \"& 'BX Language acquisition'!A4835 & \"\"\",\"\"\" & 'BX Language acquisition'!C4835 & \"\"\",\"\"\" & 'BX Language acquisition'!B4835 & \"\"\",\"\"\" & 'BX Language acquisition'!D4835 & \"\"\"\"","v":"\" \",\"\",\"\",\"\""}]
[{"$f":"\"\"\" \"& 'BX Language acquisition'!A4836 & \"\"\",\"\"\" & 'BX Language acquisition'!C4836 & \"\"\",\"\"\" & 'BX Language acquisition'!B4836 & \"\"\",\"\"\" & 'BX Language acquisition'!D4836 & \"\"\"\"","v":"\" \",\"\",\"\",\"\""}]
[{"$f":"\"\"\" \"& 'BX Language acquisition'!A4837 & \"\"\",\"\"\" & 'BX Language acquisition'!C4837 & \"\"\",\"\"\" & 'BX Language acquisition'!B4837 & \"\"\",\"\"\" & 'BX Language acquisition'!D4837 & \"\"\"\"","v":"\" \",\"\",\"\",\"\""}]
[{"$f":"\"\"\" \"& 'BX Language acquisition'!A4838 & \"\"\",\"\"\" & 'BX Language acquisition'!C4838 & \"\"\",\"\"\" & 'BX Language acquisition'!B4838 & \"\"\",\"\"\" & 'BX Language acquisition'!D4838 & \"\"\"\"","v":"\" \",\"\",\"\",\"\""}]
[{"$f":"\"\"\" \"& 'BX Language acquisition'!A4839 & \"\"\",\"\"\" & 'BX Language acquisition'!C4839 & \"\"\",\"\"\" & 'BX Language acquisition'!B4839 & \"\"\",\"\"\" & 'BX Language acquisition'!D4839 & \"\"\"\"","v":"\" \",\"\",\"\",\"\""}]
[{"$f":"\"\"\" \"& 'BX Language acquisition'!A4840 & \"\"\",\"\"\" & 'BX Language acquisition'!C4840 & \"\"\",\"\"\" & 'BX Language acquisition'!B4840 & \"\"\",\"\"\" & 'BX Language acquisition'!D4840 & \"\"\"\"","v":"\" \",\"\",\"\",\"\""}]
[{"$f":"\"\"\" \"& 'BX Language acquisition'!A4841 & \"\"\",\"\"\" & 'BX Language acquisition'!C4841 & \"\"\",\"\"\" & 'BX Language acquisition'!B4841 & \"\"\",\"\"\" & 'BX Language acquisition'!D4841 & \"\"\"\"","v":"\" \",\"\",\"\",\"\""}]
[{"$f":"\"\"\" \"& 'BX Language acquisition'!A4842 & \"\"\",\"\"\" & 'BX Language acquisition'!C4842 & \"\"\",\"\"\" & 'BX Language acquisition'!B4842 & \"\"\",\"\"\" & 'BX Language acquisition'!D4842 & \"\"\"\"","v":"\" \",\"\",\"\",\"\""}]
[{"$f":"\"\"\" \"& 'BX Language acquisition'!A4843 & \"\"\",\"\"\" & 'BX Language acquisition'!C4843 & \"\"\",\"\"\" & 'BX Language acquisition'!B4843 & \"\"\",\"\"\" & 'BX Language acquisition'!D4843 & \"\"\"\"","v":"\" \",\"\",\"\",\"\""}]
[{"$f":"\"\"\" \"& 'BX Language acquisition'!A4844 & \"\"\",\"\"\" & 'BX Language acquisition'!C4844 & \"\"\",\"\"\" & 'BX Language acquisition'!B4844 & \"\"\",\"\"\" & 'BX Language acquisition'!D4844 & \"\"\"\"","v":"\" \",\"\",\"\",\"\""}]
[{"$f":"\"\"\" \"& 'BX Language acquisition'!A4845 & \"\"\",\"\"\" & 'BX Language acquisition'!C4845 & \"\"\",\"\"\" & 'BX Language acquisition'!B4845 & \"\"\",\"\"\" & 'BX Language acquisition'!D4845 & \"\"\"\"","v":"\" \",\"\",\"\",\"\""}]
[{"$f":"\"\"\" \"& 'BX Language acquisition'!A4846 & \"\"\",\"\"\" & 'BX Language acquisition'!C4846 & \"\"\",\"\"\" & 'BX Language acquisition'!B4846 & \"\"\",\"\"\" & 'BX Language acquisition'!D4846 & \"\"\"\"","v":"\" \",\"\",\"\",\"\""}]
[{"$f":"\"\"\" \"& 'BX Language acquisition'!A4847 & \"\"\",\"\"\" & 'BX Language acquisition'!C4847 & \"\"\",\"\"\" & 'BX Language acquisition'!B4847 & \"\"\",\"\"\" & 'BX Language acquisition'!D4847 & \"\"\"\"","v":"\" \",\"\",\"\",\"\""}]
[{"$f":"\"\"\" \"& 'BX Language acquisition'!A4848 & \"\"\",\"\"\" & 'BX Language acquisition'!C4848 & \"\"\",\"\"\" & 'BX Language acquisition'!B4848 & \"\"\",\"\"\" & 'BX Language acquisition'!D4848 & \"\"\"\"","v":"\" \",\"\",\"\",\"\""}]
[{"$f":"\"\"\" \"& 'BX Language acquisition'!A4849 & \"\"\",\"\"\" & 'BX Language acquisition'!C4849 & \"\"\",\"\"\" & 'BX Language acquisition'!B4849 & \"\"\",\"\"\" & 'BX Language acquisition'!D4849 & \"\"\"\"","v":"\" \",\"\",\"\",\"\""}]
[{"$f":"\"\"\" \"& 'BX Language acquisition'!A4850 & \"\"\",\"\"\" & 'BX Language acquisition'!C4850 & \"\"\",\"\"\" & 'BX Language acquisition'!B4850 & \"\"\",\"\"\" & 'BX Language acquisition'!D4850 & \"\"\"\"","v":"\" \",\"\",\"\",\"\""}]
[{"$f":"\"\"\" \"& 'BX Language acquisition'!A4851 & \"\"\",\"\"\" & 'BX Language acquisition'!C4851 & \"\"\",\"\"\" & 'BX Language acquisition'!B4851 & \"\"\",\"\"\" & 'BX Language acquisition'!D4851 & \"\"\"\"","v":"\" \",\"\",\"\",\"\""}]
[{"$f":"\"\"\" \"& 'BX Language acquisition'!A4852 & \"\"\",\"\"\" & 'BX Language acquisition'!C4852 & \"\"\",\"\"\" & 'BX Language acquisition'!B4852 & \"\"\",\"\"\" & 'BX Language acquisition'!D4852 & \"\"\"\"","v":"\" \",\"\",\"\",\"\""}]
[{"$f":"\"\"\" \"& 'BX Language acquisition'!A4853 & \"\"\",\"\"\" & 'BX Language acquisition'!C4853 & \"\"\",\"\"\" & 'BX Language acquisition'!B4853 & \"\"\",\"\"\" & 'BX Language acquisition'!D4853 & \"\"\"\"","v":"\" \",\"\",\"\",\"\""}]
[{"$f":"\"\"\" \"& 'BX Language acquisition'!A4854 & \"\"\",\"\"\" & 'BX Language acquisition'!C4854 & \"\"\",\"\"\" & 'BX Language acquisition'!B4854 & \"\"\",\"\"\" & 'BX Language acquisition'!D4854 & \"\"\"\"","v":"\" \",\"\",\"\",\"\""}]
[{"$f":"\"\"\" \"& 'BX Language acquisition'!A4855 & \"\"\",\"\"\" & 'BX Language acquisition'!C4855 & \"\"\",\"\"\" & 'BX Language acquisition'!B4855 & \"\"\",\"\"\" & 'BX Language acquisition'!D4855 & \"\"\"\"","v":"\" \",\"\",\"\",\"\""}]
[{"$f":"\"\"\" \"& 'BX Language acquisition'!A4856 & \"\"\",\"\"\" & 'BX Language acquisition'!C4856 & \"\"\",\"\"\" & 'BX Language acquisition'!B4856 & \"\"\",\"\"\" & 'BX Language acquisition'!D4856 & \"\"\"\"","v":"\" \",\"\",\"\",\"\""}]
[{"$f":"\"\"\" \"& 'BX Language acquisition'!A4857 & \"\"\",\"\"\" & 'BX Language acquisition'!C4857 & \"\"\",\"\"\" & 'BX Language acquisition'!B4857 & \"\"\",\"\"\" & 'BX Language acquisition'!D4857 & \"\"\"\"","v":"\" \",\"\",\"\",\"\""}]
[{"$f":"\"\"\" \"& 'BX Language acquisition'!A4858 & \"\"\",\"\"\" & 'BX Language acquisition'!C4858 & \"\"\",\"\"\" & 'BX Language acquisition'!B4858 & \"\"\",\"\"\" & 'BX Language acquisition'!D4858 & \"\"\"\"","v":"\" \",\"\",\"\",\"\""}]
[{"$f":"\"\"\" \"& 'BX Language acquisition'!A4859 & \"\"\",\"\"\" & 'BX Language acquisition'!C4859 & \"\"\",\"\"\" & 'BX Language acquisition'!B4859 & \"\"\",\"\"\" & 'BX Language acquisition'!D4859 & \"\"\"\"","v":"\" \",\"\",\"\",\"\""}]
[{"$f":"\"\"\" \"& 'BX Language acquisition'!A4860 & \"\"\",\"\"\" & 'BX Language acquisition'!C4860 & \"\"\",\"\"\" & 'BX Language acquisition'!B4860 & \"\"\",\"\"\" & 'BX Language acquisition'!D4860 & \"\"\"\"","v":"\" \",\"\",\"\",\"\""}]
[{"$f":"\"\"\" \"& 'BX Language acquisition'!A4861 & \"\"\",\"\"\" & 'BX Language acquisition'!C4861 & \"\"\",\"\"\" & 'BX Language acquisition'!B4861 & \"\"\",\"\"\" & 'BX Language acquisition'!D4861 & \"\"\"\"","v":"\" \",\"\",\"\",\"\""}]
[{"$f":"\"\"\" \"& 'BX Language acquisition'!A4862 & \"\"\",\"\"\" & 'BX Language acquisition'!C4862 & \"\"\",\"\"\" & 'BX Language acquisition'!B4862 & \"\"\",\"\"\" & 'BX Language acquisition'!D4862 & \"\"\"\"","v":"\" \",\"\",\"\",\"\""}]
[{"$f":"\"\"\" \"& 'BX Language acquisition'!A4863 & \"\"\",\"\"\" & 'BX Language acquisition'!C4863 & \"\"\",\"\"\" & 'BX Language acquisition'!B4863 & \"\"\",\"\"\" & 'BX Language acquisition'!D4863 & \"\"\"\"","v":"\" \",\"\",\"\",\"\""}]
[{"$f":"\"\"\" \"& 'BX Language acquisition'!A4864 & \"\"\",\"\"\" & 'BX Language acquisition'!C4864 & \"\"\",\"\"\" & 'BX Language acquisition'!B4864 & \"\"\",\"\"\" & 'BX Language acquisition'!D4864 & \"\"\"\"","v":"\" \",\"\",\"\",\"\""}]
[{"$f":"\"\"\" \"& 'BX Language acquisition'!A4865 & \"\"\",\"\"\" & 'BX Language acquisition'!C4865 & \"\"\",\"\"\" & 'BX Language acquisition'!B4865 & \"\"\",\"\"\" & 'BX Language acquisition'!D4865 & \"\"\"\"","v":"\" \",\"\",\"\",\"\""}]
[{"$f":"\"\"\" \"& 'BX Language acquisition'!A4866 & \"\"\",\"\"\" & 'BX Language acquisition'!C4866 & \"\"\",\"\"\" & 'BX Language acquisition'!B4866 & \"\"\",\"\"\" & 'BX Language acquisition'!D4866 & \"\"\"\"","v":"\" \",\"\",\"\",\"\""}]
[{"$f":"\"\"\" \"& 'BX Language acquisition'!A4867 & \"\"\",\"\"\" & 'BX Language acquisition'!C4867 & \"\"\",\"\"\" & 'BX Language acquisition'!B4867 & \"\"\",\"\"\" & 'BX Language acquisition'!D4867 & \"\"\"\"","v":"\" \",\"\",\"\",\"\""}]
[{"$f":"\"\"\" \"& 'BX Language acquisition'!A4868 & \"\"\",\"\"\" & 'BX Language acquisition'!C4868 & \"\"\",\"\"\" & 'BX Language acquisition'!B4868 & \"\"\",\"\"\" & 'BX Language acquisition'!D4868 & \"\"\"\"","v":"\" \",\"\",\"\",\"\""}]
[{"$f":"\"\"\" \"& 'BX Language acquisition'!A4869 & \"\"\",\"\"\" & 'BX Language acquisition'!C4869 & \"\"\",\"\"\" & 'BX Language acquisition'!B4869 & \"\"\",\"\"\" & 'BX Language acquisition'!D4869 & \"\"\"\"","v":"\" \",\"\",\"\",\"\""}]
[{"$f":"\"\"\" \"& 'BX Language acquisition'!A4870 & \"\"\",\"\"\" & 'BX Language acquisition'!C4870 & \"\"\",\"\"\" & 'BX Language acquisition'!B4870 & \"\"\",\"\"\" & 'BX Language acquisition'!D4870 & \"\"\"\"","v":"\" \",\"\",\"\",\"\""}]
[{"$f":"\"\"\" \"& 'BX Language acquisition'!A4871 & \"\"\",\"\"\" & 'BX Language acquisition'!C4871 & \"\"\",\"\"\" & 'BX Language acquisition'!B4871 & \"\"\",\"\"\" & 'BX Language acquisition'!D4871 & \"\"\"\"","v":"\" \",\"\",\"\",\"\""}]
[{"$f":"\"\"\" \"& 'BX Language acquisition'!A4872 & \"\"\",\"\"\" & 'BX Language acquisition'!C4872 & \"\"\",\"\"\" & 'BX Language acquisition'!B4872 & \"\"\",\"\"\" & 'BX Language acquisition'!D4872 & \"\"\"\"","v":"\" \",\"\",\"\",\"\""}]
[{"$f":"\"\"\" \"& 'BX Language acquisition'!A4873 & \"\"\",\"\"\" & 'BX Language acquisition'!C4873 & \"\"\",\"\"\" & 'BX Language acquisition'!B4873 & \"\"\",\"\"\" & 'BX Language acquisition'!D4873 & \"\"\"\"","v":"\" \",\"\",\"\",\"\""}]
[{"$f":"\"\"\" \"& 'BX Language acquisition'!A4874 & \"\"\",\"\"\" & 'BX Language acquisition'!C4874 & \"\"\",\"\"\" & 'BX Language acquisition'!B4874 & \"\"\",\"\"\" & 'BX Language acquisition'!D4874 & \"\"\"\"","v":"\" \",\"\",\"\",\"\""}]
[{"$f":"\"\"\" \"& 'BX Language acquisition'!A4875 & \"\"\",\"\"\" & 'BX Language acquisition'!C4875 & \"\"\",\"\"\" & 'BX Language acquisition'!B4875 & \"\"\",\"\"\" & 'BX Language acquisition'!D4875 & \"\"\"\"","v":"\" \",\"\",\"\",\"\""}]
[{"$f":"\"\"\" \"& 'BX Language acquisition'!A4876 & \"\"\",\"\"\" & 'BX Language acquisition'!C4876 & \"\"\",\"\"\" & 'BX Language acquisition'!B4876 & \"\"\",\"\"\" & 'BX Language acquisition'!D4876 & \"\"\"\"","v":"\" \",\"\",\"\",\"\""}]
[{"$f":"\"\"\" \"& 'BX Language acquisition'!A4877 & \"\"\",\"\"\" & 'BX Language acquisition'!C4877 & \"\"\",\"\"\" & 'BX Language acquisition'!B4877 & \"\"\",\"\"\" & 'BX Language acquisition'!D4877 & \"\"\"\"","v":"\" \",\"\",\"\",\"\""}]
[{"$f":"\"\"\" \"& 'BX Language acquisition'!A4878 & \"\"\",\"\"\" & 'BX Language acquisition'!C4878 & \"\"\",\"\"\" & 'BX Language acquisition'!B4878 & \"\"\",\"\"\" & 'BX Language acquisition'!D4878 & \"\"\"\"","v":"\" \",\"\",\"\",\"\""}]
[{"$f":"\"\"\" \"& 'BX Language acquisition'!A4879 & \"\"\",\"\"\" & 'BX Language acquisition'!C4879 & \"\"\",\"\"\" & 'BX Language acquisition'!B4879 & \"\"\",\"\"\" & 'BX Language acquisition'!D4879 & \"\"\"\"","v":"\" \",\"\",\"\",\"\""}]
[{"$f":"\"\"\" \"& 'BX Language acquisition'!A4880 & \"\"\",\"\"\" & 'BX Language acquisition'!C4880 & \"\"\",\"\"\" & 'BX Language acquisition'!B4880 & \"\"\",\"\"\" & 'BX Language acquisition'!D4880 & \"\"\"\"","v":"\" \",\"\",\"\",\"\""}]
[{"$f":"\"\"\" \"& 'BX Language acquisition'!A4881 & \"\"\",\"\"\" & 'BX Language acquisition'!C4881 & \"\"\",\"\"\" & 'BX Language acquisition'!B4881 & \"\"\",\"\"\" & 'BX Language acquisition'!D4881 & \"\"\"\"","v":"\" \",\"\",\"\",\"\""}]
[{"$f":"\"\"\" \"& 'BX Language acquisition'!A4882 & \"\"\",\"\"\" & 'BX Language acquisition'!C4882 & \"\"\",\"\"\" & 'BX Language acquisition'!B4882 & \"\"\",\"\"\" & 'BX Language acquisition'!D4882 & \"\"\"\"","v":"\" \",\"\",\"\",\"\""}]
[{"$f":"\"\"\" \"& 'BX Language acquisition'!A4883 & \"\"\",\"\"\" & 'BX Language acquisition'!C4883 & \"\"\",\"\"\" & 'BX Language acquisition'!B4883 & \"\"\",\"\"\" & 'BX Language acquisition'!D4883 & \"\"\"\"","v":"\" \",\"\",\"\",\"\""}]
[{"$f":"\"\"\" \"& 'BX Language acquisition'!A4884 & \"\"\",\"\"\" & 'BX Language acquisition'!C4884 & \"\"\",\"\"\" & 'BX Language acquisition'!B4884 & \"\"\",\"\"\" & 'BX Language acquisition'!D4884 & \"\"\"\"","v":"\" \",\"\",\"\",\"\""}]
[{"$f":"\"\"\" \"& 'BX Language acquisition'!A4885 & \"\"\",\"\"\" & 'BX Language acquisition'!C4885 & \"\"\",\"\"\" & 'BX Language acquisition'!B4885 & \"\"\",\"\"\" & 'BX Language acquisition'!D4885 & \"\"\"\"","v":"\" \",\"\",\"\",\"\""}]
[{"$f":"\"\"\" \"& 'BX Language acquisition'!A4886 & \"\"\",\"\"\" & 'BX Language acquisition'!C4886 & \"\"\",\"\"\" & 'BX Language acquisition'!B4886 & \"\"\",\"\"\" & 'BX Language acquisition'!D4886 & \"\"\"\"","v":"\" \",\"\",\"\",\"\""}]
[{"$f":"\"\"\" \"& 'BX Language acquisition'!A4887 & \"\"\",\"\"\" & 'BX Language acquisition'!C4887 & \"\"\",\"\"\" & 'BX Language acquisition'!B4887 & \"\"\",\"\"\" & 'BX Language acquisition'!D4887 & \"\"\"\"","v":"\" \",\"\",\"\",\"\""}]
[{"$f":"\"\"\" \"& 'BX Language acquisition'!A4888 & \"\"\",\"\"\" & 'BX Language acquisition'!C4888 & \"\"\",\"\"\" & 'BX Language acquisition'!B4888 & \"\"\",\"\"\" & 'BX Language acquisition'!D4888 & \"\"\"\"","v":"\" \",\"\",\"\",\"\""}]
[{"$f":"\"\"\" \"& 'BX Language acquisition'!A4889 & \"\"\",\"\"\" & 'BX Language acquisition'!C4889 & \"\"\",\"\"\" & 'BX Language acquisition'!B4889 & \"\"\",\"\"\" & 'BX Language acquisition'!D4889 & \"\"\"\"","v":"\" \",\"\",\"\",\"\""}]
[{"$f":"\"\"\" \"& 'BX Language acquisition'!A4890 & \"\"\",\"\"\" & 'BX Language acquisition'!C4890 & \"\"\",\"\"\" & 'BX Language acquisition'!B4890 & \"\"\",\"\"\" & 'BX Language acquisition'!D4890 & \"\"\"\"","v":"\" \",\"\",\"\",\"\""}]
[{"$f":"\"\"\" \"& 'BX Language acquisition'!A4891 & \"\"\",\"\"\" & 'BX Language acquisition'!C4891 & \"\"\",\"\"\" & 'BX Language acquisition'!B4891 & \"\"\",\"\"\" & 'BX Language acquisition'!D4891 & \"\"\"\"","v":"\" \",\"\",\"\",\"\""}]
[{"$f":"\"\"\" \"& 'BX Language acquisition'!A4892 & \"\"\",\"\"\" & 'BX Language acquisition'!C4892 & \"\"\",\"\"\" & 'BX Language acquisition'!B4892 & \"\"\",\"\"\" & 'BX Language acquisition'!D4892 & \"\"\"\"","v":"\" \",\"\",\"\",\"\""}]
[{"$f":"\"\"\" \"& 'BX Language acquisition'!A4893 & \"\"\",\"\"\" & 'BX Language acquisition'!C4893 & \"\"\",\"\"\" & 'BX Language acquisition'!B4893 & \"\"\",\"\"\" & 'BX Language acquisition'!D4893 & \"\"\"\"","v":"\" \",\"\",\"\",\"\""}]
[{"$f":"\"\"\" \"& 'BX Language acquisition'!A4894 & \"\"\",\"\"\" & 'BX Language acquisition'!C4894 & \"\"\",\"\"\" & 'BX Language acquisition'!B4894 & \"\"\",\"\"\" & 'BX Language acquisition'!D4894 & \"\"\"\"","v":"\" \",\"\",\"\",\"\""}]
[{"$f":"\"\"\" \"& 'BX Language acquisition'!A4895 & \"\"\",\"\"\" & 'BX Language acquisition'!C4895 & \"\"\",\"\"\" & 'BX Language acquisition'!B4895 & \"\"\",\"\"\" & 'BX Language acquisition'!D4895 & \"\"\"\"","v":"\" \",\"\",\"\",\"\""}]
[{"$f":"\"\"\" \"& 'BX Language acquisition'!A4896 & \"\"\",\"\"\" & 'BX Language acquisition'!C4896 & \"\"\",\"\"\" & 'BX Language acquisition'!B4896 & \"\"\",\"\"\" & 'BX Language acquisition'!D4896 & \"\"\"\"","v":"\" \",\"\",\"\",\"\""}]
[{"$f":"\"\"\" \"& 'BX Language acquisition'!A4897 & \"\"\",\"\"\" & 'BX Language acquisition'!C4897 & \"\"\",\"\"\" & 'BX Language acquisition'!B4897 & \"\"\",\"\"\" & 'BX Language acquisition'!D4897 & \"\"\"\"","v":"\" \",\"\",\"\",\"\""}]
[{"$f":"\"\"\" \"& 'BX Language acquisition'!A4898 & \"\"\",\"\"\" & 'BX Language acquisition'!C4898 & \"\"\",\"\"\" & 'BX Language acquisition'!B4898 & \"\"\",\"\"\" & 'BX Language acquisition'!D4898 & \"\"\"\"","v":"\" \",\"\",\"\",\"\""}]
[{"$f":"\"\"\" \"& 'BX Language acquisition'!A4899 & \"\"\",\"\"\" & 'BX Language acquisition'!C4899 & \"\"\",\"\"\" & 'BX Language acquisition'!B4899 & \"\"\",\"\"\" & 'BX Language acquisition'!D4899 & \"\"\"\"","v":"\" \",\"\",\"\",\"\""}]
[{"$f":"\"\"\" \"& 'BX Language acquisition'!A4900 & \"\"\",\"\"\" & 'BX Language acquisition'!C4900 & \"\"\",\"\"\" & 'BX Language acquisition'!B4900 & \"\"\",\"\"\" & 'BX Language acquisition'!D4900 & \"\"\"\"","v":"\" \",\"\",\"\",\"\""}]
[{"$f":"\"\"\" \"& 'BX Language acquisition'!A4901 & \"\"\",\"\"\" & 'BX Language acquisition'!C4901 & \"\"\",\"\"\" & 'BX Language acquisition'!B4901 & \"\"\",\"\"\" & 'BX Language acquisition'!D4901 & \"\"\"\"","v":"\" \",\"\",\"\",\"\""}]
[{"$f":"\"\"\" \"& 'BX Language acquisition'!A4902 & \"\"\",\"\"\" & 'BX Language acquisition'!C4902 & \"\"\",\"\"\" & 'BX Language acquisition'!B4902 & \"\"\",\"\"\" & 'BX Language acquisition'!D4902 & \"\"\"\"","v":"\" \",\"\",\"\",\"\""}]
[{"$f":"\"\"\" \"& 'BX Language acquisition'!A4903 & \"\"\",\"\"\" & 'BX Language acquisition'!C4903 & \"\"\",\"\"\" & 'BX Language acquisition'!B4903 & \"\"\",\"\"\" & 'BX Language acquisition'!D4903 & \"\"\"\"","v":"\" \",\"\",\"\",\"\""}]
[{"$f":"\"\"\" \"& 'BX Language acquisition'!A4904 & \"\"\",\"\"\" & 'BX Language acquisition'!C4904 & \"\"\",\"\"\" & 'BX Language acquisition'!B4904 & \"\"\",\"\"\" & 'BX Language acquisition'!D4904 & \"\"\"\"","v":"\" \",\"\",\"\",\"\""}]
[{"$f":"\"\"\" \"& 'BX Language acquisition'!A4905 & \"\"\",\"\"\" & 'BX Language acquisition'!C4905 & \"\"\",\"\"\" & 'BX Language acquisition'!B4905 & \"\"\",\"\"\" & 'BX Language acquisition'!D4905 & \"\"\"\"","v":"\" \",\"\",\"\",\"\""}]
[{"$f":"\"\"\" \"& 'BX Language acquisition'!A4906 & \"\"\",\"\"\" & 'BX Language acquisition'!C4906 & \"\"\",\"\"\" & 'BX Language acquisition'!B4906 & \"\"\",\"\"\" & 'BX Language acquisition'!D4906 & \"\"\"\"","v":"\" \",\"\",\"\",\"\""}]
[{"$f":"\"\"\" \"& 'BX Language acquisition'!A4907 & \"\"\",\"\"\" & 'BX Language acquisition'!C4907 & \"\"\",\"\"\" & 'BX Language acquisition'!B4907 & \"\"\",\"\"\" & 'BX Language acquisition'!D4907 & \"\"\"\"","v":"\" \",\"\",\"\",\"\""}]
[{"$f":"\"\"\" \"& 'BX Language acquisition'!A4908 & \"\"\",\"\"\" & 'BX Language acquisition'!C4908 & \"\"\",\"\"\" & 'BX Language acquisition'!B4908 & \"\"\",\"\"\" & 'BX Language acquisition'!D4908 & \"\"\"\"","v":"\" \",\"\",\"\",\"\""}]
[{"$f":"\"\"\" \"& 'BX Language acquisition'!A4909 & \"\"\",\"\"\" & 'BX Language acquisition'!C4909 & \"\"\",\"\"\" & 'BX Language acquisition'!B4909 & \"\"\",\"\"\" & 'BX Language acquisition'!D4909 & \"\"\"\"","v":"\" \",\"\",\"\",\"\""}]
[{"$f":"\"\"\" \"& 'BX Language acquisition'!A4910 & \"\"\",\"\"\" & 'BX Language acquisition'!C4910 & \"\"\",\"\"\" & 'BX Language acquisition'!B4910 & \"\"\",\"\"\" & 'BX Language acquisition'!D4910 & \"\"\"\"","v":"\" \",\"\",\"\",\"\""}]
[{"$f":"\"\"\" \"& 'BX Language acquisition'!A4911 & \"\"\",\"\"\" & 'BX Language acquisition'!C4911 & \"\"\",\"\"\" & 'BX Language acquisition'!B4911 & \"\"\",\"\"\" & 'BX Language acquisition'!D4911 & \"\"\"\"","v":"\" \",\"\",\"\",\"\""}]
[{"$f":"\"\"\" \"& 'BX Language acquisition'!A4912 & \"\"\",\"\"\" & 'BX Language acquisition'!C4912 & \"\"\",\"\"\" & 'BX Language acquisition'!B4912 & \"\"\",\"\"\" & 'BX Language acquisition'!D4912 & \"\"\"\"","v":"\" \",\"\",\"\",\"\""}]
[{"$f":"\"\"\" \"& 'BX Language acquisition'!A4913 & \"\"\",\"\"\" & 'BX Language acquisition'!C4913 & \"\"\",\"\"\" & 'BX Language acquisition'!B4913 & \"\"\",\"\"\" & 'BX Language acquisition'!D4913 & \"\"\"\"","v":"\" \",\"\",\"\",\"\""}]
[{"$f":"\"\"\" \"& 'BX Language acquisition'!A4914 & \"\"\",\"\"\" & 'BX Language acquisition'!C4914 & \"\"\",\"\"\" & 'BX Language acquisition'!B4914 & \"\"\",\"\"\" & 'BX Language acquisition'!D4914 & \"\"\"\"","v":"\" \",\"\",\"\",\"\""}]
[{"$f":"\"\"\" \"& 'BX Language acquisition'!A4915 & \"\"\",\"\"\" & 'BX Language acquisition'!C4915 & \"\"\",\"\"\" & 'BX Language acquisition'!B4915 & \"\"\",\"\"\" & 'BX Language acquisition'!D4915 & \"\"\"\"","v":"\" \",\"\",\"\",\"\""}]
[{"$f":"\"\"\" \"& 'BX Language acquisition'!A4916 & \"\"\",\"\"\" & 'BX Language acquisition'!C4916 & \"\"\",\"\"\" & 'BX Language acquisition'!B4916 & \"\"\",\"\"\" & 'BX Language acquisition'!D4916 & \"\"\"\"","v":"\" \",\"\",\"\",\"\""}]
[{"$f":"\"\"\" \"& 'BX Language acquisition'!A4917 & \"\"\",\"\"\" & 'BX Language acquisition'!C4917 & \"\"\",\"\"\" & 'BX Language acquisition'!B4917 & \"\"\",\"\"\" & 'BX Language acquisition'!D4917 & \"\"\"\"","v":"\" \",\"\",\"\",\"\""}]
[{"$f":"\"\"\" \"& 'BX Language acquisition'!A4918 & \"\"\",\"\"\" & 'BX Language acquisition'!C4918 & \"\"\",\"\"\" & 'BX Language acquisition'!B4918 & \"\"\",\"\"\" & 'BX Language acquisition'!D4918 & \"\"\"\"","v":"\" \",\"\",\"\",\"\""}]
[{"$f":"\"\"\" \"& 'BX Language acquisition'!A4919 & \"\"\",\"\"\" & 'BX Language acquisition'!C4919 & \"\"\",\"\"\" & 'BX Language acquisition'!B4919 & \"\"\",\"\"\" & 'BX Language acquisition'!D4919 & \"\"\"\"","v":"\" \",\"\",\"\",\"\""}]
[{"$f":"\"\"\" \"& 'BX Language acquisition'!A4920 & \"\"\",\"\"\" & 'BX Language acquisition'!C4920 & \"\"\",\"\"\" & 'BX Language acquisition'!B4920 & \"\"\",\"\"\" & 'BX Language acquisition'!D4920 & \"\"\"\"","v":"\" \",\"\",\"\",\"\""}]
[{"$f":"\"\"\" \"& 'BX Language acquisition'!A4921 & \"\"\",\"\"\" & 'BX Language acquisition'!C4921 & \"\"\",\"\"\" & 'BX Language acquisition'!B4921 & \"\"\",\"\"\" & 'BX Language acquisition'!D4921 & \"\"\"\"","v":"\" \",\"\",\"\",\"\""}]
[{"$f":"\"\"\" \"& 'BX Language acquisition'!A4922 & \"\"\",\"\"\" & 'BX Language acquisition'!C4922 & \"\"\",\"\"\" & 'BX Language acquisition'!B4922 & \"\"\",\"\"\" & 'BX Language acquisition'!D4922 & \"\"\"\"","v":"\" \",\"\",\"\",\"\""}]
[{"$f":"\"\"\" \"& 'BX Language acquisition'!A4923 & \"\"\",\"\"\" & 'BX Language acquisition'!C4923 & \"\"\",\"\"\" & 'BX Language acquisition'!B4923 & \"\"\",\"\"\" & 'BX Language acquisition'!D4923 & \"\"\"\"","v":"\" \",\"\",\"\",\"\""}]
[{"$f":"\"\"\" \"& 'BX Language acquisition'!A4924 & \"\"\",\"\"\" & 'BX Language acquisition'!C4924 & \"\"\",\"\"\" & 'BX Language acquisition'!B4924 & \"\"\",\"\"\" & 'BX Language acquisition'!D4924 & \"\"\"\"","v":"\" \",\"\",\"\",\"\""}]
[{"$f":"\"\"\" \"& 'BX Language acquisition'!A4925 & \"\"\",\"\"\" & 'BX Language acquisition'!C4925 & \"\"\",\"\"\" & 'BX Language acquisition'!B4925 & \"\"\",\"\"\" & 'BX Language acquisition'!D4925 & \"\"\"\"","v":"\" \",\"\",\"\",\"\""}]
[{"$f":"\"\"\" \"& 'BX Language acquisition'!A4926 & \"\"\",\"\"\" & 'BX Language acquisition'!C4926 & \"\"\",\"\"\" & 'BX Language acquisition'!B4926 & \"\"\",\"\"\" & 'BX Language acquisition'!D4926 & \"\"\"\"","v":"\" \",\"\",\"\",\"\""}]
[{"$f":"\"\"\" \"& 'BX Language acquisition'!A4927 & \"\"\",\"\"\" & 'BX Language acquisition'!C4927 & \"\"\",\"\"\" & 'BX Language acquisition'!B4927 & \"\"\",\"\"\" & 'BX Language acquisition'!D4927 & \"\"\"\"","v":"\" \",\"\",\"\",\"\""}]
[{"$f":"\"\"\" \"& 'BX Language acquisition'!A4928 & \"\"\",\"\"\" & 'BX Language acquisition'!C4928 & \"\"\",\"\"\" & 'BX Language acquisition'!B4928 & \"\"\",\"\"\" & 'BX Language acquisition'!D4928 & \"\"\"\"","v":"\" \",\"\",\"\",\"\""}]
[{"$f":"\"\"\" \"& 'BX Language acquisition'!A4929 & \"\"\",\"\"\" & 'BX Language acquisition'!C4929 & \"\"\",\"\"\" & 'BX Language acquisition'!B4929 & \"\"\",\"\"\" & 'BX Language acquisition'!D4929 & \"\"\"\"","v":"\" \",\"\",\"\",\"\""}]
[{"$f":"\"\"\" \"& 'BX Language acquisition'!A4930 & \"\"\",\"\"\" & 'BX Language acquisition'!C4930 & \"\"\",\"\"\" & 'BX Language acquisition'!B4930 & \"\"\",\"\"\" & 'BX Language acquisition'!D4930 & \"\"\"\"","v":"\" \",\"\",\"\",\"\""}]
[{"$f":"\"\"\" \"& 'BX Language acquisition'!A4931 & \"\"\",\"\"\" & 'BX Language acquisition'!C4931 & \"\"\",\"\"\" & 'BX Language acquisition'!B4931 & \"\"\",\"\"\" & 'BX Language acquisition'!D4931 & \"\"\"\"","v":"\" \",\"\",\"\",\"\""}]
[{"$f":"\"\"\" \"& 'BX Language acquisition'!A4932 & \"\"\",\"\"\" & 'BX Language acquisition'!C4932 & \"\"\",\"\"\" & 'BX Language acquisition'!B4932 & \"\"\",\"\"\" & 'BX Language acquisition'!D4932 & \"\"\"\"","v":"\" \",\"\",\"\",\"\""}]
[{"$f":"\"\"\" \"& 'BX Language acquisition'!A4933 & \"\"\",\"\"\" & 'BX Language acquisition'!C4933 & \"\"\",\"\"\" & 'BX Language acquisition'!B4933 & \"\"\",\"\"\" & 'BX Language acquisition'!D4933 & \"\"\"\"","v":"\" \",\"\",\"\",\"\""}]
[{"$f":"\"\"\" \"& 'BX Language acquisition'!A4934 & \"\"\",\"\"\" & 'BX Language acquisition'!C4934 & \"\"\",\"\"\" & 'BX Language acquisition'!B4934 & \"\"\",\"\"\" & 'BX Language acquisition'!D4934 & \"\"\"\"","v":"\" \",\"\",\"\",\"\""}]
[{"$f":"\"\"\" \"& 'BX Language acquisition'!A4935 & \"\"\",\"\"\" & 'BX Language acquisition'!C4935 & \"\"\",\"\"\" & 'BX Language acquisition'!B4935 & \"\"\",\"\"\" & 'BX Language acquisition'!D4935 & \"\"\"\"","v":"\" \",\"\",\"\",\"\""}]
[{"$f":"\"\"\" \"& 'BX Language acquisition'!A4936 & \"\"\",\"\"\" & 'BX Language acquisition'!C4936 & \"\"\",\"\"\" & 'BX Language acquisition'!B4936 & \"\"\",\"\"\" & 'BX Language acquisition'!D4936 & \"\"\"\"","v":"\" \",\"\",\"\",\"\""}]
[{"$f":"\"\"\" \"& 'BX Language acquisition'!A4937 & \"\"\",\"\"\" & 'BX Language acquisition'!C4937 & \"\"\",\"\"\" & 'BX Language acquisition'!B4937 & \"\"\",\"\"\" & 'BX Language acquisition'!D4937 & \"\"\"\"","v":"\" \",\"\",\"\",\"\""}]
[{"$f":"\"\"\" \"& 'BX Language acquisition'!A4938 & \"\"\",\"\"\" & 'BX Language acquisition'!C4938 & \"\"\",\"\"\" & 'BX Language acquisition'!B4938 & \"\"\",\"\"\" & 'BX Language acquisition'!D4938 & \"\"\"\"","v":"\" \",\"\",\"\",\"\""}]
[{"$f":"\"\"\" \"& 'BX Language acquisition'!A4939 & \"\"\",\"\"\" & 'BX Language acquisition'!C4939 & \"\"\",\"\"\" & 'BX Language acquisition'!B4939 & \"\"\",\"\"\" & 'BX Language acquisition'!D4939 & \"\"\"\"","v":"\" \",\"\",\"\",\"\""}]
[{"$f":"\"\"\" \"& 'BX Language acquisition'!A4940 & \"\"\",\"\"\" & 'BX Language acquisition'!C4940 & \"\"\",\"\"\" & 'BX Language acquisition'!B4940 & \"\"\",\"\"\" & 'BX Language acquisition'!D4940 & \"\"\"\"","v":"\" \",\"\",\"\",\"\""}]
[{"$f":"\"\"\" \"& 'BX Language acquisition'!A4941 & \"\"\",\"\"\" & 'BX Language acquisition'!C4941 & \"\"\",\"\"\" & 'BX Language acquisition'!B4941 & \"\"\",\"\"\" & 'BX Language acquisition'!D4941 & \"\"\"\"","v":"\" \",\"\",\"\",\"\""}]
[{"$f":"\"\"\" \"& 'BX Language acquisition'!A4942 & \"\"\",\"\"\" & 'BX Language acquisition'!C4942 & \"\"\",\"\"\" & 'BX Language acquisition'!B4942 & \"\"\",\"\"\" & 'BX Language acquisition'!D4942 & \"\"\"\"","v":"\" \",\"\",\"\",\"\""}]
[{"$f":"\"\"\" \"& 'BX Language acquisition'!A4943 & \"\"\",\"\"\" & 'BX Language acquisition'!C4943 & \"\"\",\"\"\" & 'BX Language acquisition'!B4943 & \"\"\",\"\"\" & 'BX Language acquisition'!D4943 & \"\"\"\"","v":"\" \",\"\",\"\",\"\""}]
[{"$f":"\"\"\" \"& 'BX Language acquisition'!A4944 & \"\"\",\"\"\" & 'BX Language acquisition'!C4944 & \"\"\",\"\"\" & 'BX Language acquisition'!B4944 & \"\"\",\"\"\" & 'BX Language acquisition'!D4944 & \"\"\"\"","v":"\" \",\"\",\"\",\"\""}]
[{"$f":"\"\"\" \"& 'BX Language acquisition'!A4945 & \"\"\",\"\"\" & 'BX Language acquisition'!C4945 & \"\"\",\"\"\" & 'BX Language acquisition'!B4945 & \"\"\",\"\"\" & 'BX Language acquisition'!D4945 & \"\"\"\"","v":"\" \",\"\",\"\",\"\""}]
[{"$f":"\"\"\" \"& 'BX Language acquisition'!A4946 & \"\"\",\"\"\" & 'BX Language acquisition'!C4946 & \"\"\",\"\"\" & 'BX Language acquisition'!B4946 & \"\"\",\"\"\" & 'BX Language acquisition'!D4946 & \"\"\"\"","v":"\" \",\"\",\"\",\"\""}]
[{"$f":"\"\"\" \"& 'BX Language acquisition'!A4947 & \"\"\",\"\"\" & 'BX Language acquisition'!C4947 & \"\"\",\"\"\" & 'BX Language acquisition'!B4947 & \"\"\",\"\"\" & 'BX Language acquisition'!D4947 & \"\"\"\"","v":"\" \",\"\",\"\",\"\""}]
[{"$f":"\"\"\" \"& 'BX Language acquisition'!A4948 & \"\"\",\"\"\" & 'BX Language acquisition'!C4948 & \"\"\",\"\"\" & 'BX Language acquisition'!B4948 & \"\"\",\"\"\" & 'BX Language acquisition'!D4948 & \"\"\"\"","v":"\" \",\"\",\"\",\"\""}]
[{"$f":"\"\"\" \"& 'BX Language acquisition'!A4949 & \"\"\",\"\"\" & 'BX Language acquisition'!C4949 & \"\"\",\"\"\" & 'BX Language acquisition'!B4949 & \"\"\",\"\"\" & 'BX Language acquisition'!D4949 & \"\"\"\"","v":"\" \",\"\",\"\",\"\""}]
[{"$f":"\"\"\" \"& 'BX Language acquisition'!A4950 & \"\"\",\"\"\" & 'BX Language acquisition'!C4950 & \"\"\",\"\"\" & 'BX Language acquisition'!B4950 & \"\"\",\"\"\" & 'BX Language acquisition'!D4950 & \"\"\"\"","v":"\" \",\"\",\"\",\"\""}]
[{"$f":"\"\"\" \"& 'BX Language acquisition'!A4951 & \"\"\",\"\"\" & 'BX Language acquisition'!C4951 & \"\"\",\"\"\" & 'BX Language acquisition'!B4951 & \"\"\",\"\"\" & 'BX Language acquisition'!D4951 & \"\"\"\"","v":"\" \",\"\",\"\",\"\""}]
[{"$f":"\"\"\" \"& 'BX Language acquisition'!A4952 & \"\"\",\"\"\" & 'BX Language acquisition'!C4952 & \"\"\",\"\"\" & 'BX Language acquisition'!B4952 & \"\"\",\"\"\" & 'BX Language acquisition'!D4952 & \"\"\"\"","v":"\" \",\"\",\"\",\"\""}]
[{"$f":"\"\"\" \"& 'BX Language acquisition'!A4953 & \"\"\",\"\"\" & 'BX Language acquisition'!C4953 & \"\"\",\"\"\" & 'BX Language acquisition'!B4953 & \"\"\",\"\"\" & 'BX Language acquisition'!D4953 & \"\"\"\"","v":"\" \",\"\",\"\",\"\""}]
[{"$f":"\"\"\" \"& 'BX Language acquisition'!A4954 & \"\"\",\"\"\" & 'BX Language acquisition'!C4954 & \"\"\",\"\"\" & 'BX Language acquisition'!B4954 & \"\"\",\"\"\" & 'BX Language acquisition'!D4954 & \"\"\"\"","v":"\" \",\"\",\"\",\"\""}]
[{"$f":"\"\"\" \"& 'BX Language acquisition'!A4955 & \"\"\",\"\"\" & 'BX Language acquisition'!C4955 & \"\"\",\"\"\" & 'BX Language acquisition'!B4955 & \"\"\",\"\"\" & 'BX Language acquisition'!D4955 & \"\"\"\"","v":"\" \",\"\",\"\",\"\""}]
[{"$f":"\"\"\" \"& 'BX Language acquisition'!A4956 & \"\"\",\"\"\" & 'BX Language acquisition'!C4956 & \"\"\",\"\"\" & 'BX Language acquisition'!B4956 & \"\"\",\"\"\" & 'BX Language acquisition'!D4956 & \"\"\"\"","v":"\" \",\"\",\"\",\"\""}]
[{"$f":"\"\"\" \"& 'BX Language acquisition'!A4957 & \"\"\",\"\"\" & 'BX Language acquisition'!C4957 & \"\"\",\"\"\" & 'BX Language acquisition'!B4957 & \"\"\",\"\"\" & 'BX Language acquisition'!D4957 & \"\"\"\"","v":"\" \",\"\",\"\",\"\""}]
[{"$f":"\"\"\" \"& 'BX Language acquisition'!A4958 & \"\"\",\"\"\" & 'BX Language acquisition'!C4958 & \"\"\",\"\"\" & 'BX Language acquisition'!B4958 & \"\"\",\"\"\" & 'BX Language acquisition'!D4958 & \"\"\"\"","v":"\" \",\"\",\"\",\"\""}]
[{"$f":"\"\"\" \"& 'BX Language acquisition'!A4959 & \"\"\",\"\"\" & 'BX Language acquisition'!C4959 & \"\"\",\"\"\" & 'BX Language acquisition'!B4959 & \"\"\",\"\"\" & 'BX Language acquisition'!D4959 & \"\"\"\"","v":"\" \",\"\",\"\",\"\""}]
[{"$f":"\"\"\" \"& 'BX Language acquisition'!A4960 & \"\"\",\"\"\" & 'BX Language acquisition'!C4960 & \"\"\",\"\"\" & 'BX Language acquisition'!B4960 & \"\"\",\"\"\" & 'BX Language acquisition'!D4960 & \"\"\"\"","v":"\" \",\"\",\"\",\"\""}]
[{"$f":"\"\"\" \"& 'BX Language acquisition'!A4961 & \"\"\",\"\"\" & 'BX Language acquisition'!C4961 & \"\"\",\"\"\" & 'BX Language acquisition'!B4961 & \"\"\",\"\"\" & 'BX Language acquisition'!D4961 & \"\"\"\"","v":"\" \",\"\",\"\",\"\""}]
[{"$f":"\"\"\" \"& 'BX Language acquisition'!A4962 & \"\"\",\"\"\" & 'BX Language acquisition'!C4962 & \"\"\",\"\"\" & 'BX Language acquisition'!B4962 & \"\"\",\"\"\" & 'BX Language acquisition'!D4962 & \"\"\"\"","v":"\" \",\"\",\"\",\"\""}]
[{"$f":"\"\"\" \"& 'BX Language acquisition'!A4963 & \"\"\",\"\"\" & 'BX Language acquisition'!C4963 & \"\"\",\"\"\" & 'BX Language acquisition'!B4963 & \"\"\",\"\"\" & 'BX Language acquisition'!D4963 & \"\"\"\"","v":"\" \",\"\",\"\",\"\""}]
[{"$f":"\"\"\" \"& 'BX Language acquisition'!A4964 & \"\"\",\"\"\" & 'BX Language acquisition'!C4964 & \"\"\",\"\"\" & 'BX Language acquisition'!B4964 & \"\"\",\"\"\" & 'BX Language acquisition'!D4964 & \"\"\"\"","v":"\" \",\"\",\"\",\"\""}]
[{"$f":"\"\"\" \"& 'BX Language acquisition'!A4965 & \"\"\",\"\"\" & 'BX Language acquisition'!C4965 & \"\"\",\"\"\" & 'BX Language acquisition'!B4965 & \"\"\",\"\"\" & 'BX Language acquisition'!D4965 & \"\"\"\"","v":"\" \",\"\",\"\",\"\""}]
[{"$f":"\"\"\" \"& 'BX Language acquisition'!A4966 & \"\"\",\"\"\" & 'BX Language acquisition'!C4966 & \"\"\",\"\"\" & 'BX Language acquisition'!B4966 & \"\"\",\"\"\" & 'BX Language acquisition'!D4966 & \"\"\"\"","v":"\" \",\"\",\"\",\"\""}]
[{"$f":"\"\"\" \"& 'BX Language acquisition'!A4967 & \"\"\",\"\"\" & 'BX Language acquisition'!C4967 & \"\"\",\"\"\" & 'BX Language acquisition'!B4967 & \"\"\",\"\"\" & 'BX Language acquisition'!D4967 & \"\"\"\"","v":"\" \",\"\",\"\",\"\""}]
[{"$f":"\"\"\" \"& 'BX Language acquisition'!A4968 & \"\"\",\"\"\" & 'BX Language acquisition'!C4968 & \"\"\",\"\"\" & 'BX Language acquisition'!B4968 & \"\"\",\"\"\" & 'BX Language acquisition'!D4968 & \"\"\"\"","v":"\" \",\"\",\"\",\"\""}]
[{"$f":"\"\"\" \"& 'BX Language acquisition'!A4969 & \"\"\",\"\"\" & 'BX Language acquisition'!C4969 & \"\"\",\"\"\" & 'BX Language acquisition'!B4969 & \"\"\",\"\"\" & 'BX Language acquisition'!D4969 & \"\"\"\"","v":"\" \",\"\",\"\",\"\""}]
[{"$f":"\"\"\" \"& 'BX Language acquisition'!A4970 & \"\"\",\"\"\" & 'BX Language acquisition'!C4970 & \"\"\",\"\"\" & 'BX Language acquisition'!B4970 & \"\"\",\"\"\" & 'BX Language acquisition'!D4970 & \"\"\"\"","v":"\" \",\"\",\"\",\"\""}]
[{"$f":"\"\"\" \"& 'BX Language acquisition'!A4971 & \"\"\",\"\"\" & 'BX Language acquisition'!C4971 & \"\"\",\"\"\" & 'BX Language acquisition'!B4971 & \"\"\",\"\"\" & 'BX Language acquisition'!D4971 & \"\"\"\"","v":"\" \",\"\",\"\",\"\""}]
[{"$f":"\"\"\" \"& 'BX Language acquisition'!A4972 & \"\"\",\"\"\" & 'BX Language acquisition'!C4972 & \"\"\",\"\"\" & 'BX Language acquisition'!B4972 & \"\"\",\"\"\" & 'BX Language acquisition'!D4972 & \"\"\"\"","v":"\" \",\"\",\"\",\"\""}]
[{"$f":"\"\"\" \"& 'BX Language acquisition'!A4973 & \"\"\",\"\"\" & 'BX Language acquisition'!C4973 & \"\"\",\"\"\" & 'BX Language acquisition'!B4973 & \"\"\",\"\"\" & 'BX Language acquisition'!D4973 & \"\"\"\"","v":"\" \",\"\",\"\",\"\""}]
[{"$f":"\"\"\" \"& 'BX Language acquisition'!A4974 & \"\"\",\"\"\" & 'BX Language acquisition'!C4974 & \"\"\",\"\"\" & 'BX Language acquisition'!B4974 & \"\"\",\"\"\" & 'BX Language acquisition'!D4974 & \"\"\"\"","v":"\" \",\"\",\"\",\"\""}]
[{"$f":"\"\"\" \"& 'BX Language acquisition'!A4975 & \"\"\",\"\"\" & 'BX Language acquisition'!C4975 & \"\"\",\"\"\" & 'BX Language acquisition'!B4975 & \"\"\",\"\"\" & 'BX Language acquisition'!D4975 & \"\"\"\"","v":"\" \",\"\",\"\",\"\""}]
[{"$f":"\"\"\" \"& 'BX Language acquisition'!A4976 & \"\"\",\"\"\" & 'BX Language acquisition'!C4976 & \"\"\",\"\"\" & 'BX Language acquisition'!B4976 & \"\"\",\"\"\" & 'BX Language acquisition'!D4976 & \"\"\"\"","v":"\" \",\"\",\"\",\"\""}]
[{"$f":"\"\"\" \"& 'BX Language acquisition'!A4977 & \"\"\",\"\"\" & 'BX Language acquisition'!C4977 & \"\"\",\"\"\" & 'BX Language acquisition'!B4977 & \"\"\",\"\"\" & 'BX Language acquisition'!D4977 & \"\"\"\"","v":"\" \",\"\",\"\",\"\""}]
[{"$f":"\"\"\" \"& 'BX Language acquisition'!A4978 & \"\"\",\"\"\" & 'BX Language acquisition'!C4978 & \"\"\",\"\"\" & 'BX Language acquisition'!B4978 & \"\"\",\"\"\" & 'BX Language acquisition'!D4978 & \"\"\"\"","v":"\" \",\"\",\"\",\"\""}]
[{"$f":"\"\"\" \"& 'BX Language acquisition'!A4979 & \"\"\",\"\"\" & 'BX Language acquisition'!C4979 & \"\"\",\"\"\" & 'BX Language acquisition'!B4979 & \"\"\",\"\"\" & 'BX Language acquisition'!D4979 & \"\"\"\"","v":"\" \",\"\",\"\",\"\""}]
[{"$f":"\"\"\" \"& 'BX Language acquisition'!A4980 & \"\"\",\"\"\" & 'BX Language acquisition'!C4980 & \"\"\",\"\"\" & 'BX Language acquisition'!B4980 & \"\"\",\"\"\" & 'BX Language acquisition'!D4980 & \"\"\"\"","v":"\" \",\"\",\"\",\"\""}]
[{"$f":"\"\"\" \"& 'BX Language acquisition'!A4981 & \"\"\",\"\"\" & 'BX Language acquisition'!C4981 & \"\"\",\"\"\" & 'BX Language acquisition'!B4981 & \"\"\",\"\"\" & 'BX Language acquisition'!D4981 & \"\"\"\"","v":"\" \",\"\",\"\",\"\""}]
[{"$f":"\"\"\" \"& 'BX Language acquisition'!A4982 & \"\"\",\"\"\" & 'BX Language acquisition'!C4982 & \"\"\",\"\"\" & 'BX Language acquisition'!B4982 & \"\"\",\"\"\" & 'BX Language acquisition'!D4982 & \"\"\"\"","v":"\" \",\"\",\"\",\"\""}]
[{"$f":"\"\"\" \"& 'BX Language acquisition'!A4983 & \"\"\",\"\"\" & 'BX Language acquisition'!C4983 & \"\"\",\"\"\" & 'BX Language acquisition'!B4983 & \"\"\",\"\"\" & 'BX Language acquisition'!D4983 & \"\"\"\"","v":"\" \",\"\",\"\",\"\""}]
[{"$f":"\"\"\" \"& 'BX Language acquisition'!A4984 & \"\"\",\"\"\" & 'BX Language acquisition'!C4984 & \"\"\",\"\"\" & 'BX Language acquisition'!B4984 & \"\"\",\"\"\" & 'BX Language acquisition'!D4984 & \"\"\"\"","v":"\" \",\"\",\"\",\"\""}]
[{"$f":"\"\"\" \"& 'BX Language acquisition'!A4985 & \"\"\",\"\"\" & 'BX Language acquisition'!C4985 & \"\"\",\"\"\" & 'BX Language acquisition'!B4985 & \"\"\",\"\"\" & 'BX Language acquisition'!D4985 & \"\"\"\"","v":"\" \",\"\",\"\",\"\""}]
[{"$f":"\"\"\" \"& 'BX Language acquisition'!A4986 & \"\"\",\"\"\" & 'BX Language acquisition'!C4986 & \"\"\",\"\"\" & 'BX Language acquisition'!B4986 & \"\"\",\"\"\" & 'BX Language acquisition'!D4986 & \"\"\"\"","v":"\" \",\"\",\"\",\"\""}]
[{"$f":"\"\"\" \"& 'BX Language acquisition'!A4987 & \"\"\",\"\"\" & 'BX Language acquisition'!C4987 & \"\"\",\"\"\" & 'BX Language acquisition'!B4987 & \"\"\",\"\"\" & 'BX Language acquisition'!D4987 & \"\"\"\"","v":"\" \",\"\",\"\",\"\""}]
[{"$f":"\"\"\" \"& 'BX Language acquisition'!A4988 & \"\"\",\"\"\" & 'BX Language acquisition'!C4988 & \"\"\",\"\"\" & 'BX Language acquisition'!B4988 & \"\"\",\"\"\" & 'BX Language acquisition'!D4988 & \"\"\"\"","v":"\" \",\"\",\"\",\"\""}]
[{"$f":"\"\"\" \"& 'BX Language acquisition'!A4989 & \"\"\",\"\"\" & 'BX Language acquisition'!C4989 & \"\"\",\"\"\" & 'BX Language acquisition'!B4989 & \"\"\",\"\"\" & 'BX Language acquisition'!D4989 & \"\"\"\"","v":"\" \",\"\",\"\",\"\""}]
[{"$f":"\"\"\" \"& 'BX Language acquisition'!A4990 & \"\"\",\"\"\" & 'BX Language acquisition'!C4990 & \"\"\",\"\"\" & 'BX Language acquisition'!B4990 & \"\"\",\"\"\" & 'BX Language acquisition'!D4990 & \"\"\"\"","v":"\" \",\"\",\"\",\"\""}]
[{"$f":"\"\"\" \"& 'BX Language acquisition'!A4991 & \"\"\",\"\"\" & 'BX Language acquisition'!C4991 & \"\"\",\"\"\" & 'BX Language acquisition'!B4991 & \"\"\",\"\"\" & 'BX Language acquisition'!D4991 & \"\"\"\"","v":"\" \",\"\",\"\",\"\""}]
[{"$f":"\"\"\" \"& 'BX Language acquisition'!A4992 & \"\"\",\"\"\" & 'BX Language acquisition'!C4992 & \"\"\",\"\"\" & 'BX Language acquisition'!B4992 & \"\"\",\"\"\" & 'BX Language acquisition'!D4992 & \"\"\"\"","v":"\" \",\"\",\"\",\"\""}]
[{"$f":"\"\"\" \"& 'BX Language acquisition'!A4993 & \"\"\",\"\"\" & 'BX Language acquisition'!C4993 & \"\"\",\"\"\" & 'BX Language acquisition'!B4993 & \"\"\",\"\"\" & 'BX Language acquisition'!D4993 & \"\"\"\"","v":"\" \",\"\",\"\",\"\""}]
[{"$f":"\"\"\" \"& 'BX Language acquisition'!A4994 & \"\"\",\"\"\" & 'BX Language acquisition'!C4994 & \"\"\",\"\"\" & 'BX Language acquisition'!B4994 & \"\"\",\"\"\" & 'BX Language acquisition'!D4994 & \"\"\"\"","v":"\" \",\"\",\"\",\"\""}]
[{"$f":"\"\"\" \"& 'BX Language acquisition'!A4995 & \"\"\",\"\"\" & 'BX Language acquisition'!C4995 & \"\"\",\"\"\" & 'BX Language acquisition'!B4995 & \"\"\",\"\"\" & 'BX Language acquisition'!D4995 & \"\"\"\"","v":"\" \",\"\",\"\",\"\""}]
[{"$f":"\"\"\" \"& 'BX Language acquisition'!A4996 & \"\"\",\"\"\" & 'BX Language acquisition'!C4996 & \"\"\",\"\"\" & 'BX Language acquisition'!B4996 & \"\"\",\"\"\" & 'BX Language acquisition'!D4996 & \"\"\"\"","v":"\" \",\"\",\"\",\"\""}]
[{"$f":"\"\"\" \"& 'BX Language acquisition'!A4997 & \"\"\",\"\"\" & 'BX Language acquisition'!C4997 & \"\"\",\"\"\" & 'BX Language acquisition'!B4997 & \"\"\",\"\"\" & 'BX Language acquisition'!D4997 & \"\"\"\"","v":"\" \",\"\",\"\",\"\""}]

{"sheet":"Anki","index":2,"n_rows":5006,"n_cols":8,"rows_kept":5006,"cut":false,"hidden":false,"merged":[]}
["Данные для бесплатной программы «Anki» https://apps.ankiweb.net/  и AnkiDroid флэш-карты https://play.google.com/store/apps/details?id=com.ichi2.anki&hl=ru&gl=US"]
["Обычно достаточно 3 поля: информация лица карты, оборот и метки. Однако, в данном случае я формирую для себя больше полей."]
["Слово","Транскрипция","Звуковой файл MP3","Перевод","Ассоциация","Рисунок JPG","Пояснение","Метки"]
[]
["Исходный каталог звуковых файлов MP3:",null,"D:\\H\\KAIU\\Клавиатурный тренажёр АК\\Words\\"]
["Исходный каталог файлов изображений JPG:",null,"D:\\H\\KAIU\\Клавиатурный тренажёр АК\\Dic\\Image\\"]
["Переписать в ваш каталог ANKI:",null,"C:\\Users\\Andr\\AppData\\Roaming\\Anki2\\1-й пользователь\\collection.media\\"]
["обычно где-то тут: «C:\\Users\\ИМЯ_ПОЛЬЗОВАТЕЛЯ\\AppData\\Roaming\\Anki2\\1-й пользователь\\collection.media\\»"]
[]
["Тест можно копировать в файл TXT с 11 строки (UTF-8 кодировка)"]
[{"$f":"'BX Language acquisition'!A2","v":"aboard"},{"$f":"'BX Language acquisition'!B2","v":"[ǝʹbɔ:d]"},"[sound:aboard.mp3]",{"$f":"'BX Language acquisition'!C2","v":"на борту, вдоль"},{"$f":"'BX Language acquisition'!D2","v":"АБОРТ ей сделали на борту самолета"},null,null,"100_Основных_Местоимений_Предлогов_Английского"]
[{"$f":"'BX Language acquisition'!A3","v":"about"},{"$f":"'BX Language acquisition'!B3","v":"[ǝʹbaut]"},"[sound:about.mp3]",{"$f":"'BX Language acquisition'!C3","v":"о, около, вокруг"},{"$f":"'BX Language acquisition'!D3","v":"О чем репортаж? Да вокру все ЭБАНУТые"},null,null,"100_Основных_Местоимений_Предлогов_Английского"]
[{"$f":"'BX Language acquisition'!A4","v":"above"},{"$f":"'BX Language acquisition'!B4","v":"[ǝʹbʌv]"},"[sound:above.mp3]",{"$f":"'BX Language acquisition'!C4","v":"над, до"},{"$f":"'BX Language acquisition'!D4","v":"А БОг Выше нас всех находится"},null,null,"100_Основных_Местоимений_Предлогов_Английского"]
[{"$f":"'BX Language acquisition'!A5","v":"according to"},{"$f":"'BX Language acquisition'!B5","v":"[ǝʹkɔ:dıŋ tu:]"},"[sound:according.mp3]",{"$f":"'BX Language acquisition'!C5","v":"в соответствии с"},{"$f":"'BX Language acquisition'!D5","v":"Учительница музыки говорит ученику: Возьми АКОРД согласно нотам"},null,null,"100_Основных_Местоимений_Предлогов_Английского"]
[{"$f":"'BX Language acquisition'!A6","v":"across"},{"$f":"'BX Language acquisition'!B6","v":"[ǝʹkrɔs]"},"[sound:across.mp3]",{"$f":"'BX Language acquisition'!C6","v":"через, поперек"},{"$f":"'BX Language acquisition'!D6","v":"А КРОСС всемирный собрал всех бегунов через препятствие"},null,null,"100_Основных_Местоимений_Предлогов_Английского"]
[{"$f":"'BX Language acquisition'!A7","v":"after"},{"$f":"'BX Language acquisition'!B7","v":"[ʹɑ:ftǝ]"},"[sound:after.mp3]",{"$f":"'BX Language acquisition'!C7","v":"после"},{"$f":"'BX Language acquisition'!D7","v":"После АВТО-мобиля следует мотоцикл"},"<img src=\"after.jpg\">",null,"100_Основных_Местоимений_Предлогов_Английского"]
[{"$f":"'BX Language acquisition'!A8","v":"against"},{"$f":"'BX Language acquisition'!B8","v":"[ǝʹgenst]"},"[sound:against.mp3]",{"$f":"'BX Language acquisition'!C8","v":"против"},{"$f":"'BX Language acquisition'!D8","v":"Против работников ЭГЕНСТва (агентства) недвижимости выдвинуто обвинение"},null,null,"100_Основных_Местоимений_Предлогов_Английского"]
[{"$f":"'BX Language acquisition'!A9","v":"along"},{"$f":"'BX Language acquisition'!B9","v":"[ǝʹlɔŋ]"},"[sound:along.mp3]",{"$f":"'BX Language acquisition'!C9","v":"вдоль, по"},{"$f":"'BX Language acquisition'!D9","v":"ЭшЕЛОНг шел вдоль леса по шпалам"},null,null,"100_Основных_Местоимений_Предлогов_Английского"]
[{"$f":"'BX Language acquisition'!A10","v":"among"},{"$f":"'BX Language acquisition'!B10","v":"[ǝʹmʌŋ]"},"[sound:among.mp3]",{"$f":"'BX Language acquisition'!C10","v":"среди"},{"$f":"'BX Language acquisition'!D10","v":"А МАНГолы среди узкоглазых самые ускоглазые."},"<img src=\"among.jpg\">",null,"100_Основных_Местоимений_Предлогов_Английского"]
[{"$f":"'BX Language acquisition'!A11","v":"around"},{"$f":"'BX Language acquisition'!B11","v":"[ǝʹraund]"},"[sound:around.mp3]",{"$f":"'BX Language acquisition'!C11","v":"около, вокруг"},{"$f":"'BX Language acquisition'!D11","v":"хотя пЕрвый РАУНД еще не начался, вокруг ринга уже собралось много народа"},null,null,"100_Основных_Местоимений_Предлогов_Английского"]
[{"$f":"'BX Language acquisition'!A12","v":"as"},{"$f":"'BX Language acquisition'!B12","v":"[æz]"},"[sound:as.mp3]",{"$f":"'BX Language acquisition'!C12","v":"как"},{"$f":"'BX Language acquisition'!D12","v":"Так как ЭЗбука Морзе придумана гениально…"},null,null,"100_Основных_Местоимений_Предлогов_Английского"]
[{"$f":"'BX Language acquisition'!A13","v":"at"},{"$f":"'BX Language acquisition'!B13","v":"[æt]"},"[sound:at.mp3]",{"$f":"'BX Language acquisition'!C13","v":"в, у (где?)"},{"$f":"'BX Language acquisition'!D13","v":"на кАТке, в хАТе"},null,null,"100_Основных_Местоимений_Предлогов_Английского"]
[{"$f":"'BX Language acquisition'!A14","v":"because of"},{"$f":"'BX Language acquisition'!B14","v":"[bıʹkɔz ɔv]"},"[sound:because.mp3]",{"$f":"'BX Language acquisition'!C14","v":"из-за"},{"$f":"'BX Language acquisition'!D14","v":"ПолюБИшь и КОЗла потому что любовь зла! (be-быть, cause-причинять, вызывать)"},null,null,"100_Основных_Местоимений_Предлогов_Английского"]
[{"$f":"'BX Language acquisition'!A15","v":"before"},{"$f":"'BX Language acquisition'!B15","v":"[bıʹfɔ:]"},"[sound:before.mp3]",{"$f":"'BX Language acquisition'!C15","v":"до, прежде"},{"$f":"'BX Language acquisition'!D15","v":"ЛюБИ ФОрель прежде чем стать рыбаком"},"<img src=\"before.jpg\">",null,"100_Основных_Местоимений_Предлогов_Английского"]
[{"$f":"'BX Language acquisition'!A16","v":"behind"},{"$f":"'BX Language acquisition'!B16","v":"[bıʹhaınd]"},"[sound:behind.mp3]",{"$f":"'BX Language acquisition'!C16","v":"за, позади"},{"$f":"'BX Language acquisition'!D16","v":"Сзади он ее ПИХАЕТ"},"<img src=\"behind.jpg\">",null,"100_Основных_Местоимений_Предлогов_Английского"]
[{"$f":"'BX Language acquisition'!A17","v":"below"},{"$f":"'BX Language acquisition'!B17","v":"[bıʹlǝu]"},"[sound:below.mp3]",{"$f":"'BX Language acquisition'!C17","v":"ниже"},{"$f":"'BX Language acquisition'!D17","v":"Внизу все БЕЛО"},"<img src=\"below.jpg\">",null,"100_Основных_Местоимений_Предлогов_Английского"]
[{"$f":"'BX Language acquisition'!A18","v":"beside"},{"$f":"'BX Language acquisition'!B18","v":"[bıʹsaıd]"},"[sound:beside.mp3]",{"$f":"'BX Language acquisition'!C18","v":"рядом"},{"$f":"'BX Language acquisition'!D18","v":"БЕСЕДка рядом с домом~ садись рядом будем БЕСЕДовать"},null,null,"100_Основных_Местоимений_Предлогов_Английского"]
[{"$f":"'BX Language acquisition'!A19","v":"besides"},{"$f":"'BX Language acquisition'!B19","v":"[bıʹsaıdz]"},"[sound:besides.mp3]",{"$f":"'BX Language acquisition'!C19","v":"кроме того"},{"$f":"'BX Language acquisition'!D19","v":"кроме того, ваша собака Была в САДу и повредила лапу"},null,null,"100_Основных_Местоимений_Предлогов_Английского"]
[{"$f":"'BX Language acquisition'!A20","v":"between"},{"$f":"'BX Language acquisition'!B20","v":"[bıʹtwi:n]"},"[sound:between.mp3]",{"$f":"'BX Language acquisition'!C20","v":"между"},{"$f":"'BX Language acquisition'!D20","v":"Среди БИТВы между ИНвалидами, я чувствовал себя неуютно~ БЕДУИН между ног почесал себе"},"<img src=\"between.jpg\">",null,"100_Основных_Местоимений_Предлогов_Английского"]
[{"$f":"'BX Language acquisition'!A21","v":"beyond"},{"$f":"'BX Language acquisition'!B21","v":"[bıʹjɔnd]"},"[sound:beyond.mp3]",{"$f":"'BX Language acquisition'!C21","v":"за, по ту сторону"},{"$f":"'BX Language acquisition'!D21","v":"За забором лежит БИЙОНДца (пьяница)"},null,null,"100_Основных_Местоимений_Предлогов_Английского"]
[{"$f":"'BX Language acquisition'!A22","v":"but"},{"$f":"'BX Language acquisition'!B22","v":"[bʌt]"},"[sound:but.mp3]",{"$f":"'BX Language acquisition'!C22","v":"но, кроме"},{"$f":"'BX Language acquisition'!D22","v":"Но кроме БАТона он ничего не принес на закуску~ Но, БАТый ведь новый уже у стен кремля?"},"<img src=\"but.jpg\">",null,"100_Основных_Местоимений_Предлогов_Английского"]
[{"$f":"'BX Language acquisition'!A23","v":"by"},{"$f":"'BX Language acquisition'!B23","v":"[baı]"},"[sound:by.mp3]",{"$f":"'BX Language acquisition'!C23","v":"по, около, у"},{"$f":"'BX Language acquisition'!D23","v":"мы ночуем у БАЙкала"},null,null,"100_Основных_Местоимений_Предлогов_Английского"]
[{"$f":"'BX Language acquisition'!A24","v":"down"},{"$f":"'BX Language acquisition'!B24","v":"[daun]"},"[sound:down.mp3]",{"$f":"'BX Language acquisition'!C24","v":"вниз"},{"$f":"'BX Language acquisition'!D24","v":"при болезни ДАУНа развитие идет не вверх, а вниз~ Болезнь ДАУНа вниз бросает людей"},"<img src=\"down.jpg\">",null,"100_Основных_Местоимений_Предлогов_Английского"]
[{"$f":"'BX Language acquisition'!A25","v":"during"},{"$f":"'BX Language acquisition'!B25","v":"[ʹdjuǝrıŋ]"},"[sound:during.mp3]",{"$f":"'BX Language acquisition'!C25","v":"во время"},{"$f":"'BX Language acquisition'!D25","v":"Во время учебы мы валяли ДЙУРИКа и от того ничего и не знаем"},null,null,"100_Основных_Местоимений_Предлогов_Английского"]
[{"$f":"'BX Language acquisition'!A26","v":"following"},{"$f":"'BX Language acquisition'!B26","v":"[ʹfɔlǝuıŋ]"},"[sound:following.mp3]",{"$f":"'BX Language acquisition'!C26","v":"после, следующий"},{"$f":"'BX Language acquisition'!D26","v":"Все женщины следуют за крепким ФОЛОУсом (фалосом)"},null,null,"100_Основных_Местоимений_Предлогов_Английского"]
[{"$f":"'BX Language acquisition'!A27","v":"for"},{"$f":"'BX Language acquisition'!B27","v":"[fɔ:]"},"[sound:for.mp3]",{"$f":"'BX Language acquisition'!C27","v":"для, за"},{"$f":"'BX Language acquisition'!D27","v":"для ФОРмулы, за ней есть описание"},null,null,"100_Основных_Местоимений_Предлогов_Английского"]
[{"$f":"'BX Language acquisition'!A28","v":"from"},{"$f":"'BX Language acquisition'!B28","v":"[frɔm]"},"[sound:from.mp3]",{"$f":"'BX Language acquisition'!C28","v":"от, из"},{"$f":"'BX Language acquisition'!D28","v":"гость из ФРанции отказался от рОМа"},null,null,"100_Основных_Местоимений_Предлогов_Английского"]
[{"$f":"'BX Language acquisition'!A29","v":"in"},{"$f":"'BX Language acquisition'!B29","v":"[ın]"},"[sound:in.mp3]",{"$f":"'BX Language acquisition'!C29","v":"в"},{"$f":"'BX Language acquisition'!D29","v":"в ИНкубаторе"},null,null,"100_Основных_Местоимений_Предлогов_Английского"]
[{"$f":"'BX Language acquisition'!A30","v":"inside"},{"$f":"'BX Language acquisition'!B30","v":"[ʹınʹsaıd]"},"[sound:inside.mp3]",{"$f":"'BX Language acquisition'!C30","v":"внутри"},{"$f":"'BX Language acquisition'!D30","v":"И НаСАДили внутри рассаду"},null,null,"100_Основных_Местоимений_Предлогов_Английского"]
[{"$f":"'BX Language acquisition'!A31","v":"into"},{"$f":"'BX Language acquisition'!B31","v":"[ʹıntu]"},"[sound:into.mp3]",{"$f":"'BX Language acquisition'!C31","v":"во, в, внутрь"},{"$f":"'BX Language acquisition'!D31","v":"Внутри каждого человека живет ИНТУиция"},null,null,"100_Основных_Местоимений_Предлогов_Английского"]
[{"$f":"'BX Language acquisition'!A32","v":"like"},{"$f":"'BX Language acquisition'!B32","v":"[laık]"},"[sound:like.mp3]",{"$f":"'BX Language acquisition'!C32","v":"как, нравится, подобно"},{"$f":"'BX Language acquisition'!D32","v":"Мне нравится ЛАЙКа~ Ему нравится ЛАЙКовая куртка"},"<img src=\"like.jpg\">",null,"100_Основных_Местоимений_Предлогов_Английского"]
[{"$f":"'BX Language acquisition'!A33","v":"near"},{"$f":"'BX Language acquisition'!B33","v":"[nıǝ]"},"[sound:near.mp3]",{"$f":"'BX Language acquisition'!C33","v":"около"},{"$f":"'BX Language acquisition'!D33","v":"НИ Я рядом был~ Ни я был рядом с ней"},"<img src=\"near.jpg\">",null,"100_Основных_Местоимений_Предлогов_Английского"]
[{"$f":"'BX Language acquisition'!A34","v":"next"},{"$f":"'BX Language acquisition'!B34","v":"[nekst]"},"[sound:next.mp3]",{"$f":"'BX Language acquisition'!C34","v":"рядом, следующий"},{"$f":"'BX Language acquisition'!D34","v":"Вы пришли НЕ КСТати, в следующий раз приходите"},"<img src=\"next.jpg\">",null,"100_Основных_Местоимений_Предлогов_Английского"]
[{"$f":"'BX Language acquisition'!A35","v":"of"},{"$f":"'BX Language acquisition'!B35","v":"[ɔv]"},"[sound:of.mp3]",{"$f":"'BX Language acquisition'!C35","v":"из, от, к"},{"$f":"'BX Language acquisition'!D35","v":"OFицер из штаба?"},null,null,"100_Основных_Местоимений_Предлогов_Английского"]
[{"$f":"'BX Language acquisition'!A36","v":"off"},{"$f":"'BX Language acquisition'!B36","v":"[ɔf]"},"[sound:off.mp3]",{"$f":"'BX Language acquisition'!C36","v":"от, выкл., прочь"},{"$f":"'BX Language acquisition'!D36","v":"прочь из Афгана"},null,null,"100_Основных_Местоимений_Предлогов_Английского"]
[{"$f":"'BX Language acquisition'!A37","v":"on"},{"$f":"'BX Language acquisition'!B37","v":"[ɔn]"},"[sound:on.mp3]",{"$f":"'BX Language acquisition'!C37","v":"на"},{"$f":"'BX Language acquisition'!D37","v":"ON находиться на высокой крыше"},null,null,"100_Основных_Местоимений_Предлогов_Английского"]
[{"$f":"'BX Language acquisition'!A38","v":"out"},{"$f":"'BX Language acquisition'!B38","v":"[aut]"},"[sound:out.mp3]",{"$f":"'BX Language acquisition'!C38","v":"из, вне, снаружи"},{"$f":"'BX Language acquisition'!D38","v":"АУТсайдер - вне жизни оказывается"},"<img src=\"out.jpg\">",null,"100_Основных_Местоимений_Предлогов_Английского"]
[{"$f":"'BX Language acquisition'!A39","v":"outside"},{"$f":"'BX Language acquisition'!B39","v":"[ʹautʹsaıd]"},"[sound:outside.mp3]",{"$f":"'BX Language acquisition'!C39","v":"за пределами"},{"$f":"'BX Language acquisition'!D39","v":"За пределами дома - снаружи стороны дома (out - снуружи, side - сторона)"},null,null,"100_Основных_Местоимений_Предлогов_Английского"]
[{"$f":"'BX Language acquisition'!A40","v":"over"},{"$f":"'BX Language acquisition'!B40","v":"[ʹǝuvǝ]"},"[sound:over.mp3]",{"$f":"'BX Language acquisition'!C40","v":"над, выше, более"},{"$f":"'BX Language acquisition'!D40","v":"Он ОУВЭжает (уважает) только тех, кто стоит над ним"},"<img src=\"over.jpg\">",null,"100_Основных_Местоимений_Предлогов_Английского"]
[{"$f":"'BX Language acquisition'!A41","v":"past"},{"$f":"'BX Language acquisition'!B41","v":"[pɑ:st]"},"[sound:past.mp3]",{"$f":"'BX Language acquisition'!C41","v":"мимо, за, после"},{"$f":"'BX Language acquisition'!D41","v":"В прошлом ПАСТы зубной не было"},"<img src=\"past.jpg\">",null,"100_Основных_Местоимений_Предлогов_Английского"]
[{"$f":"'BX Language acquisition'!A42","v":"per"},{"$f":"'BX Language acquisition'!B42","v":"[pǝ:]"},"[sound:per.mp3]",{"$f":"'BX Language acquisition'!C42","v":"по, согласно"},{"$f":"'BX Language acquisition'!D42","v":"ПЭ - по"},null,null,"100_Основных_Местоимений_Предлогов_Английского"]
[{"$f":"'BX Language acquisition'!A43","v":"round"},{"$f":"'BX Language acquisition'!B43","v":"[raund]"},"[sound:round.mp3]",{"$f":"'BX Language acquisition'!C43","v":"кругом, вокруг"},{"$f":"'BX Language acquisition'!D43","v":"Весь РАУНД арбитр крутился вокруг боксеров"},"<img src=\"round.jpg\">",null,"100_Основных_Местоимений_Предлогов_Английского"]
[{"$f":"'BX Language acquisition'!A44","v":"since"},{"$f":"'BX Language acquisition'!B44","v":"[sıns]"},"[sound:since.mp3]",{"$f":"'BX Language acquisition'!C44","v":"с тех пор"},{"$f":"'BX Language acquisition'!D44","v":"С тех пор СИНСация (сенсация) следовала за сенсацией"},"<img src=\"since.jpg\">",null,"100_Основных_Местоимений_Предлогов_Английского"]
[{"$f":"'BX Language acquisition'!A45","v":"through"},{"$f":"'BX Language acquisition'!B45","v":"[Өru:]"},"[sound:through.mp3]",{"$f":"'BX Language acquisition'!C45","v":"через"},{"$f":"'BX Language acquisition'!D45","v":"Через колодезный СРУб достали воду"},null,null,"100_Основных_Местоимений_Предлогов_Английского"]
[{"$f":"'BX Language acquisition'!A46","v":"till"},{"$f":"'BX Language acquisition'!B46","v":"[tıl]"},"[sound:till.mp3]",{"$f":"'BX Language acquisition'!C46","v":"до, пока"},{"$f":"'BX Language acquisition'!D46","v":"потерпи пока не доберёмся до ТЫЛа"},null,null,"100_Основных_Местоимений_Предлогов_Английского"]
[{"$f":"'BX Language acquisition'!A47","v":"to"},{"$f":"'BX Language acquisition'!B47","v":"[tu:]"},"[sound:to.mp3]",{"$f":"'BX Language acquisition'!C47","v":"к"},{"$f":"'BX Language acquisition'!D47","v":"ТУда "},null,null,"100_Основных_Местоимений_Предлогов_Английского"]
[{"$f":"'BX Language acquisition'!A48","v":"under"},{"$f":"'BX Language acquisition'!B48","v":"[ʹʌndǝ]"},"[sound:under.mp3]",{"$f":"'BX Language acquisition'!C48","v":"под"},{"$f":"'BX Language acquisition'!D48","v":"Под горы АНДЫ заложена бомба"},"<img src=\"under.jpg\">",null,"100_Основных_Местоимений_Предлогов_Английского"]
[{"$f":"'BX Language acquisition'!A49","v":"until"},{"$f":"'BX Language acquisition'!B49","v":"[ǝnʹtıl]"},"[sound:until.mp3]",{"$f":"'BX Language acquisition'!C49","v":"до того как"},{"$f":"'BX Language acquisition'!D49","v":"До тех пор пока не съем ЭНТИЛопу (антилопу), не успокоюсь"},"<img src=\"until.jpg\">",null,"100_Основных_Местоимений_Предлогов_Английского"]
[{"$f":"'BX Language acquisition'!A50","v":"up"},{"$f":"'BX Language acquisition'!B50","v":"[ʌp]"},"[sound:up.mp3]",{"$f":"'BX Language acquisition'!C50","v":"вверх по"},{"$f":"'BX Language acquisition'!D50","v":"Собаке кричим: АП! АП! и вверх она прыгает"},"<img src=\"up.jpg\">",null,"100_Основных_Местоимений_Предлогов_Английского"]
[{"$f":"'BX Language acquisition'!A51","v":"with"},{"$f":"'BX Language acquisition'!B51","v":"[wıð]"},"[sound:with.mp3]",{"$f":"'BX Language acquisition'!C51","v":"с"},{"$f":"'BX Language acquisition'!D51","v":"УВИЗите его с вещами"},"<img src=\"with.jpg\">",null,"100_Основных_Местоимений_Предлогов_Английского"]
[{"$f":"'BX Language acquisition'!A52","v":"within"},{"$f":"'BX Language acquisition'!B52","v":"[wıʹðın]"},"[sound:within.mp3]",{"$f":"'BX Language acquisition'!C52","v":"внутри, в пределах"},{"$f":"'BX Language acquisition'!D52","v":"ВИжу дЖИН внутри - жизнь хороша (with - c, in - в)"},null,null,"100_Основных_Местоимений_Предлогов_Английского"]
[{"$f":"'BX Language acquisition'!A53","v":"without"},{"$f":"'BX Language acquisition'!B53","v":"[wıʹðaut]"},"[sound:without.mp3]",{"$f":"'BX Language acquisition'!C53","v":"без, снаружи"},{"$f":"'BX Language acquisition'!D53","v":"ВЯЗАТь без спиц трудно"},null,null,"100_Основных_Местоимений_Предлогов_Английского"]
[{"$f":"'BX Language acquisition'!A54","v":"I"},{"$f":"'BX Language acquisition'!B54","v":"[aı]"},"[sound:I.mp3]",{"$f":"'BX Language acquisition'!C54","v":"я"},{"$f":"'BX Language acquisition'!D54","v":"АЙ, какой Я парень"},"<img src=\"I.jpg\">",null,"100_Основных_Местоимений_Предлогов_Английского"]
[{"$f":"'BX Language acquisition'!A55","v":"all"},{"$f":"'BX Language acquisition'!B55","v":"[ɔ:l]"},"[sound:all.mp3]",{"$f":"'BX Language acquisition'!C55","v":"все, весь, вся, всё"},{"$f":"'BX Language acquisition'!D55","v":"Все ОЛи хороши"},null,null,"100_Основных_Местоимений_Предлогов_Английского"]
[{"$f":"'BX Language acquisition'!A56","v":"another"},{"$f":"'BX Language acquisition'!B56","v":"[ǝʹnʌðǝ]"},"[sound:another.mp3]",{"$f":"'BX Language acquisition'!C56","v":"другой, другие"},{"$f":"'BX Language acquisition'!D56","v":"ОНА дошла до ЗАбора по другой тропинке (any - любой, there - там - нам другой)"},null,null,"100_Основных_Местоимений_Предлогов_Английского"]
[{"$f":"'BX Language acquisition'!A57","v":"any"},{"$f":"'BX Language acquisition'!B57","v":"[ʹenı]"},"[sound:any.mp3]",{"$f":"'BX Language acquisition'!C57","v":"какой-то, любой"},{"$f":"'BX Language acquisition'!D57","v":"В лЕНИ любой мечтает жить"},"<img src=\"any.jpg\">",null,"100_Основных_Местоимений_Предлогов_Английского"]
[{"$f":"'BX Language acquisition'!A58","v":"both"},{"$f":"'BX Language acquisition'!B58","v":"[bǝuӨ]"},"[sound:both.mp3]",{"$f":"'BX Language acquisition'!C58","v":"оба"},{"$f":"'BX Language acquisition'!D58","v":"Они оба у БОФСа (босса) должны быть"},"<img src=\"both.jpg\">",null,"100_Основных_Местоимений_Предлогов_Английского"]
[{"$f":"'BX Language acquisition'!A59","v":"each"},{"$f":"'BX Language acquisition'!B59","v":"[i:tʃ]"},"[sound:each.mp3]",{"$f":"'BX Language acquisition'!C59","v":"каждый"},{"$f":"'BX Language acquisition'!D59","v":"Вирусом вИЧ каждая шлюха заражена!~ Вирус ИЧ поразил каждого."},"<img src=\"each.jpg\">",null,"100_Основных_Местоимений_Предлогов_Английского"]
[{"$f":"'BX Language acquisition'!A60","v":"either"},{"$f":"'BX Language acquisition'!B60","v":"[ʹaıðǝ]"},"[sound:either.mp3]",{"$f":"'BX Language acquisition'!C60","v":"тот или другой, и тот и другой"},{"$f":"'BX Language acquisition'!D60","v":"оба АЗЕРбайджанцы (амер. [ʹıðǝr])"},null,null,"100_Основных_Местоимений_Предлогов_Английского"]
[{"$f":"'BX Language acquisition'!A61","v":"every"},{"$f":"'BX Language acquisition'!B61","v":"[ʹevrı]"},"[sound:every.mp3]",{"$f":"'BX Language acquisition'!C61","v":"каждый, всякий"},{"$f":"'BX Language acquisition'!D61","v":"ЭВРИка! Каждый раз кричал Архимед~ каждый знает что ЭВИРест (Эверест) высочайшая вершина"},"<img src=\"every.jpg\">",null,"100_Основных_Местоимений_Предлогов_Английского"]
[{"$f":"'BX Language acquisition'!A62","v":"few"},{"$f":"'BX Language acquisition'!B62","v":"[fju:]"},"[sound:few.mp3]",{"$f":"'BX Language acquisition'!C62","v":"мало, немногие"},{"$f":"'BX Language acquisition'!D62","v":"я ФЬЮ (пью) мало и немного, сказал заплетающимся языком пьяница"},null,null,"100_Основных_Местоимений_Предлогов_Английского"]
[{"$f":"'BX Language acquisition'!A63","v":"he"},{"$f":"'BX Language acquisition'!B63","v":"[hi:]"},"[sound:he.mp3]",{"$f":"'BX Language acquisition'!C63","v":"он"},{"$f":"'BX Language acquisition'!D63","v":"Он ХИтёр, как чёрт"},"<img src=\"he.jpg\">",null,"100_Основных_Местоимений_Предлогов_Английского"]
[{"$f":"'BX Language acquisition'!A64","v":"her"},{"$f":"'BX Language acquisition'!B64","v":"[hǝ:]"},"[sound:her.mp3]",{"$f":"'BX Language acquisition'!C64","v":"её"},{"$f":"'BX Language acquisition'!D64","v":"он (he) чей? Он хеё"},null,null,"100_Основных_Местоимений_Предлогов_Английского"]
[{"$f":"'BX Language acquisition'!A65","v":"him"},{"$f":"'BX Language acquisition'!B65","v":"[hım]"},"[sound:him.mp3]",{"$f":"'BX Language acquisition'!C65","v":"ему, его (кого?)"},{"$f":"'BX Language acquisition'!D65","v":"ему - хим-у"},null,null,"100_Основных_Местоимений_Предлогов_Английского"]
[{"$f":"'BX Language acquisition'!A66","v":"his"},{"$f":"'BX Language acquisition'!B66","v":"[hız]"},"[sound:his.mp3]",{"$f":"'BX Language acquisition'!C66","v":"его, свой (чей?)"},{"$f":"'BX Language acquisition'!D66","v":"Хи-с его (-s на конце может обозначать принадлежность предмета кому-либо)"},null,null,"100_Основных_Местоимений_Предлогов_Английского"]
[{"$f":"'BX Language acquisition'!A67","v":"it"},{"$f":"'BX Language acquisition'!B67","v":"[ıt]"},"[sound:it.mp3]",{"$f":"'BX Language acquisition'!C67","v":"это, он, она, оно (неуд.)"},{"$f":"'BX Language acquisition'!D67","v":"И Тварь это оно"},null,null,"100_Основных_Местоимений_Предлогов_Английского"]
[{"$f":"'BX Language acquisition'!A68","v":"its"},{"$f":"'BX Language acquisition'!B68","v":"[ıts]"},"[sound:its.mp3]",{"$f":"'BX Language acquisition'!C68","v":"его, её ( для it)"},{"$f":"'BX Language acquisition'!D68","v":" (-s на конце может обозначать принадлежность предмета кому-либо)"},null,null,"100_Основных_Местоимений_Предлогов_Английского"]
[{"$f":"'BX Language acquisition'!A69","v":"little"},{"$f":"'BX Language acquisition'!B69","v":"[ʹlıtl]"},"[sound:little.mp3]",{"$f":"'BX Language acquisition'!C69","v":"мало, немногие"},{"$f":"'BX Language acquisition'!D69","v":"Самолёт маленький ЛИТаЛ в облаках"},"<img src=\"little.jpg\">",null,"100_Основных_Местоимений_Предлогов_Английского"]
[{"$f":"'BX Language acquisition'!A70","v":"many"},{"$f":"'BX Language acquisition'!B70","v":"[ʹmenı]"},"[sound:many.mp3]",{"$f":"'BX Language acquisition'!C70","v":"много, многие"},{"$f":"'BX Language acquisition'!D70","v":"В МЕНИатюре (миниатюре) много цветов"},"<img src=\"many.jpg\">",null,"100_Основных_Местоимений_Предлогов_Английского"]
[{"$f":"'BX Language acquisition'!A71","v":"me"},{"$f":"'BX Language acquisition'!B71","v":"[mi:]"},"[sound:me.mp3]",{"$f":"'BX Language acquisition'!C71","v":"мне, меня"},{"$f":"'BX Language acquisition'!D71","v":"МИмо меня"},null,null,"100_Основных_Местоимений_Предлогов_Английского"]
[{"$f":"'BX Language acquisition'!A72","v":"mine"},{"$f":"'BX Language acquisition'!B72","v":"[maın]"},"[sound:mine.mp3]",{"$f":"'BX Language acquisition'!C72","v":"мой, моя, мое, мои"},{"$f":"'BX Language acquisition'!D72","v":"книга Гитлера Майн Кампф - Моя борьба."},null,null,"100_Основных_Местоимений_Предлогов_Английского"]
[{"$f":"'BX Language acquisition'!A73","v":"much"},{"$f":"'BX Language acquisition'!B73","v":"[mʌtʃ]"},"[sound:much.mp3]",{"$f":"'BX Language acquisition'!C73","v":"много"},{"$f":"'BX Language acquisition'!D73","v":"Футбольный МАТЧ много зрителей собрал"},"<img src=\"much.jpg\">",null,"100_Основных_Местоимений_Предлогов_Английского"]
[{"$f":"'BX Language acquisition'!A74","v":"my"},{"$f":"'BX Language acquisition'!B74","v":"[maı]"},"[sound:my.mp3]",{"$f":"'BX Language acquisition'!C74","v":"мой, моя, мое, мои"},{"$f":"'BX Language acquisition'!D74","v":"мой МАЙ"},null,null,"100_Основных_Местоимений_Предлогов_Английского"]
[{"$f":"'BX Language acquisition'!A75","v":"myself"},{"$f":"'BX Language acquisition'!B75","v":"[maıʹself]"},"[sound:myself.mp3]",{"$f":"'BX Language acquisition'!C75","v":"себя (сам)"},{"$f":"'BX Language acquisition'!D75","v":"(my - мой, self - личность = себя)"},null,null,"100_Основных_Местоимений_Предлогов_Английского"]
[{"$f":"'BX Language acquisition'!A76","v":"neither"},{"$f":"'BX Language acquisition'!B76","v":"[ʹnaıðǝ]"},"[sound:neither.mp3]",{"$f":"'BX Language acquisition'!C76","v":"ни тот, ни другой"},{"$f":"'BX Language acquisition'!D76","v":"НИ ЗА тот, НИ ЗА другой вариант никто голосовать не будет"},null,null,"100_Основных_Местоимений_Предлогов_Английского"]
[{"$f":"'BX Language acquisition'!A77","v":"no"},{"$f":"'BX Language acquisition'!B77","v":"[nǝu]"},"[sound:no.mp3]",{"$f":"'BX Language acquisition'!C77","v":"нет, никакой"},{"$f":"'BX Language acquisition'!D77","v":"НО У меня нет денег!"},"<img src=\"no.jpg\">",null,"100_Основных_Местоимений_Предлогов_Английского"]
[{"$f":"'BX Language acquisition'!A78","v":"none"},{"$f":"'BX Language acquisition'!B78","v":"[nʌn]"},"[sound:none.mp3]",{"$f":"'BX Language acquisition'!C78","v":"ни один из, никто"},{"$f":"'BX Language acquisition'!D78","v":"у хорошей НЯНьки – никто не шалит~ НАНька никто для  меня"},null,null,"100_Основных_Местоимений_Предлогов_Английского"]
[{"$f":"'BX Language acquisition'!A79","v":"one"},{"$f":"'BX Language acquisition'!B79","v":"[wʌn]"},"[sound:one.mp3]",{"$f":"'BX Language acquisition'!C79","v":"один, некто, кто-то"},{"$f":"'BX Language acquisition'!D79","v":"У ВАНи один рубль всего"},"<img src=\"one.jpg\">",null,"100_Основных_Местоимений_Предлогов_Английского"]
[{"$f":"'BX Language acquisition'!A80","v":"our"},{"$f":"'BX Language acquisition'!B80","v":"[ʹauǝ]"},"[sound:our.mp3]",{"$f":"'BX Language acquisition'!C80","v":"наш, наша, наше, наши"},{"$f":"'BX Language acquisition'!D80","v":"Ау, Э! Тут все наши!"},"<img src=\"our.jpg\">",null,"100_Основных_Местоимений_Предлогов_Английского"]
[{"$f":"'BX Language acquisition'!A81","v":"same"},{"$f":"'BX Language acquisition'!B81","v":"[seım]"},"[sound:same.mp3]",{"$f":"'BX Language acquisition'!C81","v":"тот же самый, то же"},{"$f":"'BX Language acquisition'!D81","v":"В Польше тот же самый СЕЙМ, что и раньше."},null,null,"100_Основных_Местоимений_Предлогов_Английского"]
[{"$f":"'BX Language acquisition'!A82","v":"she"},{"$f":"'BX Language acquisition'!B82","v":"[ʃi:]"},"[sound:she.mp3]",{"$f":"'BX Language acquisition'!C82","v":"она"},{"$f":"'BX Language acquisition'!D82","v":"Она ШИпит как змея"},"<img src=\"she.jpg\">",null,"100_Основных_Местоимений_Предлогов_Английского"]
[{"$f":"'BX Language acquisition'!A83","v":"some"},{"$f":"'BX Language acquisition'!B83","v":"[sʌm]"},"[sound:some.mp3]",{"$f":"'BX Language acquisition'!C83","v":"какой-то, некоторые, немного"},{"$f":"'BX Language acquisition'!D83","v":"Некоторые проблемы ты реши САМ"},null,null,"100_Основных_Местоимений_Предлогов_Английского"]
[{"$f":"'BX Language acquisition'!A84","v":"such"},{"$f":"'BX Language acquisition'!B84","v":"[sʌtʃ]"},"[sound:such.mp3]",{"$f":"'BX Language acquisition'!C84","v":"такой"},{"$f":"'BX Language acquisition'!D84","v":"Ты такой САЧок (сленг - Человек, отлынивающий от выполнения своих обязанностей)"},null,null,"100_Основных_Местоимений_Предлогов_Английского"]
[{"$f":"'BX Language acquisition'!A85","v":"that"},{"$f":"'BX Language acquisition'!B85","v":"[ðæt]"},"[sound:that.mp3]",{"$f":"'BX Language acquisition'!C85","v":"тот (далеко)"},{"$f":"'BX Language acquisition'!D85","v":"я трогаю тот ЗАД и в тот же час получил по ЗАДу"},null,null,"100_Основных_Местоимений_Предлогов_Английского"]
[{"$f":"'BX Language acquisition'!A86","v":"their"},{"$f":"'BX Language acquisition'!B86","v":"[ðɛǝ]"},"[sound:their.mp3]",{"$f":"'BX Language acquisition'!C86","v":"их (чей?)"},{"$f":"'BX Language acquisition'!D86","v":"Их дети ЗЕЯдлые курильщики~ это их THEIRно (ЗЕРно)"},"<img src=\"their.jpg\">",null,"100_Основных_Местоимений_Предлогов_Английского"]
[{"$f":"'BX Language acquisition'!A87","v":"them"},{"$f":"'BX Language acquisition'!B87","v":"[ðǝm]"},"[sound:them.mp3]",{"$f":"'BX Language acquisition'!C87","v":"их (кого?), им"},{"$f":"'BX Language acquisition'!D87","v":"Их в ЗЕМлю закопай!~ (опустить) их наЗЕМь"},"<img src=\"them.jpg\">",null,"100_Основных_Местоимений_Предлогов_Английского"]
[{"$f":"'BX Language acquisition'!A88","v":"these"},{"$f":"'BX Language acquisition'!B88","v":"[ði:z]"},"[sound:these.mp3]",{"$f":"'BX Language acquisition'!C88","v":"эти (рядом)"},{"$f":"'BX Language acquisition'!D88","v":"это старый ржавый автомобиль THESE (ЗИС)"},null,null,"100_Основных_Местоимений_Предлогов_Английского"]
[{"$f":"'BX Language acquisition'!A89","v":"they"},{"$f":"'BX Language acquisition'!B89","v":"[ðeı]"},"[sound:they.mp3]",{"$f":"'BX Language acquisition'!C89","v":"они"},{"$f":"'BX Language acquisition'!D89","v":"Они в КолиЗЕЙ заехали~ они взяли друЗЕЙ и пошли в муЗЕЙ, где стоял ротоЗЕЙ"},"<img src=\"they.jpg\">",null,"100_Основных_Местоимений_Предлогов_Английского"]
[{"$f":"'BX Language acquisition'!A90","v":"this"},{"$f":"'BX Language acquisition'!B90","v":"[ðıs]"},"[sound:this.mp3]",{"$f":"'BX Language acquisition'!C90","v":"этот (рядом)"},{"$f":"'BX Language acquisition'!D90","v":"Этот ДИСк для этой ДИСкуссии не подойдет"},null,null,"100_Основных_Местоимений_Предлогов_Английского"]
[{"$f":"'BX Language acquisition'!A91","v":"those"},{"$f":"'BX Language acquisition'!B91","v":"[ðǝuz]"},"[sound:those.mp3]",{"$f":"'BX Language acquisition'!C91","v":"те (далеко)"},{"$f":"'BX Language acquisition'!D91","v":"те THOSE(СОУСы) густые и горячие"},null,null,"100_Основных_Местоимений_Предлогов_Английского"]
[{"$f":"'BX Language acquisition'!A92","v":"us"},{"$f":"'BX Language acquisition'!B92","v":"[ʌs]"},"[sound:us.mp3]",{"$f":"'BX Language acquisition'!C92","v":"нас, нам"},{"$f":"'BX Language acquisition'!D92","v":"АС (мастер) научил нас"},null,null,"100_Основных_Местоимений_Предлогов_Английского"]
[{"$f":"'BX Language acquisition'!A93","v":"we"},{"$f":"'BX Language acquisition'!B93","v":"[wi:]"},"[sound:we.mp3]",{"$f":"'BX Language acquisition'!C93","v":"мы"},{"$f":"'BX Language acquisition'!D93","v":"уВИ - это мы"},"<img src=\"we.jpg\">",null,"100_Основных_Местоимений_Предлогов_Английского"]
[{"$f":"'BX Language acquisition'!A94","v":"what"},{"$f":"'BX Language acquisition'!B94","v":"[wɔt]"},"[sound:what.mp3]",{"$f":"'BX Language acquisition'!C94","v":"что, какой"},{"$f":"'BX Language acquisition'!D94","v":"уВОТ, какой рассеянный с улицы Бассейной"},"<img src=\"what.jpg\">",null,"100_Основных_Местоимений_Предлогов_Английского"]
[{"$f":"'BX Language acquisition'!A95","v":"whatever"},{"$f":"'BX Language acquisition'!B95","v":"[wɔtʹevǝ]"},"[sound:whatever.mp3]",{"$f":"'BX Language acquisition'!C95","v":"какой бы ни"},{"$f":"'BX Language acquisition'!D95","v":"В ОТТАВЕ (столица их) любой канадец хоккеист (дословно перевод - что каждый)"},null,null,"100_Основных_Местоимений_Предлогов_Английского"]
[{"$f":"'BX Language acquisition'!A96","v":"which"},{"$f":"'BX Language acquisition'!B96","v":"[wıtʃ]"},"[sound:which.mp3]",{"$f":"'BX Language acquisition'!C96","v":"который, какой, кто, что"},{"$f":"'BX Language acquisition'!D96","v":"Вирус ВИЧ который миллион людей уничтожил?~ ВЫ Чудо, которое я буду помнить всю жизнь"},"<img src=\"which.jpg\">",null,"100_Основных_Местоимений_Предлогов_Английского"]
[{"$f":"'BX Language acquisition'!A97","v":"who"},{"$f":"'BX Language acquisition'!B97","v":"[hu:]"},"[sound:who.mp3]",{"$f":"'BX Language acquisition'!C97","v":"кто"},{"$f":"'BX Language acquisition'!D97","v":"с ХУтора кто?~ ХУдожественный фильм, который получил 'оскар"},null,null,"100_Основных_Местоимений_Предлогов_Английского"]
[{"$f":"'BX Language acquisition'!A98","v":"whose"},{"$f":"'BX Language acquisition'!B98","v":"[hu:z]"},"[sound:whose.mp3]",{"$f":"'BX Language acquisition'!C98","v":"чей"},{"$f":"'BX Language acquisition'!D98","v":"саддам ХУСейн чей-то родственник~ ГУСь чей?"},null,null,"100_Основных_Местоимений_Предлогов_Английского"]
[{"$f":"'BX Language acquisition'!A99","v":"you"},{"$f":"'BX Language acquisition'!B99","v":"[ju:d]"},"[sound:you.mp3]",{"$f":"'BX Language acquisition'!C99","v":"ты, вы, вас, вам"},{"$f":"'BX Language acquisition'!D99","v":"Вы - люди Юморные~ ты Юнгой будешь"},"<img src=\"you.jpg\">",null,"100_Основных_Местоимений_Предлогов_Английского"]
[{"$f":"'BX Language acquisition'!A100","v":"your"},{"$f":"'BX Language acquisition'!B100","v":"[jɔ:]"},"[sound:your.mp3]",{"$f":"'BX Language acquisition'!C100","v":"ваш, ваша, ваше, ваши"},{"$f":"'BX Language acquisition'!D100","v":"твой маЙОР"},null,null,"100_Основных_Местоимений_Предлогов_Английского"]
[{"$f":"'BX Language acquisition'!A101","v":"yourself"},{"$f":"'BX Language acquisition'!B101","v":"[jɔ:ʹself]"},"[sound:yourself.mp3]",{"$f":"'BX Language acquisition'!C101","v":"сами, самим собой"},{"$f":"'BX Language acquisition'!D101","v":"(your - ваш, self - личность = себя)"},null,null,"100_Основных_Местоимений_Предлогов_Английского"]
[{"$f":"'BX Language acquisition'!A102","v":0},{"$f":"'BX Language acquisition'!B102","v":0},null,{"$f":"'BX Language acquisition'!C102","v":0},{"$f":"'BX Language acquisition'!D102","v":0}]
[{"$f":"'BX Language acquisition'!A103","v":0},{"$f":"'BX Language acquisition'!B103","v":0},null,{"$f":"'BX Language acquisition'!C103","v":0},{"$f":"'BX Language acquisition'!D103","v":0}]
[{"$f":"'BX Language acquisition'!A104","v":0},{"$f":"'BX Language acquisition'!B104","v":0},null,{"$f":"'BX Language acquisition'!C104","v":0},{"$f":"'BX Language acquisition'!D104","v":0}]
[{"$f":"'BX Language acquisition'!A105","v":0},{"$f":"'BX Language acquisition'!B105","v":0},null,{"$f":"'BX Language acquisition'!C105","v":0},{"$f":"'BX Language acquisition'!D105","v":0}]
[{"$f":"'BX Language acquisition'!A106","v":0},{"$f":"'BX Language acquisition'!B106","v":0},null,{"$f":"'BX Language acquisition'!C106","v":0},{"$f":"'BX Language acquisition'!D106","v":0}]
[{"$f":"'BX Language acquisition'!A107","v":0},{"$f":"'BX Language acquisition'!B107","v":0},null,{"$f":"'BX Language acquisition'!C107","v":0},{"$f":"'BX Language acquisition'!D107","v":0}]
[{"$f":"'BX Language acquisition'!A108","v":0},{"$f":"'BX Language acquisition'!B108","v":0},null,{"$f":"'BX Language acquisition'!C108","v":0},{"$f":"'BX Language acquisition'!D108","v":0}]
[{"$f":"'BX Language acquisition'!A109","v":0},{"$f":"'BX Language acquisition'!B109","v":0},null,{"$f":"'BX Language acquisition'!C109","v":0},{"$f":"'BX Language acquisition'!D109","v":0}]
[{"$f":"'BX Language acquisition'!A110","v":0},{"$f":"'BX Language acquisition'!B110","v":0},null,{"$f":"'BX Language acquisition'!C110","v":0},{"$f":"'BX Language acquisition'!D110","v":0}]
[{"$f":"'BX Language acquisition'!A111","v":0},{"$f":"'BX Language acquisition'!B111","v":0},null,{"$f":"'BX Language acquisition'!C111","v":0},{"$f":"'BX Language acquisition'!D111","v":0}]
[{"$f":"'BX Language acquisition'!A112","v":0},{"$f":"'BX Language acquisition'!B112","v":0},null,{"$f":"'BX Language acquisition'!C112","v":0},{"$f":"'BX Language acquisition'!D112","v":0}]
[{"$f":"'BX Language acquisition'!A113","v":0},{"$f":"'BX Language acquisition'!B113","v":0},null,{"$f":"'BX Language acquisition'!C113","v":0},{"$f":"'BX Language acquisition'!D113","v":0}]
[{"$f":"'BX Language acquisition'!A114","v":0},{"$f":"'BX Language acquisition'!B114","v":0},null,{"$f":"'BX Language acquisition'!C114","v":0},{"$f":"'BX Language acquisition'!D114","v":0}]
[{"$f":"'BX Language acquisition'!A115","v":0},{"$f":"'BX Language acquisition'!B115","v":0},null,{"$f":"'BX Language acquisition'!C115","v":0},{"$f":"'BX Language acquisition'!D115","v":0}]
[{"$f":"'BX Language acquisition'!A116","v":0},{"$f":"'BX Language acquisition'!B116","v":0},null,{"$f":"'BX Language acquisition'!C116","v":0},{"$f":"'BX Language acquisition'!D116","v":0}]
[{"$f":"'BX Language acquisition'!A117","v":0},{"$f":"'BX Language acquisition'!B117","v":0},null,{"$f":"'BX Language acquisition'!C117","v":0},{"$f":"'BX Language acquisition'!D117","v":0}]
[{"$f":"'BX Language acquisition'!A118","v":0},{"$f":"'BX Language acquisition'!B118","v":0},null,{"$f":"'BX Language acquisition'!C118","v":0},{"$f":"'BX Language acquisition'!D118","v":0}]
[{"$f":"'BX Language acquisition'!A119","v":0},{"$f":"'BX Language acquisition'!B119","v":0},null,{"$f":"'BX Language acquisition'!C119","v":0},{"$f":"'BX Language acquisition'!D119","v":0}]
[{"$f":"'BX Language acquisition'!A120","v":0},{"$f":"'BX Language acquisition'!B120","v":0},null,{"$f":"'BX Language acquisition'!C120","v":0},{"$f":"'BX Language acquisition'!D120","v":0}]
[{"$f":"'BX Language acquisition'!A121","v":0},{"$f":"'BX Language acquisition'!B121","v":0},null,{"$f":"'BX Language acquisition'!C121","v":0},{"$f":"'BX Language acquisition'!D121","v":0}]
[{"$f":"'BX Language acquisition'!A122","v":0},{"$f":"'BX Language acquisition'!B122","v":0},null,{"$f":"'BX Language acquisition'!C122","v":0},{"$f":"'BX Language acquisition'!D122","v":0}]
[{"$f":"'BX Language acquisition'!A123","v":0},{"$f":"'BX Language acquisition'!B123","v":0},null,{"$f":"'BX Language acquisition'!C123","v":0},{"$f":"'BX Language acquisition'!D123","v":0}]
[{"$f":"'BX Language acquisition'!A124","v":0},{"$f":"'BX Language acquisition'!B124","v":0},null,{"$f":"'BX Language acquisition'!C124","v":0},{"$f":"'BX Language acquisition'!D124","v":0}]
[{"$f":"'BX Language acquisition'!A125","v":0},{"$f":"'BX Language acquisition'!B125","v":0},null,{"$f":"'BX Language acquisition'!C125","v":0},{"$f":"'BX Language acquisition'!D125","v":0}]
[{"$f":"'BX Language acquisition'!A126","v":0},{"$f":"'BX Language acquisition'!B126","v":0},null,{"$f":"'BX Language acquisition'!C126","v":0},{"$f":"'BX Language acquisition'!D126","v":0}]
[{"$f":"'BX Language acquisition'!A127","v":0},{"$f":"'BX Language acquisition'!B127","v":0},null,{"$f":"'BX Language acquisition'!C127","v":0},{"$f":"'BX Language acquisition'!D127","v":0}]
[{"$f":"'BX Language acquisition'!A128","v":0},{"$f":"'BX Language acquisition'!B128","v":0},null,{"$f":"'BX Language acquisition'!C128","v":0},{"$f":"'BX Language acquisition'!D128","v":0}]
[{"$f":"'BX Language acquisition'!A129","v":0},{"$f":"'BX Language acquisition'!B129","v":0},null,{"$f":"'BX Language acquisition'!C129","v":0},{"$f":"'BX Language acquisition'!D129","v":0}]
[{"$f":"'BX Language acquisition'!A130","v":0},{"$f":"'BX Language acquisition'!B130","v":0},null,{"$f":"'BX Language acquisition'!C130","v":0},{"$f":"'BX Language acquisition'!D130","v":0}]
[{"$f":"'BX Language acquisition'!A131","v":0},{"$f":"'BX Language acquisition'!B131","v":0},null,{"$f":"'BX Language acquisition'!C131","v":0},{"$f":"'BX Language acquisition'!D131","v":0}]
[{"$f":"'BX Language acquisition'!A132","v":0},{"$f":"'BX Language acquisition'!B132","v":0},null,{"$f":"'BX Language acquisition'!C132","v":0},{"$f":"'BX Language acquisition'!D132","v":0}]
[{"$f":"'BX Language acquisition'!A133","v":0},{"$f":"'BX Language acquisition'!B133","v":0},null,{"$f":"'BX Language acquisition'!C133","v":0},{"$f":"'BX Language acquisition'!D133","v":0}]
[{"$f":"'BX Language acquisition'!A134","v":0},{"$f":"'BX Language acquisition'!B134","v":0},null,{"$f":"'BX Language acquisition'!C134","v":0},{"$f":"'BX Language acquisition'!D134","v":0}]
[{"$f":"'BX Language acquisition'!A135","v":0},{"$f":"'BX Language acquisition'!B135","v":0},null,{"$f":"'BX Language acquisition'!C135","v":0},{"$f":"'BX Language acquisition'!D135","v":0}]
[{"$f":"'BX Language acquisition'!A136","v":0},{"$f":"'BX Language acquisition'!B136","v":0},null,{"$f":"'BX Language acquisition'!C136","v":0},{"$f":"'BX Language acquisition'!D136","v":0}]
[{"$f":"'BX Language acquisition'!A137","v":0},{"$f":"'BX Language acquisition'!B137","v":0},null,{"$f":"'BX Language acquisition'!C137","v":0},{"$f":"'BX Language acquisition'!D137","v":0}]
[{"$f":"'BX Language acquisition'!A138","v":0},{"$f":"'BX Language acquisition'!B138","v":0},null,{"$f":"'BX Language acquisition'!C138","v":0},{"$f":"'BX Language acquisition'!D138","v":0}]
[{"$f":"'BX Language acquisition'!A139","v":0},{"$f":"'BX Language acquisition'!B139","v":0},null,{"$f":"'BX Language acquisition'!C139","v":0},{"$f":"'BX Language acquisition'!D139","v":0}]
[{"$f":"'BX Language acquisition'!A140","v":0},{"$f":"'BX Language acquisition'!B140","v":0},null,{"$f":"'BX Language acquisition'!C140","v":0},{"$f":"'BX Language acquisition'!D140","v":0}]
[{"$f":"'BX Language acquisition'!A141","v":0},{"$f":"'BX Language acquisition'!B141","v":0},null,{"$f":"'BX Language acquisition'!C141","v":0},{"$f":"'BX Language acquisition'!D141","v":0}]
[{"$f":"'BX Language acquisition'!A142","v":0},{"$f":"'BX Language acquisition'!B142","v":0},null,{"$f":"'BX Language acquisition'!C142","v":0},{"$f":"'BX Language acquisition'!D142","v":0}]
[{"$f":"'BX Language acquisition'!A143","v":0},{"$f":"'BX Language acquisition'!B143","v":0},null,{"$f":"'BX Language acquisition'!C143","v":0},{"$f":"'BX Language acquisition'!D143","v":0}]
[{"$f":"'BX Language acquisition'!A144","v":0},{"$f":"'BX Language acquisition'!B144","v":0},null,{"$f":"'BX Language acquisition'!C144","v":0},{"$f":"'BX Language acquisition'!D144","v":0}]
[{"$f":"'BX Language acquisition'!A145","v":0},{"$f":"'BX Language acquisition'!B145","v":0},null,{"$f":"'BX Language acquisition'!C145","v":0},{"$f":"'BX Language acquisition'!D145","v":0}]
[{"$f":"'BX Language acquisition'!A146","v":0},{"$f":"'BX Language acquisition'!B146","v":0},null,{"$f":"'BX Language acquisition'!C146","v":0},{"$f":"'BX Language acquisition'!D146","v":0}]
[{"$f":"'BX Language acquisition'!A147","v":0},{"$f":"'BX Language acquisition'!B147","v":0},null,{"$f":"'BX Language acquisition'!C147","v":0},{"$f":"'BX Language acquisition'!D147","v":0}]
[{"$f":"'BX Language acquisition'!A148","v":0},{"$f":"'BX Language acquisition'!B148","v":0},null,{"$f":"'BX Language acquisition'!C148","v":0},{"$f":"'BX Language acquisition'!D148","v":0}]
[{"$f":"'BX Language acquisition'!A149","v":0},{"$f":"'BX Language acquisition'!B149","v":0},null,{"$f":"'BX Language acquisition'!C149","v":0},{"$f":"'BX Language acquisition'!D149","v":0}]
[{"$f":"'BX Language acquisition'!A150","v":0},{"$f":"'BX Language acquisition'!B150","v":0},null,{"$f":"'BX Language acquisition'!C150","v":0},{"$f":"'BX Language acquisition'!D150","v":0}]
[{"$f":"'BX Language acquisition'!A151","v":0},{"$f":"'BX Language acquisition'!B151","v":0},null,{"$f":"'BX Language acquisition'!C151","v":0},{"$f":"'BX Language acquisition'!D151","v":0}]
[{"$f":"'BX Language acquisition'!A152","v":0},{"$f":"'BX Language acquisition'!B152","v":0},null,{"$f":"'BX Language acquisition'!C152","v":0},{"$f":"'BX Language acquisition'!D152","v":0}]
[{"$f":"'BX Language acquisition'!A153","v":0},{"$f":"'BX Language acquisition'!B153","v":0},null,{"$f":"'BX Language acquisition'!C153","v":0},{"$f":"'BX Language acquisition'!D153","v":0}]
[{"$f":"'BX Language acquisition'!A154","v":0},{"$f":"'BX Language acquisition'!B154","v":0},null,{"$f":"'BX Language acquisition'!C154","v":0},{"$f":"'BX Language acquisition'!D154","v":0}]
[{"$f":"'BX Language acquisition'!A155","v":0},{"$f":"'BX Language acquisition'!B155","v":0},null,{"$f":"'BX Language acquisition'!C155","v":0},{"$f":"'BX Language acquisition'!D155","v":0}]
[{"$f":"'BX Language acquisition'!A156","v":0},{"$f":"'BX Language acquisition'!B156","v":0},null,{"$f":"'BX Language acquisition'!C156","v":0},{"$f":"'BX Language acquisition'!D156","v":0}]
[{"$f":"'BX Language acquisition'!A157","v":0},{"$f":"'BX Language acquisition'!B157","v":0},null,{"$f":"'BX Language acquisition'!C157","v":0},{"$f":"'BX Language acquisition'!D157","v":0}]
[{"$f":"'BX Language acquisition'!A158","v":0},{"$f":"'BX Language acquisition'!B158","v":0},null,{"$f":"'BX Language acquisition'!C158","v":0},{"$f":"'BX Language acquisition'!D158","v":0}]
[{"$f":"'BX Language acquisition'!A159","v":0},{"$f":"'BX Language acquisition'!B159","v":0},null,{"$f":"'BX Language acquisition'!C159","v":0},{"$f":"'BX Language acquisition'!D159","v":0}]
[{"$f":"'BX Language acquisition'!A160","v":0},{"$f":"'BX Language acquisition'!B160","v":0},null,{"$f":"'BX Language acquisition'!C160","v":0},{"$f":"'BX Language acquisition'!D160","v":0}]
[{"$f":"'BX Language acquisition'!A161","v":0},{"$f":"'BX Language acquisition'!B161","v":0},null,{"$f":"'BX Language acquisition'!C161","v":0},{"$f":"'BX Language acquisition'!D161","v":0}]
[{"$f":"'BX Language acquisition'!A162","v":0},{"$f":"'BX Language acquisition'!B162","v":0},null,{"$f":"'BX Language acquisition'!C162","v":0},{"$f":"'BX Language acquisition'!D162","v":0}]
[{"$f":"'BX Language acquisition'!A163","v":0},{"$f":"'BX Language acquisition'!B163","v":0},null,{"$f":"'BX Language acquisition'!C163","v":0},{"$f":"'BX Language acquisition'!D163","v":0}]
[{"$f":"'BX Language acquisition'!A164","v":0},{"$f":"'BX Language acquisition'!B164","v":0},null,{"$f":"'BX Language acquisition'!C164","v":0},{"$f":"'BX Language acquisition'!D164","v":0}]
[{"$f":"'BX Language acquisition'!A165","v":0},{"$f":"'BX Language acquisition'!B165","v":0},null,{"$f":"'BX Language acquisition'!C165","v":0},{"$f":"'BX Language acquisition'!D165","v":0}]
[{"$f":"'BX Language acquisition'!A166","v":0},{"$f":"'BX Language acquisition'!B166","v":0},null,{"$f":"'BX Language acquisition'!C166","v":0},{"$f":"'BX Language acquisition'!D166","v":0}]
[{"$f":"'BX Language acquisition'!A167","v":0},{"$f":"'BX Language acquisition'!B167","v":0},null,{"$f":"'BX Language acquisition'!C167","v":0},{"$f":"'BX Language acquisition'!D167","v":0}]
[{"$f":"'BX Language acquisition'!A168","v":0},{"$f":"'BX Language acquisition'!B168","v":0},null,{"$f":"'BX Language acquisition'!C168","v":0},{"$f":"'BX Language acquisition'!D168","v":0}]
[{"$f":"'BX Language acquisition'!A169","v":0},{"$f":"'BX Language acquisition'!B169","v":0},null,{"$f":"'BX Language acquisition'!C169","v":0},{"$f":"'BX Language acquisition'!D169","v":0}]
[{"$f":"'BX Language acquisition'!A170","v":0},{"$f":"'BX Language acquisition'!B170","v":0},null,{"$f":"'BX Language acquisition'!C170","v":0},{"$f":"'BX Language acquisition'!D170","v":0}]
[{"$f":"'BX Language acquisition'!A171","v":0},{"$f":"'BX Language acquisition'!B171","v":0},null,{"$f":"'BX Language acquisition'!C171","v":0},{"$f":"'BX Language acquisition'!D171","v":0}]
[{"$f":"'BX Language acquisition'!A172","v":0},{"$f":"'BX Language acquisition'!B172","v":0},null,{"$f":"'BX Language acquisition'!C172","v":0},{"$f":"'BX Language acquisition'!D172","v":0}]
[{"$f":"'BX Language acquisition'!A173","v":0},{"$f":"'BX Language acquisition'!B173","v":0},null,{"$f":"'BX Language acquisition'!C173","v":0},{"$f":"'BX Language acquisition'!D173","v":0}]
[{"$f":"'BX Language acquisition'!A174","v":0},{"$f":"'BX Language acquisition'!B174","v":0},null,{"$f":"'BX Language acquisition'!C174","v":0},{"$f":"'BX Language acquisition'!D174","v":0}]
[{"$f":"'BX Language acquisition'!A175","v":0},{"$f":"'BX Language acquisition'!B175","v":0},null,{"$f":"'BX Language acquisition'!C175","v":0},{"$f":"'BX Language acquisition'!D175","v":0}]
[{"$f":"'BX Language acquisition'!A176","v":0},{"$f":"'BX Language acquisition'!B176","v":0},null,{"$f":"'BX Language acquisition'!C176","v":0},{"$f":"'BX Language acquisition'!D176","v":0}]
[{"$f":"'BX Language acquisition'!A177","v":0},{"$f":"'BX Language acquisition'!B177","v":0},null,{"$f":"'BX Language acquisition'!C177","v":0},{"$f":"'BX Language acquisition'!D177","v":0}]
[{"$f":"'BX Language acquisition'!A178","v":0},{"$f":"'BX Language acquisition'!B178","v":0},null,{"$f":"'BX Language acquisition'!C178","v":0},{"$f":"'BX Language acquisition'!D178","v":0}]
[{"$f":"'BX Language acquisition'!A179","v":0},{"$f":"'BX Language acquisition'!B179","v":0},null,{"$f":"'BX Language acquisition'!C179","v":0},{"$f":"'BX Language acquisition'!D179","v":0}]
[{"$f":"'BX Language acquisition'!A180","v":0},{"$f":"'BX Language acquisition'!B180","v":0},null,{"$f":"'BX Language acquisition'!C180","v":0},{"$f":"'BX Language acquisition'!D180","v":0}]
[{"$f":"'BX Language acquisition'!A181","v":0},{"$f":"'BX Language acquisition'!B181","v":0},null,{"$f":"'BX Language acquisition'!C181","v":0},{"$f":"'BX Language acquisition'!D181","v":0}]
[{"$f":"'BX Language acquisition'!A182","v":0},{"$f":"'BX Language acquisition'!B182","v":0},null,{"$f":"'BX Language acquisition'!C182","v":0},{"$f":"'BX Language acquisition'!D182","v":0}]
[{"$f":"'BX Language acquisition'!A183","v":0},{"$f":"'BX Language acquisition'!B183","v":0},null,{"$f":"'BX Language acquisition'!C183","v":0},{"$f":"'BX Language acquisition'!D183","v":0}]
[{"$f":"'BX Language acquisition'!A184","v":0},{"$f":"'BX Language acquisition'!B184","v":0},null,{"$f":"'BX Language acquisition'!C184","v":0},{"$f":"'BX Language acquisition'!D184","v":0}]
[{"$f":"'BX Language acquisition'!A185","v":0},{"$f":"'BX Language acquisition'!B185","v":0},null,{"$f":"'BX Language acquisition'!C185","v":0},{"$f":"'BX Language acquisition'!D185","v":0}]
[{"$f":"'BX Language acquisition'!A186","v":0},{"$f":"'BX Language acquisition'!B186","v":0},null,{"$f":"'BX Language acquisition'!C186","v":0},{"$f":"'BX Language acquisition'!D186","v":0}]
[{"$f":"'BX Language acquisition'!A187","v":0},{"$f":"'BX Language acquisition'!B187","v":0},null,{"$f":"'BX Language acquisition'!C187","v":0},{"$f":"'BX Language acquisition'!D187","v":0}]
[{"$f":"'BX Language acquisition'!A188","v":0},{"$f":"'BX Language acquisition'!B188","v":0},null,{"$f":"'BX Language acquisition'!C188","v":0},{"$f":"'BX Language acquisition'!D188","v":0}]
[{"$f":"'BX Language acquisition'!A189","v":0},{"$f":"'BX Language acquisition'!B189","v":0},null,{"$f":"'BX Language acquisition'!C189","v":0},{"$f":"'BX Language acquisition'!D189","v":0}]
[{"$f":"'BX Language acquisition'!A190","v":0},{"$f":"'BX Language acquisition'!B190","v":0},null,{"$f":"'BX Language acquisition'!C190","v":0},{"$f":"'BX Language acquisition'!D190","v":0}]
[{"$f":"'BX Language acquisition'!A191","v":0},{"$f":"'BX Language acquisition'!B191","v":0},null,{"$f":"'BX Language acquisition'!C191","v":0},{"$f":"'BX Language acquisition'!D191","v":0}]
[{"$f":"'BX Language acquisition'!A192","v":0},{"$f":"'BX Language acquisition'!B192","v":0},null,{"$f":"'BX Language acquisition'!C192","v":0},{"$f":"'BX Language acquisition'!D192","v":0}]
[{"$f":"'BX Language acquisition'!A193","v":0},{"$f":"'BX Language acquisition'!B193","v":0},null,{"$f":"'BX Language acquisition'!C193","v":0},{"$f":"'BX Language acquisition'!D193","v":0}]
[{"$f":"'BX Language acquisition'!A194","v":0},{"$f":"'BX Language acquisition'!B194","v":0},null,{"$f":"'BX Language acquisition'!C194","v":0},{"$f":"'BX Language acquisition'!D194","v":0}]
[{"$f":"'BX Language acquisition'!A195","v":0},{"$f":"'BX Language acquisition'!B195","v":0},null,{"$f":"'BX Language acquisition'!C195","v":0},{"$f":"'BX Language acquisition'!D195","v":0}]
[{"$f":"'BX Language acquisition'!A196","v":0},{"$f":"'BX Language acquisition'!B196","v":0},null,{"$f":"'BX Language acquisition'!C196","v":0},{"$f":"'BX Language acquisition'!D196","v":0}]
[{"$f":"'BX Language acquisition'!A197","v":0},{"$f":"'BX Language acquisition'!B197","v":0},null,{"$f":"'BX Language acquisition'!C197","v":0},{"$f":"'BX Language acquisition'!D197","v":0}]
[{"$f":"'BX Language acquisition'!A198","v":0},{"$f":"'BX Language acquisition'!B198","v":0},null,{"$f":"'BX Language acquisition'!C198","v":0},{"$f":"'BX Language acquisition'!D198","v":0}]
[{"$f":"'BX Language acquisition'!A199","v":0},{"$f":"'BX Language acquisition'!B199","v":0},null,{"$f":"'BX Language acquisition'!C199","v":0},{"$f":"'BX Language acquisition'!D199","v":0}]
[{"$f":"'BX Language acquisition'!A200","v":0},{"$f":"'BX Language acquisition'!B200","v":0},null,{"$f":"'BX Language acquisition'!C200","v":0},{"$f":"'BX Language acquisition'!D200","v":0}]
[{"$f":"'BX Language acquisition'!A201","v":0},{"$f":"'BX Language acquisition'!B201","v":0},null,{"$f":"'BX Language acquisition'!C201","v":0},{"$f":"'BX Language acquisition'!D201","v":0}]
[{"$f":"'BX Language acquisition'!A202","v":0},{"$f":"'BX Language acquisition'!B202","v":0},null,{"$f":"'BX Language acquisition'!C202","v":0},{"$f":"'BX Language acquisition'!D202","v":0}]
[{"$f":"'BX Language acquisition'!A203","v":0},{"$f":"'BX Language acquisition'!B203","v":0},null,{"$f":"'BX Language acquisition'!C203","v":0},{"$f":"'BX Language acquisition'!D203","v":0}]
[{"$f":"'BX Language acquisition'!A204","v":0},{"$f":"'BX Language acquisition'!B204","v":0},null,{"$f":"'BX Language acquisition'!C204","v":0},{"$f":"'BX Language acquisition'!D204","v":0}]
[{"$f":"'BX Language acquisition'!A205","v":0},{"$f":"'BX Language acquisition'!B205","v":0},null,{"$f":"'BX Language acquisition'!C205","v":0},{"$f":"'BX Language acquisition'!D205","v":0}]
[{"$f":"'BX Language acquisition'!A206","v":0},{"$f":"'BX Language acquisition'!B206","v":0},null,{"$f":"'BX Language acquisition'!C206","v":0},{"$f":"'BX Language acquisition'!D206","v":0}]
[{"$f":"'BX Language acquisition'!A207","v":0},{"$f":"'BX Language acquisition'!B207","v":0},null,{"$f":"'BX Language acquisition'!C207","v":0},{"$f":"'BX Language acquisition'!D207","v":0}]
[{"$f":"'BX Language acquisition'!A208","v":0},{"$f":"'BX Language acquisition'!B208","v":0},null,{"$f":"'BX Language acquisition'!C208","v":0},{"$f":"'BX Language acquisition'!D208","v":0}]
[{"$f":"'BX Language acquisition'!A209","v":0},{"$f":"'BX Language acquisition'!B209","v":0},null,{"$f":"'BX Language acquisition'!C209","v":0},{"$f":"'BX Language acquisition'!D209","v":0}]
[{"$f":"'BX Language acquisition'!A210","v":0},{"$f":"'BX Language acquisition'!B210","v":0},null,{"$f":"'BX Language acquisition'!C210","v":0},{"$f":"'BX Language acquisition'!D210","v":0}]
[{"$f":"'BX Language acquisition'!A211","v":0},{"$f":"'BX Language acquisition'!B211","v":0},null,{"$f":"'BX Language acquisition'!C211","v":0},{"$f":"'BX Language acquisition'!D211","v":0}]
[{"$f":"'BX Language acquisition'!A212","v":0},{"$f":"'BX Language acquisition'!B212","v":0},null,{"$f":"'BX Language acquisition'!C212","v":0},{"$f":"'BX Language acquisition'!D212","v":0}]
[{"$f":"'BX Language acquisition'!A213","v":0},{"$f":"'BX Language acquisition'!B213","v":0},null,{"$f":"'BX Language acquisition'!C213","v":0},{"$f":"'BX Language acquisition'!D213","v":0}]
[{"$f":"'BX Language acquisition'!A214","v":0},{"$f":"'BX Language acquisition'!B214","v":0},null,{"$f":"'BX Language acquisition'!C214","v":0},{"$f":"'BX Language acquisition'!D214","v":0}]
[{"$f":"'BX Language acquisition'!A215","v":0},{"$f":"'BX Language acquisition'!B215","v":0},null,{"$f":"'BX Language acquisition'!C215","v":0},{"$f":"'BX Language acquisition'!D215","v":0}]
[{"$f":"'BX Language acquisition'!A216","v":0},{"$f":"'BX Language acquisition'!B216","v":0},null,{"$f":"'BX Language acquisition'!C216","v":0},{"$f":"'BX Language acquisition'!D216","v":0}]
[{"$f":"'BX Language acquisition'!A217","v":0},{"$f":"'BX Language acquisition'!B217","v":0},null,{"$f":"'BX Language acquisition'!C217","v":0},{"$f":"'BX Language acquisition'!D217","v":0}]
[{"$f":"'BX Language acquisition'!A218","v":0},{"$f":"'BX Language acquisition'!B218","v":0},null,{"$f":"'BX Language acquisition'!C218","v":0},{"$f":"'BX Language acquisition'!D218","v":0}]
[{"$f":"'BX Language acquisition'!A219","v":0},{"$f":"'BX Language acquisition'!B219","v":0},null,{"$f":"'BX Language acquisition'!C219","v":0},{"$f":"'BX Language acquisition'!D219","v":0}]
[{"$f":"'BX Language acquisition'!A220","v":0},{"$f":"'BX Language acquisition'!B220","v":0},null,{"$f":"'BX Language acquisition'!C220","v":0},{"$f":"'BX Language acquisition'!D220","v":0}]
[{"$f":"'BX Language acquisition'!A221","v":0},{"$f":"'BX Language acquisition'!B221","v":0},null,{"$f":"'BX Language acquisition'!C221","v":0},{"$f":"'BX Language acquisition'!D221","v":0}]
[{"$f":"'BX Language acquisition'!A222","v":0},{"$f":"'BX Language acquisition'!B222","v":0},null,{"$f":"'BX Language acquisition'!C222","v":0},{"$f":"'BX Language acquisition'!D222","v":0}]
[{"$f":"'BX Language acquisition'!A223","v":0},{"$f":"'BX Language acquisition'!B223","v":0},null,{"$f":"'BX Language acquisition'!C223","v":0},{"$f":"'BX Language acquisition'!D223","v":0}]
[{"$f":"'BX Language acquisition'!A224","v":0},{"$f":"'BX Language acquisition'!B224","v":0},null,{"$f":"'BX Language acquisition'!C224","v":0},{"$f":"'BX Language acquisition'!D224","v":0}]
[{"$f":"'BX Language acquisition'!A225","v":0},{"$f":"'BX Language acquisition'!B225","v":0},null,{"$f":"'BX Language acquisition'!C225","v":0},{"$f":"'BX Language acquisition'!D225","v":0}]
[{"$f":"'BX Language acquisition'!A226","v":0},{"$f":"'BX Language acquisition'!B226","v":0},null,{"$f":"'BX Language acquisition'!C226","v":0},{"$f":"'BX Language acquisition'!D226","v":0}]
[{"$f":"'BX Language acquisition'!A227","v":0},{"$f":"'BX Language acquisition'!B227","v":0},null,{"$f":"'BX Language acquisition'!C227","v":0},{"$f":"'BX Language acquisition'!D227","v":0}]
[{"$f":"'BX Language acquisition'!A228","v":0},{"$f":"'BX Language acquisition'!B228","v":0},null,{"$f":"'BX Language acquisition'!C228","v":0},{"$f":"'BX Language acquisition'!D228","v":0}]
[{"$f":"'BX Language acquisition'!A229","v":0},{"$f":"'BX Language acquisition'!B229","v":0},null,{"$f":"'BX Language acquisition'!C229","v":0},{"$f":"'BX Language acquisition'!D229","v":0}]
[{"$f":"'BX Language acquisition'!A230","v":0},{"$f":"'BX Language acquisition'!B230","v":0},null,{"$f":"'BX Language acquisition'!C230","v":0},{"$f":"'BX Language acquisition'!D230","v":0}]
[{"$f":"'BX Language acquisition'!A231","v":0},{"$f":"'BX Language acquisition'!B231","v":0},null,{"$f":"'BX Language acquisition'!C231","v":0},{"$f":"'BX Language acquisition'!D231","v":0}]
[{"$f":"'BX Language acquisition'!A232","v":0},{"$f":"'BX Language acquisition'!B232","v":0},null,{"$f":"'BX Language acquisition'!C232","v":0},{"$f":"'BX Language acquisition'!D232","v":0}]
[{"$f":"'BX Language acquisition'!A233","v":0},{"$f":"'BX Language acquisition'!B233","v":0},null,{"$f":"'BX Language acquisition'!C233","v":0},{"$f":"'BX Language acquisition'!D233","v":0}]
[{"$f":"'BX Language acquisition'!A234","v":0},{"$f":"'BX Language acquisition'!B234","v":0},null,{"$f":"'BX Language acquisition'!C234","v":0},{"$f":"'BX Language acquisition'!D234","v":0}]
[{"$f":"'BX Language acquisition'!A235","v":0},{"$f":"'BX Language acquisition'!B235","v":0},null,{"$f":"'BX Language acquisition'!C235","v":0},{"$f":"'BX Language acquisition'!D235","v":0}]
[{"$f":"'BX Language acquisition'!A236","v":0},{"$f":"'BX Language acquisition'!B236","v":0},null,{"$f":"'BX Language acquisition'!C236","v":0},{"$f":"'BX Language acquisition'!D236","v":0}]
[{"$f":"'BX Language acquisition'!A237","v":0},{"$f":"'BX Language acquisition'!B237","v":0},null,{"$f":"'BX Language acquisition'!C237","v":0},{"$f":"'BX Language acquisition'!D237","v":0}]
[{"$f":"'BX Language acquisition'!A238","v":0},{"$f":"'BX Language acquisition'!B238","v":0},null,{"$f":"'BX Language acquisition'!C238","v":0},{"$f":"'BX Language acquisition'!D238","v":0}]
[{"$f":"'BX Language acquisition'!A239","v":0},{"$f":"'BX Language acquisition'!B239","v":0},null,{"$f":"'BX Language acquisition'!C239","v":0},{"$f":"'BX Language acquisition'!D239","v":0}]
[{"$f":"'BX Language acquisition'!A240","v":0},{"$f":"'BX Language acquisition'!B240","v":0},null,{"$f":"'BX Language acquisition'!C240","v":0},{"$f":"'BX Language acquisition'!D240","v":0}]
[{"$f":"'BX Language acquisition'!A241","v":0},{"$f":"'BX Language acquisition'!B241","v":0},null,{"$f":"'BX Language acquisition'!C241","v":0},{"$f":"'BX Language acquisition'!D241","v":0}]
[{"$f":"'BX Language acquisition'!A242","v":0},{"$f":"'BX Language acquisition'!B242","v":0},null,{"$f":"'BX Language acquisition'!C242","v":0},{"$f":"'BX Language acquisition'!D242","v":0}]
[{"$f":"'BX Language acquisition'!A243","v":0},{"$f":"'BX Language acquisition'!B243","v":0},null,{"$f":"'BX Language acquisition'!C243","v":0},{"$f":"'BX Language acquisition'!D243","v":0}]
[{"$f":"'BX Language acquisition'!A244","v":0},{"$f":"'BX Language acquisition'!B244","v":0},null,{"$f":"'BX Language acquisition'!C244","v":0},{"$f":"'BX Language acquisition'!D244","v":0}]
[{"$f":"'BX Language acquisition'!A245","v":0},{"$f":"'BX Language acquisition'!B245","v":0},null,{"$f":"'BX Language acquisition'!C245","v":0},{"$f":"'BX Language acquisition'!D245","v":0}]
[{"$f":"'BX Language acquisition'!A246","v":0},{"$f":"'BX Language acquisition'!B246","v":0},null,{"$f":"'BX Language acquisition'!C246","v":0},{"$f":"'BX Language acquisition'!D246","v":0}]
[{"$f":"'BX Language acquisition'!A247","v":0},{"$f":"'BX Language acquisition'!B247","v":0},null,{"$f":"'BX Language acquisition'!C247","v":0},{"$f":"'BX Language acquisition'!D247","v":0}]
[{"$f":"'BX Language acquisition'!A248","v":0},{"$f":"'BX Language acquisition'!B248","v":0},null,{"$f":"'BX Language acquisition'!C248","v":0},{"$f":"'BX Language acquisition'!D248","v":0}]
[{"$f":"'BX Language acquisition'!A249","v":0},{"$f":"'BX Language acquisition'!B249","v":0},null,{"$f":"'BX Language acquisition'!C249","v":0},{"$f":"'BX Language acquisition'!D249","v":0}]
[{"$f":"'BX Language acquisition'!A250","v":0},{"$f":"'BX Language acquisition'!B250","v":0},null,{"$f":"'BX Language acquisition'!C250","v":0},{"$f":"'BX Language acquisition'!D250","v":0}]
[{"$f":"'BX Language acquisition'!A251","v":0},{"$f":"'BX Language acquisition'!B251","v":0},null,{"$f":"'BX Language acquisition'!C251","v":0},{"$f":"'BX Language acquisition'!D251","v":0}]
[{"$f":"'BX Language acquisition'!A252","v":0},{"$f":"'BX Language acquisition'!B252","v":0},null,{"$f":"'BX Language acquisition'!C252","v":0},{"$f":"'BX Language acquisition'!D252","v":0}]
[{"$f":"'BX Language acquisition'!A253","v":0},{"$f":"'BX Language acquisition'!B253","v":0},null,{"$f":"'BX Language acquisition'!C253","v":0},{"$f":"'BX Language acquisition'!D253","v":0}]
[{"$f":"'BX Language acquisition'!A254","v":0},{"$f":"'BX Language acquisition'!B254","v":0},null,{"$f":"'BX Language acquisition'!C254","v":0},{"$f":"'BX Language acquisition'!D254","v":0}]
[{"$f":"'BX Language acquisition'!A255","v":0},{"$f":"'BX Language acquisition'!B255","v":0},null,{"$f":"'BX Language acquisition'!C255","v":0},{"$f":"'BX Language acquisition'!D255","v":0}]
[{"$f":"'BX Language acquisition'!A256","v":0},{"$f":"'BX Language acquisition'!B256","v":0},null,{"$f":"'BX Language acquisition'!C256","v":0},{"$f":"'BX Language acquisition'!D256","v":0}]
[{"$f":"'BX Language acquisition'!A257","v":0},{"$f":"'BX Language acquisition'!B257","v":0},null,{"$f":"'BX Language acquisition'!C257","v":0},{"$f":"'BX Language acquisition'!D257","v":0}]
[{"$f":"'BX Language acquisition'!A258","v":0},{"$f":"'BX Language acquisition'!B258","v":0},null,{"$f":"'BX Language acquisition'!C258","v":0},{"$f":"'BX Language acquisition'!D258","v":0}]
[{"$f":"'BX Language acquisition'!A259","v":0},{"$f":"'BX Language acquisition'!B259","v":0},null,{"$f":"'BX Language acquisition'!C259","v":0},{"$f":"'BX Language acquisition'!D259","v":0}]
[{"$f":"'BX Language acquisition'!A260","v":0},{"$f":"'BX Language acquisition'!B260","v":0},null,{"$f":"'BX Language acquisition'!C260","v":0},{"$f":"'BX Language acquisition'!D260","v":0}]
[{"$f":"'BX Language acquisition'!A261","v":0},{"$f":"'BX Language acquisition'!B261","v":0},null,{"$f":"'BX Language acquisition'!C261","v":0},{"$f":"'BX Language acquisition'!D261","v":0}]
[{"$f":"'BX Language acquisition'!A262","v":0},{"$f":"'BX Language acquisition'!B262","v":0},null,{"$f":"'BX Language acquisition'!C262","v":0},{"$f":"'BX Language acquisition'!D262","v":0}]
[{"$f":"'BX Language acquisition'!A263","v":0},{"$f":"'BX Language acquisition'!B263","v":0},null,{"$f":"'BX Language acquisition'!C263","v":0},{"$f":"'BX Language acquisition'!D263","v":0}]
[{"$f":"'BX Language acquisition'!A264","v":0},{"$f":"'BX Language acquisition'!B264","v":0},null,{"$f":"'BX Language acquisition'!C264","v":0},{"$f":"'BX Language acquisition'!D264","v":0}]
[{"$f":"'BX Language acquisition'!A265","v":0},{"$f":"'BX Language acquisition'!B265","v":0},null,{"$f":"'BX Language acquisition'!C265","v":0},{"$f":"'BX Language acquisition'!D265","v":0}]
[{"$f":"'BX Language acquisition'!A266","v":0},{"$f":"'BX Language acquisition'!B266","v":0},null,{"$f":"'BX Language acquisition'!C266","v":0},{"$f":"'BX Language acquisition'!D266","v":0}]
[{"$f":"'BX Language acquisition'!A267","v":0},{"$f":"'BX Language acquisition'!B267","v":0},null,{"$f":"'BX Language acquisition'!C267","v":0},{"$f":"'BX Language acquisition'!D267","v":0}]
[{"$f":"'BX Language acquisition'!A268","v":0},{"$f":"'BX Language acquisition'!B268","v":0},null,{"$f":"'BX Language acquisition'!C268","v":0},{"$f":"'BX Language acquisition'!D268","v":0}]
[{"$f":"'BX Language acquisition'!A269","v":0},{"$f":"'BX Language acquisition'!B269","v":0},null,{"$f":"'BX Language acquisition'!C269","v":0},{"$f":"'BX Language acquisition'!D269","v":0}]
[{"$f":"'BX Language acquisition'!A270","v":0},{"$f":"'BX Language acquisition'!B270","v":0},null,{"$f":"'BX Language acquisition'!C270","v":0},{"$f":"'BX Language acquisition'!D270","v":0}]
[{"$f":"'BX Language acquisition'!A271","v":0},{"$f":"'BX Language acquisition'!B271","v":0},null,{"$f":"'BX Language acquisition'!C271","v":0},{"$f":"'BX Language acquisition'!D271","v":0}]
[{"$f":"'BX Language acquisition'!A272","v":0},{"$f":"'BX Language acquisition'!B272","v":0},null,{"$f":"'BX Language acquisition'!C272","v":0},{"$f":"'BX Language acquisition'!D272","v":0}]
[{"$f":"'BX Language acquisition'!A273","v":0},{"$f":"'BX Language acquisition'!B273","v":0},null,{"$f":"'BX Language acquisition'!C273","v":0},{"$f":"'BX Language acquisition'!D273","v":0}]
[{"$f":"'BX Language acquisition'!A274","v":0},{"$f":"'BX Language acquisition'!B274","v":0},null,{"$f":"'BX Language acquisition'!C274","v":0},{"$f":"'BX Language acquisition'!D274","v":0}]
[{"$f":"'BX Language acquisition'!A275","v":0},{"$f":"'BX Language acquisition'!B275","v":0},null,{"$f":"'BX Language acquisition'!C275","v":0},{"$f":"'BX Language acquisition'!D275","v":0}]
[{"$f":"'BX Language acquisition'!A276","v":0},{"$f":"'BX Language acquisition'!B276","v":0},null,{"$f":"'BX Language acquisition'!C276","v":0},{"$f":"'BX Language acquisition'!D276","v":0}]
[{"$f":"'BX Language acquisition'!A277","v":0},{"$f":"'BX Language acquisition'!B277","v":0},null,{"$f":"'BX Language acquisition'!C277","v":0},{"$f":"'BX Language acquisition'!D277","v":0}]
[{"$f":"'BX Language acquisition'!A278","v":0},{"$f":"'BX Language acquisition'!B278","v":0},null,{"$f":"'BX Language acquisition'!C278","v":0},{"$f":"'BX Language acquisition'!D278","v":0}]
[{"$f":"'BX Language acquisition'!A279","v":0},{"$f":"'BX Language acquisition'!B279","v":0},null,{"$f":"'BX Language acquisition'!C279","v":0},{"$f":"'BX Language acquisition'!D279","v":0}]
[{"$f":"'BX Language acquisition'!A280","v":0},{"$f":"'BX Language acquisition'!B280","v":0},null,{"$f":"'BX Language acquisition'!C280","v":0},{"$f":"'BX Language acquisition'!D280","v":0}]
[{"$f":"'BX Language acquisition'!A281","v":0},{"$f":"'BX Language acquisition'!B281","v":0},null,{"$f":"'BX Language acquisition'!C281","v":0},{"$f":"'BX Language acquisition'!D281","v":0}]
[{"$f":"'BX Language acquisition'!A282","v":0},{"$f":"'BX Language acquisition'!B282","v":0},null,{"$f":"'BX Language acquisition'!C282","v":0},{"$f":"'BX Language acquisition'!D282","v":0}]
[{"$f":"'BX Language acquisition'!A283","v":0},{"$f":"'BX Language acquisition'!B283","v":0},null,{"$f":"'BX Language acquisition'!C283","v":0},{"$f":"'BX Language acquisition'!D283","v":0}]
[{"$f":"'BX Language acquisition'!A284","v":0},{"$f":"'BX Language acquisition'!B284","v":0},null,{"$f":"'BX Language acquisition'!C284","v":0},{"$f":"'BX Language acquisition'!D284","v":0}]
[{"$f":"'BX Language acquisition'!A285","v":0},{"$f":"'BX Language acquisition'!B285","v":0},null,{"$f":"'BX Language acquisition'!C285","v":0},{"$f":"'BX Language acquisition'!D285","v":0}]
[{"$f":"'BX Language acquisition'!A286","v":0},{"$f":"'BX Language acquisition'!B286","v":0},null,{"$f":"'BX Language acquisition'!C286","v":0},{"$f":"'BX Language acquisition'!D286","v":0}]
[{"$f":"'BX Language acquisition'!A287","v":0},{"$f":"'BX Language acquisition'!B287","v":0},null,{"$f":"'BX Language acquisition'!C287","v":0},{"$f":"'BX Language acquisition'!D287","v":0}]
[{"$f":"'BX Language acquisition'!A288","v":0},{"$f":"'BX Language acquisition'!B288","v":0},null,{"$f":"'BX Language acquisition'!C288","v":0},{"$f":"'BX Language acquisition'!D288","v":0}]
[{"$f":"'BX Language acquisition'!A289","v":0},{"$f":"'BX Language acquisition'!B289","v":0},null,{"$f":"'BX Language acquisition'!C289","v":0},{"$f":"'BX Language acquisition'!D289","v":0}]
[{"$f":"'BX Language acquisition'!A290","v":0},{"$f":"'BX Language acquisition'!B290","v":0},null,{"$f":"'BX Language acquisition'!C290","v":0},{"$f":"'BX Language acquisition'!D290","v":0}]
[{"$f":"'BX Language acquisition'!A291","v":0},{"$f":"'BX Language acquisition'!B291","v":0},null,{"$f":"'BX Language acquisition'!C291","v":0},{"$f":"'BX Language acquisition'!D291","v":0}]
[{"$f":"'BX Language acquisition'!A292","v":0},{"$f":"'BX Language acquisition'!B292","v":0},null,{"$f":"'BX Language acquisition'!C292","v":0},{"$f":"'BX Language acquisition'!D292","v":0}]
[{"$f":"'BX Language acquisition'!A293","v":0},{"$f":"'BX Language acquisition'!B293","v":0},null,{"$f":"'BX Language acquisition'!C293","v":0},{"$f":"'BX Language acquisition'!D293","v":0}]
[{"$f":"'BX Language acquisition'!A294","v":0},{"$f":"'BX Language acquisition'!B294","v":0},null,{"$f":"'BX Language acquisition'!C294","v":0},{"$f":"'BX Language acquisition'!D294","v":0}]
[{"$f":"'BX Language acquisition'!A295","v":0},{"$f":"'BX Language acquisition'!B295","v":0},null,{"$f":"'BX Language acquisition'!C295","v":0},{"$f":"'BX Language acquisition'!D295","v":0}]
[{"$f":"'BX Language acquisition'!A296","v":0},{"$f":"'BX Language acquisition'!B296","v":0},null,{"$f":"'BX Language acquisition'!C296","v":0},{"$f":"'BX Language acquisition'!D296","v":0}]
[{"$f":"'BX Language acquisition'!A297","v":0},{"$f":"'BX Language acquisition'!B297","v":0},null,{"$f":"'BX Language acquisition'!C297","v":0},{"$f":"'BX Language acquisition'!D297","v":0}]
[{"$f":"'BX Language acquisition'!A298","v":0},{"$f":"'BX Language acquisition'!B298","v":0},null,{"$f":"'BX Language acquisition'!C298","v":0},{"$f":"'BX Language acquisition'!D298","v":0}]
[{"$f":"'BX Language acquisition'!A299","v":0},{"$f":"'BX Language acquisition'!B299","v":0},null,{"$f":"'BX Language acquisition'!C299","v":0},{"$f":"'BX Language acquisition'!D299","v":0}]
[{"$f":"'BX Language acquisition'!A300","v":0},{"$f":"'BX Language acquisition'!B300","v":0},null,{"$f":"'BX Language acquisition'!C300","v":0},{"$f":"'BX Language acquisition'!D300","v":0}]
[{"$f":"'BX Language acquisition'!A301","v":0},{"$f":"'BX Language acquisition'!B301","v":0},null,{"$f":"'BX Language acquisition'!C301","v":0},{"$f":"'BX Language acquisition'!D301","v":0}]
[{"$f":"'BX Language acquisition'!A302","v":0},{"$f":"'BX Language acquisition'!B302","v":0},null,{"$f":"'BX Language acquisition'!C302","v":0},{"$f":"'BX Language acquisition'!D302","v":0}]
[{"$f":"'BX Language acquisition'!A303","v":0},{"$f":"'BX Language acquisition'!B303","v":0},null,{"$f":"'BX Language acquisition'!C303","v":0},{"$f":"'BX Language acquisition'!D303","v":0}]
[{"$f":"'BX Language acquisition'!A304","v":0},{"$f":"'BX Language acquisition'!B304","v":0},null,{"$f":"'BX Language acquisition'!C304","v":0},{"$f":"'BX Language acquisition'!D304","v":0}]
[{"$f":"'BX Language acquisition'!A305","v":0},{"$f":"'BX Language acquisition'!B305","v":0},null,{"$f":"'BX Language acquisition'!C305","v":0},{"$f":"'BX Language acquisition'!D305","v":0}]
[{"$f":"'BX Language acquisition'!A306","v":0},{"$f":"'BX Language acquisition'!B306","v":0},null,{"$f":"'BX Language acquisition'!C306","v":0},{"$f":"'BX Language acquisition'!D306","v":0}]
[{"$f":"'BX Language acquisition'!A307","v":0},{"$f":"'BX Language acquisition'!B307","v":0},null,{"$f":"'BX Language acquisition'!C307","v":0},{"$f":"'BX Language acquisition'!D307","v":0}]
[{"$f":"'BX Language acquisition'!A308","v":0},{"$f":"'BX Language acquisition'!B308","v":0},null,{"$f":"'BX Language acquisition'!C308","v":0},{"$f":"'BX Language acquisition'!D308","v":0}]
[{"$f":"'BX Language acquisition'!A309","v":0},{"$f":"'BX Language acquisition'!B309","v":0},null,{"$f":"'BX Language acquisition'!C309","v":0},{"$f":"'BX Language acquisition'!D309","v":0}]
[{"$f":"'BX Language acquisition'!A310","v":0},{"$f":"'BX Language acquisition'!B310","v":0},null,{"$f":"'BX Language acquisition'!C310","v":0},{"$f":"'BX Language acquisition'!D310","v":0}]
[{"$f":"'BX Language acquisition'!A311","v":0},{"$f":"'BX Language acquisition'!B311","v":0},null,{"$f":"'BX Language acquisition'!C311","v":0},{"$f":"'BX Language acquisition'!D311","v":0}]
[{"$f":"'BX Language acquisition'!A312","v":0},{"$f":"'BX Language acquisition'!B312","v":0},null,{"$f":"'BX Language acquisition'!C312","v":0},{"$f":"'BX Language acquisition'!D312","v":0}]
[{"$f":"'BX Language acquisition'!A313","v":0},{"$f":"'BX Language acquisition'!B313","v":0},null,{"$f":"'BX Language acquisition'!C313","v":0},{"$f":"'BX Language acquisition'!D313","v":0}]
[{"$f":"'BX Language acquisition'!A314","v":0},{"$f":"'BX Language acquisition'!B314","v":0},null,{"$f":"'BX Language acquisition'!C314","v":0},{"$f":"'BX Language acquisition'!D314","v":0}]
[{"$f":"'BX Language acquisition'!A315","v":0},{"$f":"'BX Language acquisition'!B315","v":0},null,{"$f":"'BX Language acquisition'!C315","v":0},{"$f":"'BX Language acquisition'!D315","v":0}]
[{"$f":"'BX Language acquisition'!A316","v":0},{"$f":"'BX Language acquisition'!B316","v":0},null,{"$f":"'BX Language acquisition'!C316","v":0},{"$f":"'BX Language acquisition'!D316","v":0}]
[{"$f":"'BX Language acquisition'!A317","v":0},{"$f":"'BX Language acquisition'!B317","v":0},null,{"$f":"'BX Language acquisition'!C317","v":0},{"$f":"'BX Language acquisition'!D317","v":0}]
[{"$f":"'BX Language acquisition'!A318","v":0},{"$f":"'BX Language acquisition'!B318","v":0},null,{"$f":"'BX Language acquisition'!C318","v":0},{"$f":"'BX Language acquisition'!D318","v":0}]
[{"$f":"'BX Language acquisition'!A319","v":0},{"$f":"'BX Language acquisition'!B319","v":0},null,{"$f":"'BX Language acquisition'!C319","v":0},{"$f":"'BX Language acquisition'!D319","v":0}]
[{"$f":"'BX Language acquisition'!A320","v":0},{"$f":"'BX Language acquisition'!B320","v":0},null,{"$f":"'BX Language acquisition'!C320","v":0},{"$f":"'BX Language acquisition'!D320","v":0}]
[{"$f":"'BX Language acquisition'!A321","v":0},{"$f":"'BX Language acquisition'!B321","v":0},null,{"$f":"'BX Language acquisition'!C321","v":0},{"$f":"'BX Language acquisition'!D321","v":0}]
[{"$f":"'BX Language acquisition'!A322","v":0},{"$f":"'BX Language acquisition'!B322","v":0},null,{"$f":"'BX Language acquisition'!C322","v":0},{"$f":"'BX Language acquisition'!D322","v":0}]
[{"$f":"'BX Language acquisition'!A323","v":0},{"$f":"'BX Language acquisition'!B323","v":0},null,{"$f":"'BX Language acquisition'!C323","v":0},{"$f":"'BX Language acquisition'!D323","v":0}]
[{"$f":"'BX Language acquisition'!A324","v":0},{"$f":"'BX Language acquisition'!B324","v":0},null,{"$f":"'BX Language acquisition'!C324","v":0},{"$f":"'BX Language acquisition'!D324","v":0}]
[{"$f":"'BX Language acquisition'!A325","v":0},{"$f":"'BX Language acquisition'!B325","v":0},null,{"$f":"'BX Language acquisition'!C325","v":0},{"$f":"'BX Language acquisition'!D325","v":0}]
[{"$f":"'BX Language acquisition'!A326","v":0},{"$f":"'BX Language acquisition'!B326","v":0},null,{"$f":"'BX Language acquisition'!C326","v":0},{"$f":"'BX Language acquisition'!D326","v":0}]
[{"$f":"'BX Language acquisition'!A327","v":0},{"$f":"'BX Language acquisition'!B327","v":0},null,{"$f":"'BX Language acquisition'!C327","v":0},{"$f":"'BX Language acquisition'!D327","v":0}]
[{"$f":"'BX Language acquisition'!A328","v":0},{"$f":"'BX Language acquisition'!B328","v":0},null,{"$f":"'BX Language acquisition'!C328","v":0},{"$f":"'BX Language acquisition'!D328","v":0}]
[{"$f":"'BX Language acquisition'!A329","v":0},{"$f":"'BX Language acquisition'!B329","v":0},null,{"$f":"'BX Language acquisition'!C329","v":0},{"$f":"'BX Language acquisition'!D329","v":0}]
[{"$f":"'BX Language acquisition'!A330","v":0},{"$f":"'BX Language acquisition'!B330","v":0},null,{"$f":"'BX Language acquisition'!C330","v":0},{"$f":"'BX Language acquisition'!D330","v":0}]
[{"$f":"'BX Language acquisition'!A331","v":0},{"$f":"'BX Language acquisition'!B331","v":0},null,{"$f":"'BX Language acquisition'!C331","v":0},{"$f":"'BX Language acquisition'!D331","v":0}]
[{"$f":"'BX Language acquisition'!A332","v":0},{"$f":"'BX Language acquisition'!B332","v":0},null,{"$f":"'BX Language acquisition'!C332","v":0},{"$f":"'BX Language acquisition'!D332","v":0}]
[{"$f":"'BX Language acquisition'!A333","v":0},{"$f":"'BX Language acquisition'!B333","v":0},null,{"$f":"'BX Language acquisition'!C333","v":0},{"$f":"'BX Language acquisition'!D333","v":0}]
[{"$f":"'BX Language acquisition'!A334","v":0},{"$f":"'BX Language acquisition'!B334","v":0},null,{"$f":"'BX Language acquisition'!C334","v":0},{"$f":"'BX Language acquisition'!D334","v":0}]
[{"$f":"'BX Language acquisition'!A335","v":0},{"$f":"'BX Language acquisition'!B335","v":0},null,{"$f":"'BX Language acquisition'!C335","v":0},{"$f":"'BX Language acquisition'!D335","v":0}]
[{"$f":"'BX Language acquisition'!A336","v":0},{"$f":"'BX Language acquisition'!B336","v":0},null,{"$f":"'BX Language acquisition'!C336","v":0},{"$f":"'BX Language acquisition'!D336","v":0}]
[{"$f":"'BX Language acquisition'!A337","v":0},{"$f":"'BX Language acquisition'!B337","v":0},null,{"$f":"'BX Language acquisition'!C337","v":0},{"$f":"'BX Language acquisition'!D337","v":0}]
[{"$f":"'BX Language acquisition'!A338","v":0},{"$f":"'BX Language acquisition'!B338","v":0},null,{"$f":"'BX Language acquisition'!C338","v":0},{"$f":"'BX Language acquisition'!D338","v":0}]
[{"$f":"'BX Language acquisition'!A339","v":0},{"$f":"'BX Language acquisition'!B339","v":0},null,{"$f":"'BX Language acquisition'!C339","v":0},{"$f":"'BX Language acquisition'!D339","v":0}]
[{"$f":"'BX Language acquisition'!A340","v":0},{"$f":"'BX Language acquisition'!B340","v":0},null,{"$f":"'BX Language acquisition'!C340","v":0},{"$f":"'BX Language acquisition'!D340","v":0}]
[{"$f":"'BX Language acquisition'!A341","v":0},{"$f":"'BX Language acquisition'!B341","v":0},null,{"$f":"'BX Language acquisition'!C341","v":0},{"$f":"'BX Language acquisition'!D341","v":0}]
[{"$f":"'BX Language acquisition'!A342","v":0},{"$f":"'BX Language acquisition'!B342","v":0},null,{"$f":"'BX Language acquisition'!C342","v":0},{"$f":"'BX Language acquisition'!D342","v":0}]
[{"$f":"'BX Language acquisition'!A343","v":0},{"$f":"'BX Language acquisition'!B343","v":0},null,{"$f":"'BX Language acquisition'!C343","v":0},{"$f":"'BX Language acquisition'!D343","v":0}]
[{"$f":"'BX Language acquisition'!A344","v":0},{"$f":"'BX Language acquisition'!B344","v":0},null,{"$f":"'BX Language acquisition'!C344","v":0},{"$f":"'BX Language acquisition'!D344","v":0}]
[{"$f":"'BX Language acquisition'!A345","v":0},{"$f":"'BX Language acquisition'!B345","v":0},null,{"$f":"'BX Language acquisition'!C345","v":0},{"$f":"'BX Language acquisition'!D345","v":0}]
[{"$f":"'BX Language acquisition'!A346","v":0},{"$f":"'BX Language acquisition'!B346","v":0},null,{"$f":"'BX Language acquisition'!C346","v":0},{"$f":"'BX Language acquisition'!D346","v":0}]
[{"$f":"'BX Language acquisition'!A347","v":0},{"$f":"'BX Language acquisition'!B347","v":0},null,{"$f":"'BX Language acquisition'!C347","v":0},{"$f":"'BX Language acquisition'!D347","v":0}]
[{"$f":"'BX Language acquisition'!A348","v":0},{"$f":"'BX Language acquisition'!B348","v":0},null,{"$f":"'BX Language acquisition'!C348","v":0},{"$f":"'BX Language acquisition'!D348","v":0}]
[{"$f":"'BX Language acquisition'!A349","v":0},{"$f":"'BX Language acquisition'!B349","v":0},null,{"$f":"'BX Language acquisition'!C349","v":0},{"$f":"'BX Language acquisition'!D349","v":0}]
[{"$f":"'BX Language acquisition'!A350","v":0},{"$f":"'BX Language acquisition'!B350","v":0},null,{"$f":"'BX Language acquisition'!C350","v":0},{"$f":"'BX Language acquisition'!D350","v":0}]
[{"$f":"'BX Language acquisition'!A351","v":0},{"$f":"'BX Language acquisition'!B351","v":0},null,{"$f":"'BX Language acquisition'!C351","v":0},{"$f":"'BX Language acquisition'!D351","v":0}]
[{"$f":"'BX Language acquisition'!A352","v":0},{"$f":"'BX Language acquisition'!B352","v":0},null,{"$f":"'BX Language acquisition'!C352","v":0},{"$f":"'BX Language acquisition'!D352","v":0}]
[{"$f":"'BX Language acquisition'!A353","v":0},{"$f":"'BX Language acquisition'!B353","v":0},null,{"$f":"'BX Language acquisition'!C353","v":0},{"$f":"'BX Language acquisition'!D353","v":0}]
[{"$f":"'BX Language acquisition'!A354","v":0},{"$f":"'BX Language acquisition'!B354","v":0},null,{"$f":"'BX Language acquisition'!C354","v":0},{"$f":"'BX Language acquisition'!D354","v":0}]
[{"$f":"'BX Language acquisition'!A355","v":0},{"$f":"'BX Language acquisition'!B355","v":0},null,{"$f":"'BX Language acquisition'!C355","v":0},{"$f":"'BX Language acquisition'!D355","v":0}]
[{"$f":"'BX Language acquisition'!A356","v":0},{"$f":"'BX Language acquisition'!B356","v":0},null,{"$f":"'BX Language acquisition'!C356","v":0},{"$f":"'BX Language acquisition'!D356","v":0}]
[{"$f":"'BX Language acquisition'!A357","v":0},{"$f":"'BX Language acquisition'!B357","v":0},null,{"$f":"'BX Language acquisition'!C357","v":0},{"$f":"'BX Language acquisition'!D357","v":0}]
[{"$f":"'BX Language acquisition'!A358","v":0},{"$f":"'BX Language acquisition'!B358","v":0},null,{"$f":"'BX Language acquisition'!C358","v":0},{"$f":"'BX Language acquisition'!D358","v":0}]
[{"$f":"'BX Language acquisition'!A359","v":0},{"$f":"'BX Language acquisition'!B359","v":0},null,{"$f":"'BX Language acquisition'!C359","v":0},{"$f":"'BX Language acquisition'!D359","v":0}]
[{"$f":"'BX Language acquisition'!A360","v":0},{"$f":"'BX Language acquisition'!B360","v":0},null,{"$f":"'BX Language acquisition'!C360","v":0},{"$f":"'BX Language acquisition'!D360","v":0}]
[{"$f":"'BX Language acquisition'!A361","v":0},{"$f":"'BX Language acquisition'!B361","v":0},null,{"$f":"'BX Language acquisition'!C361","v":0},{"$f":"'BX Language acquisition'!D361","v":0}]
[{"$f":"'BX Language acquisition'!A362","v":0},{"$f":"'BX Language acquisition'!B362","v":0},null,{"$f":"'BX Language acquisition'!C362","v":0},{"$f":"'BX Language acquisition'!D362","v":0}]
[{"$f":"'BX Language acquisition'!A363","v":0},{"$f":"'BX Language acquisition'!B363","v":0},null,{"$f":"'BX Language acquisition'!C363","v":0},{"$f":"'BX Language acquisition'!D363","v":0}]
[{"$f":"'BX Language acquisition'!A364","v":0},{"$f":"'BX Language acquisition'!B364","v":0},null,{"$f":"'BX Language acquisition'!C364","v":0},{"$f":"'BX Language acquisition'!D364","v":0}]
[{"$f":"'BX Language acquisition'!A365","v":0},{"$f":"'BX Language acquisition'!B365","v":0},null,{"$f":"'BX Language acquisition'!C365","v":0},{"$f":"'BX Language acquisition'!D365","v":0}]
[{"$f":"'BX Language acquisition'!A366","v":0},{"$f":"'BX Language acquisition'!B366","v":0},null,{"$f":"'BX Language acquisition'!C366","v":0},{"$f":"'BX Language acquisition'!D366","v":0}]
[{"$f":"'BX Language acquisition'!A367","v":0},{"$f":"'BX Language acquisition'!B367","v":0},null,{"$f":"'BX Language acquisition'!C367","v":0},{"$f":"'BX Language acquisition'!D367","v":0}]
[{"$f":"'BX Language acquisition'!A368","v":0},{"$f":"'BX Language acquisition'!B368","v":0},null,{"$f":"'BX Language acquisition'!C368","v":0},{"$f":"'BX Language acquisition'!D368","v":0}]
[{"$f":"'BX Language acquisition'!A369","v":0},{"$f":"'BX Language acquisition'!B369","v":0},null,{"$f":"'BX Language acquisition'!C369","v":0},{"$f":"'BX Language acquisition'!D369","v":0}]
[{"$f":"'BX Language acquisition'!A370","v":0},{"$f":"'BX Language acquisition'!B370","v":0},null,{"$f":"'BX Language acquisition'!C370","v":0},{"$f":"'BX Language acquisition'!D370","v":0}]
[{"$f":"'BX Language acquisition'!A371","v":0},{"$f":"'BX Language acquisition'!B371","v":0},null,{"$f":"'BX Language acquisition'!C371","v":0},{"$f":"'BX Language acquisition'!D371","v":0}]
[{"$f":"'BX Language acquisition'!A372","v":0},{"$f":"'BX Language acquisition'!B372","v":0},null,{"$f":"'BX Language acquisition'!C372","v":0},{"$f":"'BX Language acquisition'!D372","v":0}]
[{"$f":"'BX Language acquisition'!A373","v":0},{"$f":"'BX Language acquisition'!B373","v":0},null,{"$f":"'BX Language acquisition'!C373","v":0},{"$f":"'BX Language acquisition'!D373","v":0}]
[{"$f":"'BX Language acquisition'!A374","v":0},{"$f":"'BX Language acquisition'!B374","v":0},null,{"$f":"'BX Language acquisition'!C374","v":0},{"$f":"'BX Language acquisition'!D374","v":0}]
[{"$f":"'BX Language acquisition'!A375","v":0},{"$f":"'BX Language acquisition'!B375","v":0},null,{"$f":"'BX Language acquisition'!C375","v":0},{"$f":"'BX Language acquisition'!D375","v":0}]
[{"$f":"'BX Language acquisition'!A376","v":0},{"$f":"'BX Language acquisition'!B376","v":0},null,{"$f":"'BX Language acquisition'!C376","v":0},{"$f":"'BX Language acquisition'!D376","v":0}]
[{"$f":"'BX Language acquisition'!A377","v":0},{"$f":"'BX Language acquisition'!B377","v":0},null,{"$f":"'BX Language acquisition'!C377","v":0},{"$f":"'BX Language acquisition'!D377","v":0}]
[{"$f":"'BX Language acquisition'!A378","v":0},{"$f":"'BX Language acquisition'!B378","v":0},null,{"$f":"'BX Language acquisition'!C378","v":0},{"$f":"'BX Language acquisition'!D378","v":0}]
[{"$f":"'BX Language acquisition'!A379","v":0},{"$f":"'BX Language acquisition'!B379","v":0},null,{"$f":"'BX Language acquisition'!C379","v":0},{"$f":"'BX Language acquisition'!D379","v":0}]
[{"$f":"'BX Language acquisition'!A380","v":0},{"$f":"'BX Language acquisition'!B380","v":0},null,{"$f":"'BX Language acquisition'!C380","v":0},{"$f":"'BX Language acquisition'!D380","v":0}]
[{"$f":"'BX Language acquisition'!A381","v":0},{"$f":"'BX Language acquisition'!B381","v":0},null,{"$f":"'BX Language acquisition'!C381","v":0},{"$f":"'BX Language acquisition'!D381","v":0}]
[{"$f":"'BX Language acquisition'!A382","v":0},{"$f":"'BX Language acquisition'!B382","v":0},null,{"$f":"'BX Language acquisition'!C382","v":0},{"$f":"'BX Language acquisition'!D382","v":0}]
[{"$f":"'BX Language acquisition'!A383","v":0},{"$f":"'BX Language acquisition'!B383","v":0},null,{"$f":"'BX Language acquisition'!C383","v":0},{"$f":"'BX Language acquisition'!D383","v":0}]
[{"$f":"'BX Language acquisition'!A384","v":0},{"$f":"'BX Language acquisition'!B384","v":0},null,{"$f":"'BX Language acquisition'!C384","v":0},{"$f":"'BX Language acquisition'!D384","v":0}]
[{"$f":"'BX Language acquisition'!A385","v":0},{"$f":"'BX Language acquisition'!B385","v":0},null,{"$f":"'BX Language acquisition'!C385","v":0},{"$f":"'BX Language acquisition'!D385","v":0}]
[{"$f":"'BX Language acquisition'!A386","v":0},{"$f":"'BX Language acquisition'!B386","v":0},null,{"$f":"'BX Language acquisition'!C386","v":0},{"$f":"'BX Language acquisition'!D386","v":0}]
[{"$f":"'BX Language acquisition'!A387","v":0},{"$f":"'BX Language acquisition'!B387","v":0},null,{"$f":"'BX Language acquisition'!C387","v":0},{"$f":"'BX Language acquisition'!D387","v":0}]
[{"$f":"'BX Language acquisition'!A388","v":0},{"$f":"'BX Language acquisition'!B388","v":0},null,{"$f":"'BX Language acquisition'!C388","v":0},{"$f":"'BX Language acquisition'!D388","v":0}]
[{"$f":"'BX Language acquisition'!A389","v":0},{"$f":"'BX Language acquisition'!B389","v":0},null,{"$f":"'BX Language acquisition'!C389","v":0},{"$f":"'BX Language acquisition'!D389","v":0}]
[{"$f":"'BX Language acquisition'!A390","v":0},{"$f":"'BX Language acquisition'!B390","v":0},null,{"$f":"'BX Language acquisition'!C390","v":0},{"$f":"'BX Language acquisition'!D390","v":0}]
[{"$f":"'BX Language acquisition'!A391","v":0},{"$f":"'BX Language acquisition'!B391","v":0},null,{"$f":"'BX Language acquisition'!C391","v":0},{"$f":"'BX Language acquisition'!D391","v":0}]
[{"$f":"'BX Language acquisition'!A392","v":0},{"$f":"'BX Language acquisition'!B392","v":0},null,{"$f":"'BX Language acquisition'!C392","v":0},{"$f":"'BX Language acquisition'!D392","v":0}]
[{"$f":"'BX Language acquisition'!A393","v":0},{"$f":"'BX Language acquisition'!B393","v":0},null,{"$f":"'BX Language acquisition'!C393","v":0},{"$f":"'BX Language acquisition'!D393","v":0}]
[{"$f":"'BX Language acquisition'!A394","v":0},{"$f":"'BX Language acquisition'!B394","v":0},null,{"$f":"'BX Language acquisition'!C394","v":0},{"$f":"'BX Language acquisition'!D394","v":0}]
[{"$f":"'BX Language acquisition'!A395","v":0},{"$f":"'BX Language acquisition'!B395","v":0},null,{"$f":"'BX Language acquisition'!C395","v":0},{"$f":"'BX Language acquisition'!D395","v":0}]
[{"$f":"'BX Language acquisition'!A396","v":0},{"$f":"'BX Language acquisition'!B396","v":0},null,{"$f":"'BX Language acquisition'!C396","v":0},{"$f":"'BX Language acquisition'!D396","v":0}]
[{"$f":"'BX Language acquisition'!A397","v":0},{"$f":"'BX Language acquisition'!B397","v":0},null,{"$f":"'BX Language acquisition'!C397","v":0},{"$f":"'BX Language acquisition'!D397","v":0}]
[{"$f":"'BX Language acquisition'!A398","v":0},{"$f":"'BX Language acquisition'!B398","v":0},null,{"$f":"'BX Language acquisition'!C398","v":0},{"$f":"'BX Language acquisition'!D398","v":0}]
[{"$f":"'BX Language acquisition'!A399","v":0},{"$f":"'BX Language acquisition'!B399","v":0},null,{"$f":"'BX Language acquisition'!C399","v":0},{"$f":"'BX Language acquisition'!D399","v":0}]
[{"$f":"'BX Language acquisition'!A400","v":0},{"$f":"'BX Language acquisition'!B400","v":0},null,{"$f":"'BX Language acquisition'!C400","v":0},{"$f":"'BX Language acquisition'!D400","v":0}]
[{"$f":"'BX Language acquisition'!A401","v":0},{"$f":"'BX Language acquisition'!B401","v":0},null,{"$f":"'BX Language acquisition'!C401","v":0},{"$f":"'BX Language acquisition'!D401","v":0}]
[{"$f":"'BX Language acquisition'!A402","v":0},{"$f":"'BX Language acquisition'!B402","v":0},null,{"$f":"'BX Language acquisition'!C402","v":0},{"$f":"'BX Language acquisition'!D402","v":0}]
[{"$f":"'BX Language acquisition'!A403","v":0},{"$f":"'BX Language acquisition'!B403","v":0},null,{"$f":"'BX Language acquisition'!C403","v":0},{"$f":"'BX Language acquisition'!D403","v":0}]
[{"$f":"'BX Language acquisition'!A404","v":0},{"$f":"'BX Language acquisition'!B404","v":0},null,{"$f":"'BX Language acquisition'!C404","v":0},{"$f":"'BX Language acquisition'!D404","v":0}]
[{"$f":"'BX Language acquisition'!A405","v":0},{"$f":"'BX Language acquisition'!B405","v":0},null,{"$f":"'BX Language acquisition'!C405","v":0},{"$f":"'BX Language acquisition'!D405","v":0}]
[{"$f":"'BX Language acquisition'!A406","v":0},{"$f":"'BX Language acquisition'!B406","v":0},null,{"$f":"'BX Language acquisition'!C406","v":0},{"$f":"'BX Language acquisition'!D406","v":0}]
[{"$f":"'BX Language acquisition'!A407","v":0},{"$f":"'BX Language acquisition'!B407","v":0},null,{"$f":"'BX Language acquisition'!C407","v":0},{"$f":"'BX Language acquisition'!D407","v":0}]
[{"$f":"'BX Language acquisition'!A408","v":0},{"$f":"'BX Language acquisition'!B408","v":0},null,{"$f":"'BX Language acquisition'!C408","v":0},{"$f":"'BX Language acquisition'!D408","v":0}]
[{"$f":"'BX Language acquisition'!A409","v":0},{"$f":"'BX Language acquisition'!B409","v":0},null,{"$f":"'BX Language acquisition'!C409","v":0},{"$f":"'BX Language acquisition'!D409","v":0}]
[{"$f":"'BX Language acquisition'!A410","v":0},{"$f":"'BX Language acquisition'!B410","v":0},null,{"$f":"'BX Language acquisition'!C410","v":0},{"$f":"'BX Language acquisition'!D410","v":0}]
[{"$f":"'BX Language acquisition'!A411","v":0},{"$f":"'BX Language acquisition'!B411","v":0},null,{"$f":"'BX Language acquisition'!C411","v":0},{"$f":"'BX Language acquisition'!D411","v":0}]
[{"$f":"'BX Language acquisition'!A412","v":0},{"$f":"'BX Language acquisition'!B412","v":0},null,{"$f":"'BX Language acquisition'!C412","v":0},{"$f":"'BX Language acquisition'!D412","v":0}]
[{"$f":"'BX Language acquisition'!A413","v":0},{"$f":"'BX Language acquisition'!B413","v":0},null,{"$f":"'BX Language acquisition'!C413","v":0},{"$f":"'BX Language acquisition'!D413","v":0}]
[{"$f":"'BX Language acquisition'!A414","v":0},{"$f":"'BX Language acquisition'!B414","v":0},null,{"$f":"'BX Language acquisition'!C414","v":0},{"$f":"'BX Language acquisition'!D414","v":0}]
[{"$f":"'BX Language acquisition'!A415","v":0},{"$f":"'BX Language acquisition'!B415","v":0},null,{"$f":"'BX Language acquisition'!C415","v":0},{"$f":"'BX Language acquisition'!D415","v":0}]
[{"$f":"'BX Language acquisition'!A416","v":0},{"$f":"'BX Language acquisition'!B416","v":0},null,{"$f":"'BX Language acquisition'!C416","v":0},{"$f":"'BX Language acquisition'!D416","v":0}]
[{"$f":"'BX Language acquisition'!A417","v":0},{"$f":"'BX Language acquisition'!B417","v":0},null,{"$f":"'BX Language acquisition'!C417","v":0},{"$f":"'BX Language acquisition'!D417","v":0}]
[{"$f":"'BX Language acquisition'!A418","v":0},{"$f":"'BX Language acquisition'!B418","v":0},null,{"$f":"'BX Language acquisition'!C418","v":0},{"$f":"'BX Language acquisition'!D418","v":0}]
[{"$f":"'BX Language acquisition'!A419","v":0},{"$f":"'BX Language acquisition'!B419","v":0},null,{"$f":"'BX Language acquisition'!C419","v":0},{"$f":"'BX Language acquisition'!D419","v":0}]
[{"$f":"'BX Language acquisition'!A420","v":0},{"$f":"'BX Language acquisition'!B420","v":0},null,{"$f":"'BX Language acquisition'!C420","v":0},{"$f":"'BX Language acquisition'!D420","v":0}]
[{"$f":"'BX Language acquisition'!A421","v":0},{"$f":"'BX Language acquisition'!B421","v":0},null,{"$f":"'BX Language acquisition'!C421","v":0},{"$f":"'BX Language acquisition'!D421","v":0}]
[{"$f":"'BX Language acquisition'!A422","v":0},{"$f":"'BX Language acquisition'!B422","v":0},null,{"$f":"'BX Language acquisition'!C422","v":0},{"$f":"'BX Language acquisition'!D422","v":0}]
[{"$f":"'BX Language acquisition'!A423","v":0},{"$f":"'BX Language acquisition'!B423","v":0},null,{"$f":"'BX Language acquisition'!C423","v":0},{"$f":"'BX Language acquisition'!D423","v":0}]
[{"$f":"'BX Language acquisition'!A424","v":0},{"$f":"'BX Language acquisition'!B424","v":0},null,{"$f":"'BX Language acquisition'!C424","v":0},{"$f":"'BX Language acquisition'!D424","v":0}]
[{"$f":"'BX Language acquisition'!A425","v":0},{"$f":"'BX Language acquisition'!B425","v":0},null,{"$f":"'BX Language acquisition'!C425","v":0},{"$f":"'BX Language acquisition'!D425","v":0}]
[{"$f":"'BX Language acquisition'!A426","v":0},{"$f":"'BX Language acquisition'!B426","v":0},null,{"$f":"'BX Language acquisition'!C426","v":0},{"$f":"'BX Language acquisition'!D426","v":0}]
[{"$f":"'BX Language acquisition'!A427","v":0},{"$f":"'BX Language acquisition'!B427","v":0},null,{"$f":"'BX Language acquisition'!C427","v":0},{"$f":"'BX Language acquisition'!D427","v":0}]
[{"$f":"'BX Language acquisition'!A428","v":0},{"$f":"'BX Language acquisition'!B428","v":0},null,{"$f":"'BX Language acquisition'!C428","v":0},{"$f":"'BX Language acquisition'!D428","v":0}]
[{"$f":"'BX Language acquisition'!A429","v":0},{"$f":"'BX Language acquisition'!B429","v":0},null,{"$f":"'BX Language acquisition'!C429","v":0},{"$f":"'BX Language acquisition'!D429","v":0}]
[{"$f":"'BX Language acquisition'!A430","v":0},{"$f":"'BX Language acquisition'!B430","v":0},null,{"$f":"'BX Language acquisition'!C430","v":0},{"$f":"'BX Language acquisition'!D430","v":0}]
[{"$f":"'BX Language acquisition'!A431","v":0},{"$f":"'BX Language acquisition'!B431","v":0},null,{"$f":"'BX Language acquisition'!C431","v":0},{"$f":"'BX Language acquisition'!D431","v":0}]
[{"$f":"'BX Language acquisition'!A432","v":0},{"$f":"'BX Language acquisition'!B432","v":0},null,{"$f":"'BX Language acquisition'!C432","v":0},{"$f":"'BX Language acquisition'!D432","v":0}]
[{"$f":"'BX Language acquisition'!A433","v":0},{"$f":"'BX Language acquisition'!B433","v":0},null,{"$f":"'BX Language acquisition'!C433","v":0},{"$f":"'BX Language acquisition'!D433","v":0}]
[{"$f":"'BX Language acquisition'!A434","v":0},{"$f":"'BX Language acquisition'!B434","v":0},null,{"$f":"'BX Language acquisition'!C434","v":0},{"$f":"'BX Language acquisition'!D434","v":0}]
[{"$f":"'BX Language acquisition'!A435","v":0},{"$f":"'BX Language acquisition'!B435","v":0},null,{"$f":"'BX Language acquisition'!C435","v":0},{"$f":"'BX Language acquisition'!D435","v":0}]
[{"$f":"'BX Language acquisition'!A436","v":0},{"$f":"'BX Language acquisition'!B436","v":0},null,{"$f":"'BX Language acquisition'!C436","v":0},{"$f":"'BX Language acquisition'!D436","v":0}]
[{"$f":"'BX Language acquisition'!A437","v":0},{"$f":"'BX Language acquisition'!B437","v":0},null,{"$f":"'BX Language acquisition'!C437","v":0},{"$f":"'BX Language acquisition'!D437","v":0}]
[{"$f":"'BX Language acquisition'!A438","v":0},{"$f":"'BX Language acquisition'!B438","v":0},null,{"$f":"'BX Language acquisition'!C438","v":0},{"$f":"'BX Language acquisition'!D438","v":0}]
[{"$f":"'BX Language acquisition'!A439","v":0},{"$f":"'BX Language acquisition'!B439","v":0},null,{"$f":"'BX Language acquisition'!C439","v":0},{"$f":"'BX Language acquisition'!D439","v":0}]
[{"$f":"'BX Language acquisition'!A440","v":0},{"$f":"'BX Language acquisition'!B440","v":0},null,{"$f":"'BX Language acquisition'!C440","v":0},{"$f":"'BX Language acquisition'!D440","v":0}]
[{"$f":"'BX Language acquisition'!A441","v":0},{"$f":"'BX Language acquisition'!B441","v":0},null,{"$f":"'BX Language acquisition'!C441","v":0},{"$f":"'BX Language acquisition'!D441","v":0}]
[{"$f":"'BX Language acquisition'!A442","v":0},{"$f":"'BX Language acquisition'!B442","v":0},null,{"$f":"'BX Language acquisition'!C442","v":0},{"$f":"'BX Language acquisition'!D442","v":0}]
[{"$f":"'BX Language acquisition'!A443","v":0},{"$f":"'BX Language acquisition'!B443","v":0},null,{"$f":"'BX Language acquisition'!C443","v":0},{"$f":"'BX Language acquisition'!D443","v":0}]
[{"$f":"'BX Language acquisition'!A444","v":0},{"$f":"'BX Language acquisition'!B444","v":0},null,{"$f":"'BX Language acquisition'!C444","v":0},{"$f":"'BX Language acquisition'!D444","v":0}]
[{"$f":"'BX Language acquisition'!A445","v":0},{"$f":"'BX Language acquisition'!B445","v":0},null,{"$f":"'BX Language acquisition'!C445","v":0},{"$f":"'BX Language acquisition'!D445","v":0}]
[{"$f":"'BX Language acquisition'!A446","v":0},{"$f":"'BX Language acquisition'!B446","v":0},null,{"$f":"'BX Language acquisition'!C446","v":0},{"$f":"'BX Language acquisition'!D446","v":0}]
[{"$f":"'BX Language acquisition'!A447","v":0},{"$f":"'BX Language acquisition'!B447","v":0},null,{"$f":"'BX Language acquisition'!C447","v":0},{"$f":"'BX Language acquisition'!D447","v":0}]
[{"$f":"'BX Language acquisition'!A448","v":0},{"$f":"'BX Language acquisition'!B448","v":0},null,{"$f":"'BX Language acquisition'!C448","v":0},{"$f":"'BX Language acquisition'!D448","v":0}]
[{"$f":"'BX Language acquisition'!A449","v":0},{"$f":"'BX Language acquisition'!B449","v":0},null,{"$f":"'BX Language acquisition'!C449","v":0},{"$f":"'BX Language acquisition'!D449","v":0}]
[{"$f":"'BX Language acquisition'!A450","v":0},{"$f":"'BX Language acquisition'!B450","v":0},null,{"$f":"'BX Language acquisition'!C450","v":0},{"$f":"'BX Language acquisition'!D450","v":0}]
[{"$f":"'BX Language acquisition'!A451","v":0},{"$f":"'BX Language acquisition'!B451","v":0},null,{"$f":"'BX Language acquisition'!C451","v":0},{"$f":"'BX Language acquisition'!D451","v":0}]
[{"$f":"'BX Language acquisition'!A452","v":0},{"$f":"'BX Language acquisition'!B452","v":0},null,{"$f":"'BX Language acquisition'!C452","v":0},{"$f":"'BX Language acquisition'!D452","v":0}]
[{"$f":"'BX Language acquisition'!A453","v":0},{"$f":"'BX Language acquisition'!B453","v":0},null,{"$f":"'BX Language acquisition'!C453","v":0},{"$f":"'BX Language acquisition'!D453","v":0}]
[{"$f":"'BX Language acquisition'!A454","v":0},{"$f":"'BX Language acquisition'!B454","v":0},null,{"$f":"'BX Language acquisition'!C454","v":0},{"$f":"'BX Language acquisition'!D454","v":0}]
[{"$f":"'BX Language acquisition'!A455","v":0},{"$f":"'BX Language acquisition'!B455","v":0},null,{"$f":"'BX Language acquisition'!C455","v":0},{"$f":"'BX Language acquisition'!D455","v":0}]
[{"$f":"'BX Language acquisition'!A456","v":0},{"$f":"'BX Language acquisition'!B456","v":0},null,{"$f":"'BX Language acquisition'!C456","v":0},{"$f":"'BX Language acquisition'!D456","v":0}]
[{"$f":"'BX Language acquisition'!A457","v":0},{"$f":"'BX Language acquisition'!B457","v":0},null,{"$f":"'BX Language acquisition'!C457","v":0},{"$f":"'BX Language acquisition'!D457","v":0}]
[{"$f":"'BX Language acquisition'!A458","v":0},{"$f":"'BX Language acquisition'!B458","v":0},null,{"$f":"'BX Language acquisition'!C458","v":0},{"$f":"'BX Language acquisition'!D458","v":0}]
[{"$f":"'BX Language acquisition'!A459","v":0},{"$f":"'BX Language acquisition'!B459","v":0},null,{"$f":"'BX Language acquisition'!C459","v":0},{"$f":"'BX Language acquisition'!D459","v":0}]
[{"$f":"'BX Language acquisition'!A460","v":0},{"$f":"'BX Language acquisition'!B460","v":0},null,{"$f":"'BX Language acquisition'!C460","v":0},{"$f":"'BX Language acquisition'!D460","v":0}]
[{"$f":"'BX Language acquisition'!A461","v":0},{"$f":"'BX Language acquisition'!B461","v":0},null,{"$f":"'BX Language acquisition'!C461","v":0},{"$f":"'BX Language acquisition'!D461","v":0}]
[{"$f":"'BX Language acquisition'!A462","v":0},{"$f":"'BX Language acquisition'!B462","v":0},null,{"$f":"'BX Language acquisition'!C462","v":0},{"$f":"'BX Language acquisition'!D462","v":0}]
[{"$f":"'BX Language acquisition'!A463","v":0},{"$f":"'BX Language acquisition'!B463","v":0},null,{"$f":"'BX Language acquisition'!C463","v":0},{"$f":"'BX Language acquisition'!D463","v":0}]
[{"$f":"'BX Language acquisition'!A464","v":0},{"$f":"'BX Language acquisition'!B464","v":0},null,{"$f":"'BX Language acquisition'!C464","v":0},{"$f":"'BX Language acquisition'!D464","v":0}]
[{"$f":"'BX Language acquisition'!A465","v":0},{"$f":"'BX Language acquisition'!B465","v":0},null,{"$f":"'BX Language acquisition'!C465","v":0},{"$f":"'BX Language acquisition'!D465","v":0}]
[{"$f":"'BX Language acquisition'!A466","v":0},{"$f":"'BX Language acquisition'!B466","v":0},null,{"$f":"'BX Language acquisition'!C466","v":0},{"$f":"'BX Language acquisition'!D466","v":0}]
[{"$f":"'BX Language acquisition'!A467","v":0},{"$f":"'BX Language acquisition'!B467","v":0},null,{"$f":"'BX Language acquisition'!C467","v":0},{"$f":"'BX Language acquisition'!D467","v":0}]
[{"$f":"'BX Language acquisition'!A468","v":0},{"$f":"'BX Language acquisition'!B468","v":0},null,{"$f":"'BX Language acquisition'!C468","v":0},{"$f":"'BX Language acquisition'!D468","v":0}]
[{"$f":"'BX Language acquisition'!A469","v":0},{"$f":"'BX Language acquisition'!B469","v":0},null,{"$f":"'BX Language acquisition'!C469","v":0},{"$f":"'BX Language acquisition'!D469","v":0}]
[{"$f":"'BX Language acquisition'!A470","v":0},{"$f":"'BX Language acquisition'!B470","v":0},null,{"$f":"'BX Language acquisition'!C470","v":0},{"$f":"'BX Language acquisition'!D470","v":0}]
[{"$f":"'BX Language acquisition'!A471","v":0},{"$f":"'BX Language acquisition'!B471","v":0},null,{"$f":"'BX Language acquisition'!C471","v":0},{"$f":"'BX Language acquisition'!D471","v":0}]
[{"$f":"'BX Language acquisition'!A472","v":0},{"$f":"'BX Language acquisition'!B472","v":0},null,{"$f":"'BX Language acquisition'!C472","v":0},{"$f":"'BX Language acquisition'!D472","v":0}]
[{"$f":"'BX Language acquisition'!A473","v":0},{"$f":"'BX Language acquisition'!B473","v":0},null,{"$f":"'BX Language acquisition'!C473","v":0},{"$f":"'BX Language acquisition'!D473","v":0}]
[{"$f":"'BX Language acquisition'!A474","v":0},{"$f":"'BX Language acquisition'!B474","v":0},null,{"$f":"'BX Language acquisition'!C474","v":0},{"$f":"'BX Language acquisition'!D474","v":0}]
[{"$f":"'BX Language acquisition'!A475","v":0},{"$f":"'BX Language acquisition'!B475","v":0},null,{"$f":"'BX Language acquisition'!C475","v":0},{"$f":"'BX Language acquisition'!D475","v":0}]
[{"$f":"'BX Language acquisition'!A476","v":0},{"$f":"'BX Language acquisition'!B476","v":0},null,{"$f":"'BX Language acquisition'!C476","v":0},{"$f":"'BX Language acquisition'!D476","v":0}]
[{"$f":"'BX Language acquisition'!A477","v":0},{"$f":"'BX Language acquisition'!B477","v":0},null,{"$f":"'BX Language acquisition'!C477","v":0},{"$f":"'BX Language acquisition'!D477","v":0}]
[{"$f":"'BX Language acquisition'!A478","v":0},{"$f":"'BX Language acquisition'!B478","v":0},null,{"$f":"'BX Language acquisition'!C478","v":0},{"$f":"'BX Language acquisition'!D478","v":0}]
[{"$f":"'BX Language acquisition'!A479","v":0},{"$f":"'BX Language acquisition'!B479","v":0},null,{"$f":"'BX Language acquisition'!C479","v":0},{"$f":"'BX Language acquisition'!D479","v":0}]
[{"$f":"'BX Language acquisition'!A480","v":0},{"$f":"'BX Language acquisition'!B480","v":0},null,{"$f":"'BX Language acquisition'!C480","v":0},{"$f":"'BX Language acquisition'!D480","v":0}]
[{"$f":"'BX Language acquisition'!A481","v":0},{"$f":"'BX Language acquisition'!B481","v":0},null,{"$f":"'BX Language acquisition'!C481","v":0},{"$f":"'BX Language acquisition'!D481","v":0}]
[{"$f":"'BX Language acquisition'!A482","v":0},{"$f":"'BX Language acquisition'!B482","v":0},null,{"$f":"'BX Language acquisition'!C482","v":0},{"$f":"'BX Language acquisition'!D482","v":0}]
[{"$f":"'BX Language acquisition'!A483","v":0},{"$f":"'BX Language acquisition'!B483","v":0},null,{"$f":"'BX Language acquisition'!C483","v":0},{"$f":"'BX Language acquisition'!D483","v":0}]
[{"$f":"'BX Language acquisition'!A484","v":0},{"$f":"'BX Language acquisition'!B484","v":0},null,{"$f":"'BX Language acquisition'!C484","v":0},{"$f":"'BX Language acquisition'!D484","v":0}]
[{"$f":"'BX Language acquisition'!A485","v":0},{"$f":"'BX Language acquisition'!B485","v":0},null,{"$f":"'BX Language acquisition'!C485","v":0},{"$f":"'BX Language acquisition'!D485","v":0}]
[{"$f":"'BX Language acquisition'!A486","v":0},{"$f":"'BX Language acquisition'!B486","v":0},null,{"$f":"'BX Language acquisition'!C486","v":0},{"$f":"'BX Language acquisition'!D486","v":0}]
[{"$f":"'BX Language acquisition'!A487","v":0},{"$f":"'BX Language acquisition'!B487","v":0},null,{"$f":"'BX Language acquisition'!C487","v":0},{"$f":"'BX Language acquisition'!D487","v":0}]
[{"$f":"'BX Language acquisition'!A488","v":0},{"$f":"'BX Language acquisition'!B488","v":0},null,{"$f":"'BX Language acquisition'!C488","v":0},{"$f":"'BX Language acquisition'!D488","v":0}]
[{"$f":"'BX Language acquisition'!A489","v":0},{"$f":"'BX Language acquisition'!B489","v":0},null,{"$f":"'BX Language acquisition'!C489","v":0},{"$f":"'BX Language acquisition'!D489","v":0}]
[{"$f":"'BX Language acquisition'!A490","v":0},{"$f":"'BX Language acquisition'!B490","v":0},null,{"$f":"'BX Language acquisition'!C490","v":0},{"$f":"'BX Language acquisition'!D490","v":0}]
[{"$f":"'BX Language acquisition'!A491","v":0},{"$f":"'BX Language acquisition'!B491","v":0},null,{"$f":"'BX Language acquisition'!C491","v":0},{"$f":"'BX Language acquisition'!D491","v":0}]
[{"$f":"'BX Language acquisition'!A492","v":0},{"$f":"'BX Language acquisition'!B492","v":0},null,{"$f":"'BX Language acquisition'!C492","v":0},{"$f":"'BX Language acquisition'!D492","v":0}]
[{"$f":"'BX Language acquisition'!A493","v":0},{"$f":"'BX Language acquisition'!B493","v":0},null,{"$f":"'BX Language acquisition'!C493","v":0},{"$f":"'BX Language acquisition'!D493","v":0}]
[{"$f":"'BX Language acquisition'!A494","v":0},{"$f":"'BX Language acquisition'!B494","v":0},null,{"$f":"'BX Language acquisition'!C494","v":0},{"$f":"'BX Language acquisition'!D494","v":0}]
[{"$f":"'BX Language acquisition'!A495","v":0},{"$f":"'BX Language acquisition'!B495","v":0},null,{"$f":"'BX Language acquisition'!C495","v":0},{"$f":"'BX Language acquisition'!D495","v":0}]
[{"$f":"'BX Language acquisition'!A496","v":0},{"$f":"'BX Language acquisition'!B496","v":0},null,{"$f":"'BX Language acquisition'!C496","v":0},{"$f":"'BX Language acquisition'!D496","v":0}]
[{"$f":"'BX Language acquisition'!A497","v":0},{"$f":"'BX Language acquisition'!B497","v":0},null,{"$f":"'BX Language acquisition'!C497","v":0},{"$f":"'BX Language acquisition'!D497","v":0}]
[{"$f":"'BX Language acquisition'!A498","v":0},{"$f":"'BX Language acquisition'!B498","v":0},null,{"$f":"'BX Language acquisition'!C498","v":0},{"$f":"'BX Language acquisition'!D498","v":0}]
[{"$f":"'BX Language acquisition'!A499","v":0},{"$f":"'BX Language acquisition'!B499","v":0},null,{"$f":"'BX Language acquisition'!C499","v":0},{"$f":"'BX Language acquisition'!D499","v":0}]
[{"$f":"'BX Language acquisition'!A500","v":0},{"$f":"'BX Language acquisition'!B500","v":0},null,{"$f":"'BX Language acquisition'!C500","v":0},{"$f":"'BX Language acquisition'!D500","v":0}]
[{"$f":"'BX Language acquisition'!A501","v":0},{"$f":"'BX Language acquisition'!B501","v":0},null,{"$f":"'BX Language acquisition'!C501","v":0},{"$f":"'BX Language acquisition'!D501","v":0}]
[{"$f":"'BX Language acquisition'!A502","v":0},{"$f":"'BX Language acquisition'!B502","v":0},null,{"$f":"'BX Language acquisition'!C502","v":0},{"$f":"'BX Language acquisition'!D502","v":0}]
[{"$f":"'BX Language acquisition'!A503","v":0},{"$f":"'BX Language acquisition'!B503","v":0},null,{"$f":"'BX Language acquisition'!C503","v":0},{"$f":"'BX Language acquisition'!D503","v":0}]
[{"$f":"'BX Language acquisition'!A504","v":0},{"$f":"'BX Language acquisition'!B504","v":0},null,{"$f":"'BX Language acquisition'!C504","v":0},{"$f":"'BX Language acquisition'!D504","v":0}]
[{"$f":"'BX Language acquisition'!A505","v":0},{"$f":"'BX Language acquisition'!B505","v":0},null,{"$f":"'BX Language acquisition'!C505","v":0},{"$f":"'BX Language acquisition'!D505","v":0}]
[{"$f":"'BX Language acquisition'!A506","v":0},{"$f":"'BX Language acquisition'!B506","v":0},null,{"$f":"'BX Language acquisition'!C506","v":0},{"$f":"'BX Language acquisition'!D506","v":0}]
[{"$f":"'BX Language acquisition'!A507","v":0},{"$f":"'BX Language acquisition'!B507","v":0},null,{"$f":"'BX Language acquisition'!C507","v":0},{"$f":"'BX Language acquisition'!D507","v":0}]
[{"$f":"'BX Language acquisition'!A508","v":0},{"$f":"'BX Language acquisition'!B508","v":0},null,{"$f":"'BX Language acquisition'!C508","v":0},{"$f":"'BX Language acquisition'!D508","v":0}]
[{"$f":"'BX Language acquisition'!A509","v":0},{"$f":"'BX Language acquisition'!B509","v":0},null,{"$f":"'BX Language acquisition'!C509","v":0},{"$f":"'BX Language acquisition'!D509","v":0}]
[{"$f":"'BX Language acquisition'!A510","v":0},{"$f":"'BX Language acquisition'!B510","v":0},null,{"$f":"'BX Language acquisition'!C510","v":0},{"$f":"'BX Language acquisition'!D510","v":0}]
[{"$f":"'BX Language acquisition'!A511","v":0},{"$f":"'BX Language acquisition'!B511","v":0},null,{"$f":"'BX Language acquisition'!C511","v":0},{"$f":"'BX Language acquisition'!D511","v":0}]
[{"$f":"'BX Language acquisition'!A512","v":0},{"$f":"'BX Language acquisition'!B512","v":0},null,{"$f":"'BX Language acquisition'!C512","v":0},{"$f":"'BX Language acquisition'!D512","v":0}]
[{"$f":"'BX Language acquisition'!A513","v":0},{"$f":"'BX Language acquisition'!B513","v":0},null,{"$f":"'BX Language acquisition'!C513","v":0},{"$f":"'BX Language acquisition'!D513","v":0}]
[{"$f":"'BX Language acquisition'!A514","v":0},{"$f":"'BX Language acquisition'!B514","v":0},null,{"$f":"'BX Language acquisition'!C514","v":0},{"$f":"'BX Language acquisition'!D514","v":0}]
[{"$f":"'BX Language acquisition'!A515","v":0},{"$f":"'BX Language acquisition'!B515","v":0},null,{"$f":"'BX Language acquisition'!C515","v":0},{"$f":"'BX Language acquisition'!D515","v":0}]
[{"$f":"'BX Language acquisition'!A516","v":0},{"$f":"'BX Language acquisition'!B516","v":0},null,{"$f":"'BX Language acquisition'!C516","v":0},{"$f":"'BX Language acquisition'!D516","v":0}]
[{"$f":"'BX Language acquisition'!A517","v":0},{"$f":"'BX Language acquisition'!B517","v":0},null,{"$f":"'BX Language acquisition'!C517","v":0},{"$f":"'BX Language acquisition'!D517","v":0}]
[{"$f":"'BX Language acquisition'!A518","v":0},{"$f":"'BX Language acquisition'!B518","v":0},null,{"$f":"'BX Language acquisition'!C518","v":0},{"$f":"'BX Language acquisition'!D518","v":0}]
[{"$f":"'BX Language acquisition'!A519","v":0},{"$f":"'BX Language acquisition'!B519","v":0},null,{"$f":"'BX Language acquisition'!C519","v":0},{"$f":"'BX Language acquisition'!D519","v":0}]
[{"$f":"'BX Language acquisition'!A520","v":0},{"$f":"'BX Language acquisition'!B520","v":0},null,{"$f":"'BX Language acquisition'!C520","v":0},{"$f":"'BX Language acquisition'!D520","v":0}]
[{"$f":"'BX Language acquisition'!A521","v":0},{"$f":"'BX Language acquisition'!B521","v":0},null,{"$f":"'BX Language acquisition'!C521","v":0},{"$f":"'BX Language acquisition'!D521","v":0}]
[{"$f":"'BX Language acquisition'!A522","v":0},{"$f":"'BX Language acquisition'!B522","v":0},null,{"$f":"'BX Language acquisition'!C522","v":0},{"$f":"'BX Language acquisition'!D522","v":0}]
[{"$f":"'BX Language acquisition'!A523","v":0},{"$f":"'BX Language acquisition'!B523","v":0},null,{"$f":"'BX Language acquisition'!C523","v":0},{"$f":"'BX Language acquisition'!D523","v":0}]
[{"$f":"'BX Language acquisition'!A524","v":0},{"$f":"'BX Language acquisition'!B524","v":0},null,{"$f":"'BX Language acquisition'!C524","v":0},{"$f":"'BX Language acquisition'!D524","v":0}]
[{"$f":"'BX Language acquisition'!A525","v":0},{"$f":"'BX Language acquisition'!B525","v":0},null,{"$f":"'BX Language acquisition'!C525","v":0},{"$f":"'BX Language acquisition'!D525","v":0}]
[{"$f":"'BX Language acquisition'!A526","v":0},{"$f":"'BX Language acquisition'!B526","v":0},null,{"$f":"'BX Language acquisition'!C526","v":0},{"$f":"'BX Language acquisition'!D526","v":0}]
[{"$f":"'BX Language acquisition'!A527","v":0},{"$f":"'BX Language acquisition'!B527","v":0},null,{"$f":"'BX Language acquisition'!C527","v":0},{"$f":"'BX Language acquisition'!D527","v":0}]
[{"$f":"'BX Language acquisition'!A528","v":0},{"$f":"'BX Language acquisition'!B528","v":0},null,{"$f":"'BX Language acquisition'!C528","v":0},{"$f":"'BX Language acquisition'!D528","v":0}]
[{"$f":"'BX Language acquisition'!A529","v":0},{"$f":"'BX Language acquisition'!B529","v":0},null,{"$f":"'BX Language acquisition'!C529","v":0},{"$f":"'BX Language acquisition'!D529","v":0}]
[{"$f":"'BX Language acquisition'!A530","v":0},{"$f":"'BX Language acquisition'!B530","v":0},null,{"$f":"'BX Language acquisition'!C530","v":0},{"$f":"'BX Language acquisition'!D530","v":0}]
[{"$f":"'BX Language acquisition'!A531","v":0},{"$f":"'BX Language acquisition'!B531","v":0},null,{"$f":"'BX Language acquisition'!C531","v":0},{"$f":"'BX Language acquisition'!D531","v":0}]
[{"$f":"'BX Language acquisition'!A532","v":0},{"$f":"'BX Language acquisition'!B532","v":0},null,{"$f":"'BX Language acquisition'!C532","v":0},{"$f":"'BX Language acquisition'!D532","v":0}]
[{"$f":"'BX Language acquisition'!A533","v":0},{"$f":"'BX Language acquisition'!B533","v":0},null,{"$f":"'BX Language acquisition'!C533","v":0},{"$f":"'BX Language acquisition'!D533","v":0}]
[{"$f":"'BX Language acquisition'!A534","v":0},{"$f":"'BX Language acquisition'!B534","v":0},null,{"$f":"'BX Language acquisition'!C534","v":0},{"$f":"'BX Language acquisition'!D534","v":0}]
[{"$f":"'BX Language acquisition'!A535","v":0},{"$f":"'BX Language acquisition'!B535","v":0},null,{"$f":"'BX Language acquisition'!C535","v":0},{"$f":"'BX Language acquisition'!D535","v":0}]
[{"$f":"'BX Language acquisition'!A536","v":0},{"$f":"'BX Language acquisition'!B536","v":0},null,{"$f":"'BX Language acquisition'!C536","v":0},{"$f":"'BX Language acquisition'!D536","v":0}]
[{"$f":"'BX Language acquisition'!A537","v":0},{"$f":"'BX Language acquisition'!B537","v":0},null,{"$f":"'BX Language acquisition'!C537","v":0},{"$f":"'BX Language acquisition'!D537","v":0}]
[{"$f":"'BX Language acquisition'!A538","v":0},{"$f":"'BX Language acquisition'!B538","v":0},null,{"$f":"'BX Language acquisition'!C538","v":0},{"$f":"'BX Language acquisition'!D538","v":0}]
[{"$f":"'BX Language acquisition'!A539","v":0},{"$f":"'BX Language acquisition'!B539","v":0},null,{"$f":"'BX Language acquisition'!C539","v":0},{"$f":"'BX Language acquisition'!D539","v":0}]
[{"$f":"'BX Language acquisition'!A540","v":0},{"$f":"'BX Language acquisition'!B540","v":0},null,{"$f":"'BX Language acquisition'!C540","v":0},{"$f":"'BX Language acquisition'!D540","v":0}]
[{"$f":"'BX Language acquisition'!A541","v":0},{"$f":"'BX Language acquisition'!B541","v":0},null,{"$f":"'BX Language acquisition'!C541","v":0},{"$f":"'BX Language acquisition'!D541","v":0}]
[{"$f":"'BX Language acquisition'!A542","v":0},{"$f":"'BX Language acquisition'!B542","v":0},null,{"$f":"'BX Language acquisition'!C542","v":0},{"$f":"'BX Language acquisition'!D542","v":0}]
[{"$f":"'BX Language acquisition'!A543","v":0},{"$f":"'BX Language acquisition'!B543","v":0},null,{"$f":"'BX Language acquisition'!C543","v":0},{"$f":"'BX Language acquisition'!D543","v":0}]
[{"$f":"'BX Language acquisition'!A544","v":0},{"$f":"'BX Language acquisition'!B544","v":0},null,{"$f":"'BX Language acquisition'!C544","v":0},{"$f":"'BX Language acquisition'!D544","v":0}]
[{"$f":"'BX Language acquisition'!A545","v":0},{"$f":"'BX Language acquisition'!B545","v":0},null,{"$f":"'BX Language acquisition'!C545","v":0},{"$f":"'BX Language acquisition'!D545","v":0}]
[{"$f":"'BX Language acquisition'!A546","v":0},{"$f":"'BX Language acquisition'!B546","v":0},null,{"$f":"'BX Language acquisition'!C546","v":0},{"$f":"'BX Language acquisition'!D546","v":0}]
[{"$f":"'BX Language acquisition'!A547","v":0},{"$f":"'BX Language acquisition'!B547","v":0},null,{"$f":"'BX Language acquisition'!C547","v":0},{"$f":"'BX Language acquisition'!D547","v":0}]
[{"$f":"'BX Language acquisition'!A548","v":0},{"$f":"'BX Language acquisition'!B548","v":0},null,{"$f":"'BX Language acquisition'!C548","v":0},{"$f":"'BX Language acquisition'!D548","v":0}]
[{"$f":"'BX Language acquisition'!A549","v":0},{"$f":"'BX Language acquisition'!B549","v":0},null,{"$f":"'BX Language acquisition'!C549","v":0},{"$f":"'BX Language acquisition'!D549","v":0}]
[{"$f":"'BX Language acquisition'!A550","v":0},{"$f":"'BX Language acquisition'!B550","v":0},null,{"$f":"'BX Language acquisition'!C550","v":0},{"$f":"'BX Language acquisition'!D550","v":0}]
[{"$f":"'BX Language acquisition'!A551","v":0},{"$f":"'BX Language acquisition'!B551","v":0},null,{"$f":"'BX Language acquisition'!C551","v":0},{"$f":"'BX Language acquisition'!D551","v":0}]
[{"$f":"'BX Language acquisition'!A552","v":0},{"$f":"'BX Language acquisition'!B552","v":0},null,{"$f":"'BX Language acquisition'!C552","v":0},{"$f":"'BX Language acquisition'!D552","v":0}]
[{"$f":"'BX Language acquisition'!A553","v":0},{"$f":"'BX Language acquisition'!B553","v":0},null,{"$f":"'BX Language acquisition'!C553","v":0},{"$f":"'BX Language acquisition'!D553","v":0}]
[{"$f":"'BX Language acquisition'!A554","v":0},{"$f":"'BX Language acquisition'!B554","v":0},null,{"$f":"'BX Language acquisition'!C554","v":0},{"$f":"'BX Language acquisition'!D554","v":0}]
[{"$f":"'BX Language acquisition'!A555","v":0},{"$f":"'BX Language acquisition'!B555","v":0},null,{"$f":"'BX Language acquisition'!C555","v":0},{"$f":"'BX Language acquisition'!D555","v":0}]
[{"$f":"'BX Language acquisition'!A556","v":0},{"$f":"'BX Language acquisition'!B556","v":0},null,{"$f":"'BX Language acquisition'!C556","v":0},{"$f":"'BX Language acquisition'!D556","v":0}]
[{"$f":"'BX Language acquisition'!A557","v":0},{"$f":"'BX Language acquisition'!B557","v":0},null,{"$f":"'BX Language acquisition'!C557","v":0},{"$f":"'BX Language acquisition'!D557","v":0}]
[{"$f":"'BX Language acquisition'!A558","v":0},{"$f":"'BX Language acquisition'!B558","v":0},null,{"$f":"'BX Language acquisition'!C558","v":0},{"$f":"'BX Language acquisition'!D558","v":0}]
[{"$f":"'BX Language acquisition'!A559","v":0},{"$f":"'BX Language acquisition'!B559","v":0},null,{"$f":"'BX Language acquisition'!C559","v":0},{"$f":"'BX Language acquisition'!D559","v":0}]
[{"$f":"'BX Language acquisition'!A560","v":0},{"$f":"'BX Language acquisition'!B560","v":0},null,{"$f":"'BX Language acquisition'!C560","v":0},{"$f":"'BX Language acquisition'!D560","v":0}]
[{"$f":"'BX Language acquisition'!A561","v":0},{"$f":"'BX Language acquisition'!B561","v":0},null,{"$f":"'BX Language acquisition'!C561","v":0},{"$f":"'BX Language acquisition'!D561","v":0}]
[{"$f":"'BX Language acquisition'!A562","v":0},{"$f":"'BX Language acquisition'!B562","v":0},null,{"$f":"'BX Language acquisition'!C562","v":0},{"$f":"'BX Language acquisition'!D562","v":0}]
[{"$f":"'BX Language acquisition'!A563","v":0},{"$f":"'BX Language acquisition'!B563","v":0},null,{"$f":"'BX Language acquisition'!C563","v":0},{"$f":"'BX Language acquisition'!D563","v":0}]
[{"$f":"'BX Language acquisition'!A564","v":0},{"$f":"'BX Language acquisition'!B564","v":0},null,{"$f":"'BX Language acquisition'!C564","v":0},{"$f":"'BX Language acquisition'!D564","v":0}]
[{"$f":"'BX Language acquisition'!A565","v":0},{"$f":"'BX Language acquisition'!B565","v":0},null,{"$f":"'BX Language acquisition'!C565","v":0},{"$f":"'BX Language acquisition'!D565","v":0}]
[{"$f":"'BX Language acquisition'!A566","v":0},{"$f":"'BX Language acquisition'!B566","v":0},null,{"$f":"'BX Language acquisition'!C566","v":0},{"$f":"'BX Language acquisition'!D566","v":0}]
[{"$f":"'BX Language acquisition'!A567","v":0},{"$f":"'BX Language acquisition'!B567","v":0},null,{"$f":"'BX Language acquisition'!C567","v":0},{"$f":"'BX Language acquisition'!D567","v":0}]
[{"$f":"'BX Language acquisition'!A568","v":0},{"$f":"'BX Language acquisition'!B568","v":0},null,{"$f":"'BX Language acquisition'!C568","v":0},{"$f":"'BX Language acquisition'!D568","v":0}]
[{"$f":"'BX Language acquisition'!A569","v":0},{"$f":"'BX Language acquisition'!B569","v":0},null,{"$f":"'BX Language acquisition'!C569","v":0},{"$f":"'BX Language acquisition'!D569","v":0}]
[{"$f":"'BX Language acquisition'!A570","v":0},{"$f":"'BX Language acquisition'!B570","v":0},null,{"$f":"'BX Language acquisition'!C570","v":0},{"$f":"'BX Language acquisition'!D570","v":0}]
[{"$f":"'BX Language acquisition'!A571","v":0},{"$f":"'BX Language acquisition'!B571","v":0},null,{"$f":"'BX Language acquisition'!C571","v":0},{"$f":"'BX Language acquisition'!D571","v":0}]
[{"$f":"'BX Language acquisition'!A572","v":0},{"$f":"'BX Language acquisition'!B572","v":0},null,{"$f":"'BX Language acquisition'!C572","v":0},{"$f":"'BX Language acquisition'!D572","v":0}]
[{"$f":"'BX Language acquisition'!A573","v":0},{"$f":"'BX Language acquisition'!B573","v":0},null,{"$f":"'BX Language acquisition'!C573","v":0},{"$f":"'BX Language acquisition'!D573","v":0}]
[{"$f":"'BX Language acquisition'!A574","v":0},{"$f":"'BX Language acquisition'!B574","v":0},null,{"$f":"'BX Language acquisition'!C574","v":0},{"$f":"'BX Language acquisition'!D574","v":0}]
[{"$f":"'BX Language acquisition'!A575","v":0},{"$f":"'BX Language acquisition'!B575","v":0},null,{"$f":"'BX Language acquisition'!C575","v":0},{"$f":"'BX Language acquisition'!D575","v":0}]
[{"$f":"'BX Language acquisition'!A576","v":0},{"$f":"'BX Language acquisition'!B576","v":0},null,{"$f":"'BX Language acquisition'!C576","v":0},{"$f":"'BX Language acquisition'!D576","v":0}]
[{"$f":"'BX Language acquisition'!A577","v":0},{"$f":"'BX Language acquisition'!B577","v":0},null,{"$f":"'BX Language acquisition'!C577","v":0},{"$f":"'BX Language acquisition'!D577","v":0}]
[{"$f":"'BX Language acquisition'!A578","v":0},{"$f":"'BX Language acquisition'!B578","v":0},null,{"$f":"'BX Language acquisition'!C578","v":0},{"$f":"'BX Language acquisition'!D578","v":0}]
[{"$f":"'BX Language acquisition'!A579","v":0},{"$f":"'BX Language acquisition'!B579","v":0},null,{"$f":"'BX Language acquisition'!C579","v":0},{"$f":"'BX Language acquisition'!D579","v":0}]
[{"$f":"'BX Language acquisition'!A580","v":0},{"$f":"'BX Language acquisition'!B580","v":0},null,{"$f":"'BX Language acquisition'!C580","v":0},{"$f":"'BX Language acquisition'!D580","v":0}]
[{"$f":"'BX Language acquisition'!A581","v":0},{"$f":"'BX Language acquisition'!B581","v":0},null,{"$f":"'BX Language acquisition'!C581","v":0},{"$f":"'BX Language acquisition'!D581","v":0}]
[{"$f":"'BX Language acquisition'!A582","v":0},{"$f":"'BX Language acquisition'!B582","v":0},null,{"$f":"'BX Language acquisition'!C582","v":0},{"$f":"'BX Language acquisition'!D582","v":0}]
[{"$f":"'BX Language acquisition'!A583","v":0},{"$f":"'BX Language acquisition'!B583","v":0},null,{"$f":"'BX Language acquisition'!C583","v":0},{"$f":"'BX Language acquisition'!D583","v":0}]
[{"$f":"'BX Language acquisition'!A584","v":0},{"$f":"'BX Language acquisition'!B584","v":0},null,{"$f":"'BX Language acquisition'!C584","v":0},{"$f":"'BX Language acquisition'!D584","v":0}]
[{"$f":"'BX Language acquisition'!A585","v":0},{"$f":"'BX Language acquisition'!B585","v":0},null,{"$f":"'BX Language acquisition'!C585","v":0},{"$f":"'BX Language acquisition'!D585","v":0}]
[{"$f":"'BX Language acquisition'!A586","v":0},{"$f":"'BX Language acquisition'!B586","v":0},null,{"$f":"'BX Language acquisition'!C586","v":0},{"$f":"'BX Language acquisition'!D586","v":0}]
[{"$f":"'BX Language acquisition'!A587","v":0},{"$f":"'BX Language acquisition'!B587","v":0},null,{"$f":"'BX Language acquisition'!C587","v":0},{"$f":"'BX Language acquisition'!D587","v":0}]
[{"$f":"'BX Language acquisition'!A588","v":0},{"$f":"'BX Language acquisition'!B588","v":0},null,{"$f":"'BX Language acquisition'!C588","v":0},{"$f":"'BX Language acquisition'!D588","v":0}]
[{"$f":"'BX Language acquisition'!A589","v":0},{"$f":"'BX Language acquisition'!B589","v":0},null,{"$f":"'BX Language acquisition'!C589","v":0},{"$f":"'BX Language acquisition'!D589","v":0}]
[{"$f":"'BX Language acquisition'!A590","v":0},{"$f":"'BX Language acquisition'!B590","v":0},null,{"$f":"'BX Language acquisition'!C590","v":0},{"$f":"'BX Language acquisition'!D590","v":0}]
[{"$f":"'BX Language acquisition'!A591","v":0},{"$f":"'BX Language acquisition'!B591","v":0},null,{"$f":"'BX Language acquisition'!C591","v":0},{"$f":"'BX Language acquisition'!D591","v":0}]
[{"$f":"'BX Language acquisition'!A592","v":0},{"$f":"'BX Language acquisition'!B592","v":0},null,{"$f":"'BX Language acquisition'!C592","v":0},{"$f":"'BX Language acquisition'!D592","v":0}]
[{"$f":"'BX Language acquisition'!A593","v":0},{"$f":"'BX Language acquisition'!B593","v":0},null,{"$f":"'BX Language acquisition'!C593","v":0},{"$f":"'BX Language acquisition'!D593","v":0}]
[{"$f":"'BX Language acquisition'!A594","v":0},{"$f":"'BX Language acquisition'!B594","v":0},null,{"$f":"'BX Language acquisition'!C594","v":0},{"$f":"'BX Language acquisition'!D594","v":0}]
[{"$f":"'BX Language acquisition'!A595","v":0},{"$f":"'BX Language acquisition'!B595","v":0},null,{"$f":"'BX Language acquisition'!C595","v":0},{"$f":"'BX Language acquisition'!D595","v":0}]
[{"$f":"'BX Language acquisition'!A596","v":0},{"$f":"'BX Language acquisition'!B596","v":0},null,{"$f":"'BX Language acquisition'!C596","v":0},{"$f":"'BX Language acquisition'!D596","v":0}]
[{"$f":"'BX Language acquisition'!A597","v":0},{"$f":"'BX Language acquisition'!B597","v":0},null,{"$f":"'BX Language acquisition'!C597","v":0},{"$f":"'BX Language acquisition'!D597","v":0}]
[{"$f":"'BX Language acquisition'!A598","v":0},{"$f":"'BX Language acquisition'!B598","v":0},null,{"$f":"'BX Language acquisition'!C598","v":0},{"$f":"'BX Language acquisition'!D598","v":0}]
[{"$f":"'BX Language acquisition'!A599","v":0},{"$f":"'BX Language acquisition'!B599","v":0},null,{"$f":"'BX Language acquisition'!C599","v":0},{"$f":"'BX Language acquisition'!D599","v":0}]
[{"$f":"'BX Language acquisition'!A600","v":0},{"$f":"'BX Language acquisition'!B600","v":0},null,{"$f":"'BX Language acquisition'!C600","v":0},{"$f":"'BX Language acquisition'!D600","v":0}]
[{"$f":"'BX Language acquisition'!A601","v":0},{"$f":"'BX Language acquisition'!B601","v":0},null,{"$f":"'BX Language acquisition'!C601","v":0},{"$f":"'BX Language acquisition'!D601","v":0}]
[{"$f":"'BX Language acquisition'!A602","v":0},{"$f":"'BX Language acquisition'!B602","v":0},null,{"$f":"'BX Language acquisition'!C602","v":0},{"$f":"'BX Language acquisition'!D602","v":0}]
[{"$f":"'BX Language acquisition'!A603","v":0},{"$f":"'BX Language acquisition'!B603","v":0},null,{"$f":"'BX Language acquisition'!C603","v":0},{"$f":"'BX Language acquisition'!D603","v":0}]
[{"$f":"'BX Language acquisition'!A604","v":0},{"$f":"'BX Language acquisition'!B604","v":0},null,{"$f":"'BX Language acquisition'!C604","v":0},{"$f":"'BX Language acquisition'!D604","v":0}]
[{"$f":"'BX Language acquisition'!A605","v":0},{"$f":"'BX Language acquisition'!B605","v":0},null,{"$f":"'BX Language acquisition'!C605","v":0},{"$f":"'BX Language acquisition'!D605","v":0}]
[{"$f":"'BX Language acquisition'!A606","v":0},{"$f":"'BX Language acquisition'!B606","v":0},null,{"$f":"'BX Language acquisition'!C606","v":0},{"$f":"'BX Language acquisition'!D606","v":0}]
[{"$f":"'BX Language acquisition'!A607","v":0},{"$f":"'BX Language acquisition'!B607","v":0},null,{"$f":"'BX Language acquisition'!C607","v":0},{"$f":"'BX Language acquisition'!D607","v":0}]
[{"$f":"'BX Language acquisition'!A608","v":0},{"$f":"'BX Language acquisition'!B608","v":0},null,{"$f":"'BX Language acquisition'!C608","v":0},{"$f":"'BX Language acquisition'!D608","v":0}]
[{"$f":"'BX Language acquisition'!A609","v":0},{"$f":"'BX Language acquisition'!B609","v":0},null,{"$f":"'BX Language acquisition'!C609","v":0},{"$f":"'BX Language acquisition'!D609","v":0}]
[{"$f":"'BX Language acquisition'!A610","v":0},{"$f":"'BX Language acquisition'!B610","v":0},null,{"$f":"'BX Language acquisition'!C610","v":0},{"$f":"'BX Language acquisition'!D610","v":0}]
[{"$f":"'BX Language acquisition'!A611","v":0},{"$f":"'BX Language acquisition'!B611","v":0},null,{"$f":"'BX Language acquisition'!C611","v":0},{"$f":"'BX Language acquisition'!D611","v":0}]
[{"$f":"'BX Language acquisition'!A612","v":0},{"$f":"'BX Language acquisition'!B612","v":0},null,{"$f":"'BX Language acquisition'!C612","v":0},{"$f":"'BX Language acquisition'!D612","v":0}]
[{"$f":"'BX Language acquisition'!A613","v":0},{"$f":"'BX Language acquisition'!B613","v":0},null,{"$f":"'BX Language acquisition'!C613","v":0},{"$f":"'BX Language acquisition'!D613","v":0}]
[{"$f":"'BX Language acquisition'!A614","v":0},{"$f":"'BX Language acquisition'!B614","v":0},null,{"$f":"'BX Language acquisition'!C614","v":0},{"$f":"'BX Language acquisition'!D614","v":0}]
[{"$f":"'BX Language acquisition'!A615","v":0},{"$f":"'BX Language acquisition'!B615","v":0},null,{"$f":"'BX Language acquisition'!C615","v":0},{"$f":"'BX Language acquisition'!D615","v":0}]
[{"$f":"'BX Language acquisition'!A616","v":0},{"$f":"'BX Language acquisition'!B616","v":0},null,{"$f":"'BX Language acquisition'!C616","v":0},{"$f":"'BX Language acquisition'!D616","v":0}]
[{"$f":"'BX Language acquisition'!A617","v":0},{"$f":"'BX Language acquisition'!B617","v":0},null,{"$f":"'BX Language acquisition'!C617","v":0},{"$f":"'BX Language acquisition'!D617","v":0}]
[{"$f":"'BX Language acquisition'!A618","v":0},{"$f":"'BX Language acquisition'!B618","v":0},null,{"$f":"'BX Language acquisition'!C618","v":0},{"$f":"'BX Language acquisition'!D618","v":0}]
[{"$f":"'BX Language acquisition'!A619","v":0},{"$f":"'BX Language acquisition'!B619","v":0},null,{"$f":"'BX Language acquisition'!C619","v":0},{"$f":"'BX Language acquisition'!D619","v":0}]
[{"$f":"'BX Language acquisition'!A620","v":0},{"$f":"'BX Language acquisition'!B620","v":0},null,{"$f":"'BX Language acquisition'!C620","v":0},{"$f":"'BX Language acquisition'!D620","v":0}]
[{"$f":"'BX Language acquisition'!A621","v":0},{"$f":"'BX Language acquisition'!B621","v":0},null,{"$f":"'BX Language acquisition'!C621","v":0},{"$f":"'BX Language acquisition'!D621","v":0}]
[{"$f":"'BX Language acquisition'!A622","v":0},{"$f":"'BX Language acquisition'!B622","v":0},null,{"$f":"'BX Language acquisition'!C622","v":0},{"$f":"'BX Language acquisition'!D622","v":0}]
[{"$f":"'BX Language acquisition'!A623","v":0},{"$f":"'BX Language acquisition'!B623","v":0},null,{"$f":"'BX Language acquisition'!C623","v":0},{"$f":"'BX Language acquisition'!D623","v":0}]
[{"$f":"'BX Language acquisition'!A624","v":0},{"$f":"'BX Language acquisition'!B624","v":0},null,{"$f":"'BX Language acquisition'!C624","v":0},{"$f":"'BX Language acquisition'!D624","v":0}]
[{"$f":"'BX Language acquisition'!A625","v":0},{"$f":"'BX Language acquisition'!B625","v":0},null,{"$f":"'BX Language acquisition'!C625","v":0},{"$f":"'BX Language acquisition'!D625","v":0}]
[{"$f":"'BX Language acquisition'!A626","v":0},{"$f":"'BX Language acquisition'!B626","v":0},null,{"$f":"'BX Language acquisition'!C626","v":0},{"$f":"'BX Language acquisition'!D626","v":0}]
[{"$f":"'BX Language acquisition'!A627","v":0},{"$f":"'BX Language acquisition'!B627","v":0},null,{"$f":"'BX Language acquisition'!C627","v":0},{"$f":"'BX Language acquisition'!D627","v":0}]
[{"$f":"'BX Language acquisition'!A628","v":0},{"$f":"'BX Language acquisition'!B628","v":0},null,{"$f":"'BX Language acquisition'!C628","v":0},{"$f":"'BX Language acquisition'!D628","v":0}]
[{"$f":"'BX Language acquisition'!A629","v":0},{"$f":"'BX Language acquisition'!B629","v":0},null,{"$f":"'BX Language acquisition'!C629","v":0},{"$f":"'BX Language acquisition'!D629","v":0}]
[{"$f":"'BX Language acquisition'!A630","v":0},{"$f":"'BX Language acquisition'!B630","v":0},null,{"$f":"'BX Language acquisition'!C630","v":0},{"$f":"'BX Language acquisition'!D630","v":0}]
[{"$f":"'BX Language acquisition'!A631","v":0},{"$f":"'BX Language acquisition'!B631","v":0},null,{"$f":"'BX Language acquisition'!C631","v":0},{"$f":"'BX Language acquisition'!D631","v":0}]
[{"$f":"'BX Language acquisition'!A632","v":0},{"$f":"'BX Language acquisition'!B632","v":0},null,{"$f":"'BX Language acquisition'!C632","v":0},{"$f":"'BX Language acquisition'!D632","v":0}]
[{"$f":"'BX Language acquisition'!A633","v":0},{"$f":"'BX Language acquisition'!B633","v":0},null,{"$f":"'BX Language acquisition'!C633","v":0},{"$f":"'BX Language acquisition'!D633","v":0}]
[{"$f":"'BX Language acquisition'!A634","v":0},{"$f":"'BX Language acquisition'!B634","v":0},null,{"$f":"'BX Language acquisition'!C634","v":0},{"$f":"'BX Language acquisition'!D634","v":0}]
[{"$f":"'BX Language acquisition'!A635","v":0},{"$f":"'BX Language acquisition'!B635","v":0},null,{"$f":"'BX Language acquisition'!C635","v":0},{"$f":"'BX Language acquisition'!D635","v":0}]
[{"$f":"'BX Language acquisition'!A636","v":0},{"$f":"'BX Language acquisition'!B636","v":0},null,{"$f":"'BX Language acquisition'!C636","v":0},{"$f":"'BX Language acquisition'!D636","v":0}]
[{"$f":"'BX Language acquisition'!A637","v":0},{"$f":"'BX Language acquisition'!B637","v":0},null,{"$f":"'BX Language acquisition'!C637","v":0},{"$f":"'BX Language acquisition'!D637","v":0}]
[{"$f":"'BX Language acquisition'!A638","v":0},{"$f":"'BX Language acquisition'!B638","v":0},null,{"$f":"'BX Language acquisition'!C638","v":0},{"$f":"'BX Language acquisition'!D638","v":0}]
[{"$f":"'BX Language acquisition'!A639","v":0},{"$f":"'BX Language acquisition'!B639","v":0},null,{"$f":"'BX Language acquisition'!C639","v":0},{"$f":"'BX Language acquisition'!D639","v":0}]
[{"$f":"'BX Language acquisition'!A640","v":0},{"$f":"'BX Language acquisition'!B640","v":0},null,{"$f":"'BX Language acquisition'!C640","v":0},{"$f":"'BX Language acquisition'!D640","v":0}]
[{"$f":"'BX Language acquisition'!A641","v":0},{"$f":"'BX Language acquisition'!B641","v":0},null,{"$f":"'BX Language acquisition'!C641","v":0},{"$f":"'BX Language acquisition'!D641","v":0}]
[{"$f":"'BX Language acquisition'!A642","v":0},{"$f":"'BX Language acquisition'!B642","v":0},null,{"$f":"'BX Language acquisition'!C642","v":0},{"$f":"'BX Language acquisition'!D642","v":0}]
[{"$f":"'BX Language acquisition'!A643","v":0},{"$f":"'BX Language acquisition'!B643","v":0},null,{"$f":"'BX Language acquisition'!C643","v":0},{"$f":"'BX Language acquisition'!D643","v":0}]
[{"$f":"'BX Language acquisition'!A644","v":0},{"$f":"'BX Language acquisition'!B644","v":0},null,{"$f":"'BX Language acquisition'!C644","v":0},{"$f":"'BX Language acquisition'!D644","v":0}]
[{"$f":"'BX Language acquisition'!A645","v":0},{"$f":"'BX Language acquisition'!B645","v":0},null,{"$f":"'BX Language acquisition'!C645","v":0},{"$f":"'BX Language acquisition'!D645","v":0}]
[{"$f":"'BX Language acquisition'!A646","v":0},{"$f":"'BX Language acquisition'!B646","v":0},null,{"$f":"'BX Language acquisition'!C646","v":0},{"$f":"'BX Language acquisition'!D646","v":0}]
[{"$f":"'BX Language acquisition'!A647","v":0},{"$f":"'BX Language acquisition'!B647","v":0},null,{"$f":"'BX Language acquisition'!C647","v":0},{"$f":"'BX Language acquisition'!D647","v":0}]
[{"$f":"'BX Language acquisition'!A648","v":0},{"$f":"'BX Language acquisition'!B648","v":0},null,{"$f":"'BX Language acquisition'!C648","v":0},{"$f":"'BX Language acquisition'!D648","v":0}]
[{"$f":"'BX Language acquisition'!A649","v":0},{"$f":"'BX Language acquisition'!B649","v":0},null,{"$f":"'BX Language acquisition'!C649","v":0},{"$f":"'BX Language acquisition'!D649","v":0}]
[{"$f":"'BX Language acquisition'!A650","v":0},{"$f":"'BX Language acquisition'!B650","v":0},null,{"$f":"'BX Language acquisition'!C650","v":0},{"$f":"'BX Language acquisition'!D650","v":0}]
[{"$f":"'BX Language acquisition'!A651","v":0},{"$f":"'BX Language acquisition'!B651","v":0},null,{"$f":"'BX Language acquisition'!C651","v":0},{"$f":"'BX Language acquisition'!D651","v":0}]
[{"$f":"'BX Language acquisition'!A652","v":0},{"$f":"'BX Language acquisition'!B652","v":0},null,{"$f":"'BX Language acquisition'!C652","v":0},{"$f":"'BX Language acquisition'!D652","v":0}]
[{"$f":"'BX Language acquisition'!A653","v":0},{"$f":"'BX Language acquisition'!B653","v":0},null,{"$f":"'BX Language acquisition'!C653","v":0},{"$f":"'BX Language acquisition'!D653","v":0}]
[{"$f":"'BX Language acquisition'!A654","v":0},{"$f":"'BX Language acquisition'!B654","v":0},null,{"$f":"'BX Language acquisition'!C654","v":0},{"$f":"'BX Language acquisition'!D654","v":0}]
[{"$f":"'BX Language acquisition'!A655","v":0},{"$f":"'BX Language acquisition'!B655","v":0},null,{"$f":"'BX Language acquisition'!C655","v":0},{"$f":"'BX Language acquisition'!D655","v":0}]
[{"$f":"'BX Language acquisition'!A656","v":0},{"$f":"'BX Language acquisition'!B656","v":0},null,{"$f":"'BX Language acquisition'!C656","v":0},{"$f":"'BX Language acquisition'!D656","v":0}]
[{"$f":"'BX Language acquisition'!A657","v":0},{"$f":"'BX Language acquisition'!B657","v":0},null,{"$f":"'BX Language acquisition'!C657","v":0},{"$f":"'BX Language acquisition'!D657","v":0}]
[{"$f":"'BX Language acquisition'!A658","v":0},{"$f":"'BX Language acquisition'!B658","v":0},null,{"$f":"'BX Language acquisition'!C658","v":0},{"$f":"'BX Language acquisition'!D658","v":0}]
[{"$f":"'BX Language acquisition'!A659","v":0},{"$f":"'BX Language acquisition'!B659","v":0},null,{"$f":"'BX Language acquisition'!C659","v":0},{"$f":"'BX Language acquisition'!D659","v":0}]
[{"$f":"'BX Language acquisition'!A660","v":0},{"$f":"'BX Language acquisition'!B660","v":0},null,{"$f":"'BX Language acquisition'!C660","v":0},{"$f":"'BX Language acquisition'!D660","v":0}]
[{"$f":"'BX Language acquisition'!A661","v":0},{"$f":"'BX Language acquisition'!B661","v":0},null,{"$f":"'BX Language acquisition'!C661","v":0},{"$f":"'BX Language acquisition'!D661","v":0}]
[{"$f":"'BX Language acquisition'!A662","v":0},{"$f":"'BX Language acquisition'!B662","v":0},null,{"$f":"'BX Language acquisition'!C662","v":0},{"$f":"'BX Language acquisition'!D662","v":0}]
[{"$f":"'BX Language acquisition'!A663","v":0},{"$f":"'BX Language acquisition'!B663","v":0},null,{"$f":"'BX Language acquisition'!C663","v":0},{"$f":"'BX Language acquisition'!D663","v":0}]
[{"$f":"'BX Language acquisition'!A664","v":0},{"$f":"'BX Language acquisition'!B664","v":0},null,{"$f":"'BX Language acquisition'!C664","v":0},{"$f":"'BX Language acquisition'!D664","v":0}]
[{"$f":"'BX Language acquisition'!A665","v":0},{"$f":"'BX Language acquisition'!B665","v":0},null,{"$f":"'BX Language acquisition'!C665","v":0},{"$f":"'BX Language acquisition'!D665","v":0}]
[{"$f":"'BX Language acquisition'!A666","v":0},{"$f":"'BX Language acquisition'!B666","v":0},null,{"$f":"'BX Language acquisition'!C666","v":0},{"$f":"'BX Language acquisition'!D666","v":0}]
[{"$f":"'BX Language acquisition'!A667","v":0},{"$f":"'BX Language acquisition'!B667","v":0},null,{"$f":"'BX Language acquisition'!C667","v":0},{"$f":"'BX Language acquisition'!D667","v":0}]
[{"$f":"'BX Language acquisition'!A668","v":0},{"$f":"'BX Language acquisition'!B668","v":0},null,{"$f":"'BX Language acquisition'!C668","v":0},{"$f":"'BX Language acquisition'!D668","v":0}]
[{"$f":"'BX Language acquisition'!A669","v":0},{"$f":"'BX Language acquisition'!B669","v":0},null,{"$f":"'BX Language acquisition'!C669","v":0},{"$f":"'BX Language acquisition'!D669","v":0}]
[{"$f":"'BX Language acquisition'!A670","v":0},{"$f":"'BX Language acquisition'!B670","v":0},null,{"$f":"'BX Language acquisition'!C670","v":0},{"$f":"'BX Language acquisition'!D670","v":0}]
[{"$f":"'BX Language acquisition'!A671","v":0},{"$f":"'BX Language acquisition'!B671","v":0},null,{"$f":"'BX Language acquisition'!C671","v":0},{"$f":"'BX Language acquisition'!D671","v":0}]
[{"$f":"'BX Language acquisition'!A672","v":0},{"$f":"'BX Language acquisition'!B672","v":0},null,{"$f":"'BX Language acquisition'!C672","v":0},{"$f":"'BX Language acquisition'!D672","v":0}]
[{"$f":"'BX Language acquisition'!A673","v":0},{"$f":"'BX Language acquisition'!B673","v":0},null,{"$f":"'BX Language acquisition'!C673","v":0},{"$f":"'BX Language acquisition'!D673","v":0}]
[{"$f":"'BX Language acquisition'!A674","v":0},{"$f":"'BX Language acquisition'!B674","v":0},null,{"$f":"'BX Language acquisition'!C674","v":0},{"$f":"'BX Language acquisition'!D674","v":0}]
[{"$f":"'BX Language acquisition'!A675","v":0},{"$f":"'BX Language acquisition'!B675","v":0},null,{"$f":"'BX Language acquisition'!C675","v":0},{"$f":"'BX Language acquisition'!D675","v":0}]
[{"$f":"'BX Language acquisition'!A676","v":0},{"$f":"'BX Language acquisition'!B676","v":0},null,{"$f":"'BX Language acquisition'!C676","v":0},{"$f":"'BX Language acquisition'!D676","v":0}]
[{"$f":"'BX Language acquisition'!A677","v":0},{"$f":"'BX Language acquisition'!B677","v":0},null,{"$f":"'BX Language acquisition'!C677","v":0},{"$f":"'BX Language acquisition'!D677","v":0}]
[{"$f":"'BX Language acquisition'!A678","v":0},{"$f":"'BX Language acquisition'!B678","v":0},null,{"$f":"'BX Language acquisition'!C678","v":0},{"$f":"'BX Language acquisition'!D678","v":0}]
[{"$f":"'BX Language acquisition'!A679","v":0},{"$f":"'BX Language acquisition'!B679","v":0},null,{"$f":"'BX Language acquisition'!C679","v":0},{"$f":"'BX Language acquisition'!D679","v":0}]
[{"$f":"'BX Language acquisition'!A680","v":0},{"$f":"'BX Language acquisition'!B680","v":0},null,{"$f":"'BX Language acquisition'!C680","v":0},{"$f":"'BX Language acquisition'!D680","v":0}]
[{"$f":"'BX Language acquisition'!A681","v":0},{"$f":"'BX Language acquisition'!B681","v":0},null,{"$f":"'BX Language acquisition'!C681","v":0},{"$f":"'BX Language acquisition'!D681","v":0}]
[{"$f":"'BX Language acquisition'!A682","v":0},{"$f":"'BX Language acquisition'!B682","v":0},null,{"$f":"'BX Language acquisition'!C682","v":0},{"$f":"'BX Language acquisition'!D682","v":0}]
[{"$f":"'BX Language acquisition'!A683","v":0},{"$f":"'BX Language acquisition'!B683","v":0},null,{"$f":"'BX Language acquisition'!C683","v":0},{"$f":"'BX Language acquisition'!D683","v":0}]
[{"$f":"'BX Language acquisition'!A684","v":0},{"$f":"'BX Language acquisition'!B684","v":0},null,{"$f":"'BX Language acquisition'!C684","v":0},{"$f":"'BX Language acquisition'!D684","v":0}]
[{"$f":"'BX Language acquisition'!A685","v":0},{"$f":"'BX Language acquisition'!B685","v":0},null,{"$f":"'BX Language acquisition'!C685","v":0},{"$f":"'BX Language acquisition'!D685","v":0}]
[{"$f":"'BX Language acquisition'!A686","v":0},{"$f":"'BX Language acquisition'!B686","v":0},null,{"$f":"'BX Language acquisition'!C686","v":0},{"$f":"'BX Language acquisition'!D686","v":0}]
[{"$f":"'BX Language acquisition'!A687","v":0},{"$f":"'BX Language acquisition'!B687","v":0},null,{"$f":"'BX Language acquisition'!C687","v":0},{"$f":"'BX Language acquisition'!D687","v":0}]
[{"$f":"'BX Language acquisition'!A688","v":0},{"$f":"'BX Language acquisition'!B688","v":0},null,{"$f":"'BX Language acquisition'!C688","v":0},{"$f":"'BX Language acquisition'!D688","v":0}]
[{"$f":"'BX Language acquisition'!A689","v":0},{"$f":"'BX Language acquisition'!B689","v":0},null,{"$f":"'BX Language acquisition'!C689","v":0},{"$f":"'BX Language acquisition'!D689","v":0}]
[{"$f":"'BX Language acquisition'!A690","v":0},{"$f":"'BX Language acquisition'!B690","v":0},null,{"$f":"'BX Language acquisition'!C690","v":0},{"$f":"'BX Language acquisition'!D690","v":0}]
[{"$f":"'BX Language acquisition'!A691","v":0},{"$f":"'BX Language acquisition'!B691","v":0},null,{"$f":"'BX Language acquisition'!C691","v":0},{"$f":"'BX Language acquisition'!D691","v":0}]
[{"$f":"'BX Language acquisition'!A692","v":0},{"$f":"'BX Language acquisition'!B692","v":0},null,{"$f":"'BX Language acquisition'!C692","v":0},{"$f":"'BX Language acquisition'!D692","v":0}]
[{"$f":"'BX Language acquisition'!A693","v":0},{"$f":"'BX Language acquisition'!B693","v":0},null,{"$f":"'BX Language acquisition'!C693","v":0},{"$f":"'BX Language acquisition'!D693","v":0}]
[{"$f":"'BX Language acquisition'!A694","v":0},{"$f":"'BX Language acquisition'!B694","v":0},null,{"$f":"'BX Language acquisition'!C694","v":0},{"$f":"'BX Language acquisition'!D694","v":0}]
[{"$f":"'BX Language acquisition'!A695","v":0},{"$f":"'BX Language acquisition'!B695","v":0},null,{"$f":"'BX Language acquisition'!C695","v":0},{"$f":"'BX Language acquisition'!D695","v":0}]
[{"$f":"'BX Language acquisition'!A696","v":0},{"$f":"'BX Language acquisition'!B696","v":0},null,{"$f":"'BX Language acquisition'!C696","v":0},{"$f":"'BX Language acquisition'!D696","v":0}]
[{"$f":"'BX Language acquisition'!A697","v":0},{"$f":"'BX Language acquisition'!B697","v":0},null,{"$f":"'BX Language acquisition'!C697","v":0},{"$f":"'BX Language acquisition'!D697","v":0}]
[{"$f":"'BX Language acquisition'!A698","v":0},{"$f":"'BX Language acquisition'!B698","v":0},null,{"$f":"'BX Language acquisition'!C698","v":0},{"$f":"'BX Language acquisition'!D698","v":0}]
[{"$f":"'BX Language acquisition'!A699","v":0},{"$f":"'BX Language acquisition'!B699","v":0},null,{"$f":"'BX Language acquisition'!C699","v":0},{"$f":"'BX Language acquisition'!D699","v":0}]
[{"$f":"'BX Language acquisition'!A700","v":0},{"$f":"'BX Language acquisition'!B700","v":0},null,{"$f":"'BX Language acquisition'!C700","v":0},{"$f":"'BX Language acquisition'!D700","v":0}]
[{"$f":"'BX Language acquisition'!A701","v":0},{"$f":"'BX Language acquisition'!B701","v":0},null,{"$f":"'BX Language acquisition'!C701","v":0},{"$f":"'BX Language acquisition'!D701","v":0}]
[{"$f":"'BX Language acquisition'!A702","v":0},{"$f":"'BX Language acquisition'!B702","v":0},null,{"$f":"'BX Language acquisition'!C702","v":0},{"$f":"'BX Language acquisition'!D702","v":0}]
[{"$f":"'BX Language acquisition'!A703","v":0},{"$f":"'BX Language acquisition'!B703","v":0},null,{"$f":"'BX Language acquisition'!C703","v":0},{"$f":"'BX Language acquisition'!D703","v":0}]
[{"$f":"'BX Language acquisition'!A704","v":0},{"$f":"'BX Language acquisition'!B704","v":0},null,{"$f":"'BX Language acquisition'!C704","v":0},{"$f":"'BX Language acquisition'!D704","v":0}]
[{"$f":"'BX Language acquisition'!A705","v":0},{"$f":"'BX Language acquisition'!B705","v":0},null,{"$f":"'BX Language acquisition'!C705","v":0},{"$f":"'BX Language acquisition'!D705","v":0}]
[{"$f":"'BX Language acquisition'!A706","v":0},{"$f":"'BX Language acquisition'!B706","v":0},null,{"$f":"'BX Language acquisition'!C706","v":0},{"$f":"'BX Language acquisition'!D706","v":0}]
[{"$f":"'BX Language acquisition'!A707","v":0},{"$f":"'BX Language acquisition'!B707","v":0},null,{"$f":"'BX Language acquisition'!C707","v":0},{"$f":"'BX Language acquisition'!D707","v":0}]
[{"$f":"'BX Language acquisition'!A708","v":0},{"$f":"'BX Language acquisition'!B708","v":0},null,{"$f":"'BX Language acquisition'!C708","v":0},{"$f":"'BX Language acquisition'!D708","v":0}]
[{"$f":"'BX Language acquisition'!A709","v":0},{"$f":"'BX Language acquisition'!B709","v":0},null,{"$f":"'BX Language acquisition'!C709","v":0},{"$f":"'BX Language acquisition'!D709","v":0}]
[{"$f":"'BX Language acquisition'!A710","v":0},{"$f":"'BX Language acquisition'!B710","v":0},null,{"$f":"'BX Language acquisition'!C710","v":0},{"$f":"'BX Language acquisition'!D710","v":0}]
[{"$f":"'BX Language acquisition'!A711","v":0},{"$f":"'BX Language acquisition'!B711","v":0},null,{"$f":"'BX Language acquisition'!C711","v":0},{"$f":"'BX Language acquisition'!D711","v":0}]
[{"$f":"'BX Language acquisition'!A712","v":0},{"$f":"'BX Language acquisition'!B712","v":0},null,{"$f":"'BX Language acquisition'!C712","v":0},{"$f":"'BX Language acquisition'!D712","v":0}]
[{"$f":"'BX Language acquisition'!A713","v":0},{"$f":"'BX Language acquisition'!B713","v":0},null,{"$f":"'BX Language acquisition'!C713","v":0},{"$f":"'BX Language acquisition'!D713","v":0}]
[{"$f":"'BX Language acquisition'!A714","v":0},{"$f":"'BX Language acquisition'!B714","v":0},null,{"$f":"'BX Language acquisition'!C714","v":0},{"$f":"'BX Language acquisition'!D714","v":0}]
[{"$f":"'BX Language acquisition'!A715","v":0},{"$f":"'BX Language acquisition'!B715","v":0},null,{"$f":"'BX Language acquisition'!C715","v":0},{"$f":"'BX Language acquisition'!D715","v":0}]
[{"$f":"'BX Language acquisition'!A716","v":0},{"$f":"'BX Language acquisition'!B716","v":0},null,{"$f":"'BX Language acquisition'!C716","v":0},{"$f":"'BX Language acquisition'!D716","v":0}]
[{"$f":"'BX Language acquisition'!A717","v":0},{"$f":"'BX Language acquisition'!B717","v":0},null,{"$f":"'BX Language acquisition'!C717","v":0},{"$f":"'BX Language acquisition'!D717","v":0}]
[{"$f":"'BX Language acquisition'!A718","v":0},{"$f":"'BX Language acquisition'!B718","v":0},null,{"$f":"'BX Language acquisition'!C718","v":0},{"$f":"'BX Language acquisition'!D718","v":0}]
[{"$f":"'BX Language acquisition'!A719","v":0},{"$f":"'BX Language acquisition'!B719","v":0},null,{"$f":"'BX Language acquisition'!C719","v":0},{"$f":"'BX Language acquisition'!D719","v":0}]
[{"$f":"'BX Language acquisition'!A720","v":0},{"$f":"'BX Language acquisition'!B720","v":0},null,{"$f":"'BX Language acquisition'!C720","v":0},{"$f":"'BX Language acquisition'!D720","v":0}]
[{"$f":"'BX Language acquisition'!A721","v":0},{"$f":"'BX Language acquisition'!B721","v":0},null,{"$f":"'BX Language acquisition'!C721","v":0},{"$f":"'BX Language acquisition'!D721","v":0}]
[{"$f":"'BX Language acquisition'!A722","v":0},{"$f":"'BX Language acquisition'!B722","v":0},null,{"$f":"'BX Language acquisition'!C722","v":0},{"$f":"'BX Language acquisition'!D722","v":0}]
[{"$f":"'BX Language acquisition'!A723","v":0},{"$f":"'BX Language acquisition'!B723","v":0},null,{"$f":"'BX Language acquisition'!C723","v":0},{"$f":"'BX Language acquisition'!D723","v":0}]
[{"$f":"'BX Language acquisition'!A724","v":0},{"$f":"'BX Language acquisition'!B724","v":0},null,{"$f":"'BX Language acquisition'!C724","v":0},{"$f":"'BX Language acquisition'!D724","v":0}]
[{"$f":"'BX Language acquisition'!A725","v":0},{"$f":"'BX Language acquisition'!B725","v":0},null,{"$f":"'BX Language acquisition'!C725","v":0},{"$f":"'BX Language acquisition'!D725","v":0}]
[{"$f":"'BX Language acquisition'!A726","v":0},{"$f":"'BX Language acquisition'!B726","v":0},null,{"$f":"'BX Language acquisition'!C726","v":0},{"$f":"'BX Language acquisition'!D726","v":0}]
[{"$f":"'BX Language acquisition'!A727","v":0},{"$f":"'BX Language acquisition'!B727","v":0},null,{"$f":"'BX Language acquisition'!C727","v":0},{"$f":"'BX Language acquisition'!D727","v":0}]
[{"$f":"'BX Language acquisition'!A728","v":0},{"$f":"'BX Language acquisition'!B728","v":0},null,{"$f":"'BX Language acquisition'!C728","v":0},{"$f":"'BX Language acquisition'!D728","v":0}]
[{"$f":"'BX Language acquisition'!A729","v":0},{"$f":"'BX Language acquisition'!B729","v":0},null,{"$f":"'BX Language acquisition'!C729","v":0},{"$f":"'BX Language acquisition'!D729","v":0}]
[{"$f":"'BX Language acquisition'!A730","v":0},{"$f":"'BX Language acquisition'!B730","v":0},null,{"$f":"'BX Language acquisition'!C730","v":0},{"$f":"'BX Language acquisition'!D730","v":0}]
[{"$f":"'BX Language acquisition'!A731","v":0},{"$f":"'BX Language acquisition'!B731","v":0},null,{"$f":"'BX Language acquisition'!C731","v":0},{"$f":"'BX Language acquisition'!D731","v":0}]
[{"$f":"'BX Language acquisition'!A732","v":0},{"$f":"'BX Language acquisition'!B732","v":0},null,{"$f":"'BX Language acquisition'!C732","v":0},{"$f":"'BX Language acquisition'!D732","v":0}]
[{"$f":"'BX Language acquisition'!A733","v":0},{"$f":"'BX Language acquisition'!B733","v":0},null,{"$f":"'BX Language acquisition'!C733","v":0},{"$f":"'BX Language acquisition'!D733","v":0}]
[{"$f":"'BX Language acquisition'!A734","v":0},{"$f":"'BX Language acquisition'!B734","v":0},null,{"$f":"'BX Language acquisition'!C734","v":0},{"$f":"'BX Language acquisition'!D734","v":0}]
[{"$f":"'BX Language acquisition'!A735","v":0},{"$f":"'BX Language acquisition'!B735","v":0},null,{"$f":"'BX Language acquisition'!C735","v":0},{"$f":"'BX Language acquisition'!D735","v":0}]
[{"$f":"'BX Language acquisition'!A736","v":0},{"$f":"'BX Language acquisition'!B736","v":0},null,{"$f":"'BX Language acquisition'!C736","v":0},{"$f":"'BX Language acquisition'!D736","v":0}]
[{"$f":"'BX Language acquisition'!A737","v":0},{"$f":"'BX Language acquisition'!B737","v":0},null,{"$f":"'BX Language acquisition'!C737","v":0},{"$f":"'BX Language acquisition'!D737","v":0}]
[{"$f":"'BX Language acquisition'!A738","v":0},{"$f":"'BX Language acquisition'!B738","v":0},null,{"$f":"'BX Language acquisition'!C738","v":0},{"$f":"'BX Language acquisition'!D738","v":0}]
[{"$f":"'BX Language acquisition'!A739","v":0},{"$f":"'BX Language acquisition'!B739","v":0},null,{"$f":"'BX Language acquisition'!C739","v":0},{"$f":"'BX Language acquisition'!D739","v":0}]
[{"$f":"'BX Language acquisition'!A740","v":0},{"$f":"'BX Language acquisition'!B740","v":0},null,{"$f":"'BX Language acquisition'!C740","v":0},{"$f":"'BX Language acquisition'!D740","v":0}]
[{"$f":"'BX Language acquisition'!A741","v":0},{"$f":"'BX Language acquisition'!B741","v":0},null,{"$f":"'BX Language acquisition'!C741","v":0},{"$f":"'BX Language acquisition'!D741","v":0}]
[{"$f":"'BX Language acquisition'!A742","v":0},{"$f":"'BX Language acquisition'!B742","v":0},null,{"$f":"'BX Language acquisition'!C742","v":0},{"$f":"'BX Language acquisition'!D742","v":0}]
[{"$f":"'BX Language acquisition'!A743","v":0},{"$f":"'BX Language acquisition'!B743","v":0},null,{"$f":"'BX Language acquisition'!C743","v":0},{"$f":"'BX Language acquisition'!D743","v":0}]
[{"$f":"'BX Language acquisition'!A744","v":0},{"$f":"'BX Language acquisition'!B744","v":0},null,{"$f":"'BX Language acquisition'!C744","v":0},{"$f":"'BX Language acquisition'!D744","v":0}]
[{"$f":"'BX Language acquisition'!A745","v":0},{"$f":"'BX Language acquisition'!B745","v":0},null,{"$f":"'BX Language acquisition'!C745","v":0},{"$f":"'BX Language acquisition'!D745","v":0}]
[{"$f":"'BX Language acquisition'!A746","v":0},{"$f":"'BX Language acquisition'!B746","v":0},null,{"$f":"'BX Language acquisition'!C746","v":0},{"$f":"'BX Language acquisition'!D746","v":0}]
[{"$f":"'BX Language acquisition'!A747","v":0},{"$f":"'BX Language acquisition'!B747","v":0},null,{"$f":"'BX Language acquisition'!C747","v":0},{"$f":"'BX Language acquisition'!D747","v":0}]
[{"$f":"'BX Language acquisition'!A748","v":0},{"$f":"'BX Language acquisition'!B748","v":0},null,{"$f":"'BX Language acquisition'!C748","v":0},{"$f":"'BX Language acquisition'!D748","v":0}]
[{"$f":"'BX Language acquisition'!A749","v":0},{"$f":"'BX Language acquisition'!B749","v":0},null,{"$f":"'BX Language acquisition'!C749","v":0},{"$f":"'BX Language acquisition'!D749","v":0}]
[{"$f":"'BX Language acquisition'!A750","v":0},{"$f":"'BX Language acquisition'!B750","v":0},null,{"$f":"'BX Language acquisition'!C750","v":0},{"$f":"'BX Language acquisition'!D750","v":0}]
[{"$f":"'BX Language acquisition'!A751","v":0},{"$f":"'BX Language acquisition'!B751","v":0},null,{"$f":"'BX Language acquisition'!C751","v":0},{"$f":"'BX Language acquisition'!D751","v":0}]
[{"$f":"'BX Language acquisition'!A752","v":0},{"$f":"'BX Language acquisition'!B752","v":0},null,{"$f":"'BX Language acquisition'!C752","v":0},{"$f":"'BX Language acquisition'!D752","v":0}]
[{"$f":"'BX Language acquisition'!A753","v":0},{"$f":"'BX Language acquisition'!B753","v":0},null,{"$f":"'BX Language acquisition'!C753","v":0},{"$f":"'BX Language acquisition'!D753","v":0}]
[{"$f":"'BX Language acquisition'!A754","v":0},{"$f":"'BX Language acquisition'!B754","v":0},null,{"$f":"'BX Language acquisition'!C754","v":0},{"$f":"'BX Language acquisition'!D754","v":0}]
[{"$f":"'BX Language acquisition'!A755","v":0},{"$f":"'BX Language acquisition'!B755","v":0},null,{"$f":"'BX Language acquisition'!C755","v":0},{"$f":"'BX Language acquisition'!D755","v":0}]
[{"$f":"'BX Language acquisition'!A756","v":0},{"$f":"'BX Language acquisition'!B756","v":0},null,{"$f":"'BX Language acquisition'!C756","v":0},{"$f":"'BX Language acquisition'!D756","v":0}]
[{"$f":"'BX Language acquisition'!A757","v":0},{"$f":"'BX Language acquisition'!B757","v":0},null,{"$f":"'BX Language acquisition'!C757","v":0},{"$f":"'BX Language acquisition'!D757","v":0}]
[{"$f":"'BX Language acquisition'!A758","v":0},{"$f":"'BX Language acquisition'!B758","v":0},null,{"$f":"'BX Language acquisition'!C758","v":0},{"$f":"'BX Language acquisition'!D758","v":0}]
[{"$f":"'BX Language acquisition'!A759","v":0},{"$f":"'BX Language acquisition'!B759","v":0},null,{"$f":"'BX Language acquisition'!C759","v":0},{"$f":"'BX Language acquisition'!D759","v":0}]
[{"$f":"'BX Language acquisition'!A760","v":0},{"$f":"'BX Language acquisition'!B760","v":0},null,{"$f":"'BX Language acquisition'!C760","v":0},{"$f":"'BX Language acquisition'!D760","v":0}]
[{"$f":"'BX Language acquisition'!A761","v":0},{"$f":"'BX Language acquisition'!B761","v":0},null,{"$f":"'BX Language acquisition'!C761","v":0},{"$f":"'BX Language acquisition'!D761","v":0}]
[{"$f":"'BX Language acquisition'!A762","v":0},{"$f":"'BX Language acquisition'!B762","v":0},null,{"$f":"'BX Language acquisition'!C762","v":0},{"$f":"'BX Language acquisition'!D762","v":0}]
[{"$f":"'BX Language acquisition'!A763","v":0},{"$f":"'BX Language acquisition'!B763","v":0},null,{"$f":"'BX Language acquisition'!C763","v":0},{"$f":"'BX Language acquisition'!D763","v":0}]
[{"$f":"'BX Language acquisition'!A764","v":0},{"$f":"'BX Language acquisition'!B764","v":0},null,{"$f":"'BX Language acquisition'!C764","v":0},{"$f":"'BX Language acquisition'!D764","v":0}]
[{"$f":"'BX Language acquisition'!A765","v":0},{"$f":"'BX Language acquisition'!B765","v":0},null,{"$f":"'BX Language acquisition'!C765","v":0},{"$f":"'BX Language acquisition'!D765","v":0}]
[{"$f":"'BX Language acquisition'!A766","v":0},{"$f":"'BX Language acquisition'!B766","v":0},null,{"$f":"'BX Language acquisition'!C766","v":0},{"$f":"'BX Language acquisition'!D766","v":0}]
[{"$f":"'BX Language acquisition'!A767","v":0},{"$f":"'BX Language acquisition'!B767","v":0},null,{"$f":"'BX Language acquisition'!C767","v":0},{"$f":"'BX Language acquisition'!D767","v":0}]
[{"$f":"'BX Language acquisition'!A768","v":0},{"$f":"'BX Language acquisition'!B768","v":0},null,{"$f":"'BX Language acquisition'!C768","v":0},{"$f":"'BX Language acquisition'!D768","v":0}]
[{"$f":"'BX Language acquisition'!A769","v":0},{"$f":"'BX Language acquisition'!B769","v":0},null,{"$f":"'BX Language acquisition'!C769","v":0},{"$f":"'BX Language acquisition'!D769","v":0}]
[{"$f":"'BX Language acquisition'!A770","v":0},{"$f":"'BX Language acquisition'!B770","v":0},null,{"$f":"'BX Language acquisition'!C770","v":0},{"$f":"'BX Language acquisition'!D770","v":0}]
[{"$f":"'BX Language acquisition'!A771","v":0},{"$f":"'BX Language acquisition'!B771","v":0},null,{"$f":"'BX Language acquisition'!C771","v":0},{"$f":"'BX Language acquisition'!D771","v":0}]
[{"$f":"'BX Language acquisition'!A772","v":0},{"$f":"'BX Language acquisition'!B772","v":0},null,{"$f":"'BX Language acquisition'!C772","v":0},{"$f":"'BX Language acquisition'!D772","v":0}]
[{"$f":"'BX Language acquisition'!A773","v":0},{"$f":"'BX Language acquisition'!B773","v":0},null,{"$f":"'BX Language acquisition'!C773","v":0},{"$f":"'BX Language acquisition'!D773","v":0}]
[{"$f":"'BX Language acquisition'!A774","v":0},{"$f":"'BX Language acquisition'!B774","v":0},null,{"$f":"'BX Language acquisition'!C774","v":0},{"$f":"'BX Language acquisition'!D774","v":0}]
[{"$f":"'BX Language acquisition'!A775","v":0},{"$f":"'BX Language acquisition'!B775","v":0},null,{"$f":"'BX Language acquisition'!C775","v":0},{"$f":"'BX Language acquisition'!D775","v":0}]
[{"$f":"'BX Language acquisition'!A776","v":0},{"$f":"'BX Language acquisition'!B776","v":0},null,{"$f":"'BX Language acquisition'!C776","v":0},{"$f":"'BX Language acquisition'!D776","v":0}]
[{"$f":"'BX Language acquisition'!A777","v":0},{"$f":"'BX Language acquisition'!B777","v":0},null,{"$f":"'BX Language acquisition'!C777","v":0},{"$f":"'BX Language acquisition'!D777","v":0}]
[{"$f":"'BX Language acquisition'!A778","v":0},{"$f":"'BX Language acquisition'!B778","v":0},null,{"$f":"'BX Language acquisition'!C778","v":0},{"$f":"'BX Language acquisition'!D778","v":0}]
[{"$f":"'BX Language acquisition'!A779","v":0},{"$f":"'BX Language acquisition'!B779","v":0},null,{"$f":"'BX Language acquisition'!C779","v":0},{"$f":"'BX Language acquisition'!D779","v":0}]
[{"$f":"'BX Language acquisition'!A780","v":0},{"$f":"'BX Language acquisition'!B780","v":0},null,{"$f":"'BX Language acquisition'!C780","v":0},{"$f":"'BX Language acquisition'!D780","v":0}]
[{"$f":"'BX Language acquisition'!A781","v":0},{"$f":"'BX Language acquisition'!B781","v":0},null,{"$f":"'BX Language acquisition'!C781","v":0},{"$f":"'BX Language acquisition'!D781","v":0}]
[{"$f":"'BX Language acquisition'!A782","v":0},{"$f":"'BX Language acquisition'!B782","v":0},null,{"$f":"'BX Language acquisition'!C782","v":0},{"$f":"'BX Language acquisition'!D782","v":0}]
[{"$f":"'BX Language acquisition'!A783","v":0},{"$f":"'BX Language acquisition'!B783","v":0},null,{"$f":"'BX Language acquisition'!C783","v":0},{"$f":"'BX Language acquisition'!D783","v":0}]
[{"$f":"'BX Language acquisition'!A784","v":0},{"$f":"'BX Language acquisition'!B784","v":0},null,{"$f":"'BX Language acquisition'!C784","v":0},{"$f":"'BX Language acquisition'!D784","v":0}]
[{"$f":"'BX Language acquisition'!A785","v":0},{"$f":"'BX Language acquisition'!B785","v":0},null,{"$f":"'BX Language acquisition'!C785","v":0},{"$f":"'BX Language acquisition'!D785","v":0}]
[{"$f":"'BX Language acquisition'!A786","v":0},{"$f":"'BX Language acquisition'!B786","v":0},null,{"$f":"'BX Language acquisition'!C786","v":0},{"$f":"'BX Language acquisition'!D786","v":0}]
[{"$f":"'BX Language acquisition'!A787","v":0},{"$f":"'BX Language acquisition'!B787","v":0},null,{"$f":"'BX Language acquisition'!C787","v":0},{"$f":"'BX Language acquisition'!D787","v":0}]
[{"$f":"'BX Language acquisition'!A788","v":0},{"$f":"'BX Language acquisition'!B788","v":0},null,{"$f":"'BX Language acquisition'!C788","v":0},{"$f":"'BX Language acquisition'!D788","v":0}]
[{"$f":"'BX Language acquisition'!A789","v":0},{"$f":"'BX Language acquisition'!B789","v":0},null,{"$f":"'BX Language acquisition'!C789","v":0},{"$f":"'BX Language acquisition'!D789","v":0}]
[{"$f":"'BX Language acquisition'!A790","v":0},{"$f":"'BX Language acquisition'!B790","v":0},null,{"$f":"'BX Language acquisition'!C790","v":0},{"$f":"'BX Language acquisition'!D790","v":0}]
[{"$f":"'BX Language acquisition'!A791","v":0},{"$f":"'BX Language acquisition'!B791","v":0},null,{"$f":"'BX Language acquisition'!C791","v":0},{"$f":"'BX Language acquisition'!D791","v":0}]
[{"$f":"'BX Language acquisition'!A792","v":0},{"$f":"'BX Language acquisition'!B792","v":0},null,{"$f":"'BX Language acquisition'!C792","v":0},{"$f":"'BX Language acquisition'!D792","v":0}]
[{"$f":"'BX Language acquisition'!A793","v":0},{"$f":"'BX Language acquisition'!B793","v":0},null,{"$f":"'BX Language acquisition'!C793","v":0},{"$f":"'BX Language acquisition'!D793","v":0}]
[{"$f":"'BX Language acquisition'!A794","v":0},{"$f":"'BX Language acquisition'!B794","v":0},null,{"$f":"'BX Language acquisition'!C794","v":0},{"$f":"'BX Language acquisition'!D794","v":0}]
[{"$f":"'BX Language acquisition'!A795","v":0},{"$f":"'BX Language acquisition'!B795","v":0},null,{"$f":"'BX Language acquisition'!C795","v":0},{"$f":"'BX Language acquisition'!D795","v":0}]
[{"$f":"'BX Language acquisition'!A796","v":0},{"$f":"'BX Language acquisition'!B796","v":0},null,{"$f":"'BX Language acquisition'!C796","v":0},{"$f":"'BX Language acquisition'!D796","v":0}]
[{"$f":"'BX Language acquisition'!A797","v":0},{"$f":"'BX Language acquisition'!B797","v":0},null,{"$f":"'BX Language acquisition'!C797","v":0},{"$f":"'BX Language acquisition'!D797","v":0}]
[{"$f":"'BX Language acquisition'!A798","v":0},{"$f":"'BX Language acquisition'!B798","v":0},null,{"$f":"'BX Language acquisition'!C798","v":0},{"$f":"'BX Language acquisition'!D798","v":0}]
[{"$f":"'BX Language acquisition'!A799","v":0},{"$f":"'BX Language acquisition'!B799","v":0},null,{"$f":"'BX Language acquisition'!C799","v":0},{"$f":"'BX Language acquisition'!D799","v":0}]
[{"$f":"'BX Language acquisition'!A800","v":0},{"$f":"'BX Language acquisition'!B800","v":0},null,{"$f":"'BX Language acquisition'!C800","v":0},{"$f":"'BX Language acquisition'!D800","v":0}]
[{"$f":"'BX Language acquisition'!A801","v":0},{"$f":"'BX Language acquisition'!B801","v":0},null,{"$f":"'BX Language acquisition'!C801","v":0},{"$f":"'BX Language acquisition'!D801","v":0}]
[{"$f":"'BX Language acquisition'!A802","v":0},{"$f":"'BX Language acquisition'!B802","v":0},null,{"$f":"'BX Language acquisition'!C802","v":0},{"$f":"'BX Language acquisition'!D802","v":0}]
[{"$f":"'BX Language acquisition'!A803","v":0},{"$f":"'BX Language acquisition'!B803","v":0},null,{"$f":"'BX Language acquisition'!C803","v":0},{"$f":"'BX Language acquisition'!D803","v":0}]
[{"$f":"'BX Language acquisition'!A804","v":0},{"$f":"'BX Language acquisition'!B804","v":0},null,{"$f":"'BX Language acquisition'!C804","v":0},{"$f":"'BX Language acquisition'!D804","v":0}]
[{"$f":"'BX Language acquisition'!A805","v":0},{"$f":"'BX Language acquisition'!B805","v":0},null,{"$f":"'BX Language acquisition'!C805","v":0},{"$f":"'BX Language acquisition'!D805","v":0}]
[{"$f":"'BX Language acquisition'!A806","v":0},{"$f":"'BX Language acquisition'!B806","v":0},null,{"$f":"'BX Language acquisition'!C806","v":0},{"$f":"'BX Language acquisition'!D806","v":0}]
[{"$f":"'BX Language acquisition'!A807","v":0},{"$f":"'BX Language acquisition'!B807","v":0},null,{"$f":"'BX Language acquisition'!C807","v":0},{"$f":"'BX Language acquisition'!D807","v":0}]
[{"$f":"'BX Language acquisition'!A808","v":0},{"$f":"'BX Language acquisition'!B808","v":0},null,{"$f":"'BX Language acquisition'!C808","v":0},{"$f":"'BX Language acquisition'!D808","v":0}]
[{"$f":"'BX Language acquisition'!A809","v":0},{"$f":"'BX Language acquisition'!B809","v":0},null,{"$f":"'BX Language acquisition'!C809","v":0},{"$f":"'BX Language acquisition'!D809","v":0}]
[{"$f":"'BX Language acquisition'!A810","v":0},{"$f":"'BX Language acquisition'!B810","v":0},null,{"$f":"'BX Language acquisition'!C810","v":0},{"$f":"'BX Language acquisition'!D810","v":0}]
[{"$f":"'BX Language acquisition'!A811","v":0},{"$f":"'BX Language acquisition'!B811","v":0},null,{"$f":"'BX Language acquisition'!C811","v":0},{"$f":"'BX Language acquisition'!D811","v":0}]
[{"$f":"'BX Language acquisition'!A812","v":0},{"$f":"'BX Language acquisition'!B812","v":0},null,{"$f":"'BX Language acquisition'!C812","v":0},{"$f":"'BX Language acquisition'!D812","v":0}]
[{"$f":"'BX Language acquisition'!A813","v":0},{"$f":"'BX Language acquisition'!B813","v":0},null,{"$f":"'BX Language acquisition'!C813","v":0},{"$f":"'BX Language acquisition'!D813","v":0}]
[{"$f":"'BX Language acquisition'!A814","v":0},{"$f":"'BX Language acquisition'!B814","v":0},null,{"$f":"'BX Language acquisition'!C814","v":0},{"$f":"'BX Language acquisition'!D814","v":0}]
[{"$f":"'BX Language acquisition'!A815","v":0},{"$f":"'BX Language acquisition'!B815","v":0},null,{"$f":"'BX Language acquisition'!C815","v":0},{"$f":"'BX Language acquisition'!D815","v":0}]
[{"$f":"'BX Language acquisition'!A816","v":0},{"$f":"'BX Language acquisition'!B816","v":0},null,{"$f":"'BX Language acquisition'!C816","v":0},{"$f":"'BX Language acquisition'!D816","v":0}]
[{"$f":"'BX Language acquisition'!A817","v":0},{"$f":"'BX Language acquisition'!B817","v":0},null,{"$f":"'BX Language acquisition'!C817","v":0},{"$f":"'BX Language acquisition'!D817","v":0}]
[{"$f":"'BX Language acquisition'!A818","v":0},{"$f":"'BX Language acquisition'!B818","v":0},null,{"$f":"'BX Language acquisition'!C818","v":0},{"$f":"'BX Language acquisition'!D818","v":0}]
[{"$f":"'BX Language acquisition'!A819","v":0},{"$f":"'BX Language acquisition'!B819","v":0},null,{"$f":"'BX Language acquisition'!C819","v":0},{"$f":"'BX Language acquisition'!D819","v":0}]
[{"$f":"'BX Language acquisition'!A820","v":0},{"$f":"'BX Language acquisition'!B820","v":0},null,{"$f":"'BX Language acquisition'!C820","v":0},{"$f":"'BX Language acquisition'!D820","v":0}]
[{"$f":"'BX Language acquisition'!A821","v":0},{"$f":"'BX Language acquisition'!B821","v":0},null,{"$f":"'BX Language acquisition'!C821","v":0},{"$f":"'BX Language acquisition'!D821","v":0}]
[{"$f":"'BX Language acquisition'!A822","v":0},{"$f":"'BX Language acquisition'!B822","v":0},null,{"$f":"'BX Language acquisition'!C822","v":0},{"$f":"'BX Language acquisition'!D822","v":0}]
[{"$f":"'BX Language acquisition'!A823","v":0},{"$f":"'BX Language acquisition'!B823","v":0},null,{"$f":"'BX Language acquisition'!C823","v":0},{"$f":"'BX Language acquisition'!D823","v":0}]
[{"$f":"'BX Language acquisition'!A824","v":0},{"$f":"'BX Language acquisition'!B824","v":0},null,{"$f":"'BX Language acquisition'!C824","v":0},{"$f":"'BX Language acquisition'!D824","v":0}]
[{"$f":"'BX Language acquisition'!A825","v":0},{"$f":"'BX Language acquisition'!B825","v":0},null,{"$f":"'BX Language acquisition'!C825","v":0},{"$f":"'BX Language acquisition'!D825","v":0}]
[{"$f":"'BX Language acquisition'!A826","v":0},{"$f":"'BX Language acquisition'!B826","v":0},null,{"$f":"'BX Language acquisition'!C826","v":0},{"$f":"'BX Language acquisition'!D826","v":0}]
[{"$f":"'BX Language acquisition'!A827","v":0},{"$f":"'BX Language acquisition'!B827","v":0},null,{"$f":"'BX Language acquisition'!C827","v":0},{"$f":"'BX Language acquisition'!D827","v":0}]
[{"$f":"'BX Language acquisition'!A828","v":0},{"$f":"'BX Language acquisition'!B828","v":0},null,{"$f":"'BX Language acquisition'!C828","v":0},{"$f":"'BX Language acquisition'!D828","v":0}]
[{"$f":"'BX Language acquisition'!A829","v":0},{"$f":"'BX Language acquisition'!B829","v":0},null,{"$f":"'BX Language acquisition'!C829","v":0},{"$f":"'BX Language acquisition'!D829","v":0}]
[{"$f":"'BX Language acquisition'!A830","v":0},{"$f":"'BX Language acquisition'!B830","v":0},null,{"$f":"'BX Language acquisition'!C830","v":0},{"$f":"'BX Language acquisition'!D830","v":0}]
[{"$f":"'BX Language acquisition'!A831","v":0},{"$f":"'BX Language acquisition'!B831","v":0},null,{"$f":"'BX Language acquisition'!C831","v":0},{"$f":"'BX Language acquisition'!D831","v":0}]
[{"$f":"'BX Language acquisition'!A832","v":0},{"$f":"'BX Language acquisition'!B832","v":0},null,{"$f":"'BX Language acquisition'!C832","v":0},{"$f":"'BX Language acquisition'!D832","v":0}]
[{"$f":"'BX Language acquisition'!A833","v":0},{"$f":"'BX Language acquisition'!B833","v":0},null,{"$f":"'BX Language acquisition'!C833","v":0},{"$f":"'BX Language acquisition'!D833","v":0}]
[{"$f":"'BX Language acquisition'!A834","v":0},{"$f":"'BX Language acquisition'!B834","v":0},null,{"$f":"'BX Language acquisition'!C834","v":0},{"$f":"'BX Language acquisition'!D834","v":0}]
[{"$f":"'BX Language acquisition'!A835","v":0},{"$f":"'BX Language acquisition'!B835","v":0},null,{"$f":"'BX Language acquisition'!C835","v":0},{"$f":"'BX Language acquisition'!D835","v":0}]
[{"$f":"'BX Language acquisition'!A836","v":0},{"$f":"'BX Language acquisition'!B836","v":0},null,{"$f":"'BX Language acquisition'!C836","v":0},{"$f":"'BX Language acquisition'!D836","v":0}]
[{"$f":"'BX Language acquisition'!A837","v":0},{"$f":"'BX Language acquisition'!B837","v":0},null,{"$f":"'BX Language acquisition'!C837","v":0},{"$f":"'BX Language acquisition'!D837","v":0}]
[{"$f":"'BX Language acquisition'!A838","v":0},{"$f":"'BX Language acquisition'!B838","v":0},null,{"$f":"'BX Language acquisition'!C838","v":0},{"$f":"'BX Language acquisition'!D838","v":0}]
[{"$f":"'BX Language acquisition'!A839","v":0},{"$f":"'BX Language acquisition'!B839","v":0},null,{"$f":"'BX Language acquisition'!C839","v":0},{"$f":"'BX Language acquisition'!D839","v":0}]
[{"$f":"'BX Language acquisition'!A840","v":0},{"$f":"'BX Language acquisition'!B840","v":0},null,{"$f":"'BX Language acquisition'!C840","v":0},{"$f":"'BX Language acquisition'!D840","v":0}]
[{"$f":"'BX Language acquisition'!A841","v":0},{"$f":"'BX Language acquisition'!B841","v":0},null,{"$f":"'BX Language acquisition'!C841","v":0},{"$f":"'BX Language acquisition'!D841","v":0}]
[{"$f":"'BX Language acquisition'!A842","v":0},{"$f":"'BX Language acquisition'!B842","v":0},null,{"$f":"'BX Language acquisition'!C842","v":0},{"$f":"'BX Language acquisition'!D842","v":0}]
[{"$f":"'BX Language acquisition'!A843","v":0},{"$f":"'BX Language acquisition'!B843","v":0},null,{"$f":"'BX Language acquisition'!C843","v":0},{"$f":"'BX Language acquisition'!D843","v":0}]
[{"$f":"'BX Language acquisition'!A844","v":0},{"$f":"'BX Language acquisition'!B844","v":0},null,{"$f":"'BX Language acquisition'!C844","v":0},{"$f":"'BX Language acquisition'!D844","v":0}]
[{"$f":"'BX Language acquisition'!A845","v":0},{"$f":"'BX Language acquisition'!B845","v":0},null,{"$f":"'BX Language acquisition'!C845","v":0},{"$f":"'BX Language acquisition'!D845","v":0}]
[{"$f":"'BX Language acquisition'!A846","v":0},{"$f":"'BX Language acquisition'!B846","v":0},null,{"$f":"'BX Language acquisition'!C846","v":0},{"$f":"'BX Language acquisition'!D846","v":0}]
[{"$f":"'BX Language acquisition'!A847","v":0},{"$f":"'BX Language acquisition'!B847","v":0},null,{"$f":"'BX Language acquisition'!C847","v":0},{"$f":"'BX Language acquisition'!D847","v":0}]
[{"$f":"'BX Language acquisition'!A848","v":0},{"$f":"'BX Language acquisition'!B848","v":0},null,{"$f":"'BX Language acquisition'!C848","v":0},{"$f":"'BX Language acquisition'!D848","v":0}]
[{"$f":"'BX Language acquisition'!A849","v":0},{"$f":"'BX Language acquisition'!B849","v":0},null,{"$f":"'BX Language acquisition'!C849","v":0},{"$f":"'BX Language acquisition'!D849","v":0}]
[{"$f":"'BX Language acquisition'!A850","v":0},{"$f":"'BX Language acquisition'!B850","v":0},null,{"$f":"'BX Language acquisition'!C850","v":0},{"$f":"'BX Language acquisition'!D850","v":0}]
[{"$f":"'BX Language acquisition'!A851","v":0},{"$f":"'BX Language acquisition'!B851","v":0},null,{"$f":"'BX Language acquisition'!C851","v":0},{"$f":"'BX Language acquisition'!D851","v":0}]
[{"$f":"'BX Language acquisition'!A852","v":0},{"$f":"'BX Language acquisition'!B852","v":0},null,{"$f":"'BX Language acquisition'!C852","v":0},{"$f":"'BX Language acquisition'!D852","v":0}]
[{"$f":"'BX Language acquisition'!A853","v":0},{"$f":"'BX Language acquisition'!B853","v":0},null,{"$f":"'BX Language acquisition'!C853","v":0},{"$f":"'BX Language acquisition'!D853","v":0}]
[{"$f":"'BX Language acquisition'!A854","v":0},{"$f":"'BX Language acquisition'!B854","v":0},null,{"$f":"'BX Language acquisition'!C854","v":0},{"$f":"'BX Language acquisition'!D854","v":0}]
[{"$f":"'BX Language acquisition'!A855","v":0},{"$f":"'BX Language acquisition'!B855","v":0},null,{"$f":"'BX Language acquisition'!C855","v":0},{"$f":"'BX Language acquisition'!D855","v":0}]
[{"$f":"'BX Language acquisition'!A856","v":0},{"$f":"'BX Language acquisition'!B856","v":0},null,{"$f":"'BX Language acquisition'!C856","v":0},{"$f":"'BX Language acquisition'!D856","v":0}]
[{"$f":"'BX Language acquisition'!A857","v":0},{"$f":"'BX Language acquisition'!B857","v":0},null,{"$f":"'BX Language acquisition'!C857","v":0},{"$f":"'BX Language acquisition'!D857","v":0}]
[{"$f":"'BX Language acquisition'!A858","v":0},{"$f":"'BX Language acquisition'!B858","v":0},null,{"$f":"'BX Language acquisition'!C858","v":0},{"$f":"'BX Language acquisition'!D858","v":0}]
[{"$f":"'BX Language acquisition'!A859","v":0},{"$f":"'BX Language acquisition'!B859","v":0},null,{"$f":"'BX Language acquisition'!C859","v":0},{"$f":"'BX Language acquisition'!D859","v":0}]
[{"$f":"'BX Language acquisition'!A860","v":0},{"$f":"'BX Language acquisition'!B860","v":0},null,{"$f":"'BX Language acquisition'!C860","v":0},{"$f":"'BX Language acquisition'!D860","v":0}]
[{"$f":"'BX Language acquisition'!A861","v":0},{"$f":"'BX Language acquisition'!B861","v":0},null,{"$f":"'BX Language acquisition'!C861","v":0},{"$f":"'BX Language acquisition'!D861","v":0}]
[{"$f":"'BX Language acquisition'!A862","v":0},{"$f":"'BX Language acquisition'!B862","v":0},null,{"$f":"'BX Language acquisition'!C862","v":0},{"$f":"'BX Language acquisition'!D862","v":0}]
[{"$f":"'BX Language acquisition'!A863","v":0},{"$f":"'BX Language acquisition'!B863","v":0},null,{"$f":"'BX Language acquisition'!C863","v":0},{"$f":"'BX Language acquisition'!D863","v":0}]
[{"$f":"'BX Language acquisition'!A864","v":0},{"$f":"'BX Language acquisition'!B864","v":0},null,{"$f":"'BX Language acquisition'!C864","v":0},{"$f":"'BX Language acquisition'!D864","v":0}]
[{"$f":"'BX Language acquisition'!A865","v":0},{"$f":"'BX Language acquisition'!B865","v":0},null,{"$f":"'BX Language acquisition'!C865","v":0},{"$f":"'BX Language acquisition'!D865","v":0}]
[{"$f":"'BX Language acquisition'!A866","v":0},{"$f":"'BX Language acquisition'!B866","v":0},null,{"$f":"'BX Language acquisition'!C866","v":0},{"$f":"'BX Language acquisition'!D866","v":0}]
[{"$f":"'BX Language acquisition'!A867","v":0},{"$f":"'BX Language acquisition'!B867","v":0},null,{"$f":"'BX Language acquisition'!C867","v":0},{"$f":"'BX Language acquisition'!D867","v":0}]
[{"$f":"'BX Language acquisition'!A868","v":0},{"$f":"'BX Language acquisition'!B868","v":0},null,{"$f":"'BX Language acquisition'!C868","v":0},{"$f":"'BX Language acquisition'!D868","v":0}]
[{"$f":"'BX Language acquisition'!A869","v":0},{"$f":"'BX Language acquisition'!B869","v":0},null,{"$f":"'BX Language acquisition'!C869","v":0},{"$f":"'BX Language acquisition'!D869","v":0}]
[{"$f":"'BX Language acquisition'!A870","v":0},{"$f":"'BX Language acquisition'!B870","v":0},null,{"$f":"'BX Language acquisition'!C870","v":0},{"$f":"'BX Language acquisition'!D870","v":0}]
[{"$f":"'BX Language acquisition'!A871","v":0},{"$f":"'BX Language acquisition'!B871","v":0},null,{"$f":"'BX Language acquisition'!C871","v":0},{"$f":"'BX Language acquisition'!D871","v":0}]
[{"$f":"'BX Language acquisition'!A872","v":0},{"$f":"'BX Language acquisition'!B872","v":0},null,{"$f":"'BX Language acquisition'!C872","v":0},{"$f":"'BX Language acquisition'!D872","v":0}]
[{"$f":"'BX Language acquisition'!A873","v":0},{"$f":"'BX Language acquisition'!B873","v":0},null,{"$f":"'BX Language acquisition'!C873","v":0},{"$f":"'BX Language acquisition'!D873","v":0}]
[{"$f":"'BX Language acquisition'!A874","v":0},{"$f":"'BX Language acquisition'!B874","v":0},null,{"$f":"'BX Language acquisition'!C874","v":0},{"$f":"'BX Language acquisition'!D874","v":0}]
[{"$f":"'BX Language acquisition'!A875","v":0},{"$f":"'BX Language acquisition'!B875","v":0},null,{"$f":"'BX Language acquisition'!C875","v":0},{"$f":"'BX Language acquisition'!D875","v":0}]
[{"$f":"'BX Language acquisition'!A876","v":0},{"$f":"'BX Language acquisition'!B876","v":0},null,{"$f":"'BX Language acquisition'!C876","v":0},{"$f":"'BX Language acquisition'!D876","v":0}]
[{"$f":"'BX Language acquisition'!A877","v":0},{"$f":"'BX Language acquisition'!B877","v":0},null,{"$f":"'BX Language acquisition'!C877","v":0},{"$f":"'BX Language acquisition'!D877","v":0}]
[{"$f":"'BX Language acquisition'!A878","v":0},{"$f":"'BX Language acquisition'!B878","v":0},null,{"$f":"'BX Language acquisition'!C878","v":0},{"$f":"'BX Language acquisition'!D878","v":0}]
[{"$f":"'BX Language acquisition'!A879","v":0},{"$f":"'BX Language acquisition'!B879","v":0},null,{"$f":"'BX Language acquisition'!C879","v":0},{"$f":"'BX Language acquisition'!D879","v":0}]
[{"$f":"'BX Language acquisition'!A880","v":0},{"$f":"'BX Language acquisition'!B880","v":0},null,{"$f":"'BX Language acquisition'!C880","v":0},{"$f":"'BX Language acquisition'!D880","v":0}]
[{"$f":"'BX Language acquisition'!A881","v":0},{"$f":"'BX Language acquisition'!B881","v":0},null,{"$f":"'BX Language acquisition'!C881","v":0},{"$f":"'BX Language acquisition'!D881","v":0}]
[{"$f":"'BX Language acquisition'!A882","v":0},{"$f":"'BX Language acquisition'!B882","v":0},null,{"$f":"'BX Language acquisition'!C882","v":0},{"$f":"'BX Language acquisition'!D882","v":0}]
[{"$f":"'BX Language acquisition'!A883","v":0},{"$f":"'BX Language acquisition'!B883","v":0},null,{"$f":"'BX Language acquisition'!C883","v":0},{"$f":"'BX Language acquisition'!D883","v":0}]
[{"$f":"'BX Language acquisition'!A884","v":0},{"$f":"'BX Language acquisition'!B884","v":0},null,{"$f":"'BX Language acquisition'!C884","v":0},{"$f":"'BX Language acquisition'!D884","v":0}]
[{"$f":"'BX Language acquisition'!A885","v":0},{"$f":"'BX Language acquisition'!B885","v":0},null,{"$f":"'BX Language acquisition'!C885","v":0},{"$f":"'BX Language acquisition'!D885","v":0}]
[{"$f":"'BX Language acquisition'!A886","v":0},{"$f":"'BX Language acquisition'!B886","v":0},null,{"$f":"'BX Language acquisition'!C886","v":0},{"$f":"'BX Language acquisition'!D886","v":0}]
[{"$f":"'BX Language acquisition'!A887","v":0},{"$f":"'BX Language acquisition'!B887","v":0},null,{"$f":"'BX Language acquisition'!C887","v":0},{"$f":"'BX Language acquisition'!D887","v":0}]
[{"$f":"'BX Language acquisition'!A888","v":0},{"$f":"'BX Language acquisition'!B888","v":0},null,{"$f":"'BX Language acquisition'!C888","v":0},{"$f":"'BX Language acquisition'!D888","v":0}]
[{"$f":"'BX Language acquisition'!A889","v":0},{"$f":"'BX Language acquisition'!B889","v":0},null,{"$f":"'BX Language acquisition'!C889","v":0},{"$f":"'BX Language acquisition'!D889","v":0}]
[{"$f":"'BX Language acquisition'!A890","v":0},{"$f":"'BX Language acquisition'!B890","v":0},null,{"$f":"'BX Language acquisition'!C890","v":0},{"$f":"'BX Language acquisition'!D890","v":0}]
[{"$f":"'BX Language acquisition'!A891","v":0},{"$f":"'BX Language acquisition'!B891","v":0},null,{"$f":"'BX Language acquisition'!C891","v":0},{"$f":"'BX Language acquisition'!D891","v":0}]
[{"$f":"'BX Language acquisition'!A892","v":0},{"$f":"'BX Language acquisition'!B892","v":0},null,{"$f":"'BX Language acquisition'!C892","v":0},{"$f":"'BX Language acquisition'!D892","v":0}]
[{"$f":"'BX Language acquisition'!A893","v":0},{"$f":"'BX Language acquisition'!B893","v":0},null,{"$f":"'BX Language acquisition'!C893","v":0},{"$f":"'BX Language acquisition'!D893","v":0}]
[{"$f":"'BX Language acquisition'!A894","v":0},{"$f":"'BX Language acquisition'!B894","v":0},null,{"$f":"'BX Language acquisition'!C894","v":0},{"$f":"'BX Language acquisition'!D894","v":0}]
[{"$f":"'BX Language acquisition'!A895","v":0},{"$f":"'BX Language acquisition'!B895","v":0},null,{"$f":"'BX Language acquisition'!C895","v":0},{"$f":"'BX Language acquisition'!D895","v":0}]
[{"$f":"'BX Language acquisition'!A896","v":0},{"$f":"'BX Language acquisition'!B896","v":0},null,{"$f":"'BX Language acquisition'!C896","v":0},{"$f":"'BX Language acquisition'!D896","v":0}]
[{"$f":"'BX Language acquisition'!A897","v":0},{"$f":"'BX Language acquisition'!B897","v":0},null,{"$f":"'BX Language acquisition'!C897","v":0},{"$f":"'BX Language acquisition'!D897","v":0}]
[{"$f":"'BX Language acquisition'!A898","v":0},{"$f":"'BX Language acquisition'!B898","v":0},null,{"$f":"'BX Language acquisition'!C898","v":0},{"$f":"'BX Language acquisition'!D898","v":0}]
[{"$f":"'BX Language acquisition'!A899","v":0},{"$f":"'BX Language acquisition'!B899","v":0},null,{"$f":"'BX Language acquisition'!C899","v":0},{"$f":"'BX Language acquisition'!D899","v":0}]
[{"$f":"'BX Language acquisition'!A900","v":0},{"$f":"'BX Language acquisition'!B900","v":0},null,{"$f":"'BX Language acquisition'!C900","v":0},{"$f":"'BX Language acquisition'!D900","v":0}]
[{"$f":"'BX Language acquisition'!A901","v":0},{"$f":"'BX Language acquisition'!B901","v":0},null,{"$f":"'BX Language acquisition'!C901","v":0},{"$f":"'BX Language acquisition'!D901","v":0}]
[{"$f":"'BX Language acquisition'!A902","v":0},{"$f":"'BX Language acquisition'!B902","v":0},null,{"$f":"'BX Language acquisition'!C902","v":0},{"$f":"'BX Language acquisition'!D902","v":0}]
[{"$f":"'BX Language acquisition'!A903","v":0},{"$f":"'BX Language acquisition'!B903","v":0},null,{"$f":"'BX Language acquisition'!C903","v":0},{"$f":"'BX Language acquisition'!D903","v":0}]
[{"$f":"'BX Language acquisition'!A904","v":0},{"$f":"'BX Language acquisition'!B904","v":0},null,{"$f":"'BX Language acquisition'!C904","v":0},{"$f":"'BX Language acquisition'!D904","v":0}]
[{"$f":"'BX Language acquisition'!A905","v":0},{"$f":"'BX Language acquisition'!B905","v":0},null,{"$f":"'BX Language acquisition'!C905","v":0},{"$f":"'BX Language acquisition'!D905","v":0}]
[{"$f":"'BX Language acquisition'!A906","v":0},{"$f":"'BX Language acquisition'!B906","v":0},null,{"$f":"'BX Language acquisition'!C906","v":0},{"$f":"'BX Language acquisition'!D906","v":0}]
[{"$f":"'BX Language acquisition'!A907","v":0},{"$f":"'BX Language acquisition'!B907","v":0},null,{"$f":"'BX Language acquisition'!C907","v":0},{"$f":"'BX Language acquisition'!D907","v":0}]
[{"$f":"'BX Language acquisition'!A908","v":0},{"$f":"'BX Language acquisition'!B908","v":0},null,{"$f":"'BX Language acquisition'!C908","v":0},{"$f":"'BX Language acquisition'!D908","v":0}]
[{"$f":"'BX Language acquisition'!A909","v":0},{"$f":"'BX Language acquisition'!B909","v":0},null,{"$f":"'BX Language acquisition'!C909","v":0},{"$f":"'BX Language acquisition'!D909","v":0}]
[{"$f":"'BX Language acquisition'!A910","v":0},{"$f":"'BX Language acquisition'!B910","v":0},null,{"$f":"'BX Language acquisition'!C910","v":0},{"$f":"'BX Language acquisition'!D910","v":0}]
[{"$f":"'BX Language acquisition'!A911","v":0},{"$f":"'BX Language acquisition'!B911","v":0},null,{"$f":"'BX Language acquisition'!C911","v":0},{"$f":"'BX Language acquisition'!D911","v":0}]
[{"$f":"'BX Language acquisition'!A912","v":0},{"$f":"'BX Language acquisition'!B912","v":0},null,{"$f":"'BX Language acquisition'!C912","v":0},{"$f":"'BX Language acquisition'!D912","v":0}]
[{"$f":"'BX Language acquisition'!A913","v":0},{"$f":"'BX Language acquisition'!B913","v":0},null,{"$f":"'BX Language acquisition'!C913","v":0},{"$f":"'BX Language acquisition'!D913","v":0}]
[{"$f":"'BX Language acquisition'!A914","v":0},{"$f":"'BX Language acquisition'!B914","v":0},null,{"$f":"'BX Language acquisition'!C914","v":0},{"$f":"'BX Language acquisition'!D914","v":0}]
[{"$f":"'BX Language acquisition'!A915","v":0},{"$f":"'BX Language acquisition'!B915","v":0},null,{"$f":"'BX Language acquisition'!C915","v":0},{"$f":"'BX Language acquisition'!D915","v":0}]
[{"$f":"'BX Language acquisition'!A916","v":0},{"$f":"'BX Language acquisition'!B916","v":0},null,{"$f":"'BX Language acquisition'!C916","v":0},{"$f":"'BX Language acquisition'!D916","v":0}]
[{"$f":"'BX Language acquisition'!A917","v":0},{"$f":"'BX Language acquisition'!B917","v":0},null,{"$f":"'BX Language acquisition'!C917","v":0},{"$f":"'BX Language acquisition'!D917","v":0}]
[{"$f":"'BX Language acquisition'!A918","v":0},{"$f":"'BX Language acquisition'!B918","v":0},null,{"$f":"'BX Language acquisition'!C918","v":0},{"$f":"'BX Language acquisition'!D918","v":0}]
[{"$f":"'BX Language acquisition'!A919","v":0},{"$f":"'BX Language acquisition'!B919","v":0},null,{"$f":"'BX Language acquisition'!C919","v":0},{"$f":"'BX Language acquisition'!D919","v":0}]
[{"$f":"'BX Language acquisition'!A920","v":0},{"$f":"'BX Language acquisition'!B920","v":0},null,{"$f":"'BX Language acquisition'!C920","v":0},{"$f":"'BX Language acquisition'!D920","v":0}]
[{"$f":"'BX Language acquisition'!A921","v":0},{"$f":"'BX Language acquisition'!B921","v":0},null,{"$f":"'BX Language acquisition'!C921","v":0},{"$f":"'BX Language acquisition'!D921","v":0}]
[{"$f":"'BX Language acquisition'!A922","v":0},{"$f":"'BX Language acquisition'!B922","v":0},null,{"$f":"'BX Language acquisition'!C922","v":0},{"$f":"'BX Language acquisition'!D922","v":0}]
[{"$f":"'BX Language acquisition'!A923","v":0},{"$f":"'BX Language acquisition'!B923","v":0},null,{"$f":"'BX Language acquisition'!C923","v":0},{"$f":"'BX Language acquisition'!D923","v":0}]
[{"$f":"'BX Language acquisition'!A924","v":0},{"$f":"'BX Language acquisition'!B924","v":0},null,{"$f":"'BX Language acquisition'!C924","v":0},{"$f":"'BX Language acquisition'!D924","v":0}]
[{"$f":"'BX Language acquisition'!A925","v":0},{"$f":"'BX Language acquisition'!B925","v":0},null,{"$f":"'BX Language acquisition'!C925","v":0},{"$f":"'BX Language acquisition'!D925","v":0}]
[{"$f":"'BX Language acquisition'!A926","v":0},{"$f":"'BX Language acquisition'!B926","v":0},null,{"$f":"'BX Language acquisition'!C926","v":0},{"$f":"'BX Language acquisition'!D926","v":0}]
[{"$f":"'BX Language acquisition'!A927","v":0},{"$f":"'BX Language acquisition'!B927","v":0},null,{"$f":"'BX Language acquisition'!C927","v":0},{"$f":"'BX Language acquisition'!D927","v":0}]
[{"$f":"'BX Language acquisition'!A928","v":0},{"$f":"'BX Language acquisition'!B928","v":0},null,{"$f":"'BX Language acquisition'!C928","v":0},{"$f":"'BX Language acquisition'!D928","v":0}]
[{"$f":"'BX Language acquisition'!A929","v":0},{"$f":"'BX Language acquisition'!B929","v":0},null,{"$f":"'BX Language acquisition'!C929","v":0},{"$f":"'BX Language acquisition'!D929","v":0}]
[{"$f":"'BX Language acquisition'!A930","v":0},{"$f":"'BX Language acquisition'!B930","v":0},null,{"$f":"'BX Language acquisition'!C930","v":0},{"$f":"'BX Language acquisition'!D930","v":0}]
[{"$f":"'BX Language acquisition'!A931","v":0},{"$f":"'BX Language acquisition'!B931","v":0},null,{"$f":"'BX Language acquisition'!C931","v":0},{"$f":"'BX Language acquisition'!D931","v":0}]
[{"$f":"'BX Language acquisition'!A932","v":0},{"$f":"'BX Language acquisition'!B932","v":0},null,{"$f":"'BX Language acquisition'!C932","v":0},{"$f":"'BX Language acquisition'!D932","v":0}]
[{"$f":"'BX Language acquisition'!A933","v":0},{"$f":"'BX Language acquisition'!B933","v":0},null,{"$f":"'BX Language acquisition'!C933","v":0},{"$f":"'BX Language acquisition'!D933","v":0}]
[{"$f":"'BX Language acquisition'!A934","v":0},{"$f":"'BX Language acquisition'!B934","v":0},null,{"$f":"'BX Language acquisition'!C934","v":0},{"$f":"'BX Language acquisition'!D934","v":0}]
[{"$f":"'BX Language acquisition'!A935","v":0},{"$f":"'BX Language acquisition'!B935","v":0},null,{"$f":"'BX Language acquisition'!C935","v":0},{"$f":"'BX Language acquisition'!D935","v":0}]
[{"$f":"'BX Language acquisition'!A936","v":0},{"$f":"'BX Language acquisition'!B936","v":0},null,{"$f":"'BX Language acquisition'!C936","v":0},{"$f":"'BX Language acquisition'!D936","v":0}]
[{"$f":"'BX Language acquisition'!A937","v":0},{"$f":"'BX Language acquisition'!B937","v":0},null,{"$f":"'BX Language acquisition'!C937","v":0},{"$f":"'BX Language acquisition'!D937","v":0}]
[{"$f":"'BX Language acquisition'!A938","v":0},{"$f":"'BX Language acquisition'!B938","v":0},null,{"$f":"'BX Language acquisition'!C938","v":0},{"$f":"'BX Language acquisition'!D938","v":0}]
[{"$f":"'BX Language acquisition'!A939","v":0},{"$f":"'BX Language acquisition'!B939","v":0},null,{"$f":"'BX Language acquisition'!C939","v":0},{"$f":"'BX Language acquisition'!D939","v":0}]
[{"$f":"'BX Language acquisition'!A940","v":0},{"$f":"'BX Language acquisition'!B940","v":0},null,{"$f":"'BX Language acquisition'!C940","v":0},{"$f":"'BX Language acquisition'!D940","v":0}]
[{"$f":"'BX Language acquisition'!A941","v":0},{"$f":"'BX Language acquisition'!B941","v":0},null,{"$f":"'BX Language acquisition'!C941","v":0},{"$f":"'BX Language acquisition'!D941","v":0}]
[{"$f":"'BX Language acquisition'!A942","v":0},{"$f":"'BX Language acquisition'!B942","v":0},null,{"$f":"'BX Language acquisition'!C942","v":0},{"$f":"'BX Language acquisition'!D942","v":0}]
[{"$f":"'BX Language acquisition'!A943","v":0},{"$f":"'BX Language acquisition'!B943","v":0},null,{"$f":"'BX Language acquisition'!C943","v":0},{"$f":"'BX Language acquisition'!D943","v":0}]
[{"$f":"'BX Language acquisition'!A944","v":0},{"$f":"'BX Language acquisition'!B944","v":0},null,{"$f":"'BX Language acquisition'!C944","v":0},{"$f":"'BX Language acquisition'!D944","v":0}]
[{"$f":"'BX Language acquisition'!A945","v":0},{"$f":"'BX Language acquisition'!B945","v":0},null,{"$f":"'BX Language acquisition'!C945","v":0},{"$f":"'BX Language acquisition'!D945","v":0}]
[{"$f":"'BX Language acquisition'!A946","v":0},{"$f":"'BX Language acquisition'!B946","v":0},null,{"$f":"'BX Language acquisition'!C946","v":0},{"$f":"'BX Language acquisition'!D946","v":0}]
[{"$f":"'BX Language acquisition'!A947","v":0},{"$f":"'BX Language acquisition'!B947","v":0},null,{"$f":"'BX Language acquisition'!C947","v":0},{"$f":"'BX Language acquisition'!D947","v":0}]
[{"$f":"'BX Language acquisition'!A948","v":0},{"$f":"'BX Language acquisition'!B948","v":0},null,{"$f":"'BX Language acquisition'!C948","v":0},{"$f":"'BX Language acquisition'!D948","v":0}]
[{"$f":"'BX Language acquisition'!A949","v":0},{"$f":"'BX Language acquisition'!B949","v":0},null,{"$f":"'BX Language acquisition'!C949","v":0},{"$f":"'BX Language acquisition'!D949","v":0}]
[{"$f":"'BX Language acquisition'!A950","v":0},{"$f":"'BX Language acquisition'!B950","v":0},null,{"$f":"'BX Language acquisition'!C950","v":0},{"$f":"'BX Language acquisition'!D950","v":0}]
[{"$f":"'BX Language acquisition'!A951","v":0},{"$f":"'BX Language acquisition'!B951","v":0},null,{"$f":"'BX Language acquisition'!C951","v":0},{"$f":"'BX Language acquisition'!D951","v":0}]
[{"$f":"'BX Language acquisition'!A952","v":0},{"$f":"'BX Language acquisition'!B952","v":0},null,{"$f":"'BX Language acquisition'!C952","v":0},{"$f":"'BX Language acquisition'!D952","v":0}]
[{"$f":"'BX Language acquisition'!A953","v":0},{"$f":"'BX Language acquisition'!B953","v":0},null,{"$f":"'BX Language acquisition'!C953","v":0},{"$f":"'BX Language acquisition'!D953","v":0}]
[{"$f":"'BX Language acquisition'!A954","v":0},{"$f":"'BX Language acquisition'!B954","v":0},null,{"$f":"'BX Language acquisition'!C954","v":0},{"$f":"'BX Language acquisition'!D954","v":0}]
[{"$f":"'BX Language acquisition'!A955","v":0},{"$f":"'BX Language acquisition'!B955","v":0},null,{"$f":"'BX Language acquisition'!C955","v":0},{"$f":"'BX Language acquisition'!D955","v":0}]
[{"$f":"'BX Language acquisition'!A956","v":0},{"$f":"'BX Language acquisition'!B956","v":0},null,{"$f":"'BX Language acquisition'!C956","v":0},{"$f":"'BX Language acquisition'!D956","v":0}]
[{"$f":"'BX Language acquisition'!A957","v":0},{"$f":"'BX Language acquisition'!B957","v":0},null,{"$f":"'BX Language acquisition'!C957","v":0},{"$f":"'BX Language acquisition'!D957","v":0}]
[{"$f":"'BX Language acquisition'!A958","v":0},{"$f":"'BX Language acquisition'!B958","v":0},null,{"$f":"'BX Language acquisition'!C958","v":0},{"$f":"'BX Language acquisition'!D958","v":0}]
[{"$f":"'BX Language acquisition'!A959","v":0},{"$f":"'BX Language acquisition'!B959","v":0},null,{"$f":"'BX Language acquisition'!C959","v":0},{"$f":"'BX Language acquisition'!D959","v":0}]
[{"$f":"'BX Language acquisition'!A960","v":0},{"$f":"'BX Language acquisition'!B960","v":0},null,{"$f":"'BX Language acquisition'!C960","v":0},{"$f":"'BX Language acquisition'!D960","v":0}]
[{"$f":"'BX Language acquisition'!A961","v":0},{"$f":"'BX Language acquisition'!B961","v":0},null,{"$f":"'BX Language acquisition'!C961","v":0},{"$f":"'BX Language acquisition'!D961","v":0}]
[{"$f":"'BX Language acquisition'!A962","v":0},{"$f":"'BX Language acquisition'!B962","v":0},null,{"$f":"'BX Language acquisition'!C962","v":0},{"$f":"'BX Language acquisition'!D962","v":0}]
[{"$f":"'BX Language acquisition'!A963","v":0},{"$f":"'BX Language acquisition'!B963","v":0},null,{"$f":"'BX Language acquisition'!C963","v":0},{"$f":"'BX Language acquisition'!D963","v":0}]
[{"$f":"'BX Language acquisition'!A964","v":0},{"$f":"'BX Language acquisition'!B964","v":0},null,{"$f":"'BX Language acquisition'!C964","v":0},{"$f":"'BX Language acquisition'!D964","v":0}]
[{"$f":"'BX Language acquisition'!A965","v":0},{"$f":"'BX Language acquisition'!B965","v":0},null,{"$f":"'BX Language acquisition'!C965","v":0},{"$f":"'BX Language acquisition'!D965","v":0}]
[{"$f":"'BX Language acquisition'!A966","v":0},{"$f":"'BX Language acquisition'!B966","v":0},null,{"$f":"'BX Language acquisition'!C966","v":0},{"$f":"'BX Language acquisition'!D966","v":0}]
[{"$f":"'BX Language acquisition'!A967","v":0},{"$f":"'BX Language acquisition'!B967","v":0},null,{"$f":"'BX Language acquisition'!C967","v":0},{"$f":"'BX Language acquisition'!D967","v":0}]
[{"$f":"'BX Language acquisition'!A968","v":0},{"$f":"'BX Language acquisition'!B968","v":0},null,{"$f":"'BX Language acquisition'!C968","v":0},{"$f":"'BX Language acquisition'!D968","v":0}]
[{"$f":"'BX Language acquisition'!A969","v":0},{"$f":"'BX Language acquisition'!B969","v":0},null,{"$f":"'BX Language acquisition'!C969","v":0},{"$f":"'BX Language acquisition'!D969","v":0}]
[{"$f":"'BX Language acquisition'!A970","v":0},{"$f":"'BX Language acquisition'!B970","v":0},null,{"$f":"'BX Language acquisition'!C970","v":0},{"$f":"'BX Language acquisition'!D970","v":0}]
[{"$f":"'BX Language acquisition'!A971","v":0},{"$f":"'BX Language acquisition'!B971","v":0},null,{"$f":"'BX Language acquisition'!C971","v":0},{"$f":"'BX Language acquisition'!D971","v":0}]
[{"$f":"'BX Language acquisition'!A972","v":0},{"$f":"'BX Language acquisition'!B972","v":0},null,{"$f":"'BX Language acquisition'!C972","v":0},{"$f":"'BX Language acquisition'!D972","v":0}]
[{"$f":"'BX Language acquisition'!A973","v":0},{"$f":"'BX Language acquisition'!B973","v":0},null,{"$f":"'BX Language acquisition'!C973","v":0},{"$f":"'BX Language acquisition'!D973","v":0}]
[{"$f":"'BX Language acquisition'!A974","v":0},{"$f":"'BX Language acquisition'!B974","v":0},null,{"$f":"'BX Language acquisition'!C974","v":0},{"$f":"'BX Language acquisition'!D974","v":0}]
[{"$f":"'BX Language acquisition'!A975","v":0},{"$f":"'BX Language acquisition'!B975","v":0},null,{"$f":"'BX Language acquisition'!C975","v":0},{"$f":"'BX Language acquisition'!D975","v":0}]
[{"$f":"'BX Language acquisition'!A976","v":0},{"$f":"'BX Language acquisition'!B976","v":0},null,{"$f":"'BX Language acquisition'!C976","v":0},{"$f":"'BX Language acquisition'!D976","v":0}]
[{"$f":"'BX Language acquisition'!A977","v":0},{"$f":"'BX Language acquisition'!B977","v":0},null,{"$f":"'BX Language acquisition'!C977","v":0},{"$f":"'BX Language acquisition'!D977","v":0}]
[{"$f":"'BX Language acquisition'!A978","v":0},{"$f":"'BX Language acquisition'!B978","v":0},null,{"$f":"'BX Language acquisition'!C978","v":0},{"$f":"'BX Language acquisition'!D978","v":0}]
[{"$f":"'BX Language acquisition'!A979","v":0},{"$f":"'BX Language acquisition'!B979","v":0},null,{"$f":"'BX Language acquisition'!C979","v":0},{"$f":"'BX Language acquisition'!D979","v":0}]
[{"$f":"'BX Language acquisition'!A980","v":0},{"$f":"'BX Language acquisition'!B980","v":0},null,{"$f":"'BX Language acquisition'!C980","v":0},{"$f":"'BX Language acquisition'!D980","v":0}]
[{"$f":"'BX Language acquisition'!A981","v":0},{"$f":"'BX Language acquisition'!B981","v":0},null,{"$f":"'BX Language acquisition'!C981","v":0},{"$f":"'BX Language acquisition'!D981","v":0}]
[{"$f":"'BX Language acquisition'!A982","v":0},{"$f":"'BX Language acquisition'!B982","v":0},null,{"$f":"'BX Language acquisition'!C982","v":0},{"$f":"'BX Language acquisition'!D982","v":0}]
[{"$f":"'BX Language acquisition'!A983","v":0},{"$f":"'BX Language acquisition'!B983","v":0},null,{"$f":"'BX Language acquisition'!C983","v":0},{"$f":"'BX Language acquisition'!D983","v":0}]
[{"$f":"'BX Language acquisition'!A984","v":0},{"$f":"'BX Language acquisition'!B984","v":0},null,{"$f":"'BX Language acquisition'!C984","v":0},{"$f":"'BX Language acquisition'!D984","v":0}]
[{"$f":"'BX Language acquisition'!A985","v":0},{"$f":"'BX Language acquisition'!B985","v":0},null,{"$f":"'BX Language acquisition'!C985","v":0},{"$f":"'BX Language acquisition'!D985","v":0}]
[{"$f":"'BX Language acquisition'!A986","v":0},{"$f":"'BX Language acquisition'!B986","v":0},null,{"$f":"'BX Language acquisition'!C986","v":0},{"$f":"'BX Language acquisition'!D986","v":0}]
[{"$f":"'BX Language acquisition'!A987","v":0},{"$f":"'BX Language acquisition'!B987","v":0},null,{"$f":"'BX Language acquisition'!C987","v":0},{"$f":"'BX Language acquisition'!D987","v":0}]
[{"$f":"'BX Language acquisition'!A988","v":0},{"$f":"'BX Language acquisition'!B988","v":0},null,{"$f":"'BX Language acquisition'!C988","v":0},{"$f":"'BX Language acquisition'!D988","v":0}]
[{"$f":"'BX Language acquisition'!A989","v":0},{"$f":"'BX Language acquisition'!B989","v":0},null,{"$f":"'BX Language acquisition'!C989","v":0},{"$f":"'BX Language acquisition'!D989","v":0}]
[{"$f":"'BX Language acquisition'!A990","v":0},{"$f":"'BX Language acquisition'!B990","v":0},null,{"$f":"'BX Language acquisition'!C990","v":0},{"$f":"'BX Language acquisition'!D990","v":0}]
[{"$f":"'BX Language acquisition'!A991","v":0},{"$f":"'BX Language acquisition'!B991","v":0},null,{"$f":"'BX Language acquisition'!C991","v":0},{"$f":"'BX Language acquisition'!D991","v":0}]
[{"$f":"'BX Language acquisition'!A992","v":0},{"$f":"'BX Language acquisition'!B992","v":0},null,{"$f":"'BX Language acquisition'!C992","v":0},{"$f":"'BX Language acquisition'!D992","v":0}]
[{"$f":"'BX Language acquisition'!A993","v":0},{"$f":"'BX Language acquisition'!B993","v":0},null,{"$f":"'BX Language acquisition'!C993","v":0},{"$f":"'BX Language acquisition'!D993","v":0}]
[{"$f":"'BX Language acquisition'!A994","v":0},{"$f":"'BX Language acquisition'!B994","v":0},null,{"$f":"'BX Language acquisition'!C994","v":0},{"$f":"'BX Language acquisition'!D994","v":0}]
[{"$f":"'BX Language acquisition'!A995","v":0},{"$f":"'BX Language acquisition'!B995","v":0},null,{"$f":"'BX Language acquisition'!C995","v":0},{"$f":"'BX Language acquisition'!D995","v":0}]
[{"$f":"'BX Language acquisition'!A996","v":0},{"$f":"'BX Language acquisition'!B996","v":0},null,{"$f":"'BX Language acquisition'!C996","v":0},{"$f":"'BX Language acquisition'!D996","v":0}]
[{"$f":"'BX Language acquisition'!A997","v":0},{"$f":"'BX Language acquisition'!B997","v":0},null,{"$f":"'BX Language acquisition'!C997","v":0},{"$f":"'BX Language acquisition'!D997","v":0}]
[{"$f":"'BX Language acquisition'!A998","v":0},{"$f":"'BX Language acquisition'!B998","v":0},null,{"$f":"'BX Language acquisition'!C998","v":0},{"$f":"'BX Language acquisition'!D998","v":0}]
[{"$f":"'BX Language acquisition'!A999","v":0},{"$f":"'BX Language acquisition'!B999","v":0},null,{"$f":"'BX Language acquisition'!C999","v":0},{"$f":"'BX Language acquisition'!D999","v":0}]
[{"$f":"'BX Language acquisition'!A1000","v":0},{"$f":"'BX Language acquisition'!B1000","v":0},null,{"$f":"'BX Language acquisition'!C1000","v":0},{"$f":"'BX Language acquisition'!D1000","v":0}]
[{"$f":"'BX Language acquisition'!A1001","v":0},{"$f":"'BX Language acquisition'!B1001","v":0},null,{"$f":"'BX Language acquisition'!C1001","v":0},{"$f":"'BX Language acquisition'!D1001","v":0}]
[{"$f":"'BX Language acquisition'!A1002","v":0},{"$f":"'BX Language acquisition'!B1002","v":0},null,{"$f":"'BX Language acquisition'!C1002","v":0},{"$f":"'BX Language acquisition'!D1002","v":0}]
[{"$f":"'BX Language acquisition'!A1003","v":0},{"$f":"'BX Language acquisition'!B1003","v":0},null,{"$f":"'BX Language acquisition'!C1003","v":0},{"$f":"'BX Language acquisition'!D1003","v":0}]
[{"$f":"'BX Language acquisition'!A1004","v":0},{"$f":"'BX Language acquisition'!B1004","v":0},null,{"$f":"'BX Language acquisition'!C1004","v":0},{"$f":"'BX Language acquisition'!D1004","v":0}]
[{"$f":"'BX Language acquisition'!A1005","v":0},{"$f":"'BX Language acquisition'!B1005","v":0},null,{"$f":"'BX Language acquisition'!C1005","v":0},{"$f":"'BX Language acquisition'!D1005","v":0}]
[{"$f":"'BX Language acquisition'!A1006","v":0},{"$f":"'BX Language acquisition'!B1006","v":0},null,{"$f":"'BX Language acquisition'!C1006","v":0},{"$f":"'BX Language acquisition'!D1006","v":0}]
[{"$f":"'BX Language acquisition'!A1007","v":0},{"$f":"'BX Language acquisition'!B1007","v":0},null,{"$f":"'BX Language acquisition'!C1007","v":0},{"$f":"'BX Language acquisition'!D1007","v":0}]
[{"$f":"'BX Language acquisition'!A1008","v":0},{"$f":"'BX Language acquisition'!B1008","v":0},null,{"$f":"'BX Language acquisition'!C1008","v":0},{"$f":"'BX Language acquisition'!D1008","v":0}]
[{"$f":"'BX Language acquisition'!A1009","v":0},{"$f":"'BX Language acquisition'!B1009","v":0},null,{"$f":"'BX Language acquisition'!C1009","v":0},{"$f":"'BX Language acquisition'!D1009","v":0}]
[{"$f":"'BX Language acquisition'!A1010","v":0},{"$f":"'BX Language acquisition'!B1010","v":0},null,{"$f":"'BX Language acquisition'!C1010","v":0},{"$f":"'BX Language acquisition'!D1010","v":0}]
[{"$f":"'BX Language acquisition'!A1011","v":0},{"$f":"'BX Language acquisition'!B1011","v":0},null,{"$f":"'BX Language acquisition'!C1011","v":0},{"$f":"'BX Language acquisition'!D1011","v":0}]
[{"$f":"'BX Language acquisition'!A1012","v":0},{"$f":"'BX Language acquisition'!B1012","v":0},null,{"$f":"'BX Language acquisition'!C1012","v":0},{"$f":"'BX Language acquisition'!D1012","v":0}]
[{"$f":"'BX Language acquisition'!A1013","v":0},{"$f":"'BX Language acquisition'!B1013","v":0},null,{"$f":"'BX Language acquisition'!C1013","v":0},{"$f":"'BX Language acquisition'!D1013","v":0}]
[{"$f":"'BX Language acquisition'!A1014","v":0},{"$f":"'BX Language acquisition'!B1014","v":0},null,{"$f":"'BX Language acquisition'!C1014","v":0},{"$f":"'BX Language acquisition'!D1014","v":0}]
[{"$f":"'BX Language acquisition'!A1015","v":0},{"$f":"'BX Language acquisition'!B1015","v":0},null,{"$f":"'BX Language acquisition'!C1015","v":0},{"$f":"'BX Language acquisition'!D1015","v":0}]
[{"$f":"'BX Language acquisition'!A1016","v":0},{"$f":"'BX Language acquisition'!B1016","v":0},null,{"$f":"'BX Language acquisition'!C1016","v":0},{"$f":"'BX Language acquisition'!D1016","v":0}]
[{"$f":"'BX Language acquisition'!A1017","v":0},{"$f":"'BX Language acquisition'!B1017","v":0},null,{"$f":"'BX Language acquisition'!C1017","v":0},{"$f":"'BX Language acquisition'!D1017","v":0}]
[{"$f":"'BX Language acquisition'!A1018","v":0},{"$f":"'BX Language acquisition'!B1018","v":0},null,{"$f":"'BX Language acquisition'!C1018","v":0},{"$f":"'BX Language acquisition'!D1018","v":0}]
[{"$f":"'BX Language acquisition'!A1019","v":0},{"$f":"'BX Language acquisition'!B1019","v":0},null,{"$f":"'BX Language acquisition'!C1019","v":0},{"$f":"'BX Language acquisition'!D1019","v":0}]
[{"$f":"'BX Language acquisition'!A1020","v":0},{"$f":"'BX Language acquisition'!B1020","v":0},null,{"$f":"'BX Language acquisition'!C1020","v":0},{"$f":"'BX Language acquisition'!D1020","v":0}]
[{"$f":"'BX Language acquisition'!A1021","v":0},{"$f":"'BX Language acquisition'!B1021","v":0},null,{"$f":"'BX Language acquisition'!C1021","v":0},{"$f":"'BX Language acquisition'!D1021","v":0}]
[{"$f":"'BX Language acquisition'!A1022","v":0},{"$f":"'BX Language acquisition'!B1022","v":0},null,{"$f":"'BX Language acquisition'!C1022","v":0},{"$f":"'BX Language acquisition'!D1022","v":0}]
[{"$f":"'BX Language acquisition'!A1023","v":0},{"$f":"'BX Language acquisition'!B1023","v":0},null,{"$f":"'BX Language acquisition'!C1023","v":0},{"$f":"'BX Language acquisition'!D1023","v":0}]
[{"$f":"'BX Language acquisition'!A1024","v":0},{"$f":"'BX Language acquisition'!B1024","v":0},null,{"$f":"'BX Language acquisition'!C1024","v":0},{"$f":"'BX Language acquisition'!D1024","v":0}]
[{"$f":"'BX Language acquisition'!A1025","v":0},{"$f":"'BX Language acquisition'!B1025","v":0},null,{"$f":"'BX Language acquisition'!C1025","v":0},{"$f":"'BX Language acquisition'!D1025","v":0}]
[{"$f":"'BX Language acquisition'!A1026","v":0},{"$f":"'BX Language acquisition'!B1026","v":0},null,{"$f":"'BX Language acquisition'!C1026","v":0},{"$f":"'BX Language acquisition'!D1026","v":0}]
[{"$f":"'BX Language acquisition'!A1027","v":0},{"$f":"'BX Language acquisition'!B1027","v":0},null,{"$f":"'BX Language acquisition'!C1027","v":0},{"$f":"'BX Language acquisition'!D1027","v":0}]
[{"$f":"'BX Language acquisition'!A1028","v":0},{"$f":"'BX Language acquisition'!B1028","v":0},null,{"$f":"'BX Language acquisition'!C1028","v":0},{"$f":"'BX Language acquisition'!D1028","v":0}]
[{"$f":"'BX Language acquisition'!A1029","v":0},{"$f":"'BX Language acquisition'!B1029","v":0},null,{"$f":"'BX Language acquisition'!C1029","v":0},{"$f":"'BX Language acquisition'!D1029","v":0}]
[{"$f":"'BX Language acquisition'!A1030","v":0},{"$f":"'BX Language acquisition'!B1030","v":0},null,{"$f":"'BX Language acquisition'!C1030","v":0},{"$f":"'BX Language acquisition'!D1030","v":0}]
[{"$f":"'BX Language acquisition'!A1031","v":0},{"$f":"'BX Language acquisition'!B1031","v":0},null,{"$f":"'BX Language acquisition'!C1031","v":0},{"$f":"'BX Language acquisition'!D1031","v":0}]
[{"$f":"'BX Language acquisition'!A1032","v":0},{"$f":"'BX Language acquisition'!B1032","v":0},null,{"$f":"'BX Language acquisition'!C1032","v":0},{"$f":"'BX Language acquisition'!D1032","v":0}]
[{"$f":"'BX Language acquisition'!A1033","v":0},{"$f":"'BX Language acquisition'!B1033","v":0},null,{"$f":"'BX Language acquisition'!C1033","v":0},{"$f":"'BX Language acquisition'!D1033","v":0}]
[{"$f":"'BX Language acquisition'!A1034","v":0},{"$f":"'BX Language acquisition'!B1034","v":0},null,{"$f":"'BX Language acquisition'!C1034","v":0},{"$f":"'BX Language acquisition'!D1034","v":0}]
[{"$f":"'BX Language acquisition'!A1035","v":0},{"$f":"'BX Language acquisition'!B1035","v":0},null,{"$f":"'BX Language acquisition'!C1035","v":0},{"$f":"'BX Language acquisition'!D1035","v":0}]
[{"$f":"'BX Language acquisition'!A1036","v":0},{"$f":"'BX Language acquisition'!B1036","v":0},null,{"$f":"'BX Language acquisition'!C1036","v":0},{"$f":"'BX Language acquisition'!D1036","v":0}]
[{"$f":"'BX Language acquisition'!A1037","v":0},{"$f":"'BX Language acquisition'!B1037","v":0},null,{"$f":"'BX Language acquisition'!C1037","v":0},{"$f":"'BX Language acquisition'!D1037","v":0}]
[{"$f":"'BX Language acquisition'!A1038","v":0},{"$f":"'BX Language acquisition'!B1038","v":0},null,{"$f":"'BX Language acquisition'!C1038","v":0},{"$f":"'BX Language acquisition'!D1038","v":0}]
[{"$f":"'BX Language acquisition'!A1039","v":0},{"$f":"'BX Language acquisition'!B1039","v":0},null,{"$f":"'BX Language acquisition'!C1039","v":0},{"$f":"'BX Language acquisition'!D1039","v":0}]
[{"$f":"'BX Language acquisition'!A1040","v":0},{"$f":"'BX Language acquisition'!B1040","v":0},null,{"$f":"'BX Language acquisition'!C1040","v":0},{"$f":"'BX Language acquisition'!D1040","v":0}]
[{"$f":"'BX Language acquisition'!A1041","v":0},{"$f":"'BX Language acquisition'!B1041","v":0},null,{"$f":"'BX Language acquisition'!C1041","v":0},{"$f":"'BX Language acquisition'!D1041","v":0}]
[{"$f":"'BX Language acquisition'!A1042","v":0},{"$f":"'BX Language acquisition'!B1042","v":0},null,{"$f":"'BX Language acquisition'!C1042","v":0},{"$f":"'BX Language acquisition'!D1042","v":0}]
[{"$f":"'BX Language acquisition'!A1043","v":0},{"$f":"'BX Language acquisition'!B1043","v":0},null,{"$f":"'BX Language acquisition'!C1043","v":0},{"$f":"'BX Language acquisition'!D1043","v":0}]
[{"$f":"'BX Language acquisition'!A1044","v":0},{"$f":"'BX Language acquisition'!B1044","v":0},null,{"$f":"'BX Language acquisition'!C1044","v":0},{"$f":"'BX Language acquisition'!D1044","v":0}]
[{"$f":"'BX Language acquisition'!A1045","v":0},{"$f":"'BX Language acquisition'!B1045","v":0},null,{"$f":"'BX Language acquisition'!C1045","v":0},{"$f":"'BX Language acquisition'!D1045","v":0}]
[{"$f":"'BX Language acquisition'!A1046","v":0},{"$f":"'BX Language acquisition'!B1046","v":0},null,{"$f":"'BX Language acquisition'!C1046","v":0},{"$f":"'BX Language acquisition'!D1046","v":0}]
[{"$f":"'BX Language acquisition'!A1047","v":0},{"$f":"'BX Language acquisition'!B1047","v":0},null,{"$f":"'BX Language acquisition'!C1047","v":0},{"$f":"'BX Language acquisition'!D1047","v":0}]
[{"$f":"'BX Language acquisition'!A1048","v":0},{"$f":"'BX Language acquisition'!B1048","v":0},null,{"$f":"'BX Language acquisition'!C1048","v":0},{"$f":"'BX Language acquisition'!D1048","v":0}]
[{"$f":"'BX Language acquisition'!A1049","v":0},{"$f":"'BX Language acquisition'!B1049","v":0},null,{"$f":"'BX Language acquisition'!C1049","v":0},{"$f":"'BX Language acquisition'!D1049","v":0}]
[{"$f":"'BX Language acquisition'!A1050","v":0},{"$f":"'BX Language acquisition'!B1050","v":0},null,{"$f":"'BX Language acquisition'!C1050","v":0},{"$f":"'BX Language acquisition'!D1050","v":0}]
[{"$f":"'BX Language acquisition'!A1051","v":0},{"$f":"'BX Language acquisition'!B1051","v":0},null,{"$f":"'BX Language acquisition'!C1051","v":0},{"$f":"'BX Language acquisition'!D1051","v":0}]
[{"$f":"'BX Language acquisition'!A1052","v":0},{"$f":"'BX Language acquisition'!B1052","v":0},null,{"$f":"'BX Language acquisition'!C1052","v":0},{"$f":"'BX Language acquisition'!D1052","v":0}]
[{"$f":"'BX Language acquisition'!A1053","v":0},{"$f":"'BX Language acquisition'!B1053","v":0},null,{"$f":"'BX Language acquisition'!C1053","v":0},{"$f":"'BX Language acquisition'!D1053","v":0}]
[{"$f":"'BX Language acquisition'!A1054","v":0},{"$f":"'BX Language acquisition'!B1054","v":0},null,{"$f":"'BX Language acquisition'!C1054","v":0},{"$f":"'BX Language acquisition'!D1054","v":0}]
[{"$f":"'BX Language acquisition'!A1055","v":0},{"$f":"'BX Language acquisition'!B1055","v":0},null,{"$f":"'BX Language acquisition'!C1055","v":0},{"$f":"'BX Language acquisition'!D1055","v":0}]
[{"$f":"'BX Language acquisition'!A1056","v":0},{"$f":"'BX Language acquisition'!B1056","v":0},null,{"$f":"'BX Language acquisition'!C1056","v":0},{"$f":"'BX Language acquisition'!D1056","v":0}]
[{"$f":"'BX Language acquisition'!A1057","v":0},{"$f":"'BX Language acquisition'!B1057","v":0},null,{"$f":"'BX Language acquisition'!C1057","v":0},{"$f":"'BX Language acquisition'!D1057","v":0}]
[{"$f":"'BX Language acquisition'!A1058","v":0},{"$f":"'BX Language acquisition'!B1058","v":0},null,{"$f":"'BX Language acquisition'!C1058","v":0},{"$f":"'BX Language acquisition'!D1058","v":0}]
[{"$f":"'BX Language acquisition'!A1059","v":0},{"$f":"'BX Language acquisition'!B1059","v":0},null,{"$f":"'BX Language acquisition'!C1059","v":0},{"$f":"'BX Language acquisition'!D1059","v":0}]
[{"$f":"'BX Language acquisition'!A1060","v":0},{"$f":"'BX Language acquisition'!B1060","v":0},null,{"$f":"'BX Language acquisition'!C1060","v":0},{"$f":"'BX Language acquisition'!D1060","v":0}]
[{"$f":"'BX Language acquisition'!A1061","v":0},{"$f":"'BX Language acquisition'!B1061","v":0},null,{"$f":"'BX Language acquisition'!C1061","v":0},{"$f":"'BX Language acquisition'!D1061","v":0}]
[{"$f":"'BX Language acquisition'!A1062","v":0},{"$f":"'BX Language acquisition'!B1062","v":0},null,{"$f":"'BX Language acquisition'!C1062","v":0},{"$f":"'BX Language acquisition'!D1062","v":0}]
[{"$f":"'BX Language acquisition'!A1063","v":0},{"$f":"'BX Language acquisition'!B1063","v":0},null,{"$f":"'BX Language acquisition'!C1063","v":0},{"$f":"'BX Language acquisition'!D1063","v":0}]
[{"$f":"'BX Language acquisition'!A1064","v":0},{"$f":"'BX Language acquisition'!B1064","v":0},null,{"$f":"'BX Language acquisition'!C1064","v":0},{"$f":"'BX Language acquisition'!D1064","v":0}]
[{"$f":"'BX Language acquisition'!A1065","v":0},{"$f":"'BX Language acquisition'!B1065","v":0},null,{"$f":"'BX Language acquisition'!C1065","v":0},{"$f":"'BX Language acquisition'!D1065","v":0}]
[{"$f":"'BX Language acquisition'!A1066","v":0},{"$f":"'BX Language acquisition'!B1066","v":0},null,{"$f":"'BX Language acquisition'!C1066","v":0},{"$f":"'BX Language acquisition'!D1066","v":0}]
[{"$f":"'BX Language acquisition'!A1067","v":0},{"$f":"'BX Language acquisition'!B1067","v":0},null,{"$f":"'BX Language acquisition'!C1067","v":0},{"$f":"'BX Language acquisition'!D1067","v":0}]
[{"$f":"'BX Language acquisition'!A1068","v":0},{"$f":"'BX Language acquisition'!B1068","v":0},null,{"$f":"'BX Language acquisition'!C1068","v":0},{"$f":"'BX Language acquisition'!D1068","v":0}]
[{"$f":"'BX Language acquisition'!A1069","v":0},{"$f":"'BX Language acquisition'!B1069","v":0},null,{"$f":"'BX Language acquisition'!C1069","v":0},{"$f":"'BX Language acquisition'!D1069","v":0}]
[{"$f":"'BX Language acquisition'!A1070","v":0},{"$f":"'BX Language acquisition'!B1070","v":0},null,{"$f":"'BX Language acquisition'!C1070","v":0},{"$f":"'BX Language acquisition'!D1070","v":0}]
[{"$f":"'BX Language acquisition'!A1071","v":0},{"$f":"'BX Language acquisition'!B1071","v":0},null,{"$f":"'BX Language acquisition'!C1071","v":0},{"$f":"'BX Language acquisition'!D1071","v":0}]
[{"$f":"'BX Language acquisition'!A1072","v":0},{"$f":"'BX Language acquisition'!B1072","v":0},null,{"$f":"'BX Language acquisition'!C1072","v":0},{"$f":"'BX Language acquisition'!D1072","v":0}]
[{"$f":"'BX Language acquisition'!A1073","v":0},{"$f":"'BX Language acquisition'!B1073","v":0},null,{"$f":"'BX Language acquisition'!C1073","v":0},{"$f":"'BX Language acquisition'!D1073","v":0}]
[{"$f":"'BX Language acquisition'!A1074","v":0},{"$f":"'BX Language acquisition'!B1074","v":0},null,{"$f":"'BX Language acquisition'!C1074","v":0},{"$f":"'BX Language acquisition'!D1074","v":0}]
[{"$f":"'BX Language acquisition'!A1075","v":0},{"$f":"'BX Language acquisition'!B1075","v":0},null,{"$f":"'BX Language acquisition'!C1075","v":0},{"$f":"'BX Language acquisition'!D1075","v":0}]
[{"$f":"'BX Language acquisition'!A1076","v":0},{"$f":"'BX Language acquisition'!B1076","v":0},null,{"$f":"'BX Language acquisition'!C1076","v":0},{"$f":"'BX Language acquisition'!D1076","v":0}]
[{"$f":"'BX Language acquisition'!A1077","v":0},{"$f":"'BX Language acquisition'!B1077","v":0},null,{"$f":"'BX Language acquisition'!C1077","v":0},{"$f":"'BX Language acquisition'!D1077","v":0}]
[{"$f":"'BX Language acquisition'!A1078","v":0},{"$f":"'BX Language acquisition'!B1078","v":0},null,{"$f":"'BX Language acquisition'!C1078","v":0},{"$f":"'BX Language acquisition'!D1078","v":0}]
[{"$f":"'BX Language acquisition'!A1079","v":0},{"$f":"'BX Language acquisition'!B1079","v":0},null,{"$f":"'BX Language acquisition'!C1079","v":0},{"$f":"'BX Language acquisition'!D1079","v":0}]
[{"$f":"'BX Language acquisition'!A1080","v":0},{"$f":"'BX Language acquisition'!B1080","v":0},null,{"$f":"'BX Language acquisition'!C1080","v":0},{"$f":"'BX Language acquisition'!D1080","v":0}]
[{"$f":"'BX Language acquisition'!A1081","v":0},{"$f":"'BX Language acquisition'!B1081","v":0},null,{"$f":"'BX Language acquisition'!C1081","v":0},{"$f":"'BX Language acquisition'!D1081","v":0}]
[{"$f":"'BX Language acquisition'!A1082","v":0},{"$f":"'BX Language acquisition'!B1082","v":0},null,{"$f":"'BX Language acquisition'!C1082","v":0},{"$f":"'BX Language acquisition'!D1082","v":0}]
[{"$f":"'BX Language acquisition'!A1083","v":0},{"$f":"'BX Language acquisition'!B1083","v":0},null,{"$f":"'BX Language acquisition'!C1083","v":0},{"$f":"'BX Language acquisition'!D1083","v":0}]
[{"$f":"'BX Language acquisition'!A1084","v":0},{"$f":"'BX Language acquisition'!B1084","v":0},null,{"$f":"'BX Language acquisition'!C1084","v":0},{"$f":"'BX Language acquisition'!D1084","v":0}]
[{"$f":"'BX Language acquisition'!A1085","v":0},{"$f":"'BX Language acquisition'!B1085","v":0},null,{"$f":"'BX Language acquisition'!C1085","v":0},{"$f":"'BX Language acquisition'!D1085","v":0}]
[{"$f":"'BX Language acquisition'!A1086","v":0},{"$f":"'BX Language acquisition'!B1086","v":0},null,{"$f":"'BX Language acquisition'!C1086","v":0},{"$f":"'BX Language acquisition'!D1086","v":0}]
[{"$f":"'BX Language acquisition'!A1087","v":0},{"$f":"'BX Language acquisition'!B1087","v":0},null,{"$f":"'BX Language acquisition'!C1087","v":0},{"$f":"'BX Language acquisition'!D1087","v":0}]
[{"$f":"'BX Language acquisition'!A1088","v":0},{"$f":"'BX Language acquisition'!B1088","v":0},null,{"$f":"'BX Language acquisition'!C1088","v":0},{"$f":"'BX Language acquisition'!D1088","v":0}]
[{"$f":"'BX Language acquisition'!A1089","v":0},{"$f":"'BX Language acquisition'!B1089","v":0},null,{"$f":"'BX Language acquisition'!C1089","v":0},{"$f":"'BX Language acquisition'!D1089","v":0}]
[{"$f":"'BX Language acquisition'!A1090","v":0},{"$f":"'BX Language acquisition'!B1090","v":0},null,{"$f":"'BX Language acquisition'!C1090","v":0},{"$f":"'BX Language acquisition'!D1090","v":0}]
[{"$f":"'BX Language acquisition'!A1091","v":0},{"$f":"'BX Language acquisition'!B1091","v":0},null,{"$f":"'BX Language acquisition'!C1091","v":0},{"$f":"'BX Language acquisition'!D1091","v":0}]
[{"$f":"'BX Language acquisition'!A1092","v":0},{"$f":"'BX Language acquisition'!B1092","v":0},null,{"$f":"'BX Language acquisition'!C1092","v":0},{"$f":"'BX Language acquisition'!D1092","v":0}]
[{"$f":"'BX Language acquisition'!A1093","v":0},{"$f":"'BX Language acquisition'!B1093","v":0},null,{"$f":"'BX Language acquisition'!C1093","v":0},{"$f":"'BX Language acquisition'!D1093","v":0}]
[{"$f":"'BX Language acquisition'!A1094","v":0},{"$f":"'BX Language acquisition'!B1094","v":0},null,{"$f":"'BX Language acquisition'!C1094","v":0},{"$f":"'BX Language acquisition'!D1094","v":0}]
[{"$f":"'BX Language acquisition'!A1095","v":0},{"$f":"'BX Language acquisition'!B1095","v":0},null,{"$f":"'BX Language acquisition'!C1095","v":0},{"$f":"'BX Language acquisition'!D1095","v":0}]
[{"$f":"'BX Language acquisition'!A1096","v":0},{"$f":"'BX Language acquisition'!B1096","v":0},null,{"$f":"'BX Language acquisition'!C1096","v":0},{"$f":"'BX Language acquisition'!D1096","v":0}]
[{"$f":"'BX Language acquisition'!A1097","v":0},{"$f":"'BX Language acquisition'!B1097","v":0},null,{"$f":"'BX Language acquisition'!C1097","v":0},{"$f":"'BX Language acquisition'!D1097","v":0}]
[{"$f":"'BX Language acquisition'!A1098","v":0},{"$f":"'BX Language acquisition'!B1098","v":0},null,{"$f":"'BX Language acquisition'!C1098","v":0},{"$f":"'BX Language acquisition'!D1098","v":0}]
[{"$f":"'BX Language acquisition'!A1099","v":0},{"$f":"'BX Language acquisition'!B1099","v":0},null,{"$f":"'BX Language acquisition'!C1099","v":0},{"$f":"'BX Language acquisition'!D1099","v":0}]
[{"$f":"'BX Language acquisition'!A1100","v":0},{"$f":"'BX Language acquisition'!B1100","v":0},null,{"$f":"'BX Language acquisition'!C1100","v":0},{"$f":"'BX Language acquisition'!D1100","v":0}]
[{"$f":"'BX Language acquisition'!A1101","v":0},{"$f":"'BX Language acquisition'!B1101","v":0},null,{"$f":"'BX Language acquisition'!C1101","v":0},{"$f":"'BX Language acquisition'!D1101","v":0}]
[{"$f":"'BX Language acquisition'!A1102","v":0},{"$f":"'BX Language acquisition'!B1102","v":0},null,{"$f":"'BX Language acquisition'!C1102","v":0},{"$f":"'BX Language acquisition'!D1102","v":0}]
[{"$f":"'BX Language acquisition'!A1103","v":0},{"$f":"'BX Language acquisition'!B1103","v":0},null,{"$f":"'BX Language acquisition'!C1103","v":0},{"$f":"'BX Language acquisition'!D1103","v":0}]
[{"$f":"'BX Language acquisition'!A1104","v":0},{"$f":"'BX Language acquisition'!B1104","v":0},null,{"$f":"'BX Language acquisition'!C1104","v":0},{"$f":"'BX Language acquisition'!D1104","v":0}]
[{"$f":"'BX Language acquisition'!A1105","v":0},{"$f":"'BX Language acquisition'!B1105","v":0},null,{"$f":"'BX Language acquisition'!C1105","v":0},{"$f":"'BX Language acquisition'!D1105","v":0}]
[{"$f":"'BX Language acquisition'!A1106","v":0},{"$f":"'BX Language acquisition'!B1106","v":0},null,{"$f":"'BX Language acquisition'!C1106","v":0},{"$f":"'BX Language acquisition'!D1106","v":0}]
[{"$f":"'BX Language acquisition'!A1107","v":0},{"$f":"'BX Language acquisition'!B1107","v":0},null,{"$f":"'BX Language acquisition'!C1107","v":0},{"$f":"'BX Language acquisition'!D1107","v":0}]
[{"$f":"'BX Language acquisition'!A1108","v":0},{"$f":"'BX Language acquisition'!B1108","v":0},null,{"$f":"'BX Language acquisition'!C1108","v":0},{"$f":"'BX Language acquisition'!D1108","v":0}]
[{"$f":"'BX Language acquisition'!A1109","v":0},{"$f":"'BX Language acquisition'!B1109","v":0},null,{"$f":"'BX Language acquisition'!C1109","v":0},{"$f":"'BX Language acquisition'!D1109","v":0}]
[{"$f":"'BX Language acquisition'!A1110","v":0},{"$f":"'BX Language acquisition'!B1110","v":0},null,{"$f":"'BX Language acquisition'!C1110","v":0},{"$f":"'BX Language acquisition'!D1110","v":0}]
[{"$f":"'BX Language acquisition'!A1111","v":0},{"$f":"'BX Language acquisition'!B1111","v":0},null,{"$f":"'BX Language acquisition'!C1111","v":0},{"$f":"'BX Language acquisition'!D1111","v":0}]
[{"$f":"'BX Language acquisition'!A1112","v":0},{"$f":"'BX Language acquisition'!B1112","v":0},null,{"$f":"'BX Language acquisition'!C1112","v":0},{"$f":"'BX Language acquisition'!D1112","v":0}]
[{"$f":"'BX Language acquisition'!A1113","v":0},{"$f":"'BX Language acquisition'!B1113","v":0},null,{"$f":"'BX Language acquisition'!C1113","v":0},{"$f":"'BX Language acquisition'!D1113","v":0}]
[{"$f":"'BX Language acquisition'!A1114","v":0},{"$f":"'BX Language acquisition'!B1114","v":0},null,{"$f":"'BX Language acquisition'!C1114","v":0},{"$f":"'BX Language acquisition'!D1114","v":0}]
[{"$f":"'BX Language acquisition'!A1115","v":0},{"$f":"'BX Language acquisition'!B1115","v":0},null,{"$f":"'BX Language acquisition'!C1115","v":0},{"$f":"'BX Language acquisition'!D1115","v":0}]
[{"$f":"'BX Language acquisition'!A1116","v":0},{"$f":"'BX Language acquisition'!B1116","v":0},null,{"$f":"'BX Language acquisition'!C1116","v":0},{"$f":"'BX Language acquisition'!D1116","v":0}]
[{"$f":"'BX Language acquisition'!A1117","v":0},{"$f":"'BX Language acquisition'!B1117","v":0},null,{"$f":"'BX Language acquisition'!C1117","v":0},{"$f":"'BX Language acquisition'!D1117","v":0}]
[{"$f":"'BX Language acquisition'!A1118","v":0},{"$f":"'BX Language acquisition'!B1118","v":0},null,{"$f":"'BX Language acquisition'!C1118","v":0},{"$f":"'BX Language acquisition'!D1118","v":0}]
[{"$f":"'BX Language acquisition'!A1119","v":0},{"$f":"'BX Language acquisition'!B1119","v":0},null,{"$f":"'BX Language acquisition'!C1119","v":0},{"$f":"'BX Language acquisition'!D1119","v":0}]
[{"$f":"'BX Language acquisition'!A1120","v":0},{"$f":"'BX Language acquisition'!B1120","v":0},null,{"$f":"'BX Language acquisition'!C1120","v":0},{"$f":"'BX Language acquisition'!D1120","v":0}]
[{"$f":"'BX Language acquisition'!A1121","v":0},{"$f":"'BX Language acquisition'!B1121","v":0},null,{"$f":"'BX Language acquisition'!C1121","v":0},{"$f":"'BX Language acquisition'!D1121","v":0}]
[{"$f":"'BX Language acquisition'!A1122","v":0},{"$f":"'BX Language acquisition'!B1122","v":0},null,{"$f":"'BX Language acquisition'!C1122","v":0},{"$f":"'BX Language acquisition'!D1122","v":0}]
[{"$f":"'BX Language acquisition'!A1123","v":0},{"$f":"'BX Language acquisition'!B1123","v":0},null,{"$f":"'BX Language acquisition'!C1123","v":0},{"$f":"'BX Language acquisition'!D1123","v":0}]
[{"$f":"'BX Language acquisition'!A1124","v":0},{"$f":"'BX Language acquisition'!B1124","v":0},null,{"$f":"'BX Language acquisition'!C1124","v":0},{"$f":"'BX Language acquisition'!D1124","v":0}]
[{"$f":"'BX Language acquisition'!A1125","v":0},{"$f":"'BX Language acquisition'!B1125","v":0},null,{"$f":"'BX Language acquisition'!C1125","v":0},{"$f":"'BX Language acquisition'!D1125","v":0}]
[{"$f":"'BX Language acquisition'!A1126","v":0},{"$f":"'BX Language acquisition'!B1126","v":0},null,{"$f":"'BX Language acquisition'!C1126","v":0},{"$f":"'BX Language acquisition'!D1126","v":0}]
[{"$f":"'BX Language acquisition'!A1127","v":0},{"$f":"'BX Language acquisition'!B1127","v":0},null,{"$f":"'BX Language acquisition'!C1127","v":0},{"$f":"'BX Language acquisition'!D1127","v":0}]
[{"$f":"'BX Language acquisition'!A1128","v":0},{"$f":"'BX Language acquisition'!B1128","v":0},null,{"$f":"'BX Language acquisition'!C1128","v":0},{"$f":"'BX Language acquisition'!D1128","v":0}]
[{"$f":"'BX Language acquisition'!A1129","v":0},{"$f":"'BX Language acquisition'!B1129","v":0},null,{"$f":"'BX Language acquisition'!C1129","v":0},{"$f":"'BX Language acquisition'!D1129","v":0}]
[{"$f":"'BX Language acquisition'!A1130","v":0},{"$f":"'BX Language acquisition'!B1130","v":0},null,{"$f":"'BX Language acquisition'!C1130","v":0},{"$f":"'BX Language acquisition'!D1130","v":0}]
[{"$f":"'BX Language acquisition'!A1131","v":0},{"$f":"'BX Language acquisition'!B1131","v":0},null,{"$f":"'BX Language acquisition'!C1131","v":0},{"$f":"'BX Language acquisition'!D1131","v":0}]
[{"$f":"'BX Language acquisition'!A1132","v":0},{"$f":"'BX Language acquisition'!B1132","v":0},null,{"$f":"'BX Language acquisition'!C1132","v":0},{"$f":"'BX Language acquisition'!D1132","v":0}]
[{"$f":"'BX Language acquisition'!A1133","v":0},{"$f":"'BX Language acquisition'!B1133","v":0},null,{"$f":"'BX Language acquisition'!C1133","v":0},{"$f":"'BX Language acquisition'!D1133","v":0}]
[{"$f":"'BX Language acquisition'!A1134","v":0},{"$f":"'BX Language acquisition'!B1134","v":0},null,{"$f":"'BX Language acquisition'!C1134","v":0},{"$f":"'BX Language acquisition'!D1134","v":0}]
[{"$f":"'BX Language acquisition'!A1135","v":0},{"$f":"'BX Language acquisition'!B1135","v":0},null,{"$f":"'BX Language acquisition'!C1135","v":0},{"$f":"'BX Language acquisition'!D1135","v":0}]
[{"$f":"'BX Language acquisition'!A1136","v":0},{"$f":"'BX Language acquisition'!B1136","v":0},null,{"$f":"'BX Language acquisition'!C1136","v":0},{"$f":"'BX Language acquisition'!D1136","v":0}]
[{"$f":"'BX Language acquisition'!A1137","v":0},{"$f":"'BX Language acquisition'!B1137","v":0},null,{"$f":"'BX Language acquisition'!C1137","v":0},{"$f":"'BX Language acquisition'!D1137","v":0}]
[{"$f":"'BX Language acquisition'!A1138","v":0},{"$f":"'BX Language acquisition'!B1138","v":0},null,{"$f":"'BX Language acquisition'!C1138","v":0},{"$f":"'BX Language acquisition'!D1138","v":0}]
[{"$f":"'BX Language acquisition'!A1139","v":0},{"$f":"'BX Language acquisition'!B1139","v":0},null,{"$f":"'BX Language acquisition'!C1139","v":0},{"$f":"'BX Language acquisition'!D1139","v":0}]
[{"$f":"'BX Language acquisition'!A1140","v":0},{"$f":"'BX Language acquisition'!B1140","v":0},null,{"$f":"'BX Language acquisition'!C1140","v":0},{"$f":"'BX Language acquisition'!D1140","v":0}]
[{"$f":"'BX Language acquisition'!A1141","v":0},{"$f":"'BX Language acquisition'!B1141","v":0},null,{"$f":"'BX Language acquisition'!C1141","v":0},{"$f":"'BX Language acquisition'!D1141","v":0}]
[{"$f":"'BX Language acquisition'!A1142","v":0},{"$f":"'BX Language acquisition'!B1142","v":0},null,{"$f":"'BX Language acquisition'!C1142","v":0},{"$f":"'BX Language acquisition'!D1142","v":0}]
[{"$f":"'BX Language acquisition'!A1143","v":0},{"$f":"'BX Language acquisition'!B1143","v":0},null,{"$f":"'BX Language acquisition'!C1143","v":0},{"$f":"'BX Language acquisition'!D1143","v":0}]
[{"$f":"'BX Language acquisition'!A1144","v":0},{"$f":"'BX Language acquisition'!B1144","v":0},null,{"$f":"'BX Language acquisition'!C1144","v":0},{"$f":"'BX Language acquisition'!D1144","v":0}]
[{"$f":"'BX Language acquisition'!A1145","v":0},{"$f":"'BX Language acquisition'!B1145","v":0},null,{"$f":"'BX Language acquisition'!C1145","v":0},{"$f":"'BX Language acquisition'!D1145","v":0}]
[{"$f":"'BX Language acquisition'!A1146","v":0},{"$f":"'BX Language acquisition'!B1146","v":0},null,{"$f":"'BX Language acquisition'!C1146","v":0},{"$f":"'BX Language acquisition'!D1146","v":0}]
[{"$f":"'BX Language acquisition'!A1147","v":0},{"$f":"'BX Language acquisition'!B1147","v":0},null,{"$f":"'BX Language acquisition'!C1147","v":0},{"$f":"'BX Language acquisition'!D1147","v":0}]
[{"$f":"'BX Language acquisition'!A1148","v":0},{"$f":"'BX Language acquisition'!B1148","v":0},null,{"$f":"'BX Language acquisition'!C1148","v":0},{"$f":"'BX Language acquisition'!D1148","v":0}]
[{"$f":"'BX Language acquisition'!A1149","v":0},{"$f":"'BX Language acquisition'!B1149","v":0},null,{"$f":"'BX Language acquisition'!C1149","v":0},{"$f":"'BX Language acquisition'!D1149","v":0}]
[{"$f":"'BX Language acquisition'!A1150","v":0},{"$f":"'BX Language acquisition'!B1150","v":0},null,{"$f":"'BX Language acquisition'!C1150","v":0},{"$f":"'BX Language acquisition'!D1150","v":0}]
[{"$f":"'BX Language acquisition'!A1151","v":0},{"$f":"'BX Language acquisition'!B1151","v":0},null,{"$f":"'BX Language acquisition'!C1151","v":0},{"$f":"'BX Language acquisition'!D1151","v":0}]
[{"$f":"'BX Language acquisition'!A1152","v":0},{"$f":"'BX Language acquisition'!B1152","v":0},null,{"$f":"'BX Language acquisition'!C1152","v":0},{"$f":"'BX Language acquisition'!D1152","v":0}]
[{"$f":"'BX Language acquisition'!A1153","v":0},{"$f":"'BX Language acquisition'!B1153","v":0},null,{"$f":"'BX Language acquisition'!C1153","v":0},{"$f":"'BX Language acquisition'!D1153","v":0}]
[{"$f":"'BX Language acquisition'!A1154","v":0},{"$f":"'BX Language acquisition'!B1154","v":0},null,{"$f":"'BX Language acquisition'!C1154","v":0},{"$f":"'BX Language acquisition'!D1154","v":0}]
[{"$f":"'BX Language acquisition'!A1155","v":0},{"$f":"'BX Language acquisition'!B1155","v":0},null,{"$f":"'BX Language acquisition'!C1155","v":0},{"$f":"'BX Language acquisition'!D1155","v":0}]
[{"$f":"'BX Language acquisition'!A1156","v":0},{"$f":"'BX Language acquisition'!B1156","v":0},null,{"$f":"'BX Language acquisition'!C1156","v":0},{"$f":"'BX Language acquisition'!D1156","v":0}]
[{"$f":"'BX Language acquisition'!A1157","v":0},{"$f":"'BX Language acquisition'!B1157","v":0},null,{"$f":"'BX Language acquisition'!C1157","v":0},{"$f":"'BX Language acquisition'!D1157","v":0}]
[{"$f":"'BX Language acquisition'!A1158","v":0},{"$f":"'BX Language acquisition'!B1158","v":0},null,{"$f":"'BX Language acquisition'!C1158","v":0},{"$f":"'BX Language acquisition'!D1158","v":0}]
[{"$f":"'BX Language acquisition'!A1159","v":0},{"$f":"'BX Language acquisition'!B1159","v":0},null,{"$f":"'BX Language acquisition'!C1159","v":0},{"$f":"'BX Language acquisition'!D1159","v":0}]
[{"$f":"'BX Language acquisition'!A1160","v":0},{"$f":"'BX Language acquisition'!B1160","v":0},null,{"$f":"'BX Language acquisition'!C1160","v":0},{"$f":"'BX Language acquisition'!D1160","v":0}]
[{"$f":"'BX Language acquisition'!A1161","v":0},{"$f":"'BX Language acquisition'!B1161","v":0},null,{"$f":"'BX Language acquisition'!C1161","v":0},{"$f":"'BX Language acquisition'!D1161","v":0}]
[{"$f":"'BX Language acquisition'!A1162","v":0},{"$f":"'BX Language acquisition'!B1162","v":0},null,{"$f":"'BX Language acquisition'!C1162","v":0},{"$f":"'BX Language acquisition'!D1162","v":0}]
[{"$f":"'BX Language acquisition'!A1163","v":0},{"$f":"'BX Language acquisition'!B1163","v":0},null,{"$f":"'BX Language acquisition'!C1163","v":0},{"$f":"'BX Language acquisition'!D1163","v":0}]
[{"$f":"'BX Language acquisition'!A1164","v":0},{"$f":"'BX Language acquisition'!B1164","v":0},null,{"$f":"'BX Language acquisition'!C1164","v":0},{"$f":"'BX Language acquisition'!D1164","v":0}]
[{"$f":"'BX Language acquisition'!A1165","v":0},{"$f":"'BX Language acquisition'!B1165","v":0},null,{"$f":"'BX Language acquisition'!C1165","v":0},{"$f":"'BX Language acquisition'!D1165","v":0}]
[{"$f":"'BX Language acquisition'!A1166","v":0},{"$f":"'BX Language acquisition'!B1166","v":0},null,{"$f":"'BX Language acquisition'!C1166","v":0},{"$f":"'BX Language acquisition'!D1166","v":0}]
[{"$f":"'BX Language acquisition'!A1167","v":0},{"$f":"'BX Language acquisition'!B1167","v":0},null,{"$f":"'BX Language acquisition'!C1167","v":0},{"$f":"'BX Language acquisition'!D1167","v":0}]
[{"$f":"'BX Language acquisition'!A1168","v":0},{"$f":"'BX Language acquisition'!B1168","v":0},null,{"$f":"'BX Language acquisition'!C1168","v":0},{"$f":"'BX Language acquisition'!D1168","v":0}]
[{"$f":"'BX Language acquisition'!A1169","v":0},{"$f":"'BX Language acquisition'!B1169","v":0},null,{"$f":"'BX Language acquisition'!C1169","v":0},{"$f":"'BX Language acquisition'!D1169","v":0}]
[{"$f":"'BX Language acquisition'!A1170","v":0},{"$f":"'BX Language acquisition'!B1170","v":0},null,{"$f":"'BX Language acquisition'!C1170","v":0},{"$f":"'BX Language acquisition'!D1170","v":0}]
[{"$f":"'BX Language acquisition'!A1171","v":0},{"$f":"'BX Language acquisition'!B1171","v":0},null,{"$f":"'BX Language acquisition'!C1171","v":0},{"$f":"'BX Language acquisition'!D1171","v":0}]
[{"$f":"'BX Language acquisition'!A1172","v":0},{"$f":"'BX Language acquisition'!B1172","v":0},null,{"$f":"'BX Language acquisition'!C1172","v":0},{"$f":"'BX Language acquisition'!D1172","v":0}]
[{"$f":"'BX Language acquisition'!A1173","v":0},{"$f":"'BX Language acquisition'!B1173","v":0},null,{"$f":"'BX Language acquisition'!C1173","v":0},{"$f":"'BX Language acquisition'!D1173","v":0}]
[{"$f":"'BX Language acquisition'!A1174","v":0},{"$f":"'BX Language acquisition'!B1174","v":0},null,{"$f":"'BX Language acquisition'!C1174","v":0},{"$f":"'BX Language acquisition'!D1174","v":0}]
[{"$f":"'BX Language acquisition'!A1175","v":0},{"$f":"'BX Language acquisition'!B1175","v":0},null,{"$f":"'BX Language acquisition'!C1175","v":0},{"$f":"'BX Language acquisition'!D1175","v":0}]
[{"$f":"'BX Language acquisition'!A1176","v":0},{"$f":"'BX Language acquisition'!B1176","v":0},null,{"$f":"'BX Language acquisition'!C1176","v":0},{"$f":"'BX Language acquisition'!D1176","v":0}]
[{"$f":"'BX Language acquisition'!A1177","v":0},{"$f":"'BX Language acquisition'!B1177","v":0},null,{"$f":"'BX Language acquisition'!C1177","v":0},{"$f":"'BX Language acquisition'!D1177","v":0}]
[{"$f":"'BX Language acquisition'!A1178","v":0},{"$f":"'BX Language acquisition'!B1178","v":0},null,{"$f":"'BX Language acquisition'!C1178","v":0},{"$f":"'BX Language acquisition'!D1178","v":0}]
[{"$f":"'BX Language acquisition'!A1179","v":0},{"$f":"'BX Language acquisition'!B1179","v":0},null,{"$f":"'BX Language acquisition'!C1179","v":0},{"$f":"'BX Language acquisition'!D1179","v":0}]
[{"$f":"'BX Language acquisition'!A1180","v":0},{"$f":"'BX Language acquisition'!B1180","v":0},null,{"$f":"'BX Language acquisition'!C1180","v":0},{"$f":"'BX Language acquisition'!D1180","v":0}]
[{"$f":"'BX Language acquisition'!A1181","v":0},{"$f":"'BX Language acquisition'!B1181","v":0},null,{"$f":"'BX Language acquisition'!C1181","v":0},{"$f":"'BX Language acquisition'!D1181","v":0}]
[{"$f":"'BX Language acquisition'!A1182","v":0},{"$f":"'BX Language acquisition'!B1182","v":0},null,{"$f":"'BX Language acquisition'!C1182","v":0},{"$f":"'BX Language acquisition'!D1182","v":0}]
[{"$f":"'BX Language acquisition'!A1183","v":0},{"$f":"'BX Language acquisition'!B1183","v":0},null,{"$f":"'BX Language acquisition'!C1183","v":0},{"$f":"'BX Language acquisition'!D1183","v":0}]
[{"$f":"'BX Language acquisition'!A1184","v":0},{"$f":"'BX Language acquisition'!B1184","v":0},null,{"$f":"'BX Language acquisition'!C1184","v":0},{"$f":"'BX Language acquisition'!D1184","v":0}]
[{"$f":"'BX Language acquisition'!A1185","v":0},{"$f":"'BX Language acquisition'!B1185","v":0},null,{"$f":"'BX Language acquisition'!C1185","v":0},{"$f":"'BX Language acquisition'!D1185","v":0}]
[{"$f":"'BX Language acquisition'!A1186","v":0},{"$f":"'BX Language acquisition'!B1186","v":0},null,{"$f":"'BX Language acquisition'!C1186","v":0},{"$f":"'BX Language acquisition'!D1186","v":0}]
[{"$f":"'BX Language acquisition'!A1187","v":0},{"$f":"'BX Language acquisition'!B1187","v":0},null,{"$f":"'BX Language acquisition'!C1187","v":0},{"$f":"'BX Language acquisition'!D1187","v":0}]
[{"$f":"'BX Language acquisition'!A1188","v":0},{"$f":"'BX Language acquisition'!B1188","v":0},null,{"$f":"'BX Language acquisition'!C1188","v":0},{"$f":"'BX Language acquisition'!D1188","v":0}]
[{"$f":"'BX Language acquisition'!A1189","v":0},{"$f":"'BX Language acquisition'!B1189","v":0},null,{"$f":"'BX Language acquisition'!C1189","v":0},{"$f":"'BX Language acquisition'!D1189","v":0}]
[{"$f":"'BX Language acquisition'!A1190","v":0},{"$f":"'BX Language acquisition'!B1190","v":0},null,{"$f":"'BX Language acquisition'!C1190","v":0},{"$f":"'BX Language acquisition'!D1190","v":0}]
[{"$f":"'BX Language acquisition'!A1191","v":0},{"$f":"'BX Language acquisition'!B1191","v":0},null,{"$f":"'BX Language acquisition'!C1191","v":0},{"$f":"'BX Language acquisition'!D1191","v":0}]
[{"$f":"'BX Language acquisition'!A1192","v":0},{"$f":"'BX Language acquisition'!B1192","v":0},null,{"$f":"'BX Language acquisition'!C1192","v":0},{"$f":"'BX Language acquisition'!D1192","v":0}]
[{"$f":"'BX Language acquisition'!A1193","v":0},{"$f":"'BX Language acquisition'!B1193","v":0},null,{"$f":"'BX Language acquisition'!C1193","v":0},{"$f":"'BX Language acquisition'!D1193","v":0}]
[{"$f":"'BX Language acquisition'!A1194","v":0},{"$f":"'BX Language acquisition'!B1194","v":0},null,{"$f":"'BX Language acquisition'!C1194","v":0},{"$f":"'BX Language acquisition'!D1194","v":0}]
[{"$f":"'BX Language acquisition'!A1195","v":0},{"$f":"'BX Language acquisition'!B1195","v":0},null,{"$f":"'BX Language acquisition'!C1195","v":0},{"$f":"'BX Language acquisition'!D1195","v":0}]
[{"$f":"'BX Language acquisition'!A1196","v":0},{"$f":"'BX Language acquisition'!B1196","v":0},null,{"$f":"'BX Language acquisition'!C1196","v":0},{"$f":"'BX Language acquisition'!D1196","v":0}]
[{"$f":"'BX Language acquisition'!A1197","v":0},{"$f":"'BX Language acquisition'!B1197","v":0},null,{"$f":"'BX Language acquisition'!C1197","v":0},{"$f":"'BX Language acquisition'!D1197","v":0}]
[{"$f":"'BX Language acquisition'!A1198","v":0},{"$f":"'BX Language acquisition'!B1198","v":0},null,{"$f":"'BX Language acquisition'!C1198","v":0},{"$f":"'BX Language acquisition'!D1198","v":0}]
[{"$f":"'BX Language acquisition'!A1199","v":0},{"$f":"'BX Language acquisition'!B1199","v":0},null,{"$f":"'BX Language acquisition'!C1199","v":0},{"$f":"'BX Language acquisition'!D1199","v":0}]
[{"$f":"'BX Language acquisition'!A1200","v":0},{"$f":"'BX Language acquisition'!B1200","v":0},null,{"$f":"'BX Language acquisition'!C1200","v":0},{"$f":"'BX Language acquisition'!D1200","v":0}]
[{"$f":"'BX Language acquisition'!A1201","v":0},{"$f":"'BX Language acquisition'!B1201","v":0},null,{"$f":"'BX Language acquisition'!C1201","v":0},{"$f":"'BX Language acquisition'!D1201","v":0}]
[{"$f":"'BX Language acquisition'!A1202","v":0},{"$f":"'BX Language acquisition'!B1202","v":0},null,{"$f":"'BX Language acquisition'!C1202","v":0},{"$f":"'BX Language acquisition'!D1202","v":0}]
[{"$f":"'BX Language acquisition'!A1203","v":0},{"$f":"'BX Language acquisition'!B1203","v":0},null,{"$f":"'BX Language acquisition'!C1203","v":0},{"$f":"'BX Language acquisition'!D1203","v":0}]
[{"$f":"'BX Language acquisition'!A1204","v":0},{"$f":"'BX Language acquisition'!B1204","v":0},null,{"$f":"'BX Language acquisition'!C1204","v":0},{"$f":"'BX Language acquisition'!D1204","v":0}]
[{"$f":"'BX Language acquisition'!A1205","v":0},{"$f":"'BX Language acquisition'!B1205","v":0},null,{"$f":"'BX Language acquisition'!C1205","v":0},{"$f":"'BX Language acquisition'!D1205","v":0}]
[{"$f":"'BX Language acquisition'!A1206","v":0},{"$f":"'BX Language acquisition'!B1206","v":0},null,{"$f":"'BX Language acquisition'!C1206","v":0},{"$f":"'BX Language acquisition'!D1206","v":0}]
[{"$f":"'BX Language acquisition'!A1207","v":0},{"$f":"'BX Language acquisition'!B1207","v":0},null,{"$f":"'BX Language acquisition'!C1207","v":0},{"$f":"'BX Language acquisition'!D1207","v":0}]
[{"$f":"'BX Language acquisition'!A1208","v":0},{"$f":"'BX Language acquisition'!B1208","v":0},null,{"$f":"'BX Language acquisition'!C1208","v":0},{"$f":"'BX Language acquisition'!D1208","v":0}]
[{"$f":"'BX Language acquisition'!A1209","v":0},{"$f":"'BX Language acquisition'!B1209","v":0},null,{"$f":"'BX Language acquisition'!C1209","v":0},{"$f":"'BX Language acquisition'!D1209","v":0}]
[{"$f":"'BX Language acquisition'!A1210","v":0},{"$f":"'BX Language acquisition'!B1210","v":0},null,{"$f":"'BX Language acquisition'!C1210","v":0},{"$f":"'BX Language acquisition'!D1210","v":0}]
[{"$f":"'BX Language acquisition'!A1211","v":0},{"$f":"'BX Language acquisition'!B1211","v":0},null,{"$f":"'BX Language acquisition'!C1211","v":0},{"$f":"'BX Language acquisition'!D1211","v":0}]
[{"$f":"'BX Language acquisition'!A1212","v":0},{"$f":"'BX Language acquisition'!B1212","v":0},null,{"$f":"'BX Language acquisition'!C1212","v":0},{"$f":"'BX Language acquisition'!D1212","v":0}]
[{"$f":"'BX Language acquisition'!A1213","v":0},{"$f":"'BX Language acquisition'!B1213","v":0},null,{"$f":"'BX Language acquisition'!C1213","v":0},{"$f":"'BX Language acquisition'!D1213","v":0}]
[{"$f":"'BX Language acquisition'!A1214","v":0},{"$f":"'BX Language acquisition'!B1214","v":0},null,{"$f":"'BX Language acquisition'!C1214","v":0},{"$f":"'BX Language acquisition'!D1214","v":0}]
[{"$f":"'BX Language acquisition'!A1215","v":0},{"$f":"'BX Language acquisition'!B1215","v":0},null,{"$f":"'BX Language acquisition'!C1215","v":0},{"$f":"'BX Language acquisition'!D1215","v":0}]
[{"$f":"'BX Language acquisition'!A1216","v":0},{"$f":"'BX Language acquisition'!B1216","v":0},null,{"$f":"'BX Language acquisition'!C1216","v":0},{"$f":"'BX Language acquisition'!D1216","v":0}]
[{"$f":"'BX Language acquisition'!A1217","v":0},{"$f":"'BX Language acquisition'!B1217","v":0},null,{"$f":"'BX Language acquisition'!C1217","v":0},{"$f":"'BX Language acquisition'!D1217","v":0}]
[{"$f":"'BX Language acquisition'!A1218","v":0},{"$f":"'BX Language acquisition'!B1218","v":0},null,{"$f":"'BX Language acquisition'!C1218","v":0},{"$f":"'BX Language acquisition'!D1218","v":0}]
[{"$f":"'BX Language acquisition'!A1219","v":0},{"$f":"'BX Language acquisition'!B1219","v":0},null,{"$f":"'BX Language acquisition'!C1219","v":0},{"$f":"'BX Language acquisition'!D1219","v":0}]
[{"$f":"'BX Language acquisition'!A1220","v":0},{"$f":"'BX Language acquisition'!B1220","v":0},null,{"$f":"'BX Language acquisition'!C1220","v":0},{"$f":"'BX Language acquisition'!D1220","v":0}]
[{"$f":"'BX Language acquisition'!A1221","v":0},{"$f":"'BX Language acquisition'!B1221","v":0},null,{"$f":"'BX Language acquisition'!C1221","v":0},{"$f":"'BX Language acquisition'!D1221","v":0}]
[{"$f":"'BX Language acquisition'!A1222","v":0},{"$f":"'BX Language acquisition'!B1222","v":0},null,{"$f":"'BX Language acquisition'!C1222","v":0},{"$f":"'BX Language acquisition'!D1222","v":0}]
[{"$f":"'BX Language acquisition'!A1223","v":0},{"$f":"'BX Language acquisition'!B1223","v":0},null,{"$f":"'BX Language acquisition'!C1223","v":0},{"$f":"'BX Language acquisition'!D1223","v":0}]
[{"$f":"'BX Language acquisition'!A1224","v":0},{"$f":"'BX Language acquisition'!B1224","v":0},null,{"$f":"'BX Language acquisition'!C1224","v":0},{"$f":"'BX Language acquisition'!D1224","v":0}]
[{"$f":"'BX Language acquisition'!A1225","v":0},{"$f":"'BX Language acquisition'!B1225","v":0},null,{"$f":"'BX Language acquisition'!C1225","v":0},{"$f":"'BX Language acquisition'!D1225","v":0}]
[{"$f":"'BX Language acquisition'!A1226","v":0},{"$f":"'BX Language acquisition'!B1226","v":0},null,{"$f":"'BX Language acquisition'!C1226","v":0},{"$f":"'BX Language acquisition'!D1226","v":0}]
[{"$f":"'BX Language acquisition'!A1227","v":0},{"$f":"'BX Language acquisition'!B1227","v":0},null,{"$f":"'BX Language acquisition'!C1227","v":0},{"$f":"'BX Language acquisition'!D1227","v":0}]
[{"$f":"'BX Language acquisition'!A1228","v":0},{"$f":"'BX Language acquisition'!B1228","v":0},null,{"$f":"'BX Language acquisition'!C1228","v":0},{"$f":"'BX Language acquisition'!D1228","v":0}]
[{"$f":"'BX Language acquisition'!A1229","v":0},{"$f":"'BX Language acquisition'!B1229","v":0},null,{"$f":"'BX Language acquisition'!C1229","v":0},{"$f":"'BX Language acquisition'!D1229","v":0}]
[{"$f":"'BX Language acquisition'!A1230","v":0},{"$f":"'BX Language acquisition'!B1230","v":0},null,{"$f":"'BX Language acquisition'!C1230","v":0},{"$f":"'BX Language acquisition'!D1230","v":0}]
[{"$f":"'BX Language acquisition'!A1231","v":0},{"$f":"'BX Language acquisition'!B1231","v":0},null,{"$f":"'BX Language acquisition'!C1231","v":0},{"$f":"'BX Language acquisition'!D1231","v":0}]
[{"$f":"'BX Language acquisition'!A1232","v":0},{"$f":"'BX Language acquisition'!B1232","v":0},null,{"$f":"'BX Language acquisition'!C1232","v":0},{"$f":"'BX Language acquisition'!D1232","v":0}]
[{"$f":"'BX Language acquisition'!A1233","v":0},{"$f":"'BX Language acquisition'!B1233","v":0},null,{"$f":"'BX Language acquisition'!C1233","v":0},{"$f":"'BX Language acquisition'!D1233","v":0}]
[{"$f":"'BX Language acquisition'!A1234","v":0},{"$f":"'BX Language acquisition'!B1234","v":0},null,{"$f":"'BX Language acquisition'!C1234","v":0},{"$f":"'BX Language acquisition'!D1234","v":0}]
[{"$f":"'BX Language acquisition'!A1235","v":0},{"$f":"'BX Language acquisition'!B1235","v":0},null,{"$f":"'BX Language acquisition'!C1235","v":0},{"$f":"'BX Language acquisition'!D1235","v":0}]
[{"$f":"'BX Language acquisition'!A1236","v":0},{"$f":"'BX Language acquisition'!B1236","v":0},null,{"$f":"'BX Language acquisition'!C1236","v":0},{"$f":"'BX Language acquisition'!D1236","v":0}]
[{"$f":"'BX Language acquisition'!A1237","v":0},{"$f":"'BX Language acquisition'!B1237","v":0},null,{"$f":"'BX Language acquisition'!C1237","v":0},{"$f":"'BX Language acquisition'!D1237","v":0}]
[{"$f":"'BX Language acquisition'!A1238","v":0},{"$f":"'BX Language acquisition'!B1238","v":0},null,{"$f":"'BX Language acquisition'!C1238","v":0},{"$f":"'BX Language acquisition'!D1238","v":0}]
[{"$f":"'BX Language acquisition'!A1239","v":0},{"$f":"'BX Language acquisition'!B1239","v":0},null,{"$f":"'BX Language acquisition'!C1239","v":0},{"$f":"'BX Language acquisition'!D1239","v":0}]
[{"$f":"'BX Language acquisition'!A1240","v":0},{"$f":"'BX Language acquisition'!B1240","v":0},null,{"$f":"'BX Language acquisition'!C1240","v":0},{"$f":"'BX Language acquisition'!D1240","v":0}]
[{"$f":"'BX Language acquisition'!A1241","v":0},{"$f":"'BX Language acquisition'!B1241","v":0},null,{"$f":"'BX Language acquisition'!C1241","v":0},{"$f":"'BX Language acquisition'!D1241","v":0}]
[{"$f":"'BX Language acquisition'!A1242","v":0},{"$f":"'BX Language acquisition'!B1242","v":0},null,{"$f":"'BX Language acquisition'!C1242","v":0},{"$f":"'BX Language acquisition'!D1242","v":0}]
[{"$f":"'BX Language acquisition'!A1243","v":0},{"$f":"'BX Language acquisition'!B1243","v":0},null,{"$f":"'BX Language acquisition'!C1243","v":0},{"$f":"'BX Language acquisition'!D1243","v":0}]
[{"$f":"'BX Language acquisition'!A1244","v":0},{"$f":"'BX Language acquisition'!B1244","v":0},null,{"$f":"'BX Language acquisition'!C1244","v":0},{"$f":"'BX Language acquisition'!D1244","v":0}]
[{"$f":"'BX Language acquisition'!A1245","v":0},{"$f":"'BX Language acquisition'!B1245","v":0},null,{"$f":"'BX Language acquisition'!C1245","v":0},{"$f":"'BX Language acquisition'!D1245","v":0}]
[{"$f":"'BX Language acquisition'!A1246","v":0},{"$f":"'BX Language acquisition'!B1246","v":0},null,{"$f":"'BX Language acquisition'!C1246","v":0},{"$f":"'BX Language acquisition'!D1246","v":0}]
[{"$f":"'BX Language acquisition'!A1247","v":0},{"$f":"'BX Language acquisition'!B1247","v":0},null,{"$f":"'BX Language acquisition'!C1247","v":0},{"$f":"'BX Language acquisition'!D1247","v":0}]
[{"$f":"'BX Language acquisition'!A1248","v":0},{"$f":"'BX Language acquisition'!B1248","v":0},null,{"$f":"'BX Language acquisition'!C1248","v":0},{"$f":"'BX Language acquisition'!D1248","v":0}]
[{"$f":"'BX Language acquisition'!A1249","v":0},{"$f":"'BX Language acquisition'!B1249","v":0},null,{"$f":"'BX Language acquisition'!C1249","v":0},{"$f":"'BX Language acquisition'!D1249","v":0}]
[{"$f":"'BX Language acquisition'!A1250","v":0},{"$f":"'BX Language acquisition'!B1250","v":0},null,{"$f":"'BX Language acquisition'!C1250","v":0},{"$f":"'BX Language acquisition'!D1250","v":0}]
[{"$f":"'BX Language acquisition'!A1251","v":0},{"$f":"'BX Language acquisition'!B1251","v":0},null,{"$f":"'BX Language acquisition'!C1251","v":0},{"$f":"'BX Language acquisition'!D1251","v":0}]
[{"$f":"'BX Language acquisition'!A1252","v":0},{"$f":"'BX Language acquisition'!B1252","v":0},null,{"$f":"'BX Language acquisition'!C1252","v":0},{"$f":"'BX Language acquisition'!D1252","v":0}]
[{"$f":"'BX Language acquisition'!A1253","v":0},{"$f":"'BX Language acquisition'!B1253","v":0},null,{"$f":"'BX Language acquisition'!C1253","v":0},{"$f":"'BX Language acquisition'!D1253","v":0}]
[{"$f":"'BX Language acquisition'!A1254","v":0},{"$f":"'BX Language acquisition'!B1254","v":0},null,{"$f":"'BX Language acquisition'!C1254","v":0},{"$f":"'BX Language acquisition'!D1254","v":0}]
[{"$f":"'BX Language acquisition'!A1255","v":0},{"$f":"'BX Language acquisition'!B1255","v":0},null,{"$f":"'BX Language acquisition'!C1255","v":0},{"$f":"'BX Language acquisition'!D1255","v":0}]
[{"$f":"'BX Language acquisition'!A1256","v":0},{"$f":"'BX Language acquisition'!B1256","v":0},null,{"$f":"'BX Language acquisition'!C1256","v":0},{"$f":"'BX Language acquisition'!D1256","v":0}]
[{"$f":"'BX Language acquisition'!A1257","v":0},{"$f":"'BX Language acquisition'!B1257","v":0},null,{"$f":"'BX Language acquisition'!C1257","v":0},{"$f":"'BX Language acquisition'!D1257","v":0}]
[{"$f":"'BX Language acquisition'!A1258","v":0},{"$f":"'BX Language acquisition'!B1258","v":0},null,{"$f":"'BX Language acquisition'!C1258","v":0},{"$f":"'BX Language acquisition'!D1258","v":0}]
[{"$f":"'BX Language acquisition'!A1259","v":0},{"$f":"'BX Language acquisition'!B1259","v":0},null,{"$f":"'BX Language acquisition'!C1259","v":0},{"$f":"'BX Language acquisition'!D1259","v":0}]
[{"$f":"'BX Language acquisition'!A1260","v":0},{"$f":"'BX Language acquisition'!B1260","v":0},null,{"$f":"'BX Language acquisition'!C1260","v":0},{"$f":"'BX Language acquisition'!D1260","v":0}]
[{"$f":"'BX Language acquisition'!A1261","v":0},{"$f":"'BX Language acquisition'!B1261","v":0},null,{"$f":"'BX Language acquisition'!C1261","v":0},{"$f":"'BX Language acquisition'!D1261","v":0}]
[{"$f":"'BX Language acquisition'!A1262","v":0},{"$f":"'BX Language acquisition'!B1262","v":0},null,{"$f":"'BX Language acquisition'!C1262","v":0},{"$f":"'BX Language acquisition'!D1262","v":0}]
[{"$f":"'BX Language acquisition'!A1263","v":0},{"$f":"'BX Language acquisition'!B1263","v":0},null,{"$f":"'BX Language acquisition'!C1263","v":0},{"$f":"'BX Language acquisition'!D1263","v":0}]
[{"$f":"'BX Language acquisition'!A1264","v":0},{"$f":"'BX Language acquisition'!B1264","v":0},null,{"$f":"'BX Language acquisition'!C1264","v":0},{"$f":"'BX Language acquisition'!D1264","v":0}]
[{"$f":"'BX Language acquisition'!A1265","v":0},{"$f":"'BX Language acquisition'!B1265","v":0},null,{"$f":"'BX Language acquisition'!C1265","v":0},{"$f":"'BX Language acquisition'!D1265","v":0}]
[{"$f":"'BX Language acquisition'!A1266","v":0},{"$f":"'BX Language acquisition'!B1266","v":0},null,{"$f":"'BX Language acquisition'!C1266","v":0},{"$f":"'BX Language acquisition'!D1266","v":0}]
[{"$f":"'BX Language acquisition'!A1267","v":0},{"$f":"'BX Language acquisition'!B1267","v":0},null,{"$f":"'BX Language acquisition'!C1267","v":0},{"$f":"'BX Language acquisition'!D1267","v":0}]
[{"$f":"'BX Language acquisition'!A1268","v":0},{"$f":"'BX Language acquisition'!B1268","v":0},null,{"$f":"'BX Language acquisition'!C1268","v":0},{"$f":"'BX Language acquisition'!D1268","v":0}]
[{"$f":"'BX Language acquisition'!A1269","v":0},{"$f":"'BX Language acquisition'!B1269","v":0},null,{"$f":"'BX Language acquisition'!C1269","v":0},{"$f":"'BX Language acquisition'!D1269","v":0}]
[{"$f":"'BX Language acquisition'!A1270","v":0},{"$f":"'BX Language acquisition'!B1270","v":0},null,{"$f":"'BX Language acquisition'!C1270","v":0},{"$f":"'BX Language acquisition'!D1270","v":0}]
[{"$f":"'BX Language acquisition'!A1271","v":0},{"$f":"'BX Language acquisition'!B1271","v":0},null,{"$f":"'BX Language acquisition'!C1271","v":0},{"$f":"'BX Language acquisition'!D1271","v":0}]
[{"$f":"'BX Language acquisition'!A1272","v":0},{"$f":"'BX Language acquisition'!B1272","v":0},null,{"$f":"'BX Language acquisition'!C1272","v":0},{"$f":"'BX Language acquisition'!D1272","v":0}]
[{"$f":"'BX Language acquisition'!A1273","v":0},{"$f":"'BX Language acquisition'!B1273","v":0},null,{"$f":"'BX Language acquisition'!C1273","v":0},{"$f":"'BX Language acquisition'!D1273","v":0}]
[{"$f":"'BX Language acquisition'!A1274","v":0},{"$f":"'BX Language acquisition'!B1274","v":0},null,{"$f":"'BX Language acquisition'!C1274","v":0},{"$f":"'BX Language acquisition'!D1274","v":0}]
[{"$f":"'BX Language acquisition'!A1275","v":0},{"$f":"'BX Language acquisition'!B1275","v":0},null,{"$f":"'BX Language acquisition'!C1275","v":0},{"$f":"'BX Language acquisition'!D1275","v":0}]
[{"$f":"'BX Language acquisition'!A1276","v":0},{"$f":"'BX Language acquisition'!B1276","v":0},null,{"$f":"'BX Language acquisition'!C1276","v":0},{"$f":"'BX Language acquisition'!D1276","v":0}]
[{"$f":"'BX Language acquisition'!A1277","v":0},{"$f":"'BX Language acquisition'!B1277","v":0},null,{"$f":"'BX Language acquisition'!C1277","v":0},{"$f":"'BX Language acquisition'!D1277","v":0}]
[{"$f":"'BX Language acquisition'!A1278","v":0},{"$f":"'BX Language acquisition'!B1278","v":0},null,{"$f":"'BX Language acquisition'!C1278","v":0},{"$f":"'BX Language acquisition'!D1278","v":0}]
[{"$f":"'BX Language acquisition'!A1279","v":0},{"$f":"'BX Language acquisition'!B1279","v":0},null,{"$f":"'BX Language acquisition'!C1279","v":0},{"$f":"'BX Language acquisition'!D1279","v":0}]
[{"$f":"'BX Language acquisition'!A1280","v":0},{"$f":"'BX Language acquisition'!B1280","v":0},null,{"$f":"'BX Language acquisition'!C1280","v":0},{"$f":"'BX Language acquisition'!D1280","v":0}]
[{"$f":"'BX Language acquisition'!A1281","v":0},{"$f":"'BX Language acquisition'!B1281","v":0},null,{"$f":"'BX Language acquisition'!C1281","v":0},{"$f":"'BX Language acquisition'!D1281","v":0}]
[{"$f":"'BX Language acquisition'!A1282","v":0},{"$f":"'BX Language acquisition'!B1282","v":0},null,{"$f":"'BX Language acquisition'!C1282","v":0},{"$f":"'BX Language acquisition'!D1282","v":0}]
[{"$f":"'BX Language acquisition'!A1283","v":0},{"$f":"'BX Language acquisition'!B1283","v":0},null,{"$f":"'BX Language acquisition'!C1283","v":0},{"$f":"'BX Language acquisition'!D1283","v":0}]
[{"$f":"'BX Language acquisition'!A1284","v":0},{"$f":"'BX Language acquisition'!B1284","v":0},null,{"$f":"'BX Language acquisition'!C1284","v":0},{"$f":"'BX Language acquisition'!D1284","v":0}]
[{"$f":"'BX Language acquisition'!A1285","v":0},{"$f":"'BX Language acquisition'!B1285","v":0},null,{"$f":"'BX Language acquisition'!C1285","v":0},{"$f":"'BX Language acquisition'!D1285","v":0}]
[{"$f":"'BX Language acquisition'!A1286","v":0},{"$f":"'BX Language acquisition'!B1286","v":0},null,{"$f":"'BX Language acquisition'!C1286","v":0},{"$f":"'BX Language acquisition'!D1286","v":0}]
[{"$f":"'BX Language acquisition'!A1287","v":0},{"$f":"'BX Language acquisition'!B1287","v":0},null,{"$f":"'BX Language acquisition'!C1287","v":0},{"$f":"'BX Language acquisition'!D1287","v":0}]
[{"$f":"'BX Language acquisition'!A1288","v":0},{"$f":"'BX Language acquisition'!B1288","v":0},null,{"$f":"'BX Language acquisition'!C1288","v":0},{"$f":"'BX Language acquisition'!D1288","v":0}]
[{"$f":"'BX Language acquisition'!A1289","v":0},{"$f":"'BX Language acquisition'!B1289","v":0},null,{"$f":"'BX Language acquisition'!C1289","v":0},{"$f":"'BX Language acquisition'!D1289","v":0}]
[{"$f":"'BX Language acquisition'!A1290","v":0},{"$f":"'BX Language acquisition'!B1290","v":0},null,{"$f":"'BX Language acquisition'!C1290","v":0},{"$f":"'BX Language acquisition'!D1290","v":0}]
[{"$f":"'BX Language acquisition'!A1291","v":0},{"$f":"'BX Language acquisition'!B1291","v":0},null,{"$f":"'BX Language acquisition'!C1291","v":0},{"$f":"'BX Language acquisition'!D1291","v":0}]
[{"$f":"'BX Language acquisition'!A1292","v":0},{"$f":"'BX Language acquisition'!B1292","v":0},null,{"$f":"'BX Language acquisition'!C1292","v":0},{"$f":"'BX Language acquisition'!D1292","v":0}]
[{"$f":"'BX Language acquisition'!A1293","v":0},{"$f":"'BX Language acquisition'!B1293","v":0},null,{"$f":"'BX Language acquisition'!C1293","v":0},{"$f":"'BX Language acquisition'!D1293","v":0}]
[{"$f":"'BX Language acquisition'!A1294","v":0},{"$f":"'BX Language acquisition'!B1294","v":0},null,{"$f":"'BX Language acquisition'!C1294","v":0},{"$f":"'BX Language acquisition'!D1294","v":0}]
[{"$f":"'BX Language acquisition'!A1295","v":0},{"$f":"'BX Language acquisition'!B1295","v":0},null,{"$f":"'BX Language acquisition'!C1295","v":0},{"$f":"'BX Language acquisition'!D1295","v":0}]
[{"$f":"'BX Language acquisition'!A1296","v":0},{"$f":"'BX Language acquisition'!B1296","v":0},null,{"$f":"'BX Language acquisition'!C1296","v":0},{"$f":"'BX Language acquisition'!D1296","v":0}]
[{"$f":"'BX Language acquisition'!A1297","v":0},{"$f":"'BX Language acquisition'!B1297","v":0},null,{"$f":"'BX Language acquisition'!C1297","v":0},{"$f":"'BX Language acquisition'!D1297","v":0}]
[{"$f":"'BX Language acquisition'!A1298","v":0},{"$f":"'BX Language acquisition'!B1298","v":0},null,{"$f":"'BX Language acquisition'!C1298","v":0},{"$f":"'BX Language acquisition'!D1298","v":0}]
[{"$f":"'BX Language acquisition'!A1299","v":0},{"$f":"'BX Language acquisition'!B1299","v":0},null,{"$f":"'BX Language acquisition'!C1299","v":0},{"$f":"'BX Language acquisition'!D1299","v":0}]
[{"$f":"'BX Language acquisition'!A1300","v":0},{"$f":"'BX Language acquisition'!B1300","v":0},null,{"$f":"'BX Language acquisition'!C1300","v":0},{"$f":"'BX Language acquisition'!D1300","v":0}]
[{"$f":"'BX Language acquisition'!A1301","v":0},{"$f":"'BX Language acquisition'!B1301","v":0},null,{"$f":"'BX Language acquisition'!C1301","v":0},{"$f":"'BX Language acquisition'!D1301","v":0}]
[{"$f":"'BX Language acquisition'!A1302","v":0},{"$f":"'BX Language acquisition'!B1302","v":0},null,{"$f":"'BX Language acquisition'!C1302","v":0},{"$f":"'BX Language acquisition'!D1302","v":0}]
[{"$f":"'BX Language acquisition'!A1303","v":0},{"$f":"'BX Language acquisition'!B1303","v":0},null,{"$f":"'BX Language acquisition'!C1303","v":0},{"$f":"'BX Language acquisition'!D1303","v":0}]
[{"$f":"'BX Language acquisition'!A1304","v":0},{"$f":"'BX Language acquisition'!B1304","v":0},null,{"$f":"'BX Language acquisition'!C1304","v":0},{"$f":"'BX Language acquisition'!D1304","v":0}]
[{"$f":"'BX Language acquisition'!A1305","v":0},{"$f":"'BX Language acquisition'!B1305","v":0},null,{"$f":"'BX Language acquisition'!C1305","v":0},{"$f":"'BX Language acquisition'!D1305","v":0}]
[{"$f":"'BX Language acquisition'!A1306","v":0},{"$f":"'BX Language acquisition'!B1306","v":0},null,{"$f":"'BX Language acquisition'!C1306","v":0},{"$f":"'BX Language acquisition'!D1306","v":0}]
[{"$f":"'BX Language acquisition'!A1307","v":0},{"$f":"'BX Language acquisition'!B1307","v":0},null,{"$f":"'BX Language acquisition'!C1307","v":0},{"$f":"'BX Language acquisition'!D1307","v":0}]
[{"$f":"'BX Language acquisition'!A1308","v":0},{"$f":"'BX Language acquisition'!B1308","v":0},null,{"$f":"'BX Language acquisition'!C1308","v":0},{"$f":"'BX Language acquisition'!D1308","v":0}]
[{"$f":"'BX Language acquisition'!A1309","v":0},{"$f":"'BX Language acquisition'!B1309","v":0},null,{"$f":"'BX Language acquisition'!C1309","v":0},{"$f":"'BX Language acquisition'!D1309","v":0}]
[{"$f":"'BX Language acquisition'!A1310","v":0},{"$f":"'BX Language acquisition'!B1310","v":0},null,{"$f":"'BX Language acquisition'!C1310","v":0},{"$f":"'BX Language acquisition'!D1310","v":0}]
[{"$f":"'BX Language acquisition'!A1311","v":0},{"$f":"'BX Language acquisition'!B1311","v":0},null,{"$f":"'BX Language acquisition'!C1311","v":0},{"$f":"'BX Language acquisition'!D1311","v":0}]
[{"$f":"'BX Language acquisition'!A1312","v":0},{"$f":"'BX Language acquisition'!B1312","v":0},null,{"$f":"'BX Language acquisition'!C1312","v":0},{"$f":"'BX Language acquisition'!D1312","v":0}]
[{"$f":"'BX Language acquisition'!A1313","v":0},{"$f":"'BX Language acquisition'!B1313","v":0},null,{"$f":"'BX Language acquisition'!C1313","v":0},{"$f":"'BX Language acquisition'!D1313","v":0}]
[{"$f":"'BX Language acquisition'!A1314","v":0},{"$f":"'BX Language acquisition'!B1314","v":0},null,{"$f":"'BX Language acquisition'!C1314","v":0},{"$f":"'BX Language acquisition'!D1314","v":0}]
[{"$f":"'BX Language acquisition'!A1315","v":0},{"$f":"'BX Language acquisition'!B1315","v":0},null,{"$f":"'BX Language acquisition'!C1315","v":0},{"$f":"'BX Language acquisition'!D1315","v":0}]
[{"$f":"'BX Language acquisition'!A1316","v":0},{"$f":"'BX Language acquisition'!B1316","v":0},null,{"$f":"'BX Language acquisition'!C1316","v":0},{"$f":"'BX Language acquisition'!D1316","v":0}]
[{"$f":"'BX Language acquisition'!A1317","v":0},{"$f":"'BX Language acquisition'!B1317","v":0},null,{"$f":"'BX Language acquisition'!C1317","v":0},{"$f":"'BX Language acquisition'!D1317","v":0}]
[{"$f":"'BX Language acquisition'!A1318","v":0},{"$f":"'BX Language acquisition'!B1318","v":0},null,{"$f":"'BX Language acquisition'!C1318","v":0},{"$f":"'BX Language acquisition'!D1318","v":0}]
[{"$f":"'BX Language acquisition'!A1319","v":0},{"$f":"'BX Language acquisition'!B1319","v":0},null,{"$f":"'BX Language acquisition'!C1319","v":0},{"$f":"'BX Language acquisition'!D1319","v":0}]
[{"$f":"'BX Language acquisition'!A1320","v":0},{"$f":"'BX Language acquisition'!B1320","v":0},null,{"$f":"'BX Language acquisition'!C1320","v":0},{"$f":"'BX Language acquisition'!D1320","v":0}]
[{"$f":"'BX Language acquisition'!A1321","v":0},{"$f":"'BX Language acquisition'!B1321","v":0},null,{"$f":"'BX Language acquisition'!C1321","v":0},{"$f":"'BX Language acquisition'!D1321","v":0}]
[{"$f":"'BX Language acquisition'!A1322","v":0},{"$f":"'BX Language acquisition'!B1322","v":0},null,{"$f":"'BX Language acquisition'!C1322","v":0},{"$f":"'BX Language acquisition'!D1322","v":0}]
[{"$f":"'BX Language acquisition'!A1323","v":0},{"$f":"'BX Language acquisition'!B1323","v":0},null,{"$f":"'BX Language acquisition'!C1323","v":0},{"$f":"'BX Language acquisition'!D1323","v":0}]
[{"$f":"'BX Language acquisition'!A1324","v":0},{"$f":"'BX Language acquisition'!B1324","v":0},null,{"$f":"'BX Language acquisition'!C1324","v":0},{"$f":"'BX Language acquisition'!D1324","v":0}]
[{"$f":"'BX Language acquisition'!A1325","v":0},{"$f":"'BX Language acquisition'!B1325","v":0},null,{"$f":"'BX Language acquisition'!C1325","v":0},{"$f":"'BX Language acquisition'!D1325","v":0}]
[{"$f":"'BX Language acquisition'!A1326","v":0},{"$f":"'BX Language acquisition'!B1326","v":0},null,{"$f":"'BX Language acquisition'!C1326","v":0},{"$f":"'BX Language acquisition'!D1326","v":0}]
[{"$f":"'BX Language acquisition'!A1327","v":0},{"$f":"'BX Language acquisition'!B1327","v":0},null,{"$f":"'BX Language acquisition'!C1327","v":0},{"$f":"'BX Language acquisition'!D1327","v":0}]
[{"$f":"'BX Language acquisition'!A1328","v":0},{"$f":"'BX Language acquisition'!B1328","v":0},null,{"$f":"'BX Language acquisition'!C1328","v":0},{"$f":"'BX Language acquisition'!D1328","v":0}]
[{"$f":"'BX Language acquisition'!A1329","v":0},{"$f":"'BX Language acquisition'!B1329","v":0},null,{"$f":"'BX Language acquisition'!C1329","v":0},{"$f":"'BX Language acquisition'!D1329","v":0}]
[{"$f":"'BX Language acquisition'!A1330","v":0},{"$f":"'BX Language acquisition'!B1330","v":0},null,{"$f":"'BX Language acquisition'!C1330","v":0},{"$f":"'BX Language acquisition'!D1330","v":0}]
[{"$f":"'BX Language acquisition'!A1331","v":0},{"$f":"'BX Language acquisition'!B1331","v":0},null,{"$f":"'BX Language acquisition'!C1331","v":0},{"$f":"'BX Language acquisition'!D1331","v":0}]
[{"$f":"'BX Language acquisition'!A1332","v":0},{"$f":"'BX Language acquisition'!B1332","v":0},null,{"$f":"'BX Language acquisition'!C1332","v":0},{"$f":"'BX Language acquisition'!D1332","v":0}]
[{"$f":"'BX Language acquisition'!A1333","v":0},{"$f":"'BX Language acquisition'!B1333","v":0},null,{"$f":"'BX Language acquisition'!C1333","v":0},{"$f":"'BX Language acquisition'!D1333","v":0}]
[{"$f":"'BX Language acquisition'!A1334","v":0},{"$f":"'BX Language acquisition'!B1334","v":0},null,{"$f":"'BX Language acquisition'!C1334","v":0},{"$f":"'BX Language acquisition'!D1334","v":0}]
[{"$f":"'BX Language acquisition'!A1335","v":0},{"$f":"'BX Language acquisition'!B1335","v":0},null,{"$f":"'BX Language acquisition'!C1335","v":0},{"$f":"'BX Language acquisition'!D1335","v":0}]
[{"$f":"'BX Language acquisition'!A1336","v":0},{"$f":"'BX Language acquisition'!B1336","v":0},null,{"$f":"'BX Language acquisition'!C1336","v":0},{"$f":"'BX Language acquisition'!D1336","v":0}]
[{"$f":"'BX Language acquisition'!A1337","v":0},{"$f":"'BX Language acquisition'!B1337","v":0},null,{"$f":"'BX Language acquisition'!C1337","v":0},{"$f":"'BX Language acquisition'!D1337","v":0}]
[{"$f":"'BX Language acquisition'!A1338","v":0},{"$f":"'BX Language acquisition'!B1338","v":0},null,{"$f":"'BX Language acquisition'!C1338","v":0},{"$f":"'BX Language acquisition'!D1338","v":0}]
[{"$f":"'BX Language acquisition'!A1339","v":0},{"$f":"'BX Language acquisition'!B1339","v":0},null,{"$f":"'BX Language acquisition'!C1339","v":0},{"$f":"'BX Language acquisition'!D1339","v":0}]
[{"$f":"'BX Language acquisition'!A1340","v":0},{"$f":"'BX Language acquisition'!B1340","v":0},null,{"$f":"'BX Language acquisition'!C1340","v":0},{"$f":"'BX Language acquisition'!D1340","v":0}]
[{"$f":"'BX Language acquisition'!A1341","v":0},{"$f":"'BX Language acquisition'!B1341","v":0},null,{"$f":"'BX Language acquisition'!C1341","v":0},{"$f":"'BX Language acquisition'!D1341","v":0}]
[{"$f":"'BX Language acquisition'!A1342","v":0},{"$f":"'BX Language acquisition'!B1342","v":0},null,{"$f":"'BX Language acquisition'!C1342","v":0},{"$f":"'BX Language acquisition'!D1342","v":0}]
[{"$f":"'BX Language acquisition'!A1343","v":0},{"$f":"'BX Language acquisition'!B1343","v":0},null,{"$f":"'BX Language acquisition'!C1343","v":0},{"$f":"'BX Language acquisition'!D1343","v":0}]
[{"$f":"'BX Language acquisition'!A1344","v":0},{"$f":"'BX Language acquisition'!B1344","v":0},null,{"$f":"'BX Language acquisition'!C1344","v":0},{"$f":"'BX Language acquisition'!D1344","v":0}]
[{"$f":"'BX Language acquisition'!A1345","v":0},{"$f":"'BX Language acquisition'!B1345","v":0},null,{"$f":"'BX Language acquisition'!C1345","v":0},{"$f":"'BX Language acquisition'!D1345","v":0}]
[{"$f":"'BX Language acquisition'!A1346","v":0},{"$f":"'BX Language acquisition'!B1346","v":0},null,{"$f":"'BX Language acquisition'!C1346","v":0},{"$f":"'BX Language acquisition'!D1346","v":0}]
[{"$f":"'BX Language acquisition'!A1347","v":0},{"$f":"'BX Language acquisition'!B1347","v":0},null,{"$f":"'BX Language acquisition'!C1347","v":0},{"$f":"'BX Language acquisition'!D1347","v":0}]
[{"$f":"'BX Language acquisition'!A1348","v":0},{"$f":"'BX Language acquisition'!B1348","v":0},null,{"$f":"'BX Language acquisition'!C1348","v":0},{"$f":"'BX Language acquisition'!D1348","v":0}]
[{"$f":"'BX Language acquisition'!A1349","v":0},{"$f":"'BX Language acquisition'!B1349","v":0},null,{"$f":"'BX Language acquisition'!C1349","v":0},{"$f":"'BX Language acquisition'!D1349","v":0}]
[{"$f":"'BX Language acquisition'!A1350","v":0},{"$f":"'BX Language acquisition'!B1350","v":0},null,{"$f":"'BX Language acquisition'!C1350","v":0},{"$f":"'BX Language acquisition'!D1350","v":0}]
[{"$f":"'BX Language acquisition'!A1351","v":0},{"$f":"'BX Language acquisition'!B1351","v":0},null,{"$f":"'BX Language acquisition'!C1351","v":0},{"$f":"'BX Language acquisition'!D1351","v":0}]
[{"$f":"'BX Language acquisition'!A1352","v":0},{"$f":"'BX Language acquisition'!B1352","v":0},null,{"$f":"'BX Language acquisition'!C1352","v":0},{"$f":"'BX Language acquisition'!D1352","v":0}]
[{"$f":"'BX Language acquisition'!A1353","v":0},{"$f":"'BX Language acquisition'!B1353","v":0},null,{"$f":"'BX Language acquisition'!C1353","v":0},{"$f":"'BX Language acquisition'!D1353","v":0}]
[{"$f":"'BX Language acquisition'!A1354","v":0},{"$f":"'BX Language acquisition'!B1354","v":0},null,{"$f":"'BX Language acquisition'!C1354","v":0},{"$f":"'BX Language acquisition'!D1354","v":0}]
[{"$f":"'BX Language acquisition'!A1355","v":0},{"$f":"'BX Language acquisition'!B1355","v":0},null,{"$f":"'BX Language acquisition'!C1355","v":0},{"$f":"'BX Language acquisition'!D1355","v":0}]
[{"$f":"'BX Language acquisition'!A1356","v":0},{"$f":"'BX Language acquisition'!B1356","v":0},null,{"$f":"'BX Language acquisition'!C1356","v":0},{"$f":"'BX Language acquisition'!D1356","v":0}]
[{"$f":"'BX Language acquisition'!A1357","v":0},{"$f":"'BX Language acquisition'!B1357","v":0},null,{"$f":"'BX Language acquisition'!C1357","v":0},{"$f":"'BX Language acquisition'!D1357","v":0}]
[{"$f":"'BX Language acquisition'!A1358","v":0},{"$f":"'BX Language acquisition'!B1358","v":0},null,{"$f":"'BX Language acquisition'!C1358","v":0},{"$f":"'BX Language acquisition'!D1358","v":0}]
[{"$f":"'BX Language acquisition'!A1359","v":0},{"$f":"'BX Language acquisition'!B1359","v":0},null,{"$f":"'BX Language acquisition'!C1359","v":0},{"$f":"'BX Language acquisition'!D1359","v":0}]
[{"$f":"'BX Language acquisition'!A1360","v":0},{"$f":"'BX Language acquisition'!B1360","v":0},null,{"$f":"'BX Language acquisition'!C1360","v":0},{"$f":"'BX Language acquisition'!D1360","v":0}]
[{"$f":"'BX Language acquisition'!A1361","v":0},{"$f":"'BX Language acquisition'!B1361","v":0},null,{"$f":"'BX Language acquisition'!C1361","v":0},{"$f":"'BX Language acquisition'!D1361","v":0}]
[{"$f":"'BX Language acquisition'!A1362","v":0},{"$f":"'BX Language acquisition'!B1362","v":0},null,{"$f":"'BX Language acquisition'!C1362","v":0},{"$f":"'BX Language acquisition'!D1362","v":0}]
[{"$f":"'BX Language acquisition'!A1363","v":0},{"$f":"'BX Language acquisition'!B1363","v":0},null,{"$f":"'BX Language acquisition'!C1363","v":0},{"$f":"'BX Language acquisition'!D1363","v":0}]
[{"$f":"'BX Language acquisition'!A1364","v":0},{"$f":"'BX Language acquisition'!B1364","v":0},null,{"$f":"'BX Language acquisition'!C1364","v":0},{"$f":"'BX Language acquisition'!D1364","v":0}]
[{"$f":"'BX Language acquisition'!A1365","v":0},{"$f":"'BX Language acquisition'!B1365","v":0},null,{"$f":"'BX Language acquisition'!C1365","v":0},{"$f":"'BX Language acquisition'!D1365","v":0}]
[{"$f":"'BX Language acquisition'!A1366","v":0},{"$f":"'BX Language acquisition'!B1366","v":0},null,{"$f":"'BX Language acquisition'!C1366","v":0},{"$f":"'BX Language acquisition'!D1366","v":0}]
[{"$f":"'BX Language acquisition'!A1367","v":0},{"$f":"'BX Language acquisition'!B1367","v":0},null,{"$f":"'BX Language acquisition'!C1367","v":0},{"$f":"'BX Language acquisition'!D1367","v":0}]
[{"$f":"'BX Language acquisition'!A1368","v":0},{"$f":"'BX Language acquisition'!B1368","v":0},null,{"$f":"'BX Language acquisition'!C1368","v":0},{"$f":"'BX Language acquisition'!D1368","v":0}]
[{"$f":"'BX Language acquisition'!A1369","v":0},{"$f":"'BX Language acquisition'!B1369","v":0},null,{"$f":"'BX Language acquisition'!C1369","v":0},{"$f":"'BX Language acquisition'!D1369","v":0}]
[{"$f":"'BX Language acquisition'!A1370","v":0},{"$f":"'BX Language acquisition'!B1370","v":0},null,{"$f":"'BX Language acquisition'!C1370","v":0},{"$f":"'BX Language acquisition'!D1370","v":0}]
[{"$f":"'BX Language acquisition'!A1371","v":0},{"$f":"'BX Language acquisition'!B1371","v":0},null,{"$f":"'BX Language acquisition'!C1371","v":0},{"$f":"'BX Language acquisition'!D1371","v":0}]
[{"$f":"'BX Language acquisition'!A1372","v":0},{"$f":"'BX Language acquisition'!B1372","v":0},null,{"$f":"'BX Language acquisition'!C1372","v":0},{"$f":"'BX Language acquisition'!D1372","v":0}]
[{"$f":"'BX Language acquisition'!A1373","v":0},{"$f":"'BX Language acquisition'!B1373","v":0},null,{"$f":"'BX Language acquisition'!C1373","v":0},{"$f":"'BX Language acquisition'!D1373","v":0}]
[{"$f":"'BX Language acquisition'!A1374","v":0},{"$f":"'BX Language acquisition'!B1374","v":0},null,{"$f":"'BX Language acquisition'!C1374","v":0},{"$f":"'BX Language acquisition'!D1374","v":0}]
[{"$f":"'BX Language acquisition'!A1375","v":0},{"$f":"'BX Language acquisition'!B1375","v":0},null,{"$f":"'BX Language acquisition'!C1375","v":0},{"$f":"'BX Language acquisition'!D1375","v":0}]
[{"$f":"'BX Language acquisition'!A1376","v":0},{"$f":"'BX Language acquisition'!B1376","v":0},null,{"$f":"'BX Language acquisition'!C1376","v":0},{"$f":"'BX Language acquisition'!D1376","v":0}]
[{"$f":"'BX Language acquisition'!A1377","v":0},{"$f":"'BX Language acquisition'!B1377","v":0},null,{"$f":"'BX Language acquisition'!C1377","v":0},{"$f":"'BX Language acquisition'!D1377","v":0}]
[{"$f":"'BX Language acquisition'!A1378","v":0},{"$f":"'BX Language acquisition'!B1378","v":0},null,{"$f":"'BX Language acquisition'!C1378","v":0},{"$f":"'BX Language acquisition'!D1378","v":0}]
[{"$f":"'BX Language acquisition'!A1379","v":0},{"$f":"'BX Language acquisition'!B1379","v":0},null,{"$f":"'BX Language acquisition'!C1379","v":0},{"$f":"'BX Language acquisition'!D1379","v":0}]
[{"$f":"'BX Language acquisition'!A1380","v":0},{"$f":"'BX Language acquisition'!B1380","v":0},null,{"$f":"'BX Language acquisition'!C1380","v":0},{"$f":"'BX Language acquisition'!D1380","v":0}]
[{"$f":"'BX Language acquisition'!A1381","v":0},{"$f":"'BX Language acquisition'!B1381","v":0},null,{"$f":"'BX Language acquisition'!C1381","v":0},{"$f":"'BX Language acquisition'!D1381","v":0}]
[{"$f":"'BX Language acquisition'!A1382","v":0},{"$f":"'BX Language acquisition'!B1382","v":0},null,{"$f":"'BX Language acquisition'!C1382","v":0},{"$f":"'BX Language acquisition'!D1382","v":0}]
[{"$f":"'BX Language acquisition'!A1383","v":0},{"$f":"'BX Language acquisition'!B1383","v":0},null,{"$f":"'BX Language acquisition'!C1383","v":0},{"$f":"'BX Language acquisition'!D1383","v":0}]
[{"$f":"'BX Language acquisition'!A1384","v":0},{"$f":"'BX Language acquisition'!B1384","v":0},null,{"$f":"'BX Language acquisition'!C1384","v":0},{"$f":"'BX Language acquisition'!D1384","v":0}]
[{"$f":"'BX Language acquisition'!A1385","v":0},{"$f":"'BX Language acquisition'!B1385","v":0},null,{"$f":"'BX Language acquisition'!C1385","v":0},{"$f":"'BX Language acquisition'!D1385","v":0}]
[{"$f":"'BX Language acquisition'!A1386","v":0},{"$f":"'BX Language acquisition'!B1386","v":0},null,{"$f":"'BX Language acquisition'!C1386","v":0},{"$f":"'BX Language acquisition'!D1386","v":0}]
[{"$f":"'BX Language acquisition'!A1387","v":0},{"$f":"'BX Language acquisition'!B1387","v":0},null,{"$f":"'BX Language acquisition'!C1387","v":0},{"$f":"'BX Language acquisition'!D1387","v":0}]
[{"$f":"'BX Language acquisition'!A1388","v":0},{"$f":"'BX Language acquisition'!B1388","v":0},null,{"$f":"'BX Language acquisition'!C1388","v":0},{"$f":"'BX Language acquisition'!D1388","v":0}]
[{"$f":"'BX Language acquisition'!A1389","v":0},{"$f":"'BX Language acquisition'!B1389","v":0},null,{"$f":"'BX Language acquisition'!C1389","v":0},{"$f":"'BX Language acquisition'!D1389","v":0}]
[{"$f":"'BX Language acquisition'!A1390","v":0},{"$f":"'BX Language acquisition'!B1390","v":0},null,{"$f":"'BX Language acquisition'!C1390","v":0},{"$f":"'BX Language acquisition'!D1390","v":0}]
[{"$f":"'BX Language acquisition'!A1391","v":0},{"$f":"'BX Language acquisition'!B1391","v":0},null,{"$f":"'BX Language acquisition'!C1391","v":0},{"$f":"'BX Language acquisition'!D1391","v":0}]
[{"$f":"'BX Language acquisition'!A1392","v":0},{"$f":"'BX Language acquisition'!B1392","v":0},null,{"$f":"'BX Language acquisition'!C1392","v":0},{"$f":"'BX Language acquisition'!D1392","v":0}]
[{"$f":"'BX Language acquisition'!A1393","v":0},{"$f":"'BX Language acquisition'!B1393","v":0},null,{"$f":"'BX Language acquisition'!C1393","v":0},{"$f":"'BX Language acquisition'!D1393","v":0}]
[{"$f":"'BX Language acquisition'!A1394","v":0},{"$f":"'BX Language acquisition'!B1394","v":0},null,{"$f":"'BX Language acquisition'!C1394","v":0},{"$f":"'BX Language acquisition'!D1394","v":0}]
[{"$f":"'BX Language acquisition'!A1395","v":0},{"$f":"'BX Language acquisition'!B1395","v":0},null,{"$f":"'BX Language acquisition'!C1395","v":0},{"$f":"'BX Language acquisition'!D1395","v":0}]
[{"$f":"'BX Language acquisition'!A1396","v":0},{"$f":"'BX Language acquisition'!B1396","v":0},null,{"$f":"'BX Language acquisition'!C1396","v":0},{"$f":"'BX Language acquisition'!D1396","v":0}]
[{"$f":"'BX Language acquisition'!A1397","v":0},{"$f":"'BX Language acquisition'!B1397","v":0},null,{"$f":"'BX Language acquisition'!C1397","v":0},{"$f":"'BX Language acquisition'!D1397","v":0}]
[{"$f":"'BX Language acquisition'!A1398","v":0},{"$f":"'BX Language acquisition'!B1398","v":0},null,{"$f":"'BX Language acquisition'!C1398","v":0},{"$f":"'BX Language acquisition'!D1398","v":0}]
[{"$f":"'BX Language acquisition'!A1399","v":0},{"$f":"'BX Language acquisition'!B1399","v":0},null,{"$f":"'BX Language acquisition'!C1399","v":0},{"$f":"'BX Language acquisition'!D1399","v":0}]
[{"$f":"'BX Language acquisition'!A1400","v":0},{"$f":"'BX Language acquisition'!B1400","v":0},null,{"$f":"'BX Language acquisition'!C1400","v":0},{"$f":"'BX Language acquisition'!D1400","v":0}]
[{"$f":"'BX Language acquisition'!A1401","v":0},{"$f":"'BX Language acquisition'!B1401","v":0},null,{"$f":"'BX Language acquisition'!C1401","v":0},{"$f":"'BX Language acquisition'!D1401","v":0}]
[{"$f":"'BX Language acquisition'!A1402","v":0},{"$f":"'BX Language acquisition'!B1402","v":0},null,{"$f":"'BX Language acquisition'!C1402","v":0},{"$f":"'BX Language acquisition'!D1402","v":0}]
[{"$f":"'BX Language acquisition'!A1403","v":0},{"$f":"'BX Language acquisition'!B1403","v":0},null,{"$f":"'BX Language acquisition'!C1403","v":0},{"$f":"'BX Language acquisition'!D1403","v":0}]
[{"$f":"'BX Language acquisition'!A1404","v":0},{"$f":"'BX Language acquisition'!B1404","v":0},null,{"$f":"'BX Language acquisition'!C1404","v":0},{"$f":"'BX Language acquisition'!D1404","v":0}]
[{"$f":"'BX Language acquisition'!A1405","v":0},{"$f":"'BX Language acquisition'!B1405","v":0},null,{"$f":"'BX Language acquisition'!C1405","v":0},{"$f":"'BX Language acquisition'!D1405","v":0}]
[{"$f":"'BX Language acquisition'!A1406","v":0},{"$f":"'BX Language acquisition'!B1406","v":0},null,{"$f":"'BX Language acquisition'!C1406","v":0},{"$f":"'BX Language acquisition'!D1406","v":0}]
[{"$f":"'BX Language acquisition'!A1407","v":0},{"$f":"'BX Language acquisition'!B1407","v":0},null,{"$f":"'BX Language acquisition'!C1407","v":0},{"$f":"'BX Language acquisition'!D1407","v":0}]
[{"$f":"'BX Language acquisition'!A1408","v":0},{"$f":"'BX Language acquisition'!B1408","v":0},null,{"$f":"'BX Language acquisition'!C1408","v":0},{"$f":"'BX Language acquisition'!D1408","v":0}]
[{"$f":"'BX Language acquisition'!A1409","v":0},{"$f":"'BX Language acquisition'!B1409","v":0},null,{"$f":"'BX Language acquisition'!C1409","v":0},{"$f":"'BX Language acquisition'!D1409","v":0}]
[{"$f":"'BX Language acquisition'!A1410","v":0},{"$f":"'BX Language acquisition'!B1410","v":0},null,{"$f":"'BX Language acquisition'!C1410","v":0},{"$f":"'BX Language acquisition'!D1410","v":0}]
[{"$f":"'BX Language acquisition'!A1411","v":0},{"$f":"'BX Language acquisition'!B1411","v":0},null,{"$f":"'BX Language acquisition'!C1411","v":0},{"$f":"'BX Language acquisition'!D1411","v":0}]
[{"$f":"'BX Language acquisition'!A1412","v":0},{"$f":"'BX Language acquisition'!B1412","v":0},null,{"$f":"'BX Language acquisition'!C1412","v":0},{"$f":"'BX Language acquisition'!D1412","v":0}]
[{"$f":"'BX Language acquisition'!A1413","v":0},{"$f":"'BX Language acquisition'!B1413","v":0},null,{"$f":"'BX Language acquisition'!C1413","v":0},{"$f":"'BX Language acquisition'!D1413","v":0}]
[{"$f":"'BX Language acquisition'!A1414","v":0},{"$f":"'BX Language acquisition'!B1414","v":0},null,{"$f":"'BX Language acquisition'!C1414","v":0},{"$f":"'BX Language acquisition'!D1414","v":0}]
[{"$f":"'BX Language acquisition'!A1415","v":0},{"$f":"'BX Language acquisition'!B1415","v":0},null,{"$f":"'BX Language acquisition'!C1415","v":0},{"$f":"'BX Language acquisition'!D1415","v":0}]
[{"$f":"'BX Language acquisition'!A1416","v":0},{"$f":"'BX Language acquisition'!B1416","v":0},null,{"$f":"'BX Language acquisition'!C1416","v":0},{"$f":"'BX Language acquisition'!D1416","v":0}]
[{"$f":"'BX Language acquisition'!A1417","v":0},{"$f":"'BX Language acquisition'!B1417","v":0},null,{"$f":"'BX Language acquisition'!C1417","v":0},{"$f":"'BX Language acquisition'!D1417","v":0}]
[{"$f":"'BX Language acquisition'!A1418","v":0},{"$f":"'BX Language acquisition'!B1418","v":0},null,{"$f":"'BX Language acquisition'!C1418","v":0},{"$f":"'BX Language acquisition'!D1418","v":0}]
[{"$f":"'BX Language acquisition'!A1419","v":0},{"$f":"'BX Language acquisition'!B1419","v":0},null,{"$f":"'BX Language acquisition'!C1419","v":0},{"$f":"'BX Language acquisition'!D1419","v":0}]
[{"$f":"'BX Language acquisition'!A1420","v":0},{"$f":"'BX Language acquisition'!B1420","v":0},null,{"$f":"'BX Language acquisition'!C1420","v":0},{"$f":"'BX Language acquisition'!D1420","v":0}]
[{"$f":"'BX Language acquisition'!A1421","v":0},{"$f":"'BX Language acquisition'!B1421","v":0},null,{"$f":"'BX Language acquisition'!C1421","v":0},{"$f":"'BX Language acquisition'!D1421","v":0}]
[{"$f":"'BX Language acquisition'!A1422","v":0},{"$f":"'BX Language acquisition'!B1422","v":0},null,{"$f":"'BX Language acquisition'!C1422","v":0},{"$f":"'BX Language acquisition'!D1422","v":0}]
[{"$f":"'BX Language acquisition'!A1423","v":0},{"$f":"'BX Language acquisition'!B1423","v":0},null,{"$f":"'BX Language acquisition'!C1423","v":0},{"$f":"'BX Language acquisition'!D1423","v":0}]
[{"$f":"'BX Language acquisition'!A1424","v":0},{"$f":"'BX Language acquisition'!B1424","v":0},null,{"$f":"'BX Language acquisition'!C1424","v":0},{"$f":"'BX Language acquisition'!D1424","v":0}]
[{"$f":"'BX Language acquisition'!A1425","v":0},{"$f":"'BX Language acquisition'!B1425","v":0},null,{"$f":"'BX Language acquisition'!C1425","v":0},{"$f":"'BX Language acquisition'!D1425","v":0}]
[{"$f":"'BX Language acquisition'!A1426","v":0},{"$f":"'BX Language acquisition'!B1426","v":0},null,{"$f":"'BX Language acquisition'!C1426","v":0},{"$f":"'BX Language acquisition'!D1426","v":0}]
[{"$f":"'BX Language acquisition'!A1427","v":0},{"$f":"'BX Language acquisition'!B1427","v":0},null,{"$f":"'BX Language acquisition'!C1427","v":0},{"$f":"'BX Language acquisition'!D1427","v":0}]
[{"$f":"'BX Language acquisition'!A1428","v":0},{"$f":"'BX Language acquisition'!B1428","v":0},null,{"$f":"'BX Language acquisition'!C1428","v":0},{"$f":"'BX Language acquisition'!D1428","v":0}]
[{"$f":"'BX Language acquisition'!A1429","v":0},{"$f":"'BX Language acquisition'!B1429","v":0},null,{"$f":"'BX Language acquisition'!C1429","v":0},{"$f":"'BX Language acquisition'!D1429","v":0}]
[{"$f":"'BX Language acquisition'!A1430","v":0},{"$f":"'BX Language acquisition'!B1430","v":0},null,{"$f":"'BX Language acquisition'!C1430","v":0},{"$f":"'BX Language acquisition'!D1430","v":0}]
[{"$f":"'BX Language acquisition'!A1431","v":0},{"$f":"'BX Language acquisition'!B1431","v":0},null,{"$f":"'BX Language acquisition'!C1431","v":0},{"$f":"'BX Language acquisition'!D1431","v":0}]
[{"$f":"'BX Language acquisition'!A1432","v":0},{"$f":"'BX Language acquisition'!B1432","v":0},null,{"$f":"'BX Language acquisition'!C1432","v":0},{"$f":"'BX Language acquisition'!D1432","v":0}]
[{"$f":"'BX Language acquisition'!A1433","v":0},{"$f":"'BX Language acquisition'!B1433","v":0},null,{"$f":"'BX Language acquisition'!C1433","v":0},{"$f":"'BX Language acquisition'!D1433","v":0}]
[{"$f":"'BX Language acquisition'!A1434","v":0},{"$f":"'BX Language acquisition'!B1434","v":0},null,{"$f":"'BX Language acquisition'!C1434","v":0},{"$f":"'BX Language acquisition'!D1434","v":0}]
[{"$f":"'BX Language acquisition'!A1435","v":0},{"$f":"'BX Language acquisition'!B1435","v":0},null,{"$f":"'BX Language acquisition'!C1435","v":0},{"$f":"'BX Language acquisition'!D1435","v":0}]
[{"$f":"'BX Language acquisition'!A1436","v":0},{"$f":"'BX Language acquisition'!B1436","v":0},null,{"$f":"'BX Language acquisition'!C1436","v":0},{"$f":"'BX Language acquisition'!D1436","v":0}]
[{"$f":"'BX Language acquisition'!A1437","v":0},{"$f":"'BX Language acquisition'!B1437","v":0},null,{"$f":"'BX Language acquisition'!C1437","v":0},{"$f":"'BX Language acquisition'!D1437","v":0}]
[{"$f":"'BX Language acquisition'!A1438","v":0},{"$f":"'BX Language acquisition'!B1438","v":0},null,{"$f":"'BX Language acquisition'!C1438","v":0},{"$f":"'BX Language acquisition'!D1438","v":0}]
[{"$f":"'BX Language acquisition'!A1439","v":0},{"$f":"'BX Language acquisition'!B1439","v":0},null,{"$f":"'BX Language acquisition'!C1439","v":0},{"$f":"'BX Language acquisition'!D1439","v":0}]
[{"$f":"'BX Language acquisition'!A1440","v":0},{"$f":"'BX Language acquisition'!B1440","v":0},null,{"$f":"'BX Language acquisition'!C1440","v":0},{"$f":"'BX Language acquisition'!D1440","v":0}]
[{"$f":"'BX Language acquisition'!A1441","v":0},{"$f":"'BX Language acquisition'!B1441","v":0},null,{"$f":"'BX Language acquisition'!C1441","v":0},{"$f":"'BX Language acquisition'!D1441","v":0}]
[{"$f":"'BX Language acquisition'!A1442","v":0},{"$f":"'BX Language acquisition'!B1442","v":0},null,{"$f":"'BX Language acquisition'!C1442","v":0},{"$f":"'BX Language acquisition'!D1442","v":0}]
[{"$f":"'BX Language acquisition'!A1443","v":0},{"$f":"'BX Language acquisition'!B1443","v":0},null,{"$f":"'BX Language acquisition'!C1443","v":0},{"$f":"'BX Language acquisition'!D1443","v":0}]
[{"$f":"'BX Language acquisition'!A1444","v":0},{"$f":"'BX Language acquisition'!B1444","v":0},null,{"$f":"'BX Language acquisition'!C1444","v":0},{"$f":"'BX Language acquisition'!D1444","v":0}]
[{"$f":"'BX Language acquisition'!A1445","v":0},{"$f":"'BX Language acquisition'!B1445","v":0},null,{"$f":"'BX Language acquisition'!C1445","v":0},{"$f":"'BX Language acquisition'!D1445","v":0}]
[{"$f":"'BX Language acquisition'!A1446","v":0},{"$f":"'BX Language acquisition'!B1446","v":0},null,{"$f":"'BX Language acquisition'!C1446","v":0},{"$f":"'BX Language acquisition'!D1446","v":0}]
[{"$f":"'BX Language acquisition'!A1447","v":0},{"$f":"'BX Language acquisition'!B1447","v":0},null,{"$f":"'BX Language acquisition'!C1447","v":0},{"$f":"'BX Language acquisition'!D1447","v":0}]
[{"$f":"'BX Language acquisition'!A1448","v":0},{"$f":"'BX Language acquisition'!B1448","v":0},null,{"$f":"'BX Language acquisition'!C1448","v":0},{"$f":"'BX Language acquisition'!D1448","v":0}]
[{"$f":"'BX Language acquisition'!A1449","v":0},{"$f":"'BX Language acquisition'!B1449","v":0},null,{"$f":"'BX Language acquisition'!C1449","v":0},{"$f":"'BX Language acquisition'!D1449","v":0}]
[{"$f":"'BX Language acquisition'!A1450","v":0},{"$f":"'BX Language acquisition'!B1450","v":0},null,{"$f":"'BX Language acquisition'!C1450","v":0},{"$f":"'BX Language acquisition'!D1450","v":0}]
[{"$f":"'BX Language acquisition'!A1451","v":0},{"$f":"'BX Language acquisition'!B1451","v":0},null,{"$f":"'BX Language acquisition'!C1451","v":0},{"$f":"'BX Language acquisition'!D1451","v":0}]
[{"$f":"'BX Language acquisition'!A1452","v":0},{"$f":"'BX Language acquisition'!B1452","v":0},null,{"$f":"'BX Language acquisition'!C1452","v":0},{"$f":"'BX Language acquisition'!D1452","v":0}]
[{"$f":"'BX Language acquisition'!A1453","v":0},{"$f":"'BX Language acquisition'!B1453","v":0},null,{"$f":"'BX Language acquisition'!C1453","v":0},{"$f":"'BX Language acquisition'!D1453","v":0}]
[{"$f":"'BX Language acquisition'!A1454","v":0},{"$f":"'BX Language acquisition'!B1454","v":0},null,{"$f":"'BX Language acquisition'!C1454","v":0},{"$f":"'BX Language acquisition'!D1454","v":0}]
[{"$f":"'BX Language acquisition'!A1455","v":0},{"$f":"'BX Language acquisition'!B1455","v":0},null,{"$f":"'BX Language acquisition'!C1455","v":0},{"$f":"'BX Language acquisition'!D1455","v":0}]
[{"$f":"'BX Language acquisition'!A1456","v":0},{"$f":"'BX Language acquisition'!B1456","v":0},null,{"$f":"'BX Language acquisition'!C1456","v":0},{"$f":"'BX Language acquisition'!D1456","v":0}]
[{"$f":"'BX Language acquisition'!A1457","v":0},{"$f":"'BX Language acquisition'!B1457","v":0},null,{"$f":"'BX Language acquisition'!C1457","v":0},{"$f":"'BX Language acquisition'!D1457","v":0}]
[{"$f":"'BX Language acquisition'!A1458","v":0},{"$f":"'BX Language acquisition'!B1458","v":0},null,{"$f":"'BX Language acquisition'!C1458","v":0},{"$f":"'BX Language acquisition'!D1458","v":0}]
[{"$f":"'BX Language acquisition'!A1459","v":0},{"$f":"'BX Language acquisition'!B1459","v":0},null,{"$f":"'BX Language acquisition'!C1459","v":0},{"$f":"'BX Language acquisition'!D1459","v":0}]
[{"$f":"'BX Language acquisition'!A1460","v":0},{"$f":"'BX Language acquisition'!B1460","v":0},null,{"$f":"'BX Language acquisition'!C1460","v":0},{"$f":"'BX Language acquisition'!D1460","v":0}]
[{"$f":"'BX Language acquisition'!A1461","v":0},{"$f":"'BX Language acquisition'!B1461","v":0},null,{"$f":"'BX Language acquisition'!C1461","v":0},{"$f":"'BX Language acquisition'!D1461","v":0}]
[{"$f":"'BX Language acquisition'!A1462","v":0},{"$f":"'BX Language acquisition'!B1462","v":0},null,{"$f":"'BX Language acquisition'!C1462","v":0},{"$f":"'BX Language acquisition'!D1462","v":0}]
[{"$f":"'BX Language acquisition'!A1463","v":0},{"$f":"'BX Language acquisition'!B1463","v":0},null,{"$f":"'BX Language acquisition'!C1463","v":0},{"$f":"'BX Language acquisition'!D1463","v":0}]
[{"$f":"'BX Language acquisition'!A1464","v":0},{"$f":"'BX Language acquisition'!B1464","v":0},null,{"$f":"'BX Language acquisition'!C1464","v":0},{"$f":"'BX Language acquisition'!D1464","v":0}]
[{"$f":"'BX Language acquisition'!A1465","v":0},{"$f":"'BX Language acquisition'!B1465","v":0},null,{"$f":"'BX Language acquisition'!C1465","v":0},{"$f":"'BX Language acquisition'!D1465","v":0}]
[{"$f":"'BX Language acquisition'!A1466","v":0},{"$f":"'BX Language acquisition'!B1466","v":0},null,{"$f":"'BX Language acquisition'!C1466","v":0},{"$f":"'BX Language acquisition'!D1466","v":0}]
[{"$f":"'BX Language acquisition'!A1467","v":0},{"$f":"'BX Language acquisition'!B1467","v":0},null,{"$f":"'BX Language acquisition'!C1467","v":0},{"$f":"'BX Language acquisition'!D1467","v":0}]
[{"$f":"'BX Language acquisition'!A1468","v":0},{"$f":"'BX Language acquisition'!B1468","v":0},null,{"$f":"'BX Language acquisition'!C1468","v":0},{"$f":"'BX Language acquisition'!D1468","v":0}]
[{"$f":"'BX Language acquisition'!A1469","v":0},{"$f":"'BX Language acquisition'!B1469","v":0},null,{"$f":"'BX Language acquisition'!C1469","v":0},{"$f":"'BX Language acquisition'!D1469","v":0}]
[{"$f":"'BX Language acquisition'!A1470","v":0},{"$f":"'BX Language acquisition'!B1470","v":0},null,{"$f":"'BX Language acquisition'!C1470","v":0},{"$f":"'BX Language acquisition'!D1470","v":0}]
[{"$f":"'BX Language acquisition'!A1471","v":0},{"$f":"'BX Language acquisition'!B1471","v":0},null,{"$f":"'BX Language acquisition'!C1471","v":0},{"$f":"'BX Language acquisition'!D1471","v":0}]
[{"$f":"'BX Language acquisition'!A1472","v":0},{"$f":"'BX Language acquisition'!B1472","v":0},null,{"$f":"'BX Language acquisition'!C1472","v":0},{"$f":"'BX Language acquisition'!D1472","v":0}]
[{"$f":"'BX Language acquisition'!A1473","v":0},{"$f":"'BX Language acquisition'!B1473","v":0},null,{"$f":"'BX Language acquisition'!C1473","v":0},{"$f":"'BX Language acquisition'!D1473","v":0}]
[{"$f":"'BX Language acquisition'!A1474","v":0},{"$f":"'BX Language acquisition'!B1474","v":0},null,{"$f":"'BX Language acquisition'!C1474","v":0},{"$f":"'BX Language acquisition'!D1474","v":0}]
[{"$f":"'BX Language acquisition'!A1475","v":0},{"$f":"'BX Language acquisition'!B1475","v":0},null,{"$f":"'BX Language acquisition'!C1475","v":0},{"$f":"'BX Language acquisition'!D1475","v":0}]
[{"$f":"'BX Language acquisition'!A1476","v":0},{"$f":"'BX Language acquisition'!B1476","v":0},null,{"$f":"'BX Language acquisition'!C1476","v":0},{"$f":"'BX Language acquisition'!D1476","v":0}]
[{"$f":"'BX Language acquisition'!A1477","v":0},{"$f":"'BX Language acquisition'!B1477","v":0},null,{"$f":"'BX Language acquisition'!C1477","v":0},{"$f":"'BX Language acquisition'!D1477","v":0}]
[{"$f":"'BX Language acquisition'!A1478","v":0},{"$f":"'BX Language acquisition'!B1478","v":0},null,{"$f":"'BX Language acquisition'!C1478","v":0},{"$f":"'BX Language acquisition'!D1478","v":0}]
[{"$f":"'BX Language acquisition'!A1479","v":0},{"$f":"'BX Language acquisition'!B1479","v":0},null,{"$f":"'BX Language acquisition'!C1479","v":0},{"$f":"'BX Language acquisition'!D1479","v":0}]
[{"$f":"'BX Language acquisition'!A1480","v":0},{"$f":"'BX Language acquisition'!B1480","v":0},null,{"$f":"'BX Language acquisition'!C1480","v":0},{"$f":"'BX Language acquisition'!D1480","v":0}]
[{"$f":"'BX Language acquisition'!A1481","v":0},{"$f":"'BX Language acquisition'!B1481","v":0},null,{"$f":"'BX Language acquisition'!C1481","v":0},{"$f":"'BX Language acquisition'!D1481","v":0}]
[{"$f":"'BX Language acquisition'!A1482","v":0},{"$f":"'BX Language acquisition'!B1482","v":0},null,{"$f":"'BX Language acquisition'!C1482","v":0},{"$f":"'BX Language acquisition'!D1482","v":0}]
[{"$f":"'BX Language acquisition'!A1483","v":0},{"$f":"'BX Language acquisition'!B1483","v":0},null,{"$f":"'BX Language acquisition'!C1483","v":0},{"$f":"'BX Language acquisition'!D1483","v":0}]
[{"$f":"'BX Language acquisition'!A1484","v":0},{"$f":"'BX Language acquisition'!B1484","v":0},null,{"$f":"'BX Language acquisition'!C1484","v":0},{"$f":"'BX Language acquisition'!D1484","v":0}]
[{"$f":"'BX Language acquisition'!A1485","v":0},{"$f":"'BX Language acquisition'!B1485","v":0},null,{"$f":"'BX Language acquisition'!C1485","v":0},{"$f":"'BX Language acquisition'!D1485","v":0}]
[{"$f":"'BX Language acquisition'!A1486","v":0},{"$f":"'BX Language acquisition'!B1486","v":0},null,{"$f":"'BX Language acquisition'!C1486","v":0},{"$f":"'BX Language acquisition'!D1486","v":0}]
[{"$f":"'BX Language acquisition'!A1487","v":0},{"$f":"'BX Language acquisition'!B1487","v":0},null,{"$f":"'BX Language acquisition'!C1487","v":0},{"$f":"'BX Language acquisition'!D1487","v":0}]
[{"$f":"'BX Language acquisition'!A1488","v":0},{"$f":"'BX Language acquisition'!B1488","v":0},null,{"$f":"'BX Language acquisition'!C1488","v":0},{"$f":"'BX Language acquisition'!D1488","v":0}]
[{"$f":"'BX Language acquisition'!A1489","v":0},{"$f":"'BX Language acquisition'!B1489","v":0},null,{"$f":"'BX Language acquisition'!C1489","v":0},{"$f":"'BX Language acquisition'!D1489","v":0}]
[{"$f":"'BX Language acquisition'!A1490","v":0},{"$f":"'BX Language acquisition'!B1490","v":0},null,{"$f":"'BX Language acquisition'!C1490","v":0},{"$f":"'BX Language acquisition'!D1490","v":0}]
[{"$f":"'BX Language acquisition'!A1491","v":0},{"$f":"'BX Language acquisition'!B1491","v":0},null,{"$f":"'BX Language acquisition'!C1491","v":0},{"$f":"'BX Language acquisition'!D1491","v":0}]
[{"$f":"'BX Language acquisition'!A1492","v":0},{"$f":"'BX Language acquisition'!B1492","v":0},null,{"$f":"'BX Language acquisition'!C1492","v":0},{"$f":"'BX Language acquisition'!D1492","v":0}]
[{"$f":"'BX Language acquisition'!A1493","v":0},{"$f":"'BX Language acquisition'!B1493","v":0},null,{"$f":"'BX Language acquisition'!C1493","v":0},{"$f":"'BX Language acquisition'!D1493","v":0}]
[{"$f":"'BX Language acquisition'!A1494","v":0},{"$f":"'BX Language acquisition'!B1494","v":0},null,{"$f":"'BX Language acquisition'!C1494","v":0},{"$f":"'BX Language acquisition'!D1494","v":0}]
[{"$f":"'BX Language acquisition'!A1495","v":0},{"$f":"'BX Language acquisition'!B1495","v":0},null,{"$f":"'BX Language acquisition'!C1495","v":0},{"$f":"'BX Language acquisition'!D1495","v":0}]
[{"$f":"'BX Language acquisition'!A1496","v":0},{"$f":"'BX Language acquisition'!B1496","v":0},null,{"$f":"'BX Language acquisition'!C1496","v":0},{"$f":"'BX Language acquisition'!D1496","v":0}]
[{"$f":"'BX Language acquisition'!A1497","v":0},{"$f":"'BX Language acquisition'!B1497","v":0},null,{"$f":"'BX Language acquisition'!C1497","v":0},{"$f":"'BX Language acquisition'!D1497","v":0}]
[{"$f":"'BX Language acquisition'!A1498","v":0},{"$f":"'BX Language acquisition'!B1498","v":0},null,{"$f":"'BX Language acquisition'!C1498","v":0},{"$f":"'BX Language acquisition'!D1498","v":0}]
[{"$f":"'BX Language acquisition'!A1499","v":0},{"$f":"'BX Language acquisition'!B1499","v":0},null,{"$f":"'BX Language acquisition'!C1499","v":0},{"$f":"'BX Language acquisition'!D1499","v":0}]
[{"$f":"'BX Language acquisition'!A1500","v":0},{"$f":"'BX Language acquisition'!B1500","v":0},null,{"$f":"'BX Language acquisition'!C1500","v":0},{"$f":"'BX Language acquisition'!D1500","v":0}]
[{"$f":"'BX Language acquisition'!A1501","v":0},{"$f":"'BX Language acquisition'!B1501","v":0},null,{"$f":"'BX Language acquisition'!C1501","v":0},{"$f":"'BX Language acquisition'!D1501","v":0}]
[{"$f":"'BX Language acquisition'!A1502","v":0},{"$f":"'BX Language acquisition'!B1502","v":0},null,{"$f":"'BX Language acquisition'!C1502","v":0},{"$f":"'BX Language acquisition'!D1502","v":0}]
[{"$f":"'BX Language acquisition'!A1503","v":0},{"$f":"'BX Language acquisition'!B1503","v":0},null,{"$f":"'BX Language acquisition'!C1503","v":0},{"$f":"'BX Language acquisition'!D1503","v":0}]
[{"$f":"'BX Language acquisition'!A1504","v":0},{"$f":"'BX Language acquisition'!B1504","v":0},null,{"$f":"'BX Language acquisition'!C1504","v":0},{"$f":"'BX Language acquisition'!D1504","v":0}]
[{"$f":"'BX Language acquisition'!A1505","v":0},{"$f":"'BX Language acquisition'!B1505","v":0},null,{"$f":"'BX Language acquisition'!C1505","v":0},{"$f":"'BX Language acquisition'!D1505","v":0}]
[{"$f":"'BX Language acquisition'!A1506","v":0},{"$f":"'BX Language acquisition'!B1506","v":0},null,{"$f":"'BX Language acquisition'!C1506","v":0},{"$f":"'BX Language acquisition'!D1506","v":0}]
[{"$f":"'BX Language acquisition'!A1507","v":0},{"$f":"'BX Language acquisition'!B1507","v":0},null,{"$f":"'BX Language acquisition'!C1507","v":0},{"$f":"'BX Language acquisition'!D1507","v":0}]
[{"$f":"'BX Language acquisition'!A1508","v":0},{"$f":"'BX Language acquisition'!B1508","v":0},null,{"$f":"'BX Language acquisition'!C1508","v":0},{"$f":"'BX Language acquisition'!D1508","v":0}]
[{"$f":"'BX Language acquisition'!A1509","v":0},{"$f":"'BX Language acquisition'!B1509","v":0},null,{"$f":"'BX Language acquisition'!C1509","v":0},{"$f":"'BX Language acquisition'!D1509","v":0}]
[{"$f":"'BX Language acquisition'!A1510","v":0},{"$f":"'BX Language acquisition'!B1510","v":0},null,{"$f":"'BX Language acquisition'!C1510","v":0},{"$f":"'BX Language acquisition'!D1510","v":0}]
[{"$f":"'BX Language acquisition'!A1511","v":0},{"$f":"'BX Language acquisition'!B1511","v":0},null,{"$f":"'BX Language acquisition'!C1511","v":0},{"$f":"'BX Language acquisition'!D1511","v":0}]
[{"$f":"'BX Language acquisition'!A1512","v":0},{"$f":"'BX Language acquisition'!B1512","v":0},null,{"$f":"'BX Language acquisition'!C1512","v":0},{"$f":"'BX Language acquisition'!D1512","v":0}]
[{"$f":"'BX Language acquisition'!A1513","v":0},{"$f":"'BX Language acquisition'!B1513","v":0},null,{"$f":"'BX Language acquisition'!C1513","v":0},{"$f":"'BX Language acquisition'!D1513","v":0}]
[{"$f":"'BX Language acquisition'!A1514","v":0},{"$f":"'BX Language acquisition'!B1514","v":0},null,{"$f":"'BX Language acquisition'!C1514","v":0},{"$f":"'BX Language acquisition'!D1514","v":0}]
[{"$f":"'BX Language acquisition'!A1515","v":0},{"$f":"'BX Language acquisition'!B1515","v":0},null,{"$f":"'BX Language acquisition'!C1515","v":0},{"$f":"'BX Language acquisition'!D1515","v":0}]
[{"$f":"'BX Language acquisition'!A1516","v":0},{"$f":"'BX Language acquisition'!B1516","v":0},null,{"$f":"'BX Language acquisition'!C1516","v":0},{"$f":"'BX Language acquisition'!D1516","v":0}]
[{"$f":"'BX Language acquisition'!A1517","v":0},{"$f":"'BX Language acquisition'!B1517","v":0},null,{"$f":"'BX Language acquisition'!C1517","v":0},{"$f":"'BX Language acquisition'!D1517","v":0}]
[{"$f":"'BX Language acquisition'!A1518","v":0},{"$f":"'BX Language acquisition'!B1518","v":0},null,{"$f":"'BX Language acquisition'!C1518","v":0},{"$f":"'BX Language acquisition'!D1518","v":0}]
[{"$f":"'BX Language acquisition'!A1519","v":0},{"$f":"'BX Language acquisition'!B1519","v":0},null,{"$f":"'BX Language acquisition'!C1519","v":0},{"$f":"'BX Language acquisition'!D1519","v":0}]
[{"$f":"'BX Language acquisition'!A1520","v":0},{"$f":"'BX Language acquisition'!B1520","v":0},null,{"$f":"'BX Language acquisition'!C1520","v":0},{"$f":"'BX Language acquisition'!D1520","v":0}]
[{"$f":"'BX Language acquisition'!A1521","v":0},{"$f":"'BX Language acquisition'!B1521","v":0},null,{"$f":"'BX Language acquisition'!C1521","v":0},{"$f":"'BX Language acquisition'!D1521","v":0}]
[{"$f":"'BX Language acquisition'!A1522","v":0},{"$f":"'BX Language acquisition'!B1522","v":0},null,{"$f":"'BX Language acquisition'!C1522","v":0},{"$f":"'BX Language acquisition'!D1522","v":0}]
[{"$f":"'BX Language acquisition'!A1523","v":0},{"$f":"'BX Language acquisition'!B1523","v":0},null,{"$f":"'BX Language acquisition'!C1523","v":0},{"$f":"'BX Language acquisition'!D1523","v":0}]
[{"$f":"'BX Language acquisition'!A1524","v":0},{"$f":"'BX Language acquisition'!B1524","v":0},null,{"$f":"'BX Language acquisition'!C1524","v":0},{"$f":"'BX Language acquisition'!D1524","v":0}]
[{"$f":"'BX Language acquisition'!A1525","v":0},{"$f":"'BX Language acquisition'!B1525","v":0},null,{"$f":"'BX Language acquisition'!C1525","v":0},{"$f":"'BX Language acquisition'!D1525","v":0}]
[{"$f":"'BX Language acquisition'!A1526","v":0},{"$f":"'BX Language acquisition'!B1526","v":0},null,{"$f":"'BX Language acquisition'!C1526","v":0},{"$f":"'BX Language acquisition'!D1526","v":0}]
[{"$f":"'BX Language acquisition'!A1527","v":0},{"$f":"'BX Language acquisition'!B1527","v":0},null,{"$f":"'BX Language acquisition'!C1527","v":0},{"$f":"'BX Language acquisition'!D1527","v":0}]
[{"$f":"'BX Language acquisition'!A1528","v":0},{"$f":"'BX Language acquisition'!B1528","v":0},null,{"$f":"'BX Language acquisition'!C1528","v":0},{"$f":"'BX Language acquisition'!D1528","v":0}]
[{"$f":"'BX Language acquisition'!A1529","v":0},{"$f":"'BX Language acquisition'!B1529","v":0},null,{"$f":"'BX Language acquisition'!C1529","v":0},{"$f":"'BX Language acquisition'!D1529","v":0}]
[{"$f":"'BX Language acquisition'!A1530","v":0},{"$f":"'BX Language acquisition'!B1530","v":0},null,{"$f":"'BX Language acquisition'!C1530","v":0},{"$f":"'BX Language acquisition'!D1530","v":0}]
[{"$f":"'BX Language acquisition'!A1531","v":0},{"$f":"'BX Language acquisition'!B1531","v":0},null,{"$f":"'BX Language acquisition'!C1531","v":0},{"$f":"'BX Language acquisition'!D1531","v":0}]
[{"$f":"'BX Language acquisition'!A1532","v":0},{"$f":"'BX Language acquisition'!B1532","v":0},null,{"$f":"'BX Language acquisition'!C1532","v":0},{"$f":"'BX Language acquisition'!D1532","v":0}]
[{"$f":"'BX Language acquisition'!A1533","v":0},{"$f":"'BX Language acquisition'!B1533","v":0},null,{"$f":"'BX Language acquisition'!C1533","v":0},{"$f":"'BX Language acquisition'!D1533","v":0}]
[{"$f":"'BX Language acquisition'!A1534","v":0},{"$f":"'BX Language acquisition'!B1534","v":0},null,{"$f":"'BX Language acquisition'!C1534","v":0},{"$f":"'BX Language acquisition'!D1534","v":0}]
[{"$f":"'BX Language acquisition'!A1535","v":0},{"$f":"'BX Language acquisition'!B1535","v":0},null,{"$f":"'BX Language acquisition'!C1535","v":0},{"$f":"'BX Language acquisition'!D1535","v":0}]
[{"$f":"'BX Language acquisition'!A1536","v":0},{"$f":"'BX Language acquisition'!B1536","v":0},null,{"$f":"'BX Language acquisition'!C1536","v":0},{"$f":"'BX Language acquisition'!D1536","v":0}]
[{"$f":"'BX Language acquisition'!A1537","v":0},{"$f":"'BX Language acquisition'!B1537","v":0},null,{"$f":"'BX Language acquisition'!C1537","v":0},{"$f":"'BX Language acquisition'!D1537","v":0}]
[{"$f":"'BX Language acquisition'!A1538","v":0},{"$f":"'BX Language acquisition'!B1538","v":0},null,{"$f":"'BX Language acquisition'!C1538","v":0},{"$f":"'BX Language acquisition'!D1538","v":0}]
[{"$f":"'BX Language acquisition'!A1539","v":0},{"$f":"'BX Language acquisition'!B1539","v":0},null,{"$f":"'BX Language acquisition'!C1539","v":0},{"$f":"'BX Language acquisition'!D1539","v":0}]
[{"$f":"'BX Language acquisition'!A1540","v":0},{"$f":"'BX Language acquisition'!B1540","v":0},null,{"$f":"'BX Language acquisition'!C1540","v":0},{"$f":"'BX Language acquisition'!D1540","v":0}]
[{"$f":"'BX Language acquisition'!A1541","v":0},{"$f":"'BX Language acquisition'!B1541","v":0},null,{"$f":"'BX Language acquisition'!C1541","v":0},{"$f":"'BX Language acquisition'!D1541","v":0}]
[{"$f":"'BX Language acquisition'!A1542","v":0},{"$f":"'BX Language acquisition'!B1542","v":0},null,{"$f":"'BX Language acquisition'!C1542","v":0},{"$f":"'BX Language acquisition'!D1542","v":0}]
[{"$f":"'BX Language acquisition'!A1543","v":0},{"$f":"'BX Language acquisition'!B1543","v":0},null,{"$f":"'BX Language acquisition'!C1543","v":0},{"$f":"'BX Language acquisition'!D1543","v":0}]
[{"$f":"'BX Language acquisition'!A1544","v":0},{"$f":"'BX Language acquisition'!B1544","v":0},null,{"$f":"'BX Language acquisition'!C1544","v":0},{"$f":"'BX Language acquisition'!D1544","v":0}]
[{"$f":"'BX Language acquisition'!A1545","v":0},{"$f":"'BX Language acquisition'!B1545","v":0},null,{"$f":"'BX Language acquisition'!C1545","v":0},{"$f":"'BX Language acquisition'!D1545","v":0}]
[{"$f":"'BX Language acquisition'!A1546","v":0},{"$f":"'BX Language acquisition'!B1546","v":0},null,{"$f":"'BX Language acquisition'!C1546","v":0},{"$f":"'BX Language acquisition'!D1546","v":0}]
[{"$f":"'BX Language acquisition'!A1547","v":0},{"$f":"'BX Language acquisition'!B1547","v":0},null,{"$f":"'BX Language acquisition'!C1547","v":0},{"$f":"'BX Language acquisition'!D1547","v":0}]
[{"$f":"'BX Language acquisition'!A1548","v":0},{"$f":"'BX Language acquisition'!B1548","v":0},null,{"$f":"'BX Language acquisition'!C1548","v":0},{"$f":"'BX Language acquisition'!D1548","v":0}]
[{"$f":"'BX Language acquisition'!A1549","v":0},{"$f":"'BX Language acquisition'!B1549","v":0},null,{"$f":"'BX Language acquisition'!C1549","v":0},{"$f":"'BX Language acquisition'!D1549","v":0}]
[{"$f":"'BX Language acquisition'!A1550","v":0},{"$f":"'BX Language acquisition'!B1550","v":0},null,{"$f":"'BX Language acquisition'!C1550","v":0},{"$f":"'BX Language acquisition'!D1550","v":0}]
[{"$f":"'BX Language acquisition'!A1551","v":0},{"$f":"'BX Language acquisition'!B1551","v":0},null,{"$f":"'BX Language acquisition'!C1551","v":0},{"$f":"'BX Language acquisition'!D1551","v":0}]
[{"$f":"'BX Language acquisition'!A1552","v":0},{"$f":"'BX Language acquisition'!B1552","v":0},null,{"$f":"'BX Language acquisition'!C1552","v":0},{"$f":"'BX Language acquisition'!D1552","v":0}]
[{"$f":"'BX Language acquisition'!A1553","v":0},{"$f":"'BX Language acquisition'!B1553","v":0},null,{"$f":"'BX Language acquisition'!C1553","v":0},{"$f":"'BX Language acquisition'!D1553","v":0}]
[{"$f":"'BX Language acquisition'!A1554","v":0},{"$f":"'BX Language acquisition'!B1554","v":0},null,{"$f":"'BX Language acquisition'!C1554","v":0},{"$f":"'BX Language acquisition'!D1554","v":0}]
[{"$f":"'BX Language acquisition'!A1555","v":0},{"$f":"'BX Language acquisition'!B1555","v":0},null,{"$f":"'BX Language acquisition'!C1555","v":0},{"$f":"'BX Language acquisition'!D1555","v":0}]
[{"$f":"'BX Language acquisition'!A1556","v":0},{"$f":"'BX Language acquisition'!B1556","v":0},null,{"$f":"'BX Language acquisition'!C1556","v":0},{"$f":"'BX Language acquisition'!D1556","v":0}]
[{"$f":"'BX Language acquisition'!A1557","v":0},{"$f":"'BX Language acquisition'!B1557","v":0},null,{"$f":"'BX Language acquisition'!C1557","v":0},{"$f":"'BX Language acquisition'!D1557","v":0}]
[{"$f":"'BX Language acquisition'!A1558","v":0},{"$f":"'BX Language acquisition'!B1558","v":0},null,{"$f":"'BX Language acquisition'!C1558","v":0},{"$f":"'BX Language acquisition'!D1558","v":0}]
[{"$f":"'BX Language acquisition'!A1559","v":0},{"$f":"'BX Language acquisition'!B1559","v":0},null,{"$f":"'BX Language acquisition'!C1559","v":0},{"$f":"'BX Language acquisition'!D1559","v":0}]
[{"$f":"'BX Language acquisition'!A1560","v":0},{"$f":"'BX Language acquisition'!B1560","v":0},null,{"$f":"'BX Language acquisition'!C1560","v":0},{"$f":"'BX Language acquisition'!D1560","v":0}]
[{"$f":"'BX Language acquisition'!A1561","v":0},{"$f":"'BX Language acquisition'!B1561","v":0},null,{"$f":"'BX Language acquisition'!C1561","v":0},{"$f":"'BX Language acquisition'!D1561","v":0}]
[{"$f":"'BX Language acquisition'!A1562","v":0},{"$f":"'BX Language acquisition'!B1562","v":0},null,{"$f":"'BX Language acquisition'!C1562","v":0},{"$f":"'BX Language acquisition'!D1562","v":0}]
[{"$f":"'BX Language acquisition'!A1563","v":0},{"$f":"'BX Language acquisition'!B1563","v":0},null,{"$f":"'BX Language acquisition'!C1563","v":0},{"$f":"'BX Language acquisition'!D1563","v":0}]
[{"$f":"'BX Language acquisition'!A1564","v":0},{"$f":"'BX Language acquisition'!B1564","v":0},null,{"$f":"'BX Language acquisition'!C1564","v":0},{"$f":"'BX Language acquisition'!D1564","v":0}]
[{"$f":"'BX Language acquisition'!A1565","v":0},{"$f":"'BX Language acquisition'!B1565","v":0},null,{"$f":"'BX Language acquisition'!C1565","v":0},{"$f":"'BX Language acquisition'!D1565","v":0}]
[{"$f":"'BX Language acquisition'!A1566","v":0},{"$f":"'BX Language acquisition'!B1566","v":0},null,{"$f":"'BX Language acquisition'!C1566","v":0},{"$f":"'BX Language acquisition'!D1566","v":0}]
[{"$f":"'BX Language acquisition'!A1567","v":0},{"$f":"'BX Language acquisition'!B1567","v":0},null,{"$f":"'BX Language acquisition'!C1567","v":0},{"$f":"'BX Language acquisition'!D1567","v":0}]
[{"$f":"'BX Language acquisition'!A1568","v":0},{"$f":"'BX Language acquisition'!B1568","v":0},null,{"$f":"'BX Language acquisition'!C1568","v":0},{"$f":"'BX Language acquisition'!D1568","v":0}]
[{"$f":"'BX Language acquisition'!A1569","v":0},{"$f":"'BX Language acquisition'!B1569","v":0},null,{"$f":"'BX Language acquisition'!C1569","v":0},{"$f":"'BX Language acquisition'!D1569","v":0}]
[{"$f":"'BX Language acquisition'!A1570","v":0},{"$f":"'BX Language acquisition'!B1570","v":0},null,{"$f":"'BX Language acquisition'!C1570","v":0},{"$f":"'BX Language acquisition'!D1570","v":0}]
[{"$f":"'BX Language acquisition'!A1571","v":0},{"$f":"'BX Language acquisition'!B1571","v":0},null,{"$f":"'BX Language acquisition'!C1571","v":0},{"$f":"'BX Language acquisition'!D1571","v":0}]
[{"$f":"'BX Language acquisition'!A1572","v":0},{"$f":"'BX Language acquisition'!B1572","v":0},null,{"$f":"'BX Language acquisition'!C1572","v":0},{"$f":"'BX Language acquisition'!D1572","v":0}]
[{"$f":"'BX Language acquisition'!A1573","v":0},{"$f":"'BX Language acquisition'!B1573","v":0},null,{"$f":"'BX Language acquisition'!C1573","v":0},{"$f":"'BX Language acquisition'!D1573","v":0}]
[{"$f":"'BX Language acquisition'!A1574","v":0},{"$f":"'BX Language acquisition'!B1574","v":0},null,{"$f":"'BX Language acquisition'!C1574","v":0},{"$f":"'BX Language acquisition'!D1574","v":0}]
[{"$f":"'BX Language acquisition'!A1575","v":0},{"$f":"'BX Language acquisition'!B1575","v":0},null,{"$f":"'BX Language acquisition'!C1575","v":0},{"$f":"'BX Language acquisition'!D1575","v":0}]
[{"$f":"'BX Language acquisition'!A1576","v":0},{"$f":"'BX Language acquisition'!B1576","v":0},null,{"$f":"'BX Language acquisition'!C1576","v":0},{"$f":"'BX Language acquisition'!D1576","v":0}]
[{"$f":"'BX Language acquisition'!A1577","v":0},{"$f":"'BX Language acquisition'!B1577","v":0},null,{"$f":"'BX Language acquisition'!C1577","v":0},{"$f":"'BX Language acquisition'!D1577","v":0}]
[{"$f":"'BX Language acquisition'!A1578","v":0},{"$f":"'BX Language acquisition'!B1578","v":0},null,{"$f":"'BX Language acquisition'!C1578","v":0},{"$f":"'BX Language acquisition'!D1578","v":0}]
[{"$f":"'BX Language acquisition'!A1579","v":0},{"$f":"'BX Language acquisition'!B1579","v":0},null,{"$f":"'BX Language acquisition'!C1579","v":0},{"$f":"'BX Language acquisition'!D1579","v":0}]
[{"$f":"'BX Language acquisition'!A1580","v":0},{"$f":"'BX Language acquisition'!B1580","v":0},null,{"$f":"'BX Language acquisition'!C1580","v":0},{"$f":"'BX Language acquisition'!D1580","v":0}]
[{"$f":"'BX Language acquisition'!A1581","v":0},{"$f":"'BX Language acquisition'!B1581","v":0},null,{"$f":"'BX Language acquisition'!C1581","v":0},{"$f":"'BX Language acquisition'!D1581","v":0}]
[{"$f":"'BX Language acquisition'!A1582","v":0},{"$f":"'BX Language acquisition'!B1582","v":0},null,{"$f":"'BX Language acquisition'!C1582","v":0},{"$f":"'BX Language acquisition'!D1582","v":0}]
[{"$f":"'BX Language acquisition'!A1583","v":0},{"$f":"'BX Language acquisition'!B1583","v":0},null,{"$f":"'BX Language acquisition'!C1583","v":0},{"$f":"'BX Language acquisition'!D1583","v":0}]
[{"$f":"'BX Language acquisition'!A1584","v":0},{"$f":"'BX Language acquisition'!B1584","v":0},null,{"$f":"'BX Language acquisition'!C1584","v":0},{"$f":"'BX Language acquisition'!D1584","v":0}]
[{"$f":"'BX Language acquisition'!A1585","v":0},{"$f":"'BX Language acquisition'!B1585","v":0},null,{"$f":"'BX Language acquisition'!C1585","v":0},{"$f":"'BX Language acquisition'!D1585","v":0}]
[{"$f":"'BX Language acquisition'!A1586","v":0},{"$f":"'BX Language acquisition'!B1586","v":0},null,{"$f":"'BX Language acquisition'!C1586","v":0},{"$f":"'BX Language acquisition'!D1586","v":0}]
[{"$f":"'BX Language acquisition'!A1587","v":0},{"$f":"'BX Language acquisition'!B1587","v":0},null,{"$f":"'BX Language acquisition'!C1587","v":0},{"$f":"'BX Language acquisition'!D1587","v":0}]
[{"$f":"'BX Language acquisition'!A1588","v":0},{"$f":"'BX Language acquisition'!B1588","v":0},null,{"$f":"'BX Language acquisition'!C1588","v":0},{"$f":"'BX Language acquisition'!D1588","v":0}]
[{"$f":"'BX Language acquisition'!A1589","v":0},{"$f":"'BX Language acquisition'!B1589","v":0},null,{"$f":"'BX Language acquisition'!C1589","v":0},{"$f":"'BX Language acquisition'!D1589","v":0}]
[{"$f":"'BX Language acquisition'!A1590","v":0},{"$f":"'BX Language acquisition'!B1590","v":0},null,{"$f":"'BX Language acquisition'!C1590","v":0},{"$f":"'BX Language acquisition'!D1590","v":0}]
[{"$f":"'BX Language acquisition'!A1591","v":0},{"$f":"'BX Language acquisition'!B1591","v":0},null,{"$f":"'BX Language acquisition'!C1591","v":0},{"$f":"'BX Language acquisition'!D1591","v":0}]
[{"$f":"'BX Language acquisition'!A1592","v":0},{"$f":"'BX Language acquisition'!B1592","v":0},null,{"$f":"'BX Language acquisition'!C1592","v":0},{"$f":"'BX Language acquisition'!D1592","v":0}]
[{"$f":"'BX Language acquisition'!A1593","v":0},{"$f":"'BX Language acquisition'!B1593","v":0},null,{"$f":"'BX Language acquisition'!C1593","v":0},{"$f":"'BX Language acquisition'!D1593","v":0}]
[{"$f":"'BX Language acquisition'!A1594","v":0},{"$f":"'BX Language acquisition'!B1594","v":0},null,{"$f":"'BX Language acquisition'!C1594","v":0},{"$f":"'BX Language acquisition'!D1594","v":0}]
[{"$f":"'BX Language acquisition'!A1595","v":0},{"$f":"'BX Language acquisition'!B1595","v":0},null,{"$f":"'BX Language acquisition'!C1595","v":0},{"$f":"'BX Language acquisition'!D1595","v":0}]
[{"$f":"'BX Language acquisition'!A1596","v":0},{"$f":"'BX Language acquisition'!B1596","v":0},null,{"$f":"'BX Language acquisition'!C1596","v":0},{"$f":"'BX Language acquisition'!D1596","v":0}]
[{"$f":"'BX Language acquisition'!A1597","v":0},{"$f":"'BX Language acquisition'!B1597","v":0},null,{"$f":"'BX Language acquisition'!C1597","v":0},{"$f":"'BX Language acquisition'!D1597","v":0}]
[{"$f":"'BX Language acquisition'!A1598","v":0},{"$f":"'BX Language acquisition'!B1598","v":0},null,{"$f":"'BX Language acquisition'!C1598","v":0},{"$f":"'BX Language acquisition'!D1598","v":0}]
[{"$f":"'BX Language acquisition'!A1599","v":0},{"$f":"'BX Language acquisition'!B1599","v":0},null,{"$f":"'BX Language acquisition'!C1599","v":0},{"$f":"'BX Language acquisition'!D1599","v":0}]
[{"$f":"'BX Language acquisition'!A1600","v":0},{"$f":"'BX Language acquisition'!B1600","v":0},null,{"$f":"'BX Language acquisition'!C1600","v":0},{"$f":"'BX Language acquisition'!D1600","v":0}]
[{"$f":"'BX Language acquisition'!A1601","v":0},{"$f":"'BX Language acquisition'!B1601","v":0},null,{"$f":"'BX Language acquisition'!C1601","v":0},{"$f":"'BX Language acquisition'!D1601","v":0}]
[{"$f":"'BX Language acquisition'!A1602","v":0},{"$f":"'BX Language acquisition'!B1602","v":0},null,{"$f":"'BX Language acquisition'!C1602","v":0},{"$f":"'BX Language acquisition'!D1602","v":0}]
[{"$f":"'BX Language acquisition'!A1603","v":0},{"$f":"'BX Language acquisition'!B1603","v":0},null,{"$f":"'BX Language acquisition'!C1603","v":0},{"$f":"'BX Language acquisition'!D1603","v":0}]
[{"$f":"'BX Language acquisition'!A1604","v":0},{"$f":"'BX Language acquisition'!B1604","v":0},null,{"$f":"'BX Language acquisition'!C1604","v":0},{"$f":"'BX Language acquisition'!D1604","v":0}]
[{"$f":"'BX Language acquisition'!A1605","v":0},{"$f":"'BX Language acquisition'!B1605","v":0},null,{"$f":"'BX Language acquisition'!C1605","v":0},{"$f":"'BX Language acquisition'!D1605","v":0}]
[{"$f":"'BX Language acquisition'!A1606","v":0},{"$f":"'BX Language acquisition'!B1606","v":0},null,{"$f":"'BX Language acquisition'!C1606","v":0},{"$f":"'BX Language acquisition'!D1606","v":0}]
[{"$f":"'BX Language acquisition'!A1607","v":0},{"$f":"'BX Language acquisition'!B1607","v":0},null,{"$f":"'BX Language acquisition'!C1607","v":0},{"$f":"'BX Language acquisition'!D1607","v":0}]
[{"$f":"'BX Language acquisition'!A1608","v":0},{"$f":"'BX Language acquisition'!B1608","v":0},null,{"$f":"'BX Language acquisition'!C1608","v":0},{"$f":"'BX Language acquisition'!D1608","v":0}]
[{"$f":"'BX Language acquisition'!A1609","v":0},{"$f":"'BX Language acquisition'!B1609","v":0},null,{"$f":"'BX Language acquisition'!C1609","v":0},{"$f":"'BX Language acquisition'!D1609","v":0}]
[{"$f":"'BX Language acquisition'!A1610","v":0},{"$f":"'BX Language acquisition'!B1610","v":0},null,{"$f":"'BX Language acquisition'!C1610","v":0},{"$f":"'BX Language acquisition'!D1610","v":0}]
[{"$f":"'BX Language acquisition'!A1611","v":0},{"$f":"'BX Language acquisition'!B1611","v":0},null,{"$f":"'BX Language acquisition'!C1611","v":0},{"$f":"'BX Language acquisition'!D1611","v":0}]
[{"$f":"'BX Language acquisition'!A1612","v":0},{"$f":"'BX Language acquisition'!B1612","v":0},null,{"$f":"'BX Language acquisition'!C1612","v":0},{"$f":"'BX Language acquisition'!D1612","v":0}]
[{"$f":"'BX Language acquisition'!A1613","v":0},{"$f":"'BX Language acquisition'!B1613","v":0},null,{"$f":"'BX Language acquisition'!C1613","v":0},{"$f":"'BX Language acquisition'!D1613","v":0}]
[{"$f":"'BX Language acquisition'!A1614","v":0},{"$f":"'BX Language acquisition'!B1614","v":0},null,{"$f":"'BX Language acquisition'!C1614","v":0},{"$f":"'BX Language acquisition'!D1614","v":0}]
[{"$f":"'BX Language acquisition'!A1615","v":0},{"$f":"'BX Language acquisition'!B1615","v":0},null,{"$f":"'BX Language acquisition'!C1615","v":0},{"$f":"'BX Language acquisition'!D1615","v":0}]
[{"$f":"'BX Language acquisition'!A1616","v":0},{"$f":"'BX Language acquisition'!B1616","v":0},null,{"$f":"'BX Language acquisition'!C1616","v":0},{"$f":"'BX Language acquisition'!D1616","v":0}]
[{"$f":"'BX Language acquisition'!A1617","v":0},{"$f":"'BX Language acquisition'!B1617","v":0},null,{"$f":"'BX Language acquisition'!C1617","v":0},{"$f":"'BX Language acquisition'!D1617","v":0}]
[{"$f":"'BX Language acquisition'!A1618","v":0},{"$f":"'BX Language acquisition'!B1618","v":0},null,{"$f":"'BX Language acquisition'!C1618","v":0},{"$f":"'BX Language acquisition'!D1618","v":0}]
[{"$f":"'BX Language acquisition'!A1619","v":0},{"$f":"'BX Language acquisition'!B1619","v":0},null,{"$f":"'BX Language acquisition'!C1619","v":0},{"$f":"'BX Language acquisition'!D1619","v":0}]
[{"$f":"'BX Language acquisition'!A1620","v":0},{"$f":"'BX Language acquisition'!B1620","v":0},null,{"$f":"'BX Language acquisition'!C1620","v":0},{"$f":"'BX Language acquisition'!D1620","v":0}]
[{"$f":"'BX Language acquisition'!A1621","v":0},{"$f":"'BX Language acquisition'!B1621","v":0},null,{"$f":"'BX Language acquisition'!C1621","v":0},{"$f":"'BX Language acquisition'!D1621","v":0}]
[{"$f":"'BX Language acquisition'!A1622","v":0},{"$f":"'BX Language acquisition'!B1622","v":0},null,{"$f":"'BX Language acquisition'!C1622","v":0},{"$f":"'BX Language acquisition'!D1622","v":0}]
[{"$f":"'BX Language acquisition'!A1623","v":0},{"$f":"'BX Language acquisition'!B1623","v":0},null,{"$f":"'BX Language acquisition'!C1623","v":0},{"$f":"'BX Language acquisition'!D1623","v":0}]
[{"$f":"'BX Language acquisition'!A1624","v":0},{"$f":"'BX Language acquisition'!B1624","v":0},null,{"$f":"'BX Language acquisition'!C1624","v":0},{"$f":"'BX Language acquisition'!D1624","v":0}]
[{"$f":"'BX Language acquisition'!A1625","v":0},{"$f":"'BX Language acquisition'!B1625","v":0},null,{"$f":"'BX Language acquisition'!C1625","v":0},{"$f":"'BX Language acquisition'!D1625","v":0}]
[{"$f":"'BX Language acquisition'!A1626","v":0},{"$f":"'BX Language acquisition'!B1626","v":0},null,{"$f":"'BX Language acquisition'!C1626","v":0},{"$f":"'BX Language acquisition'!D1626","v":0}]
[{"$f":"'BX Language acquisition'!A1627","v":0},{"$f":"'BX Language acquisition'!B1627","v":0},null,{"$f":"'BX Language acquisition'!C1627","v":0},{"$f":"'BX Language acquisition'!D1627","v":0}]
[{"$f":"'BX Language acquisition'!A1628","v":0},{"$f":"'BX Language acquisition'!B1628","v":0},null,{"$f":"'BX Language acquisition'!C1628","v":0},{"$f":"'BX Language acquisition'!D1628","v":0}]
[{"$f":"'BX Language acquisition'!A1629","v":0},{"$f":"'BX Language acquisition'!B1629","v":0},null,{"$f":"'BX Language acquisition'!C1629","v":0},{"$f":"'BX Language acquisition'!D1629","v":0}]
[{"$f":"'BX Language acquisition'!A1630","v":0},{"$f":"'BX Language acquisition'!B1630","v":0},null,{"$f":"'BX Language acquisition'!C1630","v":0},{"$f":"'BX Language acquisition'!D1630","v":0}]
[{"$f":"'BX Language acquisition'!A1631","v":0},{"$f":"'BX Language acquisition'!B1631","v":0},null,{"$f":"'BX Language acquisition'!C1631","v":0},{"$f":"'BX Language acquisition'!D1631","v":0}]
[{"$f":"'BX Language acquisition'!A1632","v":0},{"$f":"'BX Language acquisition'!B1632","v":0},null,{"$f":"'BX Language acquisition'!C1632","v":0},{"$f":"'BX Language acquisition'!D1632","v":0}]
[{"$f":"'BX Language acquisition'!A1633","v":0},{"$f":"'BX Language acquisition'!B1633","v":0},null,{"$f":"'BX Language acquisition'!C1633","v":0},{"$f":"'BX Language acquisition'!D1633","v":0}]
[{"$f":"'BX Language acquisition'!A1634","v":0},{"$f":"'BX Language acquisition'!B1634","v":0},null,{"$f":"'BX Language acquisition'!C1634","v":0},{"$f":"'BX Language acquisition'!D1634","v":0}]
[{"$f":"'BX Language acquisition'!A1635","v":0},{"$f":"'BX Language acquisition'!B1635","v":0},null,{"$f":"'BX Language acquisition'!C1635","v":0},{"$f":"'BX Language acquisition'!D1635","v":0}]
[{"$f":"'BX Language acquisition'!A1636","v":0},{"$f":"'BX Language acquisition'!B1636","v":0},null,{"$f":"'BX Language acquisition'!C1636","v":0},{"$f":"'BX Language acquisition'!D1636","v":0}]
[{"$f":"'BX Language acquisition'!A1637","v":0},{"$f":"'BX Language acquisition'!B1637","v":0},null,{"$f":"'BX Language acquisition'!C1637","v":0},{"$f":"'BX Language acquisition'!D1637","v":0}]
[{"$f":"'BX Language acquisition'!A1638","v":0},{"$f":"'BX Language acquisition'!B1638","v":0},null,{"$f":"'BX Language acquisition'!C1638","v":0},{"$f":"'BX Language acquisition'!D1638","v":0}]
[{"$f":"'BX Language acquisition'!A1639","v":0},{"$f":"'BX Language acquisition'!B1639","v":0},null,{"$f":"'BX Language acquisition'!C1639","v":0},{"$f":"'BX Language acquisition'!D1639","v":0}]
[{"$f":"'BX Language acquisition'!A1640","v":0},{"$f":"'BX Language acquisition'!B1640","v":0},null,{"$f":"'BX Language acquisition'!C1640","v":0},{"$f":"'BX Language acquisition'!D1640","v":0}]
[{"$f":"'BX Language acquisition'!A1641","v":0},{"$f":"'BX Language acquisition'!B1641","v":0},null,{"$f":"'BX Language acquisition'!C1641","v":0},{"$f":"'BX Language acquisition'!D1641","v":0}]
[{"$f":"'BX Language acquisition'!A1642","v":0},{"$f":"'BX Language acquisition'!B1642","v":0},null,{"$f":"'BX Language acquisition'!C1642","v":0},{"$f":"'BX Language acquisition'!D1642","v":0}]
[{"$f":"'BX Language acquisition'!A1643","v":0},{"$f":"'BX Language acquisition'!B1643","v":0},null,{"$f":"'BX Language acquisition'!C1643","v":0},{"$f":"'BX Language acquisition'!D1643","v":0}]
[{"$f":"'BX Language acquisition'!A1644","v":0},{"$f":"'BX Language acquisition'!B1644","v":0},null,{"$f":"'BX Language acquisition'!C1644","v":0},{"$f":"'BX Language acquisition'!D1644","v":0}]
[{"$f":"'BX Language acquisition'!A1645","v":0},{"$f":"'BX Language acquisition'!B1645","v":0},null,{"$f":"'BX Language acquisition'!C1645","v":0},{"$f":"'BX Language acquisition'!D1645","v":0}]
[{"$f":"'BX Language acquisition'!A1646","v":0},{"$f":"'BX Language acquisition'!B1646","v":0},null,{"$f":"'BX Language acquisition'!C1646","v":0},{"$f":"'BX Language acquisition'!D1646","v":0}]
[{"$f":"'BX Language acquisition'!A1647","v":0},{"$f":"'BX Language acquisition'!B1647","v":0},null,{"$f":"'BX Language acquisition'!C1647","v":0},{"$f":"'BX Language acquisition'!D1647","v":0}]
[{"$f":"'BX Language acquisition'!A1648","v":0},{"$f":"'BX Language acquisition'!B1648","v":0},null,{"$f":"'BX Language acquisition'!C1648","v":0},{"$f":"'BX Language acquisition'!D1648","v":0}]
[{"$f":"'BX Language acquisition'!A1649","v":0},{"$f":"'BX Language acquisition'!B1649","v":0},null,{"$f":"'BX Language acquisition'!C1649","v":0},{"$f":"'BX Language acquisition'!D1649","v":0}]
[{"$f":"'BX Language acquisition'!A1650","v":0},{"$f":"'BX Language acquisition'!B1650","v":0},null,{"$f":"'BX Language acquisition'!C1650","v":0},{"$f":"'BX Language acquisition'!D1650","v":0}]
[{"$f":"'BX Language acquisition'!A1651","v":0},{"$f":"'BX Language acquisition'!B1651","v":0},null,{"$f":"'BX Language acquisition'!C1651","v":0},{"$f":"'BX Language acquisition'!D1651","v":0}]
[{"$f":"'BX Language acquisition'!A1652","v":0},{"$f":"'BX Language acquisition'!B1652","v":0},null,{"$f":"'BX Language acquisition'!C1652","v":0},{"$f":"'BX Language acquisition'!D1652","v":0}]
[{"$f":"'BX Language acquisition'!A1653","v":0},{"$f":"'BX Language acquisition'!B1653","v":0},null,{"$f":"'BX Language acquisition'!C1653","v":0},{"$f":"'BX Language acquisition'!D1653","v":0}]
[{"$f":"'BX Language acquisition'!A1654","v":0},{"$f":"'BX Language acquisition'!B1654","v":0},null,{"$f":"'BX Language acquisition'!C1654","v":0},{"$f":"'BX Language acquisition'!D1654","v":0}]
[{"$f":"'BX Language acquisition'!A1655","v":0},{"$f":"'BX Language acquisition'!B1655","v":0},null,{"$f":"'BX Language acquisition'!C1655","v":0},{"$f":"'BX Language acquisition'!D1655","v":0}]
[{"$f":"'BX Language acquisition'!A1656","v":0},{"$f":"'BX Language acquisition'!B1656","v":0},null,{"$f":"'BX Language acquisition'!C1656","v":0},{"$f":"'BX Language acquisition'!D1656","v":0}]
[{"$f":"'BX Language acquisition'!A1657","v":0},{"$f":"'BX Language acquisition'!B1657","v":0},null,{"$f":"'BX Language acquisition'!C1657","v":0},{"$f":"'BX Language acquisition'!D1657","v":0}]
[{"$f":"'BX Language acquisition'!A1658","v":0},{"$f":"'BX Language acquisition'!B1658","v":0},null,{"$f":"'BX Language acquisition'!C1658","v":0},{"$f":"'BX Language acquisition'!D1658","v":0}]
[{"$f":"'BX Language acquisition'!A1659","v":0},{"$f":"'BX Language acquisition'!B1659","v":0},null,{"$f":"'BX Language acquisition'!C1659","v":0},{"$f":"'BX Language acquisition'!D1659","v":0}]
[{"$f":"'BX Language acquisition'!A1660","v":0},{"$f":"'BX Language acquisition'!B1660","v":0},null,{"$f":"'BX Language acquisition'!C1660","v":0},{"$f":"'BX Language acquisition'!D1660","v":0}]
[{"$f":"'BX Language acquisition'!A1661","v":0},{"$f":"'BX Language acquisition'!B1661","v":0},null,{"$f":"'BX Language acquisition'!C1661","v":0},{"$f":"'BX Language acquisition'!D1661","v":0}]
[{"$f":"'BX Language acquisition'!A1662","v":0},{"$f":"'BX Language acquisition'!B1662","v":0},null,{"$f":"'BX Language acquisition'!C1662","v":0},{"$f":"'BX Language acquisition'!D1662","v":0}]
[{"$f":"'BX Language acquisition'!A1663","v":0},{"$f":"'BX Language acquisition'!B1663","v":0},null,{"$f":"'BX Language acquisition'!C1663","v":0},{"$f":"'BX Language acquisition'!D1663","v":0}]
[{"$f":"'BX Language acquisition'!A1664","v":0},{"$f":"'BX Language acquisition'!B1664","v":0},null,{"$f":"'BX Language acquisition'!C1664","v":0},{"$f":"'BX Language acquisition'!D1664","v":0}]
[{"$f":"'BX Language acquisition'!A1665","v":0},{"$f":"'BX Language acquisition'!B1665","v":0},null,{"$f":"'BX Language acquisition'!C1665","v":0},{"$f":"'BX Language acquisition'!D1665","v":0}]
[{"$f":"'BX Language acquisition'!A1666","v":0},{"$f":"'BX Language acquisition'!B1666","v":0},null,{"$f":"'BX Language acquisition'!C1666","v":0},{"$f":"'BX Language acquisition'!D1666","v":0}]
[{"$f":"'BX Language acquisition'!A1667","v":0},{"$f":"'BX Language acquisition'!B1667","v":0},null,{"$f":"'BX Language acquisition'!C1667","v":0},{"$f":"'BX Language acquisition'!D1667","v":0}]
[{"$f":"'BX Language acquisition'!A1668","v":0},{"$f":"'BX Language acquisition'!B1668","v":0},null,{"$f":"'BX Language acquisition'!C1668","v":0},{"$f":"'BX Language acquisition'!D1668","v":0}]
[{"$f":"'BX Language acquisition'!A1669","v":0},{"$f":"'BX Language acquisition'!B1669","v":0},null,{"$f":"'BX Language acquisition'!C1669","v":0},{"$f":"'BX Language acquisition'!D1669","v":0}]
[{"$f":"'BX Language acquisition'!A1670","v":0},{"$f":"'BX Language acquisition'!B1670","v":0},null,{"$f":"'BX Language acquisition'!C1670","v":0},{"$f":"'BX Language acquisition'!D1670","v":0}]
[{"$f":"'BX Language acquisition'!A1671","v":0},{"$f":"'BX Language acquisition'!B1671","v":0},null,{"$f":"'BX Language acquisition'!C1671","v":0},{"$f":"'BX Language acquisition'!D1671","v":0}]
[{"$f":"'BX Language acquisition'!A1672","v":0},{"$f":"'BX Language acquisition'!B1672","v":0},null,{"$f":"'BX Language acquisition'!C1672","v":0},{"$f":"'BX Language acquisition'!D1672","v":0}]
[{"$f":"'BX Language acquisition'!A1673","v":0},{"$f":"'BX Language acquisition'!B1673","v":0},null,{"$f":"'BX Language acquisition'!C1673","v":0},{"$f":"'BX Language acquisition'!D1673","v":0}]
[{"$f":"'BX Language acquisition'!A1674","v":0},{"$f":"'BX Language acquisition'!B1674","v":0},null,{"$f":"'BX Language acquisition'!C1674","v":0},{"$f":"'BX Language acquisition'!D1674","v":0}]
[{"$f":"'BX Language acquisition'!A1675","v":0},{"$f":"'BX Language acquisition'!B1675","v":0},null,{"$f":"'BX Language acquisition'!C1675","v":0},{"$f":"'BX Language acquisition'!D1675","v":0}]
[{"$f":"'BX Language acquisition'!A1676","v":0},{"$f":"'BX Language acquisition'!B1676","v":0},null,{"$f":"'BX Language acquisition'!C1676","v":0},{"$f":"'BX Language acquisition'!D1676","v":0}]
[{"$f":"'BX Language acquisition'!A1677","v":0},{"$f":"'BX Language acquisition'!B1677","v":0},null,{"$f":"'BX Language acquisition'!C1677","v":0},{"$f":"'BX Language acquisition'!D1677","v":0}]
[{"$f":"'BX Language acquisition'!A1678","v":0},{"$f":"'BX Language acquisition'!B1678","v":0},null,{"$f":"'BX Language acquisition'!C1678","v":0},{"$f":"'BX Language acquisition'!D1678","v":0}]
[{"$f":"'BX Language acquisition'!A1679","v":0},{"$f":"'BX Language acquisition'!B1679","v":0},null,{"$f":"'BX Language acquisition'!C1679","v":0},{"$f":"'BX Language acquisition'!D1679","v":0}]
[{"$f":"'BX Language acquisition'!A1680","v":0},{"$f":"'BX Language acquisition'!B1680","v":0},null,{"$f":"'BX Language acquisition'!C1680","v":0},{"$f":"'BX Language acquisition'!D1680","v":0}]
[{"$f":"'BX Language acquisition'!A1681","v":0},{"$f":"'BX Language acquisition'!B1681","v":0},null,{"$f":"'BX Language acquisition'!C1681","v":0},{"$f":"'BX Language acquisition'!D1681","v":0}]
[{"$f":"'BX Language acquisition'!A1682","v":0},{"$f":"'BX Language acquisition'!B1682","v":0},null,{"$f":"'BX Language acquisition'!C1682","v":0},{"$f":"'BX Language acquisition'!D1682","v":0}]
[{"$f":"'BX Language acquisition'!A1683","v":0},{"$f":"'BX Language acquisition'!B1683","v":0},null,{"$f":"'BX Language acquisition'!C1683","v":0},{"$f":"'BX Language acquisition'!D1683","v":0}]
[{"$f":"'BX Language acquisition'!A1684","v":0},{"$f":"'BX Language acquisition'!B1684","v":0},null,{"$f":"'BX Language acquisition'!C1684","v":0},{"$f":"'BX Language acquisition'!D1684","v":0}]
[{"$f":"'BX Language acquisition'!A1685","v":0},{"$f":"'BX Language acquisition'!B1685","v":0},null,{"$f":"'BX Language acquisition'!C1685","v":0},{"$f":"'BX Language acquisition'!D1685","v":0}]
[{"$f":"'BX Language acquisition'!A1686","v":0},{"$f":"'BX Language acquisition'!B1686","v":0},null,{"$f":"'BX Language acquisition'!C1686","v":0},{"$f":"'BX Language acquisition'!D1686","v":0}]
[{"$f":"'BX Language acquisition'!A1687","v":0},{"$f":"'BX Language acquisition'!B1687","v":0},null,{"$f":"'BX Language acquisition'!C1687","v":0},{"$f":"'BX Language acquisition'!D1687","v":0}]
[{"$f":"'BX Language acquisition'!A1688","v":0},{"$f":"'BX Language acquisition'!B1688","v":0},null,{"$f":"'BX Language acquisition'!C1688","v":0},{"$f":"'BX Language acquisition'!D1688","v":0}]
[{"$f":"'BX Language acquisition'!A1689","v":0},{"$f":"'BX Language acquisition'!B1689","v":0},null,{"$f":"'BX Language acquisition'!C1689","v":0},{"$f":"'BX Language acquisition'!D1689","v":0}]
[{"$f":"'BX Language acquisition'!A1690","v":0},{"$f":"'BX Language acquisition'!B1690","v":0},null,{"$f":"'BX Language acquisition'!C1690","v":0},{"$f":"'BX Language acquisition'!D1690","v":0}]
[{"$f":"'BX Language acquisition'!A1691","v":0},{"$f":"'BX Language acquisition'!B1691","v":0},null,{"$f":"'BX Language acquisition'!C1691","v":0},{"$f":"'BX Language acquisition'!D1691","v":0}]
[{"$f":"'BX Language acquisition'!A1692","v":0},{"$f":"'BX Language acquisition'!B1692","v":0},null,{"$f":"'BX Language acquisition'!C1692","v":0},{"$f":"'BX Language acquisition'!D1692","v":0}]
[{"$f":"'BX Language acquisition'!A1693","v":0},{"$f":"'BX Language acquisition'!B1693","v":0},null,{"$f":"'BX Language acquisition'!C1693","v":0},{"$f":"'BX Language acquisition'!D1693","v":0}]
[{"$f":"'BX Language acquisition'!A1694","v":0},{"$f":"'BX Language acquisition'!B1694","v":0},null,{"$f":"'BX Language acquisition'!C1694","v":0},{"$f":"'BX Language acquisition'!D1694","v":0}]
[{"$f":"'BX Language acquisition'!A1695","v":0},{"$f":"'BX Language acquisition'!B1695","v":0},null,{"$f":"'BX Language acquisition'!C1695","v":0},{"$f":"'BX Language acquisition'!D1695","v":0}]
[{"$f":"'BX Language acquisition'!A1696","v":0},{"$f":"'BX Language acquisition'!B1696","v":0},null,{"$f":"'BX Language acquisition'!C1696","v":0},{"$f":"'BX Language acquisition'!D1696","v":0}]
[{"$f":"'BX Language acquisition'!A1697","v":0},{"$f":"'BX Language acquisition'!B1697","v":0},null,{"$f":"'BX Language acquisition'!C1697","v":0},{"$f":"'BX Language acquisition'!D1697","v":0}]
[{"$f":"'BX Language acquisition'!A1698","v":0},{"$f":"'BX Language acquisition'!B1698","v":0},null,{"$f":"'BX Language acquisition'!C1698","v":0},{"$f":"'BX Language acquisition'!D1698","v":0}]
[{"$f":"'BX Language acquisition'!A1699","v":0},{"$f":"'BX Language acquisition'!B1699","v":0},null,{"$f":"'BX Language acquisition'!C1699","v":0},{"$f":"'BX Language acquisition'!D1699","v":0}]
[{"$f":"'BX Language acquisition'!A1700","v":0},{"$f":"'BX Language acquisition'!B1700","v":0},null,{"$f":"'BX Language acquisition'!C1700","v":0},{"$f":"'BX Language acquisition'!D1700","v":0}]
[{"$f":"'BX Language acquisition'!A1701","v":0},{"$f":"'BX Language acquisition'!B1701","v":0},null,{"$f":"'BX Language acquisition'!C1701","v":0},{"$f":"'BX Language acquisition'!D1701","v":0}]
[{"$f":"'BX Language acquisition'!A1702","v":0},{"$f":"'BX Language acquisition'!B1702","v":0},null,{"$f":"'BX Language acquisition'!C1702","v":0},{"$f":"'BX Language acquisition'!D1702","v":0}]
[{"$f":"'BX Language acquisition'!A1703","v":0},{"$f":"'BX Language acquisition'!B1703","v":0},null,{"$f":"'BX Language acquisition'!C1703","v":0},{"$f":"'BX Language acquisition'!D1703","v":0}]
[{"$f":"'BX Language acquisition'!A1704","v":0},{"$f":"'BX Language acquisition'!B1704","v":0},null,{"$f":"'BX Language acquisition'!C1704","v":0},{"$f":"'BX Language acquisition'!D1704","v":0}]
[{"$f":"'BX Language acquisition'!A1705","v":0},{"$f":"'BX Language acquisition'!B1705","v":0},null,{"$f":"'BX Language acquisition'!C1705","v":0},{"$f":"'BX Language acquisition'!D1705","v":0}]
[{"$f":"'BX Language acquisition'!A1706","v":0},{"$f":"'BX Language acquisition'!B1706","v":0},null,{"$f":"'BX Language acquisition'!C1706","v":0},{"$f":"'BX Language acquisition'!D1706","v":0}]
[{"$f":"'BX Language acquisition'!A1707","v":0},{"$f":"'BX Language acquisition'!B1707","v":0},null,{"$f":"'BX Language acquisition'!C1707","v":0},{"$f":"'BX Language acquisition'!D1707","v":0}]
[{"$f":"'BX Language acquisition'!A1708","v":0},{"$f":"'BX Language acquisition'!B1708","v":0},null,{"$f":"'BX Language acquisition'!C1708","v":0},{"$f":"'BX Language acquisition'!D1708","v":0}]
[{"$f":"'BX Language acquisition'!A1709","v":0},{"$f":"'BX Language acquisition'!B1709","v":0},null,{"$f":"'BX Language acquisition'!C1709","v":0},{"$f":"'BX Language acquisition'!D1709","v":0}]
[{"$f":"'BX Language acquisition'!A1710","v":0},{"$f":"'BX Language acquisition'!B1710","v":0},null,{"$f":"'BX Language acquisition'!C1710","v":0},{"$f":"'BX Language acquisition'!D1710","v":0}]
[{"$f":"'BX Language acquisition'!A1711","v":0},{"$f":"'BX Language acquisition'!B1711","v":0},null,{"$f":"'BX Language acquisition'!C1711","v":0},{"$f":"'BX Language acquisition'!D1711","v":0}]
[{"$f":"'BX Language acquisition'!A1712","v":0},{"$f":"'BX Language acquisition'!B1712","v":0},null,{"$f":"'BX Language acquisition'!C1712","v":0},{"$f":"'BX Language acquisition'!D1712","v":0}]
[{"$f":"'BX Language acquisition'!A1713","v":0},{"$f":"'BX Language acquisition'!B1713","v":0},null,{"$f":"'BX Language acquisition'!C1713","v":0},{"$f":"'BX Language acquisition'!D1713","v":0}]
[{"$f":"'BX Language acquisition'!A1714","v":0},{"$f":"'BX Language acquisition'!B1714","v":0},null,{"$f":"'BX Language acquisition'!C1714","v":0},{"$f":"'BX Language acquisition'!D1714","v":0}]
[{"$f":"'BX Language acquisition'!A1715","v":0},{"$f":"'BX Language acquisition'!B1715","v":0},null,{"$f":"'BX Language acquisition'!C1715","v":0},{"$f":"'BX Language acquisition'!D1715","v":0}]
[{"$f":"'BX Language acquisition'!A1716","v":0},{"$f":"'BX Language acquisition'!B1716","v":0},null,{"$f":"'BX Language acquisition'!C1716","v":0},{"$f":"'BX Language acquisition'!D1716","v":0}]
[{"$f":"'BX Language acquisition'!A1717","v":0},{"$f":"'BX Language acquisition'!B1717","v":0},null,{"$f":"'BX Language acquisition'!C1717","v":0},{"$f":"'BX Language acquisition'!D1717","v":0}]
[{"$f":"'BX Language acquisition'!A1718","v":0},{"$f":"'BX Language acquisition'!B1718","v":0},null,{"$f":"'BX Language acquisition'!C1718","v":0},{"$f":"'BX Language acquisition'!D1718","v":0}]
[{"$f":"'BX Language acquisition'!A1719","v":0},{"$f":"'BX Language acquisition'!B1719","v":0},null,{"$f":"'BX Language acquisition'!C1719","v":0},{"$f":"'BX Language acquisition'!D1719","v":0}]
[{"$f":"'BX Language acquisition'!A1720","v":0},{"$f":"'BX Language acquisition'!B1720","v":0},null,{"$f":"'BX Language acquisition'!C1720","v":0},{"$f":"'BX Language acquisition'!D1720","v":0}]
[{"$f":"'BX Language acquisition'!A1721","v":0},{"$f":"'BX Language acquisition'!B1721","v":0},null,{"$f":"'BX Language acquisition'!C1721","v":0},{"$f":"'BX Language acquisition'!D1721","v":0}]
[{"$f":"'BX Language acquisition'!A1722","v":0},{"$f":"'BX Language acquisition'!B1722","v":0},null,{"$f":"'BX Language acquisition'!C1722","v":0},{"$f":"'BX Language acquisition'!D1722","v":0}]
[{"$f":"'BX Language acquisition'!A1723","v":0},{"$f":"'BX Language acquisition'!B1723","v":0},null,{"$f":"'BX Language acquisition'!C1723","v":0},{"$f":"'BX Language acquisition'!D1723","v":0}]
[{"$f":"'BX Language acquisition'!A1724","v":0},{"$f":"'BX Language acquisition'!B1724","v":0},null,{"$f":"'BX Language acquisition'!C1724","v":0},{"$f":"'BX Language acquisition'!D1724","v":0}]
[{"$f":"'BX Language acquisition'!A1725","v":0},{"$f":"'BX Language acquisition'!B1725","v":0},null,{"$f":"'BX Language acquisition'!C1725","v":0},{"$f":"'BX Language acquisition'!D1725","v":0}]
[{"$f":"'BX Language acquisition'!A1726","v":0},{"$f":"'BX Language acquisition'!B1726","v":0},null,{"$f":"'BX Language acquisition'!C1726","v":0},{"$f":"'BX Language acquisition'!D1726","v":0}]
[{"$f":"'BX Language acquisition'!A1727","v":0},{"$f":"'BX Language acquisition'!B1727","v":0},null,{"$f":"'BX Language acquisition'!C1727","v":0},{"$f":"'BX Language acquisition'!D1727","v":0}]
[{"$f":"'BX Language acquisition'!A1728","v":0},{"$f":"'BX Language acquisition'!B1728","v":0},null,{"$f":"'BX Language acquisition'!C1728","v":0},{"$f":"'BX Language acquisition'!D1728","v":0}]
[{"$f":"'BX Language acquisition'!A1729","v":0},{"$f":"'BX Language acquisition'!B1729","v":0},null,{"$f":"'BX Language acquisition'!C1729","v":0},{"$f":"'BX Language acquisition'!D1729","v":0}]
[{"$f":"'BX Language acquisition'!A1730","v":0},{"$f":"'BX Language acquisition'!B1730","v":0},null,{"$f":"'BX Language acquisition'!C1730","v":0},{"$f":"'BX Language acquisition'!D1730","v":0}]
[{"$f":"'BX Language acquisition'!A1731","v":0},{"$f":"'BX Language acquisition'!B1731","v":0},null,{"$f":"'BX Language acquisition'!C1731","v":0},{"$f":"'BX Language acquisition'!D1731","v":0}]
[{"$f":"'BX Language acquisition'!A1732","v":0},{"$f":"'BX Language acquisition'!B1732","v":0},null,{"$f":"'BX Language acquisition'!C1732","v":0},{"$f":"'BX Language acquisition'!D1732","v":0}]
[{"$f":"'BX Language acquisition'!A1733","v":0},{"$f":"'BX Language acquisition'!B1733","v":0},null,{"$f":"'BX Language acquisition'!C1733","v":0},{"$f":"'BX Language acquisition'!D1733","v":0}]
[{"$f":"'BX Language acquisition'!A1734","v":0},{"$f":"'BX Language acquisition'!B1734","v":0},null,{"$f":"'BX Language acquisition'!C1734","v":0},{"$f":"'BX Language acquisition'!D1734","v":0}]
[{"$f":"'BX Language acquisition'!A1735","v":0},{"$f":"'BX Language acquisition'!B1735","v":0},null,{"$f":"'BX Language acquisition'!C1735","v":0},{"$f":"'BX Language acquisition'!D1735","v":0}]
[{"$f":"'BX Language acquisition'!A1736","v":0},{"$f":"'BX Language acquisition'!B1736","v":0},null,{"$f":"'BX Language acquisition'!C1736","v":0},{"$f":"'BX Language acquisition'!D1736","v":0}]
[{"$f":"'BX Language acquisition'!A1737","v":0},{"$f":"'BX Language acquisition'!B1737","v":0},null,{"$f":"'BX Language acquisition'!C1737","v":0},{"$f":"'BX Language acquisition'!D1737","v":0}]
[{"$f":"'BX Language acquisition'!A1738","v":0},{"$f":"'BX Language acquisition'!B1738","v":0},null,{"$f":"'BX Language acquisition'!C1738","v":0},{"$f":"'BX Language acquisition'!D1738","v":0}]
[{"$f":"'BX Language acquisition'!A1739","v":0},{"$f":"'BX Language acquisition'!B1739","v":0},null,{"$f":"'BX Language acquisition'!C1739","v":0},{"$f":"'BX Language acquisition'!D1739","v":0}]
[{"$f":"'BX Language acquisition'!A1740","v":0},{"$f":"'BX Language acquisition'!B1740","v":0},null,{"$f":"'BX Language acquisition'!C1740","v":0},{"$f":"'BX Language acquisition'!D1740","v":0}]
[{"$f":"'BX Language acquisition'!A1741","v":0},{"$f":"'BX Language acquisition'!B1741","v":0},null,{"$f":"'BX Language acquisition'!C1741","v":0},{"$f":"'BX Language acquisition'!D1741","v":0}]
[{"$f":"'BX Language acquisition'!A1742","v":0},{"$f":"'BX Language acquisition'!B1742","v":0},null,{"$f":"'BX Language acquisition'!C1742","v":0},{"$f":"'BX Language acquisition'!D1742","v":0}]
[{"$f":"'BX Language acquisition'!A1743","v":0},{"$f":"'BX Language acquisition'!B1743","v":0},null,{"$f":"'BX Language acquisition'!C1743","v":0},{"$f":"'BX Language acquisition'!D1743","v":0}]
[{"$f":"'BX Language acquisition'!A1744","v":0},{"$f":"'BX Language acquisition'!B1744","v":0},null,{"$f":"'BX Language acquisition'!C1744","v":0},{"$f":"'BX Language acquisition'!D1744","v":0}]
[{"$f":"'BX Language acquisition'!A1745","v":0},{"$f":"'BX Language acquisition'!B1745","v":0},null,{"$f":"'BX Language acquisition'!C1745","v":0},{"$f":"'BX Language acquisition'!D1745","v":0}]
[{"$f":"'BX Language acquisition'!A1746","v":0},{"$f":"'BX Language acquisition'!B1746","v":0},null,{"$f":"'BX Language acquisition'!C1746","v":0},{"$f":"'BX Language acquisition'!D1746","v":0}]
[{"$f":"'BX Language acquisition'!A1747","v":0},{"$f":"'BX Language acquisition'!B1747","v":0},null,{"$f":"'BX Language acquisition'!C1747","v":0},{"$f":"'BX Language acquisition'!D1747","v":0}]
[{"$f":"'BX Language acquisition'!A1748","v":0},{"$f":"'BX Language acquisition'!B1748","v":0},null,{"$f":"'BX Language acquisition'!C1748","v":0},{"$f":"'BX Language acquisition'!D1748","v":0}]
[{"$f":"'BX Language acquisition'!A1749","v":0},{"$f":"'BX Language acquisition'!B1749","v":0},null,{"$f":"'BX Language acquisition'!C1749","v":0},{"$f":"'BX Language acquisition'!D1749","v":0}]
[{"$f":"'BX Language acquisition'!A1750","v":0},{"$f":"'BX Language acquisition'!B1750","v":0},null,{"$f":"'BX Language acquisition'!C1750","v":0},{"$f":"'BX Language acquisition'!D1750","v":0}]
[{"$f":"'BX Language acquisition'!A1751","v":0},{"$f":"'BX Language acquisition'!B1751","v":0},null,{"$f":"'BX Language acquisition'!C1751","v":0},{"$f":"'BX Language acquisition'!D1751","v":0}]
[{"$f":"'BX Language acquisition'!A1752","v":0},{"$f":"'BX Language acquisition'!B1752","v":0},null,{"$f":"'BX Language acquisition'!C1752","v":0},{"$f":"'BX Language acquisition'!D1752","v":0}]
[{"$f":"'BX Language acquisition'!A1753","v":0},{"$f":"'BX Language acquisition'!B1753","v":0},null,{"$f":"'BX Language acquisition'!C1753","v":0},{"$f":"'BX Language acquisition'!D1753","v":0}]
[{"$f":"'BX Language acquisition'!A1754","v":0},{"$f":"'BX Language acquisition'!B1754","v":0},null,{"$f":"'BX Language acquisition'!C1754","v":0},{"$f":"'BX Language acquisition'!D1754","v":0}]
[{"$f":"'BX Language acquisition'!A1755","v":0},{"$f":"'BX Language acquisition'!B1755","v":0},null,{"$f":"'BX Language acquisition'!C1755","v":0},{"$f":"'BX Language acquisition'!D1755","v":0}]
[{"$f":"'BX Language acquisition'!A1756","v":0},{"$f":"'BX Language acquisition'!B1756","v":0},null,{"$f":"'BX Language acquisition'!C1756","v":0},{"$f":"'BX Language acquisition'!D1756","v":0}]
[{"$f":"'BX Language acquisition'!A1757","v":0},{"$f":"'BX Language acquisition'!B1757","v":0},null,{"$f":"'BX Language acquisition'!C1757","v":0},{"$f":"'BX Language acquisition'!D1757","v":0}]
[{"$f":"'BX Language acquisition'!A1758","v":0},{"$f":"'BX Language acquisition'!B1758","v":0},null,{"$f":"'BX Language acquisition'!C1758","v":0},{"$f":"'BX Language acquisition'!D1758","v":0}]
[{"$f":"'BX Language acquisition'!A1759","v":0},{"$f":"'BX Language acquisition'!B1759","v":0},null,{"$f":"'BX Language acquisition'!C1759","v":0},{"$f":"'BX Language acquisition'!D1759","v":0}]
[{"$f":"'BX Language acquisition'!A1760","v":0},{"$f":"'BX Language acquisition'!B1760","v":0},null,{"$f":"'BX Language acquisition'!C1760","v":0},{"$f":"'BX Language acquisition'!D1760","v":0}]
[{"$f":"'BX Language acquisition'!A1761","v":0},{"$f":"'BX Language acquisition'!B1761","v":0},null,{"$f":"'BX Language acquisition'!C1761","v":0},{"$f":"'BX Language acquisition'!D1761","v":0}]
[{"$f":"'BX Language acquisition'!A1762","v":0},{"$f":"'BX Language acquisition'!B1762","v":0},null,{"$f":"'BX Language acquisition'!C1762","v":0},{"$f":"'BX Language acquisition'!D1762","v":0}]
[{"$f":"'BX Language acquisition'!A1763","v":0},{"$f":"'BX Language acquisition'!B1763","v":0},null,{"$f":"'BX Language acquisition'!C1763","v":0},{"$f":"'BX Language acquisition'!D1763","v":0}]
[{"$f":"'BX Language acquisition'!A1764","v":0},{"$f":"'BX Language acquisition'!B1764","v":0},null,{"$f":"'BX Language acquisition'!C1764","v":0},{"$f":"'BX Language acquisition'!D1764","v":0}]
[{"$f":"'BX Language acquisition'!A1765","v":0},{"$f":"'BX Language acquisition'!B1765","v":0},null,{"$f":"'BX Language acquisition'!C1765","v":0},{"$f":"'BX Language acquisition'!D1765","v":0}]
[{"$f":"'BX Language acquisition'!A1766","v":0},{"$f":"'BX Language acquisition'!B1766","v":0},null,{"$f":"'BX Language acquisition'!C1766","v":0},{"$f":"'BX Language acquisition'!D1766","v":0}]
[{"$f":"'BX Language acquisition'!A1767","v":0},{"$f":"'BX Language acquisition'!B1767","v":0},null,{"$f":"'BX Language acquisition'!C1767","v":0},{"$f":"'BX Language acquisition'!D1767","v":0}]
[{"$f":"'BX Language acquisition'!A1768","v":0},{"$f":"'BX Language acquisition'!B1768","v":0},null,{"$f":"'BX Language acquisition'!C1768","v":0},{"$f":"'BX Language acquisition'!D1768","v":0}]
[{"$f":"'BX Language acquisition'!A1769","v":0},{"$f":"'BX Language acquisition'!B1769","v":0},null,{"$f":"'BX Language acquisition'!C1769","v":0},{"$f":"'BX Language acquisition'!D1769","v":0}]
[{"$f":"'BX Language acquisition'!A1770","v":0},{"$f":"'BX Language acquisition'!B1770","v":0},null,{"$f":"'BX Language acquisition'!C1770","v":0},{"$f":"'BX Language acquisition'!D1770","v":0}]
[{"$f":"'BX Language acquisition'!A1771","v":0},{"$f":"'BX Language acquisition'!B1771","v":0},null,{"$f":"'BX Language acquisition'!C1771","v":0},{"$f":"'BX Language acquisition'!D1771","v":0}]
[{"$f":"'BX Language acquisition'!A1772","v":0},{"$f":"'BX Language acquisition'!B1772","v":0},null,{"$f":"'BX Language acquisition'!C1772","v":0},{"$f":"'BX Language acquisition'!D1772","v":0}]
[{"$f":"'BX Language acquisition'!A1773","v":0},{"$f":"'BX Language acquisition'!B1773","v":0},null,{"$f":"'BX Language acquisition'!C1773","v":0},{"$f":"'BX Language acquisition'!D1773","v":0}]
[{"$f":"'BX Language acquisition'!A1774","v":0},{"$f":"'BX Language acquisition'!B1774","v":0},null,{"$f":"'BX Language acquisition'!C1774","v":0},{"$f":"'BX Language acquisition'!D1774","v":0}]
[{"$f":"'BX Language acquisition'!A1775","v":0},{"$f":"'BX Language acquisition'!B1775","v":0},null,{"$f":"'BX Language acquisition'!C1775","v":0},{"$f":"'BX Language acquisition'!D1775","v":0}]
[{"$f":"'BX Language acquisition'!A1776","v":0},{"$f":"'BX Language acquisition'!B1776","v":0},null,{"$f":"'BX Language acquisition'!C1776","v":0},{"$f":"'BX Language acquisition'!D1776","v":0}]
[{"$f":"'BX Language acquisition'!A1777","v":0},{"$f":"'BX Language acquisition'!B1777","v":0},null,{"$f":"'BX Language acquisition'!C1777","v":0},{"$f":"'BX Language acquisition'!D1777","v":0}]
[{"$f":"'BX Language acquisition'!A1778","v":0},{"$f":"'BX Language acquisition'!B1778","v":0},null,{"$f":"'BX Language acquisition'!C1778","v":0},{"$f":"'BX Language acquisition'!D1778","v":0}]
[{"$f":"'BX Language acquisition'!A1779","v":0},{"$f":"'BX Language acquisition'!B1779","v":0},null,{"$f":"'BX Language acquisition'!C1779","v":0},{"$f":"'BX Language acquisition'!D1779","v":0}]
[{"$f":"'BX Language acquisition'!A1780","v":0},{"$f":"'BX Language acquisition'!B1780","v":0},null,{"$f":"'BX Language acquisition'!C1780","v":0},{"$f":"'BX Language acquisition'!D1780","v":0}]
[{"$f":"'BX Language acquisition'!A1781","v":0},{"$f":"'BX Language acquisition'!B1781","v":0},null,{"$f":"'BX Language acquisition'!C1781","v":0},{"$f":"'BX Language acquisition'!D1781","v":0}]
[{"$f":"'BX Language acquisition'!A1782","v":0},{"$f":"'BX Language acquisition'!B1782","v":0},null,{"$f":"'BX Language acquisition'!C1782","v":0},{"$f":"'BX Language acquisition'!D1782","v":0}]
[{"$f":"'BX Language acquisition'!A1783","v":0},{"$f":"'BX Language acquisition'!B1783","v":0},null,{"$f":"'BX Language acquisition'!C1783","v":0},{"$f":"'BX Language acquisition'!D1783","v":0}]
[{"$f":"'BX Language acquisition'!A1784","v":0},{"$f":"'BX Language acquisition'!B1784","v":0},null,{"$f":"'BX Language acquisition'!C1784","v":0},{"$f":"'BX Language acquisition'!D1784","v":0}]
[{"$f":"'BX Language acquisition'!A1785","v":0},{"$f":"'BX Language acquisition'!B1785","v":0},null,{"$f":"'BX Language acquisition'!C1785","v":0},{"$f":"'BX Language acquisition'!D1785","v":0}]
[{"$f":"'BX Language acquisition'!A1786","v":0},{"$f":"'BX Language acquisition'!B1786","v":0},null,{"$f":"'BX Language acquisition'!C1786","v":0},{"$f":"'BX Language acquisition'!D1786","v":0}]
[{"$f":"'BX Language acquisition'!A1787","v":0},{"$f":"'BX Language acquisition'!B1787","v":0},null,{"$f":"'BX Language acquisition'!C1787","v":0},{"$f":"'BX Language acquisition'!D1787","v":0}]
[{"$f":"'BX Language acquisition'!A1788","v":0},{"$f":"'BX Language acquisition'!B1788","v":0},null,{"$f":"'BX Language acquisition'!C1788","v":0},{"$f":"'BX Language acquisition'!D1788","v":0}]
[{"$f":"'BX Language acquisition'!A1789","v":0},{"$f":"'BX Language acquisition'!B1789","v":0},null,{"$f":"'BX Language acquisition'!C1789","v":0},{"$f":"'BX Language acquisition'!D1789","v":0}]
[{"$f":"'BX Language acquisition'!A1790","v":0},{"$f":"'BX Language acquisition'!B1790","v":0},null,{"$f":"'BX Language acquisition'!C1790","v":0},{"$f":"'BX Language acquisition'!D1790","v":0}]
[{"$f":"'BX Language acquisition'!A1791","v":0},{"$f":"'BX Language acquisition'!B1791","v":0},null,{"$f":"'BX Language acquisition'!C1791","v":0},{"$f":"'BX Language acquisition'!D1791","v":0}]
[{"$f":"'BX Language acquisition'!A1792","v":0},{"$f":"'BX Language acquisition'!B1792","v":0},null,{"$f":"'BX Language acquisition'!C1792","v":0},{"$f":"'BX Language acquisition'!D1792","v":0}]
[{"$f":"'BX Language acquisition'!A1793","v":0},{"$f":"'BX Language acquisition'!B1793","v":0},null,{"$f":"'BX Language acquisition'!C1793","v":0},{"$f":"'BX Language acquisition'!D1793","v":0}]
[{"$f":"'BX Language acquisition'!A1794","v":0},{"$f":"'BX Language acquisition'!B1794","v":0},null,{"$f":"'BX Language acquisition'!C1794","v":0},{"$f":"'BX Language acquisition'!D1794","v":0}]
[{"$f":"'BX Language acquisition'!A1795","v":0},{"$f":"'BX Language acquisition'!B1795","v":0},null,{"$f":"'BX Language acquisition'!C1795","v":0},{"$f":"'BX Language acquisition'!D1795","v":0}]
[{"$f":"'BX Language acquisition'!A1796","v":0},{"$f":"'BX Language acquisition'!B1796","v":0},null,{"$f":"'BX Language acquisition'!C1796","v":0},{"$f":"'BX Language acquisition'!D1796","v":0}]
[{"$f":"'BX Language acquisition'!A1797","v":0},{"$f":"'BX Language acquisition'!B1797","v":0},null,{"$f":"'BX Language acquisition'!C1797","v":0},{"$f":"'BX Language acquisition'!D1797","v":0}]
[{"$f":"'BX Language acquisition'!A1798","v":0},{"$f":"'BX Language acquisition'!B1798","v":0},null,{"$f":"'BX Language acquisition'!C1798","v":0},{"$f":"'BX Language acquisition'!D1798","v":0}]
[{"$f":"'BX Language acquisition'!A1799","v":0},{"$f":"'BX Language acquisition'!B1799","v":0},null,{"$f":"'BX Language acquisition'!C1799","v":0},{"$f":"'BX Language acquisition'!D1799","v":0}]
[{"$f":"'BX Language acquisition'!A1800","v":0},{"$f":"'BX Language acquisition'!B1800","v":0},null,{"$f":"'BX Language acquisition'!C1800","v":0},{"$f":"'BX Language acquisition'!D1800","v":0}]
[{"$f":"'BX Language acquisition'!A1801","v":0},{"$f":"'BX Language acquisition'!B1801","v":0},null,{"$f":"'BX Language acquisition'!C1801","v":0},{"$f":"'BX Language acquisition'!D1801","v":0}]
[{"$f":"'BX Language acquisition'!A1802","v":0},{"$f":"'BX Language acquisition'!B1802","v":0},null,{"$f":"'BX Language acquisition'!C1802","v":0},{"$f":"'BX Language acquisition'!D1802","v":0}]
[{"$f":"'BX Language acquisition'!A1803","v":0},{"$f":"'BX Language acquisition'!B1803","v":0},null,{"$f":"'BX Language acquisition'!C1803","v":0},{"$f":"'BX Language acquisition'!D1803","v":0}]
[{"$f":"'BX Language acquisition'!A1804","v":0},{"$f":"'BX Language acquisition'!B1804","v":0},null,{"$f":"'BX Language acquisition'!C1804","v":0},{"$f":"'BX Language acquisition'!D1804","v":0}]
[{"$f":"'BX Language acquisition'!A1805","v":0},{"$f":"'BX Language acquisition'!B1805","v":0},null,{"$f":"'BX Language acquisition'!C1805","v":0},{"$f":"'BX Language acquisition'!D1805","v":0}]
[{"$f":"'BX Language acquisition'!A1806","v":0},{"$f":"'BX Language acquisition'!B1806","v":0},null,{"$f":"'BX Language acquisition'!C1806","v":0},{"$f":"'BX Language acquisition'!D1806","v":0}]
[{"$f":"'BX Language acquisition'!A1807","v":0},{"$f":"'BX Language acquisition'!B1807","v":0},null,{"$f":"'BX Language acquisition'!C1807","v":0},{"$f":"'BX Language acquisition'!D1807","v":0}]
[{"$f":"'BX Language acquisition'!A1808","v":0},{"$f":"'BX Language acquisition'!B1808","v":0},null,{"$f":"'BX Language acquisition'!C1808","v":0},{"$f":"'BX Language acquisition'!D1808","v":0}]
[{"$f":"'BX Language acquisition'!A1809","v":0},{"$f":"'BX Language acquisition'!B1809","v":0},null,{"$f":"'BX Language acquisition'!C1809","v":0},{"$f":"'BX Language acquisition'!D1809","v":0}]
[{"$f":"'BX Language acquisition'!A1810","v":0},{"$f":"'BX Language acquisition'!B1810","v":0},null,{"$f":"'BX Language acquisition'!C1810","v":0},{"$f":"'BX Language acquisition'!D1810","v":0}]
[{"$f":"'BX Language acquisition'!A1811","v":0},{"$f":"'BX Language acquisition'!B1811","v":0},null,{"$f":"'BX Language acquisition'!C1811","v":0},{"$f":"'BX Language acquisition'!D1811","v":0}]
[{"$f":"'BX Language acquisition'!A1812","v":0},{"$f":"'BX Language acquisition'!B1812","v":0},null,{"$f":"'BX Language acquisition'!C1812","v":0},{"$f":"'BX Language acquisition'!D1812","v":0}]
[{"$f":"'BX Language acquisition'!A1813","v":0},{"$f":"'BX Language acquisition'!B1813","v":0},null,{"$f":"'BX Language acquisition'!C1813","v":0},{"$f":"'BX Language acquisition'!D1813","v":0}]
[{"$f":"'BX Language acquisition'!A1814","v":0},{"$f":"'BX Language acquisition'!B1814","v":0},null,{"$f":"'BX Language acquisition'!C1814","v":0},{"$f":"'BX Language acquisition'!D1814","v":0}]
[{"$f":"'BX Language acquisition'!A1815","v":0},{"$f":"'BX Language acquisition'!B1815","v":0},null,{"$f":"'BX Language acquisition'!C1815","v":0},{"$f":"'BX Language acquisition'!D1815","v":0}]
[{"$f":"'BX Language acquisition'!A1816","v":0},{"$f":"'BX Language acquisition'!B1816","v":0},null,{"$f":"'BX Language acquisition'!C1816","v":0},{"$f":"'BX Language acquisition'!D1816","v":0}]
[{"$f":"'BX Language acquisition'!A1817","v":0},{"$f":"'BX Language acquisition'!B1817","v":0},null,{"$f":"'BX Language acquisition'!C1817","v":0},{"$f":"'BX Language acquisition'!D1817","v":0}]
[{"$f":"'BX Language acquisition'!A1818","v":0},{"$f":"'BX Language acquisition'!B1818","v":0},null,{"$f":"'BX Language acquisition'!C1818","v":0},{"$f":"'BX Language acquisition'!D1818","v":0}]
[{"$f":"'BX Language acquisition'!A1819","v":0},{"$f":"'BX Language acquisition'!B1819","v":0},null,{"$f":"'BX Language acquisition'!C1819","v":0},{"$f":"'BX Language acquisition'!D1819","v":0}]
[{"$f":"'BX Language acquisition'!A1820","v":0},{"$f":"'BX Language acquisition'!B1820","v":0},null,{"$f":"'BX Language acquisition'!C1820","v":0},{"$f":"'BX Language acquisition'!D1820","v":0}]
[{"$f":"'BX Language acquisition'!A1821","v":0},{"$f":"'BX Language acquisition'!B1821","v":0},null,{"$f":"'BX Language acquisition'!C1821","v":0},{"$f":"'BX Language acquisition'!D1821","v":0}]
[{"$f":"'BX Language acquisition'!A1822","v":0},{"$f":"'BX Language acquisition'!B1822","v":0},null,{"$f":"'BX Language acquisition'!C1822","v":0},{"$f":"'BX Language acquisition'!D1822","v":0}]
[{"$f":"'BX Language acquisition'!A1823","v":0},{"$f":"'BX Language acquisition'!B1823","v":0},null,{"$f":"'BX Language acquisition'!C1823","v":0},{"$f":"'BX Language acquisition'!D1823","v":0}]
[{"$f":"'BX Language acquisition'!A1824","v":0},{"$f":"'BX Language acquisition'!B1824","v":0},null,{"$f":"'BX Language acquisition'!C1824","v":0},{"$f":"'BX Language acquisition'!D1824","v":0}]
[{"$f":"'BX Language acquisition'!A1825","v":0},{"$f":"'BX Language acquisition'!B1825","v":0},null,{"$f":"'BX Language acquisition'!C1825","v":0},{"$f":"'BX Language acquisition'!D1825","v":0}]
[{"$f":"'BX Language acquisition'!A1826","v":0},{"$f":"'BX Language acquisition'!B1826","v":0},null,{"$f":"'BX Language acquisition'!C1826","v":0},{"$f":"'BX Language acquisition'!D1826","v":0}]
[{"$f":"'BX Language acquisition'!A1827","v":0},{"$f":"'BX Language acquisition'!B1827","v":0},null,{"$f":"'BX Language acquisition'!C1827","v":0},{"$f":"'BX Language acquisition'!D1827","v":0}]
[{"$f":"'BX Language acquisition'!A1828","v":0},{"$f":"'BX Language acquisition'!B1828","v":0},null,{"$f":"'BX Language acquisition'!C1828","v":0},{"$f":"'BX Language acquisition'!D1828","v":0}]
[{"$f":"'BX Language acquisition'!A1829","v":0},{"$f":"'BX Language acquisition'!B1829","v":0},null,{"$f":"'BX Language acquisition'!C1829","v":0},{"$f":"'BX Language acquisition'!D1829","v":0}]
[{"$f":"'BX Language acquisition'!A1830","v":0},{"$f":"'BX Language acquisition'!B1830","v":0},null,{"$f":"'BX Language acquisition'!C1830","v":0},{"$f":"'BX Language acquisition'!D1830","v":0}]
[{"$f":"'BX Language acquisition'!A1831","v":0},{"$f":"'BX Language acquisition'!B1831","v":0},null,{"$f":"'BX Language acquisition'!C1831","v":0},{"$f":"'BX Language acquisition'!D1831","v":0}]
[{"$f":"'BX Language acquisition'!A1832","v":0},{"$f":"'BX Language acquisition'!B1832","v":0},null,{"$f":"'BX Language acquisition'!C1832","v":0},{"$f":"'BX Language acquisition'!D1832","v":0}]
[{"$f":"'BX Language acquisition'!A1833","v":0},{"$f":"'BX Language acquisition'!B1833","v":0},null,{"$f":"'BX Language acquisition'!C1833","v":0},{"$f":"'BX Language acquisition'!D1833","v":0}]
[{"$f":"'BX Language acquisition'!A1834","v":0},{"$f":"'BX Language acquisition'!B1834","v":0},null,{"$f":"'BX Language acquisition'!C1834","v":0},{"$f":"'BX Language acquisition'!D1834","v":0}]
[{"$f":"'BX Language acquisition'!A1835","v":0},{"$f":"'BX Language acquisition'!B1835","v":0},null,{"$f":"'BX Language acquisition'!C1835","v":0},{"$f":"'BX Language acquisition'!D1835","v":0}]
[{"$f":"'BX Language acquisition'!A1836","v":0},{"$f":"'BX Language acquisition'!B1836","v":0},null,{"$f":"'BX Language acquisition'!C1836","v":0},{"$f":"'BX Language acquisition'!D1836","v":0}]
[{"$f":"'BX Language acquisition'!A1837","v":0},{"$f":"'BX Language acquisition'!B1837","v":0},null,{"$f":"'BX Language acquisition'!C1837","v":0},{"$f":"'BX Language acquisition'!D1837","v":0}]
[{"$f":"'BX Language acquisition'!A1838","v":0},{"$f":"'BX Language acquisition'!B1838","v":0},null,{"$f":"'BX Language acquisition'!C1838","v":0},{"$f":"'BX Language acquisition'!D1838","v":0}]
[{"$f":"'BX Language acquisition'!A1839","v":0},{"$f":"'BX Language acquisition'!B1839","v":0},null,{"$f":"'BX Language acquisition'!C1839","v":0},{"$f":"'BX Language acquisition'!D1839","v":0}]
[{"$f":"'BX Language acquisition'!A1840","v":0},{"$f":"'BX Language acquisition'!B1840","v":0},null,{"$f":"'BX Language acquisition'!C1840","v":0},{"$f":"'BX Language acquisition'!D1840","v":0}]
[{"$f":"'BX Language acquisition'!A1841","v":0},{"$f":"'BX Language acquisition'!B1841","v":0},null,{"$f":"'BX Language acquisition'!C1841","v":0},{"$f":"'BX Language acquisition'!D1841","v":0}]
[{"$f":"'BX Language acquisition'!A1842","v":0},{"$f":"'BX Language acquisition'!B1842","v":0},null,{"$f":"'BX Language acquisition'!C1842","v":0},{"$f":"'BX Language acquisition'!D1842","v":0}]
[{"$f":"'BX Language acquisition'!A1843","v":0},{"$f":"'BX Language acquisition'!B1843","v":0},null,{"$f":"'BX Language acquisition'!C1843","v":0},{"$f":"'BX Language acquisition'!D1843","v":0}]
[{"$f":"'BX Language acquisition'!A1844","v":0},{"$f":"'BX Language acquisition'!B1844","v":0},null,{"$f":"'BX Language acquisition'!C1844","v":0},{"$f":"'BX Language acquisition'!D1844","v":0}]
[{"$f":"'BX Language acquisition'!A1845","v":0},{"$f":"'BX Language acquisition'!B1845","v":0},null,{"$f":"'BX Language acquisition'!C1845","v":0},{"$f":"'BX Language acquisition'!D1845","v":0}]
[{"$f":"'BX Language acquisition'!A1846","v":0},{"$f":"'BX Language acquisition'!B1846","v":0},null,{"$f":"'BX Language acquisition'!C1846","v":0},{"$f":"'BX Language acquisition'!D1846","v":0}]
[{"$f":"'BX Language acquisition'!A1847","v":0},{"$f":"'BX Language acquisition'!B1847","v":0},null,{"$f":"'BX Language acquisition'!C1847","v":0},{"$f":"'BX Language acquisition'!D1847","v":0}]
[{"$f":"'BX Language acquisition'!A1848","v":0},{"$f":"'BX Language acquisition'!B1848","v":0},null,{"$f":"'BX Language acquisition'!C1848","v":0},{"$f":"'BX Language acquisition'!D1848","v":0}]
[{"$f":"'BX Language acquisition'!A1849","v":0},{"$f":"'BX Language acquisition'!B1849","v":0},null,{"$f":"'BX Language acquisition'!C1849","v":0},{"$f":"'BX Language acquisition'!D1849","v":0}]
[{"$f":"'BX Language acquisition'!A1850","v":0},{"$f":"'BX Language acquisition'!B1850","v":0},null,{"$f":"'BX Language acquisition'!C1850","v":0},{"$f":"'BX Language acquisition'!D1850","v":0}]
[{"$f":"'BX Language acquisition'!A1851","v":0},{"$f":"'BX Language acquisition'!B1851","v":0},null,{"$f":"'BX Language acquisition'!C1851","v":0},{"$f":"'BX Language acquisition'!D1851","v":0}]
[{"$f":"'BX Language acquisition'!A1852","v":0},{"$f":"'BX Language acquisition'!B1852","v":0},null,{"$f":"'BX Language acquisition'!C1852","v":0},{"$f":"'BX Language acquisition'!D1852","v":0}]
[{"$f":"'BX Language acquisition'!A1853","v":0},{"$f":"'BX Language acquisition'!B1853","v":0},null,{"$f":"'BX Language acquisition'!C1853","v":0},{"$f":"'BX Language acquisition'!D1853","v":0}]
[{"$f":"'BX Language acquisition'!A1854","v":0},{"$f":"'BX Language acquisition'!B1854","v":0},null,{"$f":"'BX Language acquisition'!C1854","v":0},{"$f":"'BX Language acquisition'!D1854","v":0}]
[{"$f":"'BX Language acquisition'!A1855","v":0},{"$f":"'BX Language acquisition'!B1855","v":0},null,{"$f":"'BX Language acquisition'!C1855","v":0},{"$f":"'BX Language acquisition'!D1855","v":0}]
[{"$f":"'BX Language acquisition'!A1856","v":0},{"$f":"'BX Language acquisition'!B1856","v":0},null,{"$f":"'BX Language acquisition'!C1856","v":0},{"$f":"'BX Language acquisition'!D1856","v":0}]
[{"$f":"'BX Language acquisition'!A1857","v":0},{"$f":"'BX Language acquisition'!B1857","v":0},null,{"$f":"'BX Language acquisition'!C1857","v":0},{"$f":"'BX Language acquisition'!D1857","v":0}]
[{"$f":"'BX Language acquisition'!A1858","v":0},{"$f":"'BX Language acquisition'!B1858","v":0},null,{"$f":"'BX Language acquisition'!C1858","v":0},{"$f":"'BX Language acquisition'!D1858","v":0}]
[{"$f":"'BX Language acquisition'!A1859","v":0},{"$f":"'BX Language acquisition'!B1859","v":0},null,{"$f":"'BX Language acquisition'!C1859","v":0},{"$f":"'BX Language acquisition'!D1859","v":0}]
[{"$f":"'BX Language acquisition'!A1860","v":0},{"$f":"'BX Language acquisition'!B1860","v":0},null,{"$f":"'BX Language acquisition'!C1860","v":0},{"$f":"'BX Language acquisition'!D1860","v":0}]
[{"$f":"'BX Language acquisition'!A1861","v":0},{"$f":"'BX Language acquisition'!B1861","v":0},null,{"$f":"'BX Language acquisition'!C1861","v":0},{"$f":"'BX Language acquisition'!D1861","v":0}]
[{"$f":"'BX Language acquisition'!A1862","v":0},{"$f":"'BX Language acquisition'!B1862","v":0},null,{"$f":"'BX Language acquisition'!C1862","v":0},{"$f":"'BX Language acquisition'!D1862","v":0}]
[{"$f":"'BX Language acquisition'!A1863","v":0},{"$f":"'BX Language acquisition'!B1863","v":0},null,{"$f":"'BX Language acquisition'!C1863","v":0},{"$f":"'BX Language acquisition'!D1863","v":0}]
[{"$f":"'BX Language acquisition'!A1864","v":0},{"$f":"'BX Language acquisition'!B1864","v":0},null,{"$f":"'BX Language acquisition'!C1864","v":0},{"$f":"'BX Language acquisition'!D1864","v":0}]
[{"$f":"'BX Language acquisition'!A1865","v":0},{"$f":"'BX Language acquisition'!B1865","v":0},null,{"$f":"'BX Language acquisition'!C1865","v":0},{"$f":"'BX Language acquisition'!D1865","v":0}]
[{"$f":"'BX Language acquisition'!A1866","v":0},{"$f":"'BX Language acquisition'!B1866","v":0},null,{"$f":"'BX Language acquisition'!C1866","v":0},{"$f":"'BX Language acquisition'!D1866","v":0}]
[{"$f":"'BX Language acquisition'!A1867","v":0},{"$f":"'BX Language acquisition'!B1867","v":0},null,{"$f":"'BX Language acquisition'!C1867","v":0},{"$f":"'BX Language acquisition'!D1867","v":0}]
[{"$f":"'BX Language acquisition'!A1868","v":0},{"$f":"'BX Language acquisition'!B1868","v":0},null,{"$f":"'BX Language acquisition'!C1868","v":0},{"$f":"'BX Language acquisition'!D1868","v":0}]
[{"$f":"'BX Language acquisition'!A1869","v":0},{"$f":"'BX Language acquisition'!B1869","v":0},null,{"$f":"'BX Language acquisition'!C1869","v":0},{"$f":"'BX Language acquisition'!D1869","v":0}]
[{"$f":"'BX Language acquisition'!A1870","v":0},{"$f":"'BX Language acquisition'!B1870","v":0},null,{"$f":"'BX Language acquisition'!C1870","v":0},{"$f":"'BX Language acquisition'!D1870","v":0}]
[{"$f":"'BX Language acquisition'!A1871","v":0},{"$f":"'BX Language acquisition'!B1871","v":0},null,{"$f":"'BX Language acquisition'!C1871","v":0},{"$f":"'BX Language acquisition'!D1871","v":0}]
[{"$f":"'BX Language acquisition'!A1872","v":0},{"$f":"'BX Language acquisition'!B1872","v":0},null,{"$f":"'BX Language acquisition'!C1872","v":0},{"$f":"'BX Language acquisition'!D1872","v":0}]
[{"$f":"'BX Language acquisition'!A1873","v":0},{"$f":"'BX Language acquisition'!B1873","v":0},null,{"$f":"'BX Language acquisition'!C1873","v":0},{"$f":"'BX Language acquisition'!D1873","v":0}]
[{"$f":"'BX Language acquisition'!A1874","v":0},{"$f":"'BX Language acquisition'!B1874","v":0},null,{"$f":"'BX Language acquisition'!C1874","v":0},{"$f":"'BX Language acquisition'!D1874","v":0}]
[{"$f":"'BX Language acquisition'!A1875","v":0},{"$f":"'BX Language acquisition'!B1875","v":0},null,{"$f":"'BX Language acquisition'!C1875","v":0},{"$f":"'BX Language acquisition'!D1875","v":0}]
[{"$f":"'BX Language acquisition'!A1876","v":0},{"$f":"'BX Language acquisition'!B1876","v":0},null,{"$f":"'BX Language acquisition'!C1876","v":0},{"$f":"'BX Language acquisition'!D1876","v":0}]
[{"$f":"'BX Language acquisition'!A1877","v":0},{"$f":"'BX Language acquisition'!B1877","v":0},null,{"$f":"'BX Language acquisition'!C1877","v":0},{"$f":"'BX Language acquisition'!D1877","v":0}]
[{"$f":"'BX Language acquisition'!A1878","v":0},{"$f":"'BX Language acquisition'!B1878","v":0},null,{"$f":"'BX Language acquisition'!C1878","v":0},{"$f":"'BX Language acquisition'!D1878","v":0}]
[{"$f":"'BX Language acquisition'!A1879","v":0},{"$f":"'BX Language acquisition'!B1879","v":0},null,{"$f":"'BX Language acquisition'!C1879","v":0},{"$f":"'BX Language acquisition'!D1879","v":0}]
[{"$f":"'BX Language acquisition'!A1880","v":0},{"$f":"'BX Language acquisition'!B1880","v":0},null,{"$f":"'BX Language acquisition'!C1880","v":0},{"$f":"'BX Language acquisition'!D1880","v":0}]
[{"$f":"'BX Language acquisition'!A1881","v":0},{"$f":"'BX Language acquisition'!B1881","v":0},null,{"$f":"'BX Language acquisition'!C1881","v":0},{"$f":"'BX Language acquisition'!D1881","v":0}]
[{"$f":"'BX Language acquisition'!A1882","v":0},{"$f":"'BX Language acquisition'!B1882","v":0},null,{"$f":"'BX Language acquisition'!C1882","v":0},{"$f":"'BX Language acquisition'!D1882","v":0}]
[{"$f":"'BX Language acquisition'!A1883","v":0},{"$f":"'BX Language acquisition'!B1883","v":0},null,{"$f":"'BX Language acquisition'!C1883","v":0},{"$f":"'BX Language acquisition'!D1883","v":0}]
[{"$f":"'BX Language acquisition'!A1884","v":0},{"$f":"'BX Language acquisition'!B1884","v":0},null,{"$f":"'BX Language acquisition'!C1884","v":0},{"$f":"'BX Language acquisition'!D1884","v":0}]
[{"$f":"'BX Language acquisition'!A1885","v":0},{"$f":"'BX Language acquisition'!B1885","v":0},null,{"$f":"'BX Language acquisition'!C1885","v":0},{"$f":"'BX Language acquisition'!D1885","v":0}]
[{"$f":"'BX Language acquisition'!A1886","v":0},{"$f":"'BX Language acquisition'!B1886","v":0},null,{"$f":"'BX Language acquisition'!C1886","v":0},{"$f":"'BX Language acquisition'!D1886","v":0}]
[{"$f":"'BX Language acquisition'!A1887","v":0},{"$f":"'BX Language acquisition'!B1887","v":0},null,{"$f":"'BX Language acquisition'!C1887","v":0},{"$f":"'BX Language acquisition'!D1887","v":0}]
[{"$f":"'BX Language acquisition'!A1888","v":0},{"$f":"'BX Language acquisition'!B1888","v":0},null,{"$f":"'BX Language acquisition'!C1888","v":0},{"$f":"'BX Language acquisition'!D1888","v":0}]
[{"$f":"'BX Language acquisition'!A1889","v":0},{"$f":"'BX Language acquisition'!B1889","v":0},null,{"$f":"'BX Language acquisition'!C1889","v":0},{"$f":"'BX Language acquisition'!D1889","v":0}]
[{"$f":"'BX Language acquisition'!A1890","v":0},{"$f":"'BX Language acquisition'!B1890","v":0},null,{"$f":"'BX Language acquisition'!C1890","v":0},{"$f":"'BX Language acquisition'!D1890","v":0}]
[{"$f":"'BX Language acquisition'!A1891","v":0},{"$f":"'BX Language acquisition'!B1891","v":0},null,{"$f":"'BX Language acquisition'!C1891","v":0},{"$f":"'BX Language acquisition'!D1891","v":0}]
[{"$f":"'BX Language acquisition'!A1892","v":0},{"$f":"'BX Language acquisition'!B1892","v":0},null,{"$f":"'BX Language acquisition'!C1892","v":0},{"$f":"'BX Language acquisition'!D1892","v":0}]
[{"$f":"'BX Language acquisition'!A1893","v":0},{"$f":"'BX Language acquisition'!B1893","v":0},null,{"$f":"'BX Language acquisition'!C1893","v":0},{"$f":"'BX Language acquisition'!D1893","v":0}]
[{"$f":"'BX Language acquisition'!A1894","v":0},{"$f":"'BX Language acquisition'!B1894","v":0},null,{"$f":"'BX Language acquisition'!C1894","v":0},{"$f":"'BX Language acquisition'!D1894","v":0}]
[{"$f":"'BX Language acquisition'!A1895","v":0},{"$f":"'BX Language acquisition'!B1895","v":0},null,{"$f":"'BX Language acquisition'!C1895","v":0},{"$f":"'BX Language acquisition'!D1895","v":0}]
[{"$f":"'BX Language acquisition'!A1896","v":0},{"$f":"'BX Language acquisition'!B1896","v":0},null,{"$f":"'BX Language acquisition'!C1896","v":0},{"$f":"'BX Language acquisition'!D1896","v":0}]
[{"$f":"'BX Language acquisition'!A1897","v":0},{"$f":"'BX Language acquisition'!B1897","v":0},null,{"$f":"'BX Language acquisition'!C1897","v":0},{"$f":"'BX Language acquisition'!D1897","v":0}]
[{"$f":"'BX Language acquisition'!A1898","v":0},{"$f":"'BX Language acquisition'!B1898","v":0},null,{"$f":"'BX Language acquisition'!C1898","v":0},{"$f":"'BX Language acquisition'!D1898","v":0}]
[{"$f":"'BX Language acquisition'!A1899","v":0},{"$f":"'BX Language acquisition'!B1899","v":0},null,{"$f":"'BX Language acquisition'!C1899","v":0},{"$f":"'BX Language acquisition'!D1899","v":0}]
[{"$f":"'BX Language acquisition'!A1900","v":0},{"$f":"'BX Language acquisition'!B1900","v":0},null,{"$f":"'BX Language acquisition'!C1900","v":0},{"$f":"'BX Language acquisition'!D1900","v":0}]
[{"$f":"'BX Language acquisition'!A1901","v":0},{"$f":"'BX Language acquisition'!B1901","v":0},null,{"$f":"'BX Language acquisition'!C1901","v":0},{"$f":"'BX Language acquisition'!D1901","v":0}]
[{"$f":"'BX Language acquisition'!A1902","v":0},{"$f":"'BX Language acquisition'!B1902","v":0},null,{"$f":"'BX Language acquisition'!C1902","v":0},{"$f":"'BX Language acquisition'!D1902","v":0}]
[{"$f":"'BX Language acquisition'!A1903","v":0},{"$f":"'BX Language acquisition'!B1903","v":0},null,{"$f":"'BX Language acquisition'!C1903","v":0},{"$f":"'BX Language acquisition'!D1903","v":0}]
[{"$f":"'BX Language acquisition'!A1904","v":0},{"$f":"'BX Language acquisition'!B1904","v":0},null,{"$f":"'BX Language acquisition'!C1904","v":0},{"$f":"'BX Language acquisition'!D1904","v":0}]
[{"$f":"'BX Language acquisition'!A1905","v":0},{"$f":"'BX Language acquisition'!B1905","v":0},null,{"$f":"'BX Language acquisition'!C1905","v":0},{"$f":"'BX Language acquisition'!D1905","v":0}]
[{"$f":"'BX Language acquisition'!A1906","v":0},{"$f":"'BX Language acquisition'!B1906","v":0},null,{"$f":"'BX Language acquisition'!C1906","v":0},{"$f":"'BX Language acquisition'!D1906","v":0}]
[{"$f":"'BX Language acquisition'!A1907","v":0},{"$f":"'BX Language acquisition'!B1907","v":0},null,{"$f":"'BX Language acquisition'!C1907","v":0},{"$f":"'BX Language acquisition'!D1907","v":0}]
[{"$f":"'BX Language acquisition'!A1908","v":0},{"$f":"'BX Language acquisition'!B1908","v":0},null,{"$f":"'BX Language acquisition'!C1908","v":0},{"$f":"'BX Language acquisition'!D1908","v":0}]
[{"$f":"'BX Language acquisition'!A1909","v":0},{"$f":"'BX Language acquisition'!B1909","v":0},null,{"$f":"'BX Language acquisition'!C1909","v":0},{"$f":"'BX Language acquisition'!D1909","v":0}]
[{"$f":"'BX Language acquisition'!A1910","v":0},{"$f":"'BX Language acquisition'!B1910","v":0},null,{"$f":"'BX Language acquisition'!C1910","v":0},{"$f":"'BX Language acquisition'!D1910","v":0}]
[{"$f":"'BX Language acquisition'!A1911","v":0},{"$f":"'BX Language acquisition'!B1911","v":0},null,{"$f":"'BX Language acquisition'!C1911","v":0},{"$f":"'BX Language acquisition'!D1911","v":0}]
[{"$f":"'BX Language acquisition'!A1912","v":0},{"$f":"'BX Language acquisition'!B1912","v":0},null,{"$f":"'BX Language acquisition'!C1912","v":0},{"$f":"'BX Language acquisition'!D1912","v":0}]
[{"$f":"'BX Language acquisition'!A1913","v":0},{"$f":"'BX Language acquisition'!B1913","v":0},null,{"$f":"'BX Language acquisition'!C1913","v":0},{"$f":"'BX Language acquisition'!D1913","v":0}]
[{"$f":"'BX Language acquisition'!A1914","v":0},{"$f":"'BX Language acquisition'!B1914","v":0},null,{"$f":"'BX Language acquisition'!C1914","v":0},{"$f":"'BX Language acquisition'!D1914","v":0}]
[{"$f":"'BX Language acquisition'!A1915","v":0},{"$f":"'BX Language acquisition'!B1915","v":0},null,{"$f":"'BX Language acquisition'!C1915","v":0},{"$f":"'BX Language acquisition'!D1915","v":0}]
[{"$f":"'BX Language acquisition'!A1916","v":0},{"$f":"'BX Language acquisition'!B1916","v":0},null,{"$f":"'BX Language acquisition'!C1916","v":0},{"$f":"'BX Language acquisition'!D1916","v":0}]
[{"$f":"'BX Language acquisition'!A1917","v":0},{"$f":"'BX Language acquisition'!B1917","v":0},null,{"$f":"'BX Language acquisition'!C1917","v":0},{"$f":"'BX Language acquisition'!D1917","v":0}]
[{"$f":"'BX Language acquisition'!A1918","v":0},{"$f":"'BX Language acquisition'!B1918","v":0},null,{"$f":"'BX Language acquisition'!C1918","v":0},{"$f":"'BX Language acquisition'!D1918","v":0}]
[{"$f":"'BX Language acquisition'!A1919","v":0},{"$f":"'BX Language acquisition'!B1919","v":0},null,{"$f":"'BX Language acquisition'!C1919","v":0},{"$f":"'BX Language acquisition'!D1919","v":0}]
[{"$f":"'BX Language acquisition'!A1920","v":0},{"$f":"'BX Language acquisition'!B1920","v":0},null,{"$f":"'BX Language acquisition'!C1920","v":0},{"$f":"'BX Language acquisition'!D1920","v":0}]
[{"$f":"'BX Language acquisition'!A1921","v":0},{"$f":"'BX Language acquisition'!B1921","v":0},null,{"$f":"'BX Language acquisition'!C1921","v":0},{"$f":"'BX Language acquisition'!D1921","v":0}]
[{"$f":"'BX Language acquisition'!A1922","v":0},{"$f":"'BX Language acquisition'!B1922","v":0},null,{"$f":"'BX Language acquisition'!C1922","v":0},{"$f":"'BX Language acquisition'!D1922","v":0}]
[{"$f":"'BX Language acquisition'!A1923","v":0},{"$f":"'BX Language acquisition'!B1923","v":0},null,{"$f":"'BX Language acquisition'!C1923","v":0},{"$f":"'BX Language acquisition'!D1923","v":0}]
[{"$f":"'BX Language acquisition'!A1924","v":0},{"$f":"'BX Language acquisition'!B1924","v":0},null,{"$f":"'BX Language acquisition'!C1924","v":0},{"$f":"'BX Language acquisition'!D1924","v":0}]
[{"$f":"'BX Language acquisition'!A1925","v":0},{"$f":"'BX Language acquisition'!B1925","v":0},null,{"$f":"'BX Language acquisition'!C1925","v":0},{"$f":"'BX Language acquisition'!D1925","v":0}]
[{"$f":"'BX Language acquisition'!A1926","v":0},{"$f":"'BX Language acquisition'!B1926","v":0},null,{"$f":"'BX Language acquisition'!C1926","v":0},{"$f":"'BX Language acquisition'!D1926","v":0}]
[{"$f":"'BX Language acquisition'!A1927","v":0},{"$f":"'BX Language acquisition'!B1927","v":0},null,{"$f":"'BX Language acquisition'!C1927","v":0},{"$f":"'BX Language acquisition'!D1927","v":0}]
[{"$f":"'BX Language acquisition'!A1928","v":0},{"$f":"'BX Language acquisition'!B1928","v":0},null,{"$f":"'BX Language acquisition'!C1928","v":0},{"$f":"'BX Language acquisition'!D1928","v":0}]
[{"$f":"'BX Language acquisition'!A1929","v":0},{"$f":"'BX Language acquisition'!B1929","v":0},null,{"$f":"'BX Language acquisition'!C1929","v":0},{"$f":"'BX Language acquisition'!D1929","v":0}]
[{"$f":"'BX Language acquisition'!A1930","v":0},{"$f":"'BX Language acquisition'!B1930","v":0},null,{"$f":"'BX Language acquisition'!C1930","v":0},{"$f":"'BX Language acquisition'!D1930","v":0}]
[{"$f":"'BX Language acquisition'!A1931","v":0},{"$f":"'BX Language acquisition'!B1931","v":0},null,{"$f":"'BX Language acquisition'!C1931","v":0},{"$f":"'BX Language acquisition'!D1931","v":0}]
[{"$f":"'BX Language acquisition'!A1932","v":0},{"$f":"'BX Language acquisition'!B1932","v":0},null,{"$f":"'BX Language acquisition'!C1932","v":0},{"$f":"'BX Language acquisition'!D1932","v":0}]
[{"$f":"'BX Language acquisition'!A1933","v":0},{"$f":"'BX Language acquisition'!B1933","v":0},null,{"$f":"'BX Language acquisition'!C1933","v":0},{"$f":"'BX Language acquisition'!D1933","v":0}]
[{"$f":"'BX Language acquisition'!A1934","v":0},{"$f":"'BX Language acquisition'!B1934","v":0},null,{"$f":"'BX Language acquisition'!C1934","v":0},{"$f":"'BX Language acquisition'!D1934","v":0}]
[{"$f":"'BX Language acquisition'!A1935","v":0},{"$f":"'BX Language acquisition'!B1935","v":0},null,{"$f":"'BX Language acquisition'!C1935","v":0},{"$f":"'BX Language acquisition'!D1935","v":0}]
[{"$f":"'BX Language acquisition'!A1936","v":0},{"$f":"'BX Language acquisition'!B1936","v":0},null,{"$f":"'BX Language acquisition'!C1936","v":0},{"$f":"'BX Language acquisition'!D1936","v":0}]
[{"$f":"'BX Language acquisition'!A1937","v":0},{"$f":"'BX Language acquisition'!B1937","v":0},null,{"$f":"'BX Language acquisition'!C1937","v":0},{"$f":"'BX Language acquisition'!D1937","v":0}]
[{"$f":"'BX Language acquisition'!A1938","v":0},{"$f":"'BX Language acquisition'!B1938","v":0},null,{"$f":"'BX Language acquisition'!C1938","v":0},{"$f":"'BX Language acquisition'!D1938","v":0}]
[{"$f":"'BX Language acquisition'!A1939","v":0},{"$f":"'BX Language acquisition'!B1939","v":0},null,{"$f":"'BX Language acquisition'!C1939","v":0},{"$f":"'BX Language acquisition'!D1939","v":0}]
[{"$f":"'BX Language acquisition'!A1940","v":0},{"$f":"'BX Language acquisition'!B1940","v":0},null,{"$f":"'BX Language acquisition'!C1940","v":0},{"$f":"'BX Language acquisition'!D1940","v":0}]
[{"$f":"'BX Language acquisition'!A1941","v":0},{"$f":"'BX Language acquisition'!B1941","v":0},null,{"$f":"'BX Language acquisition'!C1941","v":0},{"$f":"'BX Language acquisition'!D1941","v":0}]
[{"$f":"'BX Language acquisition'!A1942","v":0},{"$f":"'BX Language acquisition'!B1942","v":0},null,{"$f":"'BX Language acquisition'!C1942","v":0},{"$f":"'BX Language acquisition'!D1942","v":0}]
[{"$f":"'BX Language acquisition'!A1943","v":0},{"$f":"'BX Language acquisition'!B1943","v":0},null,{"$f":"'BX Language acquisition'!C1943","v":0},{"$f":"'BX Language acquisition'!D1943","v":0}]
[{"$f":"'BX Language acquisition'!A1944","v":0},{"$f":"'BX Language acquisition'!B1944","v":0},null,{"$f":"'BX Language acquisition'!C1944","v":0},{"$f":"'BX Language acquisition'!D1944","v":0}]
[{"$f":"'BX Language acquisition'!A1945","v":0},{"$f":"'BX Language acquisition'!B1945","v":0},null,{"$f":"'BX Language acquisition'!C1945","v":0},{"$f":"'BX Language acquisition'!D1945","v":0}]
[{"$f":"'BX Language acquisition'!A1946","v":0},{"$f":"'BX Language acquisition'!B1946","v":0},null,{"$f":"'BX Language acquisition'!C1946","v":0},{"$f":"'BX Language acquisition'!D1946","v":0}]
[{"$f":"'BX Language acquisition'!A1947","v":0},{"$f":"'BX Language acquisition'!B1947","v":0},null,{"$f":"'BX Language acquisition'!C1947","v":0},{"$f":"'BX Language acquisition'!D1947","v":0}]
[{"$f":"'BX Language acquisition'!A1948","v":0},{"$f":"'BX Language acquisition'!B1948","v":0},null,{"$f":"'BX Language acquisition'!C1948","v":0},{"$f":"'BX Language acquisition'!D1948","v":0}]
[{"$f":"'BX Language acquisition'!A1949","v":0},{"$f":"'BX Language acquisition'!B1949","v":0},null,{"$f":"'BX Language acquisition'!C1949","v":0},{"$f":"'BX Language acquisition'!D1949","v":0}]
[{"$f":"'BX Language acquisition'!A1950","v":0},{"$f":"'BX Language acquisition'!B1950","v":0},null,{"$f":"'BX Language acquisition'!C1950","v":0},{"$f":"'BX Language acquisition'!D1950","v":0}]
[{"$f":"'BX Language acquisition'!A1951","v":0},{"$f":"'BX Language acquisition'!B1951","v":0},null,{"$f":"'BX Language acquisition'!C1951","v":0},{"$f":"'BX Language acquisition'!D1951","v":0}]
[{"$f":"'BX Language acquisition'!A1952","v":0},{"$f":"'BX Language acquisition'!B1952","v":0},null,{"$f":"'BX Language acquisition'!C1952","v":0},{"$f":"'BX Language acquisition'!D1952","v":0}]
[{"$f":"'BX Language acquisition'!A1953","v":0},{"$f":"'BX Language acquisition'!B1953","v":0},null,{"$f":"'BX Language acquisition'!C1953","v":0},{"$f":"'BX Language acquisition'!D1953","v":0}]
[{"$f":"'BX Language acquisition'!A1954","v":0},{"$f":"'BX Language acquisition'!B1954","v":0},null,{"$f":"'BX Language acquisition'!C1954","v":0},{"$f":"'BX Language acquisition'!D1954","v":0}]
[{"$f":"'BX Language acquisition'!A1955","v":0},{"$f":"'BX Language acquisition'!B1955","v":0},null,{"$f":"'BX Language acquisition'!C1955","v":0},{"$f":"'BX Language acquisition'!D1955","v":0}]
[{"$f":"'BX Language acquisition'!A1956","v":0},{"$f":"'BX Language acquisition'!B1956","v":0},null,{"$f":"'BX Language acquisition'!C1956","v":0},{"$f":"'BX Language acquisition'!D1956","v":0}]
[{"$f":"'BX Language acquisition'!A1957","v":0},{"$f":"'BX Language acquisition'!B1957","v":0},null,{"$f":"'BX Language acquisition'!C1957","v":0},{"$f":"'BX Language acquisition'!D1957","v":0}]
[{"$f":"'BX Language acquisition'!A1958","v":0},{"$f":"'BX Language acquisition'!B1958","v":0},null,{"$f":"'BX Language acquisition'!C1958","v":0},{"$f":"'BX Language acquisition'!D1958","v":0}]
[{"$f":"'BX Language acquisition'!A1959","v":0},{"$f":"'BX Language acquisition'!B1959","v":0},null,{"$f":"'BX Language acquisition'!C1959","v":0},{"$f":"'BX Language acquisition'!D1959","v":0}]
[{"$f":"'BX Language acquisition'!A1960","v":0},{"$f":"'BX Language acquisition'!B1960","v":0},null,{"$f":"'BX Language acquisition'!C1960","v":0},{"$f":"'BX Language acquisition'!D1960","v":0}]
[{"$f":"'BX Language acquisition'!A1961","v":0},{"$f":"'BX Language acquisition'!B1961","v":0},null,{"$f":"'BX Language acquisition'!C1961","v":0},{"$f":"'BX Language acquisition'!D1961","v":0}]
[{"$f":"'BX Language acquisition'!A1962","v":0},{"$f":"'BX Language acquisition'!B1962","v":0},null,{"$f":"'BX Language acquisition'!C1962","v":0},{"$f":"'BX Language acquisition'!D1962","v":0}]
[{"$f":"'BX Language acquisition'!A1963","v":0},{"$f":"'BX Language acquisition'!B1963","v":0},null,{"$f":"'BX Language acquisition'!C1963","v":0},{"$f":"'BX Language acquisition'!D1963","v":0}]
[{"$f":"'BX Language acquisition'!A1964","v":0},{"$f":"'BX Language acquisition'!B1964","v":0},null,{"$f":"'BX Language acquisition'!C1964","v":0},{"$f":"'BX Language acquisition'!D1964","v":0}]
[{"$f":"'BX Language acquisition'!A1965","v":0},{"$f":"'BX Language acquisition'!B1965","v":0},null,{"$f":"'BX Language acquisition'!C1965","v":0},{"$f":"'BX Language acquisition'!D1965","v":0}]
[{"$f":"'BX Language acquisition'!A1966","v":0},{"$f":"'BX Language acquisition'!B1966","v":0},null,{"$f":"'BX Language acquisition'!C1966","v":0},{"$f":"'BX Language acquisition'!D1966","v":0}]
[{"$f":"'BX Language acquisition'!A1967","v":0},{"$f":"'BX Language acquisition'!B1967","v":0},null,{"$f":"'BX Language acquisition'!C1967","v":0},{"$f":"'BX Language acquisition'!D1967","v":0}]
[{"$f":"'BX Language acquisition'!A1968","v":0},{"$f":"'BX Language acquisition'!B1968","v":0},null,{"$f":"'BX Language acquisition'!C1968","v":0},{"$f":"'BX Language acquisition'!D1968","v":0}]
[{"$f":"'BX Language acquisition'!A1969","v":0},{"$f":"'BX Language acquisition'!B1969","v":0},null,{"$f":"'BX Language acquisition'!C1969","v":0},{"$f":"'BX Language acquisition'!D1969","v":0}]
[{"$f":"'BX Language acquisition'!A1970","v":0},{"$f":"'BX Language acquisition'!B1970","v":0},null,{"$f":"'BX Language acquisition'!C1970","v":0},{"$f":"'BX Language acquisition'!D1970","v":0}]
[{"$f":"'BX Language acquisition'!A1971","v":0},{"$f":"'BX Language acquisition'!B1971","v":0},null,{"$f":"'BX Language acquisition'!C1971","v":0},{"$f":"'BX Language acquisition'!D1971","v":0}]
[{"$f":"'BX Language acquisition'!A1972","v":0},{"$f":"'BX Language acquisition'!B1972","v":0},null,{"$f":"'BX Language acquisition'!C1972","v":0},{"$f":"'BX Language acquisition'!D1972","v":0}]
[{"$f":"'BX Language acquisition'!A1973","v":0},{"$f":"'BX Language acquisition'!B1973","v":0},null,{"$f":"'BX Language acquisition'!C1973","v":0},{"$f":"'BX Language acquisition'!D1973","v":0}]
[{"$f":"'BX Language acquisition'!A1974","v":0},{"$f":"'BX Language acquisition'!B1974","v":0},null,{"$f":"'BX Language acquisition'!C1974","v":0},{"$f":"'BX Language acquisition'!D1974","v":0}]
[{"$f":"'BX Language acquisition'!A1975","v":0},{"$f":"'BX Language acquisition'!B1975","v":0},null,{"$f":"'BX Language acquisition'!C1975","v":0},{"$f":"'BX Language acquisition'!D1975","v":0}]
[{"$f":"'BX Language acquisition'!A1976","v":0},{"$f":"'BX Language acquisition'!B1976","v":0},null,{"$f":"'BX Language acquisition'!C1976","v":0},{"$f":"'BX Language acquisition'!D1976","v":0}]
[{"$f":"'BX Language acquisition'!A1977","v":0},{"$f":"'BX Language acquisition'!B1977","v":0},null,{"$f":"'BX Language acquisition'!C1977","v":0},{"$f":"'BX Language acquisition'!D1977","v":0}]
[{"$f":"'BX Language acquisition'!A1978","v":0},{"$f":"'BX Language acquisition'!B1978","v":0},null,{"$f":"'BX Language acquisition'!C1978","v":0},{"$f":"'BX Language acquisition'!D1978","v":0}]
[{"$f":"'BX Language acquisition'!A1979","v":0},{"$f":"'BX Language acquisition'!B1979","v":0},null,{"$f":"'BX Language acquisition'!C1979","v":0},{"$f":"'BX Language acquisition'!D1979","v":0}]
[{"$f":"'BX Language acquisition'!A1980","v":0},{"$f":"'BX Language acquisition'!B1980","v":0},null,{"$f":"'BX Language acquisition'!C1980","v":0},{"$f":"'BX Language acquisition'!D1980","v":0}]
[{"$f":"'BX Language acquisition'!A1981","v":0},{"$f":"'BX Language acquisition'!B1981","v":0},null,{"$f":"'BX Language acquisition'!C1981","v":0},{"$f":"'BX Language acquisition'!D1981","v":0}]
[{"$f":"'BX Language acquisition'!A1982","v":0},{"$f":"'BX Language acquisition'!B1982","v":0},null,{"$f":"'BX Language acquisition'!C1982","v":0},{"$f":"'BX Language acquisition'!D1982","v":0}]
[{"$f":"'BX Language acquisition'!A1983","v":0},{"$f":"'BX Language acquisition'!B1983","v":0},null,{"$f":"'BX Language acquisition'!C1983","v":0},{"$f":"'BX Language acquisition'!D1983","v":0}]
[{"$f":"'BX Language acquisition'!A1984","v":0},{"$f":"'BX Language acquisition'!B1984","v":0},null,{"$f":"'BX Language acquisition'!C1984","v":0},{"$f":"'BX Language acquisition'!D1984","v":0}]
[{"$f":"'BX Language acquisition'!A1985","v":0},{"$f":"'BX Language acquisition'!B1985","v":0},null,{"$f":"'BX Language acquisition'!C1985","v":0},{"$f":"'BX Language acquisition'!D1985","v":0}]
[{"$f":"'BX Language acquisition'!A1986","v":0},{"$f":"'BX Language acquisition'!B1986","v":0},null,{"$f":"'BX Language acquisition'!C1986","v":0},{"$f":"'BX Language acquisition'!D1986","v":0}]
[{"$f":"'BX Language acquisition'!A1987","v":0},{"$f":"'BX Language acquisition'!B1987","v":0},null,{"$f":"'BX Language acquisition'!C1987","v":0},{"$f":"'BX Language acquisition'!D1987","v":0}]
[{"$f":"'BX Language acquisition'!A1988","v":0},{"$f":"'BX Language acquisition'!B1988","v":0},null,{"$f":"'BX Language acquisition'!C1988","v":0},{"$f":"'BX Language acquisition'!D1988","v":0}]
[{"$f":"'BX Language acquisition'!A1989","v":0},{"$f":"'BX Language acquisition'!B1989","v":0},null,{"$f":"'BX Language acquisition'!C1989","v":0},{"$f":"'BX Language acquisition'!D1989","v":0}]
[{"$f":"'BX Language acquisition'!A1990","v":0},{"$f":"'BX Language acquisition'!B1990","v":0},null,{"$f":"'BX Language acquisition'!C1990","v":0},{"$f":"'BX Language acquisition'!D1990","v":0}]
[{"$f":"'BX Language acquisition'!A1991","v":0},{"$f":"'BX Language acquisition'!B1991","v":0},null,{"$f":"'BX Language acquisition'!C1991","v":0},{"$f":"'BX Language acquisition'!D1991","v":0}]
[{"$f":"'BX Language acquisition'!A1992","v":0},{"$f":"'BX Language acquisition'!B1992","v":0},null,{"$f":"'BX Language acquisition'!C1992","v":0},{"$f":"'BX Language acquisition'!D1992","v":0}]
[{"$f":"'BX Language acquisition'!A1993","v":0},{"$f":"'BX Language acquisition'!B1993","v":0},null,{"$f":"'BX Language acquisition'!C1993","v":0},{"$f":"'BX Language acquisition'!D1993","v":0}]
[{"$f":"'BX Language acquisition'!A1994","v":0},{"$f":"'BX Language acquisition'!B1994","v":0},null,{"$f":"'BX Language acquisition'!C1994","v":0},{"$f":"'BX Language acquisition'!D1994","v":0}]
[{"$f":"'BX Language acquisition'!A1995","v":0},{"$f":"'BX Language acquisition'!B1995","v":0},null,{"$f":"'BX Language acquisition'!C1995","v":0},{"$f":"'BX Language acquisition'!D1995","v":0}]
[{"$f":"'BX Language acquisition'!A1996","v":0},{"$f":"'BX Language acquisition'!B1996","v":0},null,{"$f":"'BX Language acquisition'!C1996","v":0},{"$f":"'BX Language acquisition'!D1996","v":0}]
[{"$f":"'BX Language acquisition'!A1997","v":0},{"$f":"'BX Language acquisition'!B1997","v":0},null,{"$f":"'BX Language acquisition'!C1997","v":0},{"$f":"'BX Language acquisition'!D1997","v":0}]
[{"$f":"'BX Language acquisition'!A1998","v":0},{"$f":"'BX Language acquisition'!B1998","v":0},null,{"$f":"'BX Language acquisition'!C1998","v":0},{"$f":"'BX Language acquisition'!D1998","v":0}]
[{"$f":"'BX Language acquisition'!A1999","v":0},{"$f":"'BX Language acquisition'!B1999","v":0},null,{"$f":"'BX Language acquisition'!C1999","v":0},{"$f":"'BX Language acquisition'!D1999","v":0}]
[{"$f":"'BX Language acquisition'!A2000","v":0},{"$f":"'BX Language acquisition'!B2000","v":0},null,{"$f":"'BX Language acquisition'!C2000","v":0},{"$f":"'BX Language acquisition'!D2000","v":0}]
[{"$f":"'BX Language acquisition'!A2001","v":0},{"$f":"'BX Language acquisition'!B2001","v":0},null,{"$f":"'BX Language acquisition'!C2001","v":0},{"$f":"'BX Language acquisition'!D2001","v":0}]
[{"$f":"'BX Language acquisition'!A2002","v":0},{"$f":"'BX Language acquisition'!B2002","v":0},null,{"$f":"'BX Language acquisition'!C2002","v":0},{"$f":"'BX Language acquisition'!D2002","v":0}]
[{"$f":"'BX Language acquisition'!A2003","v":0},{"$f":"'BX Language acquisition'!B2003","v":0},null,{"$f":"'BX Language acquisition'!C2003","v":0},{"$f":"'BX Language acquisition'!D2003","v":0}]
[{"$f":"'BX Language acquisition'!A2004","v":0},{"$f":"'BX Language acquisition'!B2004","v":0},null,{"$f":"'BX Language acquisition'!C2004","v":0},{"$f":"'BX Language acquisition'!D2004","v":0}]
[{"$f":"'BX Language acquisition'!A2005","v":0},{"$f":"'BX Language acquisition'!B2005","v":0},null,{"$f":"'BX Language acquisition'!C2005","v":0},{"$f":"'BX Language acquisition'!D2005","v":0}]
[{"$f":"'BX Language acquisition'!A2006","v":0},{"$f":"'BX Language acquisition'!B2006","v":0},null,{"$f":"'BX Language acquisition'!C2006","v":0},{"$f":"'BX Language acquisition'!D2006","v":0}]
[{"$f":"'BX Language acquisition'!A2007","v":0},{"$f":"'BX Language acquisition'!B2007","v":0},null,{"$f":"'BX Language acquisition'!C2007","v":0},{"$f":"'BX Language acquisition'!D2007","v":0}]
[{"$f":"'BX Language acquisition'!A2008","v":0},{"$f":"'BX Language acquisition'!B2008","v":0},null,{"$f":"'BX Language acquisition'!C2008","v":0},{"$f":"'BX Language acquisition'!D2008","v":0}]
[{"$f":"'BX Language acquisition'!A2009","v":0},{"$f":"'BX Language acquisition'!B2009","v":0},null,{"$f":"'BX Language acquisition'!C2009","v":0},{"$f":"'BX Language acquisition'!D2009","v":0}]
[{"$f":"'BX Language acquisition'!A2010","v":0},{"$f":"'BX Language acquisition'!B2010","v":0},null,{"$f":"'BX Language acquisition'!C2010","v":0},{"$f":"'BX Language acquisition'!D2010","v":0}]
[{"$f":"'BX Language acquisition'!A2011","v":0},{"$f":"'BX Language acquisition'!B2011","v":0},null,{"$f":"'BX Language acquisition'!C2011","v":0},{"$f":"'BX Language acquisition'!D2011","v":0}]
[{"$f":"'BX Language acquisition'!A2012","v":0},{"$f":"'BX Language acquisition'!B2012","v":0},null,{"$f":"'BX Language acquisition'!C2012","v":0},{"$f":"'BX Language acquisition'!D2012","v":0}]
[{"$f":"'BX Language acquisition'!A2013","v":0},{"$f":"'BX Language acquisition'!B2013","v":0},null,{"$f":"'BX Language acquisition'!C2013","v":0},{"$f":"'BX Language acquisition'!D2013","v":0}]
[{"$f":"'BX Language acquisition'!A2014","v":0},{"$f":"'BX Language acquisition'!B2014","v":0},null,{"$f":"'BX Language acquisition'!C2014","v":0},{"$f":"'BX Language acquisition'!D2014","v":0}]
[{"$f":"'BX Language acquisition'!A2015","v":0},{"$f":"'BX Language acquisition'!B2015","v":0},null,{"$f":"'BX Language acquisition'!C2015","v":0},{"$f":"'BX Language acquisition'!D2015","v":0}]
[{"$f":"'BX Language acquisition'!A2016","v":0},{"$f":"'BX Language acquisition'!B2016","v":0},null,{"$f":"'BX Language acquisition'!C2016","v":0},{"$f":"'BX Language acquisition'!D2016","v":0}]
[{"$f":"'BX Language acquisition'!A2017","v":0},{"$f":"'BX Language acquisition'!B2017","v":0},null,{"$f":"'BX Language acquisition'!C2017","v":0},{"$f":"'BX Language acquisition'!D2017","v":0}]
[{"$f":"'BX Language acquisition'!A2018","v":0},{"$f":"'BX Language acquisition'!B2018","v":0},null,{"$f":"'BX Language acquisition'!C2018","v":0},{"$f":"'BX Language acquisition'!D2018","v":0}]
[{"$f":"'BX Language acquisition'!A2019","v":0},{"$f":"'BX Language acquisition'!B2019","v":0},null,{"$f":"'BX Language acquisition'!C2019","v":0},{"$f":"'BX Language acquisition'!D2019","v":0}]
[{"$f":"'BX Language acquisition'!A2020","v":0},{"$f":"'BX Language acquisition'!B2020","v":0},null,{"$f":"'BX Language acquisition'!C2020","v":0},{"$f":"'BX Language acquisition'!D2020","v":0}]
[{"$f":"'BX Language acquisition'!A2021","v":0},{"$f":"'BX Language acquisition'!B2021","v":0},null,{"$f":"'BX Language acquisition'!C2021","v":0},{"$f":"'BX Language acquisition'!D2021","v":0}]
[{"$f":"'BX Language acquisition'!A2022","v":0},{"$f":"'BX Language acquisition'!B2022","v":0},null,{"$f":"'BX Language acquisition'!C2022","v":0},{"$f":"'BX Language acquisition'!D2022","v":0}]
[{"$f":"'BX Language acquisition'!A2023","v":0},{"$f":"'BX Language acquisition'!B2023","v":0},null,{"$f":"'BX Language acquisition'!C2023","v":0},{"$f":"'BX Language acquisition'!D2023","v":0}]
[{"$f":"'BX Language acquisition'!A2024","v":0},{"$f":"'BX Language acquisition'!B2024","v":0},null,{"$f":"'BX Language acquisition'!C2024","v":0},{"$f":"'BX Language acquisition'!D2024","v":0}]
[{"$f":"'BX Language acquisition'!A2025","v":0},{"$f":"'BX Language acquisition'!B2025","v":0},null,{"$f":"'BX Language acquisition'!C2025","v":0},{"$f":"'BX Language acquisition'!D2025","v":0}]
[{"$f":"'BX Language acquisition'!A2026","v":0},{"$f":"'BX Language acquisition'!B2026","v":0},null,{"$f":"'BX Language acquisition'!C2026","v":0},{"$f":"'BX Language acquisition'!D2026","v":0}]
[{"$f":"'BX Language acquisition'!A2027","v":0},{"$f":"'BX Language acquisition'!B2027","v":0},null,{"$f":"'BX Language acquisition'!C2027","v":0},{"$f":"'BX Language acquisition'!D2027","v":0}]
[{"$f":"'BX Language acquisition'!A2028","v":0},{"$f":"'BX Language acquisition'!B2028","v":0},null,{"$f":"'BX Language acquisition'!C2028","v":0},{"$f":"'BX Language acquisition'!D2028","v":0}]
[{"$f":"'BX Language acquisition'!A2029","v":0},{"$f":"'BX Language acquisition'!B2029","v":0},null,{"$f":"'BX Language acquisition'!C2029","v":0},{"$f":"'BX Language acquisition'!D2029","v":0}]
[{"$f":"'BX Language acquisition'!A2030","v":0},{"$f":"'BX Language acquisition'!B2030","v":0},null,{"$f":"'BX Language acquisition'!C2030","v":0},{"$f":"'BX Language acquisition'!D2030","v":0}]
[{"$f":"'BX Language acquisition'!A2031","v":0},{"$f":"'BX Language acquisition'!B2031","v":0},null,{"$f":"'BX Language acquisition'!C2031","v":0},{"$f":"'BX Language acquisition'!D2031","v":0}]
[{"$f":"'BX Language acquisition'!A2032","v":0},{"$f":"'BX Language acquisition'!B2032","v":0},null,{"$f":"'BX Language acquisition'!C2032","v":0},{"$f":"'BX Language acquisition'!D2032","v":0}]
[{"$f":"'BX Language acquisition'!A2033","v":0},{"$f":"'BX Language acquisition'!B2033","v":0},null,{"$f":"'BX Language acquisition'!C2033","v":0},{"$f":"'BX Language acquisition'!D2033","v":0}]
[{"$f":"'BX Language acquisition'!A2034","v":0},{"$f":"'BX Language acquisition'!B2034","v":0},null,{"$f":"'BX Language acquisition'!C2034","v":0},{"$f":"'BX Language acquisition'!D2034","v":0}]
[{"$f":"'BX Language acquisition'!A2035","v":0},{"$f":"'BX Language acquisition'!B2035","v":0},null,{"$f":"'BX Language acquisition'!C2035","v":0},{"$f":"'BX Language acquisition'!D2035","v":0}]
[{"$f":"'BX Language acquisition'!A2036","v":0},{"$f":"'BX Language acquisition'!B2036","v":0},null,{"$f":"'BX Language acquisition'!C2036","v":0},{"$f":"'BX Language acquisition'!D2036","v":0}]
[{"$f":"'BX Language acquisition'!A2037","v":0},{"$f":"'BX Language acquisition'!B2037","v":0},null,{"$f":"'BX Language acquisition'!C2037","v":0},{"$f":"'BX Language acquisition'!D2037","v":0}]
[{"$f":"'BX Language acquisition'!A2038","v":0},{"$f":"'BX Language acquisition'!B2038","v":0},null,{"$f":"'BX Language acquisition'!C2038","v":0},{"$f":"'BX Language acquisition'!D2038","v":0}]
[{"$f":"'BX Language acquisition'!A2039","v":0},{"$f":"'BX Language acquisition'!B2039","v":0},null,{"$f":"'BX Language acquisition'!C2039","v":0},{"$f":"'BX Language acquisition'!D2039","v":0}]
[{"$f":"'BX Language acquisition'!A2040","v":0},{"$f":"'BX Language acquisition'!B2040","v":0},null,{"$f":"'BX Language acquisition'!C2040","v":0},{"$f":"'BX Language acquisition'!D2040","v":0}]
[{"$f":"'BX Language acquisition'!A2041","v":0},{"$f":"'BX Language acquisition'!B2041","v":0},null,{"$f":"'BX Language acquisition'!C2041","v":0},{"$f":"'BX Language acquisition'!D2041","v":0}]
[{"$f":"'BX Language acquisition'!A2042","v":0},{"$f":"'BX Language acquisition'!B2042","v":0},null,{"$f":"'BX Language acquisition'!C2042","v":0},{"$f":"'BX Language acquisition'!D2042","v":0}]
[{"$f":"'BX Language acquisition'!A2043","v":0},{"$f":"'BX Language acquisition'!B2043","v":0},null,{"$f":"'BX Language acquisition'!C2043","v":0},{"$f":"'BX Language acquisition'!D2043","v":0}]
[{"$f":"'BX Language acquisition'!A2044","v":0},{"$f":"'BX Language acquisition'!B2044","v":0},null,{"$f":"'BX Language acquisition'!C2044","v":0},{"$f":"'BX Language acquisition'!D2044","v":0}]
[{"$f":"'BX Language acquisition'!A2045","v":0},{"$f":"'BX Language acquisition'!B2045","v":0},null,{"$f":"'BX Language acquisition'!C2045","v":0},{"$f":"'BX Language acquisition'!D2045","v":0}]
[{"$f":"'BX Language acquisition'!A2046","v":0},{"$f":"'BX Language acquisition'!B2046","v":0},null,{"$f":"'BX Language acquisition'!C2046","v":0},{"$f":"'BX Language acquisition'!D2046","v":0}]
[{"$f":"'BX Language acquisition'!A2047","v":0},{"$f":"'BX Language acquisition'!B2047","v":0},null,{"$f":"'BX Language acquisition'!C2047","v":0},{"$f":"'BX Language acquisition'!D2047","v":0}]
[{"$f":"'BX Language acquisition'!A2048","v":0},{"$f":"'BX Language acquisition'!B2048","v":0},null,{"$f":"'BX Language acquisition'!C2048","v":0},{"$f":"'BX Language acquisition'!D2048","v":0}]
[{"$f":"'BX Language acquisition'!A2049","v":0},{"$f":"'BX Language acquisition'!B2049","v":0},null,{"$f":"'BX Language acquisition'!C2049","v":0},{"$f":"'BX Language acquisition'!D2049","v":0}]
[{"$f":"'BX Language acquisition'!A2050","v":0},{"$f":"'BX Language acquisition'!B2050","v":0},null,{"$f":"'BX Language acquisition'!C2050","v":0},{"$f":"'BX Language acquisition'!D2050","v":0}]
[{"$f":"'BX Language acquisition'!A2051","v":0},{"$f":"'BX Language acquisition'!B2051","v":0},null,{"$f":"'BX Language acquisition'!C2051","v":0},{"$f":"'BX Language acquisition'!D2051","v":0}]
[{"$f":"'BX Language acquisition'!A2052","v":0},{"$f":"'BX Language acquisition'!B2052","v":0},null,{"$f":"'BX Language acquisition'!C2052","v":0},{"$f":"'BX Language acquisition'!D2052","v":0}]
[{"$f":"'BX Language acquisition'!A2053","v":0},{"$f":"'BX Language acquisition'!B2053","v":0},null,{"$f":"'BX Language acquisition'!C2053","v":0},{"$f":"'BX Language acquisition'!D2053","v":0}]
[{"$f":"'BX Language acquisition'!A2054","v":0},{"$f":"'BX Language acquisition'!B2054","v":0},null,{"$f":"'BX Language acquisition'!C2054","v":0},{"$f":"'BX Language acquisition'!D2054","v":0}]
[{"$f":"'BX Language acquisition'!A2055","v":0},{"$f":"'BX Language acquisition'!B2055","v":0},null,{"$f":"'BX Language acquisition'!C2055","v":0},{"$f":"'BX Language acquisition'!D2055","v":0}]
[{"$f":"'BX Language acquisition'!A2056","v":0},{"$f":"'BX Language acquisition'!B2056","v":0},null,{"$f":"'BX Language acquisition'!C2056","v":0},{"$f":"'BX Language acquisition'!D2056","v":0}]
[{"$f":"'BX Language acquisition'!A2057","v":0},{"$f":"'BX Language acquisition'!B2057","v":0},null,{"$f":"'BX Language acquisition'!C2057","v":0},{"$f":"'BX Language acquisition'!D2057","v":0}]
[{"$f":"'BX Language acquisition'!A2058","v":0},{"$f":"'BX Language acquisition'!B2058","v":0},null,{"$f":"'BX Language acquisition'!C2058","v":0},{"$f":"'BX Language acquisition'!D2058","v":0}]
[{"$f":"'BX Language acquisition'!A2059","v":0},{"$f":"'BX Language acquisition'!B2059","v":0},null,{"$f":"'BX Language acquisition'!C2059","v":0},{"$f":"'BX Language acquisition'!D2059","v":0}]
[{"$f":"'BX Language acquisition'!A2060","v":0},{"$f":"'BX Language acquisition'!B2060","v":0},null,{"$f":"'BX Language acquisition'!C2060","v":0},{"$f":"'BX Language acquisition'!D2060","v":0}]
[{"$f":"'BX Language acquisition'!A2061","v":0},{"$f":"'BX Language acquisition'!B2061","v":0},null,{"$f":"'BX Language acquisition'!C2061","v":0},{"$f":"'BX Language acquisition'!D2061","v":0}]
[{"$f":"'BX Language acquisition'!A2062","v":0},{"$f":"'BX Language acquisition'!B2062","v":0},null,{"$f":"'BX Language acquisition'!C2062","v":0},{"$f":"'BX Language acquisition'!D2062","v":0}]
[{"$f":"'BX Language acquisition'!A2063","v":0},{"$f":"'BX Language acquisition'!B2063","v":0},null,{"$f":"'BX Language acquisition'!C2063","v":0},{"$f":"'BX Language acquisition'!D2063","v":0}]
[{"$f":"'BX Language acquisition'!A2064","v":0},{"$f":"'BX Language acquisition'!B2064","v":0},null,{"$f":"'BX Language acquisition'!C2064","v":0},{"$f":"'BX Language acquisition'!D2064","v":0}]
[{"$f":"'BX Language acquisition'!A2065","v":0},{"$f":"'BX Language acquisition'!B2065","v":0},null,{"$f":"'BX Language acquisition'!C2065","v":0},{"$f":"'BX Language acquisition'!D2065","v":0}]
[{"$f":"'BX Language acquisition'!A2066","v":0},{"$f":"'BX Language acquisition'!B2066","v":0},null,{"$f":"'BX Language acquisition'!C2066","v":0},{"$f":"'BX Language acquisition'!D2066","v":0}]
[{"$f":"'BX Language acquisition'!A2067","v":0},{"$f":"'BX Language acquisition'!B2067","v":0},null,{"$f":"'BX Language acquisition'!C2067","v":0},{"$f":"'BX Language acquisition'!D2067","v":0}]
[{"$f":"'BX Language acquisition'!A2068","v":0},{"$f":"'BX Language acquisition'!B2068","v":0},null,{"$f":"'BX Language acquisition'!C2068","v":0},{"$f":"'BX Language acquisition'!D2068","v":0}]
[{"$f":"'BX Language acquisition'!A2069","v":0},{"$f":"'BX Language acquisition'!B2069","v":0},null,{"$f":"'BX Language acquisition'!C2069","v":0},{"$f":"'BX Language acquisition'!D2069","v":0}]
[{"$f":"'BX Language acquisition'!A2070","v":0},{"$f":"'BX Language acquisition'!B2070","v":0},null,{"$f":"'BX Language acquisition'!C2070","v":0},{"$f":"'BX Language acquisition'!D2070","v":0}]
[{"$f":"'BX Language acquisition'!A2071","v":0},{"$f":"'BX Language acquisition'!B2071","v":0},null,{"$f":"'BX Language acquisition'!C2071","v":0},{"$f":"'BX Language acquisition'!D2071","v":0}]
[{"$f":"'BX Language acquisition'!A2072","v":0},{"$f":"'BX Language acquisition'!B2072","v":0},null,{"$f":"'BX Language acquisition'!C2072","v":0},{"$f":"'BX Language acquisition'!D2072","v":0}]
[{"$f":"'BX Language acquisition'!A2073","v":0},{"$f":"'BX Language acquisition'!B2073","v":0},null,{"$f":"'BX Language acquisition'!C2073","v":0},{"$f":"'BX Language acquisition'!D2073","v":0}]
[{"$f":"'BX Language acquisition'!A2074","v":0},{"$f":"'BX Language acquisition'!B2074","v":0},null,{"$f":"'BX Language acquisition'!C2074","v":0},{"$f":"'BX Language acquisition'!D2074","v":0}]
[{"$f":"'BX Language acquisition'!A2075","v":0},{"$f":"'BX Language acquisition'!B2075","v":0},null,{"$f":"'BX Language acquisition'!C2075","v":0},{"$f":"'BX Language acquisition'!D2075","v":0}]
[{"$f":"'BX Language acquisition'!A2076","v":0},{"$f":"'BX Language acquisition'!B2076","v":0},null,{"$f":"'BX Language acquisition'!C2076","v":0},{"$f":"'BX Language acquisition'!D2076","v":0}]
[{"$f":"'BX Language acquisition'!A2077","v":0},{"$f":"'BX Language acquisition'!B2077","v":0},null,{"$f":"'BX Language acquisition'!C2077","v":0},{"$f":"'BX Language acquisition'!D2077","v":0}]
[{"$f":"'BX Language acquisition'!A2078","v":0},{"$f":"'BX Language acquisition'!B2078","v":0},null,{"$f":"'BX Language acquisition'!C2078","v":0},{"$f":"'BX Language acquisition'!D2078","v":0}]
[{"$f":"'BX Language acquisition'!A2079","v":0},{"$f":"'BX Language acquisition'!B2079","v":0},null,{"$f":"'BX Language acquisition'!C2079","v":0},{"$f":"'BX Language acquisition'!D2079","v":0}]
[{"$f":"'BX Language acquisition'!A2080","v":0},{"$f":"'BX Language acquisition'!B2080","v":0},null,{"$f":"'BX Language acquisition'!C2080","v":0},{"$f":"'BX Language acquisition'!D2080","v":0}]
[{"$f":"'BX Language acquisition'!A2081","v":0},{"$f":"'BX Language acquisition'!B2081","v":0},null,{"$f":"'BX Language acquisition'!C2081","v":0},{"$f":"'BX Language acquisition'!D2081","v":0}]
[{"$f":"'BX Language acquisition'!A2082","v":0},{"$f":"'BX Language acquisition'!B2082","v":0},null,{"$f":"'BX Language acquisition'!C2082","v":0},{"$f":"'BX Language acquisition'!D2082","v":0}]
[{"$f":"'BX Language acquisition'!A2083","v":0},{"$f":"'BX Language acquisition'!B2083","v":0},null,{"$f":"'BX Language acquisition'!C2083","v":0},{"$f":"'BX Language acquisition'!D2083","v":0}]
[{"$f":"'BX Language acquisition'!A2084","v":0},{"$f":"'BX Language acquisition'!B2084","v":0},null,{"$f":"'BX Language acquisition'!C2084","v":0},{"$f":"'BX Language acquisition'!D2084","v":0}]
[{"$f":"'BX Language acquisition'!A2085","v":0},{"$f":"'BX Language acquisition'!B2085","v":0},null,{"$f":"'BX Language acquisition'!C2085","v":0},{"$f":"'BX Language acquisition'!D2085","v":0}]
[{"$f":"'BX Language acquisition'!A2086","v":0},{"$f":"'BX Language acquisition'!B2086","v":0},null,{"$f":"'BX Language acquisition'!C2086","v":0},{"$f":"'BX Language acquisition'!D2086","v":0}]
[{"$f":"'BX Language acquisition'!A2087","v":0},{"$f":"'BX Language acquisition'!B2087","v":0},null,{"$f":"'BX Language acquisition'!C2087","v":0},{"$f":"'BX Language acquisition'!D2087","v":0}]
[{"$f":"'BX Language acquisition'!A2088","v":0},{"$f":"'BX Language acquisition'!B2088","v":0},null,{"$f":"'BX Language acquisition'!C2088","v":0},{"$f":"'BX Language acquisition'!D2088","v":0}]
[{"$f":"'BX Language acquisition'!A2089","v":0},{"$f":"'BX Language acquisition'!B2089","v":0},null,{"$f":"'BX Language acquisition'!C2089","v":0},{"$f":"'BX Language acquisition'!D2089","v":0}]
[{"$f":"'BX Language acquisition'!A2090","v":0},{"$f":"'BX Language acquisition'!B2090","v":0},null,{"$f":"'BX Language acquisition'!C2090","v":0},{"$f":"'BX Language acquisition'!D2090","v":0}]
[{"$f":"'BX Language acquisition'!A2091","v":0},{"$f":"'BX Language acquisition'!B2091","v":0},null,{"$f":"'BX Language acquisition'!C2091","v":0},{"$f":"'BX Language acquisition'!D2091","v":0}]
[{"$f":"'BX Language acquisition'!A2092","v":0},{"$f":"'BX Language acquisition'!B2092","v":0},null,{"$f":"'BX Language acquisition'!C2092","v":0},{"$f":"'BX Language acquisition'!D2092","v":0}]
[{"$f":"'BX Language acquisition'!A2093","v":0},{"$f":"'BX Language acquisition'!B2093","v":0},null,{"$f":"'BX Language acquisition'!C2093","v":0},{"$f":"'BX Language acquisition'!D2093","v":0}]
[{"$f":"'BX Language acquisition'!A2094","v":0},{"$f":"'BX Language acquisition'!B2094","v":0},null,{"$f":"'BX Language acquisition'!C2094","v":0},{"$f":"'BX Language acquisition'!D2094","v":0}]
[{"$f":"'BX Language acquisition'!A2095","v":0},{"$f":"'BX Language acquisition'!B2095","v":0},null,{"$f":"'BX Language acquisition'!C2095","v":0},{"$f":"'BX Language acquisition'!D2095","v":0}]
[{"$f":"'BX Language acquisition'!A2096","v":0},{"$f":"'BX Language acquisition'!B2096","v":0},null,{"$f":"'BX Language acquisition'!C2096","v":0},{"$f":"'BX Language acquisition'!D2096","v":0}]
[{"$f":"'BX Language acquisition'!A2097","v":0},{"$f":"'BX Language acquisition'!B2097","v":0},null,{"$f":"'BX Language acquisition'!C2097","v":0},{"$f":"'BX Language acquisition'!D2097","v":0}]
[{"$f":"'BX Language acquisition'!A2098","v":0},{"$f":"'BX Language acquisition'!B2098","v":0},null,{"$f":"'BX Language acquisition'!C2098","v":0},{"$f":"'BX Language acquisition'!D2098","v":0}]
[{"$f":"'BX Language acquisition'!A2099","v":0},{"$f":"'BX Language acquisition'!B2099","v":0},null,{"$f":"'BX Language acquisition'!C2099","v":0},{"$f":"'BX Language acquisition'!D2099","v":0}]
[{"$f":"'BX Language acquisition'!A2100","v":0},{"$f":"'BX Language acquisition'!B2100","v":0},null,{"$f":"'BX Language acquisition'!C2100","v":0},{"$f":"'BX Language acquisition'!D2100","v":0}]
[{"$f":"'BX Language acquisition'!A2101","v":0},{"$f":"'BX Language acquisition'!B2101","v":0},null,{"$f":"'BX Language acquisition'!C2101","v":0},{"$f":"'BX Language acquisition'!D2101","v":0}]
[{"$f":"'BX Language acquisition'!A2102","v":0},{"$f":"'BX Language acquisition'!B2102","v":0},null,{"$f":"'BX Language acquisition'!C2102","v":0},{"$f":"'BX Language acquisition'!D2102","v":0}]
[{"$f":"'BX Language acquisition'!A2103","v":0},{"$f":"'BX Language acquisition'!B2103","v":0},null,{"$f":"'BX Language acquisition'!C2103","v":0},{"$f":"'BX Language acquisition'!D2103","v":0}]
[{"$f":"'BX Language acquisition'!A2104","v":0},{"$f":"'BX Language acquisition'!B2104","v":0},null,{"$f":"'BX Language acquisition'!C2104","v":0},{"$f":"'BX Language acquisition'!D2104","v":0}]
[{"$f":"'BX Language acquisition'!A2105","v":0},{"$f":"'BX Language acquisition'!B2105","v":0},null,{"$f":"'BX Language acquisition'!C2105","v":0},{"$f":"'BX Language acquisition'!D2105","v":0}]
[{"$f":"'BX Language acquisition'!A2106","v":0},{"$f":"'BX Language acquisition'!B2106","v":0},null,{"$f":"'BX Language acquisition'!C2106","v":0},{"$f":"'BX Language acquisition'!D2106","v":0}]
[{"$f":"'BX Language acquisition'!A2107","v":0},{"$f":"'BX Language acquisition'!B2107","v":0},null,{"$f":"'BX Language acquisition'!C2107","v":0},{"$f":"'BX Language acquisition'!D2107","v":0}]
[{"$f":"'BX Language acquisition'!A2108","v":0},{"$f":"'BX Language acquisition'!B2108","v":0},null,{"$f":"'BX Language acquisition'!C2108","v":0},{"$f":"'BX Language acquisition'!D2108","v":0}]
[{"$f":"'BX Language acquisition'!A2109","v":0},{"$f":"'BX Language acquisition'!B2109","v":0},null,{"$f":"'BX Language acquisition'!C2109","v":0},{"$f":"'BX Language acquisition'!D2109","v":0}]
[{"$f":"'BX Language acquisition'!A2110","v":0},{"$f":"'BX Language acquisition'!B2110","v":0},null,{"$f":"'BX Language acquisition'!C2110","v":0},{"$f":"'BX Language acquisition'!D2110","v":0}]
[{"$f":"'BX Language acquisition'!A2111","v":0},{"$f":"'BX Language acquisition'!B2111","v":0},null,{"$f":"'BX Language acquisition'!C2111","v":0},{"$f":"'BX Language acquisition'!D2111","v":0}]
[{"$f":"'BX Language acquisition'!A2112","v":0},{"$f":"'BX Language acquisition'!B2112","v":0},null,{"$f":"'BX Language acquisition'!C2112","v":0},{"$f":"'BX Language acquisition'!D2112","v":0}]
[{"$f":"'BX Language acquisition'!A2113","v":0},{"$f":"'BX Language acquisition'!B2113","v":0},null,{"$f":"'BX Language acquisition'!C2113","v":0},{"$f":"'BX Language acquisition'!D2113","v":0}]
[{"$f":"'BX Language acquisition'!A2114","v":0},{"$f":"'BX Language acquisition'!B2114","v":0},null,{"$f":"'BX Language acquisition'!C2114","v":0},{"$f":"'BX Language acquisition'!D2114","v":0}]
[{"$f":"'BX Language acquisition'!A2115","v":0},{"$f":"'BX Language acquisition'!B2115","v":0},null,{"$f":"'BX Language acquisition'!C2115","v":0},{"$f":"'BX Language acquisition'!D2115","v":0}]
[{"$f":"'BX Language acquisition'!A2116","v":0},{"$f":"'BX Language acquisition'!B2116","v":0},null,{"$f":"'BX Language acquisition'!C2116","v":0},{"$f":"'BX Language acquisition'!D2116","v":0}]
[{"$f":"'BX Language acquisition'!A2117","v":0},{"$f":"'BX Language acquisition'!B2117","v":0},null,{"$f":"'BX Language acquisition'!C2117","v":0},{"$f":"'BX Language acquisition'!D2117","v":0}]
[{"$f":"'BX Language acquisition'!A2118","v":0},{"$f":"'BX Language acquisition'!B2118","v":0},null,{"$f":"'BX Language acquisition'!C2118","v":0},{"$f":"'BX Language acquisition'!D2118","v":0}]
[{"$f":"'BX Language acquisition'!A2119","v":0},{"$f":"'BX Language acquisition'!B2119","v":0},null,{"$f":"'BX Language acquisition'!C2119","v":0},{"$f":"'BX Language acquisition'!D2119","v":0}]
[{"$f":"'BX Language acquisition'!A2120","v":0},{"$f":"'BX Language acquisition'!B2120","v":0},null,{"$f":"'BX Language acquisition'!C2120","v":0},{"$f":"'BX Language acquisition'!D2120","v":0}]
[{"$f":"'BX Language acquisition'!A2121","v":0},{"$f":"'BX Language acquisition'!B2121","v":0},null,{"$f":"'BX Language acquisition'!C2121","v":0},{"$f":"'BX Language acquisition'!D2121","v":0}]
[{"$f":"'BX Language acquisition'!A2122","v":0},{"$f":"'BX Language acquisition'!B2122","v":0},null,{"$f":"'BX Language acquisition'!C2122","v":0},{"$f":"'BX Language acquisition'!D2122","v":0}]
[{"$f":"'BX Language acquisition'!A2123","v":0},{"$f":"'BX Language acquisition'!B2123","v":0},null,{"$f":"'BX Language acquisition'!C2123","v":0},{"$f":"'BX Language acquisition'!D2123","v":0}]
[{"$f":"'BX Language acquisition'!A2124","v":0},{"$f":"'BX Language acquisition'!B2124","v":0},null,{"$f":"'BX Language acquisition'!C2124","v":0},{"$f":"'BX Language acquisition'!D2124","v":0}]
[{"$f":"'BX Language acquisition'!A2125","v":0},{"$f":"'BX Language acquisition'!B2125","v":0},null,{"$f":"'BX Language acquisition'!C2125","v":0},{"$f":"'BX Language acquisition'!D2125","v":0}]
[{"$f":"'BX Language acquisition'!A2126","v":0},{"$f":"'BX Language acquisition'!B2126","v":0},null,{"$f":"'BX Language acquisition'!C2126","v":0},{"$f":"'BX Language acquisition'!D2126","v":0}]
[{"$f":"'BX Language acquisition'!A2127","v":0},{"$f":"'BX Language acquisition'!B2127","v":0},null,{"$f":"'BX Language acquisition'!C2127","v":0},{"$f":"'BX Language acquisition'!D2127","v":0}]
[{"$f":"'BX Language acquisition'!A2128","v":0},{"$f":"'BX Language acquisition'!B2128","v":0},null,{"$f":"'BX Language acquisition'!C2128","v":0},{"$f":"'BX Language acquisition'!D2128","v":0}]
[{"$f":"'BX Language acquisition'!A2129","v":0},{"$f":"'BX Language acquisition'!B2129","v":0},null,{"$f":"'BX Language acquisition'!C2129","v":0},{"$f":"'BX Language acquisition'!D2129","v":0}]
[{"$f":"'BX Language acquisition'!A2130","v":0},{"$f":"'BX Language acquisition'!B2130","v":0},null,{"$f":"'BX Language acquisition'!C2130","v":0},{"$f":"'BX Language acquisition'!D2130","v":0}]
[{"$f":"'BX Language acquisition'!A2131","v":0},{"$f":"'BX Language acquisition'!B2131","v":0},null,{"$f":"'BX Language acquisition'!C2131","v":0},{"$f":"'BX Language acquisition'!D2131","v":0}]
[{"$f":"'BX Language acquisition'!A2132","v":0},{"$f":"'BX Language acquisition'!B2132","v":0},null,{"$f":"'BX Language acquisition'!C2132","v":0},{"$f":"'BX Language acquisition'!D2132","v":0}]
[{"$f":"'BX Language acquisition'!A2133","v":0},{"$f":"'BX Language acquisition'!B2133","v":0},null,{"$f":"'BX Language acquisition'!C2133","v":0},{"$f":"'BX Language acquisition'!D2133","v":0}]
[{"$f":"'BX Language acquisition'!A2134","v":0},{"$f":"'BX Language acquisition'!B2134","v":0},null,{"$f":"'BX Language acquisition'!C2134","v":0},{"$f":"'BX Language acquisition'!D2134","v":0}]
[{"$f":"'BX Language acquisition'!A2135","v":0},{"$f":"'BX Language acquisition'!B2135","v":0},null,{"$f":"'BX Language acquisition'!C2135","v":0},{"$f":"'BX Language acquisition'!D2135","v":0}]
[{"$f":"'BX Language acquisition'!A2136","v":0},{"$f":"'BX Language acquisition'!B2136","v":0},null,{"$f":"'BX Language acquisition'!C2136","v":0},{"$f":"'BX Language acquisition'!D2136","v":0}]
[{"$f":"'BX Language acquisition'!A2137","v":0},{"$f":"'BX Language acquisition'!B2137","v":0},null,{"$f":"'BX Language acquisition'!C2137","v":0},{"$f":"'BX Language acquisition'!D2137","v":0}]
[{"$f":"'BX Language acquisition'!A2138","v":0},{"$f":"'BX Language acquisition'!B2138","v":0},null,{"$f":"'BX Language acquisition'!C2138","v":0},{"$f":"'BX Language acquisition'!D2138","v":0}]
[{"$f":"'BX Language acquisition'!A2139","v":0},{"$f":"'BX Language acquisition'!B2139","v":0},null,{"$f":"'BX Language acquisition'!C2139","v":0},{"$f":"'BX Language acquisition'!D2139","v":0}]
[{"$f":"'BX Language acquisition'!A2140","v":0},{"$f":"'BX Language acquisition'!B2140","v":0},null,{"$f":"'BX Language acquisition'!C2140","v":0},{"$f":"'BX Language acquisition'!D2140","v":0}]
[{"$f":"'BX Language acquisition'!A2141","v":0},{"$f":"'BX Language acquisition'!B2141","v":0},null,{"$f":"'BX Language acquisition'!C2141","v":0},{"$f":"'BX Language acquisition'!D2141","v":0}]
[{"$f":"'BX Language acquisition'!A2142","v":0},{"$f":"'BX Language acquisition'!B2142","v":0},null,{"$f":"'BX Language acquisition'!C2142","v":0},{"$f":"'BX Language acquisition'!D2142","v":0}]
[{"$f":"'BX Language acquisition'!A2143","v":0},{"$f":"'BX Language acquisition'!B2143","v":0},null,{"$f":"'BX Language acquisition'!C2143","v":0},{"$f":"'BX Language acquisition'!D2143","v":0}]
[{"$f":"'BX Language acquisition'!A2144","v":0},{"$f":"'BX Language acquisition'!B2144","v":0},null,{"$f":"'BX Language acquisition'!C2144","v":0},{"$f":"'BX Language acquisition'!D2144","v":0}]
[{"$f":"'BX Language acquisition'!A2145","v":0},{"$f":"'BX Language acquisition'!B2145","v":0},null,{"$f":"'BX Language acquisition'!C2145","v":0},{"$f":"'BX Language acquisition'!D2145","v":0}]
[{"$f":"'BX Language acquisition'!A2146","v":0},{"$f":"'BX Language acquisition'!B2146","v":0},null,{"$f":"'BX Language acquisition'!C2146","v":0},{"$f":"'BX Language acquisition'!D2146","v":0}]
[{"$f":"'BX Language acquisition'!A2147","v":0},{"$f":"'BX Language acquisition'!B2147","v":0},null,{"$f":"'BX Language acquisition'!C2147","v":0},{"$f":"'BX Language acquisition'!D2147","v":0}]
[{"$f":"'BX Language acquisition'!A2148","v":0},{"$f":"'BX Language acquisition'!B2148","v":0},null,{"$f":"'BX Language acquisition'!C2148","v":0},{"$f":"'BX Language acquisition'!D2148","v":0}]
[{"$f":"'BX Language acquisition'!A2149","v":0},{"$f":"'BX Language acquisition'!B2149","v":0},null,{"$f":"'BX Language acquisition'!C2149","v":0},{"$f":"'BX Language acquisition'!D2149","v":0}]
[{"$f":"'BX Language acquisition'!A2150","v":0},{"$f":"'BX Language acquisition'!B2150","v":0},null,{"$f":"'BX Language acquisition'!C2150","v":0},{"$f":"'BX Language acquisition'!D2150","v":0}]
[{"$f":"'BX Language acquisition'!A2151","v":0},{"$f":"'BX Language acquisition'!B2151","v":0},null,{"$f":"'BX Language acquisition'!C2151","v":0},{"$f":"'BX Language acquisition'!D2151","v":0}]
[{"$f":"'BX Language acquisition'!A2152","v":0},{"$f":"'BX Language acquisition'!B2152","v":0},null,{"$f":"'BX Language acquisition'!C2152","v":0},{"$f":"'BX Language acquisition'!D2152","v":0}]
[{"$f":"'BX Language acquisition'!A2153","v":0},{"$f":"'BX Language acquisition'!B2153","v":0},null,{"$f":"'BX Language acquisition'!C2153","v":0},{"$f":"'BX Language acquisition'!D2153","v":0}]
[{"$f":"'BX Language acquisition'!A2154","v":0},{"$f":"'BX Language acquisition'!B2154","v":0},null,{"$f":"'BX Language acquisition'!C2154","v":0},{"$f":"'BX Language acquisition'!D2154","v":0}]
[{"$f":"'BX Language acquisition'!A2155","v":0},{"$f":"'BX Language acquisition'!B2155","v":0},null,{"$f":"'BX Language acquisition'!C2155","v":0},{"$f":"'BX Language acquisition'!D2155","v":0}]
[{"$f":"'BX Language acquisition'!A2156","v":0},{"$f":"'BX Language acquisition'!B2156","v":0},null,{"$f":"'BX Language acquisition'!C2156","v":0},{"$f":"'BX Language acquisition'!D2156","v":0}]
[{"$f":"'BX Language acquisition'!A2157","v":0},{"$f":"'BX Language acquisition'!B2157","v":0},null,{"$f":"'BX Language acquisition'!C2157","v":0},{"$f":"'BX Language acquisition'!D2157","v":0}]
[{"$f":"'BX Language acquisition'!A2158","v":0},{"$f":"'BX Language acquisition'!B2158","v":0},null,{"$f":"'BX Language acquisition'!C2158","v":0},{"$f":"'BX Language acquisition'!D2158","v":0}]
[{"$f":"'BX Language acquisition'!A2159","v":0},{"$f":"'BX Language acquisition'!B2159","v":0},null,{"$f":"'BX Language acquisition'!C2159","v":0},{"$f":"'BX Language acquisition'!D2159","v":0}]
[{"$f":"'BX Language acquisition'!A2160","v":0},{"$f":"'BX Language acquisition'!B2160","v":0},null,{"$f":"'BX Language acquisition'!C2160","v":0},{"$f":"'BX Language acquisition'!D2160","v":0}]
[{"$f":"'BX Language acquisition'!A2161","v":0},{"$f":"'BX Language acquisition'!B2161","v":0},null,{"$f":"'BX Language acquisition'!C2161","v":0},{"$f":"'BX Language acquisition'!D2161","v":0}]
[{"$f":"'BX Language acquisition'!A2162","v":0},{"$f":"'BX Language acquisition'!B2162","v":0},null,{"$f":"'BX Language acquisition'!C2162","v":0},{"$f":"'BX Language acquisition'!D2162","v":0}]
[{"$f":"'BX Language acquisition'!A2163","v":0},{"$f":"'BX Language acquisition'!B2163","v":0},null,{"$f":"'BX Language acquisition'!C2163","v":0},{"$f":"'BX Language acquisition'!D2163","v":0}]
[{"$f":"'BX Language acquisition'!A2164","v":0},{"$f":"'BX Language acquisition'!B2164","v":0},null,{"$f":"'BX Language acquisition'!C2164","v":0},{"$f":"'BX Language acquisition'!D2164","v":0}]
[{"$f":"'BX Language acquisition'!A2165","v":0},{"$f":"'BX Language acquisition'!B2165","v":0},null,{"$f":"'BX Language acquisition'!C2165","v":0},{"$f":"'BX Language acquisition'!D2165","v":0}]
[{"$f":"'BX Language acquisition'!A2166","v":0},{"$f":"'BX Language acquisition'!B2166","v":0},null,{"$f":"'BX Language acquisition'!C2166","v":0},{"$f":"'BX Language acquisition'!D2166","v":0}]
[{"$f":"'BX Language acquisition'!A2167","v":0},{"$f":"'BX Language acquisition'!B2167","v":0},null,{"$f":"'BX Language acquisition'!C2167","v":0},{"$f":"'BX Language acquisition'!D2167","v":0}]
[{"$f":"'BX Language acquisition'!A2168","v":0},{"$f":"'BX Language acquisition'!B2168","v":0},null,{"$f":"'BX Language acquisition'!C2168","v":0},{"$f":"'BX Language acquisition'!D2168","v":0}]
[{"$f":"'BX Language acquisition'!A2169","v":0},{"$f":"'BX Language acquisition'!B2169","v":0},null,{"$f":"'BX Language acquisition'!C2169","v":0},{"$f":"'BX Language acquisition'!D2169","v":0}]
[{"$f":"'BX Language acquisition'!A2170","v":0},{"$f":"'BX Language acquisition'!B2170","v":0},null,{"$f":"'BX Language acquisition'!C2170","v":0},{"$f":"'BX Language acquisition'!D2170","v":0}]
[{"$f":"'BX Language acquisition'!A2171","v":0},{"$f":"'BX Language acquisition'!B2171","v":0},null,{"$f":"'BX Language acquisition'!C2171","v":0},{"$f":"'BX Language acquisition'!D2171","v":0}]
[{"$f":"'BX Language acquisition'!A2172","v":0},{"$f":"'BX Language acquisition'!B2172","v":0},null,{"$f":"'BX Language acquisition'!C2172","v":0},{"$f":"'BX Language acquisition'!D2172","v":0}]
[{"$f":"'BX Language acquisition'!A2173","v":0},{"$f":"'BX Language acquisition'!B2173","v":0},null,{"$f":"'BX Language acquisition'!C2173","v":0},{"$f":"'BX Language acquisition'!D2173","v":0}]
[{"$f":"'BX Language acquisition'!A2174","v":0},{"$f":"'BX Language acquisition'!B2174","v":0},null,{"$f":"'BX Language acquisition'!C2174","v":0},{"$f":"'BX Language acquisition'!D2174","v":0}]
[{"$f":"'BX Language acquisition'!A2175","v":0},{"$f":"'BX Language acquisition'!B2175","v":0},null,{"$f":"'BX Language acquisition'!C2175","v":0},{"$f":"'BX Language acquisition'!D2175","v":0}]
[{"$f":"'BX Language acquisition'!A2176","v":0},{"$f":"'BX Language acquisition'!B2176","v":0},null,{"$f":"'BX Language acquisition'!C2176","v":0},{"$f":"'BX Language acquisition'!D2176","v":0}]
[{"$f":"'BX Language acquisition'!A2177","v":0},{"$f":"'BX Language acquisition'!B2177","v":0},null,{"$f":"'BX Language acquisition'!C2177","v":0},{"$f":"'BX Language acquisition'!D2177","v":0}]
[{"$f":"'BX Language acquisition'!A2178","v":0},{"$f":"'BX Language acquisition'!B2178","v":0},null,{"$f":"'BX Language acquisition'!C2178","v":0},{"$f":"'BX Language acquisition'!D2178","v":0}]
[{"$f":"'BX Language acquisition'!A2179","v":0},{"$f":"'BX Language acquisition'!B2179","v":0},null,{"$f":"'BX Language acquisition'!C2179","v":0},{"$f":"'BX Language acquisition'!D2179","v":0}]
[{"$f":"'BX Language acquisition'!A2180","v":0},{"$f":"'BX Language acquisition'!B2180","v":0},null,{"$f":"'BX Language acquisition'!C2180","v":0},{"$f":"'BX Language acquisition'!D2180","v":0}]
[{"$f":"'BX Language acquisition'!A2181","v":0},{"$f":"'BX Language acquisition'!B2181","v":0},null,{"$f":"'BX Language acquisition'!C2181","v":0},{"$f":"'BX Language acquisition'!D2181","v":0}]
[{"$f":"'BX Language acquisition'!A2182","v":0},{"$f":"'BX Language acquisition'!B2182","v":0},null,{"$f":"'BX Language acquisition'!C2182","v":0},{"$f":"'BX Language acquisition'!D2182","v":0}]
[{"$f":"'BX Language acquisition'!A2183","v":0},{"$f":"'BX Language acquisition'!B2183","v":0},null,{"$f":"'BX Language acquisition'!C2183","v":0},{"$f":"'BX Language acquisition'!D2183","v":0}]
[{"$f":"'BX Language acquisition'!A2184","v":0},{"$f":"'BX Language acquisition'!B2184","v":0},null,{"$f":"'BX Language acquisition'!C2184","v":0},{"$f":"'BX Language acquisition'!D2184","v":0}]
[{"$f":"'BX Language acquisition'!A2185","v":0},{"$f":"'BX Language acquisition'!B2185","v":0},null,{"$f":"'BX Language acquisition'!C2185","v":0},{"$f":"'BX Language acquisition'!D2185","v":0}]
[{"$f":"'BX Language acquisition'!A2186","v":0},{"$f":"'BX Language acquisition'!B2186","v":0},null,{"$f":"'BX Language acquisition'!C2186","v":0},{"$f":"'BX Language acquisition'!D2186","v":0}]
[{"$f":"'BX Language acquisition'!A2187","v":0},{"$f":"'BX Language acquisition'!B2187","v":0},null,{"$f":"'BX Language acquisition'!C2187","v":0},{"$f":"'BX Language acquisition'!D2187","v":0}]
[{"$f":"'BX Language acquisition'!A2188","v":0},{"$f":"'BX Language acquisition'!B2188","v":0},null,{"$f":"'BX Language acquisition'!C2188","v":0},{"$f":"'BX Language acquisition'!D2188","v":0}]
[{"$f":"'BX Language acquisition'!A2189","v":0},{"$f":"'BX Language acquisition'!B2189","v":0},null,{"$f":"'BX Language acquisition'!C2189","v":0},{"$f":"'BX Language acquisition'!D2189","v":0}]
[{"$f":"'BX Language acquisition'!A2190","v":0},{"$f":"'BX Language acquisition'!B2190","v":0},null,{"$f":"'BX Language acquisition'!C2190","v":0},{"$f":"'BX Language acquisition'!D2190","v":0}]
[{"$f":"'BX Language acquisition'!A2191","v":0},{"$f":"'BX Language acquisition'!B2191","v":0},null,{"$f":"'BX Language acquisition'!C2191","v":0},{"$f":"'BX Language acquisition'!D2191","v":0}]
[{"$f":"'BX Language acquisition'!A2192","v":0},{"$f":"'BX Language acquisition'!B2192","v":0},null,{"$f":"'BX Language acquisition'!C2192","v":0},{"$f":"'BX Language acquisition'!D2192","v":0}]
[{"$f":"'BX Language acquisition'!A2193","v":0},{"$f":"'BX Language acquisition'!B2193","v":0},null,{"$f":"'BX Language acquisition'!C2193","v":0},{"$f":"'BX Language acquisition'!D2193","v":0}]
[{"$f":"'BX Language acquisition'!A2194","v":0},{"$f":"'BX Language acquisition'!B2194","v":0},null,{"$f":"'BX Language acquisition'!C2194","v":0},{"$f":"'BX Language acquisition'!D2194","v":0}]
[{"$f":"'BX Language acquisition'!A2195","v":0},{"$f":"'BX Language acquisition'!B2195","v":0},null,{"$f":"'BX Language acquisition'!C2195","v":0},{"$f":"'BX Language acquisition'!D2195","v":0}]
[{"$f":"'BX Language acquisition'!A2196","v":0},{"$f":"'BX Language acquisition'!B2196","v":0},null,{"$f":"'BX Language acquisition'!C2196","v":0},{"$f":"'BX Language acquisition'!D2196","v":0}]
[{"$f":"'BX Language acquisition'!A2197","v":0},{"$f":"'BX Language acquisition'!B2197","v":0},null,{"$f":"'BX Language acquisition'!C2197","v":0},{"$f":"'BX Language acquisition'!D2197","v":0}]
[{"$f":"'BX Language acquisition'!A2198","v":0},{"$f":"'BX Language acquisition'!B2198","v":0},null,{"$f":"'BX Language acquisition'!C2198","v":0},{"$f":"'BX Language acquisition'!D2198","v":0}]
[{"$f":"'BX Language acquisition'!A2199","v":0},{"$f":"'BX Language acquisition'!B2199","v":0},null,{"$f":"'BX Language acquisition'!C2199","v":0},{"$f":"'BX Language acquisition'!D2199","v":0}]
[{"$f":"'BX Language acquisition'!A2200","v":0},{"$f":"'BX Language acquisition'!B2200","v":0},null,{"$f":"'BX Language acquisition'!C2200","v":0},{"$f":"'BX Language acquisition'!D2200","v":0}]
[{"$f":"'BX Language acquisition'!A2201","v":0},{"$f":"'BX Language acquisition'!B2201","v":0},null,{"$f":"'BX Language acquisition'!C2201","v":0},{"$f":"'BX Language acquisition'!D2201","v":0}]
[{"$f":"'BX Language acquisition'!A2202","v":0},{"$f":"'BX Language acquisition'!B2202","v":0},null,{"$f":"'BX Language acquisition'!C2202","v":0},{"$f":"'BX Language acquisition'!D2202","v":0}]
[{"$f":"'BX Language acquisition'!A2203","v":0},{"$f":"'BX Language acquisition'!B2203","v":0},null,{"$f":"'BX Language acquisition'!C2203","v":0},{"$f":"'BX Language acquisition'!D2203","v":0}]
[{"$f":"'BX Language acquisition'!A2204","v":0},{"$f":"'BX Language acquisition'!B2204","v":0},null,{"$f":"'BX Language acquisition'!C2204","v":0},{"$f":"'BX Language acquisition'!D2204","v":0}]
[{"$f":"'BX Language acquisition'!A2205","v":0},{"$f":"'BX Language acquisition'!B2205","v":0},null,{"$f":"'BX Language acquisition'!C2205","v":0},{"$f":"'BX Language acquisition'!D2205","v":0}]
[{"$f":"'BX Language acquisition'!A2206","v":0},{"$f":"'BX Language acquisition'!B2206","v":0},null,{"$f":"'BX Language acquisition'!C2206","v":0},{"$f":"'BX Language acquisition'!D2206","v":0}]
[{"$f":"'BX Language acquisition'!A2207","v":0},{"$f":"'BX Language acquisition'!B2207","v":0},null,{"$f":"'BX Language acquisition'!C2207","v":0},{"$f":"'BX Language acquisition'!D2207","v":0}]
[{"$f":"'BX Language acquisition'!A2208","v":0},{"$f":"'BX Language acquisition'!B2208","v":0},null,{"$f":"'BX Language acquisition'!C2208","v":0},{"$f":"'BX Language acquisition'!D2208","v":0}]
[{"$f":"'BX Language acquisition'!A2209","v":0},{"$f":"'BX Language acquisition'!B2209","v":0},null,{"$f":"'BX Language acquisition'!C2209","v":0},{"$f":"'BX Language acquisition'!D2209","v":0}]
[{"$f":"'BX Language acquisition'!A2210","v":0},{"$f":"'BX Language acquisition'!B2210","v":0},null,{"$f":"'BX Language acquisition'!C2210","v":0},{"$f":"'BX Language acquisition'!D2210","v":0}]
[{"$f":"'BX Language acquisition'!A2211","v":0},{"$f":"'BX Language acquisition'!B2211","v":0},null,{"$f":"'BX Language acquisition'!C2211","v":0},{"$f":"'BX Language acquisition'!D2211","v":0}]
[{"$f":"'BX Language acquisition'!A2212","v":0},{"$f":"'BX Language acquisition'!B2212","v":0},null,{"$f":"'BX Language acquisition'!C2212","v":0},{"$f":"'BX Language acquisition'!D2212","v":0}]
[{"$f":"'BX Language acquisition'!A2213","v":0},{"$f":"'BX Language acquisition'!B2213","v":0},null,{"$f":"'BX Language acquisition'!C2213","v":0},{"$f":"'BX Language acquisition'!D2213","v":0}]
[{"$f":"'BX Language acquisition'!A2214","v":0},{"$f":"'BX Language acquisition'!B2214","v":0},null,{"$f":"'BX Language acquisition'!C2214","v":0},{"$f":"'BX Language acquisition'!D2214","v":0}]
[{"$f":"'BX Language acquisition'!A2215","v":0},{"$f":"'BX Language acquisition'!B2215","v":0},null,{"$f":"'BX Language acquisition'!C2215","v":0},{"$f":"'BX Language acquisition'!D2215","v":0}]
[{"$f":"'BX Language acquisition'!A2216","v":0},{"$f":"'BX Language acquisition'!B2216","v":0},null,{"$f":"'BX Language acquisition'!C2216","v":0},{"$f":"'BX Language acquisition'!D2216","v":0}]
[{"$f":"'BX Language acquisition'!A2217","v":0},{"$f":"'BX Language acquisition'!B2217","v":0},null,{"$f":"'BX Language acquisition'!C2217","v":0},{"$f":"'BX Language acquisition'!D2217","v":0}]
[{"$f":"'BX Language acquisition'!A2218","v":0},{"$f":"'BX Language acquisition'!B2218","v":0},null,{"$f":"'BX Language acquisition'!C2218","v":0},{"$f":"'BX Language acquisition'!D2218","v":0}]
[{"$f":"'BX Language acquisition'!A2219","v":0},{"$f":"'BX Language acquisition'!B2219","v":0},null,{"$f":"'BX Language acquisition'!C2219","v":0},{"$f":"'BX Language acquisition'!D2219","v":0}]
[{"$f":"'BX Language acquisition'!A2220","v":0},{"$f":"'BX Language acquisition'!B2220","v":0},null,{"$f":"'BX Language acquisition'!C2220","v":0},{"$f":"'BX Language acquisition'!D2220","v":0}]
[{"$f":"'BX Language acquisition'!A2221","v":0},{"$f":"'BX Language acquisition'!B2221","v":0},null,{"$f":"'BX Language acquisition'!C2221","v":0},{"$f":"'BX Language acquisition'!D2221","v":0}]
[{"$f":"'BX Language acquisition'!A2222","v":0},{"$f":"'BX Language acquisition'!B2222","v":0},null,{"$f":"'BX Language acquisition'!C2222","v":0},{"$f":"'BX Language acquisition'!D2222","v":0}]
[{"$f":"'BX Language acquisition'!A2223","v":0},{"$f":"'BX Language acquisition'!B2223","v":0},null,{"$f":"'BX Language acquisition'!C2223","v":0},{"$f":"'BX Language acquisition'!D2223","v":0}]
[{"$f":"'BX Language acquisition'!A2224","v":0},{"$f":"'BX Language acquisition'!B2224","v":0},null,{"$f":"'BX Language acquisition'!C2224","v":0},{"$f":"'BX Language acquisition'!D2224","v":0}]
[{"$f":"'BX Language acquisition'!A2225","v":0},{"$f":"'BX Language acquisition'!B2225","v":0},null,{"$f":"'BX Language acquisition'!C2225","v":0},{"$f":"'BX Language acquisition'!D2225","v":0}]
[{"$f":"'BX Language acquisition'!A2226","v":0},{"$f":"'BX Language acquisition'!B2226","v":0},null,{"$f":"'BX Language acquisition'!C2226","v":0},{"$f":"'BX Language acquisition'!D2226","v":0}]
[{"$f":"'BX Language acquisition'!A2227","v":0},{"$f":"'BX Language acquisition'!B2227","v":0},null,{"$f":"'BX Language acquisition'!C2227","v":0},{"$f":"'BX Language acquisition'!D2227","v":0}]
[{"$f":"'BX Language acquisition'!A2228","v":0},{"$f":"'BX Language acquisition'!B2228","v":0},null,{"$f":"'BX Language acquisition'!C2228","v":0},{"$f":"'BX Language acquisition'!D2228","v":0}]
[{"$f":"'BX Language acquisition'!A2229","v":0},{"$f":"'BX Language acquisition'!B2229","v":0},null,{"$f":"'BX Language acquisition'!C2229","v":0},{"$f":"'BX Language acquisition'!D2229","v":0}]
[{"$f":"'BX Language acquisition'!A2230","v":0},{"$f":"'BX Language acquisition'!B2230","v":0},null,{"$f":"'BX Language acquisition'!C2230","v":0},{"$f":"'BX Language acquisition'!D2230","v":0}]
[{"$f":"'BX Language acquisition'!A2231","v":0},{"$f":"'BX Language acquisition'!B2231","v":0},null,{"$f":"'BX Language acquisition'!C2231","v":0},{"$f":"'BX Language acquisition'!D2231","v":0}]
[{"$f":"'BX Language acquisition'!A2232","v":0},{"$f":"'BX Language acquisition'!B2232","v":0},null,{"$f":"'BX Language acquisition'!C2232","v":0},{"$f":"'BX Language acquisition'!D2232","v":0}]
[{"$f":"'BX Language acquisition'!A2233","v":0},{"$f":"'BX Language acquisition'!B2233","v":0},null,{"$f":"'BX Language acquisition'!C2233","v":0},{"$f":"'BX Language acquisition'!D2233","v":0}]
[{"$f":"'BX Language acquisition'!A2234","v":0},{"$f":"'BX Language acquisition'!B2234","v":0},null,{"$f":"'BX Language acquisition'!C2234","v":0},{"$f":"'BX Language acquisition'!D2234","v":0}]
[{"$f":"'BX Language acquisition'!A2235","v":0},{"$f":"'BX Language acquisition'!B2235","v":0},null,{"$f":"'BX Language acquisition'!C2235","v":0},{"$f":"'BX Language acquisition'!D2235","v":0}]
[{"$f":"'BX Language acquisition'!A2236","v":0},{"$f":"'BX Language acquisition'!B2236","v":0},null,{"$f":"'BX Language acquisition'!C2236","v":0},{"$f":"'BX Language acquisition'!D2236","v":0}]
[{"$f":"'BX Language acquisition'!A2237","v":0},{"$f":"'BX Language acquisition'!B2237","v":0},null,{"$f":"'BX Language acquisition'!C2237","v":0},{"$f":"'BX Language acquisition'!D2237","v":0}]
[{"$f":"'BX Language acquisition'!A2238","v":0},{"$f":"'BX Language acquisition'!B2238","v":0},null,{"$f":"'BX Language acquisition'!C2238","v":0},{"$f":"'BX Language acquisition'!D2238","v":0}]
[{"$f":"'BX Language acquisition'!A2239","v":0},{"$f":"'BX Language acquisition'!B2239","v":0},null,{"$f":"'BX Language acquisition'!C2239","v":0},{"$f":"'BX Language acquisition'!D2239","v":0}]
[{"$f":"'BX Language acquisition'!A2240","v":0},{"$f":"'BX Language acquisition'!B2240","v":0},null,{"$f":"'BX Language acquisition'!C2240","v":0},{"$f":"'BX Language acquisition'!D2240","v":0}]
[{"$f":"'BX Language acquisition'!A2241","v":0},{"$f":"'BX Language acquisition'!B2241","v":0},null,{"$f":"'BX Language acquisition'!C2241","v":0},{"$f":"'BX Language acquisition'!D2241","v":0}]
[{"$f":"'BX Language acquisition'!A2242","v":0},{"$f":"'BX Language acquisition'!B2242","v":0},null,{"$f":"'BX Language acquisition'!C2242","v":0},{"$f":"'BX Language acquisition'!D2242","v":0}]
[{"$f":"'BX Language acquisition'!A2243","v":0},{"$f":"'BX Language acquisition'!B2243","v":0},null,{"$f":"'BX Language acquisition'!C2243","v":0},{"$f":"'BX Language acquisition'!D2243","v":0}]
[{"$f":"'BX Language acquisition'!A2244","v":0},{"$f":"'BX Language acquisition'!B2244","v":0},null,{"$f":"'BX Language acquisition'!C2244","v":0},{"$f":"'BX Language acquisition'!D2244","v":0}]
[{"$f":"'BX Language acquisition'!A2245","v":0},{"$f":"'BX Language acquisition'!B2245","v":0},null,{"$f":"'BX Language acquisition'!C2245","v":0},{"$f":"'BX Language acquisition'!D2245","v":0}]
[{"$f":"'BX Language acquisition'!A2246","v":0},{"$f":"'BX Language acquisition'!B2246","v":0},null,{"$f":"'BX Language acquisition'!C2246","v":0},{"$f":"'BX Language acquisition'!D2246","v":0}]
[{"$f":"'BX Language acquisition'!A2247","v":0},{"$f":"'BX Language acquisition'!B2247","v":0},null,{"$f":"'BX Language acquisition'!C2247","v":0},{"$f":"'BX Language acquisition'!D2247","v":0}]
[{"$f":"'BX Language acquisition'!A2248","v":0},{"$f":"'BX Language acquisition'!B2248","v":0},null,{"$f":"'BX Language acquisition'!C2248","v":0},{"$f":"'BX Language acquisition'!D2248","v":0}]
[{"$f":"'BX Language acquisition'!A2249","v":0},{"$f":"'BX Language acquisition'!B2249","v":0},null,{"$f":"'BX Language acquisition'!C2249","v":0},{"$f":"'BX Language acquisition'!D2249","v":0}]
[{"$f":"'BX Language acquisition'!A2250","v":0},{"$f":"'BX Language acquisition'!B2250","v":0},null,{"$f":"'BX Language acquisition'!C2250","v":0},{"$f":"'BX Language acquisition'!D2250","v":0}]
[{"$f":"'BX Language acquisition'!A2251","v":0},{"$f":"'BX Language acquisition'!B2251","v":0},null,{"$f":"'BX Language acquisition'!C2251","v":0},{"$f":"'BX Language acquisition'!D2251","v":0}]
[{"$f":"'BX Language acquisition'!A2252","v":0},{"$f":"'BX Language acquisition'!B2252","v":0},null,{"$f":"'BX Language acquisition'!C2252","v":0},{"$f":"'BX Language acquisition'!D2252","v":0}]
[{"$f":"'BX Language acquisition'!A2253","v":0},{"$f":"'BX Language acquisition'!B2253","v":0},null,{"$f":"'BX Language acquisition'!C2253","v":0},{"$f":"'BX Language acquisition'!D2253","v":0}]
[{"$f":"'BX Language acquisition'!A2254","v":0},{"$f":"'BX Language acquisition'!B2254","v":0},null,{"$f":"'BX Language acquisition'!C2254","v":0},{"$f":"'BX Language acquisition'!D2254","v":0}]
[{"$f":"'BX Language acquisition'!A2255","v":0},{"$f":"'BX Language acquisition'!B2255","v":0},null,{"$f":"'BX Language acquisition'!C2255","v":0},{"$f":"'BX Language acquisition'!D2255","v":0}]
[{"$f":"'BX Language acquisition'!A2256","v":0},{"$f":"'BX Language acquisition'!B2256","v":0},null,{"$f":"'BX Language acquisition'!C2256","v":0},{"$f":"'BX Language acquisition'!D2256","v":0}]
[{"$f":"'BX Language acquisition'!A2257","v":0},{"$f":"'BX Language acquisition'!B2257","v":0},null,{"$f":"'BX Language acquisition'!C2257","v":0},{"$f":"'BX Language acquisition'!D2257","v":0}]
[{"$f":"'BX Language acquisition'!A2258","v":0},{"$f":"'BX Language acquisition'!B2258","v":0},null,{"$f":"'BX Language acquisition'!C2258","v":0},{"$f":"'BX Language acquisition'!D2258","v":0}]
[{"$f":"'BX Language acquisition'!A2259","v":0},{"$f":"'BX Language acquisition'!B2259","v":0},null,{"$f":"'BX Language acquisition'!C2259","v":0},{"$f":"'BX Language acquisition'!D2259","v":0}]
[{"$f":"'BX Language acquisition'!A2260","v":0},{"$f":"'BX Language acquisition'!B2260","v":0},null,{"$f":"'BX Language acquisition'!C2260","v":0},{"$f":"'BX Language acquisition'!D2260","v":0}]
[{"$f":"'BX Language acquisition'!A2261","v":0},{"$f":"'BX Language acquisition'!B2261","v":0},null,{"$f":"'BX Language acquisition'!C2261","v":0},{"$f":"'BX Language acquisition'!D2261","v":0}]
[{"$f":"'BX Language acquisition'!A2262","v":0},{"$f":"'BX Language acquisition'!B2262","v":0},null,{"$f":"'BX Language acquisition'!C2262","v":0},{"$f":"'BX Language acquisition'!D2262","v":0}]
[{"$f":"'BX Language acquisition'!A2263","v":0},{"$f":"'BX Language acquisition'!B2263","v":0},null,{"$f":"'BX Language acquisition'!C2263","v":0},{"$f":"'BX Language acquisition'!D2263","v":0}]
[{"$f":"'BX Language acquisition'!A2264","v":0},{"$f":"'BX Language acquisition'!B2264","v":0},null,{"$f":"'BX Language acquisition'!C2264","v":0},{"$f":"'BX Language acquisition'!D2264","v":0}]
[{"$f":"'BX Language acquisition'!A2265","v":0},{"$f":"'BX Language acquisition'!B2265","v":0},null,{"$f":"'BX Language acquisition'!C2265","v":0},{"$f":"'BX Language acquisition'!D2265","v":0}]
[{"$f":"'BX Language acquisition'!A2266","v":0},{"$f":"'BX Language acquisition'!B2266","v":0},null,{"$f":"'BX Language acquisition'!C2266","v":0},{"$f":"'BX Language acquisition'!D2266","v":0}]
[{"$f":"'BX Language acquisition'!A2267","v":0},{"$f":"'BX Language acquisition'!B2267","v":0},null,{"$f":"'BX Language acquisition'!C2267","v":0},{"$f":"'BX Language acquisition'!D2267","v":0}]
[{"$f":"'BX Language acquisition'!A2268","v":0},{"$f":"'BX Language acquisition'!B2268","v":0},null,{"$f":"'BX Language acquisition'!C2268","v":0},{"$f":"'BX Language acquisition'!D2268","v":0}]
[{"$f":"'BX Language acquisition'!A2269","v":0},{"$f":"'BX Language acquisition'!B2269","v":0},null,{"$f":"'BX Language acquisition'!C2269","v":0},{"$f":"'BX Language acquisition'!D2269","v":0}]
[{"$f":"'BX Language acquisition'!A2270","v":0},{"$f":"'BX Language acquisition'!B2270","v":0},null,{"$f":"'BX Language acquisition'!C2270","v":0},{"$f":"'BX Language acquisition'!D2270","v":0}]
[{"$f":"'BX Language acquisition'!A2271","v":0},{"$f":"'BX Language acquisition'!B2271","v":0},null,{"$f":"'BX Language acquisition'!C2271","v":0},{"$f":"'BX Language acquisition'!D2271","v":0}]
[{"$f":"'BX Language acquisition'!A2272","v":0},{"$f":"'BX Language acquisition'!B2272","v":0},null,{"$f":"'BX Language acquisition'!C2272","v":0},{"$f":"'BX Language acquisition'!D2272","v":0}]
[{"$f":"'BX Language acquisition'!A2273","v":0},{"$f":"'BX Language acquisition'!B2273","v":0},null,{"$f":"'BX Language acquisition'!C2273","v":0},{"$f":"'BX Language acquisition'!D2273","v":0}]
[{"$f":"'BX Language acquisition'!A2274","v":0},{"$f":"'BX Language acquisition'!B2274","v":0},null,{"$f":"'BX Language acquisition'!C2274","v":0},{"$f":"'BX Language acquisition'!D2274","v":0}]
[{"$f":"'BX Language acquisition'!A2275","v":0},{"$f":"'BX Language acquisition'!B2275","v":0},null,{"$f":"'BX Language acquisition'!C2275","v":0},{"$f":"'BX Language acquisition'!D2275","v":0}]
[{"$f":"'BX Language acquisition'!A2276","v":0},{"$f":"'BX Language acquisition'!B2276","v":0},null,{"$f":"'BX Language acquisition'!C2276","v":0},{"$f":"'BX Language acquisition'!D2276","v":0}]
[{"$f":"'BX Language acquisition'!A2277","v":0},{"$f":"'BX Language acquisition'!B2277","v":0},null,{"$f":"'BX Language acquisition'!C2277","v":0},{"$f":"'BX Language acquisition'!D2277","v":0}]
[{"$f":"'BX Language acquisition'!A2278","v":0},{"$f":"'BX Language acquisition'!B2278","v":0},null,{"$f":"'BX Language acquisition'!C2278","v":0},{"$f":"'BX Language acquisition'!D2278","v":0}]
[{"$f":"'BX Language acquisition'!A2279","v":0},{"$f":"'BX Language acquisition'!B2279","v":0},null,{"$f":"'BX Language acquisition'!C2279","v":0},{"$f":"'BX Language acquisition'!D2279","v":0}]
[{"$f":"'BX Language acquisition'!A2280","v":0},{"$f":"'BX Language acquisition'!B2280","v":0},null,{"$f":"'BX Language acquisition'!C2280","v":0},{"$f":"'BX Language acquisition'!D2280","v":0}]
[{"$f":"'BX Language acquisition'!A2281","v":0},{"$f":"'BX Language acquisition'!B2281","v":0},null,{"$f":"'BX Language acquisition'!C2281","v":0},{"$f":"'BX Language acquisition'!D2281","v":0}]
[{"$f":"'BX Language acquisition'!A2282","v":0},{"$f":"'BX Language acquisition'!B2282","v":0},null,{"$f":"'BX Language acquisition'!C2282","v":0},{"$f":"'BX Language acquisition'!D2282","v":0}]
[{"$f":"'BX Language acquisition'!A2283","v":0},{"$f":"'BX Language acquisition'!B2283","v":0},null,{"$f":"'BX Language acquisition'!C2283","v":0},{"$f":"'BX Language acquisition'!D2283","v":0}]
[{"$f":"'BX Language acquisition'!A2284","v":0},{"$f":"'BX Language acquisition'!B2284","v":0},null,{"$f":"'BX Language acquisition'!C2284","v":0},{"$f":"'BX Language acquisition'!D2284","v":0}]
[{"$f":"'BX Language acquisition'!A2285","v":0},{"$f":"'BX Language acquisition'!B2285","v":0},null,{"$f":"'BX Language acquisition'!C2285","v":0},{"$f":"'BX Language acquisition'!D2285","v":0}]
[{"$f":"'BX Language acquisition'!A2286","v":0},{"$f":"'BX Language acquisition'!B2286","v":0},null,{"$f":"'BX Language acquisition'!C2286","v":0},{"$f":"'BX Language acquisition'!D2286","v":0}]
[{"$f":"'BX Language acquisition'!A2287","v":0},{"$f":"'BX Language acquisition'!B2287","v":0},null,{"$f":"'BX Language acquisition'!C2287","v":0},{"$f":"'BX Language acquisition'!D2287","v":0}]
[{"$f":"'BX Language acquisition'!A2288","v":0},{"$f":"'BX Language acquisition'!B2288","v":0},null,{"$f":"'BX Language acquisition'!C2288","v":0},{"$f":"'BX Language acquisition'!D2288","v":0}]
[{"$f":"'BX Language acquisition'!A2289","v":0},{"$f":"'BX Language acquisition'!B2289","v":0},null,{"$f":"'BX Language acquisition'!C2289","v":0},{"$f":"'BX Language acquisition'!D2289","v":0}]
[{"$f":"'BX Language acquisition'!A2290","v":0},{"$f":"'BX Language acquisition'!B2290","v":0},null,{"$f":"'BX Language acquisition'!C2290","v":0},{"$f":"'BX Language acquisition'!D2290","v":0}]
[{"$f":"'BX Language acquisition'!A2291","v":0},{"$f":"'BX Language acquisition'!B2291","v":0},null,{"$f":"'BX Language acquisition'!C2291","v":0},{"$f":"'BX Language acquisition'!D2291","v":0}]
[{"$f":"'BX Language acquisition'!A2292","v":0},{"$f":"'BX Language acquisition'!B2292","v":0},null,{"$f":"'BX Language acquisition'!C2292","v":0},{"$f":"'BX Language acquisition'!D2292","v":0}]
[{"$f":"'BX Language acquisition'!A2293","v":0},{"$f":"'BX Language acquisition'!B2293","v":0},null,{"$f":"'BX Language acquisition'!C2293","v":0},{"$f":"'BX Language acquisition'!D2293","v":0}]
[{"$f":"'BX Language acquisition'!A2294","v":0},{"$f":"'BX Language acquisition'!B2294","v":0},null,{"$f":"'BX Language acquisition'!C2294","v":0},{"$f":"'BX Language acquisition'!D2294","v":0}]
[{"$f":"'BX Language acquisition'!A2295","v":0},{"$f":"'BX Language acquisition'!B2295","v":0},null,{"$f":"'BX Language acquisition'!C2295","v":0},{"$f":"'BX Language acquisition'!D2295","v":0}]
[{"$f":"'BX Language acquisition'!A2296","v":0},{"$f":"'BX Language acquisition'!B2296","v":0},null,{"$f":"'BX Language acquisition'!C2296","v":0},{"$f":"'BX Language acquisition'!D2296","v":0}]
[{"$f":"'BX Language acquisition'!A2297","v":0},{"$f":"'BX Language acquisition'!B2297","v":0},null,{"$f":"'BX Language acquisition'!C2297","v":0},{"$f":"'BX Language acquisition'!D2297","v":0}]
[{"$f":"'BX Language acquisition'!A2298","v":0},{"$f":"'BX Language acquisition'!B2298","v":0},null,{"$f":"'BX Language acquisition'!C2298","v":0},{"$f":"'BX Language acquisition'!D2298","v":0}]
[{"$f":"'BX Language acquisition'!A2299","v":0},{"$f":"'BX Language acquisition'!B2299","v":0},null,{"$f":"'BX Language acquisition'!C2299","v":0},{"$f":"'BX Language acquisition'!D2299","v":0}]
[{"$f":"'BX Language acquisition'!A2300","v":0},{"$f":"'BX Language acquisition'!B2300","v":0},null,{"$f":"'BX Language acquisition'!C2300","v":0},{"$f":"'BX Language acquisition'!D2300","v":0}]
[{"$f":"'BX Language acquisition'!A2301","v":0},{"$f":"'BX Language acquisition'!B2301","v":0},null,{"$f":"'BX Language acquisition'!C2301","v":0},{"$f":"'BX Language acquisition'!D2301","v":0}]
[{"$f":"'BX Language acquisition'!A2302","v":0},{"$f":"'BX Language acquisition'!B2302","v":0},null,{"$f":"'BX Language acquisition'!C2302","v":0},{"$f":"'BX Language acquisition'!D2302","v":0}]
[{"$f":"'BX Language acquisition'!A2303","v":0},{"$f":"'BX Language acquisition'!B2303","v":0},null,{"$f":"'BX Language acquisition'!C2303","v":0},{"$f":"'BX Language acquisition'!D2303","v":0}]
[{"$f":"'BX Language acquisition'!A2304","v":0},{"$f":"'BX Language acquisition'!B2304","v":0},null,{"$f":"'BX Language acquisition'!C2304","v":0},{"$f":"'BX Language acquisition'!D2304","v":0}]
[{"$f":"'BX Language acquisition'!A2305","v":0},{"$f":"'BX Language acquisition'!B2305","v":0},null,{"$f":"'BX Language acquisition'!C2305","v":0},{"$f":"'BX Language acquisition'!D2305","v":0}]
[{"$f":"'BX Language acquisition'!A2306","v":0},{"$f":"'BX Language acquisition'!B2306","v":0},null,{"$f":"'BX Language acquisition'!C2306","v":0},{"$f":"'BX Language acquisition'!D2306","v":0}]
[{"$f":"'BX Language acquisition'!A2307","v":0},{"$f":"'BX Language acquisition'!B2307","v":0},null,{"$f":"'BX Language acquisition'!C2307","v":0},{"$f":"'BX Language acquisition'!D2307","v":0}]
[{"$f":"'BX Language acquisition'!A2308","v":0},{"$f":"'BX Language acquisition'!B2308","v":0},null,{"$f":"'BX Language acquisition'!C2308","v":0},{"$f":"'BX Language acquisition'!D2308","v":0}]
[{"$f":"'BX Language acquisition'!A2309","v":0},{"$f":"'BX Language acquisition'!B2309","v":0},null,{"$f":"'BX Language acquisition'!C2309","v":0},{"$f":"'BX Language acquisition'!D2309","v":0}]
[{"$f":"'BX Language acquisition'!A2310","v":0},{"$f":"'BX Language acquisition'!B2310","v":0},null,{"$f":"'BX Language acquisition'!C2310","v":0},{"$f":"'BX Language acquisition'!D2310","v":0}]
[{"$f":"'BX Language acquisition'!A2311","v":0},{"$f":"'BX Language acquisition'!B2311","v":0},null,{"$f":"'BX Language acquisition'!C2311","v":0},{"$f":"'BX Language acquisition'!D2311","v":0}]
[{"$f":"'BX Language acquisition'!A2312","v":0},{"$f":"'BX Language acquisition'!B2312","v":0},null,{"$f":"'BX Language acquisition'!C2312","v":0},{"$f":"'BX Language acquisition'!D2312","v":0}]
[{"$f":"'BX Language acquisition'!A2313","v":0},{"$f":"'BX Language acquisition'!B2313","v":0},null,{"$f":"'BX Language acquisition'!C2313","v":0},{"$f":"'BX Language acquisition'!D2313","v":0}]
[{"$f":"'BX Language acquisition'!A2314","v":0},{"$f":"'BX Language acquisition'!B2314","v":0},null,{"$f":"'BX Language acquisition'!C2314","v":0},{"$f":"'BX Language acquisition'!D2314","v":0}]
[{"$f":"'BX Language acquisition'!A2315","v":0},{"$f":"'BX Language acquisition'!B2315","v":0},null,{"$f":"'BX Language acquisition'!C2315","v":0},{"$f":"'BX Language acquisition'!D2315","v":0}]
[{"$f":"'BX Language acquisition'!A2316","v":0},{"$f":"'BX Language acquisition'!B2316","v":0},null,{"$f":"'BX Language acquisition'!C2316","v":0},{"$f":"'BX Language acquisition'!D2316","v":0}]
[{"$f":"'BX Language acquisition'!A2317","v":0},{"$f":"'BX Language acquisition'!B2317","v":0},null,{"$f":"'BX Language acquisition'!C2317","v":0},{"$f":"'BX Language acquisition'!D2317","v":0}]
[{"$f":"'BX Language acquisition'!A2318","v":0},{"$f":"'BX Language acquisition'!B2318","v":0},null,{"$f":"'BX Language acquisition'!C2318","v":0},{"$f":"'BX Language acquisition'!D2318","v":0}]
[{"$f":"'BX Language acquisition'!A2319","v":0},{"$f":"'BX Language acquisition'!B2319","v":0},null,{"$f":"'BX Language acquisition'!C2319","v":0},{"$f":"'BX Language acquisition'!D2319","v":0}]
[{"$f":"'BX Language acquisition'!A2320","v":0},{"$f":"'BX Language acquisition'!B2320","v":0},null,{"$f":"'BX Language acquisition'!C2320","v":0},{"$f":"'BX Language acquisition'!D2320","v":0}]
[{"$f":"'BX Language acquisition'!A2321","v":0},{"$f":"'BX Language acquisition'!B2321","v":0},null,{"$f":"'BX Language acquisition'!C2321","v":0},{"$f":"'BX Language acquisition'!D2321","v":0}]
[{"$f":"'BX Language acquisition'!A2322","v":0},{"$f":"'BX Language acquisition'!B2322","v":0},null,{"$f":"'BX Language acquisition'!C2322","v":0},{"$f":"'BX Language acquisition'!D2322","v":0}]
[{"$f":"'BX Language acquisition'!A2323","v":0},{"$f":"'BX Language acquisition'!B2323","v":0},null,{"$f":"'BX Language acquisition'!C2323","v":0},{"$f":"'BX Language acquisition'!D2323","v":0}]
[{"$f":"'BX Language acquisition'!A2324","v":0},{"$f":"'BX Language acquisition'!B2324","v":0},null,{"$f":"'BX Language acquisition'!C2324","v":0},{"$f":"'BX Language acquisition'!D2324","v":0}]
[{"$f":"'BX Language acquisition'!A2325","v":0},{"$f":"'BX Language acquisition'!B2325","v":0},null,{"$f":"'BX Language acquisition'!C2325","v":0},{"$f":"'BX Language acquisition'!D2325","v":0}]
[{"$f":"'BX Language acquisition'!A2326","v":0},{"$f":"'BX Language acquisition'!B2326","v":0},null,{"$f":"'BX Language acquisition'!C2326","v":0},{"$f":"'BX Language acquisition'!D2326","v":0}]
[{"$f":"'BX Language acquisition'!A2327","v":0},{"$f":"'BX Language acquisition'!B2327","v":0},null,{"$f":"'BX Language acquisition'!C2327","v":0},{"$f":"'BX Language acquisition'!D2327","v":0}]
[{"$f":"'BX Language acquisition'!A2328","v":0},{"$f":"'BX Language acquisition'!B2328","v":0},null,{"$f":"'BX Language acquisition'!C2328","v":0},{"$f":"'BX Language acquisition'!D2328","v":0}]
[{"$f":"'BX Language acquisition'!A2329","v":0},{"$f":"'BX Language acquisition'!B2329","v":0},null,{"$f":"'BX Language acquisition'!C2329","v":0},{"$f":"'BX Language acquisition'!D2329","v":0}]
[{"$f":"'BX Language acquisition'!A2330","v":0},{"$f":"'BX Language acquisition'!B2330","v":0},null,{"$f":"'BX Language acquisition'!C2330","v":0},{"$f":"'BX Language acquisition'!D2330","v":0}]
[{"$f":"'BX Language acquisition'!A2331","v":0},{"$f":"'BX Language acquisition'!B2331","v":0},null,{"$f":"'BX Language acquisition'!C2331","v":0},{"$f":"'BX Language acquisition'!D2331","v":0}]
[{"$f":"'BX Language acquisition'!A2332","v":0},{"$f":"'BX Language acquisition'!B2332","v":0},null,{"$f":"'BX Language acquisition'!C2332","v":0},{"$f":"'BX Language acquisition'!D2332","v":0}]
[{"$f":"'BX Language acquisition'!A2333","v":0},{"$f":"'BX Language acquisition'!B2333","v":0},null,{"$f":"'BX Language acquisition'!C2333","v":0},{"$f":"'BX Language acquisition'!D2333","v":0}]
[{"$f":"'BX Language acquisition'!A2334","v":0},{"$f":"'BX Language acquisition'!B2334","v":0},null,{"$f":"'BX Language acquisition'!C2334","v":0},{"$f":"'BX Language acquisition'!D2334","v":0}]
[{"$f":"'BX Language acquisition'!A2335","v":0},{"$f":"'BX Language acquisition'!B2335","v":0},null,{"$f":"'BX Language acquisition'!C2335","v":0},{"$f":"'BX Language acquisition'!D2335","v":0}]
[{"$f":"'BX Language acquisition'!A2336","v":0},{"$f":"'BX Language acquisition'!B2336","v":0},null,{"$f":"'BX Language acquisition'!C2336","v":0},{"$f":"'BX Language acquisition'!D2336","v":0}]
[{"$f":"'BX Language acquisition'!A2337","v":0},{"$f":"'BX Language acquisition'!B2337","v":0},null,{"$f":"'BX Language acquisition'!C2337","v":0},{"$f":"'BX Language acquisition'!D2337","v":0}]
[{"$f":"'BX Language acquisition'!A2338","v":0},{"$f":"'BX Language acquisition'!B2338","v":0},null,{"$f":"'BX Language acquisition'!C2338","v":0},{"$f":"'BX Language acquisition'!D2338","v":0}]
[{"$f":"'BX Language acquisition'!A2339","v":0},{"$f":"'BX Language acquisition'!B2339","v":0},null,{"$f":"'BX Language acquisition'!C2339","v":0},{"$f":"'BX Language acquisition'!D2339","v":0}]
[{"$f":"'BX Language acquisition'!A2340","v":0},{"$f":"'BX Language acquisition'!B2340","v":0},null,{"$f":"'BX Language acquisition'!C2340","v":0},{"$f":"'BX Language acquisition'!D2340","v":0}]
[{"$f":"'BX Language acquisition'!A2341","v":0},{"$f":"'BX Language acquisition'!B2341","v":0},null,{"$f":"'BX Language acquisition'!C2341","v":0},{"$f":"'BX Language acquisition'!D2341","v":0}]
[{"$f":"'BX Language acquisition'!A2342","v":0},{"$f":"'BX Language acquisition'!B2342","v":0},null,{"$f":"'BX Language acquisition'!C2342","v":0},{"$f":"'BX Language acquisition'!D2342","v":0}]
[{"$f":"'BX Language acquisition'!A2343","v":0},{"$f":"'BX Language acquisition'!B2343","v":0},null,{"$f":"'BX Language acquisition'!C2343","v":0},{"$f":"'BX Language acquisition'!D2343","v":0}]
[{"$f":"'BX Language acquisition'!A2344","v":0},{"$f":"'BX Language acquisition'!B2344","v":0},null,{"$f":"'BX Language acquisition'!C2344","v":0},{"$f":"'BX Language acquisition'!D2344","v":0}]
[{"$f":"'BX Language acquisition'!A2345","v":0},{"$f":"'BX Language acquisition'!B2345","v":0},null,{"$f":"'BX Language acquisition'!C2345","v":0},{"$f":"'BX Language acquisition'!D2345","v":0}]
[{"$f":"'BX Language acquisition'!A2346","v":0},{"$f":"'BX Language acquisition'!B2346","v":0},null,{"$f":"'BX Language acquisition'!C2346","v":0},{"$f":"'BX Language acquisition'!D2346","v":0}]
[{"$f":"'BX Language acquisition'!A2347","v":0},{"$f":"'BX Language acquisition'!B2347","v":0},null,{"$f":"'BX Language acquisition'!C2347","v":0},{"$f":"'BX Language acquisition'!D2347","v":0}]
[{"$f":"'BX Language acquisition'!A2348","v":0},{"$f":"'BX Language acquisition'!B2348","v":0},null,{"$f":"'BX Language acquisition'!C2348","v":0},{"$f":"'BX Language acquisition'!D2348","v":0}]
[{"$f":"'BX Language acquisition'!A2349","v":0},{"$f":"'BX Language acquisition'!B2349","v":0},null,{"$f":"'BX Language acquisition'!C2349","v":0},{"$f":"'BX Language acquisition'!D2349","v":0}]
[{"$f":"'BX Language acquisition'!A2350","v":0},{"$f":"'BX Language acquisition'!B2350","v":0},null,{"$f":"'BX Language acquisition'!C2350","v":0},{"$f":"'BX Language acquisition'!D2350","v":0}]
[{"$f":"'BX Language acquisition'!A2351","v":0},{"$f":"'BX Language acquisition'!B2351","v":0},null,{"$f":"'BX Language acquisition'!C2351","v":0},{"$f":"'BX Language acquisition'!D2351","v":0}]
[{"$f":"'BX Language acquisition'!A2352","v":0},{"$f":"'BX Language acquisition'!B2352","v":0},null,{"$f":"'BX Language acquisition'!C2352","v":0},{"$f":"'BX Language acquisition'!D2352","v":0}]
[{"$f":"'BX Language acquisition'!A2353","v":0},{"$f":"'BX Language acquisition'!B2353","v":0},null,{"$f":"'BX Language acquisition'!C2353","v":0},{"$f":"'BX Language acquisition'!D2353","v":0}]
[{"$f":"'BX Language acquisition'!A2354","v":0},{"$f":"'BX Language acquisition'!B2354","v":0},null,{"$f":"'BX Language acquisition'!C2354","v":0},{"$f":"'BX Language acquisition'!D2354","v":0}]
[{"$f":"'BX Language acquisition'!A2355","v":0},{"$f":"'BX Language acquisition'!B2355","v":0},null,{"$f":"'BX Language acquisition'!C2355","v":0},{"$f":"'BX Language acquisition'!D2355","v":0}]
[{"$f":"'BX Language acquisition'!A2356","v":0},{"$f":"'BX Language acquisition'!B2356","v":0},null,{"$f":"'BX Language acquisition'!C2356","v":0},{"$f":"'BX Language acquisition'!D2356","v":0}]
[{"$f":"'BX Language acquisition'!A2357","v":0},{"$f":"'BX Language acquisition'!B2357","v":0},null,{"$f":"'BX Language acquisition'!C2357","v":0},{"$f":"'BX Language acquisition'!D2357","v":0}]
[{"$f":"'BX Language acquisition'!A2358","v":0},{"$f":"'BX Language acquisition'!B2358","v":0},null,{"$f":"'BX Language acquisition'!C2358","v":0},{"$f":"'BX Language acquisition'!D2358","v":0}]
[{"$f":"'BX Language acquisition'!A2359","v":0},{"$f":"'BX Language acquisition'!B2359","v":0},null,{"$f":"'BX Language acquisition'!C2359","v":0},{"$f":"'BX Language acquisition'!D2359","v":0}]
[{"$f":"'BX Language acquisition'!A2360","v":0},{"$f":"'BX Language acquisition'!B2360","v":0},null,{"$f":"'BX Language acquisition'!C2360","v":0},{"$f":"'BX Language acquisition'!D2360","v":0}]
[{"$f":"'BX Language acquisition'!A2361","v":0},{"$f":"'BX Language acquisition'!B2361","v":0},null,{"$f":"'BX Language acquisition'!C2361","v":0},{"$f":"'BX Language acquisition'!D2361","v":0}]
[{"$f":"'BX Language acquisition'!A2362","v":0},{"$f":"'BX Language acquisition'!B2362","v":0},null,{"$f":"'BX Language acquisition'!C2362","v":0},{"$f":"'BX Language acquisition'!D2362","v":0}]
[{"$f":"'BX Language acquisition'!A2363","v":0},{"$f":"'BX Language acquisition'!B2363","v":0},null,{"$f":"'BX Language acquisition'!C2363","v":0},{"$f":"'BX Language acquisition'!D2363","v":0}]
[{"$f":"'BX Language acquisition'!A2364","v":0},{"$f":"'BX Language acquisition'!B2364","v":0},null,{"$f":"'BX Language acquisition'!C2364","v":0},{"$f":"'BX Language acquisition'!D2364","v":0}]
[{"$f":"'BX Language acquisition'!A2365","v":0},{"$f":"'BX Language acquisition'!B2365","v":0},null,{"$f":"'BX Language acquisition'!C2365","v":0},{"$f":"'BX Language acquisition'!D2365","v":0}]
[{"$f":"'BX Language acquisition'!A2366","v":0},{"$f":"'BX Language acquisition'!B2366","v":0},null,{"$f":"'BX Language acquisition'!C2366","v":0},{"$f":"'BX Language acquisition'!D2366","v":0}]
[{"$f":"'BX Language acquisition'!A2367","v":0},{"$f":"'BX Language acquisition'!B2367","v":0},null,{"$f":"'BX Language acquisition'!C2367","v":0},{"$f":"'BX Language acquisition'!D2367","v":0}]
[{"$f":"'BX Language acquisition'!A2368","v":0},{"$f":"'BX Language acquisition'!B2368","v":0},null,{"$f":"'BX Language acquisition'!C2368","v":0},{"$f":"'BX Language acquisition'!D2368","v":0}]
[{"$f":"'BX Language acquisition'!A2369","v":0},{"$f":"'BX Language acquisition'!B2369","v":0},null,{"$f":"'BX Language acquisition'!C2369","v":0},{"$f":"'BX Language acquisition'!D2369","v":0}]
[{"$f":"'BX Language acquisition'!A2370","v":0},{"$f":"'BX Language acquisition'!B2370","v":0},null,{"$f":"'BX Language acquisition'!C2370","v":0},{"$f":"'BX Language acquisition'!D2370","v":0}]
[{"$f":"'BX Language acquisition'!A2371","v":0},{"$f":"'BX Language acquisition'!B2371","v":0},null,{"$f":"'BX Language acquisition'!C2371","v":0},{"$f":"'BX Language acquisition'!D2371","v":0}]
[{"$f":"'BX Language acquisition'!A2372","v":0},{"$f":"'BX Language acquisition'!B2372","v":0},null,{"$f":"'BX Language acquisition'!C2372","v":0},{"$f":"'BX Language acquisition'!D2372","v":0}]
[{"$f":"'BX Language acquisition'!A2373","v":0},{"$f":"'BX Language acquisition'!B2373","v":0},null,{"$f":"'BX Language acquisition'!C2373","v":0},{"$f":"'BX Language acquisition'!D2373","v":0}]
[{"$f":"'BX Language acquisition'!A2374","v":0},{"$f":"'BX Language acquisition'!B2374","v":0},null,{"$f":"'BX Language acquisition'!C2374","v":0},{"$f":"'BX Language acquisition'!D2374","v":0}]
[{"$f":"'BX Language acquisition'!A2375","v":0},{"$f":"'BX Language acquisition'!B2375","v":0},null,{"$f":"'BX Language acquisition'!C2375","v":0},{"$f":"'BX Language acquisition'!D2375","v":0}]
[{"$f":"'BX Language acquisition'!A2376","v":0},{"$f":"'BX Language acquisition'!B2376","v":0},null,{"$f":"'BX Language acquisition'!C2376","v":0},{"$f":"'BX Language acquisition'!D2376","v":0}]
[{"$f":"'BX Language acquisition'!A2377","v":0},{"$f":"'BX Language acquisition'!B2377","v":0},null,{"$f":"'BX Language acquisition'!C2377","v":0},{"$f":"'BX Language acquisition'!D2377","v":0}]
[{"$f":"'BX Language acquisition'!A2378","v":0},{"$f":"'BX Language acquisition'!B2378","v":0},null,{"$f":"'BX Language acquisition'!C2378","v":0},{"$f":"'BX Language acquisition'!D2378","v":0}]
[{"$f":"'BX Language acquisition'!A2379","v":0},{"$f":"'BX Language acquisition'!B2379","v":0},null,{"$f":"'BX Language acquisition'!C2379","v":0},{"$f":"'BX Language acquisition'!D2379","v":0}]
[{"$f":"'BX Language acquisition'!A2380","v":0},{"$f":"'BX Language acquisition'!B2380","v":0},null,{"$f":"'BX Language acquisition'!C2380","v":0},{"$f":"'BX Language acquisition'!D2380","v":0}]
[{"$f":"'BX Language acquisition'!A2381","v":0},{"$f":"'BX Language acquisition'!B2381","v":0},null,{"$f":"'BX Language acquisition'!C2381","v":0},{"$f":"'BX Language acquisition'!D2381","v":0}]
[{"$f":"'BX Language acquisition'!A2382","v":0},{"$f":"'BX Language acquisition'!B2382","v":0},null,{"$f":"'BX Language acquisition'!C2382","v":0},{"$f":"'BX Language acquisition'!D2382","v":0}]
[{"$f":"'BX Language acquisition'!A2383","v":0},{"$f":"'BX Language acquisition'!B2383","v":0},null,{"$f":"'BX Language acquisition'!C2383","v":0},{"$f":"'BX Language acquisition'!D2383","v":0}]
[{"$f":"'BX Language acquisition'!A2384","v":0},{"$f":"'BX Language acquisition'!B2384","v":0},null,{"$f":"'BX Language acquisition'!C2384","v":0},{"$f":"'BX Language acquisition'!D2384","v":0}]
[{"$f":"'BX Language acquisition'!A2385","v":0},{"$f":"'BX Language acquisition'!B2385","v":0},null,{"$f":"'BX Language acquisition'!C2385","v":0},{"$f":"'BX Language acquisition'!D2385","v":0}]
[{"$f":"'BX Language acquisition'!A2386","v":0},{"$f":"'BX Language acquisition'!B2386","v":0},null,{"$f":"'BX Language acquisition'!C2386","v":0},{"$f":"'BX Language acquisition'!D2386","v":0}]
[{"$f":"'BX Language acquisition'!A2387","v":0},{"$f":"'BX Language acquisition'!B2387","v":0},null,{"$f":"'BX Language acquisition'!C2387","v":0},{"$f":"'BX Language acquisition'!D2387","v":0}]
[{"$f":"'BX Language acquisition'!A2388","v":0},{"$f":"'BX Language acquisition'!B2388","v":0},null,{"$f":"'BX Language acquisition'!C2388","v":0},{"$f":"'BX Language acquisition'!D2388","v":0}]
[{"$f":"'BX Language acquisition'!A2389","v":0},{"$f":"'BX Language acquisition'!B2389","v":0},null,{"$f":"'BX Language acquisition'!C2389","v":0},{"$f":"'BX Language acquisition'!D2389","v":0}]
[{"$f":"'BX Language acquisition'!A2390","v":0},{"$f":"'BX Language acquisition'!B2390","v":0},null,{"$f":"'BX Language acquisition'!C2390","v":0},{"$f":"'BX Language acquisition'!D2390","v":0}]
[{"$f":"'BX Language acquisition'!A2391","v":0},{"$f":"'BX Language acquisition'!B2391","v":0},null,{"$f":"'BX Language acquisition'!C2391","v":0},{"$f":"'BX Language acquisition'!D2391","v":0}]
[{"$f":"'BX Language acquisition'!A2392","v":0},{"$f":"'BX Language acquisition'!B2392","v":0},null,{"$f":"'BX Language acquisition'!C2392","v":0},{"$f":"'BX Language acquisition'!D2392","v":0}]
[{"$f":"'BX Language acquisition'!A2393","v":0},{"$f":"'BX Language acquisition'!B2393","v":0},null,{"$f":"'BX Language acquisition'!C2393","v":0},{"$f":"'BX Language acquisition'!D2393","v":0}]
[{"$f":"'BX Language acquisition'!A2394","v":0},{"$f":"'BX Language acquisition'!B2394","v":0},null,{"$f":"'BX Language acquisition'!C2394","v":0},{"$f":"'BX Language acquisition'!D2394","v":0}]
[{"$f":"'BX Language acquisition'!A2395","v":0},{"$f":"'BX Language acquisition'!B2395","v":0},null,{"$f":"'BX Language acquisition'!C2395","v":0},{"$f":"'BX Language acquisition'!D2395","v":0}]
[{"$f":"'BX Language acquisition'!A2396","v":0},{"$f":"'BX Language acquisition'!B2396","v":0},null,{"$f":"'BX Language acquisition'!C2396","v":0},{"$f":"'BX Language acquisition'!D2396","v":0}]
[{"$f":"'BX Language acquisition'!A2397","v":0},{"$f":"'BX Language acquisition'!B2397","v":0},null,{"$f":"'BX Language acquisition'!C2397","v":0},{"$f":"'BX Language acquisition'!D2397","v":0}]
[{"$f":"'BX Language acquisition'!A2398","v":0},{"$f":"'BX Language acquisition'!B2398","v":0},null,{"$f":"'BX Language acquisition'!C2398","v":0},{"$f":"'BX Language acquisition'!D2398","v":0}]
[{"$f":"'BX Language acquisition'!A2399","v":0},{"$f":"'BX Language acquisition'!B2399","v":0},null,{"$f":"'BX Language acquisition'!C2399","v":0},{"$f":"'BX Language acquisition'!D2399","v":0}]
[{"$f":"'BX Language acquisition'!A2400","v":0},{"$f":"'BX Language acquisition'!B2400","v":0},null,{"$f":"'BX Language acquisition'!C2400","v":0},{"$f":"'BX Language acquisition'!D2400","v":0}]
[{"$f":"'BX Language acquisition'!A2401","v":0},{"$f":"'BX Language acquisition'!B2401","v":0},null,{"$f":"'BX Language acquisition'!C2401","v":0},{"$f":"'BX Language acquisition'!D2401","v":0}]
[{"$f":"'BX Language acquisition'!A2402","v":0},{"$f":"'BX Language acquisition'!B2402","v":0},null,{"$f":"'BX Language acquisition'!C2402","v":0},{"$f":"'BX Language acquisition'!D2402","v":0}]
[{"$f":"'BX Language acquisition'!A2403","v":0},{"$f":"'BX Language acquisition'!B2403","v":0},null,{"$f":"'BX Language acquisition'!C2403","v":0},{"$f":"'BX Language acquisition'!D2403","v":0}]
[{"$f":"'BX Language acquisition'!A2404","v":0},{"$f":"'BX Language acquisition'!B2404","v":0},null,{"$f":"'BX Language acquisition'!C2404","v":0},{"$f":"'BX Language acquisition'!D2404","v":0}]
[{"$f":"'BX Language acquisition'!A2405","v":0},{"$f":"'BX Language acquisition'!B2405","v":0},null,{"$f":"'BX Language acquisition'!C2405","v":0},{"$f":"'BX Language acquisition'!D2405","v":0}]
[{"$f":"'BX Language acquisition'!A2406","v":0},{"$f":"'BX Language acquisition'!B2406","v":0},null,{"$f":"'BX Language acquisition'!C2406","v":0},{"$f":"'BX Language acquisition'!D2406","v":0}]
[{"$f":"'BX Language acquisition'!A2407","v":0},{"$f":"'BX Language acquisition'!B2407","v":0},null,{"$f":"'BX Language acquisition'!C2407","v":0},{"$f":"'BX Language acquisition'!D2407","v":0}]
[{"$f":"'BX Language acquisition'!A2408","v":0},{"$f":"'BX Language acquisition'!B2408","v":0},null,{"$f":"'BX Language acquisition'!C2408","v":0},{"$f":"'BX Language acquisition'!D2408","v":0}]
[{"$f":"'BX Language acquisition'!A2409","v":0},{"$f":"'BX Language acquisition'!B2409","v":0},null,{"$f":"'BX Language acquisition'!C2409","v":0},{"$f":"'BX Language acquisition'!D2409","v":0}]
[{"$f":"'BX Language acquisition'!A2410","v":0},{"$f":"'BX Language acquisition'!B2410","v":0},null,{"$f":"'BX Language acquisition'!C2410","v":0},{"$f":"'BX Language acquisition'!D2410","v":0}]
[{"$f":"'BX Language acquisition'!A2411","v":0},{"$f":"'BX Language acquisition'!B2411","v":0},null,{"$f":"'BX Language acquisition'!C2411","v":0},{"$f":"'BX Language acquisition'!D2411","v":0}]
[{"$f":"'BX Language acquisition'!A2412","v":0},{"$f":"'BX Language acquisition'!B2412","v":0},null,{"$f":"'BX Language acquisition'!C2412","v":0},{"$f":"'BX Language acquisition'!D2412","v":0}]
[{"$f":"'BX Language acquisition'!A2413","v":0},{"$f":"'BX Language acquisition'!B2413","v":0},null,{"$f":"'BX Language acquisition'!C2413","v":0},{"$f":"'BX Language acquisition'!D2413","v":0}]
[{"$f":"'BX Language acquisition'!A2414","v":0},{"$f":"'BX Language acquisition'!B2414","v":0},null,{"$f":"'BX Language acquisition'!C2414","v":0},{"$f":"'BX Language acquisition'!D2414","v":0}]
[{"$f":"'BX Language acquisition'!A2415","v":0},{"$f":"'BX Language acquisition'!B2415","v":0},null,{"$f":"'BX Language acquisition'!C2415","v":0},{"$f":"'BX Language acquisition'!D2415","v":0}]
[{"$f":"'BX Language acquisition'!A2416","v":0},{"$f":"'BX Language acquisition'!B2416","v":0},null,{"$f":"'BX Language acquisition'!C2416","v":0},{"$f":"'BX Language acquisition'!D2416","v":0}]
[{"$f":"'BX Language acquisition'!A2417","v":0},{"$f":"'BX Language acquisition'!B2417","v":0},null,{"$f":"'BX Language acquisition'!C2417","v":0},{"$f":"'BX Language acquisition'!D2417","v":0}]
[{"$f":"'BX Language acquisition'!A2418","v":0},{"$f":"'BX Language acquisition'!B2418","v":0},null,{"$f":"'BX Language acquisition'!C2418","v":0},{"$f":"'BX Language acquisition'!D2418","v":0}]
[{"$f":"'BX Language acquisition'!A2419","v":0},{"$f":"'BX Language acquisition'!B2419","v":0},null,{"$f":"'BX Language acquisition'!C2419","v":0},{"$f":"'BX Language acquisition'!D2419","v":0}]
[{"$f":"'BX Language acquisition'!A2420","v":0},{"$f":"'BX Language acquisition'!B2420","v":0},null,{"$f":"'BX Language acquisition'!C2420","v":0},{"$f":"'BX Language acquisition'!D2420","v":0}]
[{"$f":"'BX Language acquisition'!A2421","v":0},{"$f":"'BX Language acquisition'!B2421","v":0},null,{"$f":"'BX Language acquisition'!C2421","v":0},{"$f":"'BX Language acquisition'!D2421","v":0}]
[{"$f":"'BX Language acquisition'!A2422","v":0},{"$f":"'BX Language acquisition'!B2422","v":0},null,{"$f":"'BX Language acquisition'!C2422","v":0},{"$f":"'BX Language acquisition'!D2422","v":0}]
[{"$f":"'BX Language acquisition'!A2423","v":0},{"$f":"'BX Language acquisition'!B2423","v":0},null,{"$f":"'BX Language acquisition'!C2423","v":0},{"$f":"'BX Language acquisition'!D2423","v":0}]
[{"$f":"'BX Language acquisition'!A2424","v":0},{"$f":"'BX Language acquisition'!B2424","v":0},null,{"$f":"'BX Language acquisition'!C2424","v":0},{"$f":"'BX Language acquisition'!D2424","v":0}]
[{"$f":"'BX Language acquisition'!A2425","v":0},{"$f":"'BX Language acquisition'!B2425","v":0},null,{"$f":"'BX Language acquisition'!C2425","v":0},{"$f":"'BX Language acquisition'!D2425","v":0}]
[{"$f":"'BX Language acquisition'!A2426","v":0},{"$f":"'BX Language acquisition'!B2426","v":0},null,{"$f":"'BX Language acquisition'!C2426","v":0},{"$f":"'BX Language acquisition'!D2426","v":0}]
[{"$f":"'BX Language acquisition'!A2427","v":0},{"$f":"'BX Language acquisition'!B2427","v":0},null,{"$f":"'BX Language acquisition'!C2427","v":0},{"$f":"'BX Language acquisition'!D2427","v":0}]
[{"$f":"'BX Language acquisition'!A2428","v":0},{"$f":"'BX Language acquisition'!B2428","v":0},null,{"$f":"'BX Language acquisition'!C2428","v":0},{"$f":"'BX Language acquisition'!D2428","v":0}]
[{"$f":"'BX Language acquisition'!A2429","v":0},{"$f":"'BX Language acquisition'!B2429","v":0},null,{"$f":"'BX Language acquisition'!C2429","v":0},{"$f":"'BX Language acquisition'!D2429","v":0}]
[{"$f":"'BX Language acquisition'!A2430","v":0},{"$f":"'BX Language acquisition'!B2430","v":0},null,{"$f":"'BX Language acquisition'!C2430","v":0},{"$f":"'BX Language acquisition'!D2430","v":0}]
[{"$f":"'BX Language acquisition'!A2431","v":0},{"$f":"'BX Language acquisition'!B2431","v":0},null,{"$f":"'BX Language acquisition'!C2431","v":0},{"$f":"'BX Language acquisition'!D2431","v":0}]
[{"$f":"'BX Language acquisition'!A2432","v":0},{"$f":"'BX Language acquisition'!B2432","v":0},null,{"$f":"'BX Language acquisition'!C2432","v":0},{"$f":"'BX Language acquisition'!D2432","v":0}]
[{"$f":"'BX Language acquisition'!A2433","v":0},{"$f":"'BX Language acquisition'!B2433","v":0},null,{"$f":"'BX Language acquisition'!C2433","v":0},{"$f":"'BX Language acquisition'!D2433","v":0}]
[{"$f":"'BX Language acquisition'!A2434","v":0},{"$f":"'BX Language acquisition'!B2434","v":0},null,{"$f":"'BX Language acquisition'!C2434","v":0},{"$f":"'BX Language acquisition'!D2434","v":0}]
[{"$f":"'BX Language acquisition'!A2435","v":0},{"$f":"'BX Language acquisition'!B2435","v":0},null,{"$f":"'BX Language acquisition'!C2435","v":0},{"$f":"'BX Language acquisition'!D2435","v":0}]
[{"$f":"'BX Language acquisition'!A2436","v":0},{"$f":"'BX Language acquisition'!B2436","v":0},null,{"$f":"'BX Language acquisition'!C2436","v":0},{"$f":"'BX Language acquisition'!D2436","v":0}]
[{"$f":"'BX Language acquisition'!A2437","v":0},{"$f":"'BX Language acquisition'!B2437","v":0},null,{"$f":"'BX Language acquisition'!C2437","v":0},{"$f":"'BX Language acquisition'!D2437","v":0}]
[{"$f":"'BX Language acquisition'!A2438","v":0},{"$f":"'BX Language acquisition'!B2438","v":0},null,{"$f":"'BX Language acquisition'!C2438","v":0},{"$f":"'BX Language acquisition'!D2438","v":0}]
[{"$f":"'BX Language acquisition'!A2439","v":0},{"$f":"'BX Language acquisition'!B2439","v":0},null,{"$f":"'BX Language acquisition'!C2439","v":0},{"$f":"'BX Language acquisition'!D2439","v":0}]
[{"$f":"'BX Language acquisition'!A2440","v":0},{"$f":"'BX Language acquisition'!B2440","v":0},null,{"$f":"'BX Language acquisition'!C2440","v":0},{"$f":"'BX Language acquisition'!D2440","v":0}]
[{"$f":"'BX Language acquisition'!A2441","v":0},{"$f":"'BX Language acquisition'!B2441","v":0},null,{"$f":"'BX Language acquisition'!C2441","v":0},{"$f":"'BX Language acquisition'!D2441","v":0}]
[{"$f":"'BX Language acquisition'!A2442","v":0},{"$f":"'BX Language acquisition'!B2442","v":0},null,{"$f":"'BX Language acquisition'!C2442","v":0},{"$f":"'BX Language acquisition'!D2442","v":0}]
[{"$f":"'BX Language acquisition'!A2443","v":0},{"$f":"'BX Language acquisition'!B2443","v":0},null,{"$f":"'BX Language acquisition'!C2443","v":0},{"$f":"'BX Language acquisition'!D2443","v":0}]
[{"$f":"'BX Language acquisition'!A2444","v":0},{"$f":"'BX Language acquisition'!B2444","v":0},null,{"$f":"'BX Language acquisition'!C2444","v":0},{"$f":"'BX Language acquisition'!D2444","v":0}]
[{"$f":"'BX Language acquisition'!A2445","v":0},{"$f":"'BX Language acquisition'!B2445","v":0},null,{"$f":"'BX Language acquisition'!C2445","v":0},{"$f":"'BX Language acquisition'!D2445","v":0}]
[{"$f":"'BX Language acquisition'!A2446","v":0},{"$f":"'BX Language acquisition'!B2446","v":0},null,{"$f":"'BX Language acquisition'!C2446","v":0},{"$f":"'BX Language acquisition'!D2446","v":0}]
[{"$f":"'BX Language acquisition'!A2447","v":0},{"$f":"'BX Language acquisition'!B2447","v":0},null,{"$f":"'BX Language acquisition'!C2447","v":0},{"$f":"'BX Language acquisition'!D2447","v":0}]
[{"$f":"'BX Language acquisition'!A2448","v":0},{"$f":"'BX Language acquisition'!B2448","v":0},null,{"$f":"'BX Language acquisition'!C2448","v":0},{"$f":"'BX Language acquisition'!D2448","v":0}]
[{"$f":"'BX Language acquisition'!A2449","v":0},{"$f":"'BX Language acquisition'!B2449","v":0},null,{"$f":"'BX Language acquisition'!C2449","v":0},{"$f":"'BX Language acquisition'!D2449","v":0}]
[{"$f":"'BX Language acquisition'!A2450","v":0},{"$f":"'BX Language acquisition'!B2450","v":0},null,{"$f":"'BX Language acquisition'!C2450","v":0},{"$f":"'BX Language acquisition'!D2450","v":0}]
[{"$f":"'BX Language acquisition'!A2451","v":0},{"$f":"'BX Language acquisition'!B2451","v":0},null,{"$f":"'BX Language acquisition'!C2451","v":0},{"$f":"'BX Language acquisition'!D2451","v":0}]
[{"$f":"'BX Language acquisition'!A2452","v":0},{"$f":"'BX Language acquisition'!B2452","v":0},null,{"$f":"'BX Language acquisition'!C2452","v":0},{"$f":"'BX Language acquisition'!D2452","v":0}]
[{"$f":"'BX Language acquisition'!A2453","v":0},{"$f":"'BX Language acquisition'!B2453","v":0},null,{"$f":"'BX Language acquisition'!C2453","v":0},{"$f":"'BX Language acquisition'!D2453","v":0}]
[{"$f":"'BX Language acquisition'!A2454","v":0},{"$f":"'BX Language acquisition'!B2454","v":0},null,{"$f":"'BX Language acquisition'!C2454","v":0},{"$f":"'BX Language acquisition'!D2454","v":0}]
[{"$f":"'BX Language acquisition'!A2455","v":0},{"$f":"'BX Language acquisition'!B2455","v":0},null,{"$f":"'BX Language acquisition'!C2455","v":0},{"$f":"'BX Language acquisition'!D2455","v":0}]
[{"$f":"'BX Language acquisition'!A2456","v":0},{"$f":"'BX Language acquisition'!B2456","v":0},null,{"$f":"'BX Language acquisition'!C2456","v":0},{"$f":"'BX Language acquisition'!D2456","v":0}]
[{"$f":"'BX Language acquisition'!A2457","v":0},{"$f":"'BX Language acquisition'!B2457","v":0},null,{"$f":"'BX Language acquisition'!C2457","v":0},{"$f":"'BX Language acquisition'!D2457","v":0}]
[{"$f":"'BX Language acquisition'!A2458","v":0},{"$f":"'BX Language acquisition'!B2458","v":0},null,{"$f":"'BX Language acquisition'!C2458","v":0},{"$f":"'BX Language acquisition'!D2458","v":0}]
[{"$f":"'BX Language acquisition'!A2459","v":0},{"$f":"'BX Language acquisition'!B2459","v":0},null,{"$f":"'BX Language acquisition'!C2459","v":0},{"$f":"'BX Language acquisition'!D2459","v":0}]
[{"$f":"'BX Language acquisition'!A2460","v":0},{"$f":"'BX Language acquisition'!B2460","v":0},null,{"$f":"'BX Language acquisition'!C2460","v":0},{"$f":"'BX Language acquisition'!D2460","v":0}]
[{"$f":"'BX Language acquisition'!A2461","v":0},{"$f":"'BX Language acquisition'!B2461","v":0},null,{"$f":"'BX Language acquisition'!C2461","v":0},{"$f":"'BX Language acquisition'!D2461","v":0}]
[{"$f":"'BX Language acquisition'!A2462","v":0},{"$f":"'BX Language acquisition'!B2462","v":0},null,{"$f":"'BX Language acquisition'!C2462","v":0},{"$f":"'BX Language acquisition'!D2462","v":0}]
[{"$f":"'BX Language acquisition'!A2463","v":0},{"$f":"'BX Language acquisition'!B2463","v":0},null,{"$f":"'BX Language acquisition'!C2463","v":0},{"$f":"'BX Language acquisition'!D2463","v":0}]
[{"$f":"'BX Language acquisition'!A2464","v":0},{"$f":"'BX Language acquisition'!B2464","v":0},null,{"$f":"'BX Language acquisition'!C2464","v":0},{"$f":"'BX Language acquisition'!D2464","v":0}]
[{"$f":"'BX Language acquisition'!A2465","v":0},{"$f":"'BX Language acquisition'!B2465","v":0},null,{"$f":"'BX Language acquisition'!C2465","v":0},{"$f":"'BX Language acquisition'!D2465","v":0}]
[{"$f":"'BX Language acquisition'!A2466","v":0},{"$f":"'BX Language acquisition'!B2466","v":0},null,{"$f":"'BX Language acquisition'!C2466","v":0},{"$f":"'BX Language acquisition'!D2466","v":0}]
[{"$f":"'BX Language acquisition'!A2467","v":0},{"$f":"'BX Language acquisition'!B2467","v":0},null,{"$f":"'BX Language acquisition'!C2467","v":0},{"$f":"'BX Language acquisition'!D2467","v":0}]
[{"$f":"'BX Language acquisition'!A2468","v":0},{"$f":"'BX Language acquisition'!B2468","v":0},null,{"$f":"'BX Language acquisition'!C2468","v":0},{"$f":"'BX Language acquisition'!D2468","v":0}]
[{"$f":"'BX Language acquisition'!A2469","v":0},{"$f":"'BX Language acquisition'!B2469","v":0},null,{"$f":"'BX Language acquisition'!C2469","v":0},{"$f":"'BX Language acquisition'!D2469","v":0}]
[{"$f":"'BX Language acquisition'!A2470","v":0},{"$f":"'BX Language acquisition'!B2470","v":0},null,{"$f":"'BX Language acquisition'!C2470","v":0},{"$f":"'BX Language acquisition'!D2470","v":0}]
[{"$f":"'BX Language acquisition'!A2471","v":0},{"$f":"'BX Language acquisition'!B2471","v":0},null,{"$f":"'BX Language acquisition'!C2471","v":0},{"$f":"'BX Language acquisition'!D2471","v":0}]
[{"$f":"'BX Language acquisition'!A2472","v":0},{"$f":"'BX Language acquisition'!B2472","v":0},null,{"$f":"'BX Language acquisition'!C2472","v":0},{"$f":"'BX Language acquisition'!D2472","v":0}]
[{"$f":"'BX Language acquisition'!A2473","v":0},{"$f":"'BX Language acquisition'!B2473","v":0},null,{"$f":"'BX Language acquisition'!C2473","v":0},{"$f":"'BX Language acquisition'!D2473","v":0}]
[{"$f":"'BX Language acquisition'!A2474","v":0},{"$f":"'BX Language acquisition'!B2474","v":0},null,{"$f":"'BX Language acquisition'!C2474","v":0},{"$f":"'BX Language acquisition'!D2474","v":0}]
[{"$f":"'BX Language acquisition'!A2475","v":0},{"$f":"'BX Language acquisition'!B2475","v":0},null,{"$f":"'BX Language acquisition'!C2475","v":0},{"$f":"'BX Language acquisition'!D2475","v":0}]
[{"$f":"'BX Language acquisition'!A2476","v":0},{"$f":"'BX Language acquisition'!B2476","v":0},null,{"$f":"'BX Language acquisition'!C2476","v":0},{"$f":"'BX Language acquisition'!D2476","v":0}]
[{"$f":"'BX Language acquisition'!A2477","v":0},{"$f":"'BX Language acquisition'!B2477","v":0},null,{"$f":"'BX Language acquisition'!C2477","v":0},{"$f":"'BX Language acquisition'!D2477","v":0}]
[{"$f":"'BX Language acquisition'!A2478","v":0},{"$f":"'BX Language acquisition'!B2478","v":0},null,{"$f":"'BX Language acquisition'!C2478","v":0},{"$f":"'BX Language acquisition'!D2478","v":0}]
[{"$f":"'BX Language acquisition'!A2479","v":0},{"$f":"'BX Language acquisition'!B2479","v":0},null,{"$f":"'BX Language acquisition'!C2479","v":0},{"$f":"'BX Language acquisition'!D2479","v":0}]
[{"$f":"'BX Language acquisition'!A2480","v":0},{"$f":"'BX Language acquisition'!B2480","v":0},null,{"$f":"'BX Language acquisition'!C2480","v":0},{"$f":"'BX Language acquisition'!D2480","v":0}]
[{"$f":"'BX Language acquisition'!A2481","v":0},{"$f":"'BX Language acquisition'!B2481","v":0},null,{"$f":"'BX Language acquisition'!C2481","v":0},{"$f":"'BX Language acquisition'!D2481","v":0}]
[{"$f":"'BX Language acquisition'!A2482","v":0},{"$f":"'BX Language acquisition'!B2482","v":0},null,{"$f":"'BX Language acquisition'!C2482","v":0},{"$f":"'BX Language acquisition'!D2482","v":0}]
[{"$f":"'BX Language acquisition'!A2483","v":0},{"$f":"'BX Language acquisition'!B2483","v":0},null,{"$f":"'BX Language acquisition'!C2483","v":0},{"$f":"'BX Language acquisition'!D2483","v":0}]
[{"$f":"'BX Language acquisition'!A2484","v":0},{"$f":"'BX Language acquisition'!B2484","v":0},null,{"$f":"'BX Language acquisition'!C2484","v":0},{"$f":"'BX Language acquisition'!D2484","v":0}]
[{"$f":"'BX Language acquisition'!A2485","v":0},{"$f":"'BX Language acquisition'!B2485","v":0},null,{"$f":"'BX Language acquisition'!C2485","v":0},{"$f":"'BX Language acquisition'!D2485","v":0}]
[{"$f":"'BX Language acquisition'!A2486","v":0},{"$f":"'BX Language acquisition'!B2486","v":0},null,{"$f":"'BX Language acquisition'!C2486","v":0},{"$f":"'BX Language acquisition'!D2486","v":0}]
[{"$f":"'BX Language acquisition'!A2487","v":0},{"$f":"'BX Language acquisition'!B2487","v":0},null,{"$f":"'BX Language acquisition'!C2487","v":0},{"$f":"'BX Language acquisition'!D2487","v":0}]
[{"$f":"'BX Language acquisition'!A2488","v":0},{"$f":"'BX Language acquisition'!B2488","v":0},null,{"$f":"'BX Language acquisition'!C2488","v":0},{"$f":"'BX Language acquisition'!D2488","v":0}]
[{"$f":"'BX Language acquisition'!A2489","v":0},{"$f":"'BX Language acquisition'!B2489","v":0},null,{"$f":"'BX Language acquisition'!C2489","v":0},{"$f":"'BX Language acquisition'!D2489","v":0}]
[{"$f":"'BX Language acquisition'!A2490","v":0},{"$f":"'BX Language acquisition'!B2490","v":0},null,{"$f":"'BX Language acquisition'!C2490","v":0},{"$f":"'BX Language acquisition'!D2490","v":0}]
[{"$f":"'BX Language acquisition'!A2491","v":0},{"$f":"'BX Language acquisition'!B2491","v":0},null,{"$f":"'BX Language acquisition'!C2491","v":0},{"$f":"'BX Language acquisition'!D2491","v":0}]
[{"$f":"'BX Language acquisition'!A2492","v":0},{"$f":"'BX Language acquisition'!B2492","v":0},null,{"$f":"'BX Language acquisition'!C2492","v":0},{"$f":"'BX Language acquisition'!D2492","v":0}]
[{"$f":"'BX Language acquisition'!A2493","v":0},{"$f":"'BX Language acquisition'!B2493","v":0},null,{"$f":"'BX Language acquisition'!C2493","v":0},{"$f":"'BX Language acquisition'!D2493","v":0}]
[{"$f":"'BX Language acquisition'!A2494","v":0},{"$f":"'BX Language acquisition'!B2494","v":0},null,{"$f":"'BX Language acquisition'!C2494","v":0},{"$f":"'BX Language acquisition'!D2494","v":0}]
[{"$f":"'BX Language acquisition'!A2495","v":0},{"$f":"'BX Language acquisition'!B2495","v":0},null,{"$f":"'BX Language acquisition'!C2495","v":0},{"$f":"'BX Language acquisition'!D2495","v":0}]
[{"$f":"'BX Language acquisition'!A2496","v":0},{"$f":"'BX Language acquisition'!B2496","v":0},null,{"$f":"'BX Language acquisition'!C2496","v":0},{"$f":"'BX Language acquisition'!D2496","v":0}]
[{"$f":"'BX Language acquisition'!A2497","v":0},{"$f":"'BX Language acquisition'!B2497","v":0},null,{"$f":"'BX Language acquisition'!C2497","v":0},{"$f":"'BX Language acquisition'!D2497","v":0}]
[{"$f":"'BX Language acquisition'!A2498","v":0},{"$f":"'BX Language acquisition'!B2498","v":0},null,{"$f":"'BX Language acquisition'!C2498","v":0},{"$f":"'BX Language acquisition'!D2498","v":0}]
[{"$f":"'BX Language acquisition'!A2499","v":0},{"$f":"'BX Language acquisition'!B2499","v":0},null,{"$f":"'BX Language acquisition'!C2499","v":0},{"$f":"'BX Language acquisition'!D2499","v":0}]
[{"$f":"'BX Language acquisition'!A2500","v":0},{"$f":"'BX Language acquisition'!B2500","v":0},null,{"$f":"'BX Language acquisition'!C2500","v":0},{"$f":"'BX Language acquisition'!D2500","v":0}]
[{"$f":"'BX Language acquisition'!A2501","v":0},{"$f":"'BX Language acquisition'!B2501","v":0},null,{"$f":"'BX Language acquisition'!C2501","v":0},{"$f":"'BX Language acquisition'!D2501","v":0}]
[{"$f":"'BX Language acquisition'!A2502","v":0},{"$f":"'BX Language acquisition'!B2502","v":0},null,{"$f":"'BX Language acquisition'!C2502","v":0},{"$f":"'BX Language acquisition'!D2502","v":0}]
[{"$f":"'BX Language acquisition'!A2503","v":0},{"$f":"'BX Language acquisition'!B2503","v":0},null,{"$f":"'BX Language acquisition'!C2503","v":0},{"$f":"'BX Language acquisition'!D2503","v":0}]
[{"$f":"'BX Language acquisition'!A2504","v":0},{"$f":"'BX Language acquisition'!B2504","v":0},null,{"$f":"'BX Language acquisition'!C2504","v":0},{"$f":"'BX Language acquisition'!D2504","v":0}]
[{"$f":"'BX Language acquisition'!A2505","v":0},{"$f":"'BX Language acquisition'!B2505","v":0},null,{"$f":"'BX Language acquisition'!C2505","v":0},{"$f":"'BX Language acquisition'!D2505","v":0}]
[{"$f":"'BX Language acquisition'!A2506","v":0},{"$f":"'BX Language acquisition'!B2506","v":0},null,{"$f":"'BX Language acquisition'!C2506","v":0},{"$f":"'BX Language acquisition'!D2506","v":0}]
[{"$f":"'BX Language acquisition'!A2507","v":0},{"$f":"'BX Language acquisition'!B2507","v":0},null,{"$f":"'BX Language acquisition'!C2507","v":0},{"$f":"'BX Language acquisition'!D2507","v":0}]
[{"$f":"'BX Language acquisition'!A2508","v":0},{"$f":"'BX Language acquisition'!B2508","v":0},null,{"$f":"'BX Language acquisition'!C2508","v":0},{"$f":"'BX Language acquisition'!D2508","v":0}]
[{"$f":"'BX Language acquisition'!A2509","v":0},{"$f":"'BX Language acquisition'!B2509","v":0},null,{"$f":"'BX Language acquisition'!C2509","v":0},{"$f":"'BX Language acquisition'!D2509","v":0}]
[{"$f":"'BX Language acquisition'!A2510","v":0},{"$f":"'BX Language acquisition'!B2510","v":0},null,{"$f":"'BX Language acquisition'!C2510","v":0},{"$f":"'BX Language acquisition'!D2510","v":0}]
[{"$f":"'BX Language acquisition'!A2511","v":0},{"$f":"'BX Language acquisition'!B2511","v":0},null,{"$f":"'BX Language acquisition'!C2511","v":0},{"$f":"'BX Language acquisition'!D2511","v":0}]
[{"$f":"'BX Language acquisition'!A2512","v":0},{"$f":"'BX Language acquisition'!B2512","v":0},null,{"$f":"'BX Language acquisition'!C2512","v":0},{"$f":"'BX Language acquisition'!D2512","v":0}]
[{"$f":"'BX Language acquisition'!A2513","v":0},{"$f":"'BX Language acquisition'!B2513","v":0},null,{"$f":"'BX Language acquisition'!C2513","v":0},{"$f":"'BX Language acquisition'!D2513","v":0}]
[{"$f":"'BX Language acquisition'!A2514","v":0},{"$f":"'BX Language acquisition'!B2514","v":0},null,{"$f":"'BX Language acquisition'!C2514","v":0},{"$f":"'BX Language acquisition'!D2514","v":0}]
[{"$f":"'BX Language acquisition'!A2515","v":0},{"$f":"'BX Language acquisition'!B2515","v":0},null,{"$f":"'BX Language acquisition'!C2515","v":0},{"$f":"'BX Language acquisition'!D2515","v":0}]
[{"$f":"'BX Language acquisition'!A2516","v":0},{"$f":"'BX Language acquisition'!B2516","v":0},null,{"$f":"'BX Language acquisition'!C2516","v":0},{"$f":"'BX Language acquisition'!D2516","v":0}]
[{"$f":"'BX Language acquisition'!A2517","v":0},{"$f":"'BX Language acquisition'!B2517","v":0},null,{"$f":"'BX Language acquisition'!C2517","v":0},{"$f":"'BX Language acquisition'!D2517","v":0}]
[{"$f":"'BX Language acquisition'!A2518","v":0},{"$f":"'BX Language acquisition'!B2518","v":0},null,{"$f":"'BX Language acquisition'!C2518","v":0},{"$f":"'BX Language acquisition'!D2518","v":0}]
[{"$f":"'BX Language acquisition'!A2519","v":0},{"$f":"'BX Language acquisition'!B2519","v":0},null,{"$f":"'BX Language acquisition'!C2519","v":0},{"$f":"'BX Language acquisition'!D2519","v":0}]
[{"$f":"'BX Language acquisition'!A2520","v":0},{"$f":"'BX Language acquisition'!B2520","v":0},null,{"$f":"'BX Language acquisition'!C2520","v":0},{"$f":"'BX Language acquisition'!D2520","v":0}]
[{"$f":"'BX Language acquisition'!A2521","v":0},{"$f":"'BX Language acquisition'!B2521","v":0},null,{"$f":"'BX Language acquisition'!C2521","v":0},{"$f":"'BX Language acquisition'!D2521","v":0}]
[{"$f":"'BX Language acquisition'!A2522","v":0},{"$f":"'BX Language acquisition'!B2522","v":0},null,{"$f":"'BX Language acquisition'!C2522","v":0},{"$f":"'BX Language acquisition'!D2522","v":0}]
[{"$f":"'BX Language acquisition'!A2523","v":0},{"$f":"'BX Language acquisition'!B2523","v":0},null,{"$f":"'BX Language acquisition'!C2523","v":0},{"$f":"'BX Language acquisition'!D2523","v":0}]
[{"$f":"'BX Language acquisition'!A2524","v":0},{"$f":"'BX Language acquisition'!B2524","v":0},null,{"$f":"'BX Language acquisition'!C2524","v":0},{"$f":"'BX Language acquisition'!D2524","v":0}]
[{"$f":"'BX Language acquisition'!A2525","v":0},{"$f":"'BX Language acquisition'!B2525","v":0},null,{"$f":"'BX Language acquisition'!C2525","v":0},{"$f":"'BX Language acquisition'!D2525","v":0}]
[{"$f":"'BX Language acquisition'!A2526","v":0},{"$f":"'BX Language acquisition'!B2526","v":0},null,{"$f":"'BX Language acquisition'!C2526","v":0},{"$f":"'BX Language acquisition'!D2526","v":0}]
[{"$f":"'BX Language acquisition'!A2527","v":0},{"$f":"'BX Language acquisition'!B2527","v":0},null,{"$f":"'BX Language acquisition'!C2527","v":0},{"$f":"'BX Language acquisition'!D2527","v":0}]
[{"$f":"'BX Language acquisition'!A2528","v":0},{"$f":"'BX Language acquisition'!B2528","v":0},null,{"$f":"'BX Language acquisition'!C2528","v":0},{"$f":"'BX Language acquisition'!D2528","v":0}]
[{"$f":"'BX Language acquisition'!A2529","v":0},{"$f":"'BX Language acquisition'!B2529","v":0},null,{"$f":"'BX Language acquisition'!C2529","v":0},{"$f":"'BX Language acquisition'!D2529","v":0}]
[{"$f":"'BX Language acquisition'!A2530","v":0},{"$f":"'BX Language acquisition'!B2530","v":0},null,{"$f":"'BX Language acquisition'!C2530","v":0},{"$f":"'BX Language acquisition'!D2530","v":0}]
[{"$f":"'BX Language acquisition'!A2531","v":0},{"$f":"'BX Language acquisition'!B2531","v":0},null,{"$f":"'BX Language acquisition'!C2531","v":0},{"$f":"'BX Language acquisition'!D2531","v":0}]
[{"$f":"'BX Language acquisition'!A2532","v":0},{"$f":"'BX Language acquisition'!B2532","v":0},null,{"$f":"'BX Language acquisition'!C2532","v":0},{"$f":"'BX Language acquisition'!D2532","v":0}]
[{"$f":"'BX Language acquisition'!A2533","v":0},{"$f":"'BX Language acquisition'!B2533","v":0},null,{"$f":"'BX Language acquisition'!C2533","v":0},{"$f":"'BX Language acquisition'!D2533","v":0}]
[{"$f":"'BX Language acquisition'!A2534","v":0},{"$f":"'BX Language acquisition'!B2534","v":0},null,{"$f":"'BX Language acquisition'!C2534","v":0},{"$f":"'BX Language acquisition'!D2534","v":0}]
[{"$f":"'BX Language acquisition'!A2535","v":0},{"$f":"'BX Language acquisition'!B2535","v":0},null,{"$f":"'BX Language acquisition'!C2535","v":0},{"$f":"'BX Language acquisition'!D2535","v":0}]
[{"$f":"'BX Language acquisition'!A2536","v":0},{"$f":"'BX Language acquisition'!B2536","v":0},null,{"$f":"'BX Language acquisition'!C2536","v":0},{"$f":"'BX Language acquisition'!D2536","v":0}]
[{"$f":"'BX Language acquisition'!A2537","v":0},{"$f":"'BX Language acquisition'!B2537","v":0},null,{"$f":"'BX Language acquisition'!C2537","v":0},{"$f":"'BX Language acquisition'!D2537","v":0}]
[{"$f":"'BX Language acquisition'!A2538","v":0},{"$f":"'BX Language acquisition'!B2538","v":0},null,{"$f":"'BX Language acquisition'!C2538","v":0},{"$f":"'BX Language acquisition'!D2538","v":0}]
[{"$f":"'BX Language acquisition'!A2539","v":0},{"$f":"'BX Language acquisition'!B2539","v":0},null,{"$f":"'BX Language acquisition'!C2539","v":0},{"$f":"'BX Language acquisition'!D2539","v":0}]
[{"$f":"'BX Language acquisition'!A2540","v":0},{"$f":"'BX Language acquisition'!B2540","v":0},null,{"$f":"'BX Language acquisition'!C2540","v":0},{"$f":"'BX Language acquisition'!D2540","v":0}]
[{"$f":"'BX Language acquisition'!A2541","v":0},{"$f":"'BX Language acquisition'!B2541","v":0},null,{"$f":"'BX Language acquisition'!C2541","v":0},{"$f":"'BX Language acquisition'!D2541","v":0}]
[{"$f":"'BX Language acquisition'!A2542","v":0},{"$f":"'BX Language acquisition'!B2542","v":0},null,{"$f":"'BX Language acquisition'!C2542","v":0},{"$f":"'BX Language acquisition'!D2542","v":0}]
[{"$f":"'BX Language acquisition'!A2543","v":0},{"$f":"'BX Language acquisition'!B2543","v":0},null,{"$f":"'BX Language acquisition'!C2543","v":0},{"$f":"'BX Language acquisition'!D2543","v":0}]
[{"$f":"'BX Language acquisition'!A2544","v":0},{"$f":"'BX Language acquisition'!B2544","v":0},null,{"$f":"'BX Language acquisition'!C2544","v":0},{"$f":"'BX Language acquisition'!D2544","v":0}]
[{"$f":"'BX Language acquisition'!A2545","v":0},{"$f":"'BX Language acquisition'!B2545","v":0},null,{"$f":"'BX Language acquisition'!C2545","v":0},{"$f":"'BX Language acquisition'!D2545","v":0}]
[{"$f":"'BX Language acquisition'!A2546","v":0},{"$f":"'BX Language acquisition'!B2546","v":0},null,{"$f":"'BX Language acquisition'!C2546","v":0},{"$f":"'BX Language acquisition'!D2546","v":0}]
[{"$f":"'BX Language acquisition'!A2547","v":0},{"$f":"'BX Language acquisition'!B2547","v":0},null,{"$f":"'BX Language acquisition'!C2547","v":0},{"$f":"'BX Language acquisition'!D2547","v":0}]
[{"$f":"'BX Language acquisition'!A2548","v":0},{"$f":"'BX Language acquisition'!B2548","v":0},null,{"$f":"'BX Language acquisition'!C2548","v":0},{"$f":"'BX Language acquisition'!D2548","v":0}]
[{"$f":"'BX Language acquisition'!A2549","v":0},{"$f":"'BX Language acquisition'!B2549","v":0},null,{"$f":"'BX Language acquisition'!C2549","v":0},{"$f":"'BX Language acquisition'!D2549","v":0}]
[{"$f":"'BX Language acquisition'!A2550","v":0},{"$f":"'BX Language acquisition'!B2550","v":0},null,{"$f":"'BX Language acquisition'!C2550","v":0},{"$f":"'BX Language acquisition'!D2550","v":0}]
[{"$f":"'BX Language acquisition'!A2551","v":0},{"$f":"'BX Language acquisition'!B2551","v":0},null,{"$f":"'BX Language acquisition'!C2551","v":0},{"$f":"'BX Language acquisition'!D2551","v":0}]
[{"$f":"'BX Language acquisition'!A2552","v":0},{"$f":"'BX Language acquisition'!B2552","v":0},null,{"$f":"'BX Language acquisition'!C2552","v":0},{"$f":"'BX Language acquisition'!D2552","v":0}]
[{"$f":"'BX Language acquisition'!A2553","v":0},{"$f":"'BX Language acquisition'!B2553","v":0},null,{"$f":"'BX Language acquisition'!C2553","v":0},{"$f":"'BX Language acquisition'!D2553","v":0}]
[{"$f":"'BX Language acquisition'!A2554","v":0},{"$f":"'BX Language acquisition'!B2554","v":0},null,{"$f":"'BX Language acquisition'!C2554","v":0},{"$f":"'BX Language acquisition'!D2554","v":0}]
[{"$f":"'BX Language acquisition'!A2555","v":0},{"$f":"'BX Language acquisition'!B2555","v":0},null,{"$f":"'BX Language acquisition'!C2555","v":0},{"$f":"'BX Language acquisition'!D2555","v":0}]
[{"$f":"'BX Language acquisition'!A2556","v":0},{"$f":"'BX Language acquisition'!B2556","v":0},null,{"$f":"'BX Language acquisition'!C2556","v":0},{"$f":"'BX Language acquisition'!D2556","v":0}]
[{"$f":"'BX Language acquisition'!A2557","v":0},{"$f":"'BX Language acquisition'!B2557","v":0},null,{"$f":"'BX Language acquisition'!C2557","v":0},{"$f":"'BX Language acquisition'!D2557","v":0}]
[{"$f":"'BX Language acquisition'!A2558","v":0},{"$f":"'BX Language acquisition'!B2558","v":0},null,{"$f":"'BX Language acquisition'!C2558","v":0},{"$f":"'BX Language acquisition'!D2558","v":0}]
[{"$f":"'BX Language acquisition'!A2559","v":0},{"$f":"'BX Language acquisition'!B2559","v":0},null,{"$f":"'BX Language acquisition'!C2559","v":0},{"$f":"'BX Language acquisition'!D2559","v":0}]
[{"$f":"'BX Language acquisition'!A2560","v":0},{"$f":"'BX Language acquisition'!B2560","v":0},null,{"$f":"'BX Language acquisition'!C2560","v":0},{"$f":"'BX Language acquisition'!D2560","v":0}]
[{"$f":"'BX Language acquisition'!A2561","v":0},{"$f":"'BX Language acquisition'!B2561","v":0},null,{"$f":"'BX Language acquisition'!C2561","v":0},{"$f":"'BX Language acquisition'!D2561","v":0}]
[{"$f":"'BX Language acquisition'!A2562","v":0},{"$f":"'BX Language acquisition'!B2562","v":0},null,{"$f":"'BX Language acquisition'!C2562","v":0},{"$f":"'BX Language acquisition'!D2562","v":0}]
[{"$f":"'BX Language acquisition'!A2563","v":0},{"$f":"'BX Language acquisition'!B2563","v":0},null,{"$f":"'BX Language acquisition'!C2563","v":0},{"$f":"'BX Language acquisition'!D2563","v":0}]
[{"$f":"'BX Language acquisition'!A2564","v":0},{"$f":"'BX Language acquisition'!B2564","v":0},null,{"$f":"'BX Language acquisition'!C2564","v":0},{"$f":"'BX Language acquisition'!D2564","v":0}]
[{"$f":"'BX Language acquisition'!A2565","v":0},{"$f":"'BX Language acquisition'!B2565","v":0},null,{"$f":"'BX Language acquisition'!C2565","v":0},{"$f":"'BX Language acquisition'!D2565","v":0}]
[{"$f":"'BX Language acquisition'!A2566","v":0},{"$f":"'BX Language acquisition'!B2566","v":0},null,{"$f":"'BX Language acquisition'!C2566","v":0},{"$f":"'BX Language acquisition'!D2566","v":0}]
[{"$f":"'BX Language acquisition'!A2567","v":0},{"$f":"'BX Language acquisition'!B2567","v":0},null,{"$f":"'BX Language acquisition'!C2567","v":0},{"$f":"'BX Language acquisition'!D2567","v":0}]
[{"$f":"'BX Language acquisition'!A2568","v":0},{"$f":"'BX Language acquisition'!B2568","v":0},null,{"$f":"'BX Language acquisition'!C2568","v":0},{"$f":"'BX Language acquisition'!D2568","v":0}]
[{"$f":"'BX Language acquisition'!A2569","v":0},{"$f":"'BX Language acquisition'!B2569","v":0},null,{"$f":"'BX Language acquisition'!C2569","v":0},{"$f":"'BX Language acquisition'!D2569","v":0}]
[{"$f":"'BX Language acquisition'!A2570","v":0},{"$f":"'BX Language acquisition'!B2570","v":0},null,{"$f":"'BX Language acquisition'!C2570","v":0},{"$f":"'BX Language acquisition'!D2570","v":0}]
[{"$f":"'BX Language acquisition'!A2571","v":0},{"$f":"'BX Language acquisition'!B2571","v":0},null,{"$f":"'BX Language acquisition'!C2571","v":0},{"$f":"'BX Language acquisition'!D2571","v":0}]
[{"$f":"'BX Language acquisition'!A2572","v":0},{"$f":"'BX Language acquisition'!B2572","v":0},null,{"$f":"'BX Language acquisition'!C2572","v":0},{"$f":"'BX Language acquisition'!D2572","v":0}]
[{"$f":"'BX Language acquisition'!A2573","v":0},{"$f":"'BX Language acquisition'!B2573","v":0},null,{"$f":"'BX Language acquisition'!C2573","v":0},{"$f":"'BX Language acquisition'!D2573","v":0}]
[{"$f":"'BX Language acquisition'!A2574","v":0},{"$f":"'BX Language acquisition'!B2574","v":0},null,{"$f":"'BX Language acquisition'!C2574","v":0},{"$f":"'BX Language acquisition'!D2574","v":0}]
[{"$f":"'BX Language acquisition'!A2575","v":0},{"$f":"'BX Language acquisition'!B2575","v":0},null,{"$f":"'BX Language acquisition'!C2575","v":0},{"$f":"'BX Language acquisition'!D2575","v":0}]
[{"$f":"'BX Language acquisition'!A2576","v":0},{"$f":"'BX Language acquisition'!B2576","v":0},null,{"$f":"'BX Language acquisition'!C2576","v":0},{"$f":"'BX Language acquisition'!D2576","v":0}]
[{"$f":"'BX Language acquisition'!A2577","v":0},{"$f":"'BX Language acquisition'!B2577","v":0},null,{"$f":"'BX Language acquisition'!C2577","v":0},{"$f":"'BX Language acquisition'!D2577","v":0}]
[{"$f":"'BX Language acquisition'!A2578","v":0},{"$f":"'BX Language acquisition'!B2578","v":0},null,{"$f":"'BX Language acquisition'!C2578","v":0},{"$f":"'BX Language acquisition'!D2578","v":0}]
[{"$f":"'BX Language acquisition'!A2579","v":0},{"$f":"'BX Language acquisition'!B2579","v":0},null,{"$f":"'BX Language acquisition'!C2579","v":0},{"$f":"'BX Language acquisition'!D2579","v":0}]
[{"$f":"'BX Language acquisition'!A2580","v":0},{"$f":"'BX Language acquisition'!B2580","v":0},null,{"$f":"'BX Language acquisition'!C2580","v":0},{"$f":"'BX Language acquisition'!D2580","v":0}]
[{"$f":"'BX Language acquisition'!A2581","v":0},{"$f":"'BX Language acquisition'!B2581","v":0},null,{"$f":"'BX Language acquisition'!C2581","v":0},{"$f":"'BX Language acquisition'!D2581","v":0}]
[{"$f":"'BX Language acquisition'!A2582","v":0},{"$f":"'BX Language acquisition'!B2582","v":0},null,{"$f":"'BX Language acquisition'!C2582","v":0},{"$f":"'BX Language acquisition'!D2582","v":0}]
[{"$f":"'BX Language acquisition'!A2583","v":0},{"$f":"'BX Language acquisition'!B2583","v":0},null,{"$f":"'BX Language acquisition'!C2583","v":0},{"$f":"'BX Language acquisition'!D2583","v":0}]
[{"$f":"'BX Language acquisition'!A2584","v":0},{"$f":"'BX Language acquisition'!B2584","v":0},null,{"$f":"'BX Language acquisition'!C2584","v":0},{"$f":"'BX Language acquisition'!D2584","v":0}]
[{"$f":"'BX Language acquisition'!A2585","v":0},{"$f":"'BX Language acquisition'!B2585","v":0},null,{"$f":"'BX Language acquisition'!C2585","v":0},{"$f":"'BX Language acquisition'!D2585","v":0}]
[{"$f":"'BX Language acquisition'!A2586","v":0},{"$f":"'BX Language acquisition'!B2586","v":0},null,{"$f":"'BX Language acquisition'!C2586","v":0},{"$f":"'BX Language acquisition'!D2586","v":0}]
[{"$f":"'BX Language acquisition'!A2587","v":0},{"$f":"'BX Language acquisition'!B2587","v":0},null,{"$f":"'BX Language acquisition'!C2587","v":0},{"$f":"'BX Language acquisition'!D2587","v":0}]
[{"$f":"'BX Language acquisition'!A2588","v":0},{"$f":"'BX Language acquisition'!B2588","v":0},null,{"$f":"'BX Language acquisition'!C2588","v":0},{"$f":"'BX Language acquisition'!D2588","v":0}]
[{"$f":"'BX Language acquisition'!A2589","v":0},{"$f":"'BX Language acquisition'!B2589","v":0},null,{"$f":"'BX Language acquisition'!C2589","v":0},{"$f":"'BX Language acquisition'!D2589","v":0}]
[{"$f":"'BX Language acquisition'!A2590","v":0},{"$f":"'BX Language acquisition'!B2590","v":0},null,{"$f":"'BX Language acquisition'!C2590","v":0},{"$f":"'BX Language acquisition'!D2590","v":0}]
[{"$f":"'BX Language acquisition'!A2591","v":0},{"$f":"'BX Language acquisition'!B2591","v":0},null,{"$f":"'BX Language acquisition'!C2591","v":0},{"$f":"'BX Language acquisition'!D2591","v":0}]
[{"$f":"'BX Language acquisition'!A2592","v":0},{"$f":"'BX Language acquisition'!B2592","v":0},null,{"$f":"'BX Language acquisition'!C2592","v":0},{"$f":"'BX Language acquisition'!D2592","v":0}]
[{"$f":"'BX Language acquisition'!A2593","v":0},{"$f":"'BX Language acquisition'!B2593","v":0},null,{"$f":"'BX Language acquisition'!C2593","v":0},{"$f":"'BX Language acquisition'!D2593","v":0}]
[{"$f":"'BX Language acquisition'!A2594","v":0},{"$f":"'BX Language acquisition'!B2594","v":0},null,{"$f":"'BX Language acquisition'!C2594","v":0},{"$f":"'BX Language acquisition'!D2594","v":0}]
[{"$f":"'BX Language acquisition'!A2595","v":0},{"$f":"'BX Language acquisition'!B2595","v":0},null,{"$f":"'BX Language acquisition'!C2595","v":0},{"$f":"'BX Language acquisition'!D2595","v":0}]
[{"$f":"'BX Language acquisition'!A2596","v":0},{"$f":"'BX Language acquisition'!B2596","v":0},null,{"$f":"'BX Language acquisition'!C2596","v":0},{"$f":"'BX Language acquisition'!D2596","v":0}]
[{"$f":"'BX Language acquisition'!A2597","v":0},{"$f":"'BX Language acquisition'!B2597","v":0},null,{"$f":"'BX Language acquisition'!C2597","v":0},{"$f":"'BX Language acquisition'!D2597","v":0}]
[{"$f":"'BX Language acquisition'!A2598","v":0},{"$f":"'BX Language acquisition'!B2598","v":0},null,{"$f":"'BX Language acquisition'!C2598","v":0},{"$f":"'BX Language acquisition'!D2598","v":0}]
[{"$f":"'BX Language acquisition'!A2599","v":0},{"$f":"'BX Language acquisition'!B2599","v":0},null,{"$f":"'BX Language acquisition'!C2599","v":0},{"$f":"'BX Language acquisition'!D2599","v":0}]
[{"$f":"'BX Language acquisition'!A2600","v":0},{"$f":"'BX Language acquisition'!B2600","v":0},null,{"$f":"'BX Language acquisition'!C2600","v":0},{"$f":"'BX Language acquisition'!D2600","v":0}]
[{"$f":"'BX Language acquisition'!A2601","v":0},{"$f":"'BX Language acquisition'!B2601","v":0},null,{"$f":"'BX Language acquisition'!C2601","v":0},{"$f":"'BX Language acquisition'!D2601","v":0}]
[{"$f":"'BX Language acquisition'!A2602","v":0},{"$f":"'BX Language acquisition'!B2602","v":0},null,{"$f":"'BX Language acquisition'!C2602","v":0},{"$f":"'BX Language acquisition'!D2602","v":0}]
[{"$f":"'BX Language acquisition'!A2603","v":0},{"$f":"'BX Language acquisition'!B2603","v":0},null,{"$f":"'BX Language acquisition'!C2603","v":0},{"$f":"'BX Language acquisition'!D2603","v":0}]
[{"$f":"'BX Language acquisition'!A2604","v":0},{"$f":"'BX Language acquisition'!B2604","v":0},null,{"$f":"'BX Language acquisition'!C2604","v":0},{"$f":"'BX Language acquisition'!D2604","v":0}]
[{"$f":"'BX Language acquisition'!A2605","v":0},{"$f":"'BX Language acquisition'!B2605","v":0},null,{"$f":"'BX Language acquisition'!C2605","v":0},{"$f":"'BX Language acquisition'!D2605","v":0}]
[{"$f":"'BX Language acquisition'!A2606","v":0},{"$f":"'BX Language acquisition'!B2606","v":0},null,{"$f":"'BX Language acquisition'!C2606","v":0},{"$f":"'BX Language acquisition'!D2606","v":0}]
[{"$f":"'BX Language acquisition'!A2607","v":0},{"$f":"'BX Language acquisition'!B2607","v":0},null,{"$f":"'BX Language acquisition'!C2607","v":0},{"$f":"'BX Language acquisition'!D2607","v":0}]
[{"$f":"'BX Language acquisition'!A2608","v":0},{"$f":"'BX Language acquisition'!B2608","v":0},null,{"$f":"'BX Language acquisition'!C2608","v":0},{"$f":"'BX Language acquisition'!D2608","v":0}]
[{"$f":"'BX Language acquisition'!A2609","v":0},{"$f":"'BX Language acquisition'!B2609","v":0},null,{"$f":"'BX Language acquisition'!C2609","v":0},{"$f":"'BX Language acquisition'!D2609","v":0}]
[{"$f":"'BX Language acquisition'!A2610","v":0},{"$f":"'BX Language acquisition'!B2610","v":0},null,{"$f":"'BX Language acquisition'!C2610","v":0},{"$f":"'BX Language acquisition'!D2610","v":0}]
[{"$f":"'BX Language acquisition'!A2611","v":0},{"$f":"'BX Language acquisition'!B2611","v":0},null,{"$f":"'BX Language acquisition'!C2611","v":0},{"$f":"'BX Language acquisition'!D2611","v":0}]
[{"$f":"'BX Language acquisition'!A2612","v":0},{"$f":"'BX Language acquisition'!B2612","v":0},null,{"$f":"'BX Language acquisition'!C2612","v":0},{"$f":"'BX Language acquisition'!D2612","v":0}]
[{"$f":"'BX Language acquisition'!A2613","v":0},{"$f":"'BX Language acquisition'!B2613","v":0},null,{"$f":"'BX Language acquisition'!C2613","v":0},{"$f":"'BX Language acquisition'!D2613","v":0}]
[{"$f":"'BX Language acquisition'!A2614","v":0},{"$f":"'BX Language acquisition'!B2614","v":0},null,{"$f":"'BX Language acquisition'!C2614","v":0},{"$f":"'BX Language acquisition'!D2614","v":0}]
[{"$f":"'BX Language acquisition'!A2615","v":0},{"$f":"'BX Language acquisition'!B2615","v":0},null,{"$f":"'BX Language acquisition'!C2615","v":0},{"$f":"'BX Language acquisition'!D2615","v":0}]
[{"$f":"'BX Language acquisition'!A2616","v":0},{"$f":"'BX Language acquisition'!B2616","v":0},null,{"$f":"'BX Language acquisition'!C2616","v":0},{"$f":"'BX Language acquisition'!D2616","v":0}]
[{"$f":"'BX Language acquisition'!A2617","v":0},{"$f":"'BX Language acquisition'!B2617","v":0},null,{"$f":"'BX Language acquisition'!C2617","v":0},{"$f":"'BX Language acquisition'!D2617","v":0}]
[{"$f":"'BX Language acquisition'!A2618","v":0},{"$f":"'BX Language acquisition'!B2618","v":0},null,{"$f":"'BX Language acquisition'!C2618","v":0},{"$f":"'BX Language acquisition'!D2618","v":0}]
[{"$f":"'BX Language acquisition'!A2619","v":0},{"$f":"'BX Language acquisition'!B2619","v":0},null,{"$f":"'BX Language acquisition'!C2619","v":0},{"$f":"'BX Language acquisition'!D2619","v":0}]
[{"$f":"'BX Language acquisition'!A2620","v":0},{"$f":"'BX Language acquisition'!B2620","v":0},null,{"$f":"'BX Language acquisition'!C2620","v":0},{"$f":"'BX Language acquisition'!D2620","v":0}]
[{"$f":"'BX Language acquisition'!A2621","v":0},{"$f":"'BX Language acquisition'!B2621","v":0},null,{"$f":"'BX Language acquisition'!C2621","v":0},{"$f":"'BX Language acquisition'!D2621","v":0}]
[{"$f":"'BX Language acquisition'!A2622","v":0},{"$f":"'BX Language acquisition'!B2622","v":0},null,{"$f":"'BX Language acquisition'!C2622","v":0},{"$f":"'BX Language acquisition'!D2622","v":0}]
[{"$f":"'BX Language acquisition'!A2623","v":0},{"$f":"'BX Language acquisition'!B2623","v":0},null,{"$f":"'BX Language acquisition'!C2623","v":0},{"$f":"'BX Language acquisition'!D2623","v":0}]
[{"$f":"'BX Language acquisition'!A2624","v":0},{"$f":"'BX Language acquisition'!B2624","v":0},null,{"$f":"'BX Language acquisition'!C2624","v":0},{"$f":"'BX Language acquisition'!D2624","v":0}]
[{"$f":"'BX Language acquisition'!A2625","v":0},{"$f":"'BX Language acquisition'!B2625","v":0},null,{"$f":"'BX Language acquisition'!C2625","v":0},{"$f":"'BX Language acquisition'!D2625","v":0}]
[{"$f":"'BX Language acquisition'!A2626","v":0},{"$f":"'BX Language acquisition'!B2626","v":0},null,{"$f":"'BX Language acquisition'!C2626","v":0},{"$f":"'BX Language acquisition'!D2626","v":0}]
[{"$f":"'BX Language acquisition'!A2627","v":0},{"$f":"'BX Language acquisition'!B2627","v":0},null,{"$f":"'BX Language acquisition'!C2627","v":0},{"$f":"'BX Language acquisition'!D2627","v":0}]
[{"$f":"'BX Language acquisition'!A2628","v":0},{"$f":"'BX Language acquisition'!B2628","v":0},null,{"$f":"'BX Language acquisition'!C2628","v":0},{"$f":"'BX Language acquisition'!D2628","v":0}]
[{"$f":"'BX Language acquisition'!A2629","v":0},{"$f":"'BX Language acquisition'!B2629","v":0},null,{"$f":"'BX Language acquisition'!C2629","v":0},{"$f":"'BX Language acquisition'!D2629","v":0}]
[{"$f":"'BX Language acquisition'!A2630","v":0},{"$f":"'BX Language acquisition'!B2630","v":0},null,{"$f":"'BX Language acquisition'!C2630","v":0},{"$f":"'BX Language acquisition'!D2630","v":0}]
[{"$f":"'BX Language acquisition'!A2631","v":0},{"$f":"'BX Language acquisition'!B2631","v":0},null,{"$f":"'BX Language acquisition'!C2631","v":0},{"$f":"'BX Language acquisition'!D2631","v":0}]
[{"$f":"'BX Language acquisition'!A2632","v":0},{"$f":"'BX Language acquisition'!B2632","v":0},null,{"$f":"'BX Language acquisition'!C2632","v":0},{"$f":"'BX Language acquisition'!D2632","v":0}]
[{"$f":"'BX Language acquisition'!A2633","v":0},{"$f":"'BX Language acquisition'!B2633","v":0},null,{"$f":"'BX Language acquisition'!C2633","v":0},{"$f":"'BX Language acquisition'!D2633","v":0}]
[{"$f":"'BX Language acquisition'!A2634","v":0},{"$f":"'BX Language acquisition'!B2634","v":0},null,{"$f":"'BX Language acquisition'!C2634","v":0},{"$f":"'BX Language acquisition'!D2634","v":0}]
[{"$f":"'BX Language acquisition'!A2635","v":0},{"$f":"'BX Language acquisition'!B2635","v":0},null,{"$f":"'BX Language acquisition'!C2635","v":0},{"$f":"'BX Language acquisition'!D2635","v":0}]
[{"$f":"'BX Language acquisition'!A2636","v":0},{"$f":"'BX Language acquisition'!B2636","v":0},null,{"$f":"'BX Language acquisition'!C2636","v":0},{"$f":"'BX Language acquisition'!D2636","v":0}]
[{"$f":"'BX Language acquisition'!A2637","v":0},{"$f":"'BX Language acquisition'!B2637","v":0},null,{"$f":"'BX Language acquisition'!C2637","v":0},{"$f":"'BX Language acquisition'!D2637","v":0}]
[{"$f":"'BX Language acquisition'!A2638","v":0},{"$f":"'BX Language acquisition'!B2638","v":0},null,{"$f":"'BX Language acquisition'!C2638","v":0},{"$f":"'BX Language acquisition'!D2638","v":0}]
[{"$f":"'BX Language acquisition'!A2639","v":0},{"$f":"'BX Language acquisition'!B2639","v":0},null,{"$f":"'BX Language acquisition'!C2639","v":0},{"$f":"'BX Language acquisition'!D2639","v":0}]
[{"$f":"'BX Language acquisition'!A2640","v":0},{"$f":"'BX Language acquisition'!B2640","v":0},null,{"$f":"'BX Language acquisition'!C2640","v":0},{"$f":"'BX Language acquisition'!D2640","v":0}]
[{"$f":"'BX Language acquisition'!A2641","v":0},{"$f":"'BX Language acquisition'!B2641","v":0},null,{"$f":"'BX Language acquisition'!C2641","v":0},{"$f":"'BX Language acquisition'!D2641","v":0}]
[{"$f":"'BX Language acquisition'!A2642","v":0},{"$f":"'BX Language acquisition'!B2642","v":0},null,{"$f":"'BX Language acquisition'!C2642","v":0},{"$f":"'BX Language acquisition'!D2642","v":0}]
[{"$f":"'BX Language acquisition'!A2643","v":0},{"$f":"'BX Language acquisition'!B2643","v":0},null,{"$f":"'BX Language acquisition'!C2643","v":0},{"$f":"'BX Language acquisition'!D2643","v":0}]
[{"$f":"'BX Language acquisition'!A2644","v":0},{"$f":"'BX Language acquisition'!B2644","v":0},null,{"$f":"'BX Language acquisition'!C2644","v":0},{"$f":"'BX Language acquisition'!D2644","v":0}]
[{"$f":"'BX Language acquisition'!A2645","v":0},{"$f":"'BX Language acquisition'!B2645","v":0},null,{"$f":"'BX Language acquisition'!C2645","v":0},{"$f":"'BX Language acquisition'!D2645","v":0}]
[{"$f":"'BX Language acquisition'!A2646","v":0},{"$f":"'BX Language acquisition'!B2646","v":0},null,{"$f":"'BX Language acquisition'!C2646","v":0},{"$f":"'BX Language acquisition'!D2646","v":0}]
[{"$f":"'BX Language acquisition'!A2647","v":0},{"$f":"'BX Language acquisition'!B2647","v":0},null,{"$f":"'BX Language acquisition'!C2647","v":0},{"$f":"'BX Language acquisition'!D2647","v":0}]
[{"$f":"'BX Language acquisition'!A2648","v":0},{"$f":"'BX Language acquisition'!B2648","v":0},null,{"$f":"'BX Language acquisition'!C2648","v":0},{"$f":"'BX Language acquisition'!D2648","v":0}]
[{"$f":"'BX Language acquisition'!A2649","v":0},{"$f":"'BX Language acquisition'!B2649","v":0},null,{"$f":"'BX Language acquisition'!C2649","v":0},{"$f":"'BX Language acquisition'!D2649","v":0}]
[{"$f":"'BX Language acquisition'!A2650","v":0},{"$f":"'BX Language acquisition'!B2650","v":0},null,{"$f":"'BX Language acquisition'!C2650","v":0},{"$f":"'BX Language acquisition'!D2650","v":0}]
[{"$f":"'BX Language acquisition'!A2651","v":0},{"$f":"'BX Language acquisition'!B2651","v":0},null,{"$f":"'BX Language acquisition'!C2651","v":0},{"$f":"'BX Language acquisition'!D2651","v":0}]
[{"$f":"'BX Language acquisition'!A2652","v":0},{"$f":"'BX Language acquisition'!B2652","v":0},null,{"$f":"'BX Language acquisition'!C2652","v":0},{"$f":"'BX Language acquisition'!D2652","v":0}]
[{"$f":"'BX Language acquisition'!A2653","v":0},{"$f":"'BX Language acquisition'!B2653","v":0},null,{"$f":"'BX Language acquisition'!C2653","v":0},{"$f":"'BX Language acquisition'!D2653","v":0}]
[{"$f":"'BX Language acquisition'!A2654","v":0},{"$f":"'BX Language acquisition'!B2654","v":0},null,{"$f":"'BX Language acquisition'!C2654","v":0},{"$f":"'BX Language acquisition'!D2654","v":0}]
[{"$f":"'BX Language acquisition'!A2655","v":0},{"$f":"'BX Language acquisition'!B2655","v":0},null,{"$f":"'BX Language acquisition'!C2655","v":0},{"$f":"'BX Language acquisition'!D2655","v":0}]
[{"$f":"'BX Language acquisition'!A2656","v":0},{"$f":"'BX Language acquisition'!B2656","v":0},null,{"$f":"'BX Language acquisition'!C2656","v":0},{"$f":"'BX Language acquisition'!D2656","v":0}]
[{"$f":"'BX Language acquisition'!A2657","v":0},{"$f":"'BX Language acquisition'!B2657","v":0},null,{"$f":"'BX Language acquisition'!C2657","v":0},{"$f":"'BX Language acquisition'!D2657","v":0}]
[{"$f":"'BX Language acquisition'!A2658","v":0},{"$f":"'BX Language acquisition'!B2658","v":0},null,{"$f":"'BX Language acquisition'!C2658","v":0},{"$f":"'BX Language acquisition'!D2658","v":0}]
[{"$f":"'BX Language acquisition'!A2659","v":0},{"$f":"'BX Language acquisition'!B2659","v":0},null,{"$f":"'BX Language acquisition'!C2659","v":0},{"$f":"'BX Language acquisition'!D2659","v":0}]
[{"$f":"'BX Language acquisition'!A2660","v":0},{"$f":"'BX Language acquisition'!B2660","v":0},null,{"$f":"'BX Language acquisition'!C2660","v":0},{"$f":"'BX Language acquisition'!D2660","v":0}]
[{"$f":"'BX Language acquisition'!A2661","v":0},{"$f":"'BX Language acquisition'!B2661","v":0},null,{"$f":"'BX Language acquisition'!C2661","v":0},{"$f":"'BX Language acquisition'!D2661","v":0}]
[{"$f":"'BX Language acquisition'!A2662","v":0},{"$f":"'BX Language acquisition'!B2662","v":0},null,{"$f":"'BX Language acquisition'!C2662","v":0},{"$f":"'BX Language acquisition'!D2662","v":0}]
[{"$f":"'BX Language acquisition'!A2663","v":0},{"$f":"'BX Language acquisition'!B2663","v":0},null,{"$f":"'BX Language acquisition'!C2663","v":0},{"$f":"'BX Language acquisition'!D2663","v":0}]
[{"$f":"'BX Language acquisition'!A2664","v":0},{"$f":"'BX Language acquisition'!B2664","v":0},null,{"$f":"'BX Language acquisition'!C2664","v":0},{"$f":"'BX Language acquisition'!D2664","v":0}]
[{"$f":"'BX Language acquisition'!A2665","v":0},{"$f":"'BX Language acquisition'!B2665","v":0},null,{"$f":"'BX Language acquisition'!C2665","v":0},{"$f":"'BX Language acquisition'!D2665","v":0}]
[{"$f":"'BX Language acquisition'!A2666","v":0},{"$f":"'BX Language acquisition'!B2666","v":0},null,{"$f":"'BX Language acquisition'!C2666","v":0},{"$f":"'BX Language acquisition'!D2666","v":0}]
[{"$f":"'BX Language acquisition'!A2667","v":0},{"$f":"'BX Language acquisition'!B2667","v":0},null,{"$f":"'BX Language acquisition'!C2667","v":0},{"$f":"'BX Language acquisition'!D2667","v":0}]
[{"$f":"'BX Language acquisition'!A2668","v":0},{"$f":"'BX Language acquisition'!B2668","v":0},null,{"$f":"'BX Language acquisition'!C2668","v":0},{"$f":"'BX Language acquisition'!D2668","v":0}]
[{"$f":"'BX Language acquisition'!A2669","v":0},{"$f":"'BX Language acquisition'!B2669","v":0},null,{"$f":"'BX Language acquisition'!C2669","v":0},{"$f":"'BX Language acquisition'!D2669","v":0}]
[{"$f":"'BX Language acquisition'!A2670","v":0},{"$f":"'BX Language acquisition'!B2670","v":0},null,{"$f":"'BX Language acquisition'!C2670","v":0},{"$f":"'BX Language acquisition'!D2670","v":0}]
[{"$f":"'BX Language acquisition'!A2671","v":0},{"$f":"'BX Language acquisition'!B2671","v":0},null,{"$f":"'BX Language acquisition'!C2671","v":0},{"$f":"'BX Language acquisition'!D2671","v":0}]
[{"$f":"'BX Language acquisition'!A2672","v":0},{"$f":"'BX Language acquisition'!B2672","v":0},null,{"$f":"'BX Language acquisition'!C2672","v":0},{"$f":"'BX Language acquisition'!D2672","v":0}]
[{"$f":"'BX Language acquisition'!A2673","v":0},{"$f":"'BX Language acquisition'!B2673","v":0},null,{"$f":"'BX Language acquisition'!C2673","v":0},{"$f":"'BX Language acquisition'!D2673","v":0}]
[{"$f":"'BX Language acquisition'!A2674","v":0},{"$f":"'BX Language acquisition'!B2674","v":0},null,{"$f":"'BX Language acquisition'!C2674","v":0},{"$f":"'BX Language acquisition'!D2674","v":0}]
[{"$f":"'BX Language acquisition'!A2675","v":0},{"$f":"'BX Language acquisition'!B2675","v":0},null,{"$f":"'BX Language acquisition'!C2675","v":0},{"$f":"'BX Language acquisition'!D2675","v":0}]
[{"$f":"'BX Language acquisition'!A2676","v":0},{"$f":"'BX Language acquisition'!B2676","v":0},null,{"$f":"'BX Language acquisition'!C2676","v":0},{"$f":"'BX Language acquisition'!D2676","v":0}]
[{"$f":"'BX Language acquisition'!A2677","v":0},{"$f":"'BX Language acquisition'!B2677","v":0},null,{"$f":"'BX Language acquisition'!C2677","v":0},{"$f":"'BX Language acquisition'!D2677","v":0}]
[{"$f":"'BX Language acquisition'!A2678","v":0},{"$f":"'BX Language acquisition'!B2678","v":0},null,{"$f":"'BX Language acquisition'!C2678","v":0},{"$f":"'BX Language acquisition'!D2678","v":0}]
[{"$f":"'BX Language acquisition'!A2679","v":0},{"$f":"'BX Language acquisition'!B2679","v":0},null,{"$f":"'BX Language acquisition'!C2679","v":0},{"$f":"'BX Language acquisition'!D2679","v":0}]
[{"$f":"'BX Language acquisition'!A2680","v":0},{"$f":"'BX Language acquisition'!B2680","v":0},null,{"$f":"'BX Language acquisition'!C2680","v":0},{"$f":"'BX Language acquisition'!D2680","v":0}]
[{"$f":"'BX Language acquisition'!A2681","v":0},{"$f":"'BX Language acquisition'!B2681","v":0},null,{"$f":"'BX Language acquisition'!C2681","v":0},{"$f":"'BX Language acquisition'!D2681","v":0}]
[{"$f":"'BX Language acquisition'!A2682","v":0},{"$f":"'BX Language acquisition'!B2682","v":0},null,{"$f":"'BX Language acquisition'!C2682","v":0},{"$f":"'BX Language acquisition'!D2682","v":0}]
[{"$f":"'BX Language acquisition'!A2683","v":0},{"$f":"'BX Language acquisition'!B2683","v":0},null,{"$f":"'BX Language acquisition'!C2683","v":0},{"$f":"'BX Language acquisition'!D2683","v":0}]
[{"$f":"'BX Language acquisition'!A2684","v":0},{"$f":"'BX Language acquisition'!B2684","v":0},null,{"$f":"'BX Language acquisition'!C2684","v":0},{"$f":"'BX Language acquisition'!D2684","v":0}]
[{"$f":"'BX Language acquisition'!A2685","v":0},{"$f":"'BX Language acquisition'!B2685","v":0},null,{"$f":"'BX Language acquisition'!C2685","v":0},{"$f":"'BX Language acquisition'!D2685","v":0}]
[{"$f":"'BX Language acquisition'!A2686","v":0},{"$f":"'BX Language acquisition'!B2686","v":0},null,{"$f":"'BX Language acquisition'!C2686","v":0},{"$f":"'BX Language acquisition'!D2686","v":0}]
[{"$f":"'BX Language acquisition'!A2687","v":0},{"$f":"'BX Language acquisition'!B2687","v":0},null,{"$f":"'BX Language acquisition'!C2687","v":0},{"$f":"'BX Language acquisition'!D2687","v":0}]
[{"$f":"'BX Language acquisition'!A2688","v":0},{"$f":"'BX Language acquisition'!B2688","v":0},null,{"$f":"'BX Language acquisition'!C2688","v":0},{"$f":"'BX Language acquisition'!D2688","v":0}]
[{"$f":"'BX Language acquisition'!A2689","v":0},{"$f":"'BX Language acquisition'!B2689","v":0},null,{"$f":"'BX Language acquisition'!C2689","v":0},{"$f":"'BX Language acquisition'!D2689","v":0}]
[{"$f":"'BX Language acquisition'!A2690","v":0},{"$f":"'BX Language acquisition'!B2690","v":0},null,{"$f":"'BX Language acquisition'!C2690","v":0},{"$f":"'BX Language acquisition'!D2690","v":0}]
[{"$f":"'BX Language acquisition'!A2691","v":0},{"$f":"'BX Language acquisition'!B2691","v":0},null,{"$f":"'BX Language acquisition'!C2691","v":0},{"$f":"'BX Language acquisition'!D2691","v":0}]
[{"$f":"'BX Language acquisition'!A2692","v":0},{"$f":"'BX Language acquisition'!B2692","v":0},null,{"$f":"'BX Language acquisition'!C2692","v":0},{"$f":"'BX Language acquisition'!D2692","v":0}]
[{"$f":"'BX Language acquisition'!A2693","v":0},{"$f":"'BX Language acquisition'!B2693","v":0},null,{"$f":"'BX Language acquisition'!C2693","v":0},{"$f":"'BX Language acquisition'!D2693","v":0}]
[{"$f":"'BX Language acquisition'!A2694","v":0},{"$f":"'BX Language acquisition'!B2694","v":0},null,{"$f":"'BX Language acquisition'!C2694","v":0},{"$f":"'BX Language acquisition'!D2694","v":0}]
[{"$f":"'BX Language acquisition'!A2695","v":0},{"$f":"'BX Language acquisition'!B2695","v":0},null,{"$f":"'BX Language acquisition'!C2695","v":0},{"$f":"'BX Language acquisition'!D2695","v":0}]
[{"$f":"'BX Language acquisition'!A2696","v":0},{"$f":"'BX Language acquisition'!B2696","v":0},null,{"$f":"'BX Language acquisition'!C2696","v":0},{"$f":"'BX Language acquisition'!D2696","v":0}]
[{"$f":"'BX Language acquisition'!A2697","v":0},{"$f":"'BX Language acquisition'!B2697","v":0},null,{"$f":"'BX Language acquisition'!C2697","v":0},{"$f":"'BX Language acquisition'!D2697","v":0}]
[{"$f":"'BX Language acquisition'!A2698","v":0},{"$f":"'BX Language acquisition'!B2698","v":0},null,{"$f":"'BX Language acquisition'!C2698","v":0},{"$f":"'BX Language acquisition'!D2698","v":0}]
[{"$f":"'BX Language acquisition'!A2699","v":0},{"$f":"'BX Language acquisition'!B2699","v":0},null,{"$f":"'BX Language acquisition'!C2699","v":0},{"$f":"'BX Language acquisition'!D2699","v":0}]
[{"$f":"'BX Language acquisition'!A2700","v":0},{"$f":"'BX Language acquisition'!B2700","v":0},null,{"$f":"'BX Language acquisition'!C2700","v":0},{"$f":"'BX Language acquisition'!D2700","v":0}]
[{"$f":"'BX Language acquisition'!A2701","v":0},{"$f":"'BX Language acquisition'!B2701","v":0},null,{"$f":"'BX Language acquisition'!C2701","v":0},{"$f":"'BX Language acquisition'!D2701","v":0}]
[{"$f":"'BX Language acquisition'!A2702","v":0},{"$f":"'BX Language acquisition'!B2702","v":0},null,{"$f":"'BX Language acquisition'!C2702","v":0},{"$f":"'BX Language acquisition'!D2702","v":0}]
[{"$f":"'BX Language acquisition'!A2703","v":0},{"$f":"'BX Language acquisition'!B2703","v":0},null,{"$f":"'BX Language acquisition'!C2703","v":0},{"$f":"'BX Language acquisition'!D2703","v":0}]
[{"$f":"'BX Language acquisition'!A2704","v":0},{"$f":"'BX Language acquisition'!B2704","v":0},null,{"$f":"'BX Language acquisition'!C2704","v":0},{"$f":"'BX Language acquisition'!D2704","v":0}]
[{"$f":"'BX Language acquisition'!A2705","v":0},{"$f":"'BX Language acquisition'!B2705","v":0},null,{"$f":"'BX Language acquisition'!C2705","v":0},{"$f":"'BX Language acquisition'!D2705","v":0}]
[{"$f":"'BX Language acquisition'!A2706","v":0},{"$f":"'BX Language acquisition'!B2706","v":0},null,{"$f":"'BX Language acquisition'!C2706","v":0},{"$f":"'BX Language acquisition'!D2706","v":0}]
[{"$f":"'BX Language acquisition'!A2707","v":0},{"$f":"'BX Language acquisition'!B2707","v":0},null,{"$f":"'BX Language acquisition'!C2707","v":0},{"$f":"'BX Language acquisition'!D2707","v":0}]
[{"$f":"'BX Language acquisition'!A2708","v":0},{"$f":"'BX Language acquisition'!B2708","v":0},null,{"$f":"'BX Language acquisition'!C2708","v":0},{"$f":"'BX Language acquisition'!D2708","v":0}]
[{"$f":"'BX Language acquisition'!A2709","v":0},{"$f":"'BX Language acquisition'!B2709","v":0},null,{"$f":"'BX Language acquisition'!C2709","v":0},{"$f":"'BX Language acquisition'!D2709","v":0}]
[{"$f":"'BX Language acquisition'!A2710","v":0},{"$f":"'BX Language acquisition'!B2710","v":0},null,{"$f":"'BX Language acquisition'!C2710","v":0},{"$f":"'BX Language acquisition'!D2710","v":0}]
[{"$f":"'BX Language acquisition'!A2711","v":0},{"$f":"'BX Language acquisition'!B2711","v":0},null,{"$f":"'BX Language acquisition'!C2711","v":0},{"$f":"'BX Language acquisition'!D2711","v":0}]
[{"$f":"'BX Language acquisition'!A2712","v":0},{"$f":"'BX Language acquisition'!B2712","v":0},null,{"$f":"'BX Language acquisition'!C2712","v":0},{"$f":"'BX Language acquisition'!D2712","v":0}]
[{"$f":"'BX Language acquisition'!A2713","v":0},{"$f":"'BX Language acquisition'!B2713","v":0},null,{"$f":"'BX Language acquisition'!C2713","v":0},{"$f":"'BX Language acquisition'!D2713","v":0}]
[{"$f":"'BX Language acquisition'!A2714","v":0},{"$f":"'BX Language acquisition'!B2714","v":0},null,{"$f":"'BX Language acquisition'!C2714","v":0},{"$f":"'BX Language acquisition'!D2714","v":0}]
[{"$f":"'BX Language acquisition'!A2715","v":0},{"$f":"'BX Language acquisition'!B2715","v":0},null,{"$f":"'BX Language acquisition'!C2715","v":0},{"$f":"'BX Language acquisition'!D2715","v":0}]
[{"$f":"'BX Language acquisition'!A2716","v":0},{"$f":"'BX Language acquisition'!B2716","v":0},null,{"$f":"'BX Language acquisition'!C2716","v":0},{"$f":"'BX Language acquisition'!D2716","v":0}]
[{"$f":"'BX Language acquisition'!A2717","v":0},{"$f":"'BX Language acquisition'!B2717","v":0},null,{"$f":"'BX Language acquisition'!C2717","v":0},{"$f":"'BX Language acquisition'!D2717","v":0}]
[{"$f":"'BX Language acquisition'!A2718","v":0},{"$f":"'BX Language acquisition'!B2718","v":0},null,{"$f":"'BX Language acquisition'!C2718","v":0},{"$f":"'BX Language acquisition'!D2718","v":0}]
[{"$f":"'BX Language acquisition'!A2719","v":0},{"$f":"'BX Language acquisition'!B2719","v":0},null,{"$f":"'BX Language acquisition'!C2719","v":0},{"$f":"'BX Language acquisition'!D2719","v":0}]
[{"$f":"'BX Language acquisition'!A2720","v":0},{"$f":"'BX Language acquisition'!B2720","v":0},null,{"$f":"'BX Language acquisition'!C2720","v":0},{"$f":"'BX Language acquisition'!D2720","v":0}]
[{"$f":"'BX Language acquisition'!A2721","v":0},{"$f":"'BX Language acquisition'!B2721","v":0},null,{"$f":"'BX Language acquisition'!C2721","v":0},{"$f":"'BX Language acquisition'!D2721","v":0}]
[{"$f":"'BX Language acquisition'!A2722","v":0},{"$f":"'BX Language acquisition'!B2722","v":0},null,{"$f":"'BX Language acquisition'!C2722","v":0},{"$f":"'BX Language acquisition'!D2722","v":0}]
[{"$f":"'BX Language acquisition'!A2723","v":0},{"$f":"'BX Language acquisition'!B2723","v":0},null,{"$f":"'BX Language acquisition'!C2723","v":0},{"$f":"'BX Language acquisition'!D2723","v":0}]
[{"$f":"'BX Language acquisition'!A2724","v":0},{"$f":"'BX Language acquisition'!B2724","v":0},null,{"$f":"'BX Language acquisition'!C2724","v":0},{"$f":"'BX Language acquisition'!D2724","v":0}]
[{"$f":"'BX Language acquisition'!A2725","v":0},{"$f":"'BX Language acquisition'!B2725","v":0},null,{"$f":"'BX Language acquisition'!C2725","v":0},{"$f":"'BX Language acquisition'!D2725","v":0}]
[{"$f":"'BX Language acquisition'!A2726","v":0},{"$f":"'BX Language acquisition'!B2726","v":0},null,{"$f":"'BX Language acquisition'!C2726","v":0},{"$f":"'BX Language acquisition'!D2726","v":0}]
[{"$f":"'BX Language acquisition'!A2727","v":0},{"$f":"'BX Language acquisition'!B2727","v":0},null,{"$f":"'BX Language acquisition'!C2727","v":0},{"$f":"'BX Language acquisition'!D2727","v":0}]
[{"$f":"'BX Language acquisition'!A2728","v":0},{"$f":"'BX Language acquisition'!B2728","v":0},null,{"$f":"'BX Language acquisition'!C2728","v":0},{"$f":"'BX Language acquisition'!D2728","v":0}]
[{"$f":"'BX Language acquisition'!A2729","v":0},{"$f":"'BX Language acquisition'!B2729","v":0},null,{"$f":"'BX Language acquisition'!C2729","v":0},{"$f":"'BX Language acquisition'!D2729","v":0}]
[{"$f":"'BX Language acquisition'!A2730","v":0},{"$f":"'BX Language acquisition'!B2730","v":0},null,{"$f":"'BX Language acquisition'!C2730","v":0},{"$f":"'BX Language acquisition'!D2730","v":0}]
[{"$f":"'BX Language acquisition'!A2731","v":0},{"$f":"'BX Language acquisition'!B2731","v":0},null,{"$f":"'BX Language acquisition'!C2731","v":0},{"$f":"'BX Language acquisition'!D2731","v":0}]
[{"$f":"'BX Language acquisition'!A2732","v":0},{"$f":"'BX Language acquisition'!B2732","v":0},null,{"$f":"'BX Language acquisition'!C2732","v":0},{"$f":"'BX Language acquisition'!D2732","v":0}]
[{"$f":"'BX Language acquisition'!A2733","v":0},{"$f":"'BX Language acquisition'!B2733","v":0},null,{"$f":"'BX Language acquisition'!C2733","v":0},{"$f":"'BX Language acquisition'!D2733","v":0}]
[{"$f":"'BX Language acquisition'!A2734","v":0},{"$f":"'BX Language acquisition'!B2734","v":0},null,{"$f":"'BX Language acquisition'!C2734","v":0},{"$f":"'BX Language acquisition'!D2734","v":0}]
[{"$f":"'BX Language acquisition'!A2735","v":0},{"$f":"'BX Language acquisition'!B2735","v":0},null,{"$f":"'BX Language acquisition'!C2735","v":0},{"$f":"'BX Language acquisition'!D2735","v":0}]
[{"$f":"'BX Language acquisition'!A2736","v":0},{"$f":"'BX Language acquisition'!B2736","v":0},null,{"$f":"'BX Language acquisition'!C2736","v":0},{"$f":"'BX Language acquisition'!D2736","v":0}]
[{"$f":"'BX Language acquisition'!A2737","v":0},{"$f":"'BX Language acquisition'!B2737","v":0},null,{"$f":"'BX Language acquisition'!C2737","v":0},{"$f":"'BX Language acquisition'!D2737","v":0}]
[{"$f":"'BX Language acquisition'!A2738","v":0},{"$f":"'BX Language acquisition'!B2738","v":0},null,{"$f":"'BX Language acquisition'!C2738","v":0},{"$f":"'BX Language acquisition'!D2738","v":0}]
[{"$f":"'BX Language acquisition'!A2739","v":0},{"$f":"'BX Language acquisition'!B2739","v":0},null,{"$f":"'BX Language acquisition'!C2739","v":0},{"$f":"'BX Language acquisition'!D2739","v":0}]
[{"$f":"'BX Language acquisition'!A2740","v":0},{"$f":"'BX Language acquisition'!B2740","v":0},null,{"$f":"'BX Language acquisition'!C2740","v":0},{"$f":"'BX Language acquisition'!D2740","v":0}]
[{"$f":"'BX Language acquisition'!A2741","v":0},{"$f":"'BX Language acquisition'!B2741","v":0},null,{"$f":"'BX Language acquisition'!C2741","v":0},{"$f":"'BX Language acquisition'!D2741","v":0}]
[{"$f":"'BX Language acquisition'!A2742","v":0},{"$f":"'BX Language acquisition'!B2742","v":0},null,{"$f":"'BX Language acquisition'!C2742","v":0},{"$f":"'BX Language acquisition'!D2742","v":0}]
[{"$f":"'BX Language acquisition'!A2743","v":0},{"$f":"'BX Language acquisition'!B2743","v":0},null,{"$f":"'BX Language acquisition'!C2743","v":0},{"$f":"'BX Language acquisition'!D2743","v":0}]
[{"$f":"'BX Language acquisition'!A2744","v":0},{"$f":"'BX Language acquisition'!B2744","v":0},null,{"$f":"'BX Language acquisition'!C2744","v":0},{"$f":"'BX Language acquisition'!D2744","v":0}]
[{"$f":"'BX Language acquisition'!A2745","v":0},{"$f":"'BX Language acquisition'!B2745","v":0},null,{"$f":"'BX Language acquisition'!C2745","v":0},{"$f":"'BX Language acquisition'!D2745","v":0}]
[{"$f":"'BX Language acquisition'!A2746","v":0},{"$f":"'BX Language acquisition'!B2746","v":0},null,{"$f":"'BX Language acquisition'!C2746","v":0},{"$f":"'BX Language acquisition'!D2746","v":0}]
[{"$f":"'BX Language acquisition'!A2747","v":0},{"$f":"'BX Language acquisition'!B2747","v":0},null,{"$f":"'BX Language acquisition'!C2747","v":0},{"$f":"'BX Language acquisition'!D2747","v":0}]
[{"$f":"'BX Language acquisition'!A2748","v":0},{"$f":"'BX Language acquisition'!B2748","v":0},null,{"$f":"'BX Language acquisition'!C2748","v":0},{"$f":"'BX Language acquisition'!D2748","v":0}]
[{"$f":"'BX Language acquisition'!A2749","v":0},{"$f":"'BX Language acquisition'!B2749","v":0},null,{"$f":"'BX Language acquisition'!C2749","v":0},{"$f":"'BX Language acquisition'!D2749","v":0}]
[{"$f":"'BX Language acquisition'!A2750","v":0},{"$f":"'BX Language acquisition'!B2750","v":0},null,{"$f":"'BX Language acquisition'!C2750","v":0},{"$f":"'BX Language acquisition'!D2750","v":0}]
[{"$f":"'BX Language acquisition'!A2751","v":0},{"$f":"'BX Language acquisition'!B2751","v":0},null,{"$f":"'BX Language acquisition'!C2751","v":0},{"$f":"'BX Language acquisition'!D2751","v":0}]
[{"$f":"'BX Language acquisition'!A2752","v":0},{"$f":"'BX Language acquisition'!B2752","v":0},null,{"$f":"'BX Language acquisition'!C2752","v":0},{"$f":"'BX Language acquisition'!D2752","v":0}]
[{"$f":"'BX Language acquisition'!A2753","v":0},{"$f":"'BX Language acquisition'!B2753","v":0},null,{"$f":"'BX Language acquisition'!C2753","v":0},{"$f":"'BX Language acquisition'!D2753","v":0}]
[{"$f":"'BX Language acquisition'!A2754","v":0},{"$f":"'BX Language acquisition'!B2754","v":0},null,{"$f":"'BX Language acquisition'!C2754","v":0},{"$f":"'BX Language acquisition'!D2754","v":0}]
[{"$f":"'BX Language acquisition'!A2755","v":0},{"$f":"'BX Language acquisition'!B2755","v":0},null,{"$f":"'BX Language acquisition'!C2755","v":0},{"$f":"'BX Language acquisition'!D2755","v":0}]
[{"$f":"'BX Language acquisition'!A2756","v":0},{"$f":"'BX Language acquisition'!B2756","v":0},null,{"$f":"'BX Language acquisition'!C2756","v":0},{"$f":"'BX Language acquisition'!D2756","v":0}]
[{"$f":"'BX Language acquisition'!A2757","v":0},{"$f":"'BX Language acquisition'!B2757","v":0},null,{"$f":"'BX Language acquisition'!C2757","v":0},{"$f":"'BX Language acquisition'!D2757","v":0}]
[{"$f":"'BX Language acquisition'!A2758","v":0},{"$f":"'BX Language acquisition'!B2758","v":0},null,{"$f":"'BX Language acquisition'!C2758","v":0},{"$f":"'BX Language acquisition'!D2758","v":0}]
[{"$f":"'BX Language acquisition'!A2759","v":0},{"$f":"'BX Language acquisition'!B2759","v":0},null,{"$f":"'BX Language acquisition'!C2759","v":0},{"$f":"'BX Language acquisition'!D2759","v":0}]
[{"$f":"'BX Language acquisition'!A2760","v":0},{"$f":"'BX Language acquisition'!B2760","v":0},null,{"$f":"'BX Language acquisition'!C2760","v":0},{"$f":"'BX Language acquisition'!D2760","v":0}]
[{"$f":"'BX Language acquisition'!A2761","v":0},{"$f":"'BX Language acquisition'!B2761","v":0},null,{"$f":"'BX Language acquisition'!C2761","v":0},{"$f":"'BX Language acquisition'!D2761","v":0}]
[{"$f":"'BX Language acquisition'!A2762","v":0},{"$f":"'BX Language acquisition'!B2762","v":0},null,{"$f":"'BX Language acquisition'!C2762","v":0},{"$f":"'BX Language acquisition'!D2762","v":0}]
[{"$f":"'BX Language acquisition'!A2763","v":0},{"$f":"'BX Language acquisition'!B2763","v":0},null,{"$f":"'BX Language acquisition'!C2763","v":0},{"$f":"'BX Language acquisition'!D2763","v":0}]
[{"$f":"'BX Language acquisition'!A2764","v":0},{"$f":"'BX Language acquisition'!B2764","v":0},null,{"$f":"'BX Language acquisition'!C2764","v":0},{"$f":"'BX Language acquisition'!D2764","v":0}]
[{"$f":"'BX Language acquisition'!A2765","v":0},{"$f":"'BX Language acquisition'!B2765","v":0},null,{"$f":"'BX Language acquisition'!C2765","v":0},{"$f":"'BX Language acquisition'!D2765","v":0}]
[{"$f":"'BX Language acquisition'!A2766","v":0},{"$f":"'BX Language acquisition'!B2766","v":0},null,{"$f":"'BX Language acquisition'!C2766","v":0},{"$f":"'BX Language acquisition'!D2766","v":0}]
[{"$f":"'BX Language acquisition'!A2767","v":0},{"$f":"'BX Language acquisition'!B2767","v":0},null,{"$f":"'BX Language acquisition'!C2767","v":0},{"$f":"'BX Language acquisition'!D2767","v":0}]
[{"$f":"'BX Language acquisition'!A2768","v":0},{"$f":"'BX Language acquisition'!B2768","v":0},null,{"$f":"'BX Language acquisition'!C2768","v":0},{"$f":"'BX Language acquisition'!D2768","v":0}]
[{"$f":"'BX Language acquisition'!A2769","v":0},{"$f":"'BX Language acquisition'!B2769","v":0},null,{"$f":"'BX Language acquisition'!C2769","v":0},{"$f":"'BX Language acquisition'!D2769","v":0}]
[{"$f":"'BX Language acquisition'!A2770","v":0},{"$f":"'BX Language acquisition'!B2770","v":0},null,{"$f":"'BX Language acquisition'!C2770","v":0},{"$f":"'BX Language acquisition'!D2770","v":0}]
[{"$f":"'BX Language acquisition'!A2771","v":0},{"$f":"'BX Language acquisition'!B2771","v":0},null,{"$f":"'BX Language acquisition'!C2771","v":0},{"$f":"'BX Language acquisition'!D2771","v":0}]
[{"$f":"'BX Language acquisition'!A2772","v":0},{"$f":"'BX Language acquisition'!B2772","v":0},null,{"$f":"'BX Language acquisition'!C2772","v":0},{"$f":"'BX Language acquisition'!D2772","v":0}]
[{"$f":"'BX Language acquisition'!A2773","v":0},{"$f":"'BX Language acquisition'!B2773","v":0},null,{"$f":"'BX Language acquisition'!C2773","v":0},{"$f":"'BX Language acquisition'!D2773","v":0}]
[{"$f":"'BX Language acquisition'!A2774","v":0},{"$f":"'BX Language acquisition'!B2774","v":0},null,{"$f":"'BX Language acquisition'!C2774","v":0},{"$f":"'BX Language acquisition'!D2774","v":0}]
[{"$f":"'BX Language acquisition'!A2775","v":0},{"$f":"'BX Language acquisition'!B2775","v":0},null,{"$f":"'BX Language acquisition'!C2775","v":0},{"$f":"'BX Language acquisition'!D2775","v":0}]
[{"$f":"'BX Language acquisition'!A2776","v":0},{"$f":"'BX Language acquisition'!B2776","v":0},null,{"$f":"'BX Language acquisition'!C2776","v":0},{"$f":"'BX Language acquisition'!D2776","v":0}]
[{"$f":"'BX Language acquisition'!A2777","v":0},{"$f":"'BX Language acquisition'!B2777","v":0},null,{"$f":"'BX Language acquisition'!C2777","v":0},{"$f":"'BX Language acquisition'!D2777","v":0}]
[{"$f":"'BX Language acquisition'!A2778","v":0},{"$f":"'BX Language acquisition'!B2778","v":0},null,{"$f":"'BX Language acquisition'!C2778","v":0},{"$f":"'BX Language acquisition'!D2778","v":0}]
[{"$f":"'BX Language acquisition'!A2779","v":0},{"$f":"'BX Language acquisition'!B2779","v":0},null,{"$f":"'BX Language acquisition'!C2779","v":0},{"$f":"'BX Language acquisition'!D2779","v":0}]
[{"$f":"'BX Language acquisition'!A2780","v":0},{"$f":"'BX Language acquisition'!B2780","v":0},null,{"$f":"'BX Language acquisition'!C2780","v":0},{"$f":"'BX Language acquisition'!D2780","v":0}]
[{"$f":"'BX Language acquisition'!A2781","v":0},{"$f":"'BX Language acquisition'!B2781","v":0},null,{"$f":"'BX Language acquisition'!C2781","v":0},{"$f":"'BX Language acquisition'!D2781","v":0}]
[{"$f":"'BX Language acquisition'!A2782","v":0},{"$f":"'BX Language acquisition'!B2782","v":0},null,{"$f":"'BX Language acquisition'!C2782","v":0},{"$f":"'BX Language acquisition'!D2782","v":0}]
[{"$f":"'BX Language acquisition'!A2783","v":0},{"$f":"'BX Language acquisition'!B2783","v":0},null,{"$f":"'BX Language acquisition'!C2783","v":0},{"$f":"'BX Language acquisition'!D2783","v":0}]
[{"$f":"'BX Language acquisition'!A2784","v":0},{"$f":"'BX Language acquisition'!B2784","v":0},null,{"$f":"'BX Language acquisition'!C2784","v":0},{"$f":"'BX Language acquisition'!D2784","v":0}]
[{"$f":"'BX Language acquisition'!A2785","v":0},{"$f":"'BX Language acquisition'!B2785","v":0},null,{"$f":"'BX Language acquisition'!C2785","v":0},{"$f":"'BX Language acquisition'!D2785","v":0}]
[{"$f":"'BX Language acquisition'!A2786","v":0},{"$f":"'BX Language acquisition'!B2786","v":0},null,{"$f":"'BX Language acquisition'!C2786","v":0},{"$f":"'BX Language acquisition'!D2786","v":0}]
[{"$f":"'BX Language acquisition'!A2787","v":0},{"$f":"'BX Language acquisition'!B2787","v":0},null,{"$f":"'BX Language acquisition'!C2787","v":0},{"$f":"'BX Language acquisition'!D2787","v":0}]
[{"$f":"'BX Language acquisition'!A2788","v":0},{"$f":"'BX Language acquisition'!B2788","v":0},null,{"$f":"'BX Language acquisition'!C2788","v":0},{"$f":"'BX Language acquisition'!D2788","v":0}]
[{"$f":"'BX Language acquisition'!A2789","v":0},{"$f":"'BX Language acquisition'!B2789","v":0},null,{"$f":"'BX Language acquisition'!C2789","v":0},{"$f":"'BX Language acquisition'!D2789","v":0}]
[{"$f":"'BX Language acquisition'!A2790","v":0},{"$f":"'BX Language acquisition'!B2790","v":0},null,{"$f":"'BX Language acquisition'!C2790","v":0},{"$f":"'BX Language acquisition'!D2790","v":0}]
[{"$f":"'BX Language acquisition'!A2791","v":0},{"$f":"'BX Language acquisition'!B2791","v":0},null,{"$f":"'BX Language acquisition'!C2791","v":0},{"$f":"'BX Language acquisition'!D2791","v":0}]
[{"$f":"'BX Language acquisition'!A2792","v":0},{"$f":"'BX Language acquisition'!B2792","v":0},null,{"$f":"'BX Language acquisition'!C2792","v":0},{"$f":"'BX Language acquisition'!D2792","v":0}]
[{"$f":"'BX Language acquisition'!A2793","v":0},{"$f":"'BX Language acquisition'!B2793","v":0},null,{"$f":"'BX Language acquisition'!C2793","v":0},{"$f":"'BX Language acquisition'!D2793","v":0}]
[{"$f":"'BX Language acquisition'!A2794","v":0},{"$f":"'BX Language acquisition'!B2794","v":0},null,{"$f":"'BX Language acquisition'!C2794","v":0},{"$f":"'BX Language acquisition'!D2794","v":0}]
[{"$f":"'BX Language acquisition'!A2795","v":0},{"$f":"'BX Language acquisition'!B2795","v":0},null,{"$f":"'BX Language acquisition'!C2795","v":0},{"$f":"'BX Language acquisition'!D2795","v":0}]
[{"$f":"'BX Language acquisition'!A2796","v":0},{"$f":"'BX Language acquisition'!B2796","v":0},null,{"$f":"'BX Language acquisition'!C2796","v":0},{"$f":"'BX Language acquisition'!D2796","v":0}]
[{"$f":"'BX Language acquisition'!A2797","v":0},{"$f":"'BX Language acquisition'!B2797","v":0},null,{"$f":"'BX Language acquisition'!C2797","v":0},{"$f":"'BX Language acquisition'!D2797","v":0}]
[{"$f":"'BX Language acquisition'!A2798","v":0},{"$f":"'BX Language acquisition'!B2798","v":0},null,{"$f":"'BX Language acquisition'!C2798","v":0},{"$f":"'BX Language acquisition'!D2798","v":0}]
[{"$f":"'BX Language acquisition'!A2799","v":0},{"$f":"'BX Language acquisition'!B2799","v":0},null,{"$f":"'BX Language acquisition'!C2799","v":0},{"$f":"'BX Language acquisition'!D2799","v":0}]
[{"$f":"'BX Language acquisition'!A2800","v":0},{"$f":"'BX Language acquisition'!B2800","v":0},null,{"$f":"'BX Language acquisition'!C2800","v":0},{"$f":"'BX Language acquisition'!D2800","v":0}]
[{"$f":"'BX Language acquisition'!A2801","v":0},{"$f":"'BX Language acquisition'!B2801","v":0},null,{"$f":"'BX Language acquisition'!C2801","v":0},{"$f":"'BX Language acquisition'!D2801","v":0}]
[{"$f":"'BX Language acquisition'!A2802","v":0},{"$f":"'BX Language acquisition'!B2802","v":0},null,{"$f":"'BX Language acquisition'!C2802","v":0},{"$f":"'BX Language acquisition'!D2802","v":0}]
[{"$f":"'BX Language acquisition'!A2803","v":0},{"$f":"'BX Language acquisition'!B2803","v":0},null,{"$f":"'BX Language acquisition'!C2803","v":0},{"$f":"'BX Language acquisition'!D2803","v":0}]
[{"$f":"'BX Language acquisition'!A2804","v":0},{"$f":"'BX Language acquisition'!B2804","v":0},null,{"$f":"'BX Language acquisition'!C2804","v":0},{"$f":"'BX Language acquisition'!D2804","v":0}]
[{"$f":"'BX Language acquisition'!A2805","v":0},{"$f":"'BX Language acquisition'!B2805","v":0},null,{"$f":"'BX Language acquisition'!C2805","v":0},{"$f":"'BX Language acquisition'!D2805","v":0}]
[{"$f":"'BX Language acquisition'!A2806","v":0},{"$f":"'BX Language acquisition'!B2806","v":0},null,{"$f":"'BX Language acquisition'!C2806","v":0},{"$f":"'BX Language acquisition'!D2806","v":0}]
[{"$f":"'BX Language acquisition'!A2807","v":0},{"$f":"'BX Language acquisition'!B2807","v":0},null,{"$f":"'BX Language acquisition'!C2807","v":0},{"$f":"'BX Language acquisition'!D2807","v":0}]
[{"$f":"'BX Language acquisition'!A2808","v":0},{"$f":"'BX Language acquisition'!B2808","v":0},null,{"$f":"'BX Language acquisition'!C2808","v":0},{"$f":"'BX Language acquisition'!D2808","v":0}]
[{"$f":"'BX Language acquisition'!A2809","v":0},{"$f":"'BX Language acquisition'!B2809","v":0},null,{"$f":"'BX Language acquisition'!C2809","v":0},{"$f":"'BX Language acquisition'!D2809","v":0}]
[{"$f":"'BX Language acquisition'!A2810","v":0},{"$f":"'BX Language acquisition'!B2810","v":0},null,{"$f":"'BX Language acquisition'!C2810","v":0},{"$f":"'BX Language acquisition'!D2810","v":0}]
[{"$f":"'BX Language acquisition'!A2811","v":0},{"$f":"'BX Language acquisition'!B2811","v":0},null,{"$f":"'BX Language acquisition'!C2811","v":0},{"$f":"'BX Language acquisition'!D2811","v":0}]
[{"$f":"'BX Language acquisition'!A2812","v":0},{"$f":"'BX Language acquisition'!B2812","v":0},null,{"$f":"'BX Language acquisition'!C2812","v":0},{"$f":"'BX Language acquisition'!D2812","v":0}]
[{"$f":"'BX Language acquisition'!A2813","v":0},{"$f":"'BX Language acquisition'!B2813","v":0},null,{"$f":"'BX Language acquisition'!C2813","v":0},{"$f":"'BX Language acquisition'!D2813","v":0}]
[{"$f":"'BX Language acquisition'!A2814","v":0},{"$f":"'BX Language acquisition'!B2814","v":0},null,{"$f":"'BX Language acquisition'!C2814","v":0},{"$f":"'BX Language acquisition'!D2814","v":0}]
[{"$f":"'BX Language acquisition'!A2815","v":0},{"$f":"'BX Language acquisition'!B2815","v":0},null,{"$f":"'BX Language acquisition'!C2815","v":0},{"$f":"'BX Language acquisition'!D2815","v":0}]
[{"$f":"'BX Language acquisition'!A2816","v":0},{"$f":"'BX Language acquisition'!B2816","v":0},null,{"$f":"'BX Language acquisition'!C2816","v":0},{"$f":"'BX Language acquisition'!D2816","v":0}]
[{"$f":"'BX Language acquisition'!A2817","v":0},{"$f":"'BX Language acquisition'!B2817","v":0},null,{"$f":"'BX Language acquisition'!C2817","v":0},{"$f":"'BX Language acquisition'!D2817","v":0}]
[{"$f":"'BX Language acquisition'!A2818","v":0},{"$f":"'BX Language acquisition'!B2818","v":0},null,{"$f":"'BX Language acquisition'!C2818","v":0},{"$f":"'BX Language acquisition'!D2818","v":0}]
[{"$f":"'BX Language acquisition'!A2819","v":0},{"$f":"'BX Language acquisition'!B2819","v":0},null,{"$f":"'BX Language acquisition'!C2819","v":0},{"$f":"'BX Language acquisition'!D2819","v":0}]
[{"$f":"'BX Language acquisition'!A2820","v":0},{"$f":"'BX Language acquisition'!B2820","v":0},null,{"$f":"'BX Language acquisition'!C2820","v":0},{"$f":"'BX Language acquisition'!D2820","v":0}]
[{"$f":"'BX Language acquisition'!A2821","v":0},{"$f":"'BX Language acquisition'!B2821","v":0},null,{"$f":"'BX Language acquisition'!C2821","v":0},{"$f":"'BX Language acquisition'!D2821","v":0}]
[{"$f":"'BX Language acquisition'!A2822","v":0},{"$f":"'BX Language acquisition'!B2822","v":0},null,{"$f":"'BX Language acquisition'!C2822","v":0},{"$f":"'BX Language acquisition'!D2822","v":0}]
[{"$f":"'BX Language acquisition'!A2823","v":0},{"$f":"'BX Language acquisition'!B2823","v":0},null,{"$f":"'BX Language acquisition'!C2823","v":0},{"$f":"'BX Language acquisition'!D2823","v":0}]
[{"$f":"'BX Language acquisition'!A2824","v":0},{"$f":"'BX Language acquisition'!B2824","v":0},null,{"$f":"'BX Language acquisition'!C2824","v":0},{"$f":"'BX Language acquisition'!D2824","v":0}]
[{"$f":"'BX Language acquisition'!A2825","v":0},{"$f":"'BX Language acquisition'!B2825","v":0},null,{"$f":"'BX Language acquisition'!C2825","v":0},{"$f":"'BX Language acquisition'!D2825","v":0}]
[{"$f":"'BX Language acquisition'!A2826","v":0},{"$f":"'BX Language acquisition'!B2826","v":0},null,{"$f":"'BX Language acquisition'!C2826","v":0},{"$f":"'BX Language acquisition'!D2826","v":0}]
[{"$f":"'BX Language acquisition'!A2827","v":0},{"$f":"'BX Language acquisition'!B2827","v":0},null,{"$f":"'BX Language acquisition'!C2827","v":0},{"$f":"'BX Language acquisition'!D2827","v":0}]
[{"$f":"'BX Language acquisition'!A2828","v":0},{"$f":"'BX Language acquisition'!B2828","v":0},null,{"$f":"'BX Language acquisition'!C2828","v":0},{"$f":"'BX Language acquisition'!D2828","v":0}]
[{"$f":"'BX Language acquisition'!A2829","v":0},{"$f":"'BX Language acquisition'!B2829","v":0},null,{"$f":"'BX Language acquisition'!C2829","v":0},{"$f":"'BX Language acquisition'!D2829","v":0}]
[{"$f":"'BX Language acquisition'!A2830","v":0},{"$f":"'BX Language acquisition'!B2830","v":0},null,{"$f":"'BX Language acquisition'!C2830","v":0},{"$f":"'BX Language acquisition'!D2830","v":0}]
[{"$f":"'BX Language acquisition'!A2831","v":0},{"$f":"'BX Language acquisition'!B2831","v":0},null,{"$f":"'BX Language acquisition'!C2831","v":0},{"$f":"'BX Language acquisition'!D2831","v":0}]
[{"$f":"'BX Language acquisition'!A2832","v":0},{"$f":"'BX Language acquisition'!B2832","v":0},null,{"$f":"'BX Language acquisition'!C2832","v":0},{"$f":"'BX Language acquisition'!D2832","v":0}]
[{"$f":"'BX Language acquisition'!A2833","v":0},{"$f":"'BX Language acquisition'!B2833","v":0},null,{"$f":"'BX Language acquisition'!C2833","v":0},{"$f":"'BX Language acquisition'!D2833","v":0}]
[{"$f":"'BX Language acquisition'!A2834","v":0},{"$f":"'BX Language acquisition'!B2834","v":0},null,{"$f":"'BX Language acquisition'!C2834","v":0},{"$f":"'BX Language acquisition'!D2834","v":0}]
[{"$f":"'BX Language acquisition'!A2835","v":0},{"$f":"'BX Language acquisition'!B2835","v":0},null,{"$f":"'BX Language acquisition'!C2835","v":0},{"$f":"'BX Language acquisition'!D2835","v":0}]
[{"$f":"'BX Language acquisition'!A2836","v":0},{"$f":"'BX Language acquisition'!B2836","v":0},null,{"$f":"'BX Language acquisition'!C2836","v":0},{"$f":"'BX Language acquisition'!D2836","v":0}]
[{"$f":"'BX Language acquisition'!A2837","v":0},{"$f":"'BX Language acquisition'!B2837","v":0},null,{"$f":"'BX Language acquisition'!C2837","v":0},{"$f":"'BX Language acquisition'!D2837","v":0}]
[{"$f":"'BX Language acquisition'!A2838","v":0},{"$f":"'BX Language acquisition'!B2838","v":0},null,{"$f":"'BX Language acquisition'!C2838","v":0},{"$f":"'BX Language acquisition'!D2838","v":0}]
[{"$f":"'BX Language acquisition'!A2839","v":0},{"$f":"'BX Language acquisition'!B2839","v":0},null,{"$f":"'BX Language acquisition'!C2839","v":0},{"$f":"'BX Language acquisition'!D2839","v":0}]
[{"$f":"'BX Language acquisition'!A2840","v":0},{"$f":"'BX Language acquisition'!B2840","v":0},null,{"$f":"'BX Language acquisition'!C2840","v":0},{"$f":"'BX Language acquisition'!D2840","v":0}]
[{"$f":"'BX Language acquisition'!A2841","v":0},{"$f":"'BX Language acquisition'!B2841","v":0},null,{"$f":"'BX Language acquisition'!C2841","v":0},{"$f":"'BX Language acquisition'!D2841","v":0}]
[{"$f":"'BX Language acquisition'!A2842","v":0},{"$f":"'BX Language acquisition'!B2842","v":0},null,{"$f":"'BX Language acquisition'!C2842","v":0},{"$f":"'BX Language acquisition'!D2842","v":0}]
[{"$f":"'BX Language acquisition'!A2843","v":0},{"$f":"'BX Language acquisition'!B2843","v":0},null,{"$f":"'BX Language acquisition'!C2843","v":0},{"$f":"'BX Language acquisition'!D2843","v":0}]
[{"$f":"'BX Language acquisition'!A2844","v":0},{"$f":"'BX Language acquisition'!B2844","v":0},null,{"$f":"'BX Language acquisition'!C2844","v":0},{"$f":"'BX Language acquisition'!D2844","v":0}]
[{"$f":"'BX Language acquisition'!A2845","v":0},{"$f":"'BX Language acquisition'!B2845","v":0},null,{"$f":"'BX Language acquisition'!C2845","v":0},{"$f":"'BX Language acquisition'!D2845","v":0}]
[{"$f":"'BX Language acquisition'!A2846","v":0},{"$f":"'BX Language acquisition'!B2846","v":0},null,{"$f":"'BX Language acquisition'!C2846","v":0},{"$f":"'BX Language acquisition'!D2846","v":0}]
[{"$f":"'BX Language acquisition'!A2847","v":0},{"$f":"'BX Language acquisition'!B2847","v":0},null,{"$f":"'BX Language acquisition'!C2847","v":0},{"$f":"'BX Language acquisition'!D2847","v":0}]
[{"$f":"'BX Language acquisition'!A2848","v":0},{"$f":"'BX Language acquisition'!B2848","v":0},null,{"$f":"'BX Language acquisition'!C2848","v":0},{"$f":"'BX Language acquisition'!D2848","v":0}]
[{"$f":"'BX Language acquisition'!A2849","v":0},{"$f":"'BX Language acquisition'!B2849","v":0},null,{"$f":"'BX Language acquisition'!C2849","v":0},{"$f":"'BX Language acquisition'!D2849","v":0}]
[{"$f":"'BX Language acquisition'!A2850","v":0},{"$f":"'BX Language acquisition'!B2850","v":0},null,{"$f":"'BX Language acquisition'!C2850","v":0},{"$f":"'BX Language acquisition'!D2850","v":0}]
[{"$f":"'BX Language acquisition'!A2851","v":0},{"$f":"'BX Language acquisition'!B2851","v":0},null,{"$f":"'BX Language acquisition'!C2851","v":0},{"$f":"'BX Language acquisition'!D2851","v":0}]
[{"$f":"'BX Language acquisition'!A2852","v":0},{"$f":"'BX Language acquisition'!B2852","v":0},null,{"$f":"'BX Language acquisition'!C2852","v":0},{"$f":"'BX Language acquisition'!D2852","v":0}]
[{"$f":"'BX Language acquisition'!A2853","v":0},{"$f":"'BX Language acquisition'!B2853","v":0},null,{"$f":"'BX Language acquisition'!C2853","v":0},{"$f":"'BX Language acquisition'!D2853","v":0}]
[{"$f":"'BX Language acquisition'!A2854","v":0},{"$f":"'BX Language acquisition'!B2854","v":0},null,{"$f":"'BX Language acquisition'!C2854","v":0},{"$f":"'BX Language acquisition'!D2854","v":0}]
[{"$f":"'BX Language acquisition'!A2855","v":0},{"$f":"'BX Language acquisition'!B2855","v":0},null,{"$f":"'BX Language acquisition'!C2855","v":0},{"$f":"'BX Language acquisition'!D2855","v":0}]
[{"$f":"'BX Language acquisition'!A2856","v":0},{"$f":"'BX Language acquisition'!B2856","v":0},null,{"$f":"'BX Language acquisition'!C2856","v":0},{"$f":"'BX Language acquisition'!D2856","v":0}]
[{"$f":"'BX Language acquisition'!A2857","v":0},{"$f":"'BX Language acquisition'!B2857","v":0},null,{"$f":"'BX Language acquisition'!C2857","v":0},{"$f":"'BX Language acquisition'!D2857","v":0}]
[{"$f":"'BX Language acquisition'!A2858","v":0},{"$f":"'BX Language acquisition'!B2858","v":0},null,{"$f":"'BX Language acquisition'!C2858","v":0},{"$f":"'BX Language acquisition'!D2858","v":0}]
[{"$f":"'BX Language acquisition'!A2859","v":0},{"$f":"'BX Language acquisition'!B2859","v":0},null,{"$f":"'BX Language acquisition'!C2859","v":0},{"$f":"'BX Language acquisition'!D2859","v":0}]
[{"$f":"'BX Language acquisition'!A2860","v":0},{"$f":"'BX Language acquisition'!B2860","v":0},null,{"$f":"'BX Language acquisition'!C2860","v":0},{"$f":"'BX Language acquisition'!D2860","v":0}]
[{"$f":"'BX Language acquisition'!A2861","v":0},{"$f":"'BX Language acquisition'!B2861","v":0},null,{"$f":"'BX Language acquisition'!C2861","v":0},{"$f":"'BX Language acquisition'!D2861","v":0}]
[{"$f":"'BX Language acquisition'!A2862","v":0},{"$f":"'BX Language acquisition'!B2862","v":0},null,{"$f":"'BX Language acquisition'!C2862","v":0},{"$f":"'BX Language acquisition'!D2862","v":0}]
[{"$f":"'BX Language acquisition'!A2863","v":0},{"$f":"'BX Language acquisition'!B2863","v":0},null,{"$f":"'BX Language acquisition'!C2863","v":0},{"$f":"'BX Language acquisition'!D2863","v":0}]
[{"$f":"'BX Language acquisition'!A2864","v":0},{"$f":"'BX Language acquisition'!B2864","v":0},null,{"$f":"'BX Language acquisition'!C2864","v":0},{"$f":"'BX Language acquisition'!D2864","v":0}]
[{"$f":"'BX Language acquisition'!A2865","v":0},{"$f":"'BX Language acquisition'!B2865","v":0},null,{"$f":"'BX Language acquisition'!C2865","v":0},{"$f":"'BX Language acquisition'!D2865","v":0}]
[{"$f":"'BX Language acquisition'!A2866","v":0},{"$f":"'BX Language acquisition'!B2866","v":0},null,{"$f":"'BX Language acquisition'!C2866","v":0},{"$f":"'BX Language acquisition'!D2866","v":0}]
[{"$f":"'BX Language acquisition'!A2867","v":0},{"$f":"'BX Language acquisition'!B2867","v":0},null,{"$f":"'BX Language acquisition'!C2867","v":0},{"$f":"'BX Language acquisition'!D2867","v":0}]
[{"$f":"'BX Language acquisition'!A2868","v":0},{"$f":"'BX Language acquisition'!B2868","v":0},null,{"$f":"'BX Language acquisition'!C2868","v":0},{"$f":"'BX Language acquisition'!D2868","v":0}]
[{"$f":"'BX Language acquisition'!A2869","v":0},{"$f":"'BX Language acquisition'!B2869","v":0},null,{"$f":"'BX Language acquisition'!C2869","v":0},{"$f":"'BX Language acquisition'!D2869","v":0}]
[{"$f":"'BX Language acquisition'!A2870","v":0},{"$f":"'BX Language acquisition'!B2870","v":0},null,{"$f":"'BX Language acquisition'!C2870","v":0},{"$f":"'BX Language acquisition'!D2870","v":0}]
[{"$f":"'BX Language acquisition'!A2871","v":0},{"$f":"'BX Language acquisition'!B2871","v":0},null,{"$f":"'BX Language acquisition'!C2871","v":0},{"$f":"'BX Language acquisition'!D2871","v":0}]
[{"$f":"'BX Language acquisition'!A2872","v":0},{"$f":"'BX Language acquisition'!B2872","v":0},null,{"$f":"'BX Language acquisition'!C2872","v":0},{"$f":"'BX Language acquisition'!D2872","v":0}]
[{"$f":"'BX Language acquisition'!A2873","v":0},{"$f":"'BX Language acquisition'!B2873","v":0},null,{"$f":"'BX Language acquisition'!C2873","v":0},{"$f":"'BX Language acquisition'!D2873","v":0}]
[{"$f":"'BX Language acquisition'!A2874","v":0},{"$f":"'BX Language acquisition'!B2874","v":0},null,{"$f":"'BX Language acquisition'!C2874","v":0},{"$f":"'BX Language acquisition'!D2874","v":0}]
[{"$f":"'BX Language acquisition'!A2875","v":0},{"$f":"'BX Language acquisition'!B2875","v":0},null,{"$f":"'BX Language acquisition'!C2875","v":0},{"$f":"'BX Language acquisition'!D2875","v":0}]
[{"$f":"'BX Language acquisition'!A2876","v":0},{"$f":"'BX Language acquisition'!B2876","v":0},null,{"$f":"'BX Language acquisition'!C2876","v":0},{"$f":"'BX Language acquisition'!D2876","v":0}]
[{"$f":"'BX Language acquisition'!A2877","v":0},{"$f":"'BX Language acquisition'!B2877","v":0},null,{"$f":"'BX Language acquisition'!C2877","v":0},{"$f":"'BX Language acquisition'!D2877","v":0}]
[{"$f":"'BX Language acquisition'!A2878","v":0},{"$f":"'BX Language acquisition'!B2878","v":0},null,{"$f":"'BX Language acquisition'!C2878","v":0},{"$f":"'BX Language acquisition'!D2878","v":0}]
[{"$f":"'BX Language acquisition'!A2879","v":0},{"$f":"'BX Language acquisition'!B2879","v":0},null,{"$f":"'BX Language acquisition'!C2879","v":0},{"$f":"'BX Language acquisition'!D2879","v":0}]
[{"$f":"'BX Language acquisition'!A2880","v":0},{"$f":"'BX Language acquisition'!B2880","v":0},null,{"$f":"'BX Language acquisition'!C2880","v":0},{"$f":"'BX Language acquisition'!D2880","v":0}]
[{"$f":"'BX Language acquisition'!A2881","v":0},{"$f":"'BX Language acquisition'!B2881","v":0},null,{"$f":"'BX Language acquisition'!C2881","v":0},{"$f":"'BX Language acquisition'!D2881","v":0}]
[{"$f":"'BX Language acquisition'!A2882","v":0},{"$f":"'BX Language acquisition'!B2882","v":0},null,{"$f":"'BX Language acquisition'!C2882","v":0},{"$f":"'BX Language acquisition'!D2882","v":0}]
[{"$f":"'BX Language acquisition'!A2883","v":0},{"$f":"'BX Language acquisition'!B2883","v":0},null,{"$f":"'BX Language acquisition'!C2883","v":0},{"$f":"'BX Language acquisition'!D2883","v":0}]
[{"$f":"'BX Language acquisition'!A2884","v":0},{"$f":"'BX Language acquisition'!B2884","v":0},null,{"$f":"'BX Language acquisition'!C2884","v":0},{"$f":"'BX Language acquisition'!D2884","v":0}]
[{"$f":"'BX Language acquisition'!A2885","v":0},{"$f":"'BX Language acquisition'!B2885","v":0},null,{"$f":"'BX Language acquisition'!C2885","v":0},{"$f":"'BX Language acquisition'!D2885","v":0}]
[{"$f":"'BX Language acquisition'!A2886","v":0},{"$f":"'BX Language acquisition'!B2886","v":0},null,{"$f":"'BX Language acquisition'!C2886","v":0},{"$f":"'BX Language acquisition'!D2886","v":0}]
[{"$f":"'BX Language acquisition'!A2887","v":0},{"$f":"'BX Language acquisition'!B2887","v":0},null,{"$f":"'BX Language acquisition'!C2887","v":0},{"$f":"'BX Language acquisition'!D2887","v":0}]
[{"$f":"'BX Language acquisition'!A2888","v":0},{"$f":"'BX Language acquisition'!B2888","v":0},null,{"$f":"'BX Language acquisition'!C2888","v":0},{"$f":"'BX Language acquisition'!D2888","v":0}]
[{"$f":"'BX Language acquisition'!A2889","v":0},{"$f":"'BX Language acquisition'!B2889","v":0},null,{"$f":"'BX Language acquisition'!C2889","v":0},{"$f":"'BX Language acquisition'!D2889","v":0}]
[{"$f":"'BX Language acquisition'!A2890","v":0},{"$f":"'BX Language acquisition'!B2890","v":0},null,{"$f":"'BX Language acquisition'!C2890","v":0},{"$f":"'BX Language acquisition'!D2890","v":0}]
[{"$f":"'BX Language acquisition'!A2891","v":0},{"$f":"'BX Language acquisition'!B2891","v":0},null,{"$f":"'BX Language acquisition'!C2891","v":0},{"$f":"'BX Language acquisition'!D2891","v":0}]
[{"$f":"'BX Language acquisition'!A2892","v":0},{"$f":"'BX Language acquisition'!B2892","v":0},null,{"$f":"'BX Language acquisition'!C2892","v":0},{"$f":"'BX Language acquisition'!D2892","v":0}]
[{"$f":"'BX Language acquisition'!A2893","v":0},{"$f":"'BX Language acquisition'!B2893","v":0},null,{"$f":"'BX Language acquisition'!C2893","v":0},{"$f":"'BX Language acquisition'!D2893","v":0}]
[{"$f":"'BX Language acquisition'!A2894","v":0},{"$f":"'BX Language acquisition'!B2894","v":0},null,{"$f":"'BX Language acquisition'!C2894","v":0},{"$f":"'BX Language acquisition'!D2894","v":0}]
[{"$f":"'BX Language acquisition'!A2895","v":0},{"$f":"'BX Language acquisition'!B2895","v":0},null,{"$f":"'BX Language acquisition'!C2895","v":0},{"$f":"'BX Language acquisition'!D2895","v":0}]
[{"$f":"'BX Language acquisition'!A2896","v":0},{"$f":"'BX Language acquisition'!B2896","v":0},null,{"$f":"'BX Language acquisition'!C2896","v":0},{"$f":"'BX Language acquisition'!D2896","v":0}]
[{"$f":"'BX Language acquisition'!A2897","v":0},{"$f":"'BX Language acquisition'!B2897","v":0},null,{"$f":"'BX Language acquisition'!C2897","v":0},{"$f":"'BX Language acquisition'!D2897","v":0}]
[{"$f":"'BX Language acquisition'!A2898","v":0},{"$f":"'BX Language acquisition'!B2898","v":0},null,{"$f":"'BX Language acquisition'!C2898","v":0},{"$f":"'BX Language acquisition'!D2898","v":0}]
[{"$f":"'BX Language acquisition'!A2899","v":0},{"$f":"'BX Language acquisition'!B2899","v":0},null,{"$f":"'BX Language acquisition'!C2899","v":0},{"$f":"'BX Language acquisition'!D2899","v":0}]
[{"$f":"'BX Language acquisition'!A2900","v":0},{"$f":"'BX Language acquisition'!B2900","v":0},null,{"$f":"'BX Language acquisition'!C2900","v":0},{"$f":"'BX Language acquisition'!D2900","v":0}]
[{"$f":"'BX Language acquisition'!A2901","v":0},{"$f":"'BX Language acquisition'!B2901","v":0},null,{"$f":"'BX Language acquisition'!C2901","v":0},{"$f":"'BX Language acquisition'!D2901","v":0}]
[{"$f":"'BX Language acquisition'!A2902","v":0},{"$f":"'BX Language acquisition'!B2902","v":0},null,{"$f":"'BX Language acquisition'!C2902","v":0},{"$f":"'BX Language acquisition'!D2902","v":0}]
[{"$f":"'BX Language acquisition'!A2903","v":0},{"$f":"'BX Language acquisition'!B2903","v":0},null,{"$f":"'BX Language acquisition'!C2903","v":0},{"$f":"'BX Language acquisition'!D2903","v":0}]
[{"$f":"'BX Language acquisition'!A2904","v":0},{"$f":"'BX Language acquisition'!B2904","v":0},null,{"$f":"'BX Language acquisition'!C2904","v":0},{"$f":"'BX Language acquisition'!D2904","v":0}]
[{"$f":"'BX Language acquisition'!A2905","v":0},{"$f":"'BX Language acquisition'!B2905","v":0},null,{"$f":"'BX Language acquisition'!C2905","v":0},{"$f":"'BX Language acquisition'!D2905","v":0}]
[{"$f":"'BX Language acquisition'!A2906","v":0},{"$f":"'BX Language acquisition'!B2906","v":0},null,{"$f":"'BX Language acquisition'!C2906","v":0},{"$f":"'BX Language acquisition'!D2906","v":0}]
[{"$f":"'BX Language acquisition'!A2907","v":0},{"$f":"'BX Language acquisition'!B2907","v":0},null,{"$f":"'BX Language acquisition'!C2907","v":0},{"$f":"'BX Language acquisition'!D2907","v":0}]
[{"$f":"'BX Language acquisition'!A2908","v":0},{"$f":"'BX Language acquisition'!B2908","v":0},null,{"$f":"'BX Language acquisition'!C2908","v":0},{"$f":"'BX Language acquisition'!D2908","v":0}]
[{"$f":"'BX Language acquisition'!A2909","v":0},{"$f":"'BX Language acquisition'!B2909","v":0},null,{"$f":"'BX Language acquisition'!C2909","v":0},{"$f":"'BX Language acquisition'!D2909","v":0}]
[{"$f":"'BX Language acquisition'!A2910","v":0},{"$f":"'BX Language acquisition'!B2910","v":0},null,{"$f":"'BX Language acquisition'!C2910","v":0},{"$f":"'BX Language acquisition'!D2910","v":0}]
[{"$f":"'BX Language acquisition'!A2911","v":0},{"$f":"'BX Language acquisition'!B2911","v":0},null,{"$f":"'BX Language acquisition'!C2911","v":0},{"$f":"'BX Language acquisition'!D2911","v":0}]
[{"$f":"'BX Language acquisition'!A2912","v":0},{"$f":"'BX Language acquisition'!B2912","v":0},null,{"$f":"'BX Language acquisition'!C2912","v":0},{"$f":"'BX Language acquisition'!D2912","v":0}]
[{"$f":"'BX Language acquisition'!A2913","v":0},{"$f":"'BX Language acquisition'!B2913","v":0},null,{"$f":"'BX Language acquisition'!C2913","v":0},{"$f":"'BX Language acquisition'!D2913","v":0}]
[{"$f":"'BX Language acquisition'!A2914","v":0},{"$f":"'BX Language acquisition'!B2914","v":0},null,{"$f":"'BX Language acquisition'!C2914","v":0},{"$f":"'BX Language acquisition'!D2914","v":0}]
[{"$f":"'BX Language acquisition'!A2915","v":0},{"$f":"'BX Language acquisition'!B2915","v":0},null,{"$f":"'BX Language acquisition'!C2915","v":0},{"$f":"'BX Language acquisition'!D2915","v":0}]
[{"$f":"'BX Language acquisition'!A2916","v":0},{"$f":"'BX Language acquisition'!B2916","v":0},null,{"$f":"'BX Language acquisition'!C2916","v":0},{"$f":"'BX Language acquisition'!D2916","v":0}]
[{"$f":"'BX Language acquisition'!A2917","v":0},{"$f":"'BX Language acquisition'!B2917","v":0},null,{"$f":"'BX Language acquisition'!C2917","v":0},{"$f":"'BX Language acquisition'!D2917","v":0}]
[{"$f":"'BX Language acquisition'!A2918","v":0},{"$f":"'BX Language acquisition'!B2918","v":0},null,{"$f":"'BX Language acquisition'!C2918","v":0},{"$f":"'BX Language acquisition'!D2918","v":0}]
[{"$f":"'BX Language acquisition'!A2919","v":0},{"$f":"'BX Language acquisition'!B2919","v":0},null,{"$f":"'BX Language acquisition'!C2919","v":0},{"$f":"'BX Language acquisition'!D2919","v":0}]
[{"$f":"'BX Language acquisition'!A2920","v":0},{"$f":"'BX Language acquisition'!B2920","v":0},null,{"$f":"'BX Language acquisition'!C2920","v":0},{"$f":"'BX Language acquisition'!D2920","v":0}]
[{"$f":"'BX Language acquisition'!A2921","v":0},{"$f":"'BX Language acquisition'!B2921","v":0},null,{"$f":"'BX Language acquisition'!C2921","v":0},{"$f":"'BX Language acquisition'!D2921","v":0}]
[{"$f":"'BX Language acquisition'!A2922","v":0},{"$f":"'BX Language acquisition'!B2922","v":0},null,{"$f":"'BX Language acquisition'!C2922","v":0},{"$f":"'BX Language acquisition'!D2922","v":0}]
[{"$f":"'BX Language acquisition'!A2923","v":0},{"$f":"'BX Language acquisition'!B2923","v":0},null,{"$f":"'BX Language acquisition'!C2923","v":0},{"$f":"'BX Language acquisition'!D2923","v":0}]
[{"$f":"'BX Language acquisition'!A2924","v":0},{"$f":"'BX Language acquisition'!B2924","v":0},null,{"$f":"'BX Language acquisition'!C2924","v":0},{"$f":"'BX Language acquisition'!D2924","v":0}]
[{"$f":"'BX Language acquisition'!A2925","v":0},{"$f":"'BX Language acquisition'!B2925","v":0},null,{"$f":"'BX Language acquisition'!C2925","v":0},{"$f":"'BX Language acquisition'!D2925","v":0}]
[{"$f":"'BX Language acquisition'!A2926","v":0},{"$f":"'BX Language acquisition'!B2926","v":0},null,{"$f":"'BX Language acquisition'!C2926","v":0},{"$f":"'BX Language acquisition'!D2926","v":0}]
[{"$f":"'BX Language acquisition'!A2927","v":0},{"$f":"'BX Language acquisition'!B2927","v":0},null,{"$f":"'BX Language acquisition'!C2927","v":0},{"$f":"'BX Language acquisition'!D2927","v":0}]
[{"$f":"'BX Language acquisition'!A2928","v":0},{"$f":"'BX Language acquisition'!B2928","v":0},null,{"$f":"'BX Language acquisition'!C2928","v":0},{"$f":"'BX Language acquisition'!D2928","v":0}]
[{"$f":"'BX Language acquisition'!A2929","v":0},{"$f":"'BX Language acquisition'!B2929","v":0},null,{"$f":"'BX Language acquisition'!C2929","v":0},{"$f":"'BX Language acquisition'!D2929","v":0}]
[{"$f":"'BX Language acquisition'!A2930","v":0},{"$f":"'BX Language acquisition'!B2930","v":0},null,{"$f":"'BX Language acquisition'!C2930","v":0},{"$f":"'BX Language acquisition'!D2930","v":0}]
[{"$f":"'BX Language acquisition'!A2931","v":0},{"$f":"'BX Language acquisition'!B2931","v":0},null,{"$f":"'BX Language acquisition'!C2931","v":0},{"$f":"'BX Language acquisition'!D2931","v":0}]
[{"$f":"'BX Language acquisition'!A2932","v":0},{"$f":"'BX Language acquisition'!B2932","v":0},null,{"$f":"'BX Language acquisition'!C2932","v":0},{"$f":"'BX Language acquisition'!D2932","v":0}]
[{"$f":"'BX Language acquisition'!A2933","v":0},{"$f":"'BX Language acquisition'!B2933","v":0},null,{"$f":"'BX Language acquisition'!C2933","v":0},{"$f":"'BX Language acquisition'!D2933","v":0}]
[{"$f":"'BX Language acquisition'!A2934","v":0},{"$f":"'BX Language acquisition'!B2934","v":0},null,{"$f":"'BX Language acquisition'!C2934","v":0},{"$f":"'BX Language acquisition'!D2934","v":0}]
[{"$f":"'BX Language acquisition'!A2935","v":0},{"$f":"'BX Language acquisition'!B2935","v":0},null,{"$f":"'BX Language acquisition'!C2935","v":0},{"$f":"'BX Language acquisition'!D2935","v":0}]
[{"$f":"'BX Language acquisition'!A2936","v":0},{"$f":"'BX Language acquisition'!B2936","v":0},null,{"$f":"'BX Language acquisition'!C2936","v":0},{"$f":"'BX Language acquisition'!D2936","v":0}]
[{"$f":"'BX Language acquisition'!A2937","v":0},{"$f":"'BX Language acquisition'!B2937","v":0},null,{"$f":"'BX Language acquisition'!C2937","v":0},{"$f":"'BX Language acquisition'!D2937","v":0}]
[{"$f":"'BX Language acquisition'!A2938","v":0},{"$f":"'BX Language acquisition'!B2938","v":0},null,{"$f":"'BX Language acquisition'!C2938","v":0},{"$f":"'BX Language acquisition'!D2938","v":0}]
[{"$f":"'BX Language acquisition'!A2939","v":0},{"$f":"'BX Language acquisition'!B2939","v":0},null,{"$f":"'BX Language acquisition'!C2939","v":0},{"$f":"'BX Language acquisition'!D2939","v":0}]
[{"$f":"'BX Language acquisition'!A2940","v":0},{"$f":"'BX Language acquisition'!B2940","v":0},null,{"$f":"'BX Language acquisition'!C2940","v":0},{"$f":"'BX Language acquisition'!D2940","v":0}]
[{"$f":"'BX Language acquisition'!A2941","v":0},{"$f":"'BX Language acquisition'!B2941","v":0},null,{"$f":"'BX Language acquisition'!C2941","v":0},{"$f":"'BX Language acquisition'!D2941","v":0}]
[{"$f":"'BX Language acquisition'!A2942","v":0},{"$f":"'BX Language acquisition'!B2942","v":0},null,{"$f":"'BX Language acquisition'!C2942","v":0},{"$f":"'BX Language acquisition'!D2942","v":0}]
[{"$f":"'BX Language acquisition'!A2943","v":0},{"$f":"'BX Language acquisition'!B2943","v":0},null,{"$f":"'BX Language acquisition'!C2943","v":0},{"$f":"'BX Language acquisition'!D2943","v":0}]
[{"$f":"'BX Language acquisition'!A2944","v":0},{"$f":"'BX Language acquisition'!B2944","v":0},null,{"$f":"'BX Language acquisition'!C2944","v":0},{"$f":"'BX Language acquisition'!D2944","v":0}]
[{"$f":"'BX Language acquisition'!A2945","v":0},{"$f":"'BX Language acquisition'!B2945","v":0},null,{"$f":"'BX Language acquisition'!C2945","v":0},{"$f":"'BX Language acquisition'!D2945","v":0}]
[{"$f":"'BX Language acquisition'!A2946","v":0},{"$f":"'BX Language acquisition'!B2946","v":0},null,{"$f":"'BX Language acquisition'!C2946","v":0},{"$f":"'BX Language acquisition'!D2946","v":0}]
[{"$f":"'BX Language acquisition'!A2947","v":0},{"$f":"'BX Language acquisition'!B2947","v":0},null,{"$f":"'BX Language acquisition'!C2947","v":0},{"$f":"'BX Language acquisition'!D2947","v":0}]
[{"$f":"'BX Language acquisition'!A2948","v":0},{"$f":"'BX Language acquisition'!B2948","v":0},null,{"$f":"'BX Language acquisition'!C2948","v":0},{"$f":"'BX Language acquisition'!D2948","v":0}]
[{"$f":"'BX Language acquisition'!A2949","v":0},{"$f":"'BX Language acquisition'!B2949","v":0},null,{"$f":"'BX Language acquisition'!C2949","v":0},{"$f":"'BX Language acquisition'!D2949","v":0}]
[{"$f":"'BX Language acquisition'!A2950","v":0},{"$f":"'BX Language acquisition'!B2950","v":0},null,{"$f":"'BX Language acquisition'!C2950","v":0},{"$f":"'BX Language acquisition'!D2950","v":0}]
[{"$f":"'BX Language acquisition'!A2951","v":0},{"$f":"'BX Language acquisition'!B2951","v":0},null,{"$f":"'BX Language acquisition'!C2951","v":0},{"$f":"'BX Language acquisition'!D2951","v":0}]
[{"$f":"'BX Language acquisition'!A2952","v":0},{"$f":"'BX Language acquisition'!B2952","v":0},null,{"$f":"'BX Language acquisition'!C2952","v":0},{"$f":"'BX Language acquisition'!D2952","v":0}]
[{"$f":"'BX Language acquisition'!A2953","v":0},{"$f":"'BX Language acquisition'!B2953","v":0},null,{"$f":"'BX Language acquisition'!C2953","v":0},{"$f":"'BX Language acquisition'!D2953","v":0}]
[{"$f":"'BX Language acquisition'!A2954","v":0},{"$f":"'BX Language acquisition'!B2954","v":0},null,{"$f":"'BX Language acquisition'!C2954","v":0},{"$f":"'BX Language acquisition'!D2954","v":0}]
[{"$f":"'BX Language acquisition'!A2955","v":0},{"$f":"'BX Language acquisition'!B2955","v":0},null,{"$f":"'BX Language acquisition'!C2955","v":0},{"$f":"'BX Language acquisition'!D2955","v":0}]
[{"$f":"'BX Language acquisition'!A2956","v":0},{"$f":"'BX Language acquisition'!B2956","v":0},null,{"$f":"'BX Language acquisition'!C2956","v":0},{"$f":"'BX Language acquisition'!D2956","v":0}]
[{"$f":"'BX Language acquisition'!A2957","v":0},{"$f":"'BX Language acquisition'!B2957","v":0},null,{"$f":"'BX Language acquisition'!C2957","v":0},{"$f":"'BX Language acquisition'!D2957","v":0}]
[{"$f":"'BX Language acquisition'!A2958","v":0},{"$f":"'BX Language acquisition'!B2958","v":0},null,{"$f":"'BX Language acquisition'!C2958","v":0},{"$f":"'BX Language acquisition'!D2958","v":0}]
[{"$f":"'BX Language acquisition'!A2959","v":0},{"$f":"'BX Language acquisition'!B2959","v":0},null,{"$f":"'BX Language acquisition'!C2959","v":0},{"$f":"'BX Language acquisition'!D2959","v":0}]
[{"$f":"'BX Language acquisition'!A2960","v":0},{"$f":"'BX Language acquisition'!B2960","v":0},null,{"$f":"'BX Language acquisition'!C2960","v":0},{"$f":"'BX Language acquisition'!D2960","v":0}]
[{"$f":"'BX Language acquisition'!A2961","v":0},{"$f":"'BX Language acquisition'!B2961","v":0},null,{"$f":"'BX Language acquisition'!C2961","v":0},{"$f":"'BX Language acquisition'!D2961","v":0}]
[{"$f":"'BX Language acquisition'!A2962","v":0},{"$f":"'BX Language acquisition'!B2962","v":0},null,{"$f":"'BX Language acquisition'!C2962","v":0},{"$f":"'BX Language acquisition'!D2962","v":0}]
[{"$f":"'BX Language acquisition'!A2963","v":0},{"$f":"'BX Language acquisition'!B2963","v":0},null,{"$f":"'BX Language acquisition'!C2963","v":0},{"$f":"'BX Language acquisition'!D2963","v":0}]
[{"$f":"'BX Language acquisition'!A2964","v":0},{"$f":"'BX Language acquisition'!B2964","v":0},null,{"$f":"'BX Language acquisition'!C2964","v":0},{"$f":"'BX Language acquisition'!D2964","v":0}]
[{"$f":"'BX Language acquisition'!A2965","v":0},{"$f":"'BX Language acquisition'!B2965","v":0},null,{"$f":"'BX Language acquisition'!C2965","v":0},{"$f":"'BX Language acquisition'!D2965","v":0}]
[{"$f":"'BX Language acquisition'!A2966","v":0},{"$f":"'BX Language acquisition'!B2966","v":0},null,{"$f":"'BX Language acquisition'!C2966","v":0},{"$f":"'BX Language acquisition'!D2966","v":0}]
[{"$f":"'BX Language acquisition'!A2967","v":0},{"$f":"'BX Language acquisition'!B2967","v":0},null,{"$f":"'BX Language acquisition'!C2967","v":0},{"$f":"'BX Language acquisition'!D2967","v":0}]
[{"$f":"'BX Language acquisition'!A2968","v":0},{"$f":"'BX Language acquisition'!B2968","v":0},null,{"$f":"'BX Language acquisition'!C2968","v":0},{"$f":"'BX Language acquisition'!D2968","v":0}]
[{"$f":"'BX Language acquisition'!A2969","v":0},{"$f":"'BX Language acquisition'!B2969","v":0},null,{"$f":"'BX Language acquisition'!C2969","v":0},{"$f":"'BX Language acquisition'!D2969","v":0}]
[{"$f":"'BX Language acquisition'!A2970","v":0},{"$f":"'BX Language acquisition'!B2970","v":0},null,{"$f":"'BX Language acquisition'!C2970","v":0},{"$f":"'BX Language acquisition'!D2970","v":0}]
[{"$f":"'BX Language acquisition'!A2971","v":0},{"$f":"'BX Language acquisition'!B2971","v":0},null,{"$f":"'BX Language acquisition'!C2971","v":0},{"$f":"'BX Language acquisition'!D2971","v":0}]
[{"$f":"'BX Language acquisition'!A2972","v":0},{"$f":"'BX Language acquisition'!B2972","v":0},null,{"$f":"'BX Language acquisition'!C2972","v":0},{"$f":"'BX Language acquisition'!D2972","v":0}]
[{"$f":"'BX Language acquisition'!A2973","v":0},{"$f":"'BX Language acquisition'!B2973","v":0},null,{"$f":"'BX Language acquisition'!C2973","v":0},{"$f":"'BX Language acquisition'!D2973","v":0}]
[{"$f":"'BX Language acquisition'!A2974","v":0},{"$f":"'BX Language acquisition'!B2974","v":0},null,{"$f":"'BX Language acquisition'!C2974","v":0},{"$f":"'BX Language acquisition'!D2974","v":0}]
[{"$f":"'BX Language acquisition'!A2975","v":0},{"$f":"'BX Language acquisition'!B2975","v":0},null,{"$f":"'BX Language acquisition'!C2975","v":0},{"$f":"'BX Language acquisition'!D2975","v":0}]
[{"$f":"'BX Language acquisition'!A2976","v":0},{"$f":"'BX Language acquisition'!B2976","v":0},null,{"$f":"'BX Language acquisition'!C2976","v":0},{"$f":"'BX Language acquisition'!D2976","v":0}]
[{"$f":"'BX Language acquisition'!A2977","v":0},{"$f":"'BX Language acquisition'!B2977","v":0},null,{"$f":"'BX Language acquisition'!C2977","v":0},{"$f":"'BX Language acquisition'!D2977","v":0}]
[{"$f":"'BX Language acquisition'!A2978","v":0},{"$f":"'BX Language acquisition'!B2978","v":0},null,{"$f":"'BX Language acquisition'!C2978","v":0},{"$f":"'BX Language acquisition'!D2978","v":0}]
[{"$f":"'BX Language acquisition'!A2979","v":0},{"$f":"'BX Language acquisition'!B2979","v":0},null,{"$f":"'BX Language acquisition'!C2979","v":0},{"$f":"'BX Language acquisition'!D2979","v":0}]
[{"$f":"'BX Language acquisition'!A2980","v":0},{"$f":"'BX Language acquisition'!B2980","v":0},null,{"$f":"'BX Language acquisition'!C2980","v":0},{"$f":"'BX Language acquisition'!D2980","v":0}]
[{"$f":"'BX Language acquisition'!A2981","v":0},{"$f":"'BX Language acquisition'!B2981","v":0},null,{"$f":"'BX Language acquisition'!C2981","v":0},{"$f":"'BX Language acquisition'!D2981","v":0}]
[{"$f":"'BX Language acquisition'!A2982","v":0},{"$f":"'BX Language acquisition'!B2982","v":0},null,{"$f":"'BX Language acquisition'!C2982","v":0},{"$f":"'BX Language acquisition'!D2982","v":0}]
[{"$f":"'BX Language acquisition'!A2983","v":0},{"$f":"'BX Language acquisition'!B2983","v":0},null,{"$f":"'BX Language acquisition'!C2983","v":0},{"$f":"'BX Language acquisition'!D2983","v":0}]
[{"$f":"'BX Language acquisition'!A2984","v":0},{"$f":"'BX Language acquisition'!B2984","v":0},null,{"$f":"'BX Language acquisition'!C2984","v":0},{"$f":"'BX Language acquisition'!D2984","v":0}]
[{"$f":"'BX Language acquisition'!A2985","v":0},{"$f":"'BX Language acquisition'!B2985","v":0},null,{"$f":"'BX Language acquisition'!C2985","v":0},{"$f":"'BX Language acquisition'!D2985","v":0}]
[{"$f":"'BX Language acquisition'!A2986","v":0},{"$f":"'BX Language acquisition'!B2986","v":0},null,{"$f":"'BX Language acquisition'!C2986","v":0},{"$f":"'BX Language acquisition'!D2986","v":0}]
[{"$f":"'BX Language acquisition'!A2987","v":0},{"$f":"'BX Language acquisition'!B2987","v":0},null,{"$f":"'BX Language acquisition'!C2987","v":0},{"$f":"'BX Language acquisition'!D2987","v":0}]
[{"$f":"'BX Language acquisition'!A2988","v":0},{"$f":"'BX Language acquisition'!B2988","v":0},null,{"$f":"'BX Language acquisition'!C2988","v":0},{"$f":"'BX Language acquisition'!D2988","v":0}]
[{"$f":"'BX Language acquisition'!A2989","v":0},{"$f":"'BX Language acquisition'!B2989","v":0},null,{"$f":"'BX Language acquisition'!C2989","v":0},{"$f":"'BX Language acquisition'!D2989","v":0}]
[{"$f":"'BX Language acquisition'!A2990","v":0},{"$f":"'BX Language acquisition'!B2990","v":0},null,{"$f":"'BX Language acquisition'!C2990","v":0},{"$f":"'BX Language acquisition'!D2990","v":0}]
[{"$f":"'BX Language acquisition'!A2991","v":0},{"$f":"'BX Language acquisition'!B2991","v":0},null,{"$f":"'BX Language acquisition'!C2991","v":0},{"$f":"'BX Language acquisition'!D2991","v":0}]
[{"$f":"'BX Language acquisition'!A2992","v":0},{"$f":"'BX Language acquisition'!B2992","v":0},null,{"$f":"'BX Language acquisition'!C2992","v":0},{"$f":"'BX Language acquisition'!D2992","v":0}]
[{"$f":"'BX Language acquisition'!A2993","v":0},{"$f":"'BX Language acquisition'!B2993","v":0},null,{"$f":"'BX Language acquisition'!C2993","v":0},{"$f":"'BX Language acquisition'!D2993","v":0}]
[{"$f":"'BX Language acquisition'!A2994","v":0},{"$f":"'BX Language acquisition'!B2994","v":0},null,{"$f":"'BX Language acquisition'!C2994","v":0},{"$f":"'BX Language acquisition'!D2994","v":0}]
[{"$f":"'BX Language acquisition'!A2995","v":0},{"$f":"'BX Language acquisition'!B2995","v":0},null,{"$f":"'BX Language acquisition'!C2995","v":0},{"$f":"'BX Language acquisition'!D2995","v":0}]
[{"$f":"'BX Language acquisition'!A2996","v":0},{"$f":"'BX Language acquisition'!B2996","v":0},null,{"$f":"'BX Language acquisition'!C2996","v":0},{"$f":"'BX Language acquisition'!D2996","v":0}]
[{"$f":"'BX Language acquisition'!A2997","v":0},{"$f":"'BX Language acquisition'!B2997","v":0},null,{"$f":"'BX Language acquisition'!C2997","v":0},{"$f":"'BX Language acquisition'!D2997","v":0}]
[{"$f":"'BX Language acquisition'!A2998","v":0},{"$f":"'BX Language acquisition'!B2998","v":0},null,{"$f":"'BX Language acquisition'!C2998","v":0},{"$f":"'BX Language acquisition'!D2998","v":0}]
[{"$f":"'BX Language acquisition'!A2999","v":0},{"$f":"'BX Language acquisition'!B2999","v":0},null,{"$f":"'BX Language acquisition'!C2999","v":0},{"$f":"'BX Language acquisition'!D2999","v":0}]
[{"$f":"'BX Language acquisition'!A3000","v":0},{"$f":"'BX Language acquisition'!B3000","v":0},null,{"$f":"'BX Language acquisition'!C3000","v":0},{"$f":"'BX Language acquisition'!D3000","v":0}]
[{"$f":"'BX Language acquisition'!A3001","v":0},{"$f":"'BX Language acquisition'!B3001","v":0},null,{"$f":"'BX Language acquisition'!C3001","v":0},{"$f":"'BX Language acquisition'!D3001","v":0}]
[{"$f":"'BX Language acquisition'!A3002","v":0},{"$f":"'BX Language acquisition'!B3002","v":0},null,{"$f":"'BX Language acquisition'!C3002","v":0},{"$f":"'BX Language acquisition'!D3002","v":0}]
[{"$f":"'BX Language acquisition'!A3003","v":0},{"$f":"'BX Language acquisition'!B3003","v":0},null,{"$f":"'BX Language acquisition'!C3003","v":0},{"$f":"'BX Language acquisition'!D3003","v":0}]
[{"$f":"'BX Language acquisition'!A3004","v":0},{"$f":"'BX Language acquisition'!B3004","v":0},null,{"$f":"'BX Language acquisition'!C3004","v":0},{"$f":"'BX Language acquisition'!D3004","v":0}]
[{"$f":"'BX Language acquisition'!A3005","v":0},{"$f":"'BX Language acquisition'!B3005","v":0},null,{"$f":"'BX Language acquisition'!C3005","v":0},{"$f":"'BX Language acquisition'!D3005","v":0}]
[{"$f":"'BX Language acquisition'!A3006","v":0},{"$f":"'BX Language acquisition'!B3006","v":0},null,{"$f":"'BX Language acquisition'!C3006","v":0},{"$f":"'BX Language acquisition'!D3006","v":0}]
[{"$f":"'BX Language acquisition'!A3007","v":0},{"$f":"'BX Language acquisition'!B3007","v":0},null,{"$f":"'BX Language acquisition'!C3007","v":0},{"$f":"'BX Language acquisition'!D3007","v":0}]
[{"$f":"'BX Language acquisition'!A3008","v":0},{"$f":"'BX Language acquisition'!B3008","v":0},null,{"$f":"'BX Language acquisition'!C3008","v":0},{"$f":"'BX Language acquisition'!D3008","v":0}]
[{"$f":"'BX Language acquisition'!A3009","v":0},{"$f":"'BX Language acquisition'!B3009","v":0},null,{"$f":"'BX Language acquisition'!C3009","v":0},{"$f":"'BX Language acquisition'!D3009","v":0}]
[{"$f":"'BX Language acquisition'!A3010","v":0},{"$f":"'BX Language acquisition'!B3010","v":0},null,{"$f":"'BX Language acquisition'!C3010","v":0},{"$f":"'BX Language acquisition'!D3010","v":0}]
[{"$f":"'BX Language acquisition'!A3011","v":0},{"$f":"'BX Language acquisition'!B3011","v":0},null,{"$f":"'BX Language acquisition'!C3011","v":0},{"$f":"'BX Language acquisition'!D3011","v":0}]
[{"$f":"'BX Language acquisition'!A3012","v":0},{"$f":"'BX Language acquisition'!B3012","v":0},null,{"$f":"'BX Language acquisition'!C3012","v":0},{"$f":"'BX Language acquisition'!D3012","v":0}]
[{"$f":"'BX Language acquisition'!A3013","v":0},{"$f":"'BX Language acquisition'!B3013","v":0},null,{"$f":"'BX Language acquisition'!C3013","v":0},{"$f":"'BX Language acquisition'!D3013","v":0}]
[{"$f":"'BX Language acquisition'!A3014","v":0},{"$f":"'BX Language acquisition'!B3014","v":0},null,{"$f":"'BX Language acquisition'!C3014","v":0},{"$f":"'BX Language acquisition'!D3014","v":0}]
[{"$f":"'BX Language acquisition'!A3015","v":0},{"$f":"'BX Language acquisition'!B3015","v":0},null,{"$f":"'BX Language acquisition'!C3015","v":0},{"$f":"'BX Language acquisition'!D3015","v":0}]
[{"$f":"'BX Language acquisition'!A3016","v":0},{"$f":"'BX Language acquisition'!B3016","v":0},null,{"$f":"'BX Language acquisition'!C3016","v":0},{"$f":"'BX Language acquisition'!D3016","v":0}]
[{"$f":"'BX Language acquisition'!A3017","v":0},{"$f":"'BX Language acquisition'!B3017","v":0},null,{"$f":"'BX Language acquisition'!C3017","v":0},{"$f":"'BX Language acquisition'!D3017","v":0}]
[{"$f":"'BX Language acquisition'!A3018","v":0},{"$f":"'BX Language acquisition'!B3018","v":0},null,{"$f":"'BX Language acquisition'!C3018","v":0},{"$f":"'BX Language acquisition'!D3018","v":0}]
[{"$f":"'BX Language acquisition'!A3019","v":0},{"$f":"'BX Language acquisition'!B3019","v":0},null,{"$f":"'BX Language acquisition'!C3019","v":0},{"$f":"'BX Language acquisition'!D3019","v":0}]
[{"$f":"'BX Language acquisition'!A3020","v":0},{"$f":"'BX Language acquisition'!B3020","v":0},null,{"$f":"'BX Language acquisition'!C3020","v":0},{"$f":"'BX Language acquisition'!D3020","v":0}]
[{"$f":"'BX Language acquisition'!A3021","v":0},{"$f":"'BX Language acquisition'!B3021","v":0},null,{"$f":"'BX Language acquisition'!C3021","v":0},{"$f":"'BX Language acquisition'!D3021","v":0}]
[{"$f":"'BX Language acquisition'!A3022","v":0},{"$f":"'BX Language acquisition'!B3022","v":0},null,{"$f":"'BX Language acquisition'!C3022","v":0},{"$f":"'BX Language acquisition'!D3022","v":0}]
[{"$f":"'BX Language acquisition'!A3023","v":0},{"$f":"'BX Language acquisition'!B3023","v":0},null,{"$f":"'BX Language acquisition'!C3023","v":0},{"$f":"'BX Language acquisition'!D3023","v":0}]
[{"$f":"'BX Language acquisition'!A3024","v":0},{"$f":"'BX Language acquisition'!B3024","v":0},null,{"$f":"'BX Language acquisition'!C3024","v":0},{"$f":"'BX Language acquisition'!D3024","v":0}]
[{"$f":"'BX Language acquisition'!A3025","v":0},{"$f":"'BX Language acquisition'!B3025","v":0},null,{"$f":"'BX Language acquisition'!C3025","v":0},{"$f":"'BX Language acquisition'!D3025","v":0}]
[{"$f":"'BX Language acquisition'!A3026","v":0},{"$f":"'BX Language acquisition'!B3026","v":0},null,{"$f":"'BX Language acquisition'!C3026","v":0},{"$f":"'BX Language acquisition'!D3026","v":0}]
[{"$f":"'BX Language acquisition'!A3027","v":0},{"$f":"'BX Language acquisition'!B3027","v":0},null,{"$f":"'BX Language acquisition'!C3027","v":0},{"$f":"'BX Language acquisition'!D3027","v":0}]
[{"$f":"'BX Language acquisition'!A3028","v":0},{"$f":"'BX Language acquisition'!B3028","v":0},null,{"$f":"'BX Language acquisition'!C3028","v":0},{"$f":"'BX Language acquisition'!D3028","v":0}]
[{"$f":"'BX Language acquisition'!A3029","v":0},{"$f":"'BX Language acquisition'!B3029","v":0},null,{"$f":"'BX Language acquisition'!C3029","v":0},{"$f":"'BX Language acquisition'!D3029","v":0}]
[{"$f":"'BX Language acquisition'!A3030","v":0},{"$f":"'BX Language acquisition'!B3030","v":0},null,{"$f":"'BX Language acquisition'!C3030","v":0},{"$f":"'BX Language acquisition'!D3030","v":0}]
[{"$f":"'BX Language acquisition'!A3031","v":0},{"$f":"'BX Language acquisition'!B3031","v":0},null,{"$f":"'BX Language acquisition'!C3031","v":0},{"$f":"'BX Language acquisition'!D3031","v":0}]
[{"$f":"'BX Language acquisition'!A3032","v":0},{"$f":"'BX Language acquisition'!B3032","v":0},null,{"$f":"'BX Language acquisition'!C3032","v":0},{"$f":"'BX Language acquisition'!D3032","v":0}]
[{"$f":"'BX Language acquisition'!A3033","v":0},{"$f":"'BX Language acquisition'!B3033","v":0},null,{"$f":"'BX Language acquisition'!C3033","v":0},{"$f":"'BX Language acquisition'!D3033","v":0}]
[{"$f":"'BX Language acquisition'!A3034","v":0},{"$f":"'BX Language acquisition'!B3034","v":0},null,{"$f":"'BX Language acquisition'!C3034","v":0},{"$f":"'BX Language acquisition'!D3034","v":0}]
[{"$f":"'BX Language acquisition'!A3035","v":0},{"$f":"'BX Language acquisition'!B3035","v":0},null,{"$f":"'BX Language acquisition'!C3035","v":0},{"$f":"'BX Language acquisition'!D3035","v":0}]
[{"$f":"'BX Language acquisition'!A3036","v":0},{"$f":"'BX Language acquisition'!B3036","v":0},null,{"$f":"'BX Language acquisition'!C3036","v":0},{"$f":"'BX Language acquisition'!D3036","v":0}]
[{"$f":"'BX Language acquisition'!A3037","v":0},{"$f":"'BX Language acquisition'!B3037","v":0},null,{"$f":"'BX Language acquisition'!C3037","v":0},{"$f":"'BX Language acquisition'!D3037","v":0}]
[{"$f":"'BX Language acquisition'!A3038","v":0},{"$f":"'BX Language acquisition'!B3038","v":0},null,{"$f":"'BX Language acquisition'!C3038","v":0},{"$f":"'BX Language acquisition'!D3038","v":0}]
[{"$f":"'BX Language acquisition'!A3039","v":0},{"$f":"'BX Language acquisition'!B3039","v":0},null,{"$f":"'BX Language acquisition'!C3039","v":0},{"$f":"'BX Language acquisition'!D3039","v":0}]
[{"$f":"'BX Language acquisition'!A3040","v":0},{"$f":"'BX Language acquisition'!B3040","v":0},null,{"$f":"'BX Language acquisition'!C3040","v":0},{"$f":"'BX Language acquisition'!D3040","v":0}]
[{"$f":"'BX Language acquisition'!A3041","v":0},{"$f":"'BX Language acquisition'!B3041","v":0},null,{"$f":"'BX Language acquisition'!C3041","v":0},{"$f":"'BX Language acquisition'!D3041","v":0}]
[{"$f":"'BX Language acquisition'!A3042","v":0},{"$f":"'BX Language acquisition'!B3042","v":0},null,{"$f":"'BX Language acquisition'!C3042","v":0},{"$f":"'BX Language acquisition'!D3042","v":0}]
[{"$f":"'BX Language acquisition'!A3043","v":0},{"$f":"'BX Language acquisition'!B3043","v":0},null,{"$f":"'BX Language acquisition'!C3043","v":0},{"$f":"'BX Language acquisition'!D3043","v":0}]
[{"$f":"'BX Language acquisition'!A3044","v":0},{"$f":"'BX Language acquisition'!B3044","v":0},null,{"$f":"'BX Language acquisition'!C3044","v":0},{"$f":"'BX Language acquisition'!D3044","v":0}]
[{"$f":"'BX Language acquisition'!A3045","v":0},{"$f":"'BX Language acquisition'!B3045","v":0},null,{"$f":"'BX Language acquisition'!C3045","v":0},{"$f":"'BX Language acquisition'!D3045","v":0}]
[{"$f":"'BX Language acquisition'!A3046","v":0},{"$f":"'BX Language acquisition'!B3046","v":0},null,{"$f":"'BX Language acquisition'!C3046","v":0},{"$f":"'BX Language acquisition'!D3046","v":0}]
[{"$f":"'BX Language acquisition'!A3047","v":0},{"$f":"'BX Language acquisition'!B3047","v":0},null,{"$f":"'BX Language acquisition'!C3047","v":0},{"$f":"'BX Language acquisition'!D3047","v":0}]
[{"$f":"'BX Language acquisition'!A3048","v":0},{"$f":"'BX Language acquisition'!B3048","v":0},null,{"$f":"'BX Language acquisition'!C3048","v":0},{"$f":"'BX Language acquisition'!D3048","v":0}]
[{"$f":"'BX Language acquisition'!A3049","v":0},{"$f":"'BX Language acquisition'!B3049","v":0},null,{"$f":"'BX Language acquisition'!C3049","v":0},{"$f":"'BX Language acquisition'!D3049","v":0}]
[{"$f":"'BX Language acquisition'!A3050","v":0},{"$f":"'BX Language acquisition'!B3050","v":0},null,{"$f":"'BX Language acquisition'!C3050","v":0},{"$f":"'BX Language acquisition'!D3050","v":0}]
[{"$f":"'BX Language acquisition'!A3051","v":0},{"$f":"'BX Language acquisition'!B3051","v":0},null,{"$f":"'BX Language acquisition'!C3051","v":0},{"$f":"'BX Language acquisition'!D3051","v":0}]
[{"$f":"'BX Language acquisition'!A3052","v":0},{"$f":"'BX Language acquisition'!B3052","v":0},null,{"$f":"'BX Language acquisition'!C3052","v":0},{"$f":"'BX Language acquisition'!D3052","v":0}]
[{"$f":"'BX Language acquisition'!A3053","v":0},{"$f":"'BX Language acquisition'!B3053","v":0},null,{"$f":"'BX Language acquisition'!C3053","v":0},{"$f":"'BX Language acquisition'!D3053","v":0}]
[{"$f":"'BX Language acquisition'!A3054","v":0},{"$f":"'BX Language acquisition'!B3054","v":0},null,{"$f":"'BX Language acquisition'!C3054","v":0},{"$f":"'BX Language acquisition'!D3054","v":0}]
[{"$f":"'BX Language acquisition'!A3055","v":0},{"$f":"'BX Language acquisition'!B3055","v":0},null,{"$f":"'BX Language acquisition'!C3055","v":0},{"$f":"'BX Language acquisition'!D3055","v":0}]
[{"$f":"'BX Language acquisition'!A3056","v":0},{"$f":"'BX Language acquisition'!B3056","v":0},null,{"$f":"'BX Language acquisition'!C3056","v":0},{"$f":"'BX Language acquisition'!D3056","v":0}]
[{"$f":"'BX Language acquisition'!A3057","v":0},{"$f":"'BX Language acquisition'!B3057","v":0},null,{"$f":"'BX Language acquisition'!C3057","v":0},{"$f":"'BX Language acquisition'!D3057","v":0}]
[{"$f":"'BX Language acquisition'!A3058","v":0},{"$f":"'BX Language acquisition'!B3058","v":0},null,{"$f":"'BX Language acquisition'!C3058","v":0},{"$f":"'BX Language acquisition'!D3058","v":0}]
[{"$f":"'BX Language acquisition'!A3059","v":0},{"$f":"'BX Language acquisition'!B3059","v":0},null,{"$f":"'BX Language acquisition'!C3059","v":0},{"$f":"'BX Language acquisition'!D3059","v":0}]
[{"$f":"'BX Language acquisition'!A3060","v":0},{"$f":"'BX Language acquisition'!B3060","v":0},null,{"$f":"'BX Language acquisition'!C3060","v":0},{"$f":"'BX Language acquisition'!D3060","v":0}]
[{"$f":"'BX Language acquisition'!A3061","v":0},{"$f":"'BX Language acquisition'!B3061","v":0},null,{"$f":"'BX Language acquisition'!C3061","v":0},{"$f":"'BX Language acquisition'!D3061","v":0}]
[{"$f":"'BX Language acquisition'!A3062","v":0},{"$f":"'BX Language acquisition'!B3062","v":0},null,{"$f":"'BX Language acquisition'!C3062","v":0},{"$f":"'BX Language acquisition'!D3062","v":0}]
[{"$f":"'BX Language acquisition'!A3063","v":0},{"$f":"'BX Language acquisition'!B3063","v":0},null,{"$f":"'BX Language acquisition'!C3063","v":0},{"$f":"'BX Language acquisition'!D3063","v":0}]
[{"$f":"'BX Language acquisition'!A3064","v":0},{"$f":"'BX Language acquisition'!B3064","v":0},null,{"$f":"'BX Language acquisition'!C3064","v":0},{"$f":"'BX Language acquisition'!D3064","v":0}]
[{"$f":"'BX Language acquisition'!A3065","v":0},{"$f":"'BX Language acquisition'!B3065","v":0},null,{"$f":"'BX Language acquisition'!C3065","v":0},{"$f":"'BX Language acquisition'!D3065","v":0}]
[{"$f":"'BX Language acquisition'!A3066","v":0},{"$f":"'BX Language acquisition'!B3066","v":0},null,{"$f":"'BX Language acquisition'!C3066","v":0},{"$f":"'BX Language acquisition'!D3066","v":0}]
[{"$f":"'BX Language acquisition'!A3067","v":0},{"$f":"'BX Language acquisition'!B3067","v":0},null,{"$f":"'BX Language acquisition'!C3067","v":0},{"$f":"'BX Language acquisition'!D3067","v":0}]
[{"$f":"'BX Language acquisition'!A3068","v":0},{"$f":"'BX Language acquisition'!B3068","v":0},null,{"$f":"'BX Language acquisition'!C3068","v":0},{"$f":"'BX Language acquisition'!D3068","v":0}]
[{"$f":"'BX Language acquisition'!A3069","v":0},{"$f":"'BX Language acquisition'!B3069","v":0},null,{"$f":"'BX Language acquisition'!C3069","v":0},{"$f":"'BX Language acquisition'!D3069","v":0}]
[{"$f":"'BX Language acquisition'!A3070","v":0},{"$f":"'BX Language acquisition'!B3070","v":0},null,{"$f":"'BX Language acquisition'!C3070","v":0},{"$f":"'BX Language acquisition'!D3070","v":0}]
[{"$f":"'BX Language acquisition'!A3071","v":0},{"$f":"'BX Language acquisition'!B3071","v":0},null,{"$f":"'BX Language acquisition'!C3071","v":0},{"$f":"'BX Language acquisition'!D3071","v":0}]
[{"$f":"'BX Language acquisition'!A3072","v":0},{"$f":"'BX Language acquisition'!B3072","v":0},null,{"$f":"'BX Language acquisition'!C3072","v":0},{"$f":"'BX Language acquisition'!D3072","v":0}]
[{"$f":"'BX Language acquisition'!A3073","v":0},{"$f":"'BX Language acquisition'!B3073","v":0},null,{"$f":"'BX Language acquisition'!C3073","v":0},{"$f":"'BX Language acquisition'!D3073","v":0}]
[{"$f":"'BX Language acquisition'!A3074","v":0},{"$f":"'BX Language acquisition'!B3074","v":0},null,{"$f":"'BX Language acquisition'!C3074","v":0},{"$f":"'BX Language acquisition'!D3074","v":0}]
[{"$f":"'BX Language acquisition'!A3075","v":0},{"$f":"'BX Language acquisition'!B3075","v":0},null,{"$f":"'BX Language acquisition'!C3075","v":0},{"$f":"'BX Language acquisition'!D3075","v":0}]
[{"$f":"'BX Language acquisition'!A3076","v":0},{"$f":"'BX Language acquisition'!B3076","v":0},null,{"$f":"'BX Language acquisition'!C3076","v":0},{"$f":"'BX Language acquisition'!D3076","v":0}]
[{"$f":"'BX Language acquisition'!A3077","v":0},{"$f":"'BX Language acquisition'!B3077","v":0},null,{"$f":"'BX Language acquisition'!C3077","v":0},{"$f":"'BX Language acquisition'!D3077","v":0}]
[{"$f":"'BX Language acquisition'!A3078","v":0},{"$f":"'BX Language acquisition'!B3078","v":0},null,{"$f":"'BX Language acquisition'!C3078","v":0},{"$f":"'BX Language acquisition'!D3078","v":0}]
[{"$f":"'BX Language acquisition'!A3079","v":0},{"$f":"'BX Language acquisition'!B3079","v":0},null,{"$f":"'BX Language acquisition'!C3079","v":0},{"$f":"'BX Language acquisition'!D3079","v":0}]
[{"$f":"'BX Language acquisition'!A3080","v":0},{"$f":"'BX Language acquisition'!B3080","v":0},null,{"$f":"'BX Language acquisition'!C3080","v":0},{"$f":"'BX Language acquisition'!D3080","v":0}]
[{"$f":"'BX Language acquisition'!A3081","v":0},{"$f":"'BX Language acquisition'!B3081","v":0},null,{"$f":"'BX Language acquisition'!C3081","v":0},{"$f":"'BX Language acquisition'!D3081","v":0}]
[{"$f":"'BX Language acquisition'!A3082","v":0},{"$f":"'BX Language acquisition'!B3082","v":0},null,{"$f":"'BX Language acquisition'!C3082","v":0},{"$f":"'BX Language acquisition'!D3082","v":0}]
[{"$f":"'BX Language acquisition'!A3083","v":0},{"$f":"'BX Language acquisition'!B3083","v":0},null,{"$f":"'BX Language acquisition'!C3083","v":0},{"$f":"'BX Language acquisition'!D3083","v":0}]
[{"$f":"'BX Language acquisition'!A3084","v":0},{"$f":"'BX Language acquisition'!B3084","v":0},null,{"$f":"'BX Language acquisition'!C3084","v":0},{"$f":"'BX Language acquisition'!D3084","v":0}]
[{"$f":"'BX Language acquisition'!A3085","v":0},{"$f":"'BX Language acquisition'!B3085","v":0},null,{"$f":"'BX Language acquisition'!C3085","v":0},{"$f":"'BX Language acquisition'!D3085","v":0}]
[{"$f":"'BX Language acquisition'!A3086","v":0},{"$f":"'BX Language acquisition'!B3086","v":0},null,{"$f":"'BX Language acquisition'!C3086","v":0},{"$f":"'BX Language acquisition'!D3086","v":0}]
[{"$f":"'BX Language acquisition'!A3087","v":0},{"$f":"'BX Language acquisition'!B3087","v":0},null,{"$f":"'BX Language acquisition'!C3087","v":0},{"$f":"'BX Language acquisition'!D3087","v":0}]
[{"$f":"'BX Language acquisition'!A3088","v":0},{"$f":"'BX Language acquisition'!B3088","v":0},null,{"$f":"'BX Language acquisition'!C3088","v":0},{"$f":"'BX Language acquisition'!D3088","v":0}]
[{"$f":"'BX Language acquisition'!A3089","v":0},{"$f":"'BX Language acquisition'!B3089","v":0},null,{"$f":"'BX Language acquisition'!C3089","v":0},{"$f":"'BX Language acquisition'!D3089","v":0}]
[{"$f":"'BX Language acquisition'!A3090","v":0},{"$f":"'BX Language acquisition'!B3090","v":0},null,{"$f":"'BX Language acquisition'!C3090","v":0},{"$f":"'BX Language acquisition'!D3090","v":0}]
[{"$f":"'BX Language acquisition'!A3091","v":0},{"$f":"'BX Language acquisition'!B3091","v":0},null,{"$f":"'BX Language acquisition'!C3091","v":0},{"$f":"'BX Language acquisition'!D3091","v":0}]
[{"$f":"'BX Language acquisition'!A3092","v":0},{"$f":"'BX Language acquisition'!B3092","v":0},null,{"$f":"'BX Language acquisition'!C3092","v":0},{"$f":"'BX Language acquisition'!D3092","v":0}]
[{"$f":"'BX Language acquisition'!A3093","v":0},{"$f":"'BX Language acquisition'!B3093","v":0},null,{"$f":"'BX Language acquisition'!C3093","v":0},{"$f":"'BX Language acquisition'!D3093","v":0}]
[{"$f":"'BX Language acquisition'!A3094","v":0},{"$f":"'BX Language acquisition'!B3094","v":0},null,{"$f":"'BX Language acquisition'!C3094","v":0},{"$f":"'BX Language acquisition'!D3094","v":0}]
[{"$f":"'BX Language acquisition'!A3095","v":0},{"$f":"'BX Language acquisition'!B3095","v":0},null,{"$f":"'BX Language acquisition'!C3095","v":0},{"$f":"'BX Language acquisition'!D3095","v":0}]
[{"$f":"'BX Language acquisition'!A3096","v":0},{"$f":"'BX Language acquisition'!B3096","v":0},null,{"$f":"'BX Language acquisition'!C3096","v":0},{"$f":"'BX Language acquisition'!D3096","v":0}]
[{"$f":"'BX Language acquisition'!A3097","v":0},{"$f":"'BX Language acquisition'!B3097","v":0},null,{"$f":"'BX Language acquisition'!C3097","v":0},{"$f":"'BX Language acquisition'!D3097","v":0}]
[{"$f":"'BX Language acquisition'!A3098","v":0},{"$f":"'BX Language acquisition'!B3098","v":0},null,{"$f":"'BX Language acquisition'!C3098","v":0},{"$f":"'BX Language acquisition'!D3098","v":0}]
[{"$f":"'BX Language acquisition'!A3099","v":0},{"$f":"'BX Language acquisition'!B3099","v":0},null,{"$f":"'BX Language acquisition'!C3099","v":0},{"$f":"'BX Language acquisition'!D3099","v":0}]
[{"$f":"'BX Language acquisition'!A3100","v":0},{"$f":"'BX Language acquisition'!B3100","v":0},null,{"$f":"'BX Language acquisition'!C3100","v":0},{"$f":"'BX Language acquisition'!D3100","v":0}]
[{"$f":"'BX Language acquisition'!A3101","v":0},{"$f":"'BX Language acquisition'!B3101","v":0},null,{"$f":"'BX Language acquisition'!C3101","v":0},{"$f":"'BX Language acquisition'!D3101","v":0}]
[{"$f":"'BX Language acquisition'!A3102","v":0},{"$f":"'BX Language acquisition'!B3102","v":0},null,{"$f":"'BX Language acquisition'!C3102","v":0},{"$f":"'BX Language acquisition'!D3102","v":0}]
[{"$f":"'BX Language acquisition'!A3103","v":0},{"$f":"'BX Language acquisition'!B3103","v":0},null,{"$f":"'BX Language acquisition'!C3103","v":0},{"$f":"'BX Language acquisition'!D3103","v":0}]
[{"$f":"'BX Language acquisition'!A3104","v":0},{"$f":"'BX Language acquisition'!B3104","v":0},null,{"$f":"'BX Language acquisition'!C3104","v":0},{"$f":"'BX Language acquisition'!D3104","v":0}]
[{"$f":"'BX Language acquisition'!A3105","v":0},{"$f":"'BX Language acquisition'!B3105","v":0},null,{"$f":"'BX Language acquisition'!C3105","v":0},{"$f":"'BX Language acquisition'!D3105","v":0}]
[{"$f":"'BX Language acquisition'!A3106","v":0},{"$f":"'BX Language acquisition'!B3106","v":0},null,{"$f":"'BX Language acquisition'!C3106","v":0},{"$f":"'BX Language acquisition'!D3106","v":0}]
[{"$f":"'BX Language acquisition'!A3107","v":0},{"$f":"'BX Language acquisition'!B3107","v":0},null,{"$f":"'BX Language acquisition'!C3107","v":0},{"$f":"'BX Language acquisition'!D3107","v":0}]
[{"$f":"'BX Language acquisition'!A3108","v":0},{"$f":"'BX Language acquisition'!B3108","v":0},null,{"$f":"'BX Language acquisition'!C3108","v":0},{"$f":"'BX Language acquisition'!D3108","v":0}]
[{"$f":"'BX Language acquisition'!A3109","v":0},{"$f":"'BX Language acquisition'!B3109","v":0},null,{"$f":"'BX Language acquisition'!C3109","v":0},{"$f":"'BX Language acquisition'!D3109","v":0}]
[{"$f":"'BX Language acquisition'!A3110","v":0},{"$f":"'BX Language acquisition'!B3110","v":0},null,{"$f":"'BX Language acquisition'!C3110","v":0},{"$f":"'BX Language acquisition'!D3110","v":0}]
[{"$f":"'BX Language acquisition'!A3111","v":0},{"$f":"'BX Language acquisition'!B3111","v":0},null,{"$f":"'BX Language acquisition'!C3111","v":0},{"$f":"'BX Language acquisition'!D3111","v":0}]
[{"$f":"'BX Language acquisition'!A3112","v":0},{"$f":"'BX Language acquisition'!B3112","v":0},null,{"$f":"'BX Language acquisition'!C3112","v":0},{"$f":"'BX Language acquisition'!D3112","v":0}]
[{"$f":"'BX Language acquisition'!A3113","v":0},{"$f":"'BX Language acquisition'!B3113","v":0},null,{"$f":"'BX Language acquisition'!C3113","v":0},{"$f":"'BX Language acquisition'!D3113","v":0}]
[{"$f":"'BX Language acquisition'!A3114","v":0},{"$f":"'BX Language acquisition'!B3114","v":0},null,{"$f":"'BX Language acquisition'!C3114","v":0},{"$f":"'BX Language acquisition'!D3114","v":0}]
[{"$f":"'BX Language acquisition'!A3115","v":0},{"$f":"'BX Language acquisition'!B3115","v":0},null,{"$f":"'BX Language acquisition'!C3115","v":0},{"$f":"'BX Language acquisition'!D3115","v":0}]
[{"$f":"'BX Language acquisition'!A3116","v":0},{"$f":"'BX Language acquisition'!B3116","v":0},null,{"$f":"'BX Language acquisition'!C3116","v":0},{"$f":"'BX Language acquisition'!D3116","v":0}]
[{"$f":"'BX Language acquisition'!A3117","v":0},{"$f":"'BX Language acquisition'!B3117","v":0},null,{"$f":"'BX Language acquisition'!C3117","v":0},{"$f":"'BX Language acquisition'!D3117","v":0}]
[{"$f":"'BX Language acquisition'!A3118","v":0},{"$f":"'BX Language acquisition'!B3118","v":0},null,{"$f":"'BX Language acquisition'!C3118","v":0},{"$f":"'BX Language acquisition'!D3118","v":0}]
[{"$f":"'BX Language acquisition'!A3119","v":0},{"$f":"'BX Language acquisition'!B3119","v":0},null,{"$f":"'BX Language acquisition'!C3119","v":0},{"$f":"'BX Language acquisition'!D3119","v":0}]
[{"$f":"'BX Language acquisition'!A3120","v":0},{"$f":"'BX Language acquisition'!B3120","v":0},null,{"$f":"'BX Language acquisition'!C3120","v":0},{"$f":"'BX Language acquisition'!D3120","v":0}]
[{"$f":"'BX Language acquisition'!A3121","v":0},{"$f":"'BX Language acquisition'!B3121","v":0},null,{"$f":"'BX Language acquisition'!C3121","v":0},{"$f":"'BX Language acquisition'!D3121","v":0}]
[{"$f":"'BX Language acquisition'!A3122","v":0},{"$f":"'BX Language acquisition'!B3122","v":0},null,{"$f":"'BX Language acquisition'!C3122","v":0},{"$f":"'BX Language acquisition'!D3122","v":0}]
[{"$f":"'BX Language acquisition'!A3123","v":0},{"$f":"'BX Language acquisition'!B3123","v":0},null,{"$f":"'BX Language acquisition'!C3123","v":0},{"$f":"'BX Language acquisition'!D3123","v":0}]
[{"$f":"'BX Language acquisition'!A3124","v":0},{"$f":"'BX Language acquisition'!B3124","v":0},null,{"$f":"'BX Language acquisition'!C3124","v":0},{"$f":"'BX Language acquisition'!D3124","v":0}]
[{"$f":"'BX Language acquisition'!A3125","v":0},{"$f":"'BX Language acquisition'!B3125","v":0},null,{"$f":"'BX Language acquisition'!C3125","v":0},{"$f":"'BX Language acquisition'!D3125","v":0}]
[{"$f":"'BX Language acquisition'!A3126","v":0},{"$f":"'BX Language acquisition'!B3126","v":0},null,{"$f":"'BX Language acquisition'!C3126","v":0},{"$f":"'BX Language acquisition'!D3126","v":0}]
[{"$f":"'BX Language acquisition'!A3127","v":0},{"$f":"'BX Language acquisition'!B3127","v":0},null,{"$f":"'BX Language acquisition'!C3127","v":0},{"$f":"'BX Language acquisition'!D3127","v":0}]
[{"$f":"'BX Language acquisition'!A3128","v":0},{"$f":"'BX Language acquisition'!B3128","v":0},null,{"$f":"'BX Language acquisition'!C3128","v":0},{"$f":"'BX Language acquisition'!D3128","v":0}]
[{"$f":"'BX Language acquisition'!A3129","v":0},{"$f":"'BX Language acquisition'!B3129","v":0},null,{"$f":"'BX Language acquisition'!C3129","v":0},{"$f":"'BX Language acquisition'!D3129","v":0}]
[{"$f":"'BX Language acquisition'!A3130","v":0},{"$f":"'BX Language acquisition'!B3130","v":0},null,{"$f":"'BX Language acquisition'!C3130","v":0},{"$f":"'BX Language acquisition'!D3130","v":0}]
[{"$f":"'BX Language acquisition'!A3131","v":0},{"$f":"'BX Language acquisition'!B3131","v":0},null,{"$f":"'BX Language acquisition'!C3131","v":0},{"$f":"'BX Language acquisition'!D3131","v":0}]
[{"$f":"'BX Language acquisition'!A3132","v":0},{"$f":"'BX Language acquisition'!B3132","v":0},null,{"$f":"'BX Language acquisition'!C3132","v":0},{"$f":"'BX Language acquisition'!D3132","v":0}]
[{"$f":"'BX Language acquisition'!A3133","v":0},{"$f":"'BX Language acquisition'!B3133","v":0},null,{"$f":"'BX Language acquisition'!C3133","v":0},{"$f":"'BX Language acquisition'!D3133","v":0}]
[{"$f":"'BX Language acquisition'!A3134","v":0},{"$f":"'BX Language acquisition'!B3134","v":0},null,{"$f":"'BX Language acquisition'!C3134","v":0},{"$f":"'BX Language acquisition'!D3134","v":0}]
[{"$f":"'BX Language acquisition'!A3135","v":0},{"$f":"'BX Language acquisition'!B3135","v":0},null,{"$f":"'BX Language acquisition'!C3135","v":0},{"$f":"'BX Language acquisition'!D3135","v":0}]
[{"$f":"'BX Language acquisition'!A3136","v":0},{"$f":"'BX Language acquisition'!B3136","v":0},null,{"$f":"'BX Language acquisition'!C3136","v":0},{"$f":"'BX Language acquisition'!D3136","v":0}]
[{"$f":"'BX Language acquisition'!A3137","v":0},{"$f":"'BX Language acquisition'!B3137","v":0},null,{"$f":"'BX Language acquisition'!C3137","v":0},{"$f":"'BX Language acquisition'!D3137","v":0}]
[{"$f":"'BX Language acquisition'!A3138","v":0},{"$f":"'BX Language acquisition'!B3138","v":0},null,{"$f":"'BX Language acquisition'!C3138","v":0},{"$f":"'BX Language acquisition'!D3138","v":0}]
[{"$f":"'BX Language acquisition'!A3139","v":0},{"$f":"'BX Language acquisition'!B3139","v":0},null,{"$f":"'BX Language acquisition'!C3139","v":0},{"$f":"'BX Language acquisition'!D3139","v":0}]
[{"$f":"'BX Language acquisition'!A3140","v":0},{"$f":"'BX Language acquisition'!B3140","v":0},null,{"$f":"'BX Language acquisition'!C3140","v":0},{"$f":"'BX Language acquisition'!D3140","v":0}]
[{"$f":"'BX Language acquisition'!A3141","v":0},{"$f":"'BX Language acquisition'!B3141","v":0},null,{"$f":"'BX Language acquisition'!C3141","v":0},{"$f":"'BX Language acquisition'!D3141","v":0}]
[{"$f":"'BX Language acquisition'!A3142","v":0},{"$f":"'BX Language acquisition'!B3142","v":0},null,{"$f":"'BX Language acquisition'!C3142","v":0},{"$f":"'BX Language acquisition'!D3142","v":0}]
[{"$f":"'BX Language acquisition'!A3143","v":0},{"$f":"'BX Language acquisition'!B3143","v":0},null,{"$f":"'BX Language acquisition'!C3143","v":0},{"$f":"'BX Language acquisition'!D3143","v":0}]
[{"$f":"'BX Language acquisition'!A3144","v":0},{"$f":"'BX Language acquisition'!B3144","v":0},null,{"$f":"'BX Language acquisition'!C3144","v":0},{"$f":"'BX Language acquisition'!D3144","v":0}]
[{"$f":"'BX Language acquisition'!A3145","v":0},{"$f":"'BX Language acquisition'!B3145","v":0},null,{"$f":"'BX Language acquisition'!C3145","v":0},{"$f":"'BX Language acquisition'!D3145","v":0}]
[{"$f":"'BX Language acquisition'!A3146","v":0},{"$f":"'BX Language acquisition'!B3146","v":0},null,{"$f":"'BX Language acquisition'!C3146","v":0},{"$f":"'BX Language acquisition'!D3146","v":0}]
[{"$f":"'BX Language acquisition'!A3147","v":0},{"$f":"'BX Language acquisition'!B3147","v":0},null,{"$f":"'BX Language acquisition'!C3147","v":0},{"$f":"'BX Language acquisition'!D3147","v":0}]
[{"$f":"'BX Language acquisition'!A3148","v":0},{"$f":"'BX Language acquisition'!B3148","v":0},null,{"$f":"'BX Language acquisition'!C3148","v":0},{"$f":"'BX Language acquisition'!D3148","v":0}]
[{"$f":"'BX Language acquisition'!A3149","v":0},{"$f":"'BX Language acquisition'!B3149","v":0},null,{"$f":"'BX Language acquisition'!C3149","v":0},{"$f":"'BX Language acquisition'!D3149","v":0}]
[{"$f":"'BX Language acquisition'!A3150","v":0},{"$f":"'BX Language acquisition'!B3150","v":0},null,{"$f":"'BX Language acquisition'!C3150","v":0},{"$f":"'BX Language acquisition'!D3150","v":0}]
[{"$f":"'BX Language acquisition'!A3151","v":0},{"$f":"'BX Language acquisition'!B3151","v":0},null,{"$f":"'BX Language acquisition'!C3151","v":0},{"$f":"'BX Language acquisition'!D3151","v":0}]
[{"$f":"'BX Language acquisition'!A3152","v":0},{"$f":"'BX Language acquisition'!B3152","v":0},null,{"$f":"'BX Language acquisition'!C3152","v":0},{"$f":"'BX Language acquisition'!D3152","v":0}]
[{"$f":"'BX Language acquisition'!A3153","v":0},{"$f":"'BX Language acquisition'!B3153","v":0},null,{"$f":"'BX Language acquisition'!C3153","v":0},{"$f":"'BX Language acquisition'!D3153","v":0}]
[{"$f":"'BX Language acquisition'!A3154","v":0},{"$f":"'BX Language acquisition'!B3154","v":0},null,{"$f":"'BX Language acquisition'!C3154","v":0},{"$f":"'BX Language acquisition'!D3154","v":0}]
[{"$f":"'BX Language acquisition'!A3155","v":0},{"$f":"'BX Language acquisition'!B3155","v":0},null,{"$f":"'BX Language acquisition'!C3155","v":0},{"$f":"'BX Language acquisition'!D3155","v":0}]
[{"$f":"'BX Language acquisition'!A3156","v":0},{"$f":"'BX Language acquisition'!B3156","v":0},null,{"$f":"'BX Language acquisition'!C3156","v":0},{"$f":"'BX Language acquisition'!D3156","v":0}]
[{"$f":"'BX Language acquisition'!A3157","v":0},{"$f":"'BX Language acquisition'!B3157","v":0},null,{"$f":"'BX Language acquisition'!C3157","v":0},{"$f":"'BX Language acquisition'!D3157","v":0}]
[{"$f":"'BX Language acquisition'!A3158","v":0},{"$f":"'BX Language acquisition'!B3158","v":0},null,{"$f":"'BX Language acquisition'!C3158","v":0},{"$f":"'BX Language acquisition'!D3158","v":0}]
[{"$f":"'BX Language acquisition'!A3159","v":0},{"$f":"'BX Language acquisition'!B3159","v":0},null,{"$f":"'BX Language acquisition'!C3159","v":0},{"$f":"'BX Language acquisition'!D3159","v":0}]
[{"$f":"'BX Language acquisition'!A3160","v":0},{"$f":"'BX Language acquisition'!B3160","v":0},null,{"$f":"'BX Language acquisition'!C3160","v":0},{"$f":"'BX Language acquisition'!D3160","v":0}]
[{"$f":"'BX Language acquisition'!A3161","v":0},{"$f":"'BX Language acquisition'!B3161","v":0},null,{"$f":"'BX Language acquisition'!C3161","v":0},{"$f":"'BX Language acquisition'!D3161","v":0}]
[{"$f":"'BX Language acquisition'!A3162","v":0},{"$f":"'BX Language acquisition'!B3162","v":0},null,{"$f":"'BX Language acquisition'!C3162","v":0},{"$f":"'BX Language acquisition'!D3162","v":0}]
[{"$f":"'BX Language acquisition'!A3163","v":0},{"$f":"'BX Language acquisition'!B3163","v":0},null,{"$f":"'BX Language acquisition'!C3163","v":0},{"$f":"'BX Language acquisition'!D3163","v":0}]
[{"$f":"'BX Language acquisition'!A3164","v":0},{"$f":"'BX Language acquisition'!B3164","v":0},null,{"$f":"'BX Language acquisition'!C3164","v":0},{"$f":"'BX Language acquisition'!D3164","v":0}]
[{"$f":"'BX Language acquisition'!A3165","v":0},{"$f":"'BX Language acquisition'!B3165","v":0},null,{"$f":"'BX Language acquisition'!C3165","v":0},{"$f":"'BX Language acquisition'!D3165","v":0}]
[{"$f":"'BX Language acquisition'!A3166","v":0},{"$f":"'BX Language acquisition'!B3166","v":0},null,{"$f":"'BX Language acquisition'!C3166","v":0},{"$f":"'BX Language acquisition'!D3166","v":0}]
[{"$f":"'BX Language acquisition'!A3167","v":0},{"$f":"'BX Language acquisition'!B3167","v":0},null,{"$f":"'BX Language acquisition'!C3167","v":0},{"$f":"'BX Language acquisition'!D3167","v":0}]
[{"$f":"'BX Language acquisition'!A3168","v":0},{"$f":"'BX Language acquisition'!B3168","v":0},null,{"$f":"'BX Language acquisition'!C3168","v":0},{"$f":"'BX Language acquisition'!D3168","v":0}]
[{"$f":"'BX Language acquisition'!A3169","v":0},{"$f":"'BX Language acquisition'!B3169","v":0},null,{"$f":"'BX Language acquisition'!C3169","v":0},{"$f":"'BX Language acquisition'!D3169","v":0}]
[{"$f":"'BX Language acquisition'!A3170","v":0},{"$f":"'BX Language acquisition'!B3170","v":0},null,{"$f":"'BX Language acquisition'!C3170","v":0},{"$f":"'BX Language acquisition'!D3170","v":0}]
[{"$f":"'BX Language acquisition'!A3171","v":0},{"$f":"'BX Language acquisition'!B3171","v":0},null,{"$f":"'BX Language acquisition'!C3171","v":0},{"$f":"'BX Language acquisition'!D3171","v":0}]
[{"$f":"'BX Language acquisition'!A3172","v":0},{"$f":"'BX Language acquisition'!B3172","v":0},null,{"$f":"'BX Language acquisition'!C3172","v":0},{"$f":"'BX Language acquisition'!D3172","v":0}]
[{"$f":"'BX Language acquisition'!A3173","v":0},{"$f":"'BX Language acquisition'!B3173","v":0},null,{"$f":"'BX Language acquisition'!C3173","v":0},{"$f":"'BX Language acquisition'!D3173","v":0}]
[{"$f":"'BX Language acquisition'!A3174","v":0},{"$f":"'BX Language acquisition'!B3174","v":0},null,{"$f":"'BX Language acquisition'!C3174","v":0},{"$f":"'BX Language acquisition'!D3174","v":0}]
[{"$f":"'BX Language acquisition'!A3175","v":0},{"$f":"'BX Language acquisition'!B3175","v":0},null,{"$f":"'BX Language acquisition'!C3175","v":0},{"$f":"'BX Language acquisition'!D3175","v":0}]
[{"$f":"'BX Language acquisition'!A3176","v":0},{"$f":"'BX Language acquisition'!B3176","v":0},null,{"$f":"'BX Language acquisition'!C3176","v":0},{"$f":"'BX Language acquisition'!D3176","v":0}]
[{"$f":"'BX Language acquisition'!A3177","v":0},{"$f":"'BX Language acquisition'!B3177","v":0},null,{"$f":"'BX Language acquisition'!C3177","v":0},{"$f":"'BX Language acquisition'!D3177","v":0}]
[{"$f":"'BX Language acquisition'!A3178","v":0},{"$f":"'BX Language acquisition'!B3178","v":0},null,{"$f":"'BX Language acquisition'!C3178","v":0},{"$f":"'BX Language acquisition'!D3178","v":0}]
[{"$f":"'BX Language acquisition'!A3179","v":0},{"$f":"'BX Language acquisition'!B3179","v":0},null,{"$f":"'BX Language acquisition'!C3179","v":0},{"$f":"'BX Language acquisition'!D3179","v":0}]
[{"$f":"'BX Language acquisition'!A3180","v":0},{"$f":"'BX Language acquisition'!B3180","v":0},null,{"$f":"'BX Language acquisition'!C3180","v":0},{"$f":"'BX Language acquisition'!D3180","v":0}]
[{"$f":"'BX Language acquisition'!A3181","v":0},{"$f":"'BX Language acquisition'!B3181","v":0},null,{"$f":"'BX Language acquisition'!C3181","v":0},{"$f":"'BX Language acquisition'!D3181","v":0}]
[{"$f":"'BX Language acquisition'!A3182","v":0},{"$f":"'BX Language acquisition'!B3182","v":0},null,{"$f":"'BX Language acquisition'!C3182","v":0},{"$f":"'BX Language acquisition'!D3182","v":0}]
[{"$f":"'BX Language acquisition'!A3183","v":0},{"$f":"'BX Language acquisition'!B3183","v":0},null,{"$f":"'BX Language acquisition'!C3183","v":0},{"$f":"'BX Language acquisition'!D3183","v":0}]
[{"$f":"'BX Language acquisition'!A3184","v":0},{"$f":"'BX Language acquisition'!B3184","v":0},null,{"$f":"'BX Language acquisition'!C3184","v":0},{"$f":"'BX Language acquisition'!D3184","v":0}]
[{"$f":"'BX Language acquisition'!A3185","v":0},{"$f":"'BX Language acquisition'!B3185","v":0},null,{"$f":"'BX Language acquisition'!C3185","v":0},{"$f":"'BX Language acquisition'!D3185","v":0}]
[{"$f":"'BX Language acquisition'!A3186","v":0},{"$f":"'BX Language acquisition'!B3186","v":0},null,{"$f":"'BX Language acquisition'!C3186","v":0},{"$f":"'BX Language acquisition'!D3186","v":0}]
[{"$f":"'BX Language acquisition'!A3187","v":0},{"$f":"'BX Language acquisition'!B3187","v":0},null,{"$f":"'BX Language acquisition'!C3187","v":0},{"$f":"'BX Language acquisition'!D3187","v":0}]
[{"$f":"'BX Language acquisition'!A3188","v":0},{"$f":"'BX Language acquisition'!B3188","v":0},null,{"$f":"'BX Language acquisition'!C3188","v":0},{"$f":"'BX Language acquisition'!D3188","v":0}]
[{"$f":"'BX Language acquisition'!A3189","v":0},{"$f":"'BX Language acquisition'!B3189","v":0},null,{"$f":"'BX Language acquisition'!C3189","v":0},{"$f":"'BX Language acquisition'!D3189","v":0}]
[{"$f":"'BX Language acquisition'!A3190","v":0},{"$f":"'BX Language acquisition'!B3190","v":0},null,{"$f":"'BX Language acquisition'!C3190","v":0},{"$f":"'BX Language acquisition'!D3190","v":0}]
[{"$f":"'BX Language acquisition'!A3191","v":0},{"$f":"'BX Language acquisition'!B3191","v":0},null,{"$f":"'BX Language acquisition'!C3191","v":0},{"$f":"'BX Language acquisition'!D3191","v":0}]
[{"$f":"'BX Language acquisition'!A3192","v":0},{"$f":"'BX Language acquisition'!B3192","v":0},null,{"$f":"'BX Language acquisition'!C3192","v":0},{"$f":"'BX Language acquisition'!D3192","v":0}]
[{"$f":"'BX Language acquisition'!A3193","v":0},{"$f":"'BX Language acquisition'!B3193","v":0},null,{"$f":"'BX Language acquisition'!C3193","v":0},{"$f":"'BX Language acquisition'!D3193","v":0}]
[{"$f":"'BX Language acquisition'!A3194","v":0},{"$f":"'BX Language acquisition'!B3194","v":0},null,{"$f":"'BX Language acquisition'!C3194","v":0},{"$f":"'BX Language acquisition'!D3194","v":0}]
[{"$f":"'BX Language acquisition'!A3195","v":0},{"$f":"'BX Language acquisition'!B3195","v":0},null,{"$f":"'BX Language acquisition'!C3195","v":0},{"$f":"'BX Language acquisition'!D3195","v":0}]
[{"$f":"'BX Language acquisition'!A3196","v":0},{"$f":"'BX Language acquisition'!B3196","v":0},null,{"$f":"'BX Language acquisition'!C3196","v":0},{"$f":"'BX Language acquisition'!D3196","v":0}]
[{"$f":"'BX Language acquisition'!A3197","v":0},{"$f":"'BX Language acquisition'!B3197","v":0},null,{"$f":"'BX Language acquisition'!C3197","v":0},{"$f":"'BX Language acquisition'!D3197","v":0}]
[{"$f":"'BX Language acquisition'!A3198","v":0},{"$f":"'BX Language acquisition'!B3198","v":0},null,{"$f":"'BX Language acquisition'!C3198","v":0},{"$f":"'BX Language acquisition'!D3198","v":0}]
[{"$f":"'BX Language acquisition'!A3199","v":0},{"$f":"'BX Language acquisition'!B3199","v":0},null,{"$f":"'BX Language acquisition'!C3199","v":0},{"$f":"'BX Language acquisition'!D3199","v":0}]
[{"$f":"'BX Language acquisition'!A3200","v":0},{"$f":"'BX Language acquisition'!B3200","v":0},null,{"$f":"'BX Language acquisition'!C3200","v":0},{"$f":"'BX Language acquisition'!D3200","v":0}]
[{"$f":"'BX Language acquisition'!A3201","v":0},{"$f":"'BX Language acquisition'!B3201","v":0},null,{"$f":"'BX Language acquisition'!C3201","v":0},{"$f":"'BX Language acquisition'!D3201","v":0}]
[{"$f":"'BX Language acquisition'!A3202","v":0},{"$f":"'BX Language acquisition'!B3202","v":0},null,{"$f":"'BX Language acquisition'!C3202","v":0},{"$f":"'BX Language acquisition'!D3202","v":0}]
[{"$f":"'BX Language acquisition'!A3203","v":0},{"$f":"'BX Language acquisition'!B3203","v":0},null,{"$f":"'BX Language acquisition'!C3203","v":0},{"$f":"'BX Language acquisition'!D3203","v":0}]
[{"$f":"'BX Language acquisition'!A3204","v":0},{"$f":"'BX Language acquisition'!B3204","v":0},null,{"$f":"'BX Language acquisition'!C3204","v":0},{"$f":"'BX Language acquisition'!D3204","v":0}]
[{"$f":"'BX Language acquisition'!A3205","v":0},{"$f":"'BX Language acquisition'!B3205","v":0},null,{"$f":"'BX Language acquisition'!C3205","v":0},{"$f":"'BX Language acquisition'!D3205","v":0}]
[{"$f":"'BX Language acquisition'!A3206","v":0},{"$f":"'BX Language acquisition'!B3206","v":0},null,{"$f":"'BX Language acquisition'!C3206","v":0},{"$f":"'BX Language acquisition'!D3206","v":0}]
[{"$f":"'BX Language acquisition'!A3207","v":0},{"$f":"'BX Language acquisition'!B3207","v":0},null,{"$f":"'BX Language acquisition'!C3207","v":0},{"$f":"'BX Language acquisition'!D3207","v":0}]
[{"$f":"'BX Language acquisition'!A3208","v":0},{"$f":"'BX Language acquisition'!B3208","v":0},null,{"$f":"'BX Language acquisition'!C3208","v":0},{"$f":"'BX Language acquisition'!D3208","v":0}]
[{"$f":"'BX Language acquisition'!A3209","v":0},{"$f":"'BX Language acquisition'!B3209","v":0},null,{"$f":"'BX Language acquisition'!C3209","v":0},{"$f":"'BX Language acquisition'!D3209","v":0}]
[{"$f":"'BX Language acquisition'!A3210","v":0},{"$f":"'BX Language acquisition'!B3210","v":0},null,{"$f":"'BX Language acquisition'!C3210","v":0},{"$f":"'BX Language acquisition'!D3210","v":0}]
[{"$f":"'BX Language acquisition'!A3211","v":0},{"$f":"'BX Language acquisition'!B3211","v":0},null,{"$f":"'BX Language acquisition'!C3211","v":0},{"$f":"'BX Language acquisition'!D3211","v":0}]
[{"$f":"'BX Language acquisition'!A3212","v":0},{"$f":"'BX Language acquisition'!B3212","v":0},null,{"$f":"'BX Language acquisition'!C3212","v":0},{"$f":"'BX Language acquisition'!D3212","v":0}]
[{"$f":"'BX Language acquisition'!A3213","v":0},{"$f":"'BX Language acquisition'!B3213","v":0},null,{"$f":"'BX Language acquisition'!C3213","v":0},{"$f":"'BX Language acquisition'!D3213","v":0}]
[{"$f":"'BX Language acquisition'!A3214","v":0},{"$f":"'BX Language acquisition'!B3214","v":0},null,{"$f":"'BX Language acquisition'!C3214","v":0},{"$f":"'BX Language acquisition'!D3214","v":0}]
[{"$f":"'BX Language acquisition'!A3215","v":0},{"$f":"'BX Language acquisition'!B3215","v":0},null,{"$f":"'BX Language acquisition'!C3215","v":0},{"$f":"'BX Language acquisition'!D3215","v":0}]
[{"$f":"'BX Language acquisition'!A3216","v":0},{"$f":"'BX Language acquisition'!B3216","v":0},null,{"$f":"'BX Language acquisition'!C3216","v":0},{"$f":"'BX Language acquisition'!D3216","v":0}]
[{"$f":"'BX Language acquisition'!A3217","v":0},{"$f":"'BX Language acquisition'!B3217","v":0},null,{"$f":"'BX Language acquisition'!C3217","v":0},{"$f":"'BX Language acquisition'!D3217","v":0}]
[{"$f":"'BX Language acquisition'!A3218","v":0},{"$f":"'BX Language acquisition'!B3218","v":0},null,{"$f":"'BX Language acquisition'!C3218","v":0},{"$f":"'BX Language acquisition'!D3218","v":0}]
[{"$f":"'BX Language acquisition'!A3219","v":0},{"$f":"'BX Language acquisition'!B3219","v":0},null,{"$f":"'BX Language acquisition'!C3219","v":0},{"$f":"'BX Language acquisition'!D3219","v":0}]
[{"$f":"'BX Language acquisition'!A3220","v":0},{"$f":"'BX Language acquisition'!B3220","v":0},null,{"$f":"'BX Language acquisition'!C3220","v":0},{"$f":"'BX Language acquisition'!D3220","v":0}]
[{"$f":"'BX Language acquisition'!A3221","v":0},{"$f":"'BX Language acquisition'!B3221","v":0},null,{"$f":"'BX Language acquisition'!C3221","v":0},{"$f":"'BX Language acquisition'!D3221","v":0}]
[{"$f":"'BX Language acquisition'!A3222","v":0},{"$f":"'BX Language acquisition'!B3222","v":0},null,{"$f":"'BX Language acquisition'!C3222","v":0},{"$f":"'BX Language acquisition'!D3222","v":0}]
[{"$f":"'BX Language acquisition'!A3223","v":0},{"$f":"'BX Language acquisition'!B3223","v":0},null,{"$f":"'BX Language acquisition'!C3223","v":0},{"$f":"'BX Language acquisition'!D3223","v":0}]
[{"$f":"'BX Language acquisition'!A3224","v":0},{"$f":"'BX Language acquisition'!B3224","v":0},null,{"$f":"'BX Language acquisition'!C3224","v":0},{"$f":"'BX Language acquisition'!D3224","v":0}]
[{"$f":"'BX Language acquisition'!A3225","v":0},{"$f":"'BX Language acquisition'!B3225","v":0},null,{"$f":"'BX Language acquisition'!C3225","v":0},{"$f":"'BX Language acquisition'!D3225","v":0}]
[{"$f":"'BX Language acquisition'!A3226","v":0},{"$f":"'BX Language acquisition'!B3226","v":0},null,{"$f":"'BX Language acquisition'!C3226","v":0},{"$f":"'BX Language acquisition'!D3226","v":0}]
[{"$f":"'BX Language acquisition'!A3227","v":0},{"$f":"'BX Language acquisition'!B3227","v":0},null,{"$f":"'BX Language acquisition'!C3227","v":0},{"$f":"'BX Language acquisition'!D3227","v":0}]
[{"$f":"'BX Language acquisition'!A3228","v":0},{"$f":"'BX Language acquisition'!B3228","v":0},null,{"$f":"'BX Language acquisition'!C3228","v":0},{"$f":"'BX Language acquisition'!D3228","v":0}]
[{"$f":"'BX Language acquisition'!A3229","v":0},{"$f":"'BX Language acquisition'!B3229","v":0},null,{"$f":"'BX Language acquisition'!C3229","v":0},{"$f":"'BX Language acquisition'!D3229","v":0}]
[{"$f":"'BX Language acquisition'!A3230","v":0},{"$f":"'BX Language acquisition'!B3230","v":0},null,{"$f":"'BX Language acquisition'!C3230","v":0},{"$f":"'BX Language acquisition'!D3230","v":0}]
[{"$f":"'BX Language acquisition'!A3231","v":0},{"$f":"'BX Language acquisition'!B3231","v":0},null,{"$f":"'BX Language acquisition'!C3231","v":0},{"$f":"'BX Language acquisition'!D3231","v":0}]
[{"$f":"'BX Language acquisition'!A3232","v":0},{"$f":"'BX Language acquisition'!B3232","v":0},null,{"$f":"'BX Language acquisition'!C3232","v":0},{"$f":"'BX Language acquisition'!D3232","v":0}]
[{"$f":"'BX Language acquisition'!A3233","v":0},{"$f":"'BX Language acquisition'!B3233","v":0},null,{"$f":"'BX Language acquisition'!C3233","v":0},{"$f":"'BX Language acquisition'!D3233","v":0}]
[{"$f":"'BX Language acquisition'!A3234","v":0},{"$f":"'BX Language acquisition'!B3234","v":0},null,{"$f":"'BX Language acquisition'!C3234","v":0},{"$f":"'BX Language acquisition'!D3234","v":0}]
[{"$f":"'BX Language acquisition'!A3235","v":0},{"$f":"'BX Language acquisition'!B3235","v":0},null,{"$f":"'BX Language acquisition'!C3235","v":0},{"$f":"'BX Language acquisition'!D3235","v":0}]
[{"$f":"'BX Language acquisition'!A3236","v":0},{"$f":"'BX Language acquisition'!B3236","v":0},null,{"$f":"'BX Language acquisition'!C3236","v":0},{"$f":"'BX Language acquisition'!D3236","v":0}]
[{"$f":"'BX Language acquisition'!A3237","v":0},{"$f":"'BX Language acquisition'!B3237","v":0},null,{"$f":"'BX Language acquisition'!C3237","v":0},{"$f":"'BX Language acquisition'!D3237","v":0}]
[{"$f":"'BX Language acquisition'!A3238","v":0},{"$f":"'BX Language acquisition'!B3238","v":0},null,{"$f":"'BX Language acquisition'!C3238","v":0},{"$f":"'BX Language acquisition'!D3238","v":0}]
[{"$f":"'BX Language acquisition'!A3239","v":0},{"$f":"'BX Language acquisition'!B3239","v":0},null,{"$f":"'BX Language acquisition'!C3239","v":0},{"$f":"'BX Language acquisition'!D3239","v":0}]
[{"$f":"'BX Language acquisition'!A3240","v":0},{"$f":"'BX Language acquisition'!B3240","v":0},null,{"$f":"'BX Language acquisition'!C3240","v":0},{"$f":"'BX Language acquisition'!D3240","v":0}]
[{"$f":"'BX Language acquisition'!A3241","v":0},{"$f":"'BX Language acquisition'!B3241","v":0},null,{"$f":"'BX Language acquisition'!C3241","v":0},{"$f":"'BX Language acquisition'!D3241","v":0}]
[{"$f":"'BX Language acquisition'!A3242","v":0},{"$f":"'BX Language acquisition'!B3242","v":0},null,{"$f":"'BX Language acquisition'!C3242","v":0},{"$f":"'BX Language acquisition'!D3242","v":0}]
[{"$f":"'BX Language acquisition'!A3243","v":0},{"$f":"'BX Language acquisition'!B3243","v":0},null,{"$f":"'BX Language acquisition'!C3243","v":0},{"$f":"'BX Language acquisition'!D3243","v":0}]
[{"$f":"'BX Language acquisition'!A3244","v":0},{"$f":"'BX Language acquisition'!B3244","v":0},null,{"$f":"'BX Language acquisition'!C3244","v":0},{"$f":"'BX Language acquisition'!D3244","v":0}]
[{"$f":"'BX Language acquisition'!A3245","v":0},{"$f":"'BX Language acquisition'!B3245","v":0},null,{"$f":"'BX Language acquisition'!C3245","v":0},{"$f":"'BX Language acquisition'!D3245","v":0}]
[{"$f":"'BX Language acquisition'!A3246","v":0},{"$f":"'BX Language acquisition'!B3246","v":0},null,{"$f":"'BX Language acquisition'!C3246","v":0},{"$f":"'BX Language acquisition'!D3246","v":0}]
[{"$f":"'BX Language acquisition'!A3247","v":0},{"$f":"'BX Language acquisition'!B3247","v":0},null,{"$f":"'BX Language acquisition'!C3247","v":0},{"$f":"'BX Language acquisition'!D3247","v":0}]
[{"$f":"'BX Language acquisition'!A3248","v":0},{"$f":"'BX Language acquisition'!B3248","v":0},null,{"$f":"'BX Language acquisition'!C3248","v":0},{"$f":"'BX Language acquisition'!D3248","v":0}]
[{"$f":"'BX Language acquisition'!A3249","v":0},{"$f":"'BX Language acquisition'!B3249","v":0},null,{"$f":"'BX Language acquisition'!C3249","v":0},{"$f":"'BX Language acquisition'!D3249","v":0}]
[{"$f":"'BX Language acquisition'!A3250","v":0},{"$f":"'BX Language acquisition'!B3250","v":0},null,{"$f":"'BX Language acquisition'!C3250","v":0},{"$f":"'BX Language acquisition'!D3250","v":0}]
[{"$f":"'BX Language acquisition'!A3251","v":0},{"$f":"'BX Language acquisition'!B3251","v":0},null,{"$f":"'BX Language acquisition'!C3251","v":0},{"$f":"'BX Language acquisition'!D3251","v":0}]
[{"$f":"'BX Language acquisition'!A3252","v":0},{"$f":"'BX Language acquisition'!B3252","v":0},null,{"$f":"'BX Language acquisition'!C3252","v":0},{"$f":"'BX Language acquisition'!D3252","v":0}]
[{"$f":"'BX Language acquisition'!A3253","v":0},{"$f":"'BX Language acquisition'!B3253","v":0},null,{"$f":"'BX Language acquisition'!C3253","v":0},{"$f":"'BX Language acquisition'!D3253","v":0}]
[{"$f":"'BX Language acquisition'!A3254","v":0},{"$f":"'BX Language acquisition'!B3254","v":0},null,{"$f":"'BX Language acquisition'!C3254","v":0},{"$f":"'BX Language acquisition'!D3254","v":0}]
[{"$f":"'BX Language acquisition'!A3255","v":0},{"$f":"'BX Language acquisition'!B3255","v":0},null,{"$f":"'BX Language acquisition'!C3255","v":0},{"$f":"'BX Language acquisition'!D3255","v":0}]
[{"$f":"'BX Language acquisition'!A3256","v":0},{"$f":"'BX Language acquisition'!B3256","v":0},null,{"$f":"'BX Language acquisition'!C3256","v":0},{"$f":"'BX Language acquisition'!D3256","v":0}]
[{"$f":"'BX Language acquisition'!A3257","v":0},{"$f":"'BX Language acquisition'!B3257","v":0},null,{"$f":"'BX Language acquisition'!C3257","v":0},{"$f":"'BX Language acquisition'!D3257","v":0}]
[{"$f":"'BX Language acquisition'!A3258","v":0},{"$f":"'BX Language acquisition'!B3258","v":0},null,{"$f":"'BX Language acquisition'!C3258","v":0},{"$f":"'BX Language acquisition'!D3258","v":0}]
[{"$f":"'BX Language acquisition'!A3259","v":0},{"$f":"'BX Language acquisition'!B3259","v":0},null,{"$f":"'BX Language acquisition'!C3259","v":0},{"$f":"'BX Language acquisition'!D3259","v":0}]
[{"$f":"'BX Language acquisition'!A3260","v":0},{"$f":"'BX Language acquisition'!B3260","v":0},null,{"$f":"'BX Language acquisition'!C3260","v":0},{"$f":"'BX Language acquisition'!D3260","v":0}]
[{"$f":"'BX Language acquisition'!A3261","v":0},{"$f":"'BX Language acquisition'!B3261","v":0},null,{"$f":"'BX Language acquisition'!C3261","v":0},{"$f":"'BX Language acquisition'!D3261","v":0}]
[{"$f":"'BX Language acquisition'!A3262","v":0},{"$f":"'BX Language acquisition'!B3262","v":0},null,{"$f":"'BX Language acquisition'!C3262","v":0},{"$f":"'BX Language acquisition'!D3262","v":0}]
[{"$f":"'BX Language acquisition'!A3263","v":0},{"$f":"'BX Language acquisition'!B3263","v":0},null,{"$f":"'BX Language acquisition'!C3263","v":0},{"$f":"'BX Language acquisition'!D3263","v":0}]
[{"$f":"'BX Language acquisition'!A3264","v":0},{"$f":"'BX Language acquisition'!B3264","v":0},null,{"$f":"'BX Language acquisition'!C3264","v":0},{"$f":"'BX Language acquisition'!D3264","v":0}]
[{"$f":"'BX Language acquisition'!A3265","v":0},{"$f":"'BX Language acquisition'!B3265","v":0},null,{"$f":"'BX Language acquisition'!C3265","v":0},{"$f":"'BX Language acquisition'!D3265","v":0}]
[{"$f":"'BX Language acquisition'!A3266","v":0},{"$f":"'BX Language acquisition'!B3266","v":0},null,{"$f":"'BX Language acquisition'!C3266","v":0},{"$f":"'BX Language acquisition'!D3266","v":0}]
[{"$f":"'BX Language acquisition'!A3267","v":0},{"$f":"'BX Language acquisition'!B3267","v":0},null,{"$f":"'BX Language acquisition'!C3267","v":0},{"$f":"'BX Language acquisition'!D3267","v":0}]
[{"$f":"'BX Language acquisition'!A3268","v":0},{"$f":"'BX Language acquisition'!B3268","v":0},null,{"$f":"'BX Language acquisition'!C3268","v":0},{"$f":"'BX Language acquisition'!D3268","v":0}]
[{"$f":"'BX Language acquisition'!A3269","v":0},{"$f":"'BX Language acquisition'!B3269","v":0},null,{"$f":"'BX Language acquisition'!C3269","v":0},{"$f":"'BX Language acquisition'!D3269","v":0}]
[{"$f":"'BX Language acquisition'!A3270","v":0},{"$f":"'BX Language acquisition'!B3270","v":0},null,{"$f":"'BX Language acquisition'!C3270","v":0},{"$f":"'BX Language acquisition'!D3270","v":0}]
[{"$f":"'BX Language acquisition'!A3271","v":0},{"$f":"'BX Language acquisition'!B3271","v":0},null,{"$f":"'BX Language acquisition'!C3271","v":0},{"$f":"'BX Language acquisition'!D3271","v":0}]
[{"$f":"'BX Language acquisition'!A3272","v":0},{"$f":"'BX Language acquisition'!B3272","v":0},null,{"$f":"'BX Language acquisition'!C3272","v":0},{"$f":"'BX Language acquisition'!D3272","v":0}]
[{"$f":"'BX Language acquisition'!A3273","v":0},{"$f":"'BX Language acquisition'!B3273","v":0},null,{"$f":"'BX Language acquisition'!C3273","v":0},{"$f":"'BX Language acquisition'!D3273","v":0}]
[{"$f":"'BX Language acquisition'!A3274","v":0},{"$f":"'BX Language acquisition'!B3274","v":0},null,{"$f":"'BX Language acquisition'!C3274","v":0},{"$f":"'BX Language acquisition'!D3274","v":0}]
[{"$f":"'BX Language acquisition'!A3275","v":0},{"$f":"'BX Language acquisition'!B3275","v":0},null,{"$f":"'BX Language acquisition'!C3275","v":0},{"$f":"'BX Language acquisition'!D3275","v":0}]
[{"$f":"'BX Language acquisition'!A3276","v":0},{"$f":"'BX Language acquisition'!B3276","v":0},null,{"$f":"'BX Language acquisition'!C3276","v":0},{"$f":"'BX Language acquisition'!D3276","v":0}]
[{"$f":"'BX Language acquisition'!A3277","v":0},{"$f":"'BX Language acquisition'!B3277","v":0},null,{"$f":"'BX Language acquisition'!C3277","v":0},{"$f":"'BX Language acquisition'!D3277","v":0}]
[{"$f":"'BX Language acquisition'!A3278","v":0},{"$f":"'BX Language acquisition'!B3278","v":0},null,{"$f":"'BX Language acquisition'!C3278","v":0},{"$f":"'BX Language acquisition'!D3278","v":0}]
[{"$f":"'BX Language acquisition'!A3279","v":0},{"$f":"'BX Language acquisition'!B3279","v":0},null,{"$f":"'BX Language acquisition'!C3279","v":0},{"$f":"'BX Language acquisition'!D3279","v":0}]
[{"$f":"'BX Language acquisition'!A3280","v":0},{"$f":"'BX Language acquisition'!B3280","v":0},null,{"$f":"'BX Language acquisition'!C3280","v":0},{"$f":"'BX Language acquisition'!D3280","v":0}]
[{"$f":"'BX Language acquisition'!A3281","v":0},{"$f":"'BX Language acquisition'!B3281","v":0},null,{"$f":"'BX Language acquisition'!C3281","v":0},{"$f":"'BX Language acquisition'!D3281","v":0}]
[{"$f":"'BX Language acquisition'!A3282","v":0},{"$f":"'BX Language acquisition'!B3282","v":0},null,{"$f":"'BX Language acquisition'!C3282","v":0},{"$f":"'BX Language acquisition'!D3282","v":0}]
[{"$f":"'BX Language acquisition'!A3283","v":0},{"$f":"'BX Language acquisition'!B3283","v":0},null,{"$f":"'BX Language acquisition'!C3283","v":0},{"$f":"'BX Language acquisition'!D3283","v":0}]
[{"$f":"'BX Language acquisition'!A3284","v":0},{"$f":"'BX Language acquisition'!B3284","v":0},null,{"$f":"'BX Language acquisition'!C3284","v":0},{"$f":"'BX Language acquisition'!D3284","v":0}]
[{"$f":"'BX Language acquisition'!A3285","v":0},{"$f":"'BX Language acquisition'!B3285","v":0},null,{"$f":"'BX Language acquisition'!C3285","v":0},{"$f":"'BX Language acquisition'!D3285","v":0}]
[{"$f":"'BX Language acquisition'!A3286","v":0},{"$f":"'BX Language acquisition'!B3286","v":0},null,{"$f":"'BX Language acquisition'!C3286","v":0},{"$f":"'BX Language acquisition'!D3286","v":0}]
[{"$f":"'BX Language acquisition'!A3287","v":0},{"$f":"'BX Language acquisition'!B3287","v":0},null,{"$f":"'BX Language acquisition'!C3287","v":0},{"$f":"'BX Language acquisition'!D3287","v":0}]
[{"$f":"'BX Language acquisition'!A3288","v":0},{"$f":"'BX Language acquisition'!B3288","v":0},null,{"$f":"'BX Language acquisition'!C3288","v":0},{"$f":"'BX Language acquisition'!D3288","v":0}]
[{"$f":"'BX Language acquisition'!A3289","v":0},{"$f":"'BX Language acquisition'!B3289","v":0},null,{"$f":"'BX Language acquisition'!C3289","v":0},{"$f":"'BX Language acquisition'!D3289","v":0}]
[{"$f":"'BX Language acquisition'!A3290","v":0},{"$f":"'BX Language acquisition'!B3290","v":0},null,{"$f":"'BX Language acquisition'!C3290","v":0},{"$f":"'BX Language acquisition'!D3290","v":0}]
[{"$f":"'BX Language acquisition'!A3291","v":0},{"$f":"'BX Language acquisition'!B3291","v":0},null,{"$f":"'BX Language acquisition'!C3291","v":0},{"$f":"'BX Language acquisition'!D3291","v":0}]
[{"$f":"'BX Language acquisition'!A3292","v":0},{"$f":"'BX Language acquisition'!B3292","v":0},null,{"$f":"'BX Language acquisition'!C3292","v":0},{"$f":"'BX Language acquisition'!D3292","v":0}]
[{"$f":"'BX Language acquisition'!A3293","v":0},{"$f":"'BX Language acquisition'!B3293","v":0},null,{"$f":"'BX Language acquisition'!C3293","v":0},{"$f":"'BX Language acquisition'!D3293","v":0}]
[{"$f":"'BX Language acquisition'!A3294","v":0},{"$f":"'BX Language acquisition'!B3294","v":0},null,{"$f":"'BX Language acquisition'!C3294","v":0},{"$f":"'BX Language acquisition'!D3294","v":0}]
[{"$f":"'BX Language acquisition'!A3295","v":0},{"$f":"'BX Language acquisition'!B3295","v":0},null,{"$f":"'BX Language acquisition'!C3295","v":0},{"$f":"'BX Language acquisition'!D3295","v":0}]
[{"$f":"'BX Language acquisition'!A3296","v":0},{"$f":"'BX Language acquisition'!B3296","v":0},null,{"$f":"'BX Language acquisition'!C3296","v":0},{"$f":"'BX Language acquisition'!D3296","v":0}]
[{"$f":"'BX Language acquisition'!A3297","v":0},{"$f":"'BX Language acquisition'!B3297","v":0},null,{"$f":"'BX Language acquisition'!C3297","v":0},{"$f":"'BX Language acquisition'!D3297","v":0}]
[{"$f":"'BX Language acquisition'!A3298","v":0},{"$f":"'BX Language acquisition'!B3298","v":0},null,{"$f":"'BX Language acquisition'!C3298","v":0},{"$f":"'BX Language acquisition'!D3298","v":0}]
[{"$f":"'BX Language acquisition'!A3299","v":0},{"$f":"'BX Language acquisition'!B3299","v":0},null,{"$f":"'BX Language acquisition'!C3299","v":0},{"$f":"'BX Language acquisition'!D3299","v":0}]
[{"$f":"'BX Language acquisition'!A3300","v":0},{"$f":"'BX Language acquisition'!B3300","v":0},null,{"$f":"'BX Language acquisition'!C3300","v":0},{"$f":"'BX Language acquisition'!D3300","v":0}]
[{"$f":"'BX Language acquisition'!A3301","v":0},{"$f":"'BX Language acquisition'!B3301","v":0},null,{"$f":"'BX Language acquisition'!C3301","v":0},{"$f":"'BX Language acquisition'!D3301","v":0}]
[{"$f":"'BX Language acquisition'!A3302","v":0},{"$f":"'BX Language acquisition'!B3302","v":0},null,{"$f":"'BX Language acquisition'!C3302","v":0},{"$f":"'BX Language acquisition'!D3302","v":0}]
[{"$f":"'BX Language acquisition'!A3303","v":0},{"$f":"'BX Language acquisition'!B3303","v":0},null,{"$f":"'BX Language acquisition'!C3303","v":0},{"$f":"'BX Language acquisition'!D3303","v":0}]
[{"$f":"'BX Language acquisition'!A3304","v":0},{"$f":"'BX Language acquisition'!B3304","v":0},null,{"$f":"'BX Language acquisition'!C3304","v":0},{"$f":"'BX Language acquisition'!D3304","v":0}]
[{"$f":"'BX Language acquisition'!A3305","v":0},{"$f":"'BX Language acquisition'!B3305","v":0},null,{"$f":"'BX Language acquisition'!C3305","v":0},{"$f":"'BX Language acquisition'!D3305","v":0}]
[{"$f":"'BX Language acquisition'!A3306","v":0},{"$f":"'BX Language acquisition'!B3306","v":0},null,{"$f":"'BX Language acquisition'!C3306","v":0},{"$f":"'BX Language acquisition'!D3306","v":0}]
[{"$f":"'BX Language acquisition'!A3307","v":0},{"$f":"'BX Language acquisition'!B3307","v":0},null,{"$f":"'BX Language acquisition'!C3307","v":0},{"$f":"'BX Language acquisition'!D3307","v":0}]
[{"$f":"'BX Language acquisition'!A3308","v":0},{"$f":"'BX Language acquisition'!B3308","v":0},null,{"$f":"'BX Language acquisition'!C3308","v":0},{"$f":"'BX Language acquisition'!D3308","v":0}]
[{"$f":"'BX Language acquisition'!A3309","v":0},{"$f":"'BX Language acquisition'!B3309","v":0},null,{"$f":"'BX Language acquisition'!C3309","v":0},{"$f":"'BX Language acquisition'!D3309","v":0}]
[{"$f":"'BX Language acquisition'!A3310","v":0},{"$f":"'BX Language acquisition'!B3310","v":0},null,{"$f":"'BX Language acquisition'!C3310","v":0},{"$f":"'BX Language acquisition'!D3310","v":0}]
[{"$f":"'BX Language acquisition'!A3311","v":0},{"$f":"'BX Language acquisition'!B3311","v":0},null,{"$f":"'BX Language acquisition'!C3311","v":0},{"$f":"'BX Language acquisition'!D3311","v":0}]
[{"$f":"'BX Language acquisition'!A3312","v":0},{"$f":"'BX Language acquisition'!B3312","v":0},null,{"$f":"'BX Language acquisition'!C3312","v":0},{"$f":"'BX Language acquisition'!D3312","v":0}]
[{"$f":"'BX Language acquisition'!A3313","v":0},{"$f":"'BX Language acquisition'!B3313","v":0},null,{"$f":"'BX Language acquisition'!C3313","v":0},{"$f":"'BX Language acquisition'!D3313","v":0}]
[{"$f":"'BX Language acquisition'!A3314","v":0},{"$f":"'BX Language acquisition'!B3314","v":0},null,{"$f":"'BX Language acquisition'!C3314","v":0},{"$f":"'BX Language acquisition'!D3314","v":0}]
[{"$f":"'BX Language acquisition'!A3315","v":0},{"$f":"'BX Language acquisition'!B3315","v":0},null,{"$f":"'BX Language acquisition'!C3315","v":0},{"$f":"'BX Language acquisition'!D3315","v":0}]
[{"$f":"'BX Language acquisition'!A3316","v":0},{"$f":"'BX Language acquisition'!B3316","v":0},null,{"$f":"'BX Language acquisition'!C3316","v":0},{"$f":"'BX Language acquisition'!D3316","v":0}]
[{"$f":"'BX Language acquisition'!A3317","v":0},{"$f":"'BX Language acquisition'!B3317","v":0},null,{"$f":"'BX Language acquisition'!C3317","v":0},{"$f":"'BX Language acquisition'!D3317","v":0}]
[{"$f":"'BX Language acquisition'!A3318","v":0},{"$f":"'BX Language acquisition'!B3318","v":0},null,{"$f":"'BX Language acquisition'!C3318","v":0},{"$f":"'BX Language acquisition'!D3318","v":0}]
[{"$f":"'BX Language acquisition'!A3319","v":0},{"$f":"'BX Language acquisition'!B3319","v":0},null,{"$f":"'BX Language acquisition'!C3319","v":0},{"$f":"'BX Language acquisition'!D3319","v":0}]
[{"$f":"'BX Language acquisition'!A3320","v":0},{"$f":"'BX Language acquisition'!B3320","v":0},null,{"$f":"'BX Language acquisition'!C3320","v":0},{"$f":"'BX Language acquisition'!D3320","v":0}]
[{"$f":"'BX Language acquisition'!A3321","v":0},{"$f":"'BX Language acquisition'!B3321","v":0},null,{"$f":"'BX Language acquisition'!C3321","v":0},{"$f":"'BX Language acquisition'!D3321","v":0}]
[{"$f":"'BX Language acquisition'!A3322","v":0},{"$f":"'BX Language acquisition'!B3322","v":0},null,{"$f":"'BX Language acquisition'!C3322","v":0},{"$f":"'BX Language acquisition'!D3322","v":0}]
[{"$f":"'BX Language acquisition'!A3323","v":0},{"$f":"'BX Language acquisition'!B3323","v":0},null,{"$f":"'BX Language acquisition'!C3323","v":0},{"$f":"'BX Language acquisition'!D3323","v":0}]
[{"$f":"'BX Language acquisition'!A3324","v":0},{"$f":"'BX Language acquisition'!B3324","v":0},null,{"$f":"'BX Language acquisition'!C3324","v":0},{"$f":"'BX Language acquisition'!D3324","v":0}]
[{"$f":"'BX Language acquisition'!A3325","v":0},{"$f":"'BX Language acquisition'!B3325","v":0},null,{"$f":"'BX Language acquisition'!C3325","v":0},{"$f":"'BX Language acquisition'!D3325","v":0}]
[{"$f":"'BX Language acquisition'!A3326","v":0},{"$f":"'BX Language acquisition'!B3326","v":0},null,{"$f":"'BX Language acquisition'!C3326","v":0},{"$f":"'BX Language acquisition'!D3326","v":0}]
[{"$f":"'BX Language acquisition'!A3327","v":0},{"$f":"'BX Language acquisition'!B3327","v":0},null,{"$f":"'BX Language acquisition'!C3327","v":0},{"$f":"'BX Language acquisition'!D3327","v":0}]
[{"$f":"'BX Language acquisition'!A3328","v":0},{"$f":"'BX Language acquisition'!B3328","v":0},null,{"$f":"'BX Language acquisition'!C3328","v":0},{"$f":"'BX Language acquisition'!D3328","v":0}]
[{"$f":"'BX Language acquisition'!A3329","v":0},{"$f":"'BX Language acquisition'!B3329","v":0},null,{"$f":"'BX Language acquisition'!C3329","v":0},{"$f":"'BX Language acquisition'!D3329","v":0}]
[{"$f":"'BX Language acquisition'!A3330","v":0},{"$f":"'BX Language acquisition'!B3330","v":0},null,{"$f":"'BX Language acquisition'!C3330","v":0},{"$f":"'BX Language acquisition'!D3330","v":0}]
[{"$f":"'BX Language acquisition'!A3331","v":0},{"$f":"'BX Language acquisition'!B3331","v":0},null,{"$f":"'BX Language acquisition'!C3331","v":0},{"$f":"'BX Language acquisition'!D3331","v":0}]
[{"$f":"'BX Language acquisition'!A3332","v":0},{"$f":"'BX Language acquisition'!B3332","v":0},null,{"$f":"'BX Language acquisition'!C3332","v":0},{"$f":"'BX Language acquisition'!D3332","v":0}]
[{"$f":"'BX Language acquisition'!A3333","v":0},{"$f":"'BX Language acquisition'!B3333","v":0},null,{"$f":"'BX Language acquisition'!C3333","v":0},{"$f":"'BX Language acquisition'!D3333","v":0}]
[{"$f":"'BX Language acquisition'!A3334","v":0},{"$f":"'BX Language acquisition'!B3334","v":0},null,{"$f":"'BX Language acquisition'!C3334","v":0},{"$f":"'BX Language acquisition'!D3334","v":0}]
[{"$f":"'BX Language acquisition'!A3335","v":0},{"$f":"'BX Language acquisition'!B3335","v":0},null,{"$f":"'BX Language acquisition'!C3335","v":0},{"$f":"'BX Language acquisition'!D3335","v":0}]
[{"$f":"'BX Language acquisition'!A3336","v":0},{"$f":"'BX Language acquisition'!B3336","v":0},null,{"$f":"'BX Language acquisition'!C3336","v":0},{"$f":"'BX Language acquisition'!D3336","v":0}]
[{"$f":"'BX Language acquisition'!A3337","v":0},{"$f":"'BX Language acquisition'!B3337","v":0},null,{"$f":"'BX Language acquisition'!C3337","v":0},{"$f":"'BX Language acquisition'!D3337","v":0}]
[{"$f":"'BX Language acquisition'!A3338","v":0},{"$f":"'BX Language acquisition'!B3338","v":0},null,{"$f":"'BX Language acquisition'!C3338","v":0},{"$f":"'BX Language acquisition'!D3338","v":0}]
[{"$f":"'BX Language acquisition'!A3339","v":0},{"$f":"'BX Language acquisition'!B3339","v":0},null,{"$f":"'BX Language acquisition'!C3339","v":0},{"$f":"'BX Language acquisition'!D3339","v":0}]
[{"$f":"'BX Language acquisition'!A3340","v":0},{"$f":"'BX Language acquisition'!B3340","v":0},null,{"$f":"'BX Language acquisition'!C3340","v":0},{"$f":"'BX Language acquisition'!D3340","v":0}]
[{"$f":"'BX Language acquisition'!A3341","v":0},{"$f":"'BX Language acquisition'!B3341","v":0},null,{"$f":"'BX Language acquisition'!C3341","v":0},{"$f":"'BX Language acquisition'!D3341","v":0}]
[{"$f":"'BX Language acquisition'!A3342","v":0},{"$f":"'BX Language acquisition'!B3342","v":0},null,{"$f":"'BX Language acquisition'!C3342","v":0},{"$f":"'BX Language acquisition'!D3342","v":0}]
[{"$f":"'BX Language acquisition'!A3343","v":0},{"$f":"'BX Language acquisition'!B3343","v":0},null,{"$f":"'BX Language acquisition'!C3343","v":0},{"$f":"'BX Language acquisition'!D3343","v":0}]
[{"$f":"'BX Language acquisition'!A3344","v":0},{"$f":"'BX Language acquisition'!B3344","v":0},null,{"$f":"'BX Language acquisition'!C3344","v":0},{"$f":"'BX Language acquisition'!D3344","v":0}]
[{"$f":"'BX Language acquisition'!A3345","v":0},{"$f":"'BX Language acquisition'!B3345","v":0},null,{"$f":"'BX Language acquisition'!C3345","v":0},{"$f":"'BX Language acquisition'!D3345","v":0}]
[{"$f":"'BX Language acquisition'!A3346","v":0},{"$f":"'BX Language acquisition'!B3346","v":0},null,{"$f":"'BX Language acquisition'!C3346","v":0},{"$f":"'BX Language acquisition'!D3346","v":0}]
[{"$f":"'BX Language acquisition'!A3347","v":0},{"$f":"'BX Language acquisition'!B3347","v":0},null,{"$f":"'BX Language acquisition'!C3347","v":0},{"$f":"'BX Language acquisition'!D3347","v":0}]
[{"$f":"'BX Language acquisition'!A3348","v":0},{"$f":"'BX Language acquisition'!B3348","v":0},null,{"$f":"'BX Language acquisition'!C3348","v":0},{"$f":"'BX Language acquisition'!D3348","v":0}]
[{"$f":"'BX Language acquisition'!A3349","v":0},{"$f":"'BX Language acquisition'!B3349","v":0},null,{"$f":"'BX Language acquisition'!C3349","v":0},{"$f":"'BX Language acquisition'!D3349","v":0}]
[{"$f":"'BX Language acquisition'!A3350","v":0},{"$f":"'BX Language acquisition'!B3350","v":0},null,{"$f":"'BX Language acquisition'!C3350","v":0},{"$f":"'BX Language acquisition'!D3350","v":0}]
[{"$f":"'BX Language acquisition'!A3351","v":0},{"$f":"'BX Language acquisition'!B3351","v":0},null,{"$f":"'BX Language acquisition'!C3351","v":0},{"$f":"'BX Language acquisition'!D3351","v":0}]
[{"$f":"'BX Language acquisition'!A3352","v":0},{"$f":"'BX Language acquisition'!B3352","v":0},null,{"$f":"'BX Language acquisition'!C3352","v":0},{"$f":"'BX Language acquisition'!D3352","v":0}]
[{"$f":"'BX Language acquisition'!A3353","v":0},{"$f":"'BX Language acquisition'!B3353","v":0},null,{"$f":"'BX Language acquisition'!C3353","v":0},{"$f":"'BX Language acquisition'!D3353","v":0}]
[{"$f":"'BX Language acquisition'!A3354","v":0},{"$f":"'BX Language acquisition'!B3354","v":0},null,{"$f":"'BX Language acquisition'!C3354","v":0},{"$f":"'BX Language acquisition'!D3354","v":0}]
[{"$f":"'BX Language acquisition'!A3355","v":0},{"$f":"'BX Language acquisition'!B3355","v":0},null,{"$f":"'BX Language acquisition'!C3355","v":0},{"$f":"'BX Language acquisition'!D3355","v":0}]
[{"$f":"'BX Language acquisition'!A3356","v":0},{"$f":"'BX Language acquisition'!B3356","v":0},null,{"$f":"'BX Language acquisition'!C3356","v":0},{"$f":"'BX Language acquisition'!D3356","v":0}]
[{"$f":"'BX Language acquisition'!A3357","v":0},{"$f":"'BX Language acquisition'!B3357","v":0},null,{"$f":"'BX Language acquisition'!C3357","v":0},{"$f":"'BX Language acquisition'!D3357","v":0}]
[{"$f":"'BX Language acquisition'!A3358","v":0},{"$f":"'BX Language acquisition'!B3358","v":0},null,{"$f":"'BX Language acquisition'!C3358","v":0},{"$f":"'BX Language acquisition'!D3358","v":0}]
[{"$f":"'BX Language acquisition'!A3359","v":0},{"$f":"'BX Language acquisition'!B3359","v":0},null,{"$f":"'BX Language acquisition'!C3359","v":0},{"$f":"'BX Language acquisition'!D3359","v":0}]
[{"$f":"'BX Language acquisition'!A3360","v":0},{"$f":"'BX Language acquisition'!B3360","v":0},null,{"$f":"'BX Language acquisition'!C3360","v":0},{"$f":"'BX Language acquisition'!D3360","v":0}]
[{"$f":"'BX Language acquisition'!A3361","v":0},{"$f":"'BX Language acquisition'!B3361","v":0},null,{"$f":"'BX Language acquisition'!C3361","v":0},{"$f":"'BX Language acquisition'!D3361","v":0}]
[{"$f":"'BX Language acquisition'!A3362","v":0},{"$f":"'BX Language acquisition'!B3362","v":0},null,{"$f":"'BX Language acquisition'!C3362","v":0},{"$f":"'BX Language acquisition'!D3362","v":0}]
[{"$f":"'BX Language acquisition'!A3363","v":0},{"$f":"'BX Language acquisition'!B3363","v":0},null,{"$f":"'BX Language acquisition'!C3363","v":0},{"$f":"'BX Language acquisition'!D3363","v":0}]
[{"$f":"'BX Language acquisition'!A3364","v":0},{"$f":"'BX Language acquisition'!B3364","v":0},null,{"$f":"'BX Language acquisition'!C3364","v":0},{"$f":"'BX Language acquisition'!D3364","v":0}]
[{"$f":"'BX Language acquisition'!A3365","v":0},{"$f":"'BX Language acquisition'!B3365","v":0},null,{"$f":"'BX Language acquisition'!C3365","v":0},{"$f":"'BX Language acquisition'!D3365","v":0}]
[{"$f":"'BX Language acquisition'!A3366","v":0},{"$f":"'BX Language acquisition'!B3366","v":0},null,{"$f":"'BX Language acquisition'!C3366","v":0},{"$f":"'BX Language acquisition'!D3366","v":0}]
[{"$f":"'BX Language acquisition'!A3367","v":0},{"$f":"'BX Language acquisition'!B3367","v":0},null,{"$f":"'BX Language acquisition'!C3367","v":0},{"$f":"'BX Language acquisition'!D3367","v":0}]
[{"$f":"'BX Language acquisition'!A3368","v":0},{"$f":"'BX Language acquisition'!B3368","v":0},null,{"$f":"'BX Language acquisition'!C3368","v":0},{"$f":"'BX Language acquisition'!D3368","v":0}]
[{"$f":"'BX Language acquisition'!A3369","v":0},{"$f":"'BX Language acquisition'!B3369","v":0},null,{"$f":"'BX Language acquisition'!C3369","v":0},{"$f":"'BX Language acquisition'!D3369","v":0}]
[{"$f":"'BX Language acquisition'!A3370","v":0},{"$f":"'BX Language acquisition'!B3370","v":0},null,{"$f":"'BX Language acquisition'!C3370","v":0},{"$f":"'BX Language acquisition'!D3370","v":0}]
[{"$f":"'BX Language acquisition'!A3371","v":0},{"$f":"'BX Language acquisition'!B3371","v":0},null,{"$f":"'BX Language acquisition'!C3371","v":0},{"$f":"'BX Language acquisition'!D3371","v":0}]
[{"$f":"'BX Language acquisition'!A3372","v":0},{"$f":"'BX Language acquisition'!B3372","v":0},null,{"$f":"'BX Language acquisition'!C3372","v":0},{"$f":"'BX Language acquisition'!D3372","v":0}]
[{"$f":"'BX Language acquisition'!A3373","v":0},{"$f":"'BX Language acquisition'!B3373","v":0},null,{"$f":"'BX Language acquisition'!C3373","v":0},{"$f":"'BX Language acquisition'!D3373","v":0}]
[{"$f":"'BX Language acquisition'!A3374","v":0},{"$f":"'BX Language acquisition'!B3374","v":0},null,{"$f":"'BX Language acquisition'!C3374","v":0},{"$f":"'BX Language acquisition'!D3374","v":0}]
[{"$f":"'BX Language acquisition'!A3375","v":0},{"$f":"'BX Language acquisition'!B3375","v":0},null,{"$f":"'BX Language acquisition'!C3375","v":0},{"$f":"'BX Language acquisition'!D3375","v":0}]
[{"$f":"'BX Language acquisition'!A3376","v":0},{"$f":"'BX Language acquisition'!B3376","v":0},null,{"$f":"'BX Language acquisition'!C3376","v":0},{"$f":"'BX Language acquisition'!D3376","v":0}]
[{"$f":"'BX Language acquisition'!A3377","v":0},{"$f":"'BX Language acquisition'!B3377","v":0},null,{"$f":"'BX Language acquisition'!C3377","v":0},{"$f":"'BX Language acquisition'!D3377","v":0}]
[{"$f":"'BX Language acquisition'!A3378","v":0},{"$f":"'BX Language acquisition'!B3378","v":0},null,{"$f":"'BX Language acquisition'!C3378","v":0},{"$f":"'BX Language acquisition'!D3378","v":0}]
[{"$f":"'BX Language acquisition'!A3379","v":0},{"$f":"'BX Language acquisition'!B3379","v":0},null,{"$f":"'BX Language acquisition'!C3379","v":0},{"$f":"'BX Language acquisition'!D3379","v":0}]
[{"$f":"'BX Language acquisition'!A3380","v":0},{"$f":"'BX Language acquisition'!B3380","v":0},null,{"$f":"'BX Language acquisition'!C3380","v":0},{"$f":"'BX Language acquisition'!D3380","v":0}]
[{"$f":"'BX Language acquisition'!A3381","v":0},{"$f":"'BX Language acquisition'!B3381","v":0},null,{"$f":"'BX Language acquisition'!C3381","v":0},{"$f":"'BX Language acquisition'!D3381","v":0}]
[{"$f":"'BX Language acquisition'!A3382","v":0},{"$f":"'BX Language acquisition'!B3382","v":0},null,{"$f":"'BX Language acquisition'!C3382","v":0},{"$f":"'BX Language acquisition'!D3382","v":0}]
[{"$f":"'BX Language acquisition'!A3383","v":0},{"$f":"'BX Language acquisition'!B3383","v":0},null,{"$f":"'BX Language acquisition'!C3383","v":0},{"$f":"'BX Language acquisition'!D3383","v":0}]
[{"$f":"'BX Language acquisition'!A3384","v":0},{"$f":"'BX Language acquisition'!B3384","v":0},null,{"$f":"'BX Language acquisition'!C3384","v":0},{"$f":"'BX Language acquisition'!D3384","v":0}]
[{"$f":"'BX Language acquisition'!A3385","v":0},{"$f":"'BX Language acquisition'!B3385","v":0},null,{"$f":"'BX Language acquisition'!C3385","v":0},{"$f":"'BX Language acquisition'!D3385","v":0}]
[{"$f":"'BX Language acquisition'!A3386","v":0},{"$f":"'BX Language acquisition'!B3386","v":0},null,{"$f":"'BX Language acquisition'!C3386","v":0},{"$f":"'BX Language acquisition'!D3386","v":0}]
[{"$f":"'BX Language acquisition'!A3387","v":0},{"$f":"'BX Language acquisition'!B3387","v":0},null,{"$f":"'BX Language acquisition'!C3387","v":0},{"$f":"'BX Language acquisition'!D3387","v":0}]
[{"$f":"'BX Language acquisition'!A3388","v":0},{"$f":"'BX Language acquisition'!B3388","v":0},null,{"$f":"'BX Language acquisition'!C3388","v":0},{"$f":"'BX Language acquisition'!D3388","v":0}]
[{"$f":"'BX Language acquisition'!A3389","v":0},{"$f":"'BX Language acquisition'!B3389","v":0},null,{"$f":"'BX Language acquisition'!C3389","v":0},{"$f":"'BX Language acquisition'!D3389","v":0}]
[{"$f":"'BX Language acquisition'!A3390","v":0},{"$f":"'BX Language acquisition'!B3390","v":0},null,{"$f":"'BX Language acquisition'!C3390","v":0},{"$f":"'BX Language acquisition'!D3390","v":0}]
[{"$f":"'BX Language acquisition'!A3391","v":0},{"$f":"'BX Language acquisition'!B3391","v":0},null,{"$f":"'BX Language acquisition'!C3391","v":0},{"$f":"'BX Language acquisition'!D3391","v":0}]
[{"$f":"'BX Language acquisition'!A3392","v":0},{"$f":"'BX Language acquisition'!B3392","v":0},null,{"$f":"'BX Language acquisition'!C3392","v":0},{"$f":"'BX Language acquisition'!D3392","v":0}]
[{"$f":"'BX Language acquisition'!A3393","v":0},{"$f":"'BX Language acquisition'!B3393","v":0},null,{"$f":"'BX Language acquisition'!C3393","v":0},{"$f":"'BX Language acquisition'!D3393","v":0}]
[{"$f":"'BX Language acquisition'!A3394","v":0},{"$f":"'BX Language acquisition'!B3394","v":0},null,{"$f":"'BX Language acquisition'!C3394","v":0},{"$f":"'BX Language acquisition'!D3394","v":0}]
[{"$f":"'BX Language acquisition'!A3395","v":0},{"$f":"'BX Language acquisition'!B3395","v":0},null,{"$f":"'BX Language acquisition'!C3395","v":0},{"$f":"'BX Language acquisition'!D3395","v":0}]
[{"$f":"'BX Language acquisition'!A3396","v":0},{"$f":"'BX Language acquisition'!B3396","v":0},null,{"$f":"'BX Language acquisition'!C3396","v":0},{"$f":"'BX Language acquisition'!D3396","v":0}]
[{"$f":"'BX Language acquisition'!A3397","v":0},{"$f":"'BX Language acquisition'!B3397","v":0},null,{"$f":"'BX Language acquisition'!C3397","v":0},{"$f":"'BX Language acquisition'!D3397","v":0}]
[{"$f":"'BX Language acquisition'!A3398","v":0},{"$f":"'BX Language acquisition'!B3398","v":0},null,{"$f":"'BX Language acquisition'!C3398","v":0},{"$f":"'BX Language acquisition'!D3398","v":0}]
[{"$f":"'BX Language acquisition'!A3399","v":0},{"$f":"'BX Language acquisition'!B3399","v":0},null,{"$f":"'BX Language acquisition'!C3399","v":0},{"$f":"'BX Language acquisition'!D3399","v":0}]
[{"$f":"'BX Language acquisition'!A3400","v":0},{"$f":"'BX Language acquisition'!B3400","v":0},null,{"$f":"'BX Language acquisition'!C3400","v":0},{"$f":"'BX Language acquisition'!D3400","v":0}]
[{"$f":"'BX Language acquisition'!A3401","v":0},{"$f":"'BX Language acquisition'!B3401","v":0},null,{"$f":"'BX Language acquisition'!C3401","v":0},{"$f":"'BX Language acquisition'!D3401","v":0}]
[{"$f":"'BX Language acquisition'!A3402","v":0},{"$f":"'BX Language acquisition'!B3402","v":0},null,{"$f":"'BX Language acquisition'!C3402","v":0},{"$f":"'BX Language acquisition'!D3402","v":0}]
[{"$f":"'BX Language acquisition'!A3403","v":0},{"$f":"'BX Language acquisition'!B3403","v":0},null,{"$f":"'BX Language acquisition'!C3403","v":0},{"$f":"'BX Language acquisition'!D3403","v":0}]
[{"$f":"'BX Language acquisition'!A3404","v":0},{"$f":"'BX Language acquisition'!B3404","v":0},null,{"$f":"'BX Language acquisition'!C3404","v":0},{"$f":"'BX Language acquisition'!D3404","v":0}]
[{"$f":"'BX Language acquisition'!A3405","v":0},{"$f":"'BX Language acquisition'!B3405","v":0},null,{"$f":"'BX Language acquisition'!C3405","v":0},{"$f":"'BX Language acquisition'!D3405","v":0}]
[{"$f":"'BX Language acquisition'!A3406","v":0},{"$f":"'BX Language acquisition'!B3406","v":0},null,{"$f":"'BX Language acquisition'!C3406","v":0},{"$f":"'BX Language acquisition'!D3406","v":0}]
[{"$f":"'BX Language acquisition'!A3407","v":0},{"$f":"'BX Language acquisition'!B3407","v":0},null,{"$f":"'BX Language acquisition'!C3407","v":0},{"$f":"'BX Language acquisition'!D3407","v":0}]
[{"$f":"'BX Language acquisition'!A3408","v":0},{"$f":"'BX Language acquisition'!B3408","v":0},null,{"$f":"'BX Language acquisition'!C3408","v":0},{"$f":"'BX Language acquisition'!D3408","v":0}]
[{"$f":"'BX Language acquisition'!A3409","v":0},{"$f":"'BX Language acquisition'!B3409","v":0},null,{"$f":"'BX Language acquisition'!C3409","v":0},{"$f":"'BX Language acquisition'!D3409","v":0}]
[{"$f":"'BX Language acquisition'!A3410","v":0},{"$f":"'BX Language acquisition'!B3410","v":0},null,{"$f":"'BX Language acquisition'!C3410","v":0},{"$f":"'BX Language acquisition'!D3410","v":0}]
[{"$f":"'BX Language acquisition'!A3411","v":0},{"$f":"'BX Language acquisition'!B3411","v":0},null,{"$f":"'BX Language acquisition'!C3411","v":0},{"$f":"'BX Language acquisition'!D3411","v":0}]
[{"$f":"'BX Language acquisition'!A3412","v":0},{"$f":"'BX Language acquisition'!B3412","v":0},null,{"$f":"'BX Language acquisition'!C3412","v":0},{"$f":"'BX Language acquisition'!D3412","v":0}]
[{"$f":"'BX Language acquisition'!A3413","v":0},{"$f":"'BX Language acquisition'!B3413","v":0},null,{"$f":"'BX Language acquisition'!C3413","v":0},{"$f":"'BX Language acquisition'!D3413","v":0}]
[{"$f":"'BX Language acquisition'!A3414","v":0},{"$f":"'BX Language acquisition'!B3414","v":0},null,{"$f":"'BX Language acquisition'!C3414","v":0},{"$f":"'BX Language acquisition'!D3414","v":0}]
[{"$f":"'BX Language acquisition'!A3415","v":0},{"$f":"'BX Language acquisition'!B3415","v":0},null,{"$f":"'BX Language acquisition'!C3415","v":0},{"$f":"'BX Language acquisition'!D3415","v":0}]
[{"$f":"'BX Language acquisition'!A3416","v":0},{"$f":"'BX Language acquisition'!B3416","v":0},null,{"$f":"'BX Language acquisition'!C3416","v":0},{"$f":"'BX Language acquisition'!D3416","v":0}]
[{"$f":"'BX Language acquisition'!A3417","v":0},{"$f":"'BX Language acquisition'!B3417","v":0},null,{"$f":"'BX Language acquisition'!C3417","v":0},{"$f":"'BX Language acquisition'!D3417","v":0}]
[{"$f":"'BX Language acquisition'!A3418","v":0},{"$f":"'BX Language acquisition'!B3418","v":0},null,{"$f":"'BX Language acquisition'!C3418","v":0},{"$f":"'BX Language acquisition'!D3418","v":0}]
[{"$f":"'BX Language acquisition'!A3419","v":0},{"$f":"'BX Language acquisition'!B3419","v":0},null,{"$f":"'BX Language acquisition'!C3419","v":0},{"$f":"'BX Language acquisition'!D3419","v":0}]
[{"$f":"'BX Language acquisition'!A3420","v":0},{"$f":"'BX Language acquisition'!B3420","v":0},null,{"$f":"'BX Language acquisition'!C3420","v":0},{"$f":"'BX Language acquisition'!D3420","v":0}]
[{"$f":"'BX Language acquisition'!A3421","v":0},{"$f":"'BX Language acquisition'!B3421","v":0},null,{"$f":"'BX Language acquisition'!C3421","v":0},{"$f":"'BX Language acquisition'!D3421","v":0}]
[{"$f":"'BX Language acquisition'!A3422","v":0},{"$f":"'BX Language acquisition'!B3422","v":0},null,{"$f":"'BX Language acquisition'!C3422","v":0},{"$f":"'BX Language acquisition'!D3422","v":0}]
[{"$f":"'BX Language acquisition'!A3423","v":0},{"$f":"'BX Language acquisition'!B3423","v":0},null,{"$f":"'BX Language acquisition'!C3423","v":0},{"$f":"'BX Language acquisition'!D3423","v":0}]
[{"$f":"'BX Language acquisition'!A3424","v":0},{"$f":"'BX Language acquisition'!B3424","v":0},null,{"$f":"'BX Language acquisition'!C3424","v":0},{"$f":"'BX Language acquisition'!D3424","v":0}]
[{"$f":"'BX Language acquisition'!A3425","v":0},{"$f":"'BX Language acquisition'!B3425","v":0},null,{"$f":"'BX Language acquisition'!C3425","v":0},{"$f":"'BX Language acquisition'!D3425","v":0}]
[{"$f":"'BX Language acquisition'!A3426","v":0},{"$f":"'BX Language acquisition'!B3426","v":0},null,{"$f":"'BX Language acquisition'!C3426","v":0},{"$f":"'BX Language acquisition'!D3426","v":0}]
[{"$f":"'BX Language acquisition'!A3427","v":0},{"$f":"'BX Language acquisition'!B3427","v":0},null,{"$f":"'BX Language acquisition'!C3427","v":0},{"$f":"'BX Language acquisition'!D3427","v":0}]
[{"$f":"'BX Language acquisition'!A3428","v":0},{"$f":"'BX Language acquisition'!B3428","v":0},null,{"$f":"'BX Language acquisition'!C3428","v":0},{"$f":"'BX Language acquisition'!D3428","v":0}]
[{"$f":"'BX Language acquisition'!A3429","v":0},{"$f":"'BX Language acquisition'!B3429","v":0},null,{"$f":"'BX Language acquisition'!C3429","v":0},{"$f":"'BX Language acquisition'!D3429","v":0}]
[{"$f":"'BX Language acquisition'!A3430","v":0},{"$f":"'BX Language acquisition'!B3430","v":0},null,{"$f":"'BX Language acquisition'!C3430","v":0},{"$f":"'BX Language acquisition'!D3430","v":0}]
[{"$f":"'BX Language acquisition'!A3431","v":0},{"$f":"'BX Language acquisition'!B3431","v":0},null,{"$f":"'BX Language acquisition'!C3431","v":0},{"$f":"'BX Language acquisition'!D3431","v":0}]
[{"$f":"'BX Language acquisition'!A3432","v":0},{"$f":"'BX Language acquisition'!B3432","v":0},null,{"$f":"'BX Language acquisition'!C3432","v":0},{"$f":"'BX Language acquisition'!D3432","v":0}]
[{"$f":"'BX Language acquisition'!A3433","v":0},{"$f":"'BX Language acquisition'!B3433","v":0},null,{"$f":"'BX Language acquisition'!C3433","v":0},{"$f":"'BX Language acquisition'!D3433","v":0}]
[{"$f":"'BX Language acquisition'!A3434","v":0},{"$f":"'BX Language acquisition'!B3434","v":0},null,{"$f":"'BX Language acquisition'!C3434","v":0},{"$f":"'BX Language acquisition'!D3434","v":0}]
[{"$f":"'BX Language acquisition'!A3435","v":0},{"$f":"'BX Language acquisition'!B3435","v":0},null,{"$f":"'BX Language acquisition'!C3435","v":0},{"$f":"'BX Language acquisition'!D3435","v":0}]
[{"$f":"'BX Language acquisition'!A3436","v":0},{"$f":"'BX Language acquisition'!B3436","v":0},null,{"$f":"'BX Language acquisition'!C3436","v":0},{"$f":"'BX Language acquisition'!D3436","v":0}]
[{"$f":"'BX Language acquisition'!A3437","v":0},{"$f":"'BX Language acquisition'!B3437","v":0},null,{"$f":"'BX Language acquisition'!C3437","v":0},{"$f":"'BX Language acquisition'!D3437","v":0}]
[{"$f":"'BX Language acquisition'!A3438","v":0},{"$f":"'BX Language acquisition'!B3438","v":0},null,{"$f":"'BX Language acquisition'!C3438","v":0},{"$f":"'BX Language acquisition'!D3438","v":0}]
[{"$f":"'BX Language acquisition'!A3439","v":0},{"$f":"'BX Language acquisition'!B3439","v":0},null,{"$f":"'BX Language acquisition'!C3439","v":0},{"$f":"'BX Language acquisition'!D3439","v":0}]
[{"$f":"'BX Language acquisition'!A3440","v":0},{"$f":"'BX Language acquisition'!B3440","v":0},null,{"$f":"'BX Language acquisition'!C3440","v":0},{"$f":"'BX Language acquisition'!D3440","v":0}]
[{"$f":"'BX Language acquisition'!A3441","v":0},{"$f":"'BX Language acquisition'!B3441","v":0},null,{"$f":"'BX Language acquisition'!C3441","v":0},{"$f":"'BX Language acquisition'!D3441","v":0}]
[{"$f":"'BX Language acquisition'!A3442","v":0},{"$f":"'BX Language acquisition'!B3442","v":0},null,{"$f":"'BX Language acquisition'!C3442","v":0},{"$f":"'BX Language acquisition'!D3442","v":0}]
[{"$f":"'BX Language acquisition'!A3443","v":0},{"$f":"'BX Language acquisition'!B3443","v":0},null,{"$f":"'BX Language acquisition'!C3443","v":0},{"$f":"'BX Language acquisition'!D3443","v":0}]
[{"$f":"'BX Language acquisition'!A3444","v":0},{"$f":"'BX Language acquisition'!B3444","v":0},null,{"$f":"'BX Language acquisition'!C3444","v":0},{"$f":"'BX Language acquisition'!D3444","v":0}]
[{"$f":"'BX Language acquisition'!A3445","v":0},{"$f":"'BX Language acquisition'!B3445","v":0},null,{"$f":"'BX Language acquisition'!C3445","v":0},{"$f":"'BX Language acquisition'!D3445","v":0}]
[{"$f":"'BX Language acquisition'!A3446","v":0},{"$f":"'BX Language acquisition'!B3446","v":0},null,{"$f":"'BX Language acquisition'!C3446","v":0},{"$f":"'BX Language acquisition'!D3446","v":0}]
[{"$f":"'BX Language acquisition'!A3447","v":0},{"$f":"'BX Language acquisition'!B3447","v":0},null,{"$f":"'BX Language acquisition'!C3447","v":0},{"$f":"'BX Language acquisition'!D3447","v":0}]
[{"$f":"'BX Language acquisition'!A3448","v":0},{"$f":"'BX Language acquisition'!B3448","v":0},null,{"$f":"'BX Language acquisition'!C3448","v":0},{"$f":"'BX Language acquisition'!D3448","v":0}]
[{"$f":"'BX Language acquisition'!A3449","v":0},{"$f":"'BX Language acquisition'!B3449","v":0},null,{"$f":"'BX Language acquisition'!C3449","v":0},{"$f":"'BX Language acquisition'!D3449","v":0}]
[{"$f":"'BX Language acquisition'!A3450","v":0},{"$f":"'BX Language acquisition'!B3450","v":0},null,{"$f":"'BX Language acquisition'!C3450","v":0},{"$f":"'BX Language acquisition'!D3450","v":0}]
[{"$f":"'BX Language acquisition'!A3451","v":0},{"$f":"'BX Language acquisition'!B3451","v":0},null,{"$f":"'BX Language acquisition'!C3451","v":0},{"$f":"'BX Language acquisition'!D3451","v":0}]
[{"$f":"'BX Language acquisition'!A3452","v":0},{"$f":"'BX Language acquisition'!B3452","v":0},null,{"$f":"'BX Language acquisition'!C3452","v":0},{"$f":"'BX Language acquisition'!D3452","v":0}]
[{"$f":"'BX Language acquisition'!A3453","v":0},{"$f":"'BX Language acquisition'!B3453","v":0},null,{"$f":"'BX Language acquisition'!C3453","v":0},{"$f":"'BX Language acquisition'!D3453","v":0}]
[{"$f":"'BX Language acquisition'!A3454","v":0},{"$f":"'BX Language acquisition'!B3454","v":0},null,{"$f":"'BX Language acquisition'!C3454","v":0},{"$f":"'BX Language acquisition'!D3454","v":0}]
[{"$f":"'BX Language acquisition'!A3455","v":0},{"$f":"'BX Language acquisition'!B3455","v":0},null,{"$f":"'BX Language acquisition'!C3455","v":0},{"$f":"'BX Language acquisition'!D3455","v":0}]
[{"$f":"'BX Language acquisition'!A3456","v":0},{"$f":"'BX Language acquisition'!B3456","v":0},null,{"$f":"'BX Language acquisition'!C3456","v":0},{"$f":"'BX Language acquisition'!D3456","v":0}]
[{"$f":"'BX Language acquisition'!A3457","v":0},{"$f":"'BX Language acquisition'!B3457","v":0},null,{"$f":"'BX Language acquisition'!C3457","v":0},{"$f":"'BX Language acquisition'!D3457","v":0}]
[{"$f":"'BX Language acquisition'!A3458","v":0},{"$f":"'BX Language acquisition'!B3458","v":0},null,{"$f":"'BX Language acquisition'!C3458","v":0},{"$f":"'BX Language acquisition'!D3458","v":0}]
[{"$f":"'BX Language acquisition'!A3459","v":0},{"$f":"'BX Language acquisition'!B3459","v":0},null,{"$f":"'BX Language acquisition'!C3459","v":0},{"$f":"'BX Language acquisition'!D3459","v":0}]
[{"$f":"'BX Language acquisition'!A3460","v":0},{"$f":"'BX Language acquisition'!B3460","v":0},null,{"$f":"'BX Language acquisition'!C3460","v":0},{"$f":"'BX Language acquisition'!D3460","v":0}]
[{"$f":"'BX Language acquisition'!A3461","v":0},{"$f":"'BX Language acquisition'!B3461","v":0},null,{"$f":"'BX Language acquisition'!C3461","v":0},{"$f":"'BX Language acquisition'!D3461","v":0}]
[{"$f":"'BX Language acquisition'!A3462","v":0},{"$f":"'BX Language acquisition'!B3462","v":0},null,{"$f":"'BX Language acquisition'!C3462","v":0},{"$f":"'BX Language acquisition'!D3462","v":0}]
[{"$f":"'BX Language acquisition'!A3463","v":0},{"$f":"'BX Language acquisition'!B3463","v":0},null,{"$f":"'BX Language acquisition'!C3463","v":0},{"$f":"'BX Language acquisition'!D3463","v":0}]
[{"$f":"'BX Language acquisition'!A3464","v":0},{"$f":"'BX Language acquisition'!B3464","v":0},null,{"$f":"'BX Language acquisition'!C3464","v":0},{"$f":"'BX Language acquisition'!D3464","v":0}]
[{"$f":"'BX Language acquisition'!A3465","v":0},{"$f":"'BX Language acquisition'!B3465","v":0},null,{"$f":"'BX Language acquisition'!C3465","v":0},{"$f":"'BX Language acquisition'!D3465","v":0}]
[{"$f":"'BX Language acquisition'!A3466","v":0},{"$f":"'BX Language acquisition'!B3466","v":0},null,{"$f":"'BX Language acquisition'!C3466","v":0},{"$f":"'BX Language acquisition'!D3466","v":0}]
[{"$f":"'BX Language acquisition'!A3467","v":0},{"$f":"'BX Language acquisition'!B3467","v":0},null,{"$f":"'BX Language acquisition'!C3467","v":0},{"$f":"'BX Language acquisition'!D3467","v":0}]
[{"$f":"'BX Language acquisition'!A3468","v":0},{"$f":"'BX Language acquisition'!B3468","v":0},null,{"$f":"'BX Language acquisition'!C3468","v":0},{"$f":"'BX Language acquisition'!D3468","v":0}]
[{"$f":"'BX Language acquisition'!A3469","v":0},{"$f":"'BX Language acquisition'!B3469","v":0},null,{"$f":"'BX Language acquisition'!C3469","v":0},{"$f":"'BX Language acquisition'!D3469","v":0}]
[{"$f":"'BX Language acquisition'!A3470","v":0},{"$f":"'BX Language acquisition'!B3470","v":0},null,{"$f":"'BX Language acquisition'!C3470","v":0},{"$f":"'BX Language acquisition'!D3470","v":0}]
[{"$f":"'BX Language acquisition'!A3471","v":0},{"$f":"'BX Language acquisition'!B3471","v":0},null,{"$f":"'BX Language acquisition'!C3471","v":0},{"$f":"'BX Language acquisition'!D3471","v":0}]
[{"$f":"'BX Language acquisition'!A3472","v":0},{"$f":"'BX Language acquisition'!B3472","v":0},null,{"$f":"'BX Language acquisition'!C3472","v":0},{"$f":"'BX Language acquisition'!D3472","v":0}]
[{"$f":"'BX Language acquisition'!A3473","v":0},{"$f":"'BX Language acquisition'!B3473","v":0},null,{"$f":"'BX Language acquisition'!C3473","v":0},{"$f":"'BX Language acquisition'!D3473","v":0}]
[{"$f":"'BX Language acquisition'!A3474","v":0},{"$f":"'BX Language acquisition'!B3474","v":0},null,{"$f":"'BX Language acquisition'!C3474","v":0},{"$f":"'BX Language acquisition'!D3474","v":0}]
[{"$f":"'BX Language acquisition'!A3475","v":0},{"$f":"'BX Language acquisition'!B3475","v":0},null,{"$f":"'BX Language acquisition'!C3475","v":0},{"$f":"'BX Language acquisition'!D3475","v":0}]
[{"$f":"'BX Language acquisition'!A3476","v":0},{"$f":"'BX Language acquisition'!B3476","v":0},null,{"$f":"'BX Language acquisition'!C3476","v":0},{"$f":"'BX Language acquisition'!D3476","v":0}]
[{"$f":"'BX Language acquisition'!A3477","v":0},{"$f":"'BX Language acquisition'!B3477","v":0},null,{"$f":"'BX Language acquisition'!C3477","v":0},{"$f":"'BX Language acquisition'!D3477","v":0}]
[{"$f":"'BX Language acquisition'!A3478","v":0},{"$f":"'BX Language acquisition'!B3478","v":0},null,{"$f":"'BX Language acquisition'!C3478","v":0},{"$f":"'BX Language acquisition'!D3478","v":0}]
[{"$f":"'BX Language acquisition'!A3479","v":0},{"$f":"'BX Language acquisition'!B3479","v":0},null,{"$f":"'BX Language acquisition'!C3479","v":0},{"$f":"'BX Language acquisition'!D3479","v":0}]
[{"$f":"'BX Language acquisition'!A3480","v":0},{"$f":"'BX Language acquisition'!B3480","v":0},null,{"$f":"'BX Language acquisition'!C3480","v":0},{"$f":"'BX Language acquisition'!D3480","v":0}]
[{"$f":"'BX Language acquisition'!A3481","v":0},{"$f":"'BX Language acquisition'!B3481","v":0},null,{"$f":"'BX Language acquisition'!C3481","v":0},{"$f":"'BX Language acquisition'!D3481","v":0}]
[{"$f":"'BX Language acquisition'!A3482","v":0},{"$f":"'BX Language acquisition'!B3482","v":0},null,{"$f":"'BX Language acquisition'!C3482","v":0},{"$f":"'BX Language acquisition'!D3482","v":0}]
[{"$f":"'BX Language acquisition'!A3483","v":0},{"$f":"'BX Language acquisition'!B3483","v":0},null,{"$f":"'BX Language acquisition'!C3483","v":0},{"$f":"'BX Language acquisition'!D3483","v":0}]
[{"$f":"'BX Language acquisition'!A3484","v":0},{"$f":"'BX Language acquisition'!B3484","v":0},null,{"$f":"'BX Language acquisition'!C3484","v":0},{"$f":"'BX Language acquisition'!D3484","v":0}]
[{"$f":"'BX Language acquisition'!A3485","v":0},{"$f":"'BX Language acquisition'!B3485","v":0},null,{"$f":"'BX Language acquisition'!C3485","v":0},{"$f":"'BX Language acquisition'!D3485","v":0}]
[{"$f":"'BX Language acquisition'!A3486","v":0},{"$f":"'BX Language acquisition'!B3486","v":0},null,{"$f":"'BX Language acquisition'!C3486","v":0},{"$f":"'BX Language acquisition'!D3486","v":0}]
[{"$f":"'BX Language acquisition'!A3487","v":0},{"$f":"'BX Language acquisition'!B3487","v":0},null,{"$f":"'BX Language acquisition'!C3487","v":0},{"$f":"'BX Language acquisition'!D3487","v":0}]
[{"$f":"'BX Language acquisition'!A3488","v":0},{"$f":"'BX Language acquisition'!B3488","v":0},null,{"$f":"'BX Language acquisition'!C3488","v":0},{"$f":"'BX Language acquisition'!D3488","v":0}]
[{"$f":"'BX Language acquisition'!A3489","v":0},{"$f":"'BX Language acquisition'!B3489","v":0},null,{"$f":"'BX Language acquisition'!C3489","v":0},{"$f":"'BX Language acquisition'!D3489","v":0}]
[{"$f":"'BX Language acquisition'!A3490","v":0},{"$f":"'BX Language acquisition'!B3490","v":0},null,{"$f":"'BX Language acquisition'!C3490","v":0},{"$f":"'BX Language acquisition'!D3490","v":0}]
[{"$f":"'BX Language acquisition'!A3491","v":0},{"$f":"'BX Language acquisition'!B3491","v":0},null,{"$f":"'BX Language acquisition'!C3491","v":0},{"$f":"'BX Language acquisition'!D3491","v":0}]
[{"$f":"'BX Language acquisition'!A3492","v":0},{"$f":"'BX Language acquisition'!B3492","v":0},null,{"$f":"'BX Language acquisition'!C3492","v":0},{"$f":"'BX Language acquisition'!D3492","v":0}]
[{"$f":"'BX Language acquisition'!A3493","v":0},{"$f":"'BX Language acquisition'!B3493","v":0},null,{"$f":"'BX Language acquisition'!C3493","v":0},{"$f":"'BX Language acquisition'!D3493","v":0}]
[{"$f":"'BX Language acquisition'!A3494","v":0},{"$f":"'BX Language acquisition'!B3494","v":0},null,{"$f":"'BX Language acquisition'!C3494","v":0},{"$f":"'BX Language acquisition'!D3494","v":0}]
[{"$f":"'BX Language acquisition'!A3495","v":0},{"$f":"'BX Language acquisition'!B3495","v":0},null,{"$f":"'BX Language acquisition'!C3495","v":0},{"$f":"'BX Language acquisition'!D3495","v":0}]
[{"$f":"'BX Language acquisition'!A3496","v":0},{"$f":"'BX Language acquisition'!B3496","v":0},null,{"$f":"'BX Language acquisition'!C3496","v":0},{"$f":"'BX Language acquisition'!D3496","v":0}]
[{"$f":"'BX Language acquisition'!A3497","v":0},{"$f":"'BX Language acquisition'!B3497","v":0},null,{"$f":"'BX Language acquisition'!C3497","v":0},{"$f":"'BX Language acquisition'!D3497","v":0}]
[{"$f":"'BX Language acquisition'!A3498","v":0},{"$f":"'BX Language acquisition'!B3498","v":0},null,{"$f":"'BX Language acquisition'!C3498","v":0},{"$f":"'BX Language acquisition'!D3498","v":0}]
[{"$f":"'BX Language acquisition'!A3499","v":0},{"$f":"'BX Language acquisition'!B3499","v":0},null,{"$f":"'BX Language acquisition'!C3499","v":0},{"$f":"'BX Language acquisition'!D3499","v":0}]
[{"$f":"'BX Language acquisition'!A3500","v":0},{"$f":"'BX Language acquisition'!B3500","v":0},null,{"$f":"'BX Language acquisition'!C3500","v":0},{"$f":"'BX Language acquisition'!D3500","v":0}]
[{"$f":"'BX Language acquisition'!A3501","v":0},{"$f":"'BX Language acquisition'!B3501","v":0},null,{"$f":"'BX Language acquisition'!C3501","v":0},{"$f":"'BX Language acquisition'!D3501","v":0}]
[{"$f":"'BX Language acquisition'!A3502","v":0},{"$f":"'BX Language acquisition'!B3502","v":0},null,{"$f":"'BX Language acquisition'!C3502","v":0},{"$f":"'BX Language acquisition'!D3502","v":0}]
[{"$f":"'BX Language acquisition'!A3503","v":0},{"$f":"'BX Language acquisition'!B3503","v":0},null,{"$f":"'BX Language acquisition'!C3503","v":0},{"$f":"'BX Language acquisition'!D3503","v":0}]
[{"$f":"'BX Language acquisition'!A3504","v":0},{"$f":"'BX Language acquisition'!B3504","v":0},null,{"$f":"'BX Language acquisition'!C3504","v":0},{"$f":"'BX Language acquisition'!D3504","v":0}]
[{"$f":"'BX Language acquisition'!A3505","v":0},{"$f":"'BX Language acquisition'!B3505","v":0},null,{"$f":"'BX Language acquisition'!C3505","v":0},{"$f":"'BX Language acquisition'!D3505","v":0}]
[{"$f":"'BX Language acquisition'!A3506","v":0},{"$f":"'BX Language acquisition'!B3506","v":0},null,{"$f":"'BX Language acquisition'!C3506","v":0},{"$f":"'BX Language acquisition'!D3506","v":0}]
[{"$f":"'BX Language acquisition'!A3507","v":0},{"$f":"'BX Language acquisition'!B3507","v":0},null,{"$f":"'BX Language acquisition'!C3507","v":0},{"$f":"'BX Language acquisition'!D3507","v":0}]
[{"$f":"'BX Language acquisition'!A3508","v":0},{"$f":"'BX Language acquisition'!B3508","v":0},null,{"$f":"'BX Language acquisition'!C3508","v":0},{"$f":"'BX Language acquisition'!D3508","v":0}]
[{"$f":"'BX Language acquisition'!A3509","v":0},{"$f":"'BX Language acquisition'!B3509","v":0},null,{"$f":"'BX Language acquisition'!C3509","v":0},{"$f":"'BX Language acquisition'!D3509","v":0}]
[{"$f":"'BX Language acquisition'!A3510","v":0},{"$f":"'BX Language acquisition'!B3510","v":0},null,{"$f":"'BX Language acquisition'!C3510","v":0},{"$f":"'BX Language acquisition'!D3510","v":0}]
[{"$f":"'BX Language acquisition'!A3511","v":0},{"$f":"'BX Language acquisition'!B3511","v":0},null,{"$f":"'BX Language acquisition'!C3511","v":0},{"$f":"'BX Language acquisition'!D3511","v":0}]
[{"$f":"'BX Language acquisition'!A3512","v":0},{"$f":"'BX Language acquisition'!B3512","v":0},null,{"$f":"'BX Language acquisition'!C3512","v":0},{"$f":"'BX Language acquisition'!D3512","v":0}]
[{"$f":"'BX Language acquisition'!A3513","v":0},{"$f":"'BX Language acquisition'!B3513","v":0},null,{"$f":"'BX Language acquisition'!C3513","v":0},{"$f":"'BX Language acquisition'!D3513","v":0}]
[{"$f":"'BX Language acquisition'!A3514","v":0},{"$f":"'BX Language acquisition'!B3514","v":0},null,{"$f":"'BX Language acquisition'!C3514","v":0},{"$f":"'BX Language acquisition'!D3514","v":0}]
[{"$f":"'BX Language acquisition'!A3515","v":0},{"$f":"'BX Language acquisition'!B3515","v":0},null,{"$f":"'BX Language acquisition'!C3515","v":0},{"$f":"'BX Language acquisition'!D3515","v":0}]
[{"$f":"'BX Language acquisition'!A3516","v":0},{"$f":"'BX Language acquisition'!B3516","v":0},null,{"$f":"'BX Language acquisition'!C3516","v":0},{"$f":"'BX Language acquisition'!D3516","v":0}]
[{"$f":"'BX Language acquisition'!A3517","v":0},{"$f":"'BX Language acquisition'!B3517","v":0},null,{"$f":"'BX Language acquisition'!C3517","v":0},{"$f":"'BX Language acquisition'!D3517","v":0}]
[{"$f":"'BX Language acquisition'!A3518","v":0},{"$f":"'BX Language acquisition'!B3518","v":0},null,{"$f":"'BX Language acquisition'!C3518","v":0},{"$f":"'BX Language acquisition'!D3518","v":0}]
[{"$f":"'BX Language acquisition'!A3519","v":0},{"$f":"'BX Language acquisition'!B3519","v":0},null,{"$f":"'BX Language acquisition'!C3519","v":0},{"$f":"'BX Language acquisition'!D3519","v":0}]
[{"$f":"'BX Language acquisition'!A3520","v":0},{"$f":"'BX Language acquisition'!B3520","v":0},null,{"$f":"'BX Language acquisition'!C3520","v":0},{"$f":"'BX Language acquisition'!D3520","v":0}]
[{"$f":"'BX Language acquisition'!A3521","v":0},{"$f":"'BX Language acquisition'!B3521","v":0},null,{"$f":"'BX Language acquisition'!C3521","v":0},{"$f":"'BX Language acquisition'!D3521","v":0}]
[{"$f":"'BX Language acquisition'!A3522","v":0},{"$f":"'BX Language acquisition'!B3522","v":0},null,{"$f":"'BX Language acquisition'!C3522","v":0},{"$f":"'BX Language acquisition'!D3522","v":0}]
[{"$f":"'BX Language acquisition'!A3523","v":0},{"$f":"'BX Language acquisition'!B3523","v":0},null,{"$f":"'BX Language acquisition'!C3523","v":0},{"$f":"'BX Language acquisition'!D3523","v":0}]
[{"$f":"'BX Language acquisition'!A3524","v":0},{"$f":"'BX Language acquisition'!B3524","v":0},null,{"$f":"'BX Language acquisition'!C3524","v":0},{"$f":"'BX Language acquisition'!D3524","v":0}]
[{"$f":"'BX Language acquisition'!A3525","v":0},{"$f":"'BX Language acquisition'!B3525","v":0},null,{"$f":"'BX Language acquisition'!C3525","v":0},{"$f":"'BX Language acquisition'!D3525","v":0}]
[{"$f":"'BX Language acquisition'!A3526","v":0},{"$f":"'BX Language acquisition'!B3526","v":0},null,{"$f":"'BX Language acquisition'!C3526","v":0},{"$f":"'BX Language acquisition'!D3526","v":0}]
[{"$f":"'BX Language acquisition'!A3527","v":0},{"$f":"'BX Language acquisition'!B3527","v":0},null,{"$f":"'BX Language acquisition'!C3527","v":0},{"$f":"'BX Language acquisition'!D3527","v":0}]
[{"$f":"'BX Language acquisition'!A3528","v":0},{"$f":"'BX Language acquisition'!B3528","v":0},null,{"$f":"'BX Language acquisition'!C3528","v":0},{"$f":"'BX Language acquisition'!D3528","v":0}]
[{"$f":"'BX Language acquisition'!A3529","v":0},{"$f":"'BX Language acquisition'!B3529","v":0},null,{"$f":"'BX Language acquisition'!C3529","v":0},{"$f":"'BX Language acquisition'!D3529","v":0}]
[{"$f":"'BX Language acquisition'!A3530","v":0},{"$f":"'BX Language acquisition'!B3530","v":0},null,{"$f":"'BX Language acquisition'!C3530","v":0},{"$f":"'BX Language acquisition'!D3530","v":0}]
[{"$f":"'BX Language acquisition'!A3531","v":0},{"$f":"'BX Language acquisition'!B3531","v":0},null,{"$f":"'BX Language acquisition'!C3531","v":0},{"$f":"'BX Language acquisition'!D3531","v":0}]
[{"$f":"'BX Language acquisition'!A3532","v":0},{"$f":"'BX Language acquisition'!B3532","v":0},null,{"$f":"'BX Language acquisition'!C3532","v":0},{"$f":"'BX Language acquisition'!D3532","v":0}]
[{"$f":"'BX Language acquisition'!A3533","v":0},{"$f":"'BX Language acquisition'!B3533","v":0},null,{"$f":"'BX Language acquisition'!C3533","v":0},{"$f":"'BX Language acquisition'!D3533","v":0}]
[{"$f":"'BX Language acquisition'!A3534","v":0},{"$f":"'BX Language acquisition'!B3534","v":0},null,{"$f":"'BX Language acquisition'!C3534","v":0},{"$f":"'BX Language acquisition'!D3534","v":0}]
[{"$f":"'BX Language acquisition'!A3535","v":0},{"$f":"'BX Language acquisition'!B3535","v":0},null,{"$f":"'BX Language acquisition'!C3535","v":0},{"$f":"'BX Language acquisition'!D3535","v":0}]
[{"$f":"'BX Language acquisition'!A3536","v":0},{"$f":"'BX Language acquisition'!B3536","v":0},null,{"$f":"'BX Language acquisition'!C3536","v":0},{"$f":"'BX Language acquisition'!D3536","v":0}]
[{"$f":"'BX Language acquisition'!A3537","v":0},{"$f":"'BX Language acquisition'!B3537","v":0},null,{"$f":"'BX Language acquisition'!C3537","v":0},{"$f":"'BX Language acquisition'!D3537","v":0}]
[{"$f":"'BX Language acquisition'!A3538","v":0},{"$f":"'BX Language acquisition'!B3538","v":0},null,{"$f":"'BX Language acquisition'!C3538","v":0},{"$f":"'BX Language acquisition'!D3538","v":0}]
[{"$f":"'BX Language acquisition'!A3539","v":0},{"$f":"'BX Language acquisition'!B3539","v":0},null,{"$f":"'BX Language acquisition'!C3539","v":0},{"$f":"'BX Language acquisition'!D3539","v":0}]
[{"$f":"'BX Language acquisition'!A3540","v":0},{"$f":"'BX Language acquisition'!B3540","v":0},null,{"$f":"'BX Language acquisition'!C3540","v":0},{"$f":"'BX Language acquisition'!D3540","v":0}]
[{"$f":"'BX Language acquisition'!A3541","v":0},{"$f":"'BX Language acquisition'!B3541","v":0},null,{"$f":"'BX Language acquisition'!C3541","v":0},{"$f":"'BX Language acquisition'!D3541","v":0}]
[{"$f":"'BX Language acquisition'!A3542","v":0},{"$f":"'BX Language acquisition'!B3542","v":0},null,{"$f":"'BX Language acquisition'!C3542","v":0},{"$f":"'BX Language acquisition'!D3542","v":0}]
[{"$f":"'BX Language acquisition'!A3543","v":0},{"$f":"'BX Language acquisition'!B3543","v":0},null,{"$f":"'BX Language acquisition'!C3543","v":0},{"$f":"'BX Language acquisition'!D3543","v":0}]
[{"$f":"'BX Language acquisition'!A3544","v":0},{"$f":"'BX Language acquisition'!B3544","v":0},null,{"$f":"'BX Language acquisition'!C3544","v":0},{"$f":"'BX Language acquisition'!D3544","v":0}]
[{"$f":"'BX Language acquisition'!A3545","v":0},{"$f":"'BX Language acquisition'!B3545","v":0},null,{"$f":"'BX Language acquisition'!C3545","v":0},{"$f":"'BX Language acquisition'!D3545","v":0}]
[{"$f":"'BX Language acquisition'!A3546","v":0},{"$f":"'BX Language acquisition'!B3546","v":0},null,{"$f":"'BX Language acquisition'!C3546","v":0},{"$f":"'BX Language acquisition'!D3546","v":0}]
[{"$f":"'BX Language acquisition'!A3547","v":0},{"$f":"'BX Language acquisition'!B3547","v":0},null,{"$f":"'BX Language acquisition'!C3547","v":0},{"$f":"'BX Language acquisition'!D3547","v":0}]
[{"$f":"'BX Language acquisition'!A3548","v":0},{"$f":"'BX Language acquisition'!B3548","v":0},null,{"$f":"'BX Language acquisition'!C3548","v":0},{"$f":"'BX Language acquisition'!D3548","v":0}]
[{"$f":"'BX Language acquisition'!A3549","v":0},{"$f":"'BX Language acquisition'!B3549","v":0},null,{"$f":"'BX Language acquisition'!C3549","v":0},{"$f":"'BX Language acquisition'!D3549","v":0}]
[{"$f":"'BX Language acquisition'!A3550","v":0},{"$f":"'BX Language acquisition'!B3550","v":0},null,{"$f":"'BX Language acquisition'!C3550","v":0},{"$f":"'BX Language acquisition'!D3550","v":0}]
[{"$f":"'BX Language acquisition'!A3551","v":0},{"$f":"'BX Language acquisition'!B3551","v":0},null,{"$f":"'BX Language acquisition'!C3551","v":0},{"$f":"'BX Language acquisition'!D3551","v":0}]
[{"$f":"'BX Language acquisition'!A3552","v":0},{"$f":"'BX Language acquisition'!B3552","v":0},null,{"$f":"'BX Language acquisition'!C3552","v":0},{"$f":"'BX Language acquisition'!D3552","v":0}]
[{"$f":"'BX Language acquisition'!A3553","v":0},{"$f":"'BX Language acquisition'!B3553","v":0},null,{"$f":"'BX Language acquisition'!C3553","v":0},{"$f":"'BX Language acquisition'!D3553","v":0}]
[{"$f":"'BX Language acquisition'!A3554","v":0},{"$f":"'BX Language acquisition'!B3554","v":0},null,{"$f":"'BX Language acquisition'!C3554","v":0},{"$f":"'BX Language acquisition'!D3554","v":0}]
[{"$f":"'BX Language acquisition'!A3555","v":0},{"$f":"'BX Language acquisition'!B3555","v":0},null,{"$f":"'BX Language acquisition'!C3555","v":0},{"$f":"'BX Language acquisition'!D3555","v":0}]
[{"$f":"'BX Language acquisition'!A3556","v":0},{"$f":"'BX Language acquisition'!B3556","v":0},null,{"$f":"'BX Language acquisition'!C3556","v":0},{"$f":"'BX Language acquisition'!D3556","v":0}]
[{"$f":"'BX Language acquisition'!A3557","v":0},{"$f":"'BX Language acquisition'!B3557","v":0},null,{"$f":"'BX Language acquisition'!C3557","v":0},{"$f":"'BX Language acquisition'!D3557","v":0}]
[{"$f":"'BX Language acquisition'!A3558","v":0},{"$f":"'BX Language acquisition'!B3558","v":0},null,{"$f":"'BX Language acquisition'!C3558","v":0},{"$f":"'BX Language acquisition'!D3558","v":0}]
[{"$f":"'BX Language acquisition'!A3559","v":0},{"$f":"'BX Language acquisition'!B3559","v":0},null,{"$f":"'BX Language acquisition'!C3559","v":0},{"$f":"'BX Language acquisition'!D3559","v":0}]
[{"$f":"'BX Language acquisition'!A3560","v":0},{"$f":"'BX Language acquisition'!B3560","v":0},null,{"$f":"'BX Language acquisition'!C3560","v":0},{"$f":"'BX Language acquisition'!D3560","v":0}]
[{"$f":"'BX Language acquisition'!A3561","v":0},{"$f":"'BX Language acquisition'!B3561","v":0},null,{"$f":"'BX Language acquisition'!C3561","v":0},{"$f":"'BX Language acquisition'!D3561","v":0}]
[{"$f":"'BX Language acquisition'!A3562","v":0},{"$f":"'BX Language acquisition'!B3562","v":0},null,{"$f":"'BX Language acquisition'!C3562","v":0},{"$f":"'BX Language acquisition'!D3562","v":0}]
[{"$f":"'BX Language acquisition'!A3563","v":0},{"$f":"'BX Language acquisition'!B3563","v":0},null,{"$f":"'BX Language acquisition'!C3563","v":0},{"$f":"'BX Language acquisition'!D3563","v":0}]
[{"$f":"'BX Language acquisition'!A3564","v":0},{"$f":"'BX Language acquisition'!B3564","v":0},null,{"$f":"'BX Language acquisition'!C3564","v":0},{"$f":"'BX Language acquisition'!D3564","v":0}]
[{"$f":"'BX Language acquisition'!A3565","v":0},{"$f":"'BX Language acquisition'!B3565","v":0},null,{"$f":"'BX Language acquisition'!C3565","v":0},{"$f":"'BX Language acquisition'!D3565","v":0}]
[{"$f":"'BX Language acquisition'!A3566","v":0},{"$f":"'BX Language acquisition'!B3566","v":0},null,{"$f":"'BX Language acquisition'!C3566","v":0},{"$f":"'BX Language acquisition'!D3566","v":0}]
[{"$f":"'BX Language acquisition'!A3567","v":0},{"$f":"'BX Language acquisition'!B3567","v":0},null,{"$f":"'BX Language acquisition'!C3567","v":0},{"$f":"'BX Language acquisition'!D3567","v":0}]
[{"$f":"'BX Language acquisition'!A3568","v":0},{"$f":"'BX Language acquisition'!B3568","v":0},null,{"$f":"'BX Language acquisition'!C3568","v":0},{"$f":"'BX Language acquisition'!D3568","v":0}]
[{"$f":"'BX Language acquisition'!A3569","v":0},{"$f":"'BX Language acquisition'!B3569","v":0},null,{"$f":"'BX Language acquisition'!C3569","v":0},{"$f":"'BX Language acquisition'!D3569","v":0}]
[{"$f":"'BX Language acquisition'!A3570","v":0},{"$f":"'BX Language acquisition'!B3570","v":0},null,{"$f":"'BX Language acquisition'!C3570","v":0},{"$f":"'BX Language acquisition'!D3570","v":0}]
[{"$f":"'BX Language acquisition'!A3571","v":0},{"$f":"'BX Language acquisition'!B3571","v":0},null,{"$f":"'BX Language acquisition'!C3571","v":0},{"$f":"'BX Language acquisition'!D3571","v":0}]
[{"$f":"'BX Language acquisition'!A3572","v":0},{"$f":"'BX Language acquisition'!B3572","v":0},null,{"$f":"'BX Language acquisition'!C3572","v":0},{"$f":"'BX Language acquisition'!D3572","v":0}]
[{"$f":"'BX Language acquisition'!A3573","v":0},{"$f":"'BX Language acquisition'!B3573","v":0},null,{"$f":"'BX Language acquisition'!C3573","v":0},{"$f":"'BX Language acquisition'!D3573","v":0}]
[{"$f":"'BX Language acquisition'!A3574","v":0},{"$f":"'BX Language acquisition'!B3574","v":0},null,{"$f":"'BX Language acquisition'!C3574","v":0},{"$f":"'BX Language acquisition'!D3574","v":0}]
[{"$f":"'BX Language acquisition'!A3575","v":0},{"$f":"'BX Language acquisition'!B3575","v":0},null,{"$f":"'BX Language acquisition'!C3575","v":0},{"$f":"'BX Language acquisition'!D3575","v":0}]
[{"$f":"'BX Language acquisition'!A3576","v":0},{"$f":"'BX Language acquisition'!B3576","v":0},null,{"$f":"'BX Language acquisition'!C3576","v":0},{"$f":"'BX Language acquisition'!D3576","v":0}]
[{"$f":"'BX Language acquisition'!A3577","v":0},{"$f":"'BX Language acquisition'!B3577","v":0},null,{"$f":"'BX Language acquisition'!C3577","v":0},{"$f":"'BX Language acquisition'!D3577","v":0}]
[{"$f":"'BX Language acquisition'!A3578","v":0},{"$f":"'BX Language acquisition'!B3578","v":0},null,{"$f":"'BX Language acquisition'!C3578","v":0},{"$f":"'BX Language acquisition'!D3578","v":0}]
[{"$f":"'BX Language acquisition'!A3579","v":0},{"$f":"'BX Language acquisition'!B3579","v":0},null,{"$f":"'BX Language acquisition'!C3579","v":0},{"$f":"'BX Language acquisition'!D3579","v":0}]
[{"$f":"'BX Language acquisition'!A3580","v":0},{"$f":"'BX Language acquisition'!B3580","v":0},null,{"$f":"'BX Language acquisition'!C3580","v":0},{"$f":"'BX Language acquisition'!D3580","v":0}]
[{"$f":"'BX Language acquisition'!A3581","v":0},{"$f":"'BX Language acquisition'!B3581","v":0},null,{"$f":"'BX Language acquisition'!C3581","v":0},{"$f":"'BX Language acquisition'!D3581","v":0}]
[{"$f":"'BX Language acquisition'!A3582","v":0},{"$f":"'BX Language acquisition'!B3582","v":0},null,{"$f":"'BX Language acquisition'!C3582","v":0},{"$f":"'BX Language acquisition'!D3582","v":0}]
[{"$f":"'BX Language acquisition'!A3583","v":0},{"$f":"'BX Language acquisition'!B3583","v":0},null,{"$f":"'BX Language acquisition'!C3583","v":0},{"$f":"'BX Language acquisition'!D3583","v":0}]
[{"$f":"'BX Language acquisition'!A3584","v":0},{"$f":"'BX Language acquisition'!B3584","v":0},null,{"$f":"'BX Language acquisition'!C3584","v":0},{"$f":"'BX Language acquisition'!D3584","v":0}]
[{"$f":"'BX Language acquisition'!A3585","v":0},{"$f":"'BX Language acquisition'!B3585","v":0},null,{"$f":"'BX Language acquisition'!C3585","v":0},{"$f":"'BX Language acquisition'!D3585","v":0}]
[{"$f":"'BX Language acquisition'!A3586","v":0},{"$f":"'BX Language acquisition'!B3586","v":0},null,{"$f":"'BX Language acquisition'!C3586","v":0},{"$f":"'BX Language acquisition'!D3586","v":0}]
[{"$f":"'BX Language acquisition'!A3587","v":0},{"$f":"'BX Language acquisition'!B3587","v":0},null,{"$f":"'BX Language acquisition'!C3587","v":0},{"$f":"'BX Language acquisition'!D3587","v":0}]
[{"$f":"'BX Language acquisition'!A3588","v":0},{"$f":"'BX Language acquisition'!B3588","v":0},null,{"$f":"'BX Language acquisition'!C3588","v":0},{"$f":"'BX Language acquisition'!D3588","v":0}]
[{"$f":"'BX Language acquisition'!A3589","v":0},{"$f":"'BX Language acquisition'!B3589","v":0},null,{"$f":"'BX Language acquisition'!C3589","v":0},{"$f":"'BX Language acquisition'!D3589","v":0}]
[{"$f":"'BX Language acquisition'!A3590","v":0},{"$f":"'BX Language acquisition'!B3590","v":0},null,{"$f":"'BX Language acquisition'!C3590","v":0},{"$f":"'BX Language acquisition'!D3590","v":0}]
[{"$f":"'BX Language acquisition'!A3591","v":0},{"$f":"'BX Language acquisition'!B3591","v":0},null,{"$f":"'BX Language acquisition'!C3591","v":0},{"$f":"'BX Language acquisition'!D3591","v":0}]
[{"$f":"'BX Language acquisition'!A3592","v":0},{"$f":"'BX Language acquisition'!B3592","v":0},null,{"$f":"'BX Language acquisition'!C3592","v":0},{"$f":"'BX Language acquisition'!D3592","v":0}]
[{"$f":"'BX Language acquisition'!A3593","v":0},{"$f":"'BX Language acquisition'!B3593","v":0},null,{"$f":"'BX Language acquisition'!C3593","v":0},{"$f":"'BX Language acquisition'!D3593","v":0}]
[{"$f":"'BX Language acquisition'!A3594","v":0},{"$f":"'BX Language acquisition'!B3594","v":0},null,{"$f":"'BX Language acquisition'!C3594","v":0},{"$f":"'BX Language acquisition'!D3594","v":0}]
[{"$f":"'BX Language acquisition'!A3595","v":0},{"$f":"'BX Language acquisition'!B3595","v":0},null,{"$f":"'BX Language acquisition'!C3595","v":0},{"$f":"'BX Language acquisition'!D3595","v":0}]
[{"$f":"'BX Language acquisition'!A3596","v":0},{"$f":"'BX Language acquisition'!B3596","v":0},null,{"$f":"'BX Language acquisition'!C3596","v":0},{"$f":"'BX Language acquisition'!D3596","v":0}]
[{"$f":"'BX Language acquisition'!A3597","v":0},{"$f":"'BX Language acquisition'!B3597","v":0},null,{"$f":"'BX Language acquisition'!C3597","v":0},{"$f":"'BX Language acquisition'!D3597","v":0}]
[{"$f":"'BX Language acquisition'!A3598","v":0},{"$f":"'BX Language acquisition'!B3598","v":0},null,{"$f":"'BX Language acquisition'!C3598","v":0},{"$f":"'BX Language acquisition'!D3598","v":0}]
[{"$f":"'BX Language acquisition'!A3599","v":0},{"$f":"'BX Language acquisition'!B3599","v":0},null,{"$f":"'BX Language acquisition'!C3599","v":0},{"$f":"'BX Language acquisition'!D3599","v":0}]
[{"$f":"'BX Language acquisition'!A3600","v":0},{"$f":"'BX Language acquisition'!B3600","v":0},null,{"$f":"'BX Language acquisition'!C3600","v":0},{"$f":"'BX Language acquisition'!D3600","v":0}]
[{"$f":"'BX Language acquisition'!A3601","v":0},{"$f":"'BX Language acquisition'!B3601","v":0},null,{"$f":"'BX Language acquisition'!C3601","v":0},{"$f":"'BX Language acquisition'!D3601","v":0}]
[{"$f":"'BX Language acquisition'!A3602","v":0},{"$f":"'BX Language acquisition'!B3602","v":0},null,{"$f":"'BX Language acquisition'!C3602","v":0},{"$f":"'BX Language acquisition'!D3602","v":0}]
[{"$f":"'BX Language acquisition'!A3603","v":0},{"$f":"'BX Language acquisition'!B3603","v":0},null,{"$f":"'BX Language acquisition'!C3603","v":0},{"$f":"'BX Language acquisition'!D3603","v":0}]
[{"$f":"'BX Language acquisition'!A3604","v":0},{"$f":"'BX Language acquisition'!B3604","v":0},null,{"$f":"'BX Language acquisition'!C3604","v":0},{"$f":"'BX Language acquisition'!D3604","v":0}]
[{"$f":"'BX Language acquisition'!A3605","v":0},{"$f":"'BX Language acquisition'!B3605","v":0},null,{"$f":"'BX Language acquisition'!C3605","v":0},{"$f":"'BX Language acquisition'!D3605","v":0}]
[{"$f":"'BX Language acquisition'!A3606","v":0},{"$f":"'BX Language acquisition'!B3606","v":0},null,{"$f":"'BX Language acquisition'!C3606","v":0},{"$f":"'BX Language acquisition'!D3606","v":0}]
[{"$f":"'BX Language acquisition'!A3607","v":0},{"$f":"'BX Language acquisition'!B3607","v":0},null,{"$f":"'BX Language acquisition'!C3607","v":0},{"$f":"'BX Language acquisition'!D3607","v":0}]
[{"$f":"'BX Language acquisition'!A3608","v":0},{"$f":"'BX Language acquisition'!B3608","v":0},null,{"$f":"'BX Language acquisition'!C3608","v":0},{"$f":"'BX Language acquisition'!D3608","v":0}]
[{"$f":"'BX Language acquisition'!A3609","v":0},{"$f":"'BX Language acquisition'!B3609","v":0},null,{"$f":"'BX Language acquisition'!C3609","v":0},{"$f":"'BX Language acquisition'!D3609","v":0}]
[{"$f":"'BX Language acquisition'!A3610","v":0},{"$f":"'BX Language acquisition'!B3610","v":0},null,{"$f":"'BX Language acquisition'!C3610","v":0},{"$f":"'BX Language acquisition'!D3610","v":0}]
[{"$f":"'BX Language acquisition'!A3611","v":0},{"$f":"'BX Language acquisition'!B3611","v":0},null,{"$f":"'BX Language acquisition'!C3611","v":0},{"$f":"'BX Language acquisition'!D3611","v":0}]
[{"$f":"'BX Language acquisition'!A3612","v":0},{"$f":"'BX Language acquisition'!B3612","v":0},null,{"$f":"'BX Language acquisition'!C3612","v":0},{"$f":"'BX Language acquisition'!D3612","v":0}]
[{"$f":"'BX Language acquisition'!A3613","v":0},{"$f":"'BX Language acquisition'!B3613","v":0},null,{"$f":"'BX Language acquisition'!C3613","v":0},{"$f":"'BX Language acquisition'!D3613","v":0}]
[{"$f":"'BX Language acquisition'!A3614","v":0},{"$f":"'BX Language acquisition'!B3614","v":0},null,{"$f":"'BX Language acquisition'!C3614","v":0},{"$f":"'BX Language acquisition'!D3614","v":0}]
[{"$f":"'BX Language acquisition'!A3615","v":0},{"$f":"'BX Language acquisition'!B3615","v":0},null,{"$f":"'BX Language acquisition'!C3615","v":0},{"$f":"'BX Language acquisition'!D3615","v":0}]
[{"$f":"'BX Language acquisition'!A3616","v":0},{"$f":"'BX Language acquisition'!B3616","v":0},null,{"$f":"'BX Language acquisition'!C3616","v":0},{"$f":"'BX Language acquisition'!D3616","v":0}]
[{"$f":"'BX Language acquisition'!A3617","v":0},{"$f":"'BX Language acquisition'!B3617","v":0},null,{"$f":"'BX Language acquisition'!C3617","v":0},{"$f":"'BX Language acquisition'!D3617","v":0}]
[{"$f":"'BX Language acquisition'!A3618","v":0},{"$f":"'BX Language acquisition'!B3618","v":0},null,{"$f":"'BX Language acquisition'!C3618","v":0},{"$f":"'BX Language acquisition'!D3618","v":0}]
[{"$f":"'BX Language acquisition'!A3619","v":0},{"$f":"'BX Language acquisition'!B3619","v":0},null,{"$f":"'BX Language acquisition'!C3619","v":0},{"$f":"'BX Language acquisition'!D3619","v":0}]
[{"$f":"'BX Language acquisition'!A3620","v":0},{"$f":"'BX Language acquisition'!B3620","v":0},null,{"$f":"'BX Language acquisition'!C3620","v":0},{"$f":"'BX Language acquisition'!D3620","v":0}]
[{"$f":"'BX Language acquisition'!A3621","v":0},{"$f":"'BX Language acquisition'!B3621","v":0},null,{"$f":"'BX Language acquisition'!C3621","v":0},{"$f":"'BX Language acquisition'!D3621","v":0}]
[{"$f":"'BX Language acquisition'!A3622","v":0},{"$f":"'BX Language acquisition'!B3622","v":0},null,{"$f":"'BX Language acquisition'!C3622","v":0},{"$f":"'BX Language acquisition'!D3622","v":0}]
[{"$f":"'BX Language acquisition'!A3623","v":0},{"$f":"'BX Language acquisition'!B3623","v":0},null,{"$f":"'BX Language acquisition'!C3623","v":0},{"$f":"'BX Language acquisition'!D3623","v":0}]
[{"$f":"'BX Language acquisition'!A3624","v":0},{"$f":"'BX Language acquisition'!B3624","v":0},null,{"$f":"'BX Language acquisition'!C3624","v":0},{"$f":"'BX Language acquisition'!D3624","v":0}]
[{"$f":"'BX Language acquisition'!A3625","v":0},{"$f":"'BX Language acquisition'!B3625","v":0},null,{"$f":"'BX Language acquisition'!C3625","v":0},{"$f":"'BX Language acquisition'!D3625","v":0}]
[{"$f":"'BX Language acquisition'!A3626","v":0},{"$f":"'BX Language acquisition'!B3626","v":0},null,{"$f":"'BX Language acquisition'!C3626","v":0},{"$f":"'BX Language acquisition'!D3626","v":0}]
[{"$f":"'BX Language acquisition'!A3627","v":0},{"$f":"'BX Language acquisition'!B3627","v":0},null,{"$f":"'BX Language acquisition'!C3627","v":0},{"$f":"'BX Language acquisition'!D3627","v":0}]
[{"$f":"'BX Language acquisition'!A3628","v":0},{"$f":"'BX Language acquisition'!B3628","v":0},null,{"$f":"'BX Language acquisition'!C3628","v":0},{"$f":"'BX Language acquisition'!D3628","v":0}]
[{"$f":"'BX Language acquisition'!A3629","v":0},{"$f":"'BX Language acquisition'!B3629","v":0},null,{"$f":"'BX Language acquisition'!C3629","v":0},{"$f":"'BX Language acquisition'!D3629","v":0}]
[{"$f":"'BX Language acquisition'!A3630","v":0},{"$f":"'BX Language acquisition'!B3630","v":0},null,{"$f":"'BX Language acquisition'!C3630","v":0},{"$f":"'BX Language acquisition'!D3630","v":0}]
[{"$f":"'BX Language acquisition'!A3631","v":0},{"$f":"'BX Language acquisition'!B3631","v":0},null,{"$f":"'BX Language acquisition'!C3631","v":0},{"$f":"'BX Language acquisition'!D3631","v":0}]
[{"$f":"'BX Language acquisition'!A3632","v":0},{"$f":"'BX Language acquisition'!B3632","v":0},null,{"$f":"'BX Language acquisition'!C3632","v":0},{"$f":"'BX Language acquisition'!D3632","v":0}]
[{"$f":"'BX Language acquisition'!A3633","v":0},{"$f":"'BX Language acquisition'!B3633","v":0},null,{"$f":"'BX Language acquisition'!C3633","v":0},{"$f":"'BX Language acquisition'!D3633","v":0}]
[{"$f":"'BX Language acquisition'!A3634","v":0},{"$f":"'BX Language acquisition'!B3634","v":0},null,{"$f":"'BX Language acquisition'!C3634","v":0},{"$f":"'BX Language acquisition'!D3634","v":0}]
[{"$f":"'BX Language acquisition'!A3635","v":0},{"$f":"'BX Language acquisition'!B3635","v":0},null,{"$f":"'BX Language acquisition'!C3635","v":0},{"$f":"'BX Language acquisition'!D3635","v":0}]
[{"$f":"'BX Language acquisition'!A3636","v":0},{"$f":"'BX Language acquisition'!B3636","v":0},null,{"$f":"'BX Language acquisition'!C3636","v":0},{"$f":"'BX Language acquisition'!D3636","v":0}]
[{"$f":"'BX Language acquisition'!A3637","v":0},{"$f":"'BX Language acquisition'!B3637","v":0},null,{"$f":"'BX Language acquisition'!C3637","v":0},{"$f":"'BX Language acquisition'!D3637","v":0}]
[{"$f":"'BX Language acquisition'!A3638","v":0},{"$f":"'BX Language acquisition'!B3638","v":0},null,{"$f":"'BX Language acquisition'!C3638","v":0},{"$f":"'BX Language acquisition'!D3638","v":0}]
[{"$f":"'BX Language acquisition'!A3639","v":0},{"$f":"'BX Language acquisition'!B3639","v":0},null,{"$f":"'BX Language acquisition'!C3639","v":0},{"$f":"'BX Language acquisition'!D3639","v":0}]
[{"$f":"'BX Language acquisition'!A3640","v":0},{"$f":"'BX Language acquisition'!B3640","v":0},null,{"$f":"'BX Language acquisition'!C3640","v":0},{"$f":"'BX Language acquisition'!D3640","v":0}]
[{"$f":"'BX Language acquisition'!A3641","v":0},{"$f":"'BX Language acquisition'!B3641","v":0},null,{"$f":"'BX Language acquisition'!C3641","v":0},{"$f":"'BX Language acquisition'!D3641","v":0}]
[{"$f":"'BX Language acquisition'!A3642","v":0},{"$f":"'BX Language acquisition'!B3642","v":0},null,{"$f":"'BX Language acquisition'!C3642","v":0},{"$f":"'BX Language acquisition'!D3642","v":0}]
[{"$f":"'BX Language acquisition'!A3643","v":0},{"$f":"'BX Language acquisition'!B3643","v":0},null,{"$f":"'BX Language acquisition'!C3643","v":0},{"$f":"'BX Language acquisition'!D3643","v":0}]
[{"$f":"'BX Language acquisition'!A3644","v":0},{"$f":"'BX Language acquisition'!B3644","v":0},null,{"$f":"'BX Language acquisition'!C3644","v":0},{"$f":"'BX Language acquisition'!D3644","v":0}]
[{"$f":"'BX Language acquisition'!A3645","v":0},{"$f":"'BX Language acquisition'!B3645","v":0},null,{"$f":"'BX Language acquisition'!C3645","v":0},{"$f":"'BX Language acquisition'!D3645","v":0}]
[{"$f":"'BX Language acquisition'!A3646","v":0},{"$f":"'BX Language acquisition'!B3646","v":0},null,{"$f":"'BX Language acquisition'!C3646","v":0},{"$f":"'BX Language acquisition'!D3646","v":0}]
[{"$f":"'BX Language acquisition'!A3647","v":0},{"$f":"'BX Language acquisition'!B3647","v":0},null,{"$f":"'BX Language acquisition'!C3647","v":0},{"$f":"'BX Language acquisition'!D3647","v":0}]
[{"$f":"'BX Language acquisition'!A3648","v":0},{"$f":"'BX Language acquisition'!B3648","v":0},null,{"$f":"'BX Language acquisition'!C3648","v":0},{"$f":"'BX Language acquisition'!D3648","v":0}]
[{"$f":"'BX Language acquisition'!A3649","v":0},{"$f":"'BX Language acquisition'!B3649","v":0},null,{"$f":"'BX Language acquisition'!C3649","v":0},{"$f":"'BX Language acquisition'!D3649","v":0}]
[{"$f":"'BX Language acquisition'!A3650","v":0},{"$f":"'BX Language acquisition'!B3650","v":0},null,{"$f":"'BX Language acquisition'!C3650","v":0},{"$f":"'BX Language acquisition'!D3650","v":0}]
[{"$f":"'BX Language acquisition'!A3651","v":0},{"$f":"'BX Language acquisition'!B3651","v":0},null,{"$f":"'BX Language acquisition'!C3651","v":0},{"$f":"'BX Language acquisition'!D3651","v":0}]
[{"$f":"'BX Language acquisition'!A3652","v":0},{"$f":"'BX Language acquisition'!B3652","v":0},null,{"$f":"'BX Language acquisition'!C3652","v":0},{"$f":"'BX Language acquisition'!D3652","v":0}]
[{"$f":"'BX Language acquisition'!A3653","v":0},{"$f":"'BX Language acquisition'!B3653","v":0},null,{"$f":"'BX Language acquisition'!C3653","v":0},{"$f":"'BX Language acquisition'!D3653","v":0}]
[{"$f":"'BX Language acquisition'!A3654","v":0},{"$f":"'BX Language acquisition'!B3654","v":0},null,{"$f":"'BX Language acquisition'!C3654","v":0},{"$f":"'BX Language acquisition'!D3654","v":0}]
[{"$f":"'BX Language acquisition'!A3655","v":0},{"$f":"'BX Language acquisition'!B3655","v":0},null,{"$f":"'BX Language acquisition'!C3655","v":0},{"$f":"'BX Language acquisition'!D3655","v":0}]
[{"$f":"'BX Language acquisition'!A3656","v":0},{"$f":"'BX Language acquisition'!B3656","v":0},null,{"$f":"'BX Language acquisition'!C3656","v":0},{"$f":"'BX Language acquisition'!D3656","v":0}]
[{"$f":"'BX Language acquisition'!A3657","v":0},{"$f":"'BX Language acquisition'!B3657","v":0},null,{"$f":"'BX Language acquisition'!C3657","v":0},{"$f":"'BX Language acquisition'!D3657","v":0}]
[{"$f":"'BX Language acquisition'!A3658","v":0},{"$f":"'BX Language acquisition'!B3658","v":0},null,{"$f":"'BX Language acquisition'!C3658","v":0},{"$f":"'BX Language acquisition'!D3658","v":0}]
[{"$f":"'BX Language acquisition'!A3659","v":0},{"$f":"'BX Language acquisition'!B3659","v":0},null,{"$f":"'BX Language acquisition'!C3659","v":0},{"$f":"'BX Language acquisition'!D3659","v":0}]
[{"$f":"'BX Language acquisition'!A3660","v":0},{"$f":"'BX Language acquisition'!B3660","v":0},null,{"$f":"'BX Language acquisition'!C3660","v":0},{"$f":"'BX Language acquisition'!D3660","v":0}]
[{"$f":"'BX Language acquisition'!A3661","v":0},{"$f":"'BX Language acquisition'!B3661","v":0},null,{"$f":"'BX Language acquisition'!C3661","v":0},{"$f":"'BX Language acquisition'!D3661","v":0}]
[{"$f":"'BX Language acquisition'!A3662","v":0},{"$f":"'BX Language acquisition'!B3662","v":0},null,{"$f":"'BX Language acquisition'!C3662","v":0},{"$f":"'BX Language acquisition'!D3662","v":0}]
[{"$f":"'BX Language acquisition'!A3663","v":0},{"$f":"'BX Language acquisition'!B3663","v":0},null,{"$f":"'BX Language acquisition'!C3663","v":0},{"$f":"'BX Language acquisition'!D3663","v":0}]
[{"$f":"'BX Language acquisition'!A3664","v":0},{"$f":"'BX Language acquisition'!B3664","v":0},null,{"$f":"'BX Language acquisition'!C3664","v":0},{"$f":"'BX Language acquisition'!D3664","v":0}]
[{"$f":"'BX Language acquisition'!A3665","v":0},{"$f":"'BX Language acquisition'!B3665","v":0},null,{"$f":"'BX Language acquisition'!C3665","v":0},{"$f":"'BX Language acquisition'!D3665","v":0}]
[{"$f":"'BX Language acquisition'!A3666","v":0},{"$f":"'BX Language acquisition'!B3666","v":0},null,{"$f":"'BX Language acquisition'!C3666","v":0},{"$f":"'BX Language acquisition'!D3666","v":0}]
[{"$f":"'BX Language acquisition'!A3667","v":0},{"$f":"'BX Language acquisition'!B3667","v":0},null,{"$f":"'BX Language acquisition'!C3667","v":0},{"$f":"'BX Language acquisition'!D3667","v":0}]
[{"$f":"'BX Language acquisition'!A3668","v":0},{"$f":"'BX Language acquisition'!B3668","v":0},null,{"$f":"'BX Language acquisition'!C3668","v":0},{"$f":"'BX Language acquisition'!D3668","v":0}]
[{"$f":"'BX Language acquisition'!A3669","v":0},{"$f":"'BX Language acquisition'!B3669","v":0},null,{"$f":"'BX Language acquisition'!C3669","v":0},{"$f":"'BX Language acquisition'!D3669","v":0}]
[{"$f":"'BX Language acquisition'!A3670","v":0},{"$f":"'BX Language acquisition'!B3670","v":0},null,{"$f":"'BX Language acquisition'!C3670","v":0},{"$f":"'BX Language acquisition'!D3670","v":0}]
[{"$f":"'BX Language acquisition'!A3671","v":0},{"$f":"'BX Language acquisition'!B3671","v":0},null,{"$f":"'BX Language acquisition'!C3671","v":0},{"$f":"'BX Language acquisition'!D3671","v":0}]
[{"$f":"'BX Language acquisition'!A3672","v":0},{"$f":"'BX Language acquisition'!B3672","v":0},null,{"$f":"'BX Language acquisition'!C3672","v":0},{"$f":"'BX Language acquisition'!D3672","v":0}]
[{"$f":"'BX Language acquisition'!A3673","v":0},{"$f":"'BX Language acquisition'!B3673","v":0},null,{"$f":"'BX Language acquisition'!C3673","v":0},{"$f":"'BX Language acquisition'!D3673","v":0}]
[{"$f":"'BX Language acquisition'!A3674","v":0},{"$f":"'BX Language acquisition'!B3674","v":0},null,{"$f":"'BX Language acquisition'!C3674","v":0},{"$f":"'BX Language acquisition'!D3674","v":0}]
[{"$f":"'BX Language acquisition'!A3675","v":0},{"$f":"'BX Language acquisition'!B3675","v":0},null,{"$f":"'BX Language acquisition'!C3675","v":0},{"$f":"'BX Language acquisition'!D3675","v":0}]
[{"$f":"'BX Language acquisition'!A3676","v":0},{"$f":"'BX Language acquisition'!B3676","v":0},null,{"$f":"'BX Language acquisition'!C3676","v":0},{"$f":"'BX Language acquisition'!D3676","v":0}]
[{"$f":"'BX Language acquisition'!A3677","v":0},{"$f":"'BX Language acquisition'!B3677","v":0},null,{"$f":"'BX Language acquisition'!C3677","v":0},{"$f":"'BX Language acquisition'!D3677","v":0}]
[{"$f":"'BX Language acquisition'!A3678","v":0},{"$f":"'BX Language acquisition'!B3678","v":0},null,{"$f":"'BX Language acquisition'!C3678","v":0},{"$f":"'BX Language acquisition'!D3678","v":0}]
[{"$f":"'BX Language acquisition'!A3679","v":0},{"$f":"'BX Language acquisition'!B3679","v":0},null,{"$f":"'BX Language acquisition'!C3679","v":0},{"$f":"'BX Language acquisition'!D3679","v":0}]
[{"$f":"'BX Language acquisition'!A3680","v":0},{"$f":"'BX Language acquisition'!B3680","v":0},null,{"$f":"'BX Language acquisition'!C3680","v":0},{"$f":"'BX Language acquisition'!D3680","v":0}]
[{"$f":"'BX Language acquisition'!A3681","v":0},{"$f":"'BX Language acquisition'!B3681","v":0},null,{"$f":"'BX Language acquisition'!C3681","v":0},{"$f":"'BX Language acquisition'!D3681","v":0}]
[{"$f":"'BX Language acquisition'!A3682","v":0},{"$f":"'BX Language acquisition'!B3682","v":0},null,{"$f":"'BX Language acquisition'!C3682","v":0},{"$f":"'BX Language acquisition'!D3682","v":0}]
[{"$f":"'BX Language acquisition'!A3683","v":0},{"$f":"'BX Language acquisition'!B3683","v":0},null,{"$f":"'BX Language acquisition'!C3683","v":0},{"$f":"'BX Language acquisition'!D3683","v":0}]
[{"$f":"'BX Language acquisition'!A3684","v":0},{"$f":"'BX Language acquisition'!B3684","v":0},null,{"$f":"'BX Language acquisition'!C3684","v":0},{"$f":"'BX Language acquisition'!D3684","v":0}]
[{"$f":"'BX Language acquisition'!A3685","v":0},{"$f":"'BX Language acquisition'!B3685","v":0},null,{"$f":"'BX Language acquisition'!C3685","v":0},{"$f":"'BX Language acquisition'!D3685","v":0}]
[{"$f":"'BX Language acquisition'!A3686","v":0},{"$f":"'BX Language acquisition'!B3686","v":0},null,{"$f":"'BX Language acquisition'!C3686","v":0},{"$f":"'BX Language acquisition'!D3686","v":0}]
[{"$f":"'BX Language acquisition'!A3687","v":0},{"$f":"'BX Language acquisition'!B3687","v":0},null,{"$f":"'BX Language acquisition'!C3687","v":0},{"$f":"'BX Language acquisition'!D3687","v":0}]
[{"$f":"'BX Language acquisition'!A3688","v":0},{"$f":"'BX Language acquisition'!B3688","v":0},null,{"$f":"'BX Language acquisition'!C3688","v":0},{"$f":"'BX Language acquisition'!D3688","v":0}]
[{"$f":"'BX Language acquisition'!A3689","v":0},{"$f":"'BX Language acquisition'!B3689","v":0},null,{"$f":"'BX Language acquisition'!C3689","v":0},{"$f":"'BX Language acquisition'!D3689","v":0}]
[{"$f":"'BX Language acquisition'!A3690","v":0},{"$f":"'BX Language acquisition'!B3690","v":0},null,{"$f":"'BX Language acquisition'!C3690","v":0},{"$f":"'BX Language acquisition'!D3690","v":0}]
[{"$f":"'BX Language acquisition'!A3691","v":0},{"$f":"'BX Language acquisition'!B3691","v":0},null,{"$f":"'BX Language acquisition'!C3691","v":0},{"$f":"'BX Language acquisition'!D3691","v":0}]
[{"$f":"'BX Language acquisition'!A3692","v":0},{"$f":"'BX Language acquisition'!B3692","v":0},null,{"$f":"'BX Language acquisition'!C3692","v":0},{"$f":"'BX Language acquisition'!D3692","v":0}]
[{"$f":"'BX Language acquisition'!A3693","v":0},{"$f":"'BX Language acquisition'!B3693","v":0},null,{"$f":"'BX Language acquisition'!C3693","v":0},{"$f":"'BX Language acquisition'!D3693","v":0}]
[{"$f":"'BX Language acquisition'!A3694","v":0},{"$f":"'BX Language acquisition'!B3694","v":0},null,{"$f":"'BX Language acquisition'!C3694","v":0},{"$f":"'BX Language acquisition'!D3694","v":0}]
[{"$f":"'BX Language acquisition'!A3695","v":0},{"$f":"'BX Language acquisition'!B3695","v":0},null,{"$f":"'BX Language acquisition'!C3695","v":0},{"$f":"'BX Language acquisition'!D3695","v":0}]
[{"$f":"'BX Language acquisition'!A3696","v":0},{"$f":"'BX Language acquisition'!B3696","v":0},null,{"$f":"'BX Language acquisition'!C3696","v":0},{"$f":"'BX Language acquisition'!D3696","v":0}]
[{"$f":"'BX Language acquisition'!A3697","v":0},{"$f":"'BX Language acquisition'!B3697","v":0},null,{"$f":"'BX Language acquisition'!C3697","v":0},{"$f":"'BX Language acquisition'!D3697","v":0}]
[{"$f":"'BX Language acquisition'!A3698","v":0},{"$f":"'BX Language acquisition'!B3698","v":0},null,{"$f":"'BX Language acquisition'!C3698","v":0},{"$f":"'BX Language acquisition'!D3698","v":0}]
[{"$f":"'BX Language acquisition'!A3699","v":0},{"$f":"'BX Language acquisition'!B3699","v":0},null,{"$f":"'BX Language acquisition'!C3699","v":0},{"$f":"'BX Language acquisition'!D3699","v":0}]
[{"$f":"'BX Language acquisition'!A3700","v":0},{"$f":"'BX Language acquisition'!B3700","v":0},null,{"$f":"'BX Language acquisition'!C3700","v":0},{"$f":"'BX Language acquisition'!D3700","v":0}]
[{"$f":"'BX Language acquisition'!A3701","v":0},{"$f":"'BX Language acquisition'!B3701","v":0},null,{"$f":"'BX Language acquisition'!C3701","v":0},{"$f":"'BX Language acquisition'!D3701","v":0}]
[{"$f":"'BX Language acquisition'!A3702","v":0},{"$f":"'BX Language acquisition'!B3702","v":0},null,{"$f":"'BX Language acquisition'!C3702","v":0},{"$f":"'BX Language acquisition'!D3702","v":0}]
[{"$f":"'BX Language acquisition'!A3703","v":0},{"$f":"'BX Language acquisition'!B3703","v":0},null,{"$f":"'BX Language acquisition'!C3703","v":0},{"$f":"'BX Language acquisition'!D3703","v":0}]
[{"$f":"'BX Language acquisition'!A3704","v":0},{"$f":"'BX Language acquisition'!B3704","v":0},null,{"$f":"'BX Language acquisition'!C3704","v":0},{"$f":"'BX Language acquisition'!D3704","v":0}]
[{"$f":"'BX Language acquisition'!A3705","v":0},{"$f":"'BX Language acquisition'!B3705","v":0},null,{"$f":"'BX Language acquisition'!C3705","v":0},{"$f":"'BX Language acquisition'!D3705","v":0}]
[{"$f":"'BX Language acquisition'!A3706","v":0},{"$f":"'BX Language acquisition'!B3706","v":0},null,{"$f":"'BX Language acquisition'!C3706","v":0},{"$f":"'BX Language acquisition'!D3706","v":0}]
[{"$f":"'BX Language acquisition'!A3707","v":0},{"$f":"'BX Language acquisition'!B3707","v":0},null,{"$f":"'BX Language acquisition'!C3707","v":0},{"$f":"'BX Language acquisition'!D3707","v":0}]
[{"$f":"'BX Language acquisition'!A3708","v":0},{"$f":"'BX Language acquisition'!B3708","v":0},null,{"$f":"'BX Language acquisition'!C3708","v":0},{"$f":"'BX Language acquisition'!D3708","v":0}]
[{"$f":"'BX Language acquisition'!A3709","v":0},{"$f":"'BX Language acquisition'!B3709","v":0},null,{"$f":"'BX Language acquisition'!C3709","v":0},{"$f":"'BX Language acquisition'!D3709","v":0}]
[{"$f":"'BX Language acquisition'!A3710","v":0},{"$f":"'BX Language acquisition'!B3710","v":0},null,{"$f":"'BX Language acquisition'!C3710","v":0},{"$f":"'BX Language acquisition'!D3710","v":0}]
[{"$f":"'BX Language acquisition'!A3711","v":0},{"$f":"'BX Language acquisition'!B3711","v":0},null,{"$f":"'BX Language acquisition'!C3711","v":0},{"$f":"'BX Language acquisition'!D3711","v":0}]
[{"$f":"'BX Language acquisition'!A3712","v":0},{"$f":"'BX Language acquisition'!B3712","v":0},null,{"$f":"'BX Language acquisition'!C3712","v":0},{"$f":"'BX Language acquisition'!D3712","v":0}]
[{"$f":"'BX Language acquisition'!A3713","v":0},{"$f":"'BX Language acquisition'!B3713","v":0},null,{"$f":"'BX Language acquisition'!C3713","v":0},{"$f":"'BX Language acquisition'!D3713","v":0}]
[{"$f":"'BX Language acquisition'!A3714","v":0},{"$f":"'BX Language acquisition'!B3714","v":0},null,{"$f":"'BX Language acquisition'!C3714","v":0},{"$f":"'BX Language acquisition'!D3714","v":0}]
[{"$f":"'BX Language acquisition'!A3715","v":0},{"$f":"'BX Language acquisition'!B3715","v":0},null,{"$f":"'BX Language acquisition'!C3715","v":0},{"$f":"'BX Language acquisition'!D3715","v":0}]
[{"$f":"'BX Language acquisition'!A3716","v":0},{"$f":"'BX Language acquisition'!B3716","v":0},null,{"$f":"'BX Language acquisition'!C3716","v":0},{"$f":"'BX Language acquisition'!D3716","v":0}]
[{"$f":"'BX Language acquisition'!A3717","v":0},{"$f":"'BX Language acquisition'!B3717","v":0},null,{"$f":"'BX Language acquisition'!C3717","v":0},{"$f":"'BX Language acquisition'!D3717","v":0}]
[{"$f":"'BX Language acquisition'!A3718","v":0},{"$f":"'BX Language acquisition'!B3718","v":0},null,{"$f":"'BX Language acquisition'!C3718","v":0},{"$f":"'BX Language acquisition'!D3718","v":0}]
[{"$f":"'BX Language acquisition'!A3719","v":0},{"$f":"'BX Language acquisition'!B3719","v":0},null,{"$f":"'BX Language acquisition'!C3719","v":0},{"$f":"'BX Language acquisition'!D3719","v":0}]
[{"$f":"'BX Language acquisition'!A3720","v":0},{"$f":"'BX Language acquisition'!B3720","v":0},null,{"$f":"'BX Language acquisition'!C3720","v":0},{"$f":"'BX Language acquisition'!D3720","v":0}]
[{"$f":"'BX Language acquisition'!A3721","v":0},{"$f":"'BX Language acquisition'!B3721","v":0},null,{"$f":"'BX Language acquisition'!C3721","v":0},{"$f":"'BX Language acquisition'!D3721","v":0}]
[{"$f":"'BX Language acquisition'!A3722","v":0},{"$f":"'BX Language acquisition'!B3722","v":0},null,{"$f":"'BX Language acquisition'!C3722","v":0},{"$f":"'BX Language acquisition'!D3722","v":0}]
[{"$f":"'BX Language acquisition'!A3723","v":0},{"$f":"'BX Language acquisition'!B3723","v":0},null,{"$f":"'BX Language acquisition'!C3723","v":0},{"$f":"'BX Language acquisition'!D3723","v":0}]
[{"$f":"'BX Language acquisition'!A3724","v":0},{"$f":"'BX Language acquisition'!B3724","v":0},null,{"$f":"'BX Language acquisition'!C3724","v":0},{"$f":"'BX Language acquisition'!D3724","v":0}]
[{"$f":"'BX Language acquisition'!A3725","v":0},{"$f":"'BX Language acquisition'!B3725","v":0},null,{"$f":"'BX Language acquisition'!C3725","v":0},{"$f":"'BX Language acquisition'!D3725","v":0}]
[{"$f":"'BX Language acquisition'!A3726","v":0},{"$f":"'BX Language acquisition'!B3726","v":0},null,{"$f":"'BX Language acquisition'!C3726","v":0},{"$f":"'BX Language acquisition'!D3726","v":0}]
[{"$f":"'BX Language acquisition'!A3727","v":0},{"$f":"'BX Language acquisition'!B3727","v":0},null,{"$f":"'BX Language acquisition'!C3727","v":0},{"$f":"'BX Language acquisition'!D3727","v":0}]
[{"$f":"'BX Language acquisition'!A3728","v":0},{"$f":"'BX Language acquisition'!B3728","v":0},null,{"$f":"'BX Language acquisition'!C3728","v":0},{"$f":"'BX Language acquisition'!D3728","v":0}]
[{"$f":"'BX Language acquisition'!A3729","v":0},{"$f":"'BX Language acquisition'!B3729","v":0},null,{"$f":"'BX Language acquisition'!C3729","v":0},{"$f":"'BX Language acquisition'!D3729","v":0}]
[{"$f":"'BX Language acquisition'!A3730","v":0},{"$f":"'BX Language acquisition'!B3730","v":0},null,{"$f":"'BX Language acquisition'!C3730","v":0},{"$f":"'BX Language acquisition'!D3730","v":0}]
[{"$f":"'BX Language acquisition'!A3731","v":0},{"$f":"'BX Language acquisition'!B3731","v":0},null,{"$f":"'BX Language acquisition'!C3731","v":0},{"$f":"'BX Language acquisition'!D3731","v":0}]
[{"$f":"'BX Language acquisition'!A3732","v":0},{"$f":"'BX Language acquisition'!B3732","v":0},null,{"$f":"'BX Language acquisition'!C3732","v":0},{"$f":"'BX Language acquisition'!D3732","v":0}]
[{"$f":"'BX Language acquisition'!A3733","v":0},{"$f":"'BX Language acquisition'!B3733","v":0},null,{"$f":"'BX Language acquisition'!C3733","v":0},{"$f":"'BX Language acquisition'!D3733","v":0}]
[{"$f":"'BX Language acquisition'!A3734","v":0},{"$f":"'BX Language acquisition'!B3734","v":0},null,{"$f":"'BX Language acquisition'!C3734","v":0},{"$f":"'BX Language acquisition'!D3734","v":0}]
[{"$f":"'BX Language acquisition'!A3735","v":0},{"$f":"'BX Language acquisition'!B3735","v":0},null,{"$f":"'BX Language acquisition'!C3735","v":0},{"$f":"'BX Language acquisition'!D3735","v":0}]
[{"$f":"'BX Language acquisition'!A3736","v":0},{"$f":"'BX Language acquisition'!B3736","v":0},null,{"$f":"'BX Language acquisition'!C3736","v":0},{"$f":"'BX Language acquisition'!D3736","v":0}]
[{"$f":"'BX Language acquisition'!A3737","v":0},{"$f":"'BX Language acquisition'!B3737","v":0},null,{"$f":"'BX Language acquisition'!C3737","v":0},{"$f":"'BX Language acquisition'!D3737","v":0}]
[{"$f":"'BX Language acquisition'!A3738","v":0},{"$f":"'BX Language acquisition'!B3738","v":0},null,{"$f":"'BX Language acquisition'!C3738","v":0},{"$f":"'BX Language acquisition'!D3738","v":0}]
[{"$f":"'BX Language acquisition'!A3739","v":0},{"$f":"'BX Language acquisition'!B3739","v":0},null,{"$f":"'BX Language acquisition'!C3739","v":0},{"$f":"'BX Language acquisition'!D3739","v":0}]
[{"$f":"'BX Language acquisition'!A3740","v":0},{"$f":"'BX Language acquisition'!B3740","v":0},null,{"$f":"'BX Language acquisition'!C3740","v":0},{"$f":"'BX Language acquisition'!D3740","v":0}]
[{"$f":"'BX Language acquisition'!A3741","v":0},{"$f":"'BX Language acquisition'!B3741","v":0},null,{"$f":"'BX Language acquisition'!C3741","v":0},{"$f":"'BX Language acquisition'!D3741","v":0}]
[{"$f":"'BX Language acquisition'!A3742","v":0},{"$f":"'BX Language acquisition'!B3742","v":0},null,{"$f":"'BX Language acquisition'!C3742","v":0},{"$f":"'BX Language acquisition'!D3742","v":0}]
[{"$f":"'BX Language acquisition'!A3743","v":0},{"$f":"'BX Language acquisition'!B3743","v":0},null,{"$f":"'BX Language acquisition'!C3743","v":0},{"$f":"'BX Language acquisition'!D3743","v":0}]
[{"$f":"'BX Language acquisition'!A3744","v":0},{"$f":"'BX Language acquisition'!B3744","v":0},null,{"$f":"'BX Language acquisition'!C3744","v":0},{"$f":"'BX Language acquisition'!D3744","v":0}]
[{"$f":"'BX Language acquisition'!A3745","v":0},{"$f":"'BX Language acquisition'!B3745","v":0},null,{"$f":"'BX Language acquisition'!C3745","v":0},{"$f":"'BX Language acquisition'!D3745","v":0}]
[{"$f":"'BX Language acquisition'!A3746","v":0},{"$f":"'BX Language acquisition'!B3746","v":0},null,{"$f":"'BX Language acquisition'!C3746","v":0},{"$f":"'BX Language acquisition'!D3746","v":0}]
[{"$f":"'BX Language acquisition'!A3747","v":0},{"$f":"'BX Language acquisition'!B3747","v":0},null,{"$f":"'BX Language acquisition'!C3747","v":0},{"$f":"'BX Language acquisition'!D3747","v":0}]
[{"$f":"'BX Language acquisition'!A3748","v":0},{"$f":"'BX Language acquisition'!B3748","v":0},null,{"$f":"'BX Language acquisition'!C3748","v":0},{"$f":"'BX Language acquisition'!D3748","v":0}]
[{"$f":"'BX Language acquisition'!A3749","v":0},{"$f":"'BX Language acquisition'!B3749","v":0},null,{"$f":"'BX Language acquisition'!C3749","v":0},{"$f":"'BX Language acquisition'!D3749","v":0}]
[{"$f":"'BX Language acquisition'!A3750","v":0},{"$f":"'BX Language acquisition'!B3750","v":0},null,{"$f":"'BX Language acquisition'!C3750","v":0},{"$f":"'BX Language acquisition'!D3750","v":0}]
[{"$f":"'BX Language acquisition'!A3751","v":0},{"$f":"'BX Language acquisition'!B3751","v":0},null,{"$f":"'BX Language acquisition'!C3751","v":0},{"$f":"'BX Language acquisition'!D3751","v":0}]
[{"$f":"'BX Language acquisition'!A3752","v":0},{"$f":"'BX Language acquisition'!B3752","v":0},null,{"$f":"'BX Language acquisition'!C3752","v":0},{"$f":"'BX Language acquisition'!D3752","v":0}]
[{"$f":"'BX Language acquisition'!A3753","v":0},{"$f":"'BX Language acquisition'!B3753","v":0},null,{"$f":"'BX Language acquisition'!C3753","v":0},{"$f":"'BX Language acquisition'!D3753","v":0}]
[{"$f":"'BX Language acquisition'!A3754","v":0},{"$f":"'BX Language acquisition'!B3754","v":0},null,{"$f":"'BX Language acquisition'!C3754","v":0},{"$f":"'BX Language acquisition'!D3754","v":0}]
[{"$f":"'BX Language acquisition'!A3755","v":0},{"$f":"'BX Language acquisition'!B3755","v":0},null,{"$f":"'BX Language acquisition'!C3755","v":0},{"$f":"'BX Language acquisition'!D3755","v":0}]
[{"$f":"'BX Language acquisition'!A3756","v":0},{"$f":"'BX Language acquisition'!B3756","v":0},null,{"$f":"'BX Language acquisition'!C3756","v":0},{"$f":"'BX Language acquisition'!D3756","v":0}]
[{"$f":"'BX Language acquisition'!A3757","v":0},{"$f":"'BX Language acquisition'!B3757","v":0},null,{"$f":"'BX Language acquisition'!C3757","v":0},{"$f":"'BX Language acquisition'!D3757","v":0}]
[{"$f":"'BX Language acquisition'!A3758","v":0},{"$f":"'BX Language acquisition'!B3758","v":0},null,{"$f":"'BX Language acquisition'!C3758","v":0},{"$f":"'BX Language acquisition'!D3758","v":0}]
[{"$f":"'BX Language acquisition'!A3759","v":0},{"$f":"'BX Language acquisition'!B3759","v":0},null,{"$f":"'BX Language acquisition'!C3759","v":0},{"$f":"'BX Language acquisition'!D3759","v":0}]
[{"$f":"'BX Language acquisition'!A3760","v":0},{"$f":"'BX Language acquisition'!B3760","v":0},null,{"$f":"'BX Language acquisition'!C3760","v":0},{"$f":"'BX Language acquisition'!D3760","v":0}]
[{"$f":"'BX Language acquisition'!A3761","v":0},{"$f":"'BX Language acquisition'!B3761","v":0},null,{"$f":"'BX Language acquisition'!C3761","v":0},{"$f":"'BX Language acquisition'!D3761","v":0}]
[{"$f":"'BX Language acquisition'!A3762","v":0},{"$f":"'BX Language acquisition'!B3762","v":0},null,{"$f":"'BX Language acquisition'!C3762","v":0},{"$f":"'BX Language acquisition'!D3762","v":0}]
[{"$f":"'BX Language acquisition'!A3763","v":0},{"$f":"'BX Language acquisition'!B3763","v":0},null,{"$f":"'BX Language acquisition'!C3763","v":0},{"$f":"'BX Language acquisition'!D3763","v":0}]
[{"$f":"'BX Language acquisition'!A3764","v":0},{"$f":"'BX Language acquisition'!B3764","v":0},null,{"$f":"'BX Language acquisition'!C3764","v":0},{"$f":"'BX Language acquisition'!D3764","v":0}]
[{"$f":"'BX Language acquisition'!A3765","v":0},{"$f":"'BX Language acquisition'!B3765","v":0},null,{"$f":"'BX Language acquisition'!C3765","v":0},{"$f":"'BX Language acquisition'!D3765","v":0}]
[{"$f":"'BX Language acquisition'!A3766","v":0},{"$f":"'BX Language acquisition'!B3766","v":0},null,{"$f":"'BX Language acquisition'!C3766","v":0},{"$f":"'BX Language acquisition'!D3766","v":0}]
[{"$f":"'BX Language acquisition'!A3767","v":0},{"$f":"'BX Language acquisition'!B3767","v":0},null,{"$f":"'BX Language acquisition'!C3767","v":0},{"$f":"'BX Language acquisition'!D3767","v":0}]
[{"$f":"'BX Language acquisition'!A3768","v":0},{"$f":"'BX Language acquisition'!B3768","v":0},null,{"$f":"'BX Language acquisition'!C3768","v":0},{"$f":"'BX Language acquisition'!D3768","v":0}]
[{"$f":"'BX Language acquisition'!A3769","v":0},{"$f":"'BX Language acquisition'!B3769","v":0},null,{"$f":"'BX Language acquisition'!C3769","v":0},{"$f":"'BX Language acquisition'!D3769","v":0}]
[{"$f":"'BX Language acquisition'!A3770","v":0},{"$f":"'BX Language acquisition'!B3770","v":0},null,{"$f":"'BX Language acquisition'!C3770","v":0},{"$f":"'BX Language acquisition'!D3770","v":0}]
[{"$f":"'BX Language acquisition'!A3771","v":0},{"$f":"'BX Language acquisition'!B3771","v":0},null,{"$f":"'BX Language acquisition'!C3771","v":0},{"$f":"'BX Language acquisition'!D3771","v":0}]
[{"$f":"'BX Language acquisition'!A3772","v":0},{"$f":"'BX Language acquisition'!B3772","v":0},null,{"$f":"'BX Language acquisition'!C3772","v":0},{"$f":"'BX Language acquisition'!D3772","v":0}]
[{"$f":"'BX Language acquisition'!A3773","v":0},{"$f":"'BX Language acquisition'!B3773","v":0},null,{"$f":"'BX Language acquisition'!C3773","v":0},{"$f":"'BX Language acquisition'!D3773","v":0}]
[{"$f":"'BX Language acquisition'!A3774","v":0},{"$f":"'BX Language acquisition'!B3774","v":0},null,{"$f":"'BX Language acquisition'!C3774","v":0},{"$f":"'BX Language acquisition'!D3774","v":0}]
[{"$f":"'BX Language acquisition'!A3775","v":0},{"$f":"'BX Language acquisition'!B3775","v":0},null,{"$f":"'BX Language acquisition'!C3775","v":0},{"$f":"'BX Language acquisition'!D3775","v":0}]
[{"$f":"'BX Language acquisition'!A3776","v":0},{"$f":"'BX Language acquisition'!B3776","v":0},null,{"$f":"'BX Language acquisition'!C3776","v":0},{"$f":"'BX Language acquisition'!D3776","v":0}]
[{"$f":"'BX Language acquisition'!A3777","v":0},{"$f":"'BX Language acquisition'!B3777","v":0},null,{"$f":"'BX Language acquisition'!C3777","v":0},{"$f":"'BX Language acquisition'!D3777","v":0}]
[{"$f":"'BX Language acquisition'!A3778","v":0},{"$f":"'BX Language acquisition'!B3778","v":0},null,{"$f":"'BX Language acquisition'!C3778","v":0},{"$f":"'BX Language acquisition'!D3778","v":0}]
[{"$f":"'BX Language acquisition'!A3779","v":0},{"$f":"'BX Language acquisition'!B3779","v":0},null,{"$f":"'BX Language acquisition'!C3779","v":0},{"$f":"'BX Language acquisition'!D3779","v":0}]
[{"$f":"'BX Language acquisition'!A3780","v":0},{"$f":"'BX Language acquisition'!B3780","v":0},null,{"$f":"'BX Language acquisition'!C3780","v":0},{"$f":"'BX Language acquisition'!D3780","v":0}]
[{"$f":"'BX Language acquisition'!A3781","v":0},{"$f":"'BX Language acquisition'!B3781","v":0},null,{"$f":"'BX Language acquisition'!C3781","v":0},{"$f":"'BX Language acquisition'!D3781","v":0}]
[{"$f":"'BX Language acquisition'!A3782","v":0},{"$f":"'BX Language acquisition'!B3782","v":0},null,{"$f":"'BX Language acquisition'!C3782","v":0},{"$f":"'BX Language acquisition'!D3782","v":0}]
[{"$f":"'BX Language acquisition'!A3783","v":0},{"$f":"'BX Language acquisition'!B3783","v":0},null,{"$f":"'BX Language acquisition'!C3783","v":0},{"$f":"'BX Language acquisition'!D3783","v":0}]
[{"$f":"'BX Language acquisition'!A3784","v":0},{"$f":"'BX Language acquisition'!B3784","v":0},null,{"$f":"'BX Language acquisition'!C3784","v":0},{"$f":"'BX Language acquisition'!D3784","v":0}]
[{"$f":"'BX Language acquisition'!A3785","v":0},{"$f":"'BX Language acquisition'!B3785","v":0},null,{"$f":"'BX Language acquisition'!C3785","v":0},{"$f":"'BX Language acquisition'!D3785","v":0}]
[{"$f":"'BX Language acquisition'!A3786","v":0},{"$f":"'BX Language acquisition'!B3786","v":0},null,{"$f":"'BX Language acquisition'!C3786","v":0},{"$f":"'BX Language acquisition'!D3786","v":0}]
[{"$f":"'BX Language acquisition'!A3787","v":0},{"$f":"'BX Language acquisition'!B3787","v":0},null,{"$f":"'BX Language acquisition'!C3787","v":0},{"$f":"'BX Language acquisition'!D3787","v":0}]
[{"$f":"'BX Language acquisition'!A3788","v":0},{"$f":"'BX Language acquisition'!B3788","v":0},null,{"$f":"'BX Language acquisition'!C3788","v":0},{"$f":"'BX Language acquisition'!D3788","v":0}]
[{"$f":"'BX Language acquisition'!A3789","v":0},{"$f":"'BX Language acquisition'!B3789","v":0},null,{"$f":"'BX Language acquisition'!C3789","v":0},{"$f":"'BX Language acquisition'!D3789","v":0}]
[{"$f":"'BX Language acquisition'!A3790","v":0},{"$f":"'BX Language acquisition'!B3790","v":0},null,{"$f":"'BX Language acquisition'!C3790","v":0},{"$f":"'BX Language acquisition'!D3790","v":0}]
[{"$f":"'BX Language acquisition'!A3791","v":0},{"$f":"'BX Language acquisition'!B3791","v":0},null,{"$f":"'BX Language acquisition'!C3791","v":0},{"$f":"'BX Language acquisition'!D3791","v":0}]
[{"$f":"'BX Language acquisition'!A3792","v":0},{"$f":"'BX Language acquisition'!B3792","v":0},null,{"$f":"'BX Language acquisition'!C3792","v":0},{"$f":"'BX Language acquisition'!D3792","v":0}]
[{"$f":"'BX Language acquisition'!A3793","v":0},{"$f":"'BX Language acquisition'!B3793","v":0},null,{"$f":"'BX Language acquisition'!C3793","v":0},{"$f":"'BX Language acquisition'!D3793","v":0}]
[{"$f":"'BX Language acquisition'!A3794","v":0},{"$f":"'BX Language acquisition'!B3794","v":0},null,{"$f":"'BX Language acquisition'!C3794","v":0},{"$f":"'BX Language acquisition'!D3794","v":0}]
[{"$f":"'BX Language acquisition'!A3795","v":0},{"$f":"'BX Language acquisition'!B3795","v":0},null,{"$f":"'BX Language acquisition'!C3795","v":0},{"$f":"'BX Language acquisition'!D3795","v":0}]
[{"$f":"'BX Language acquisition'!A3796","v":0},{"$f":"'BX Language acquisition'!B3796","v":0},null,{"$f":"'BX Language acquisition'!C3796","v":0},{"$f":"'BX Language acquisition'!D3796","v":0}]
[{"$f":"'BX Language acquisition'!A3797","v":0},{"$f":"'BX Language acquisition'!B3797","v":0},null,{"$f":"'BX Language acquisition'!C3797","v":0},{"$f":"'BX Language acquisition'!D3797","v":0}]
[{"$f":"'BX Language acquisition'!A3798","v":0},{"$f":"'BX Language acquisition'!B3798","v":0},null,{"$f":"'BX Language acquisition'!C3798","v":0},{"$f":"'BX Language acquisition'!D3798","v":0}]
[{"$f":"'BX Language acquisition'!A3799","v":0},{"$f":"'BX Language acquisition'!B3799","v":0},null,{"$f":"'BX Language acquisition'!C3799","v":0},{"$f":"'BX Language acquisition'!D3799","v":0}]
[{"$f":"'BX Language acquisition'!A3800","v":0},{"$f":"'BX Language acquisition'!B3800","v":0},null,{"$f":"'BX Language acquisition'!C3800","v":0},{"$f":"'BX Language acquisition'!D3800","v":0}]
[{"$f":"'BX Language acquisition'!A3801","v":0},{"$f":"'BX Language acquisition'!B3801","v":0},null,{"$f":"'BX Language acquisition'!C3801","v":0},{"$f":"'BX Language acquisition'!D3801","v":0}]
[{"$f":"'BX Language acquisition'!A3802","v":0},{"$f":"'BX Language acquisition'!B3802","v":0},null,{"$f":"'BX Language acquisition'!C3802","v":0},{"$f":"'BX Language acquisition'!D3802","v":0}]
[{"$f":"'BX Language acquisition'!A3803","v":0},{"$f":"'BX Language acquisition'!B3803","v":0},null,{"$f":"'BX Language acquisition'!C3803","v":0},{"$f":"'BX Language acquisition'!D3803","v":0}]
[{"$f":"'BX Language acquisition'!A3804","v":0},{"$f":"'BX Language acquisition'!B3804","v":0},null,{"$f":"'BX Language acquisition'!C3804","v":0},{"$f":"'BX Language acquisition'!D3804","v":0}]
[{"$f":"'BX Language acquisition'!A3805","v":0},{"$f":"'BX Language acquisition'!B3805","v":0},null,{"$f":"'BX Language acquisition'!C3805","v":0},{"$f":"'BX Language acquisition'!D3805","v":0}]
[{"$f":"'BX Language acquisition'!A3806","v":0},{"$f":"'BX Language acquisition'!B3806","v":0},null,{"$f":"'BX Language acquisition'!C3806","v":0},{"$f":"'BX Language acquisition'!D3806","v":0}]
[{"$f":"'BX Language acquisition'!A3807","v":0},{"$f":"'BX Language acquisition'!B3807","v":0},null,{"$f":"'BX Language acquisition'!C3807","v":0},{"$f":"'BX Language acquisition'!D3807","v":0}]
[{"$f":"'BX Language acquisition'!A3808","v":0},{"$f":"'BX Language acquisition'!B3808","v":0},null,{"$f":"'BX Language acquisition'!C3808","v":0},{"$f":"'BX Language acquisition'!D3808","v":0}]
[{"$f":"'BX Language acquisition'!A3809","v":0},{"$f":"'BX Language acquisition'!B3809","v":0},null,{"$f":"'BX Language acquisition'!C3809","v":0},{"$f":"'BX Language acquisition'!D3809","v":0}]
[{"$f":"'BX Language acquisition'!A3810","v":0},{"$f":"'BX Language acquisition'!B3810","v":0},null,{"$f":"'BX Language acquisition'!C3810","v":0},{"$f":"'BX Language acquisition'!D3810","v":0}]
[{"$f":"'BX Language acquisition'!A3811","v":0},{"$f":"'BX Language acquisition'!B3811","v":0},null,{"$f":"'BX Language acquisition'!C3811","v":0},{"$f":"'BX Language acquisition'!D3811","v":0}]
[{"$f":"'BX Language acquisition'!A3812","v":0},{"$f":"'BX Language acquisition'!B3812","v":0},null,{"$f":"'BX Language acquisition'!C3812","v":0},{"$f":"'BX Language acquisition'!D3812","v":0}]
[{"$f":"'BX Language acquisition'!A3813","v":0},{"$f":"'BX Language acquisition'!B3813","v":0},null,{"$f":"'BX Language acquisition'!C3813","v":0},{"$f":"'BX Language acquisition'!D3813","v":0}]
[{"$f":"'BX Language acquisition'!A3814","v":0},{"$f":"'BX Language acquisition'!B3814","v":0},null,{"$f":"'BX Language acquisition'!C3814","v":0},{"$f":"'BX Language acquisition'!D3814","v":0}]
[{"$f":"'BX Language acquisition'!A3815","v":0},{"$f":"'BX Language acquisition'!B3815","v":0},null,{"$f":"'BX Language acquisition'!C3815","v":0},{"$f":"'BX Language acquisition'!D3815","v":0}]
[{"$f":"'BX Language acquisition'!A3816","v":0},{"$f":"'BX Language acquisition'!B3816","v":0},null,{"$f":"'BX Language acquisition'!C3816","v":0},{"$f":"'BX Language acquisition'!D3816","v":0}]
[{"$f":"'BX Language acquisition'!A3817","v":0},{"$f":"'BX Language acquisition'!B3817","v":0},null,{"$f":"'BX Language acquisition'!C3817","v":0},{"$f":"'BX Language acquisition'!D3817","v":0}]
[{"$f":"'BX Language acquisition'!A3818","v":0},{"$f":"'BX Language acquisition'!B3818","v":0},null,{"$f":"'BX Language acquisition'!C3818","v":0},{"$f":"'BX Language acquisition'!D3818","v":0}]
[{"$f":"'BX Language acquisition'!A3819","v":0},{"$f":"'BX Language acquisition'!B3819","v":0},null,{"$f":"'BX Language acquisition'!C3819","v":0},{"$f":"'BX Language acquisition'!D3819","v":0}]
[{"$f":"'BX Language acquisition'!A3820","v":0},{"$f":"'BX Language acquisition'!B3820","v":0},null,{"$f":"'BX Language acquisition'!C3820","v":0},{"$f":"'BX Language acquisition'!D3820","v":0}]
[{"$f":"'BX Language acquisition'!A3821","v":0},{"$f":"'BX Language acquisition'!B3821","v":0},null,{"$f":"'BX Language acquisition'!C3821","v":0},{"$f":"'BX Language acquisition'!D3821","v":0}]
[{"$f":"'BX Language acquisition'!A3822","v":0},{"$f":"'BX Language acquisition'!B3822","v":0},null,{"$f":"'BX Language acquisition'!C3822","v":0},{"$f":"'BX Language acquisition'!D3822","v":0}]
[{"$f":"'BX Language acquisition'!A3823","v":0},{"$f":"'BX Language acquisition'!B3823","v":0},null,{"$f":"'BX Language acquisition'!C3823","v":0},{"$f":"'BX Language acquisition'!D3823","v":0}]
[{"$f":"'BX Language acquisition'!A3824","v":0},{"$f":"'BX Language acquisition'!B3824","v":0},null,{"$f":"'BX Language acquisition'!C3824","v":0},{"$f":"'BX Language acquisition'!D3824","v":0}]
[{"$f":"'BX Language acquisition'!A3825","v":0},{"$f":"'BX Language acquisition'!B3825","v":0},null,{"$f":"'BX Language acquisition'!C3825","v":0},{"$f":"'BX Language acquisition'!D3825","v":0}]
[{"$f":"'BX Language acquisition'!A3826","v":0},{"$f":"'BX Language acquisition'!B3826","v":0},null,{"$f":"'BX Language acquisition'!C3826","v":0},{"$f":"'BX Language acquisition'!D3826","v":0}]
[{"$f":"'BX Language acquisition'!A3827","v":0},{"$f":"'BX Language acquisition'!B3827","v":0},null,{"$f":"'BX Language acquisition'!C3827","v":0},{"$f":"'BX Language acquisition'!D3827","v":0}]
[{"$f":"'BX Language acquisition'!A3828","v":0},{"$f":"'BX Language acquisition'!B3828","v":0},null,{"$f":"'BX Language acquisition'!C3828","v":0},{"$f":"'BX Language acquisition'!D3828","v":0}]
[{"$f":"'BX Language acquisition'!A3829","v":0},{"$f":"'BX Language acquisition'!B3829","v":0},null,{"$f":"'BX Language acquisition'!C3829","v":0},{"$f":"'BX Language acquisition'!D3829","v":0}]
[{"$f":"'BX Language acquisition'!A3830","v":0},{"$f":"'BX Language acquisition'!B3830","v":0},null,{"$f":"'BX Language acquisition'!C3830","v":0},{"$f":"'BX Language acquisition'!D3830","v":0}]
[{"$f":"'BX Language acquisition'!A3831","v":0},{"$f":"'BX Language acquisition'!B3831","v":0},null,{"$f":"'BX Language acquisition'!C3831","v":0},{"$f":"'BX Language acquisition'!D3831","v":0}]
[{"$f":"'BX Language acquisition'!A3832","v":0},{"$f":"'BX Language acquisition'!B3832","v":0},null,{"$f":"'BX Language acquisition'!C3832","v":0},{"$f":"'BX Language acquisition'!D3832","v":0}]
[{"$f":"'BX Language acquisition'!A3833","v":0},{"$f":"'BX Language acquisition'!B3833","v":0},null,{"$f":"'BX Language acquisition'!C3833","v":0},{"$f":"'BX Language acquisition'!D3833","v":0}]
[{"$f":"'BX Language acquisition'!A3834","v":0},{"$f":"'BX Language acquisition'!B3834","v":0},null,{"$f":"'BX Language acquisition'!C3834","v":0},{"$f":"'BX Language acquisition'!D3834","v":0}]
[{"$f":"'BX Language acquisition'!A3835","v":0},{"$f":"'BX Language acquisition'!B3835","v":0},null,{"$f":"'BX Language acquisition'!C3835","v":0},{"$f":"'BX Language acquisition'!D3835","v":0}]
[{"$f":"'BX Language acquisition'!A3836","v":0},{"$f":"'BX Language acquisition'!B3836","v":0},null,{"$f":"'BX Language acquisition'!C3836","v":0},{"$f":"'BX Language acquisition'!D3836","v":0}]
[{"$f":"'BX Language acquisition'!A3837","v":0},{"$f":"'BX Language acquisition'!B3837","v":0},null,{"$f":"'BX Language acquisition'!C3837","v":0},{"$f":"'BX Language acquisition'!D3837","v":0}]
[{"$f":"'BX Language acquisition'!A3838","v":0},{"$f":"'BX Language acquisition'!B3838","v":0},null,{"$f":"'BX Language acquisition'!C3838","v":0},{"$f":"'BX Language acquisition'!D3838","v":0}]
[{"$f":"'BX Language acquisition'!A3839","v":0},{"$f":"'BX Language acquisition'!B3839","v":0},null,{"$f":"'BX Language acquisition'!C3839","v":0},{"$f":"'BX Language acquisition'!D3839","v":0}]
[{"$f":"'BX Language acquisition'!A3840","v":0},{"$f":"'BX Language acquisition'!B3840","v":0},null,{"$f":"'BX Language acquisition'!C3840","v":0},{"$f":"'BX Language acquisition'!D3840","v":0}]
[{"$f":"'BX Language acquisition'!A3841","v":0},{"$f":"'BX Language acquisition'!B3841","v":0},null,{"$f":"'BX Language acquisition'!C3841","v":0},{"$f":"'BX Language acquisition'!D3841","v":0}]
[{"$f":"'BX Language acquisition'!A3842","v":0},{"$f":"'BX Language acquisition'!B3842","v":0},null,{"$f":"'BX Language acquisition'!C3842","v":0},{"$f":"'BX Language acquisition'!D3842","v":0}]
[{"$f":"'BX Language acquisition'!A3843","v":0},{"$f":"'BX Language acquisition'!B3843","v":0},null,{"$f":"'BX Language acquisition'!C3843","v":0},{"$f":"'BX Language acquisition'!D3843","v":0}]
[{"$f":"'BX Language acquisition'!A3844","v":0},{"$f":"'BX Language acquisition'!B3844","v":0},null,{"$f":"'BX Language acquisition'!C3844","v":0},{"$f":"'BX Language acquisition'!D3844","v":0}]
[{"$f":"'BX Language acquisition'!A3845","v":0},{"$f":"'BX Language acquisition'!B3845","v":0},null,{"$f":"'BX Language acquisition'!C3845","v":0},{"$f":"'BX Language acquisition'!D3845","v":0}]
[{"$f":"'BX Language acquisition'!A3846","v":0},{"$f":"'BX Language acquisition'!B3846","v":0},null,{"$f":"'BX Language acquisition'!C3846","v":0},{"$f":"'BX Language acquisition'!D3846","v":0}]
[{"$f":"'BX Language acquisition'!A3847","v":0},{"$f":"'BX Language acquisition'!B3847","v":0},null,{"$f":"'BX Language acquisition'!C3847","v":0},{"$f":"'BX Language acquisition'!D3847","v":0}]
[{"$f":"'BX Language acquisition'!A3848","v":0},{"$f":"'BX Language acquisition'!B3848","v":0},null,{"$f":"'BX Language acquisition'!C3848","v":0},{"$f":"'BX Language acquisition'!D3848","v":0}]
[{"$f":"'BX Language acquisition'!A3849","v":0},{"$f":"'BX Language acquisition'!B3849","v":0},null,{"$f":"'BX Language acquisition'!C3849","v":0},{"$f":"'BX Language acquisition'!D3849","v":0}]
[{"$f":"'BX Language acquisition'!A3850","v":0},{"$f":"'BX Language acquisition'!B3850","v":0},null,{"$f":"'BX Language acquisition'!C3850","v":0},{"$f":"'BX Language acquisition'!D3850","v":0}]
[{"$f":"'BX Language acquisition'!A3851","v":0},{"$f":"'BX Language acquisition'!B3851","v":0},null,{"$f":"'BX Language acquisition'!C3851","v":0},{"$f":"'BX Language acquisition'!D3851","v":0}]
[{"$f":"'BX Language acquisition'!A3852","v":0},{"$f":"'BX Language acquisition'!B3852","v":0},null,{"$f":"'BX Language acquisition'!C3852","v":0},{"$f":"'BX Language acquisition'!D3852","v":0}]
[{"$f":"'BX Language acquisition'!A3853","v":0},{"$f":"'BX Language acquisition'!B3853","v":0},null,{"$f":"'BX Language acquisition'!C3853","v":0},{"$f":"'BX Language acquisition'!D3853","v":0}]
[{"$f":"'BX Language acquisition'!A3854","v":0},{"$f":"'BX Language acquisition'!B3854","v":0},null,{"$f":"'BX Language acquisition'!C3854","v":0},{"$f":"'BX Language acquisition'!D3854","v":0}]
[{"$f":"'BX Language acquisition'!A3855","v":0},{"$f":"'BX Language acquisition'!B3855","v":0},null,{"$f":"'BX Language acquisition'!C3855","v":0},{"$f":"'BX Language acquisition'!D3855","v":0}]
[{"$f":"'BX Language acquisition'!A3856","v":0},{"$f":"'BX Language acquisition'!B3856","v":0},null,{"$f":"'BX Language acquisition'!C3856","v":0},{"$f":"'BX Language acquisition'!D3856","v":0}]
[{"$f":"'BX Language acquisition'!A3857","v":0},{"$f":"'BX Language acquisition'!B3857","v":0},null,{"$f":"'BX Language acquisition'!C3857","v":0},{"$f":"'BX Language acquisition'!D3857","v":0}]
[{"$f":"'BX Language acquisition'!A3858","v":0},{"$f":"'BX Language acquisition'!B3858","v":0},null,{"$f":"'BX Language acquisition'!C3858","v":0},{"$f":"'BX Language acquisition'!D3858","v":0}]
[{"$f":"'BX Language acquisition'!A3859","v":0},{"$f":"'BX Language acquisition'!B3859","v":0},null,{"$f":"'BX Language acquisition'!C3859","v":0},{"$f":"'BX Language acquisition'!D3859","v":0}]
[{"$f":"'BX Language acquisition'!A3860","v":0},{"$f":"'BX Language acquisition'!B3860","v":0},null,{"$f":"'BX Language acquisition'!C3860","v":0},{"$f":"'BX Language acquisition'!D3860","v":0}]
[{"$f":"'BX Language acquisition'!A3861","v":0},{"$f":"'BX Language acquisition'!B3861","v":0},null,{"$f":"'BX Language acquisition'!C3861","v":0},{"$f":"'BX Language acquisition'!D3861","v":0}]
[{"$f":"'BX Language acquisition'!A3862","v":0},{"$f":"'BX Language acquisition'!B3862","v":0},null,{"$f":"'BX Language acquisition'!C3862","v":0},{"$f":"'BX Language acquisition'!D3862","v":0}]
[{"$f":"'BX Language acquisition'!A3863","v":0},{"$f":"'BX Language acquisition'!B3863","v":0},null,{"$f":"'BX Language acquisition'!C3863","v":0},{"$f":"'BX Language acquisition'!D3863","v":0}]
[{"$f":"'BX Language acquisition'!A3864","v":0},{"$f":"'BX Language acquisition'!B3864","v":0},null,{"$f":"'BX Language acquisition'!C3864","v":0},{"$f":"'BX Language acquisition'!D3864","v":0}]
[{"$f":"'BX Language acquisition'!A3865","v":0},{"$f":"'BX Language acquisition'!B3865","v":0},null,{"$f":"'BX Language acquisition'!C3865","v":0},{"$f":"'BX Language acquisition'!D3865","v":0}]
[{"$f":"'BX Language acquisition'!A3866","v":0},{"$f":"'BX Language acquisition'!B3866","v":0},null,{"$f":"'BX Language acquisition'!C3866","v":0},{"$f":"'BX Language acquisition'!D3866","v":0}]
[{"$f":"'BX Language acquisition'!A3867","v":0},{"$f":"'BX Language acquisition'!B3867","v":0},null,{"$f":"'BX Language acquisition'!C3867","v":0},{"$f":"'BX Language acquisition'!D3867","v":0}]
[{"$f":"'BX Language acquisition'!A3868","v":0},{"$f":"'BX Language acquisition'!B3868","v":0},null,{"$f":"'BX Language acquisition'!C3868","v":0},{"$f":"'BX Language acquisition'!D3868","v":0}]
[{"$f":"'BX Language acquisition'!A3869","v":0},{"$f":"'BX Language acquisition'!B3869","v":0},null,{"$f":"'BX Language acquisition'!C3869","v":0},{"$f":"'BX Language acquisition'!D3869","v":0}]
[{"$f":"'BX Language acquisition'!A3870","v":0},{"$f":"'BX Language acquisition'!B3870","v":0},null,{"$f":"'BX Language acquisition'!C3870","v":0},{"$f":"'BX Language acquisition'!D3870","v":0}]
[{"$f":"'BX Language acquisition'!A3871","v":0},{"$f":"'BX Language acquisition'!B3871","v":0},null,{"$f":"'BX Language acquisition'!C3871","v":0},{"$f":"'BX Language acquisition'!D3871","v":0}]
[{"$f":"'BX Language acquisition'!A3872","v":0},{"$f":"'BX Language acquisition'!B3872","v":0},null,{"$f":"'BX Language acquisition'!C3872","v":0},{"$f":"'BX Language acquisition'!D3872","v":0}]
[{"$f":"'BX Language acquisition'!A3873","v":0},{"$f":"'BX Language acquisition'!B3873","v":0},null,{"$f":"'BX Language acquisition'!C3873","v":0},{"$f":"'BX Language acquisition'!D3873","v":0}]
[{"$f":"'BX Language acquisition'!A3874","v":0},{"$f":"'BX Language acquisition'!B3874","v":0},null,{"$f":"'BX Language acquisition'!C3874","v":0},{"$f":"'BX Language acquisition'!D3874","v":0}]
[{"$f":"'BX Language acquisition'!A3875","v":0},{"$f":"'BX Language acquisition'!B3875","v":0},null,{"$f":"'BX Language acquisition'!C3875","v":0},{"$f":"'BX Language acquisition'!D3875","v":0}]
[{"$f":"'BX Language acquisition'!A3876","v":0},{"$f":"'BX Language acquisition'!B3876","v":0},null,{"$f":"'BX Language acquisition'!C3876","v":0},{"$f":"'BX Language acquisition'!D3876","v":0}]
[{"$f":"'BX Language acquisition'!A3877","v":0},{"$f":"'BX Language acquisition'!B3877","v":0},null,{"$f":"'BX Language acquisition'!C3877","v":0},{"$f":"'BX Language acquisition'!D3877","v":0}]
[{"$f":"'BX Language acquisition'!A3878","v":0},{"$f":"'BX Language acquisition'!B3878","v":0},null,{"$f":"'BX Language acquisition'!C3878","v":0},{"$f":"'BX Language acquisition'!D3878","v":0}]
[{"$f":"'BX Language acquisition'!A3879","v":0},{"$f":"'BX Language acquisition'!B3879","v":0},null,{"$f":"'BX Language acquisition'!C3879","v":0},{"$f":"'BX Language acquisition'!D3879","v":0}]
[{"$f":"'BX Language acquisition'!A3880","v":0},{"$f":"'BX Language acquisition'!B3880","v":0},null,{"$f":"'BX Language acquisition'!C3880","v":0},{"$f":"'BX Language acquisition'!D3880","v":0}]
[{"$f":"'BX Language acquisition'!A3881","v":0},{"$f":"'BX Language acquisition'!B3881","v":0},null,{"$f":"'BX Language acquisition'!C3881","v":0},{"$f":"'BX Language acquisition'!D3881","v":0}]
[{"$f":"'BX Language acquisition'!A3882","v":0},{"$f":"'BX Language acquisition'!B3882","v":0},null,{"$f":"'BX Language acquisition'!C3882","v":0},{"$f":"'BX Language acquisition'!D3882","v":0}]
[{"$f":"'BX Language acquisition'!A3883","v":0},{"$f":"'BX Language acquisition'!B3883","v":0},null,{"$f":"'BX Language acquisition'!C3883","v":0},{"$f":"'BX Language acquisition'!D3883","v":0}]
[{"$f":"'BX Language acquisition'!A3884","v":0},{"$f":"'BX Language acquisition'!B3884","v":0},null,{"$f":"'BX Language acquisition'!C3884","v":0},{"$f":"'BX Language acquisition'!D3884","v":0}]
[{"$f":"'BX Language acquisition'!A3885","v":0},{"$f":"'BX Language acquisition'!B3885","v":0},null,{"$f":"'BX Language acquisition'!C3885","v":0},{"$f":"'BX Language acquisition'!D3885","v":0}]
[{"$f":"'BX Language acquisition'!A3886","v":0},{"$f":"'BX Language acquisition'!B3886","v":0},null,{"$f":"'BX Language acquisition'!C3886","v":0},{"$f":"'BX Language acquisition'!D3886","v":0}]
[{"$f":"'BX Language acquisition'!A3887","v":0},{"$f":"'BX Language acquisition'!B3887","v":0},null,{"$f":"'BX Language acquisition'!C3887","v":0},{"$f":"'BX Language acquisition'!D3887","v":0}]
[{"$f":"'BX Language acquisition'!A3888","v":0},{"$f":"'BX Language acquisition'!B3888","v":0},null,{"$f":"'BX Language acquisition'!C3888","v":0},{"$f":"'BX Language acquisition'!D3888","v":0}]
[{"$f":"'BX Language acquisition'!A3889","v":0},{"$f":"'BX Language acquisition'!B3889","v":0},null,{"$f":"'BX Language acquisition'!C3889","v":0},{"$f":"'BX Language acquisition'!D3889","v":0}]
[{"$f":"'BX Language acquisition'!A3890","v":0},{"$f":"'BX Language acquisition'!B3890","v":0},null,{"$f":"'BX Language acquisition'!C3890","v":0},{"$f":"'BX Language acquisition'!D3890","v":0}]
[{"$f":"'BX Language acquisition'!A3891","v":0},{"$f":"'BX Language acquisition'!B3891","v":0},null,{"$f":"'BX Language acquisition'!C3891","v":0},{"$f":"'BX Language acquisition'!D3891","v":0}]
[{"$f":"'BX Language acquisition'!A3892","v":0},{"$f":"'BX Language acquisition'!B3892","v":0},null,{"$f":"'BX Language acquisition'!C3892","v":0},{"$f":"'BX Language acquisition'!D3892","v":0}]
[{"$f":"'BX Language acquisition'!A3893","v":0},{"$f":"'BX Language acquisition'!B3893","v":0},null,{"$f":"'BX Language acquisition'!C3893","v":0},{"$f":"'BX Language acquisition'!D3893","v":0}]
[{"$f":"'BX Language acquisition'!A3894","v":0},{"$f":"'BX Language acquisition'!B3894","v":0},null,{"$f":"'BX Language acquisition'!C3894","v":0},{"$f":"'BX Language acquisition'!D3894","v":0}]
[{"$f":"'BX Language acquisition'!A3895","v":0},{"$f":"'BX Language acquisition'!B3895","v":0},null,{"$f":"'BX Language acquisition'!C3895","v":0},{"$f":"'BX Language acquisition'!D3895","v":0}]
[{"$f":"'BX Language acquisition'!A3896","v":0},{"$f":"'BX Language acquisition'!B3896","v":0},null,{"$f":"'BX Language acquisition'!C3896","v":0},{"$f":"'BX Language acquisition'!D3896","v":0}]
[{"$f":"'BX Language acquisition'!A3897","v":0},{"$f":"'BX Language acquisition'!B3897","v":0},null,{"$f":"'BX Language acquisition'!C3897","v":0},{"$f":"'BX Language acquisition'!D3897","v":0}]
[{"$f":"'BX Language acquisition'!A3898","v":0},{"$f":"'BX Language acquisition'!B3898","v":0},null,{"$f":"'BX Language acquisition'!C3898","v":0},{"$f":"'BX Language acquisition'!D3898","v":0}]
[{"$f":"'BX Language acquisition'!A3899","v":0},{"$f":"'BX Language acquisition'!B3899","v":0},null,{"$f":"'BX Language acquisition'!C3899","v":0},{"$f":"'BX Language acquisition'!D3899","v":0}]
[{"$f":"'BX Language acquisition'!A3900","v":0},{"$f":"'BX Language acquisition'!B3900","v":0},null,{"$f":"'BX Language acquisition'!C3900","v":0},{"$f":"'BX Language acquisition'!D3900","v":0}]
[{"$f":"'BX Language acquisition'!A3901","v":0},{"$f":"'BX Language acquisition'!B3901","v":0},null,{"$f":"'BX Language acquisition'!C3901","v":0},{"$f":"'BX Language acquisition'!D3901","v":0}]
[{"$f":"'BX Language acquisition'!A3902","v":0},{"$f":"'BX Language acquisition'!B3902","v":0},null,{"$f":"'BX Language acquisition'!C3902","v":0},{"$f":"'BX Language acquisition'!D3902","v":0}]
[{"$f":"'BX Language acquisition'!A3903","v":0},{"$f":"'BX Language acquisition'!B3903","v":0},null,{"$f":"'BX Language acquisition'!C3903","v":0},{"$f":"'BX Language acquisition'!D3903","v":0}]
[{"$f":"'BX Language acquisition'!A3904","v":0},{"$f":"'BX Language acquisition'!B3904","v":0},null,{"$f":"'BX Language acquisition'!C3904","v":0},{"$f":"'BX Language acquisition'!D3904","v":0}]
[{"$f":"'BX Language acquisition'!A3905","v":0},{"$f":"'BX Language acquisition'!B3905","v":0},null,{"$f":"'BX Language acquisition'!C3905","v":0},{"$f":"'BX Language acquisition'!D3905","v":0}]
[{"$f":"'BX Language acquisition'!A3906","v":0},{"$f":"'BX Language acquisition'!B3906","v":0},null,{"$f":"'BX Language acquisition'!C3906","v":0},{"$f":"'BX Language acquisition'!D3906","v":0}]
[{"$f":"'BX Language acquisition'!A3907","v":0},{"$f":"'BX Language acquisition'!B3907","v":0},null,{"$f":"'BX Language acquisition'!C3907","v":0},{"$f":"'BX Language acquisition'!D3907","v":0}]
[{"$f":"'BX Language acquisition'!A3908","v":0},{"$f":"'BX Language acquisition'!B3908","v":0},null,{"$f":"'BX Language acquisition'!C3908","v":0},{"$f":"'BX Language acquisition'!D3908","v":0}]
[{"$f":"'BX Language acquisition'!A3909","v":0},{"$f":"'BX Language acquisition'!B3909","v":0},null,{"$f":"'BX Language acquisition'!C3909","v":0},{"$f":"'BX Language acquisition'!D3909","v":0}]
[{"$f":"'BX Language acquisition'!A3910","v":0},{"$f":"'BX Language acquisition'!B3910","v":0},null,{"$f":"'BX Language acquisition'!C3910","v":0},{"$f":"'BX Language acquisition'!D3910","v":0}]
[{"$f":"'BX Language acquisition'!A3911","v":0},{"$f":"'BX Language acquisition'!B3911","v":0},null,{"$f":"'BX Language acquisition'!C3911","v":0},{"$f":"'BX Language acquisition'!D3911","v":0}]
[{"$f":"'BX Language acquisition'!A3912","v":0},{"$f":"'BX Language acquisition'!B3912","v":0},null,{"$f":"'BX Language acquisition'!C3912","v":0},{"$f":"'BX Language acquisition'!D3912","v":0}]
[{"$f":"'BX Language acquisition'!A3913","v":0},{"$f":"'BX Language acquisition'!B3913","v":0},null,{"$f":"'BX Language acquisition'!C3913","v":0},{"$f":"'BX Language acquisition'!D3913","v":0}]
[{"$f":"'BX Language acquisition'!A3914","v":0},{"$f":"'BX Language acquisition'!B3914","v":0},null,{"$f":"'BX Language acquisition'!C3914","v":0},{"$f":"'BX Language acquisition'!D3914","v":0}]
[{"$f":"'BX Language acquisition'!A3915","v":0},{"$f":"'BX Language acquisition'!B3915","v":0},null,{"$f":"'BX Language acquisition'!C3915","v":0},{"$f":"'BX Language acquisition'!D3915","v":0}]
[{"$f":"'BX Language acquisition'!A3916","v":0},{"$f":"'BX Language acquisition'!B3916","v":0},null,{"$f":"'BX Language acquisition'!C3916","v":0},{"$f":"'BX Language acquisition'!D3916","v":0}]
[{"$f":"'BX Language acquisition'!A3917","v":0},{"$f":"'BX Language acquisition'!B3917","v":0},null,{"$f":"'BX Language acquisition'!C3917","v":0},{"$f":"'BX Language acquisition'!D3917","v":0}]
[{"$f":"'BX Language acquisition'!A3918","v":0},{"$f":"'BX Language acquisition'!B3918","v":0},null,{"$f":"'BX Language acquisition'!C3918","v":0},{"$f":"'BX Language acquisition'!D3918","v":0}]
[{"$f":"'BX Language acquisition'!A3919","v":0},{"$f":"'BX Language acquisition'!B3919","v":0},null,{"$f":"'BX Language acquisition'!C3919","v":0},{"$f":"'BX Language acquisition'!D3919","v":0}]
[{"$f":"'BX Language acquisition'!A3920","v":0},{"$f":"'BX Language acquisition'!B3920","v":0},null,{"$f":"'BX Language acquisition'!C3920","v":0},{"$f":"'BX Language acquisition'!D3920","v":0}]
[{"$f":"'BX Language acquisition'!A3921","v":0},{"$f":"'BX Language acquisition'!B3921","v":0},null,{"$f":"'BX Language acquisition'!C3921","v":0},{"$f":"'BX Language acquisition'!D3921","v":0}]
[{"$f":"'BX Language acquisition'!A3922","v":0},{"$f":"'BX Language acquisition'!B3922","v":0},null,{"$f":"'BX Language acquisition'!C3922","v":0},{"$f":"'BX Language acquisition'!D3922","v":0}]
[{"$f":"'BX Language acquisition'!A3923","v":0},{"$f":"'BX Language acquisition'!B3923","v":0},null,{"$f":"'BX Language acquisition'!C3923","v":0},{"$f":"'BX Language acquisition'!D3923","v":0}]
[{"$f":"'BX Language acquisition'!A3924","v":0},{"$f":"'BX Language acquisition'!B3924","v":0},null,{"$f":"'BX Language acquisition'!C3924","v":0},{"$f":"'BX Language acquisition'!D3924","v":0}]
[{"$f":"'BX Language acquisition'!A3925","v":0},{"$f":"'BX Language acquisition'!B3925","v":0},null,{"$f":"'BX Language acquisition'!C3925","v":0},{"$f":"'BX Language acquisition'!D3925","v":0}]
[{"$f":"'BX Language acquisition'!A3926","v":0},{"$f":"'BX Language acquisition'!B3926","v":0},null,{"$f":"'BX Language acquisition'!C3926","v":0},{"$f":"'BX Language acquisition'!D3926","v":0}]
[{"$f":"'BX Language acquisition'!A3927","v":0},{"$f":"'BX Language acquisition'!B3927","v":0},null,{"$f":"'BX Language acquisition'!C3927","v":0},{"$f":"'BX Language acquisition'!D3927","v":0}]
[{"$f":"'BX Language acquisition'!A3928","v":0},{"$f":"'BX Language acquisition'!B3928","v":0},null,{"$f":"'BX Language acquisition'!C3928","v":0},{"$f":"'BX Language acquisition'!D3928","v":0}]
[{"$f":"'BX Language acquisition'!A3929","v":0},{"$f":"'BX Language acquisition'!B3929","v":0},null,{"$f":"'BX Language acquisition'!C3929","v":0},{"$f":"'BX Language acquisition'!D3929","v":0}]
[{"$f":"'BX Language acquisition'!A3930","v":0},{"$f":"'BX Language acquisition'!B3930","v":0},null,{"$f":"'BX Language acquisition'!C3930","v":0},{"$f":"'BX Language acquisition'!D3930","v":0}]
[{"$f":"'BX Language acquisition'!A3931","v":0},{"$f":"'BX Language acquisition'!B3931","v":0},null,{"$f":"'BX Language acquisition'!C3931","v":0},{"$f":"'BX Language acquisition'!D3931","v":0}]
[{"$f":"'BX Language acquisition'!A3932","v":0},{"$f":"'BX Language acquisition'!B3932","v":0},null,{"$f":"'BX Language acquisition'!C3932","v":0},{"$f":"'BX Language acquisition'!D3932","v":0}]
[{"$f":"'BX Language acquisition'!A3933","v":0},{"$f":"'BX Language acquisition'!B3933","v":0},null,{"$f":"'BX Language acquisition'!C3933","v":0},{"$f":"'BX Language acquisition'!D3933","v":0}]
[{"$f":"'BX Language acquisition'!A3934","v":0},{"$f":"'BX Language acquisition'!B3934","v":0},null,{"$f":"'BX Language acquisition'!C3934","v":0},{"$f":"'BX Language acquisition'!D3934","v":0}]
[{"$f":"'BX Language acquisition'!A3935","v":0},{"$f":"'BX Language acquisition'!B3935","v":0},null,{"$f":"'BX Language acquisition'!C3935","v":0},{"$f":"'BX Language acquisition'!D3935","v":0}]
[{"$f":"'BX Language acquisition'!A3936","v":0},{"$f":"'BX Language acquisition'!B3936","v":0},null,{"$f":"'BX Language acquisition'!C3936","v":0},{"$f":"'BX Language acquisition'!D3936","v":0}]
[{"$f":"'BX Language acquisition'!A3937","v":0},{"$f":"'BX Language acquisition'!B3937","v":0},null,{"$f":"'BX Language acquisition'!C3937","v":0},{"$f":"'BX Language acquisition'!D3937","v":0}]
[{"$f":"'BX Language acquisition'!A3938","v":0},{"$f":"'BX Language acquisition'!B3938","v":0},null,{"$f":"'BX Language acquisition'!C3938","v":0},{"$f":"'BX Language acquisition'!D3938","v":0}]
[{"$f":"'BX Language acquisition'!A3939","v":0},{"$f":"'BX Language acquisition'!B3939","v":0},null,{"$f":"'BX Language acquisition'!C3939","v":0},{"$f":"'BX Language acquisition'!D3939","v":0}]
[{"$f":"'BX Language acquisition'!A3940","v":0},{"$f":"'BX Language acquisition'!B3940","v":0},null,{"$f":"'BX Language acquisition'!C3940","v":0},{"$f":"'BX Language acquisition'!D3940","v":0}]
[{"$f":"'BX Language acquisition'!A3941","v":0},{"$f":"'BX Language acquisition'!B3941","v":0},null,{"$f":"'BX Language acquisition'!C3941","v":0},{"$f":"'BX Language acquisition'!D3941","v":0}]
[{"$f":"'BX Language acquisition'!A3942","v":0},{"$f":"'BX Language acquisition'!B3942","v":0},null,{"$f":"'BX Language acquisition'!C3942","v":0},{"$f":"'BX Language acquisition'!D3942","v":0}]
[{"$f":"'BX Language acquisition'!A3943","v":0},{"$f":"'BX Language acquisition'!B3943","v":0},null,{"$f":"'BX Language acquisition'!C3943","v":0},{"$f":"'BX Language acquisition'!D3943","v":0}]
[{"$f":"'BX Language acquisition'!A3944","v":0},{"$f":"'BX Language acquisition'!B3944","v":0},null,{"$f":"'BX Language acquisition'!C3944","v":0},{"$f":"'BX Language acquisition'!D3944","v":0}]
[{"$f":"'BX Language acquisition'!A3945","v":0},{"$f":"'BX Language acquisition'!B3945","v":0},null,{"$f":"'BX Language acquisition'!C3945","v":0},{"$f":"'BX Language acquisition'!D3945","v":0}]
[{"$f":"'BX Language acquisition'!A3946","v":0},{"$f":"'BX Language acquisition'!B3946","v":0},null,{"$f":"'BX Language acquisition'!C3946","v":0},{"$f":"'BX Language acquisition'!D3946","v":0}]
[{"$f":"'BX Language acquisition'!A3947","v":0},{"$f":"'BX Language acquisition'!B3947","v":0},null,{"$f":"'BX Language acquisition'!C3947","v":0},{"$f":"'BX Language acquisition'!D3947","v":0}]
[{"$f":"'BX Language acquisition'!A3948","v":0},{"$f":"'BX Language acquisition'!B3948","v":0},null,{"$f":"'BX Language acquisition'!C3948","v":0},{"$f":"'BX Language acquisition'!D3948","v":0}]
[{"$f":"'BX Language acquisition'!A3949","v":0},{"$f":"'BX Language acquisition'!B3949","v":0},null,{"$f":"'BX Language acquisition'!C3949","v":0},{"$f":"'BX Language acquisition'!D3949","v":0}]
[{"$f":"'BX Language acquisition'!A3950","v":0},{"$f":"'BX Language acquisition'!B3950","v":0},null,{"$f":"'BX Language acquisition'!C3950","v":0},{"$f":"'BX Language acquisition'!D3950","v":0}]
[{"$f":"'BX Language acquisition'!A3951","v":0},{"$f":"'BX Language acquisition'!B3951","v":0},null,{"$f":"'BX Language acquisition'!C3951","v":0},{"$f":"'BX Language acquisition'!D3951","v":0}]
[{"$f":"'BX Language acquisition'!A3952","v":0},{"$f":"'BX Language acquisition'!B3952","v":0},null,{"$f":"'BX Language acquisition'!C3952","v":0},{"$f":"'BX Language acquisition'!D3952","v":0}]
[{"$f":"'BX Language acquisition'!A3953","v":0},{"$f":"'BX Language acquisition'!B3953","v":0},null,{"$f":"'BX Language acquisition'!C3953","v":0},{"$f":"'BX Language acquisition'!D3953","v":0}]
[{"$f":"'BX Language acquisition'!A3954","v":0},{"$f":"'BX Language acquisition'!B3954","v":0},null,{"$f":"'BX Language acquisition'!C3954","v":0},{"$f":"'BX Language acquisition'!D3954","v":0}]
[{"$f":"'BX Language acquisition'!A3955","v":0},{"$f":"'BX Language acquisition'!B3955","v":0},null,{"$f":"'BX Language acquisition'!C3955","v":0},{"$f":"'BX Language acquisition'!D3955","v":0}]
[{"$f":"'BX Language acquisition'!A3956","v":0},{"$f":"'BX Language acquisition'!B3956","v":0},null,{"$f":"'BX Language acquisition'!C3956","v":0},{"$f":"'BX Language acquisition'!D3956","v":0}]
[{"$f":"'BX Language acquisition'!A3957","v":0},{"$f":"'BX Language acquisition'!B3957","v":0},null,{"$f":"'BX Language acquisition'!C3957","v":0},{"$f":"'BX Language acquisition'!D3957","v":0}]
[{"$f":"'BX Language acquisition'!A3958","v":0},{"$f":"'BX Language acquisition'!B3958","v":0},null,{"$f":"'BX Language acquisition'!C3958","v":0},{"$f":"'BX Language acquisition'!D3958","v":0}]
[{"$f":"'BX Language acquisition'!A3959","v":0},{"$f":"'BX Language acquisition'!B3959","v":0},null,{"$f":"'BX Language acquisition'!C3959","v":0},{"$f":"'BX Language acquisition'!D3959","v":0}]
[{"$f":"'BX Language acquisition'!A3960","v":0},{"$f":"'BX Language acquisition'!B3960","v":0},null,{"$f":"'BX Language acquisition'!C3960","v":0},{"$f":"'BX Language acquisition'!D3960","v":0}]
[{"$f":"'BX Language acquisition'!A3961","v":0},{"$f":"'BX Language acquisition'!B3961","v":0},null,{"$f":"'BX Language acquisition'!C3961","v":0},{"$f":"'BX Language acquisition'!D3961","v":0}]
[{"$f":"'BX Language acquisition'!A3962","v":0},{"$f":"'BX Language acquisition'!B3962","v":0},null,{"$f":"'BX Language acquisition'!C3962","v":0},{"$f":"'BX Language acquisition'!D3962","v":0}]
[{"$f":"'BX Language acquisition'!A3963","v":0},{"$f":"'BX Language acquisition'!B3963","v":0},null,{"$f":"'BX Language acquisition'!C3963","v":0},{"$f":"'BX Language acquisition'!D3963","v":0}]
[{"$f":"'BX Language acquisition'!A3964","v":0},{"$f":"'BX Language acquisition'!B3964","v":0},null,{"$f":"'BX Language acquisition'!C3964","v":0},{"$f":"'BX Language acquisition'!D3964","v":0}]
[{"$f":"'BX Language acquisition'!A3965","v":0},{"$f":"'BX Language acquisition'!B3965","v":0},null,{"$f":"'BX Language acquisition'!C3965","v":0},{"$f":"'BX Language acquisition'!D3965","v":0}]
[{"$f":"'BX Language acquisition'!A3966","v":0},{"$f":"'BX Language acquisition'!B3966","v":0},null,{"$f":"'BX Language acquisition'!C3966","v":0},{"$f":"'BX Language acquisition'!D3966","v":0}]
[{"$f":"'BX Language acquisition'!A3967","v":0},{"$f":"'BX Language acquisition'!B3967","v":0},null,{"$f":"'BX Language acquisition'!C3967","v":0},{"$f":"'BX Language acquisition'!D3967","v":0}]
[{"$f":"'BX Language acquisition'!A3968","v":0},{"$f":"'BX Language acquisition'!B3968","v":0},null,{"$f":"'BX Language acquisition'!C3968","v":0},{"$f":"'BX Language acquisition'!D3968","v":0}]
[{"$f":"'BX Language acquisition'!A3969","v":0},{"$f":"'BX Language acquisition'!B3969","v":0},null,{"$f":"'BX Language acquisition'!C3969","v":0},{"$f":"'BX Language acquisition'!D3969","v":0}]
[{"$f":"'BX Language acquisition'!A3970","v":0},{"$f":"'BX Language acquisition'!B3970","v":0},null,{"$f":"'BX Language acquisition'!C3970","v":0},{"$f":"'BX Language acquisition'!D3970","v":0}]
[{"$f":"'BX Language acquisition'!A3971","v":0},{"$f":"'BX Language acquisition'!B3971","v":0},null,{"$f":"'BX Language acquisition'!C3971","v":0},{"$f":"'BX Language acquisition'!D3971","v":0}]
[{"$f":"'BX Language acquisition'!A3972","v":0},{"$f":"'BX Language acquisition'!B3972","v":0},null,{"$f":"'BX Language acquisition'!C3972","v":0},{"$f":"'BX Language acquisition'!D3972","v":0}]
[{"$f":"'BX Language acquisition'!A3973","v":0},{"$f":"'BX Language acquisition'!B3973","v":0},null,{"$f":"'BX Language acquisition'!C3973","v":0},{"$f":"'BX Language acquisition'!D3973","v":0}]
[{"$f":"'BX Language acquisition'!A3974","v":0},{"$f":"'BX Language acquisition'!B3974","v":0},null,{"$f":"'BX Language acquisition'!C3974","v":0},{"$f":"'BX Language acquisition'!D3974","v":0}]
[{"$f":"'BX Language acquisition'!A3975","v":0},{"$f":"'BX Language acquisition'!B3975","v":0},null,{"$f":"'BX Language acquisition'!C3975","v":0},{"$f":"'BX Language acquisition'!D3975","v":0}]
[{"$f":"'BX Language acquisition'!A3976","v":0},{"$f":"'BX Language acquisition'!B3976","v":0},null,{"$f":"'BX Language acquisition'!C3976","v":0},{"$f":"'BX Language acquisition'!D3976","v":0}]
[{"$f":"'BX Language acquisition'!A3977","v":0},{"$f":"'BX Language acquisition'!B3977","v":0},null,{"$f":"'BX Language acquisition'!C3977","v":0},{"$f":"'BX Language acquisition'!D3977","v":0}]
[{"$f":"'BX Language acquisition'!A3978","v":0},{"$f":"'BX Language acquisition'!B3978","v":0},null,{"$f":"'BX Language acquisition'!C3978","v":0},{"$f":"'BX Language acquisition'!D3978","v":0}]
[{"$f":"'BX Language acquisition'!A3979","v":0},{"$f":"'BX Language acquisition'!B3979","v":0},null,{"$f":"'BX Language acquisition'!C3979","v":0},{"$f":"'BX Language acquisition'!D3979","v":0}]
[{"$f":"'BX Language acquisition'!A3980","v":0},{"$f":"'BX Language acquisition'!B3980","v":0},null,{"$f":"'BX Language acquisition'!C3980","v":0},{"$f":"'BX Language acquisition'!D3980","v":0}]
[{"$f":"'BX Language acquisition'!A3981","v":0},{"$f":"'BX Language acquisition'!B3981","v":0},null,{"$f":"'BX Language acquisition'!C3981","v":0},{"$f":"'BX Language acquisition'!D3981","v":0}]
[{"$f":"'BX Language acquisition'!A3982","v":0},{"$f":"'BX Language acquisition'!B3982","v":0},null,{"$f":"'BX Language acquisition'!C3982","v":0},{"$f":"'BX Language acquisition'!D3982","v":0}]
[{"$f":"'BX Language acquisition'!A3983","v":0},{"$f":"'BX Language acquisition'!B3983","v":0},null,{"$f":"'BX Language acquisition'!C3983","v":0},{"$f":"'BX Language acquisition'!D3983","v":0}]
[{"$f":"'BX Language acquisition'!A3984","v":0},{"$f":"'BX Language acquisition'!B3984","v":0},null,{"$f":"'BX Language acquisition'!C3984","v":0},{"$f":"'BX Language acquisition'!D3984","v":0}]
[{"$f":"'BX Language acquisition'!A3985","v":0},{"$f":"'BX Language acquisition'!B3985","v":0},null,{"$f":"'BX Language acquisition'!C3985","v":0},{"$f":"'BX Language acquisition'!D3985","v":0}]
[{"$f":"'BX Language acquisition'!A3986","v":0},{"$f":"'BX Language acquisition'!B3986","v":0},null,{"$f":"'BX Language acquisition'!C3986","v":0},{"$f":"'BX Language acquisition'!D3986","v":0}]
[{"$f":"'BX Language acquisition'!A3987","v":0},{"$f":"'BX Language acquisition'!B3987","v":0},null,{"$f":"'BX Language acquisition'!C3987","v":0},{"$f":"'BX Language acquisition'!D3987","v":0}]
[{"$f":"'BX Language acquisition'!A3988","v":0},{"$f":"'BX Language acquisition'!B3988","v":0},null,{"$f":"'BX Language acquisition'!C3988","v":0},{"$f":"'BX Language acquisition'!D3988","v":0}]
[{"$f":"'BX Language acquisition'!A3989","v":0},{"$f":"'BX Language acquisition'!B3989","v":0},null,{"$f":"'BX Language acquisition'!C3989","v":0},{"$f":"'BX Language acquisition'!D3989","v":0}]
[{"$f":"'BX Language acquisition'!A3990","v":0},{"$f":"'BX Language acquisition'!B3990","v":0},null,{"$f":"'BX Language acquisition'!C3990","v":0},{"$f":"'BX Language acquisition'!D3990","v":0}]
[{"$f":"'BX Language acquisition'!A3991","v":0},{"$f":"'BX Language acquisition'!B3991","v":0},null,{"$f":"'BX Language acquisition'!C3991","v":0},{"$f":"'BX Language acquisition'!D3991","v":0}]
[{"$f":"'BX Language acquisition'!A3992","v":0},{"$f":"'BX Language acquisition'!B3992","v":0},null,{"$f":"'BX Language acquisition'!C3992","v":0},{"$f":"'BX Language acquisition'!D3992","v":0}]
[{"$f":"'BX Language acquisition'!A3993","v":0},{"$f":"'BX Language acquisition'!B3993","v":0},null,{"$f":"'BX Language acquisition'!C3993","v":0},{"$f":"'BX Language acquisition'!D3993","v":0}]
[{"$f":"'BX Language acquisition'!A3994","v":0},{"$f":"'BX Language acquisition'!B3994","v":0},null,{"$f":"'BX Language acquisition'!C3994","v":0},{"$f":"'BX Language acquisition'!D3994","v":0}]
[{"$f":"'BX Language acquisition'!A3995","v":0},{"$f":"'BX Language acquisition'!B3995","v":0},null,{"$f":"'BX Language acquisition'!C3995","v":0},{"$f":"'BX Language acquisition'!D3995","v":0}]
[{"$f":"'BX Language acquisition'!A3996","v":0},{"$f":"'BX Language acquisition'!B3996","v":0},null,{"$f":"'BX Language acquisition'!C3996","v":0},{"$f":"'BX Language acquisition'!D3996","v":0}]
[{"$f":"'BX Language acquisition'!A3997","v":0},{"$f":"'BX Language acquisition'!B3997","v":0},null,{"$f":"'BX Language acquisition'!C3997","v":0},{"$f":"'BX Language acquisition'!D3997","v":0}]
[{"$f":"'BX Language acquisition'!A3998","v":0},{"$f":"'BX Language acquisition'!B3998","v":0},null,{"$f":"'BX Language acquisition'!C3998","v":0},{"$f":"'BX Language acquisition'!D3998","v":0}]
[{"$f":"'BX Language acquisition'!A3999","v":0},{"$f":"'BX Language acquisition'!B3999","v":0},null,{"$f":"'BX Language acquisition'!C3999","v":0},{"$f":"'BX Language acquisition'!D3999","v":0}]
[{"$f":"'BX Language acquisition'!A4000","v":0},{"$f":"'BX Language acquisition'!B4000","v":0},null,{"$f":"'BX Language acquisition'!C4000","v":0},{"$f":"'BX Language acquisition'!D4000","v":0}]
[{"$f":"'BX Language acquisition'!A4001","v":0},{"$f":"'BX Language acquisition'!B4001","v":0},null,{"$f":"'BX Language acquisition'!C4001","v":0},{"$f":"'BX Language acquisition'!D4001","v":0}]
[{"$f":"'BX Language acquisition'!A4002","v":0},{"$f":"'BX Language acquisition'!B4002","v":0},null,{"$f":"'BX Language acquisition'!C4002","v":0},{"$f":"'BX Language acquisition'!D4002","v":0}]
[{"$f":"'BX Language acquisition'!A4003","v":0},{"$f":"'BX Language acquisition'!B4003","v":0},null,{"$f":"'BX Language acquisition'!C4003","v":0},{"$f":"'BX Language acquisition'!D4003","v":0}]
[{"$f":"'BX Language acquisition'!A4004","v":0},{"$f":"'BX Language acquisition'!B4004","v":0},null,{"$f":"'BX Language acquisition'!C4004","v":0},{"$f":"'BX Language acquisition'!D4004","v":0}]
[{"$f":"'BX Language acquisition'!A4005","v":0},{"$f":"'BX Language acquisition'!B4005","v":0},null,{"$f":"'BX Language acquisition'!C4005","v":0},{"$f":"'BX Language acquisition'!D4005","v":0}]
[{"$f":"'BX Language acquisition'!A4006","v":0},{"$f":"'BX Language acquisition'!B4006","v":0},null,{"$f":"'BX Language acquisition'!C4006","v":0},{"$f":"'BX Language acquisition'!D4006","v":0}]
[{"$f":"'BX Language acquisition'!A4007","v":0},{"$f":"'BX Language acquisition'!B4007","v":0},null,{"$f":"'BX Language acquisition'!C4007","v":0},{"$f":"'BX Language acquisition'!D4007","v":0}]
[{"$f":"'BX Language acquisition'!A4008","v":0},{"$f":"'BX Language acquisition'!B4008","v":0},null,{"$f":"'BX Language acquisition'!C4008","v":0},{"$f":"'BX Language acquisition'!D4008","v":0}]
[{"$f":"'BX Language acquisition'!A4009","v":0},{"$f":"'BX Language acquisition'!B4009","v":0},null,{"$f":"'BX Language acquisition'!C4009","v":0},{"$f":"'BX Language acquisition'!D4009","v":0}]
[{"$f":"'BX Language acquisition'!A4010","v":0},{"$f":"'BX Language acquisition'!B4010","v":0},null,{"$f":"'BX Language acquisition'!C4010","v":0},{"$f":"'BX Language acquisition'!D4010","v":0}]
[{"$f":"'BX Language acquisition'!A4011","v":0},{"$f":"'BX Language acquisition'!B4011","v":0},null,{"$f":"'BX Language acquisition'!C4011","v":0},{"$f":"'BX Language acquisition'!D4011","v":0}]
[{"$f":"'BX Language acquisition'!A4012","v":0},{"$f":"'BX Language acquisition'!B4012","v":0},null,{"$f":"'BX Language acquisition'!C4012","v":0},{"$f":"'BX Language acquisition'!D4012","v":0}]
[{"$f":"'BX Language acquisition'!A4013","v":0},{"$f":"'BX Language acquisition'!B4013","v":0},null,{"$f":"'BX Language acquisition'!C4013","v":0},{"$f":"'BX Language acquisition'!D4013","v":0}]
[{"$f":"'BX Language acquisition'!A4014","v":0},{"$f":"'BX Language acquisition'!B4014","v":0},null,{"$f":"'BX Language acquisition'!C4014","v":0},{"$f":"'BX Language acquisition'!D4014","v":0}]
[{"$f":"'BX Language acquisition'!A4015","v":0},{"$f":"'BX Language acquisition'!B4015","v":0},null,{"$f":"'BX Language acquisition'!C4015","v":0},{"$f":"'BX Language acquisition'!D4015","v":0}]
[{"$f":"'BX Language acquisition'!A4016","v":0},{"$f":"'BX Language acquisition'!B4016","v":0},null,{"$f":"'BX Language acquisition'!C4016","v":0},{"$f":"'BX Language acquisition'!D4016","v":0}]
[{"$f":"'BX Language acquisition'!A4017","v":0},{"$f":"'BX Language acquisition'!B4017","v":0},null,{"$f":"'BX Language acquisition'!C4017","v":0},{"$f":"'BX Language acquisition'!D4017","v":0}]
[{"$f":"'BX Language acquisition'!A4018","v":0},{"$f":"'BX Language acquisition'!B4018","v":0},null,{"$f":"'BX Language acquisition'!C4018","v":0},{"$f":"'BX Language acquisition'!D4018","v":0}]
[{"$f":"'BX Language acquisition'!A4019","v":0},{"$f":"'BX Language acquisition'!B4019","v":0},null,{"$f":"'BX Language acquisition'!C4019","v":0},{"$f":"'BX Language acquisition'!D4019","v":0}]
[{"$f":"'BX Language acquisition'!A4020","v":0},{"$f":"'BX Language acquisition'!B4020","v":0},null,{"$f":"'BX Language acquisition'!C4020","v":0},{"$f":"'BX Language acquisition'!D4020","v":0}]
[{"$f":"'BX Language acquisition'!A4021","v":0},{"$f":"'BX Language acquisition'!B4021","v":0},null,{"$f":"'BX Language acquisition'!C4021","v":0},{"$f":"'BX Language acquisition'!D4021","v":0}]
[{"$f":"'BX Language acquisition'!A4022","v":0},{"$f":"'BX Language acquisition'!B4022","v":0},null,{"$f":"'BX Language acquisition'!C4022","v":0},{"$f":"'BX Language acquisition'!D4022","v":0}]
[{"$f":"'BX Language acquisition'!A4023","v":0},{"$f":"'BX Language acquisition'!B4023","v":0},null,{"$f":"'BX Language acquisition'!C4023","v":0},{"$f":"'BX Language acquisition'!D4023","v":0}]
[{"$f":"'BX Language acquisition'!A4024","v":0},{"$f":"'BX Language acquisition'!B4024","v":0},null,{"$f":"'BX Language acquisition'!C4024","v":0},{"$f":"'BX Language acquisition'!D4024","v":0}]
[{"$f":"'BX Language acquisition'!A4025","v":0},{"$f":"'BX Language acquisition'!B4025","v":0},null,{"$f":"'BX Language acquisition'!C4025","v":0},{"$f":"'BX Language acquisition'!D4025","v":0}]
[{"$f":"'BX Language acquisition'!A4026","v":0},{"$f":"'BX Language acquisition'!B4026","v":0},null,{"$f":"'BX Language acquisition'!C4026","v":0},{"$f":"'BX Language acquisition'!D4026","v":0}]
[{"$f":"'BX Language acquisition'!A4027","v":0},{"$f":"'BX Language acquisition'!B4027","v":0},null,{"$f":"'BX Language acquisition'!C4027","v":0},{"$f":"'BX Language acquisition'!D4027","v":0}]
[{"$f":"'BX Language acquisition'!A4028","v":0},{"$f":"'BX Language acquisition'!B4028","v":0},null,{"$f":"'BX Language acquisition'!C4028","v":0},{"$f":"'BX Language acquisition'!D4028","v":0}]
[{"$f":"'BX Language acquisition'!A4029","v":0},{"$f":"'BX Language acquisition'!B4029","v":0},null,{"$f":"'BX Language acquisition'!C4029","v":0},{"$f":"'BX Language acquisition'!D4029","v":0}]
[{"$f":"'BX Language acquisition'!A4030","v":0},{"$f":"'BX Language acquisition'!B4030","v":0},null,{"$f":"'BX Language acquisition'!C4030","v":0},{"$f":"'BX Language acquisition'!D4030","v":0}]
[{"$f":"'BX Language acquisition'!A4031","v":0},{"$f":"'BX Language acquisition'!B4031","v":0},null,{"$f":"'BX Language acquisition'!C4031","v":0},{"$f":"'BX Language acquisition'!D4031","v":0}]
[{"$f":"'BX Language acquisition'!A4032","v":0},{"$f":"'BX Language acquisition'!B4032","v":0},null,{"$f":"'BX Language acquisition'!C4032","v":0},{"$f":"'BX Language acquisition'!D4032","v":0}]
[{"$f":"'BX Language acquisition'!A4033","v":0},{"$f":"'BX Language acquisition'!B4033","v":0},null,{"$f":"'BX Language acquisition'!C4033","v":0},{"$f":"'BX Language acquisition'!D4033","v":0}]
[{"$f":"'BX Language acquisition'!A4034","v":0},{"$f":"'BX Language acquisition'!B4034","v":0},null,{"$f":"'BX Language acquisition'!C4034","v":0},{"$f":"'BX Language acquisition'!D4034","v":0}]
[{"$f":"'BX Language acquisition'!A4035","v":0},{"$f":"'BX Language acquisition'!B4035","v":0},null,{"$f":"'BX Language acquisition'!C4035","v":0},{"$f":"'BX Language acquisition'!D4035","v":0}]
[{"$f":"'BX Language acquisition'!A4036","v":0},{"$f":"'BX Language acquisition'!B4036","v":0},null,{"$f":"'BX Language acquisition'!C4036","v":0},{"$f":"'BX Language acquisition'!D4036","v":0}]
[{"$f":"'BX Language acquisition'!A4037","v":0},{"$f":"'BX Language acquisition'!B4037","v":0},null,{"$f":"'BX Language acquisition'!C4037","v":0},{"$f":"'BX Language acquisition'!D4037","v":0}]
[{"$f":"'BX Language acquisition'!A4038","v":0},{"$f":"'BX Language acquisition'!B4038","v":0},null,{"$f":"'BX Language acquisition'!C4038","v":0},{"$f":"'BX Language acquisition'!D4038","v":0}]
[{"$f":"'BX Language acquisition'!A4039","v":0},{"$f":"'BX Language acquisition'!B4039","v":0},null,{"$f":"'BX Language acquisition'!C4039","v":0},{"$f":"'BX Language acquisition'!D4039","v":0}]
[{"$f":"'BX Language acquisition'!A4040","v":0},{"$f":"'BX Language acquisition'!B4040","v":0},null,{"$f":"'BX Language acquisition'!C4040","v":0},{"$f":"'BX Language acquisition'!D4040","v":0}]
[{"$f":"'BX Language acquisition'!A4041","v":0},{"$f":"'BX Language acquisition'!B4041","v":0},null,{"$f":"'BX Language acquisition'!C4041","v":0},{"$f":"'BX Language acquisition'!D4041","v":0}]
[{"$f":"'BX Language acquisition'!A4042","v":0},{"$f":"'BX Language acquisition'!B4042","v":0},null,{"$f":"'BX Language acquisition'!C4042","v":0},{"$f":"'BX Language acquisition'!D4042","v":0}]
[{"$f":"'BX Language acquisition'!A4043","v":0},{"$f":"'BX Language acquisition'!B4043","v":0},null,{"$f":"'BX Language acquisition'!C4043","v":0},{"$f":"'BX Language acquisition'!D4043","v":0}]
[{"$f":"'BX Language acquisition'!A4044","v":0},{"$f":"'BX Language acquisition'!B4044","v":0},null,{"$f":"'BX Language acquisition'!C4044","v":0},{"$f":"'BX Language acquisition'!D4044","v":0}]
[{"$f":"'BX Language acquisition'!A4045","v":0},{"$f":"'BX Language acquisition'!B4045","v":0},null,{"$f":"'BX Language acquisition'!C4045","v":0},{"$f":"'BX Language acquisition'!D4045","v":0}]
[{"$f":"'BX Language acquisition'!A4046","v":0},{"$f":"'BX Language acquisition'!B4046","v":0},null,{"$f":"'BX Language acquisition'!C4046","v":0},{"$f":"'BX Language acquisition'!D4046","v":0}]
[{"$f":"'BX Language acquisition'!A4047","v":0},{"$f":"'BX Language acquisition'!B4047","v":0},null,{"$f":"'BX Language acquisition'!C4047","v":0},{"$f":"'BX Language acquisition'!D4047","v":0}]
[{"$f":"'BX Language acquisition'!A4048","v":0},{"$f":"'BX Language acquisition'!B4048","v":0},null,{"$f":"'BX Language acquisition'!C4048","v":0},{"$f":"'BX Language acquisition'!D4048","v":0}]
[{"$f":"'BX Language acquisition'!A4049","v":0},{"$f":"'BX Language acquisition'!B4049","v":0},null,{"$f":"'BX Language acquisition'!C4049","v":0},{"$f":"'BX Language acquisition'!D4049","v":0}]
[{"$f":"'BX Language acquisition'!A4050","v":0},{"$f":"'BX Language acquisition'!B4050","v":0},null,{"$f":"'BX Language acquisition'!C4050","v":0},{"$f":"'BX Language acquisition'!D4050","v":0}]
[{"$f":"'BX Language acquisition'!A4051","v":0},{"$f":"'BX Language acquisition'!B4051","v":0},null,{"$f":"'BX Language acquisition'!C4051","v":0},{"$f":"'BX Language acquisition'!D4051","v":0}]
[{"$f":"'BX Language acquisition'!A4052","v":0},{"$f":"'BX Language acquisition'!B4052","v":0},null,{"$f":"'BX Language acquisition'!C4052","v":0},{"$f":"'BX Language acquisition'!D4052","v":0}]
[{"$f":"'BX Language acquisition'!A4053","v":0},{"$f":"'BX Language acquisition'!B4053","v":0},null,{"$f":"'BX Language acquisition'!C4053","v":0},{"$f":"'BX Language acquisition'!D4053","v":0}]
[{"$f":"'BX Language acquisition'!A4054","v":0},{"$f":"'BX Language acquisition'!B4054","v":0},null,{"$f":"'BX Language acquisition'!C4054","v":0},{"$f":"'BX Language acquisition'!D4054","v":0}]
[{"$f":"'BX Language acquisition'!A4055","v":0},{"$f":"'BX Language acquisition'!B4055","v":0},null,{"$f":"'BX Language acquisition'!C4055","v":0},{"$f":"'BX Language acquisition'!D4055","v":0}]
[{"$f":"'BX Language acquisition'!A4056","v":0},{"$f":"'BX Language acquisition'!B4056","v":0},null,{"$f":"'BX Language acquisition'!C4056","v":0},{"$f":"'BX Language acquisition'!D4056","v":0}]
[{"$f":"'BX Language acquisition'!A4057","v":0},{"$f":"'BX Language acquisition'!B4057","v":0},null,{"$f":"'BX Language acquisition'!C4057","v":0},{"$f":"'BX Language acquisition'!D4057","v":0}]
[{"$f":"'BX Language acquisition'!A4058","v":0},{"$f":"'BX Language acquisition'!B4058","v":0},null,{"$f":"'BX Language acquisition'!C4058","v":0},{"$f":"'BX Language acquisition'!D4058","v":0}]
[{"$f":"'BX Language acquisition'!A4059","v":0},{"$f":"'BX Language acquisition'!B4059","v":0},null,{"$f":"'BX Language acquisition'!C4059","v":0},{"$f":"'BX Language acquisition'!D4059","v":0}]
[{"$f":"'BX Language acquisition'!A4060","v":0},{"$f":"'BX Language acquisition'!B4060","v":0},null,{"$f":"'BX Language acquisition'!C4060","v":0},{"$f":"'BX Language acquisition'!D4060","v":0}]
[{"$f":"'BX Language acquisition'!A4061","v":0},{"$f":"'BX Language acquisition'!B4061","v":0},null,{"$f":"'BX Language acquisition'!C4061","v":0},{"$f":"'BX Language acquisition'!D4061","v":0}]
[{"$f":"'BX Language acquisition'!A4062","v":0},{"$f":"'BX Language acquisition'!B4062","v":0},null,{"$f":"'BX Language acquisition'!C4062","v":0},{"$f":"'BX Language acquisition'!D4062","v":0}]
[{"$f":"'BX Language acquisition'!A4063","v":0},{"$f":"'BX Language acquisition'!B4063","v":0},null,{"$f":"'BX Language acquisition'!C4063","v":0},{"$f":"'BX Language acquisition'!D4063","v":0}]
[{"$f":"'BX Language acquisition'!A4064","v":0},{"$f":"'BX Language acquisition'!B4064","v":0},null,{"$f":"'BX Language acquisition'!C4064","v":0},{"$f":"'BX Language acquisition'!D4064","v":0}]
[{"$f":"'BX Language acquisition'!A4065","v":0},{"$f":"'BX Language acquisition'!B4065","v":0},null,{"$f":"'BX Language acquisition'!C4065","v":0},{"$f":"'BX Language acquisition'!D4065","v":0}]
[{"$f":"'BX Language acquisition'!A4066","v":0},{"$f":"'BX Language acquisition'!B4066","v":0},null,{"$f":"'BX Language acquisition'!C4066","v":0},{"$f":"'BX Language acquisition'!D4066","v":0}]
[{"$f":"'BX Language acquisition'!A4067","v":0},{"$f":"'BX Language acquisition'!B4067","v":0},null,{"$f":"'BX Language acquisition'!C4067","v":0},{"$f":"'BX Language acquisition'!D4067","v":0}]
[{"$f":"'BX Language acquisition'!A4068","v":0},{"$f":"'BX Language acquisition'!B4068","v":0},null,{"$f":"'BX Language acquisition'!C4068","v":0},{"$f":"'BX Language acquisition'!D4068","v":0}]
[{"$f":"'BX Language acquisition'!A4069","v":0},{"$f":"'BX Language acquisition'!B4069","v":0},null,{"$f":"'BX Language acquisition'!C4069","v":0},{"$f":"'BX Language acquisition'!D4069","v":0}]
[{"$f":"'BX Language acquisition'!A4070","v":0},{"$f":"'BX Language acquisition'!B4070","v":0},null,{"$f":"'BX Language acquisition'!C4070","v":0},{"$f":"'BX Language acquisition'!D4070","v":0}]
[{"$f":"'BX Language acquisition'!A4071","v":0},{"$f":"'BX Language acquisition'!B4071","v":0},null,{"$f":"'BX Language acquisition'!C4071","v":0},{"$f":"'BX Language acquisition'!D4071","v":0}]
[{"$f":"'BX Language acquisition'!A4072","v":0},{"$f":"'BX Language acquisition'!B4072","v":0},null,{"$f":"'BX Language acquisition'!C4072","v":0},{"$f":"'BX Language acquisition'!D4072","v":0}]
[{"$f":"'BX Language acquisition'!A4073","v":0},{"$f":"'BX Language acquisition'!B4073","v":0},null,{"$f":"'BX Language acquisition'!C4073","v":0},{"$f":"'BX Language acquisition'!D4073","v":0}]
[{"$f":"'BX Language acquisition'!A4074","v":0},{"$f":"'BX Language acquisition'!B4074","v":0},null,{"$f":"'BX Language acquisition'!C4074","v":0},{"$f":"'BX Language acquisition'!D4074","v":0}]
[{"$f":"'BX Language acquisition'!A4075","v":0},{"$f":"'BX Language acquisition'!B4075","v":0},null,{"$f":"'BX Language acquisition'!C4075","v":0},{"$f":"'BX Language acquisition'!D4075","v":0}]
[{"$f":"'BX Language acquisition'!A4076","v":0},{"$f":"'BX Language acquisition'!B4076","v":0},null,{"$f":"'BX Language acquisition'!C4076","v":0},{"$f":"'BX Language acquisition'!D4076","v":0}]
[{"$f":"'BX Language acquisition'!A4077","v":0},{"$f":"'BX Language acquisition'!B4077","v":0},null,{"$f":"'BX Language acquisition'!C4077","v":0},{"$f":"'BX Language acquisition'!D4077","v":0}]
[{"$f":"'BX Language acquisition'!A4078","v":0},{"$f":"'BX Language acquisition'!B4078","v":0},null,{"$f":"'BX Language acquisition'!C4078","v":0},{"$f":"'BX Language acquisition'!D4078","v":0}]
[{"$f":"'BX Language acquisition'!A4079","v":0},{"$f":"'BX Language acquisition'!B4079","v":0},null,{"$f":"'BX Language acquisition'!C4079","v":0},{"$f":"'BX Language acquisition'!D4079","v":0}]
[{"$f":"'BX Language acquisition'!A4080","v":0},{"$f":"'BX Language acquisition'!B4080","v":0},null,{"$f":"'BX Language acquisition'!C4080","v":0},{"$f":"'BX Language acquisition'!D4080","v":0}]
[{"$f":"'BX Language acquisition'!A4081","v":0},{"$f":"'BX Language acquisition'!B4081","v":0},null,{"$f":"'BX Language acquisition'!C4081","v":0},{"$f":"'BX Language acquisition'!D4081","v":0}]
[{"$f":"'BX Language acquisition'!A4082","v":0},{"$f":"'BX Language acquisition'!B4082","v":0},null,{"$f":"'BX Language acquisition'!C4082","v":0},{"$f":"'BX Language acquisition'!D4082","v":0}]
[{"$f":"'BX Language acquisition'!A4083","v":0},{"$f":"'BX Language acquisition'!B4083","v":0},null,{"$f":"'BX Language acquisition'!C4083","v":0},{"$f":"'BX Language acquisition'!D4083","v":0}]
[{"$f":"'BX Language acquisition'!A4084","v":0},{"$f":"'BX Language acquisition'!B4084","v":0},null,{"$f":"'BX Language acquisition'!C4084","v":0},{"$f":"'BX Language acquisition'!D4084","v":0}]
[{"$f":"'BX Language acquisition'!A4085","v":0},{"$f":"'BX Language acquisition'!B4085","v":0},null,{"$f":"'BX Language acquisition'!C4085","v":0},{"$f":"'BX Language acquisition'!D4085","v":0}]
[{"$f":"'BX Language acquisition'!A4086","v":0},{"$f":"'BX Language acquisition'!B4086","v":0},null,{"$f":"'BX Language acquisition'!C4086","v":0},{"$f":"'BX Language acquisition'!D4086","v":0}]
[{"$f":"'BX Language acquisition'!A4087","v":0},{"$f":"'BX Language acquisition'!B4087","v":0},null,{"$f":"'BX Language acquisition'!C4087","v":0},{"$f":"'BX Language acquisition'!D4087","v":0}]
[{"$f":"'BX Language acquisition'!A4088","v":0},{"$f":"'BX Language acquisition'!B4088","v":0},null,{"$f":"'BX Language acquisition'!C4088","v":0},{"$f":"'BX Language acquisition'!D4088","v":0}]
[{"$f":"'BX Language acquisition'!A4089","v":0},{"$f":"'BX Language acquisition'!B4089","v":0},null,{"$f":"'BX Language acquisition'!C4089","v":0},{"$f":"'BX Language acquisition'!D4089","v":0}]
[{"$f":"'BX Language acquisition'!A4090","v":0},{"$f":"'BX Language acquisition'!B4090","v":0},null,{"$f":"'BX Language acquisition'!C4090","v":0},{"$f":"'BX Language acquisition'!D4090","v":0}]
[{"$f":"'BX Language acquisition'!A4091","v":0},{"$f":"'BX Language acquisition'!B4091","v":0},null,{"$f":"'BX Language acquisition'!C4091","v":0},{"$f":"'BX Language acquisition'!D4091","v":0}]
[{"$f":"'BX Language acquisition'!A4092","v":0},{"$f":"'BX Language acquisition'!B4092","v":0},null,{"$f":"'BX Language acquisition'!C4092","v":0},{"$f":"'BX Language acquisition'!D4092","v":0}]
[{"$f":"'BX Language acquisition'!A4093","v":0},{"$f":"'BX Language acquisition'!B4093","v":0},null,{"$f":"'BX Language acquisition'!C4093","v":0},{"$f":"'BX Language acquisition'!D4093","v":0}]
[{"$f":"'BX Language acquisition'!A4094","v":0},{"$f":"'BX Language acquisition'!B4094","v":0},null,{"$f":"'BX Language acquisition'!C4094","v":0},{"$f":"'BX Language acquisition'!D4094","v":0}]
[{"$f":"'BX Language acquisition'!A4095","v":0},{"$f":"'BX Language acquisition'!B4095","v":0},null,{"$f":"'BX Language acquisition'!C4095","v":0},{"$f":"'BX Language acquisition'!D4095","v":0}]
[{"$f":"'BX Language acquisition'!A4096","v":0},{"$f":"'BX Language acquisition'!B4096","v":0},null,{"$f":"'BX Language acquisition'!C4096","v":0},{"$f":"'BX Language acquisition'!D4096","v":0}]
[{"$f":"'BX Language acquisition'!A4097","v":0},{"$f":"'BX Language acquisition'!B4097","v":0},null,{"$f":"'BX Language acquisition'!C4097","v":0},{"$f":"'BX Language acquisition'!D4097","v":0}]
[{"$f":"'BX Language acquisition'!A4098","v":0},{"$f":"'BX Language acquisition'!B4098","v":0},null,{"$f":"'BX Language acquisition'!C4098","v":0},{"$f":"'BX Language acquisition'!D4098","v":0}]
[{"$f":"'BX Language acquisition'!A4099","v":0},{"$f":"'BX Language acquisition'!B4099","v":0},null,{"$f":"'BX Language acquisition'!C4099","v":0},{"$f":"'BX Language acquisition'!D4099","v":0}]
[{"$f":"'BX Language acquisition'!A4100","v":0},{"$f":"'BX Language acquisition'!B4100","v":0},null,{"$f":"'BX Language acquisition'!C4100","v":0},{"$f":"'BX Language acquisition'!D4100","v":0}]
[{"$f":"'BX Language acquisition'!A4101","v":0},{"$f":"'BX Language acquisition'!B4101","v":0},null,{"$f":"'BX Language acquisition'!C4101","v":0},{"$f":"'BX Language acquisition'!D4101","v":0}]
[{"$f":"'BX Language acquisition'!A4102","v":0},{"$f":"'BX Language acquisition'!B4102","v":0},null,{"$f":"'BX Language acquisition'!C4102","v":0},{"$f":"'BX Language acquisition'!D4102","v":0}]
[{"$f":"'BX Language acquisition'!A4103","v":0},{"$f":"'BX Language acquisition'!B4103","v":0},null,{"$f":"'BX Language acquisition'!C4103","v":0},{"$f":"'BX Language acquisition'!D4103","v":0}]
[{"$f":"'BX Language acquisition'!A4104","v":0},{"$f":"'BX Language acquisition'!B4104","v":0},null,{"$f":"'BX Language acquisition'!C4104","v":0},{"$f":"'BX Language acquisition'!D4104","v":0}]
[{"$f":"'BX Language acquisition'!A4105","v":0},{"$f":"'BX Language acquisition'!B4105","v":0},null,{"$f":"'BX Language acquisition'!C4105","v":0},{"$f":"'BX Language acquisition'!D4105","v":0}]
[{"$f":"'BX Language acquisition'!A4106","v":0},{"$f":"'BX Language acquisition'!B4106","v":0},null,{"$f":"'BX Language acquisition'!C4106","v":0},{"$f":"'BX Language acquisition'!D4106","v":0}]
[{"$f":"'BX Language acquisition'!A4107","v":0},{"$f":"'BX Language acquisition'!B4107","v":0},null,{"$f":"'BX Language acquisition'!C4107","v":0},{"$f":"'BX Language acquisition'!D4107","v":0}]
[{"$f":"'BX Language acquisition'!A4108","v":0},{"$f":"'BX Language acquisition'!B4108","v":0},null,{"$f":"'BX Language acquisition'!C4108","v":0},{"$f":"'BX Language acquisition'!D4108","v":0}]
[{"$f":"'BX Language acquisition'!A4109","v":0},{"$f":"'BX Language acquisition'!B4109","v":0},null,{"$f":"'BX Language acquisition'!C4109","v":0},{"$f":"'BX Language acquisition'!D4109","v":0}]
[{"$f":"'BX Language acquisition'!A4110","v":0},{"$f":"'BX Language acquisition'!B4110","v":0},null,{"$f":"'BX Language acquisition'!C4110","v":0},{"$f":"'BX Language acquisition'!D4110","v":0}]
[{"$f":"'BX Language acquisition'!A4111","v":0},{"$f":"'BX Language acquisition'!B4111","v":0},null,{"$f":"'BX Language acquisition'!C4111","v":0},{"$f":"'BX Language acquisition'!D4111","v":0}]
[{"$f":"'BX Language acquisition'!A4112","v":0},{"$f":"'BX Language acquisition'!B4112","v":0},null,{"$f":"'BX Language acquisition'!C4112","v":0},{"$f":"'BX Language acquisition'!D4112","v":0}]
[{"$f":"'BX Language acquisition'!A4113","v":0},{"$f":"'BX Language acquisition'!B4113","v":0},null,{"$f":"'BX Language acquisition'!C4113","v":0},{"$f":"'BX Language acquisition'!D4113","v":0}]
[{"$f":"'BX Language acquisition'!A4114","v":0},{"$f":"'BX Language acquisition'!B4114","v":0},null,{"$f":"'BX Language acquisition'!C4114","v":0},{"$f":"'BX Language acquisition'!D4114","v":0}]
[{"$f":"'BX Language acquisition'!A4115","v":0},{"$f":"'BX Language acquisition'!B4115","v":0},null,{"$f":"'BX Language acquisition'!C4115","v":0},{"$f":"'BX Language acquisition'!D4115","v":0}]
[{"$f":"'BX Language acquisition'!A4116","v":0},{"$f":"'BX Language acquisition'!B4116","v":0},null,{"$f":"'BX Language acquisition'!C4116","v":0},{"$f":"'BX Language acquisition'!D4116","v":0}]
[{"$f":"'BX Language acquisition'!A4117","v":0},{"$f":"'BX Language acquisition'!B4117","v":0},null,{"$f":"'BX Language acquisition'!C4117","v":0},{"$f":"'BX Language acquisition'!D4117","v":0}]
[{"$f":"'BX Language acquisition'!A4118","v":0},{"$f":"'BX Language acquisition'!B4118","v":0},null,{"$f":"'BX Language acquisition'!C4118","v":0},{"$f":"'BX Language acquisition'!D4118","v":0}]
[{"$f":"'BX Language acquisition'!A4119","v":0},{"$f":"'BX Language acquisition'!B4119","v":0},null,{"$f":"'BX Language acquisition'!C4119","v":0},{"$f":"'BX Language acquisition'!D4119","v":0}]
[{"$f":"'BX Language acquisition'!A4120","v":0},{"$f":"'BX Language acquisition'!B4120","v":0},null,{"$f":"'BX Language acquisition'!C4120","v":0},{"$f":"'BX Language acquisition'!D4120","v":0}]
[{"$f":"'BX Language acquisition'!A4121","v":0},{"$f":"'BX Language acquisition'!B4121","v":0},null,{"$f":"'BX Language acquisition'!C4121","v":0},{"$f":"'BX Language acquisition'!D4121","v":0}]
[{"$f":"'BX Language acquisition'!A4122","v":0},{"$f":"'BX Language acquisition'!B4122","v":0},null,{"$f":"'BX Language acquisition'!C4122","v":0},{"$f":"'BX Language acquisition'!D4122","v":0}]
[{"$f":"'BX Language acquisition'!A4123","v":0},{"$f":"'BX Language acquisition'!B4123","v":0},null,{"$f":"'BX Language acquisition'!C4123","v":0},{"$f":"'BX Language acquisition'!D4123","v":0}]
[{"$f":"'BX Language acquisition'!A4124","v":0},{"$f":"'BX Language acquisition'!B4124","v":0},null,{"$f":"'BX Language acquisition'!C4124","v":0},{"$f":"'BX Language acquisition'!D4124","v":0}]
[{"$f":"'BX Language acquisition'!A4125","v":0},{"$f":"'BX Language acquisition'!B4125","v":0},null,{"$f":"'BX Language acquisition'!C4125","v":0},{"$f":"'BX Language acquisition'!D4125","v":0}]
[{"$f":"'BX Language acquisition'!A4126","v":0},{"$f":"'BX Language acquisition'!B4126","v":0},null,{"$f":"'BX Language acquisition'!C4126","v":0},{"$f":"'BX Language acquisition'!D4126","v":0}]
[{"$f":"'BX Language acquisition'!A4127","v":0},{"$f":"'BX Language acquisition'!B4127","v":0},null,{"$f":"'BX Language acquisition'!C4127","v":0},{"$f":"'BX Language acquisition'!D4127","v":0}]
[{"$f":"'BX Language acquisition'!A4128","v":0},{"$f":"'BX Language acquisition'!B4128","v":0},null,{"$f":"'BX Language acquisition'!C4128","v":0},{"$f":"'BX Language acquisition'!D4128","v":0}]
[{"$f":"'BX Language acquisition'!A4129","v":0},{"$f":"'BX Language acquisition'!B4129","v":0},null,{"$f":"'BX Language acquisition'!C4129","v":0},{"$f":"'BX Language acquisition'!D4129","v":0}]
[{"$f":"'BX Language acquisition'!A4130","v":0},{"$f":"'BX Language acquisition'!B4130","v":0},null,{"$f":"'BX Language acquisition'!C4130","v":0},{"$f":"'BX Language acquisition'!D4130","v":0}]
[{"$f":"'BX Language acquisition'!A4131","v":0},{"$f":"'BX Language acquisition'!B4131","v":0},null,{"$f":"'BX Language acquisition'!C4131","v":0},{"$f":"'BX Language acquisition'!D4131","v":0}]
[{"$f":"'BX Language acquisition'!A4132","v":0},{"$f":"'BX Language acquisition'!B4132","v":0},null,{"$f":"'BX Language acquisition'!C4132","v":0},{"$f":"'BX Language acquisition'!D4132","v":0}]
[{"$f":"'BX Language acquisition'!A4133","v":0},{"$f":"'BX Language acquisition'!B4133","v":0},null,{"$f":"'BX Language acquisition'!C4133","v":0},{"$f":"'BX Language acquisition'!D4133","v":0}]
[{"$f":"'BX Language acquisition'!A4134","v":0},{"$f":"'BX Language acquisition'!B4134","v":0},null,{"$f":"'BX Language acquisition'!C4134","v":0},{"$f":"'BX Language acquisition'!D4134","v":0}]
[{"$f":"'BX Language acquisition'!A4135","v":0},{"$f":"'BX Language acquisition'!B4135","v":0},null,{"$f":"'BX Language acquisition'!C4135","v":0},{"$f":"'BX Language acquisition'!D4135","v":0}]
[{"$f":"'BX Language acquisition'!A4136","v":0},{"$f":"'BX Language acquisition'!B4136","v":0},null,{"$f":"'BX Language acquisition'!C4136","v":0},{"$f":"'BX Language acquisition'!D4136","v":0}]
[{"$f":"'BX Language acquisition'!A4137","v":0},{"$f":"'BX Language acquisition'!B4137","v":0},null,{"$f":"'BX Language acquisition'!C4137","v":0},{"$f":"'BX Language acquisition'!D4137","v":0}]
[{"$f":"'BX Language acquisition'!A4138","v":0},{"$f":"'BX Language acquisition'!B4138","v":0},null,{"$f":"'BX Language acquisition'!C4138","v":0},{"$f":"'BX Language acquisition'!D4138","v":0}]
[{"$f":"'BX Language acquisition'!A4139","v":0},{"$f":"'BX Language acquisition'!B4139","v":0},null,{"$f":"'BX Language acquisition'!C4139","v":0},{"$f":"'BX Language acquisition'!D4139","v":0}]
[{"$f":"'BX Language acquisition'!A4140","v":0},{"$f":"'BX Language acquisition'!B4140","v":0},null,{"$f":"'BX Language acquisition'!C4140","v":0},{"$f":"'BX Language acquisition'!D4140","v":0}]
[{"$f":"'BX Language acquisition'!A4141","v":0},{"$f":"'BX Language acquisition'!B4141","v":0},null,{"$f":"'BX Language acquisition'!C4141","v":0},{"$f":"'BX Language acquisition'!D4141","v":0}]
[{"$f":"'BX Language acquisition'!A4142","v":0},{"$f":"'BX Language acquisition'!B4142","v":0},null,{"$f":"'BX Language acquisition'!C4142","v":0},{"$f":"'BX Language acquisition'!D4142","v":0}]
[{"$f":"'BX Language acquisition'!A4143","v":0},{"$f":"'BX Language acquisition'!B4143","v":0},null,{"$f":"'BX Language acquisition'!C4143","v":0},{"$f":"'BX Language acquisition'!D4143","v":0}]
[{"$f":"'BX Language acquisition'!A4144","v":0},{"$f":"'BX Language acquisition'!B4144","v":0},null,{"$f":"'BX Language acquisition'!C4144","v":0},{"$f":"'BX Language acquisition'!D4144","v":0}]
[{"$f":"'BX Language acquisition'!A4145","v":0},{"$f":"'BX Language acquisition'!B4145","v":0},null,{"$f":"'BX Language acquisition'!C4145","v":0},{"$f":"'BX Language acquisition'!D4145","v":0}]
[{"$f":"'BX Language acquisition'!A4146","v":0},{"$f":"'BX Language acquisition'!B4146","v":0},null,{"$f":"'BX Language acquisition'!C4146","v":0},{"$f":"'BX Language acquisition'!D4146","v":0}]
[{"$f":"'BX Language acquisition'!A4147","v":0},{"$f":"'BX Language acquisition'!B4147","v":0},null,{"$f":"'BX Language acquisition'!C4147","v":0},{"$f":"'BX Language acquisition'!D4147","v":0}]
[{"$f":"'BX Language acquisition'!A4148","v":0},{"$f":"'BX Language acquisition'!B4148","v":0},null,{"$f":"'BX Language acquisition'!C4148","v":0},{"$f":"'BX Language acquisition'!D4148","v":0}]
[{"$f":"'BX Language acquisition'!A4149","v":0},{"$f":"'BX Language acquisition'!B4149","v":0},null,{"$f":"'BX Language acquisition'!C4149","v":0},{"$f":"'BX Language acquisition'!D4149","v":0}]
[{"$f":"'BX Language acquisition'!A4150","v":0},{"$f":"'BX Language acquisition'!B4150","v":0},null,{"$f":"'BX Language acquisition'!C4150","v":0},{"$f":"'BX Language acquisition'!D4150","v":0}]
[{"$f":"'BX Language acquisition'!A4151","v":0},{"$f":"'BX Language acquisition'!B4151","v":0},null,{"$f":"'BX Language acquisition'!C4151","v":0},{"$f":"'BX Language acquisition'!D4151","v":0}]
[{"$f":"'BX Language acquisition'!A4152","v":0},{"$f":"'BX Language acquisition'!B4152","v":0},null,{"$f":"'BX Language acquisition'!C4152","v":0},{"$f":"'BX Language acquisition'!D4152","v":0}]
[{"$f":"'BX Language acquisition'!A4153","v":0},{"$f":"'BX Language acquisition'!B4153","v":0},null,{"$f":"'BX Language acquisition'!C4153","v":0},{"$f":"'BX Language acquisition'!D4153","v":0}]
[{"$f":"'BX Language acquisition'!A4154","v":0},{"$f":"'BX Language acquisition'!B4154","v":0},null,{"$f":"'BX Language acquisition'!C4154","v":0},{"$f":"'BX Language acquisition'!D4154","v":0}]
[{"$f":"'BX Language acquisition'!A4155","v":0},{"$f":"'BX Language acquisition'!B4155","v":0},null,{"$f":"'BX Language acquisition'!C4155","v":0},{"$f":"'BX Language acquisition'!D4155","v":0}]
[{"$f":"'BX Language acquisition'!A4156","v":0},{"$f":"'BX Language acquisition'!B4156","v":0},null,{"$f":"'BX Language acquisition'!C4156","v":0},{"$f":"'BX Language acquisition'!D4156","v":0}]
[{"$f":"'BX Language acquisition'!A4157","v":0},{"$f":"'BX Language acquisition'!B4157","v":0},null,{"$f":"'BX Language acquisition'!C4157","v":0},{"$f":"'BX Language acquisition'!D4157","v":0}]
[{"$f":"'BX Language acquisition'!A4158","v":0},{"$f":"'BX Language acquisition'!B4158","v":0},null,{"$f":"'BX Language acquisition'!C4158","v":0},{"$f":"'BX Language acquisition'!D4158","v":0}]
[{"$f":"'BX Language acquisition'!A4159","v":0},{"$f":"'BX Language acquisition'!B4159","v":0},null,{"$f":"'BX Language acquisition'!C4159","v":0},{"$f":"'BX Language acquisition'!D4159","v":0}]
[{"$f":"'BX Language acquisition'!A4160","v":0},{"$f":"'BX Language acquisition'!B4160","v":0},null,{"$f":"'BX Language acquisition'!C4160","v":0},{"$f":"'BX Language acquisition'!D4160","v":0}]
[{"$f":"'BX Language acquisition'!A4161","v":0},{"$f":"'BX Language acquisition'!B4161","v":0},null,{"$f":"'BX Language acquisition'!C4161","v":0},{"$f":"'BX Language acquisition'!D4161","v":0}]
[{"$f":"'BX Language acquisition'!A4162","v":0},{"$f":"'BX Language acquisition'!B4162","v":0},null,{"$f":"'BX Language acquisition'!C4162","v":0},{"$f":"'BX Language acquisition'!D4162","v":0}]
[{"$f":"'BX Language acquisition'!A4163","v":0},{"$f":"'BX Language acquisition'!B4163","v":0},null,{"$f":"'BX Language acquisition'!C4163","v":0},{"$f":"'BX Language acquisition'!D4163","v":0}]
[{"$f":"'BX Language acquisition'!A4164","v":0},{"$f":"'BX Language acquisition'!B4164","v":0},null,{"$f":"'BX Language acquisition'!C4164","v":0},{"$f":"'BX Language acquisition'!D4164","v":0}]
[{"$f":"'BX Language acquisition'!A4165","v":0},{"$f":"'BX Language acquisition'!B4165","v":0},null,{"$f":"'BX Language acquisition'!C4165","v":0},{"$f":"'BX Language acquisition'!D4165","v":0}]
[{"$f":"'BX Language acquisition'!A4166","v":0},{"$f":"'BX Language acquisition'!B4166","v":0},null,{"$f":"'BX Language acquisition'!C4166","v":0},{"$f":"'BX Language acquisition'!D4166","v":0}]
[{"$f":"'BX Language acquisition'!A4167","v":0},{"$f":"'BX Language acquisition'!B4167","v":0},null,{"$f":"'BX Language acquisition'!C4167","v":0},{"$f":"'BX Language acquisition'!D4167","v":0}]
[{"$f":"'BX Language acquisition'!A4168","v":0},{"$f":"'BX Language acquisition'!B4168","v":0},null,{"$f":"'BX Language acquisition'!C4168","v":0},{"$f":"'BX Language acquisition'!D4168","v":0}]
[{"$f":"'BX Language acquisition'!A4169","v":0},{"$f":"'BX Language acquisition'!B4169","v":0},null,{"$f":"'BX Language acquisition'!C4169","v":0},{"$f":"'BX Language acquisition'!D4169","v":0}]
[{"$f":"'BX Language acquisition'!A4170","v":0},{"$f":"'BX Language acquisition'!B4170","v":0},null,{"$f":"'BX Language acquisition'!C4170","v":0},{"$f":"'BX Language acquisition'!D4170","v":0}]
[{"$f":"'BX Language acquisition'!A4171","v":0},{"$f":"'BX Language acquisition'!B4171","v":0},null,{"$f":"'BX Language acquisition'!C4171","v":0},{"$f":"'BX Language acquisition'!D4171","v":0}]
[{"$f":"'BX Language acquisition'!A4172","v":0},{"$f":"'BX Language acquisition'!B4172","v":0},null,{"$f":"'BX Language acquisition'!C4172","v":0},{"$f":"'BX Language acquisition'!D4172","v":0}]
[{"$f":"'BX Language acquisition'!A4173","v":0},{"$f":"'BX Language acquisition'!B4173","v":0},null,{"$f":"'BX Language acquisition'!C4173","v":0},{"$f":"'BX Language acquisition'!D4173","v":0}]
[{"$f":"'BX Language acquisition'!A4174","v":0},{"$f":"'BX Language acquisition'!B4174","v":0},null,{"$f":"'BX Language acquisition'!C4174","v":0},{"$f":"'BX Language acquisition'!D4174","v":0}]
[{"$f":"'BX Language acquisition'!A4175","v":0},{"$f":"'BX Language acquisition'!B4175","v":0},null,{"$f":"'BX Language acquisition'!C4175","v":0},{"$f":"'BX Language acquisition'!D4175","v":0}]
[{"$f":"'BX Language acquisition'!A4176","v":0},{"$f":"'BX Language acquisition'!B4176","v":0},null,{"$f":"'BX Language acquisition'!C4176","v":0},{"$f":"'BX Language acquisition'!D4176","v":0}]
[{"$f":"'BX Language acquisition'!A4177","v":0},{"$f":"'BX Language acquisition'!B4177","v":0},null,{"$f":"'BX Language acquisition'!C4177","v":0},{"$f":"'BX Language acquisition'!D4177","v":0}]
[{"$f":"'BX Language acquisition'!A4178","v":0},{"$f":"'BX Language acquisition'!B4178","v":0},null,{"$f":"'BX Language acquisition'!C4178","v":0},{"$f":"'BX Language acquisition'!D4178","v":0}]
[{"$f":"'BX Language acquisition'!A4179","v":0},{"$f":"'BX Language acquisition'!B4179","v":0},null,{"$f":"'BX Language acquisition'!C4179","v":0},{"$f":"'BX Language acquisition'!D4179","v":0}]
[{"$f":"'BX Language acquisition'!A4180","v":0},{"$f":"'BX Language acquisition'!B4180","v":0},null,{"$f":"'BX Language acquisition'!C4180","v":0},{"$f":"'BX Language acquisition'!D4180","v":0}]
[{"$f":"'BX Language acquisition'!A4181","v":0},{"$f":"'BX Language acquisition'!B4181","v":0},null,{"$f":"'BX Language acquisition'!C4181","v":0},{"$f":"'BX Language acquisition'!D4181","v":0}]
[{"$f":"'BX Language acquisition'!A4182","v":0},{"$f":"'BX Language acquisition'!B4182","v":0},null,{"$f":"'BX Language acquisition'!C4182","v":0},{"$f":"'BX Language acquisition'!D4182","v":0}]
[{"$f":"'BX Language acquisition'!A4183","v":0},{"$f":"'BX Language acquisition'!B4183","v":0},null,{"$f":"'BX Language acquisition'!C4183","v":0},{"$f":"'BX Language acquisition'!D4183","v":0}]
[{"$f":"'BX Language acquisition'!A4184","v":0},{"$f":"'BX Language acquisition'!B4184","v":0},null,{"$f":"'BX Language acquisition'!C4184","v":0},{"$f":"'BX Language acquisition'!D4184","v":0}]
[{"$f":"'BX Language acquisition'!A4185","v":0},{"$f":"'BX Language acquisition'!B4185","v":0},null,{"$f":"'BX Language acquisition'!C4185","v":0},{"$f":"'BX Language acquisition'!D4185","v":0}]
[{"$f":"'BX Language acquisition'!A4186","v":0},{"$f":"'BX Language acquisition'!B4186","v":0},null,{"$f":"'BX Language acquisition'!C4186","v":0},{"$f":"'BX Language acquisition'!D4186","v":0}]
[{"$f":"'BX Language acquisition'!A4187","v":0},{"$f":"'BX Language acquisition'!B4187","v":0},null,{"$f":"'BX Language acquisition'!C4187","v":0},{"$f":"'BX Language acquisition'!D4187","v":0}]
[{"$f":"'BX Language acquisition'!A4188","v":0},{"$f":"'BX Language acquisition'!B4188","v":0},null,{"$f":"'BX Language acquisition'!C4188","v":0},{"$f":"'BX Language acquisition'!D4188","v":0}]
[{"$f":"'BX Language acquisition'!A4189","v":0},{"$f":"'BX Language acquisition'!B4189","v":0},null,{"$f":"'BX Language acquisition'!C4189","v":0},{"$f":"'BX Language acquisition'!D4189","v":0}]
[{"$f":"'BX Language acquisition'!A4190","v":0},{"$f":"'BX Language acquisition'!B4190","v":0},null,{"$f":"'BX Language acquisition'!C4190","v":0},{"$f":"'BX Language acquisition'!D4190","v":0}]
[{"$f":"'BX Language acquisition'!A4191","v":0},{"$f":"'BX Language acquisition'!B4191","v":0},null,{"$f":"'BX Language acquisition'!C4191","v":0},{"$f":"'BX Language acquisition'!D4191","v":0}]
[{"$f":"'BX Language acquisition'!A4192","v":0},{"$f":"'BX Language acquisition'!B4192","v":0},null,{"$f":"'BX Language acquisition'!C4192","v":0},{"$f":"'BX Language acquisition'!D4192","v":0}]
[{"$f":"'BX Language acquisition'!A4193","v":0},{"$f":"'BX Language acquisition'!B4193","v":0},null,{"$f":"'BX Language acquisition'!C4193","v":0},{"$f":"'BX Language acquisition'!D4193","v":0}]
[{"$f":"'BX Language acquisition'!A4194","v":0},{"$f":"'BX Language acquisition'!B4194","v":0},null,{"$f":"'BX Language acquisition'!C4194","v":0},{"$f":"'BX Language acquisition'!D4194","v":0}]
[{"$f":"'BX Language acquisition'!A4195","v":0},{"$f":"'BX Language acquisition'!B4195","v":0},null,{"$f":"'BX Language acquisition'!C4195","v":0},{"$f":"'BX Language acquisition'!D4195","v":0}]
[{"$f":"'BX Language acquisition'!A4196","v":0},{"$f":"'BX Language acquisition'!B4196","v":0},null,{"$f":"'BX Language acquisition'!C4196","v":0},{"$f":"'BX Language acquisition'!D4196","v":0}]
[{"$f":"'BX Language acquisition'!A4197","v":0},{"$f":"'BX Language acquisition'!B4197","v":0},null,{"$f":"'BX Language acquisition'!C4197","v":0},{"$f":"'BX Language acquisition'!D4197","v":0}]
[{"$f":"'BX Language acquisition'!A4198","v":0},{"$f":"'BX Language acquisition'!B4198","v":0},null,{"$f":"'BX Language acquisition'!C4198","v":0},{"$f":"'BX Language acquisition'!D4198","v":0}]
[{"$f":"'BX Language acquisition'!A4199","v":0},{"$f":"'BX Language acquisition'!B4199","v":0},null,{"$f":"'BX Language acquisition'!C4199","v":0},{"$f":"'BX Language acquisition'!D4199","v":0}]
[{"$f":"'BX Language acquisition'!A4200","v":0},{"$f":"'BX Language acquisition'!B4200","v":0},null,{"$f":"'BX Language acquisition'!C4200","v":0},{"$f":"'BX Language acquisition'!D4200","v":0}]
[{"$f":"'BX Language acquisition'!A4201","v":0},{"$f":"'BX Language acquisition'!B4201","v":0},null,{"$f":"'BX Language acquisition'!C4201","v":0},{"$f":"'BX Language acquisition'!D4201","v":0}]
[{"$f":"'BX Language acquisition'!A4202","v":0},{"$f":"'BX Language acquisition'!B4202","v":0},null,{"$f":"'BX Language acquisition'!C4202","v":0},{"$f":"'BX Language acquisition'!D4202","v":0}]
[{"$f":"'BX Language acquisition'!A4203","v":0},{"$f":"'BX Language acquisition'!B4203","v":0},null,{"$f":"'BX Language acquisition'!C4203","v":0},{"$f":"'BX Language acquisition'!D4203","v":0}]
[{"$f":"'BX Language acquisition'!A4204","v":0},{"$f":"'BX Language acquisition'!B4204","v":0},null,{"$f":"'BX Language acquisition'!C4204","v":0},{"$f":"'BX Language acquisition'!D4204","v":0}]
[{"$f":"'BX Language acquisition'!A4205","v":0},{"$f":"'BX Language acquisition'!B4205","v":0},null,{"$f":"'BX Language acquisition'!C4205","v":0},{"$f":"'BX Language acquisition'!D4205","v":0}]
[{"$f":"'BX Language acquisition'!A4206","v":0},{"$f":"'BX Language acquisition'!B4206","v":0},null,{"$f":"'BX Language acquisition'!C4206","v":0},{"$f":"'BX Language acquisition'!D4206","v":0}]
[{"$f":"'BX Language acquisition'!A4207","v":0},{"$f":"'BX Language acquisition'!B4207","v":0},null,{"$f":"'BX Language acquisition'!C4207","v":0},{"$f":"'BX Language acquisition'!D4207","v":0}]
[{"$f":"'BX Language acquisition'!A4208","v":0},{"$f":"'BX Language acquisition'!B4208","v":0},null,{"$f":"'BX Language acquisition'!C4208","v":0},{"$f":"'BX Language acquisition'!D4208","v":0}]
[{"$f":"'BX Language acquisition'!A4209","v":0},{"$f":"'BX Language acquisition'!B4209","v":0},null,{"$f":"'BX Language acquisition'!C4209","v":0},{"$f":"'BX Language acquisition'!D4209","v":0}]
[{"$f":"'BX Language acquisition'!A4210","v":0},{"$f":"'BX Language acquisition'!B4210","v":0},null,{"$f":"'BX Language acquisition'!C4210","v":0},{"$f":"'BX Language acquisition'!D4210","v":0}]
[{"$f":"'BX Language acquisition'!A4211","v":0},{"$f":"'BX Language acquisition'!B4211","v":0},null,{"$f":"'BX Language acquisition'!C4211","v":0},{"$f":"'BX Language acquisition'!D4211","v":0}]
[{"$f":"'BX Language acquisition'!A4212","v":0},{"$f":"'BX Language acquisition'!B4212","v":0},null,{"$f":"'BX Language acquisition'!C4212","v":0},{"$f":"'BX Language acquisition'!D4212","v":0}]
[{"$f":"'BX Language acquisition'!A4213","v":0},{"$f":"'BX Language acquisition'!B4213","v":0},null,{"$f":"'BX Language acquisition'!C4213","v":0},{"$f":"'BX Language acquisition'!D4213","v":0}]
[{"$f":"'BX Language acquisition'!A4214","v":0},{"$f":"'BX Language acquisition'!B4214","v":0},null,{"$f":"'BX Language acquisition'!C4214","v":0},{"$f":"'BX Language acquisition'!D4214","v":0}]
[{"$f":"'BX Language acquisition'!A4215","v":0},{"$f":"'BX Language acquisition'!B4215","v":0},null,{"$f":"'BX Language acquisition'!C4215","v":0},{"$f":"'BX Language acquisition'!D4215","v":0}]
[{"$f":"'BX Language acquisition'!A4216","v":0},{"$f":"'BX Language acquisition'!B4216","v":0},null,{"$f":"'BX Language acquisition'!C4216","v":0},{"$f":"'BX Language acquisition'!D4216","v":0}]
[{"$f":"'BX Language acquisition'!A4217","v":0},{"$f":"'BX Language acquisition'!B4217","v":0},null,{"$f":"'BX Language acquisition'!C4217","v":0},{"$f":"'BX Language acquisition'!D4217","v":0}]
[{"$f":"'BX Language acquisition'!A4218","v":0},{"$f":"'BX Language acquisition'!B4218","v":0},null,{"$f":"'BX Language acquisition'!C4218","v":0},{"$f":"'BX Language acquisition'!D4218","v":0}]
[{"$f":"'BX Language acquisition'!A4219","v":0},{"$f":"'BX Language acquisition'!B4219","v":0},null,{"$f":"'BX Language acquisition'!C4219","v":0},{"$f":"'BX Language acquisition'!D4219","v":0}]
[{"$f":"'BX Language acquisition'!A4220","v":0},{"$f":"'BX Language acquisition'!B4220","v":0},null,{"$f":"'BX Language acquisition'!C4220","v":0},{"$f":"'BX Language acquisition'!D4220","v":0}]
[{"$f":"'BX Language acquisition'!A4221","v":0},{"$f":"'BX Language acquisition'!B4221","v":0},null,{"$f":"'BX Language acquisition'!C4221","v":0},{"$f":"'BX Language acquisition'!D4221","v":0}]
[{"$f":"'BX Language acquisition'!A4222","v":0},{"$f":"'BX Language acquisition'!B4222","v":0},null,{"$f":"'BX Language acquisition'!C4222","v":0},{"$f":"'BX Language acquisition'!D4222","v":0}]
[{"$f":"'BX Language acquisition'!A4223","v":0},{"$f":"'BX Language acquisition'!B4223","v":0},null,{"$f":"'BX Language acquisition'!C4223","v":0},{"$f":"'BX Language acquisition'!D4223","v":0}]
[{"$f":"'BX Language acquisition'!A4224","v":0},{"$f":"'BX Language acquisition'!B4224","v":0},null,{"$f":"'BX Language acquisition'!C4224","v":0},{"$f":"'BX Language acquisition'!D4224","v":0}]
[{"$f":"'BX Language acquisition'!A4225","v":0},{"$f":"'BX Language acquisition'!B4225","v":0},null,{"$f":"'BX Language acquisition'!C4225","v":0},{"$f":"'BX Language acquisition'!D4225","v":0}]
[{"$f":"'BX Language acquisition'!A4226","v":0},{"$f":"'BX Language acquisition'!B4226","v":0},null,{"$f":"'BX Language acquisition'!C4226","v":0},{"$f":"'BX Language acquisition'!D4226","v":0}]
[{"$f":"'BX Language acquisition'!A4227","v":0},{"$f":"'BX Language acquisition'!B4227","v":0},null,{"$f":"'BX Language acquisition'!C4227","v":0},{"$f":"'BX Language acquisition'!D4227","v":0}]
[{"$f":"'BX Language acquisition'!A4228","v":0},{"$f":"'BX Language acquisition'!B4228","v":0},null,{"$f":"'BX Language acquisition'!C4228","v":0},{"$f":"'BX Language acquisition'!D4228","v":0}]
[{"$f":"'BX Language acquisition'!A4229","v":0},{"$f":"'BX Language acquisition'!B4229","v":0},null,{"$f":"'BX Language acquisition'!C4229","v":0},{"$f":"'BX Language acquisition'!D4229","v":0}]
[{"$f":"'BX Language acquisition'!A4230","v":0},{"$f":"'BX Language acquisition'!B4230","v":0},null,{"$f":"'BX Language acquisition'!C4230","v":0},{"$f":"'BX Language acquisition'!D4230","v":0}]
[{"$f":"'BX Language acquisition'!A4231","v":0},{"$f":"'BX Language acquisition'!B4231","v":0},null,{"$f":"'BX Language acquisition'!C4231","v":0},{"$f":"'BX Language acquisition'!D4231","v":0}]
[{"$f":"'BX Language acquisition'!A4232","v":0},{"$f":"'BX Language acquisition'!B4232","v":0},null,{"$f":"'BX Language acquisition'!C4232","v":0},{"$f":"'BX Language acquisition'!D4232","v":0}]
[{"$f":"'BX Language acquisition'!A4233","v":0},{"$f":"'BX Language acquisition'!B4233","v":0},null,{"$f":"'BX Language acquisition'!C4233","v":0},{"$f":"'BX Language acquisition'!D4233","v":0}]
[{"$f":"'BX Language acquisition'!A4234","v":0},{"$f":"'BX Language acquisition'!B4234","v":0},null,{"$f":"'BX Language acquisition'!C4234","v":0},{"$f":"'BX Language acquisition'!D4234","v":0}]
[{"$f":"'BX Language acquisition'!A4235","v":0},{"$f":"'BX Language acquisition'!B4235","v":0},null,{"$f":"'BX Language acquisition'!C4235","v":0},{"$f":"'BX Language acquisition'!D4235","v":0}]
[{"$f":"'BX Language acquisition'!A4236","v":0},{"$f":"'BX Language acquisition'!B4236","v":0},null,{"$f":"'BX Language acquisition'!C4236","v":0},{"$f":"'BX Language acquisition'!D4236","v":0}]
[{"$f":"'BX Language acquisition'!A4237","v":0},{"$f":"'BX Language acquisition'!B4237","v":0},null,{"$f":"'BX Language acquisition'!C4237","v":0},{"$f":"'BX Language acquisition'!D4237","v":0}]
[{"$f":"'BX Language acquisition'!A4238","v":0},{"$f":"'BX Language acquisition'!B4238","v":0},null,{"$f":"'BX Language acquisition'!C4238","v":0},{"$f":"'BX Language acquisition'!D4238","v":0}]
[{"$f":"'BX Language acquisition'!A4239","v":0},{"$f":"'BX Language acquisition'!B4239","v":0},null,{"$f":"'BX Language acquisition'!C4239","v":0},{"$f":"'BX Language acquisition'!D4239","v":0}]
[{"$f":"'BX Language acquisition'!A4240","v":0},{"$f":"'BX Language acquisition'!B4240","v":0},null,{"$f":"'BX Language acquisition'!C4240","v":0},{"$f":"'BX Language acquisition'!D4240","v":0}]
[{"$f":"'BX Language acquisition'!A4241","v":0},{"$f":"'BX Language acquisition'!B4241","v":0},null,{"$f":"'BX Language acquisition'!C4241","v":0},{"$f":"'BX Language acquisition'!D4241","v":0}]
[{"$f":"'BX Language acquisition'!A4242","v":0},{"$f":"'BX Language acquisition'!B4242","v":0},null,{"$f":"'BX Language acquisition'!C4242","v":0},{"$f":"'BX Language acquisition'!D4242","v":0}]
[{"$f":"'BX Language acquisition'!A4243","v":0},{"$f":"'BX Language acquisition'!B4243","v":0},null,{"$f":"'BX Language acquisition'!C4243","v":0},{"$f":"'BX Language acquisition'!D4243","v":0}]
[{"$f":"'BX Language acquisition'!A4244","v":0},{"$f":"'BX Language acquisition'!B4244","v":0},null,{"$f":"'BX Language acquisition'!C4244","v":0},{"$f":"'BX Language acquisition'!D4244","v":0}]
[{"$f":"'BX Language acquisition'!A4245","v":0},{"$f":"'BX Language acquisition'!B4245","v":0},null,{"$f":"'BX Language acquisition'!C4245","v":0},{"$f":"'BX Language acquisition'!D4245","v":0}]
[{"$f":"'BX Language acquisition'!A4246","v":0},{"$f":"'BX Language acquisition'!B4246","v":0},null,{"$f":"'BX Language acquisition'!C4246","v":0},{"$f":"'BX Language acquisition'!D4246","v":0}]
[{"$f":"'BX Language acquisition'!A4247","v":0},{"$f":"'BX Language acquisition'!B4247","v":0},null,{"$f":"'BX Language acquisition'!C4247","v":0},{"$f":"'BX Language acquisition'!D4247","v":0}]
[{"$f":"'BX Language acquisition'!A4248","v":0},{"$f":"'BX Language acquisition'!B4248","v":0},null,{"$f":"'BX Language acquisition'!C4248","v":0},{"$f":"'BX Language acquisition'!D4248","v":0}]
[{"$f":"'BX Language acquisition'!A4249","v":0},{"$f":"'BX Language acquisition'!B4249","v":0},null,{"$f":"'BX Language acquisition'!C4249","v":0},{"$f":"'BX Language acquisition'!D4249","v":0}]
[{"$f":"'BX Language acquisition'!A4250","v":0},{"$f":"'BX Language acquisition'!B4250","v":0},null,{"$f":"'BX Language acquisition'!C4250","v":0},{"$f":"'BX Language acquisition'!D4250","v":0}]
[{"$f":"'BX Language acquisition'!A4251","v":0},{"$f":"'BX Language acquisition'!B4251","v":0},null,{"$f":"'BX Language acquisition'!C4251","v":0},{"$f":"'BX Language acquisition'!D4251","v":0}]
[{"$f":"'BX Language acquisition'!A4252","v":0},{"$f":"'BX Language acquisition'!B4252","v":0},null,{"$f":"'BX Language acquisition'!C4252","v":0},{"$f":"'BX Language acquisition'!D4252","v":0}]
[{"$f":"'BX Language acquisition'!A4253","v":0},{"$f":"'BX Language acquisition'!B4253","v":0},null,{"$f":"'BX Language acquisition'!C4253","v":0},{"$f":"'BX Language acquisition'!D4253","v":0}]
[{"$f":"'BX Language acquisition'!A4254","v":0},{"$f":"'BX Language acquisition'!B4254","v":0},null,{"$f":"'BX Language acquisition'!C4254","v":0},{"$f":"'BX Language acquisition'!D4254","v":0}]
[{"$f":"'BX Language acquisition'!A4255","v":0},{"$f":"'BX Language acquisition'!B4255","v":0},null,{"$f":"'BX Language acquisition'!C4255","v":0},{"$f":"'BX Language acquisition'!D4255","v":0}]
[{"$f":"'BX Language acquisition'!A4256","v":0},{"$f":"'BX Language acquisition'!B4256","v":0},null,{"$f":"'BX Language acquisition'!C4256","v":0},{"$f":"'BX Language acquisition'!D4256","v":0}]
[{"$f":"'BX Language acquisition'!A4257","v":0},{"$f":"'BX Language acquisition'!B4257","v":0},null,{"$f":"'BX Language acquisition'!C4257","v":0},{"$f":"'BX Language acquisition'!D4257","v":0}]
[{"$f":"'BX Language acquisition'!A4258","v":0},{"$f":"'BX Language acquisition'!B4258","v":0},null,{"$f":"'BX Language acquisition'!C4258","v":0},{"$f":"'BX Language acquisition'!D4258","v":0}]
[{"$f":"'BX Language acquisition'!A4259","v":0},{"$f":"'BX Language acquisition'!B4259","v":0},null,{"$f":"'BX Language acquisition'!C4259","v":0},{"$f":"'BX Language acquisition'!D4259","v":0}]
[{"$f":"'BX Language acquisition'!A4260","v":0},{"$f":"'BX Language acquisition'!B4260","v":0},null,{"$f":"'BX Language acquisition'!C4260","v":0},{"$f":"'BX Language acquisition'!D4260","v":0}]
[{"$f":"'BX Language acquisition'!A4261","v":0},{"$f":"'BX Language acquisition'!B4261","v":0},null,{"$f":"'BX Language acquisition'!C4261","v":0},{"$f":"'BX Language acquisition'!D4261","v":0}]
[{"$f":"'BX Language acquisition'!A4262","v":0},{"$f":"'BX Language acquisition'!B4262","v":0},null,{"$f":"'BX Language acquisition'!C4262","v":0},{"$f":"'BX Language acquisition'!D4262","v":0}]
[{"$f":"'BX Language acquisition'!A4263","v":0},{"$f":"'BX Language acquisition'!B4263","v":0},null,{"$f":"'BX Language acquisition'!C4263","v":0},{"$f":"'BX Language acquisition'!D4263","v":0}]
[{"$f":"'BX Language acquisition'!A4264","v":0},{"$f":"'BX Language acquisition'!B4264","v":0},null,{"$f":"'BX Language acquisition'!C4264","v":0},{"$f":"'BX Language acquisition'!D4264","v":0}]
[{"$f":"'BX Language acquisition'!A4265","v":0},{"$f":"'BX Language acquisition'!B4265","v":0},null,{"$f":"'BX Language acquisition'!C4265","v":0},{"$f":"'BX Language acquisition'!D4265","v":0}]
[{"$f":"'BX Language acquisition'!A4266","v":0},{"$f":"'BX Language acquisition'!B4266","v":0},null,{"$f":"'BX Language acquisition'!C4266","v":0},{"$f":"'BX Language acquisition'!D4266","v":0}]
[{"$f":"'BX Language acquisition'!A4267","v":0},{"$f":"'BX Language acquisition'!B4267","v":0},null,{"$f":"'BX Language acquisition'!C4267","v":0},{"$f":"'BX Language acquisition'!D4267","v":0}]
[{"$f":"'BX Language acquisition'!A4268","v":0},{"$f":"'BX Language acquisition'!B4268","v":0},null,{"$f":"'BX Language acquisition'!C4268","v":0},{"$f":"'BX Language acquisition'!D4268","v":0}]
[{"$f":"'BX Language acquisition'!A4269","v":0},{"$f":"'BX Language acquisition'!B4269","v":0},null,{"$f":"'BX Language acquisition'!C4269","v":0},{"$f":"'BX Language acquisition'!D4269","v":0}]
[{"$f":"'BX Language acquisition'!A4270","v":0},{"$f":"'BX Language acquisition'!B4270","v":0},null,{"$f":"'BX Language acquisition'!C4270","v":0},{"$f":"'BX Language acquisition'!D4270","v":0}]
[{"$f":"'BX Language acquisition'!A4271","v":0},{"$f":"'BX Language acquisition'!B4271","v":0},null,{"$f":"'BX Language acquisition'!C4271","v":0},{"$f":"'BX Language acquisition'!D4271","v":0}]
[{"$f":"'BX Language acquisition'!A4272","v":0},{"$f":"'BX Language acquisition'!B4272","v":0},null,{"$f":"'BX Language acquisition'!C4272","v":0},{"$f":"'BX Language acquisition'!D4272","v":0}]
[{"$f":"'BX Language acquisition'!A4273","v":0},{"$f":"'BX Language acquisition'!B4273","v":0},null,{"$f":"'BX Language acquisition'!C4273","v":0},{"$f":"'BX Language acquisition'!D4273","v":0}]
[{"$f":"'BX Language acquisition'!A4274","v":0},{"$f":"'BX Language acquisition'!B4274","v":0},null,{"$f":"'BX Language acquisition'!C4274","v":0},{"$f":"'BX Language acquisition'!D4274","v":0}]
[{"$f":"'BX Language acquisition'!A4275","v":0},{"$f":"'BX Language acquisition'!B4275","v":0},null,{"$f":"'BX Language acquisition'!C4275","v":0},{"$f":"'BX Language acquisition'!D4275","v":0}]
[{"$f":"'BX Language acquisition'!A4276","v":0},{"$f":"'BX Language acquisition'!B4276","v":0},null,{"$f":"'BX Language acquisition'!C4276","v":0},{"$f":"'BX Language acquisition'!D4276","v":0}]
[{"$f":"'BX Language acquisition'!A4277","v":0},{"$f":"'BX Language acquisition'!B4277","v":0},null,{"$f":"'BX Language acquisition'!C4277","v":0},{"$f":"'BX Language acquisition'!D4277","v":0}]
[{"$f":"'BX Language acquisition'!A4278","v":0},{"$f":"'BX Language acquisition'!B4278","v":0},null,{"$f":"'BX Language acquisition'!C4278","v":0},{"$f":"'BX Language acquisition'!D4278","v":0}]
[{"$f":"'BX Language acquisition'!A4279","v":0},{"$f":"'BX Language acquisition'!B4279","v":0},null,{"$f":"'BX Language acquisition'!C4279","v":0},{"$f":"'BX Language acquisition'!D4279","v":0}]
[{"$f":"'BX Language acquisition'!A4280","v":0},{"$f":"'BX Language acquisition'!B4280","v":0},null,{"$f":"'BX Language acquisition'!C4280","v":0},{"$f":"'BX Language acquisition'!D4280","v":0}]
[{"$f":"'BX Language acquisition'!A4281","v":0},{"$f":"'BX Language acquisition'!B4281","v":0},null,{"$f":"'BX Language acquisition'!C4281","v":0},{"$f":"'BX Language acquisition'!D4281","v":0}]
[{"$f":"'BX Language acquisition'!A4282","v":0},{"$f":"'BX Language acquisition'!B4282","v":0},null,{"$f":"'BX Language acquisition'!C4282","v":0},{"$f":"'BX Language acquisition'!D4282","v":0}]
[{"$f":"'BX Language acquisition'!A4283","v":0},{"$f":"'BX Language acquisition'!B4283","v":0},null,{"$f":"'BX Language acquisition'!C4283","v":0},{"$f":"'BX Language acquisition'!D4283","v":0}]
[{"$f":"'BX Language acquisition'!A4284","v":0},{"$f":"'BX Language acquisition'!B4284","v":0},null,{"$f":"'BX Language acquisition'!C4284","v":0},{"$f":"'BX Language acquisition'!D4284","v":0}]
[{"$f":"'BX Language acquisition'!A4285","v":0},{"$f":"'BX Language acquisition'!B4285","v":0},null,{"$f":"'BX Language acquisition'!C4285","v":0},{"$f":"'BX Language acquisition'!D4285","v":0}]
[{"$f":"'BX Language acquisition'!A4286","v":0},{"$f":"'BX Language acquisition'!B4286","v":0},null,{"$f":"'BX Language acquisition'!C4286","v":0},{"$f":"'BX Language acquisition'!D4286","v":0}]
[{"$f":"'BX Language acquisition'!A4287","v":0},{"$f":"'BX Language acquisition'!B4287","v":0},null,{"$f":"'BX Language acquisition'!C4287","v":0},{"$f":"'BX Language acquisition'!D4287","v":0}]
[{"$f":"'BX Language acquisition'!A4288","v":0},{"$f":"'BX Language acquisition'!B4288","v":0},null,{"$f":"'BX Language acquisition'!C4288","v":0},{"$f":"'BX Language acquisition'!D4288","v":0}]
[{"$f":"'BX Language acquisition'!A4289","v":0},{"$f":"'BX Language acquisition'!B4289","v":0},null,{"$f":"'BX Language acquisition'!C4289","v":0},{"$f":"'BX Language acquisition'!D4289","v":0}]
[{"$f":"'BX Language acquisition'!A4290","v":0},{"$f":"'BX Language acquisition'!B4290","v":0},null,{"$f":"'BX Language acquisition'!C4290","v":0},{"$f":"'BX Language acquisition'!D4290","v":0}]
[{"$f":"'BX Language acquisition'!A4291","v":0},{"$f":"'BX Language acquisition'!B4291","v":0},null,{"$f":"'BX Language acquisition'!C4291","v":0},{"$f":"'BX Language acquisition'!D4291","v":0}]
[{"$f":"'BX Language acquisition'!A4292","v":0},{"$f":"'BX Language acquisition'!B4292","v":0},null,{"$f":"'BX Language acquisition'!C4292","v":0},{"$f":"'BX Language acquisition'!D4292","v":0}]
[{"$f":"'BX Language acquisition'!A4293","v":0},{"$f":"'BX Language acquisition'!B4293","v":0},null,{"$f":"'BX Language acquisition'!C4293","v":0},{"$f":"'BX Language acquisition'!D4293","v":0}]
[{"$f":"'BX Language acquisition'!A4294","v":0},{"$f":"'BX Language acquisition'!B4294","v":0},null,{"$f":"'BX Language acquisition'!C4294","v":0},{"$f":"'BX Language acquisition'!D4294","v":0}]
[{"$f":"'BX Language acquisition'!A4295","v":0},{"$f":"'BX Language acquisition'!B4295","v":0},null,{"$f":"'BX Language acquisition'!C4295","v":0},{"$f":"'BX Language acquisition'!D4295","v":0}]
[{"$f":"'BX Language acquisition'!A4296","v":0},{"$f":"'BX Language acquisition'!B4296","v":0},null,{"$f":"'BX Language acquisition'!C4296","v":0},{"$f":"'BX Language acquisition'!D4296","v":0}]
[{"$f":"'BX Language acquisition'!A4297","v":0},{"$f":"'BX Language acquisition'!B4297","v":0},null,{"$f":"'BX Language acquisition'!C4297","v":0},{"$f":"'BX Language acquisition'!D4297","v":0}]
[{"$f":"'BX Language acquisition'!A4298","v":0},{"$f":"'BX Language acquisition'!B4298","v":0},null,{"$f":"'BX Language acquisition'!C4298","v":0},{"$f":"'BX Language acquisition'!D4298","v":0}]
[{"$f":"'BX Language acquisition'!A4299","v":0},{"$f":"'BX Language acquisition'!B4299","v":0},null,{"$f":"'BX Language acquisition'!C4299","v":0},{"$f":"'BX Language acquisition'!D4299","v":0}]
[{"$f":"'BX Language acquisition'!A4300","v":0},{"$f":"'BX Language acquisition'!B4300","v":0},null,{"$f":"'BX Language acquisition'!C4300","v":0},{"$f":"'BX Language acquisition'!D4300","v":0}]
[{"$f":"'BX Language acquisition'!A4301","v":0},{"$f":"'BX Language acquisition'!B4301","v":0},null,{"$f":"'BX Language acquisition'!C4301","v":0},{"$f":"'BX Language acquisition'!D4301","v":0}]
[{"$f":"'BX Language acquisition'!A4302","v":0},{"$f":"'BX Language acquisition'!B4302","v":0},null,{"$f":"'BX Language acquisition'!C4302","v":0},{"$f":"'BX Language acquisition'!D4302","v":0}]
[{"$f":"'BX Language acquisition'!A4303","v":0},{"$f":"'BX Language acquisition'!B4303","v":0},null,{"$f":"'BX Language acquisition'!C4303","v":0},{"$f":"'BX Language acquisition'!D4303","v":0}]
[{"$f":"'BX Language acquisition'!A4304","v":0},{"$f":"'BX Language acquisition'!B4304","v":0},null,{"$f":"'BX Language acquisition'!C4304","v":0},{"$f":"'BX Language acquisition'!D4304","v":0}]
[{"$f":"'BX Language acquisition'!A4305","v":0},{"$f":"'BX Language acquisition'!B4305","v":0},null,{"$f":"'BX Language acquisition'!C4305","v":0},{"$f":"'BX Language acquisition'!D4305","v":0}]
[{"$f":"'BX Language acquisition'!A4306","v":0},{"$f":"'BX Language acquisition'!B4306","v":0},null,{"$f":"'BX Language acquisition'!C4306","v":0},{"$f":"'BX Language acquisition'!D4306","v":0}]
[{"$f":"'BX Language acquisition'!A4307","v":0},{"$f":"'BX Language acquisition'!B4307","v":0},null,{"$f":"'BX Language acquisition'!C4307","v":0},{"$f":"'BX Language acquisition'!D4307","v":0}]
[{"$f":"'BX Language acquisition'!A4308","v":0},{"$f":"'BX Language acquisition'!B4308","v":0},null,{"$f":"'BX Language acquisition'!C4308","v":0},{"$f":"'BX Language acquisition'!D4308","v":0}]
[{"$f":"'BX Language acquisition'!A4309","v":0},{"$f":"'BX Language acquisition'!B4309","v":0},null,{"$f":"'BX Language acquisition'!C4309","v":0},{"$f":"'BX Language acquisition'!D4309","v":0}]
[{"$f":"'BX Language acquisition'!A4310","v":0},{"$f":"'BX Language acquisition'!B4310","v":0},null,{"$f":"'BX Language acquisition'!C4310","v":0},{"$f":"'BX Language acquisition'!D4310","v":0}]
[{"$f":"'BX Language acquisition'!A4311","v":0},{"$f":"'BX Language acquisition'!B4311","v":0},null,{"$f":"'BX Language acquisition'!C4311","v":0},{"$f":"'BX Language acquisition'!D4311","v":0}]
[{"$f":"'BX Language acquisition'!A4312","v":0},{"$f":"'BX Language acquisition'!B4312","v":0},null,{"$f":"'BX Language acquisition'!C4312","v":0},{"$f":"'BX Language acquisition'!D4312","v":0}]
[{"$f":"'BX Language acquisition'!A4313","v":0},{"$f":"'BX Language acquisition'!B4313","v":0},null,{"$f":"'BX Language acquisition'!C4313","v":0},{"$f":"'BX Language acquisition'!D4313","v":0}]
[{"$f":"'BX Language acquisition'!A4314","v":0},{"$f":"'BX Language acquisition'!B4314","v":0},null,{"$f":"'BX Language acquisition'!C4314","v":0},{"$f":"'BX Language acquisition'!D4314","v":0}]
[{"$f":"'BX Language acquisition'!A4315","v":0},{"$f":"'BX Language acquisition'!B4315","v":0},null,{"$f":"'BX Language acquisition'!C4315","v":0},{"$f":"'BX Language acquisition'!D4315","v":0}]
[{"$f":"'BX Language acquisition'!A4316","v":0},{"$f":"'BX Language acquisition'!B4316","v":0},null,{"$f":"'BX Language acquisition'!C4316","v":0},{"$f":"'BX Language acquisition'!D4316","v":0}]
[{"$f":"'BX Language acquisition'!A4317","v":0},{"$f":"'BX Language acquisition'!B4317","v":0},null,{"$f":"'BX Language acquisition'!C4317","v":0},{"$f":"'BX Language acquisition'!D4317","v":0}]
[{"$f":"'BX Language acquisition'!A4318","v":0},{"$f":"'BX Language acquisition'!B4318","v":0},null,{"$f":"'BX Language acquisition'!C4318","v":0},{"$f":"'BX Language acquisition'!D4318","v":0}]
[{"$f":"'BX Language acquisition'!A4319","v":0},{"$f":"'BX Language acquisition'!B4319","v":0},null,{"$f":"'BX Language acquisition'!C4319","v":0},{"$f":"'BX Language acquisition'!D4319","v":0}]
[{"$f":"'BX Language acquisition'!A4320","v":0},{"$f":"'BX Language acquisition'!B4320","v":0},null,{"$f":"'BX Language acquisition'!C4320","v":0},{"$f":"'BX Language acquisition'!D4320","v":0}]
[{"$f":"'BX Language acquisition'!A4321","v":0},{"$f":"'BX Language acquisition'!B4321","v":0},null,{"$f":"'BX Language acquisition'!C4321","v":0},{"$f":"'BX Language acquisition'!D4321","v":0}]
[{"$f":"'BX Language acquisition'!A4322","v":0},{"$f":"'BX Language acquisition'!B4322","v":0},null,{"$f":"'BX Language acquisition'!C4322","v":0},{"$f":"'BX Language acquisition'!D4322","v":0}]
[{"$f":"'BX Language acquisition'!A4323","v":0},{"$f":"'BX Language acquisition'!B4323","v":0},null,{"$f":"'BX Language acquisition'!C4323","v":0},{"$f":"'BX Language acquisition'!D4323","v":0}]
[{"$f":"'BX Language acquisition'!A4324","v":0},{"$f":"'BX Language acquisition'!B4324","v":0},null,{"$f":"'BX Language acquisition'!C4324","v":0},{"$f":"'BX Language acquisition'!D4324","v":0}]
[{"$f":"'BX Language acquisition'!A4325","v":0},{"$f":"'BX Language acquisition'!B4325","v":0},null,{"$f":"'BX Language acquisition'!C4325","v":0},{"$f":"'BX Language acquisition'!D4325","v":0}]
[{"$f":"'BX Language acquisition'!A4326","v":0},{"$f":"'BX Language acquisition'!B4326","v":0},null,{"$f":"'BX Language acquisition'!C4326","v":0},{"$f":"'BX Language acquisition'!D4326","v":0}]
[{"$f":"'BX Language acquisition'!A4327","v":0},{"$f":"'BX Language acquisition'!B4327","v":0},null,{"$f":"'BX Language acquisition'!C4327","v":0},{"$f":"'BX Language acquisition'!D4327","v":0}]
[{"$f":"'BX Language acquisition'!A4328","v":0},{"$f":"'BX Language acquisition'!B4328","v":0},null,{"$f":"'BX Language acquisition'!C4328","v":0},{"$f":"'BX Language acquisition'!D4328","v":0}]
[{"$f":"'BX Language acquisition'!A4329","v":0},{"$f":"'BX Language acquisition'!B4329","v":0},null,{"$f":"'BX Language acquisition'!C4329","v":0},{"$f":"'BX Language acquisition'!D4329","v":0}]
[{"$f":"'BX Language acquisition'!A4330","v":0},{"$f":"'BX Language acquisition'!B4330","v":0},null,{"$f":"'BX Language acquisition'!C4330","v":0},{"$f":"'BX Language acquisition'!D4330","v":0}]
[{"$f":"'BX Language acquisition'!A4331","v":0},{"$f":"'BX Language acquisition'!B4331","v":0},null,{"$f":"'BX Language acquisition'!C4331","v":0},{"$f":"'BX Language acquisition'!D4331","v":0}]
[{"$f":"'BX Language acquisition'!A4332","v":0},{"$f":"'BX Language acquisition'!B4332","v":0},null,{"$f":"'BX Language acquisition'!C4332","v":0},{"$f":"'BX Language acquisition'!D4332","v":0}]
[{"$f":"'BX Language acquisition'!A4333","v":0},{"$f":"'BX Language acquisition'!B4333","v":0},null,{"$f":"'BX Language acquisition'!C4333","v":0},{"$f":"'BX Language acquisition'!D4333","v":0}]
[{"$f":"'BX Language acquisition'!A4334","v":0},{"$f":"'BX Language acquisition'!B4334","v":0},null,{"$f":"'BX Language acquisition'!C4334","v":0},{"$f":"'BX Language acquisition'!D4334","v":0}]
[{"$f":"'BX Language acquisition'!A4335","v":0},{"$f":"'BX Language acquisition'!B4335","v":0},null,{"$f":"'BX Language acquisition'!C4335","v":0},{"$f":"'BX Language acquisition'!D4335","v":0}]
[{"$f":"'BX Language acquisition'!A4336","v":0},{"$f":"'BX Language acquisition'!B4336","v":0},null,{"$f":"'BX Language acquisition'!C4336","v":0},{"$f":"'BX Language acquisition'!D4336","v":0}]
[{"$f":"'BX Language acquisition'!A4337","v":0},{"$f":"'BX Language acquisition'!B4337","v":0},null,{"$f":"'BX Language acquisition'!C4337","v":0},{"$f":"'BX Language acquisition'!D4337","v":0}]
[{"$f":"'BX Language acquisition'!A4338","v":0},{"$f":"'BX Language acquisition'!B4338","v":0},null,{"$f":"'BX Language acquisition'!C4338","v":0},{"$f":"'BX Language acquisition'!D4338","v":0}]
[{"$f":"'BX Language acquisition'!A4339","v":0},{"$f":"'BX Language acquisition'!B4339","v":0},null,{"$f":"'BX Language acquisition'!C4339","v":0},{"$f":"'BX Language acquisition'!D4339","v":0}]
[{"$f":"'BX Language acquisition'!A4340","v":0},{"$f":"'BX Language acquisition'!B4340","v":0},null,{"$f":"'BX Language acquisition'!C4340","v":0},{"$f":"'BX Language acquisition'!D4340","v":0}]
[{"$f":"'BX Language acquisition'!A4341","v":0},{"$f":"'BX Language acquisition'!B4341","v":0},null,{"$f":"'BX Language acquisition'!C4341","v":0},{"$f":"'BX Language acquisition'!D4341","v":0}]
[{"$f":"'BX Language acquisition'!A4342","v":0},{"$f":"'BX Language acquisition'!B4342","v":0},null,{"$f":"'BX Language acquisition'!C4342","v":0},{"$f":"'BX Language acquisition'!D4342","v":0}]
[{"$f":"'BX Language acquisition'!A4343","v":0},{"$f":"'BX Language acquisition'!B4343","v":0},null,{"$f":"'BX Language acquisition'!C4343","v":0},{"$f":"'BX Language acquisition'!D4343","v":0}]
[{"$f":"'BX Language acquisition'!A4344","v":0},{"$f":"'BX Language acquisition'!B4344","v":0},null,{"$f":"'BX Language acquisition'!C4344","v":0},{"$f":"'BX Language acquisition'!D4344","v":0}]
[{"$f":"'BX Language acquisition'!A4345","v":0},{"$f":"'BX Language acquisition'!B4345","v":0},null,{"$f":"'BX Language acquisition'!C4345","v":0},{"$f":"'BX Language acquisition'!D4345","v":0}]
[{"$f":"'BX Language acquisition'!A4346","v":0},{"$f":"'BX Language acquisition'!B4346","v":0},null,{"$f":"'BX Language acquisition'!C4346","v":0},{"$f":"'BX Language acquisition'!D4346","v":0}]
[{"$f":"'BX Language acquisition'!A4347","v":0},{"$f":"'BX Language acquisition'!B4347","v":0},null,{"$f":"'BX Language acquisition'!C4347","v":0},{"$f":"'BX Language acquisition'!D4347","v":0}]
[{"$f":"'BX Language acquisition'!A4348","v":0},{"$f":"'BX Language acquisition'!B4348","v":0},null,{"$f":"'BX Language acquisition'!C4348","v":0},{"$f":"'BX Language acquisition'!D4348","v":0}]
[{"$f":"'BX Language acquisition'!A4349","v":0},{"$f":"'BX Language acquisition'!B4349","v":0},null,{"$f":"'BX Language acquisition'!C4349","v":0},{"$f":"'BX Language acquisition'!D4349","v":0}]
[{"$f":"'BX Language acquisition'!A4350","v":0},{"$f":"'BX Language acquisition'!B4350","v":0},null,{"$f":"'BX Language acquisition'!C4350","v":0},{"$f":"'BX Language acquisition'!D4350","v":0}]
[{"$f":"'BX Language acquisition'!A4351","v":0},{"$f":"'BX Language acquisition'!B4351","v":0},null,{"$f":"'BX Language acquisition'!C4351","v":0},{"$f":"'BX Language acquisition'!D4351","v":0}]
[{"$f":"'BX Language acquisition'!A4352","v":0},{"$f":"'BX Language acquisition'!B4352","v":0},null,{"$f":"'BX Language acquisition'!C4352","v":0},{"$f":"'BX Language acquisition'!D4352","v":0}]
[{"$f":"'BX Language acquisition'!A4353","v":0},{"$f":"'BX Language acquisition'!B4353","v":0},null,{"$f":"'BX Language acquisition'!C4353","v":0},{"$f":"'BX Language acquisition'!D4353","v":0}]
[{"$f":"'BX Language acquisition'!A4354","v":0},{"$f":"'BX Language acquisition'!B4354","v":0},null,{"$f":"'BX Language acquisition'!C4354","v":0},{"$f":"'BX Language acquisition'!D4354","v":0}]
[{"$f":"'BX Language acquisition'!A4355","v":0},{"$f":"'BX Language acquisition'!B4355","v":0},null,{"$f":"'BX Language acquisition'!C4355","v":0},{"$f":"'BX Language acquisition'!D4355","v":0}]
[{"$f":"'BX Language acquisition'!A4356","v":0},{"$f":"'BX Language acquisition'!B4356","v":0},null,{"$f":"'BX Language acquisition'!C4356","v":0},{"$f":"'BX Language acquisition'!D4356","v":0}]
[{"$f":"'BX Language acquisition'!A4357","v":0},{"$f":"'BX Language acquisition'!B4357","v":0},null,{"$f":"'BX Language acquisition'!C4357","v":0},{"$f":"'BX Language acquisition'!D4357","v":0}]
[{"$f":"'BX Language acquisition'!A4358","v":0},{"$f":"'BX Language acquisition'!B4358","v":0},null,{"$f":"'BX Language acquisition'!C4358","v":0},{"$f":"'BX Language acquisition'!D4358","v":0}]
[{"$f":"'BX Language acquisition'!A4359","v":0},{"$f":"'BX Language acquisition'!B4359","v":0},null,{"$f":"'BX Language acquisition'!C4359","v":0},{"$f":"'BX Language acquisition'!D4359","v":0}]
[{"$f":"'BX Language acquisition'!A4360","v":0},{"$f":"'BX Language acquisition'!B4360","v":0},null,{"$f":"'BX Language acquisition'!C4360","v":0},{"$f":"'BX Language acquisition'!D4360","v":0}]
[{"$f":"'BX Language acquisition'!A4361","v":0},{"$f":"'BX Language acquisition'!B4361","v":0},null,{"$f":"'BX Language acquisition'!C4361","v":0},{"$f":"'BX Language acquisition'!D4361","v":0}]
[{"$f":"'BX Language acquisition'!A4362","v":0},{"$f":"'BX Language acquisition'!B4362","v":0},null,{"$f":"'BX Language acquisition'!C4362","v":0},{"$f":"'BX Language acquisition'!D4362","v":0}]
[{"$f":"'BX Language acquisition'!A4363","v":0},{"$f":"'BX Language acquisition'!B4363","v":0},null,{"$f":"'BX Language acquisition'!C4363","v":0},{"$f":"'BX Language acquisition'!D4363","v":0}]
[{"$f":"'BX Language acquisition'!A4364","v":0},{"$f":"'BX Language acquisition'!B4364","v":0},null,{"$f":"'BX Language acquisition'!C4364","v":0},{"$f":"'BX Language acquisition'!D4364","v":0}]
[{"$f":"'BX Language acquisition'!A4365","v":0},{"$f":"'BX Language acquisition'!B4365","v":0},null,{"$f":"'BX Language acquisition'!C4365","v":0},{"$f":"'BX Language acquisition'!D4365","v":0}]
[{"$f":"'BX Language acquisition'!A4366","v":0},{"$f":"'BX Language acquisition'!B4366","v":0},null,{"$f":"'BX Language acquisition'!C4366","v":0},{"$f":"'BX Language acquisition'!D4366","v":0}]
[{"$f":"'BX Language acquisition'!A4367","v":0},{"$f":"'BX Language acquisition'!B4367","v":0},null,{"$f":"'BX Language acquisition'!C4367","v":0},{"$f":"'BX Language acquisition'!D4367","v":0}]
[{"$f":"'BX Language acquisition'!A4368","v":0},{"$f":"'BX Language acquisition'!B4368","v":0},null,{"$f":"'BX Language acquisition'!C4368","v":0},{"$f":"'BX Language acquisition'!D4368","v":0}]
[{"$f":"'BX Language acquisition'!A4369","v":0},{"$f":"'BX Language acquisition'!B4369","v":0},null,{"$f":"'BX Language acquisition'!C4369","v":0},{"$f":"'BX Language acquisition'!D4369","v":0}]
[{"$f":"'BX Language acquisition'!A4370","v":0},{"$f":"'BX Language acquisition'!B4370","v":0},null,{"$f":"'BX Language acquisition'!C4370","v":0},{"$f":"'BX Language acquisition'!D4370","v":0}]
[{"$f":"'BX Language acquisition'!A4371","v":0},{"$f":"'BX Language acquisition'!B4371","v":0},null,{"$f":"'BX Language acquisition'!C4371","v":0},{"$f":"'BX Language acquisition'!D4371","v":0}]
[{"$f":"'BX Language acquisition'!A4372","v":0},{"$f":"'BX Language acquisition'!B4372","v":0},null,{"$f":"'BX Language acquisition'!C4372","v":0},{"$f":"'BX Language acquisition'!D4372","v":0}]
[{"$f":"'BX Language acquisition'!A4373","v":0},{"$f":"'BX Language acquisition'!B4373","v":0},null,{"$f":"'BX Language acquisition'!C4373","v":0},{"$f":"'BX Language acquisition'!D4373","v":0}]
[{"$f":"'BX Language acquisition'!A4374","v":0},{"$f":"'BX Language acquisition'!B4374","v":0},null,{"$f":"'BX Language acquisition'!C4374","v":0},{"$f":"'BX Language acquisition'!D4374","v":0}]
[{"$f":"'BX Language acquisition'!A4375","v":0},{"$f":"'BX Language acquisition'!B4375","v":0},null,{"$f":"'BX Language acquisition'!C4375","v":0},{"$f":"'BX Language acquisition'!D4375","v":0}]
[{"$f":"'BX Language acquisition'!A4376","v":0},{"$f":"'BX Language acquisition'!B4376","v":0},null,{"$f":"'BX Language acquisition'!C4376","v":0},{"$f":"'BX Language acquisition'!D4376","v":0}]
[{"$f":"'BX Language acquisition'!A4377","v":0},{"$f":"'BX Language acquisition'!B4377","v":0},null,{"$f":"'BX Language acquisition'!C4377","v":0},{"$f":"'BX Language acquisition'!D4377","v":0}]
[{"$f":"'BX Language acquisition'!A4378","v":0},{"$f":"'BX Language acquisition'!B4378","v":0},null,{"$f":"'BX Language acquisition'!C4378","v":0},{"$f":"'BX Language acquisition'!D4378","v":0}]
[{"$f":"'BX Language acquisition'!A4379","v":0},{"$f":"'BX Language acquisition'!B4379","v":0},null,{"$f":"'BX Language acquisition'!C4379","v":0},{"$f":"'BX Language acquisition'!D4379","v":0}]
[{"$f":"'BX Language acquisition'!A4380","v":0},{"$f":"'BX Language acquisition'!B4380","v":0},null,{"$f":"'BX Language acquisition'!C4380","v":0},{"$f":"'BX Language acquisition'!D4380","v":0}]
[{"$f":"'BX Language acquisition'!A4381","v":0},{"$f":"'BX Language acquisition'!B4381","v":0},null,{"$f":"'BX Language acquisition'!C4381","v":0},{"$f":"'BX Language acquisition'!D4381","v":0}]
[{"$f":"'BX Language acquisition'!A4382","v":0},{"$f":"'BX Language acquisition'!B4382","v":0},null,{"$f":"'BX Language acquisition'!C4382","v":0},{"$f":"'BX Language acquisition'!D4382","v":0}]
[{"$f":"'BX Language acquisition'!A4383","v":0},{"$f":"'BX Language acquisition'!B4383","v":0},null,{"$f":"'BX Language acquisition'!C4383","v":0},{"$f":"'BX Language acquisition'!D4383","v":0}]
[{"$f":"'BX Language acquisition'!A4384","v":0},{"$f":"'BX Language acquisition'!B4384","v":0},null,{"$f":"'BX Language acquisition'!C4384","v":0},{"$f":"'BX Language acquisition'!D4384","v":0}]
[{"$f":"'BX Language acquisition'!A4385","v":0},{"$f":"'BX Language acquisition'!B4385","v":0},null,{"$f":"'BX Language acquisition'!C4385","v":0},{"$f":"'BX Language acquisition'!D4385","v":0}]
[{"$f":"'BX Language acquisition'!A4386","v":0},{"$f":"'BX Language acquisition'!B4386","v":0},null,{"$f":"'BX Language acquisition'!C4386","v":0},{"$f":"'BX Language acquisition'!D4386","v":0}]
[{"$f":"'BX Language acquisition'!A4387","v":0},{"$f":"'BX Language acquisition'!B4387","v":0},null,{"$f":"'BX Language acquisition'!C4387","v":0},{"$f":"'BX Language acquisition'!D4387","v":0}]
[{"$f":"'BX Language acquisition'!A4388","v":0},{"$f":"'BX Language acquisition'!B4388","v":0},null,{"$f":"'BX Language acquisition'!C4388","v":0},{"$f":"'BX Language acquisition'!D4388","v":0}]
[{"$f":"'BX Language acquisition'!A4389","v":0},{"$f":"'BX Language acquisition'!B4389","v":0},null,{"$f":"'BX Language acquisition'!C4389","v":0},{"$f":"'BX Language acquisition'!D4389","v":0}]
[{"$f":"'BX Language acquisition'!A4390","v":0},{"$f":"'BX Language acquisition'!B4390","v":0},null,{"$f":"'BX Language acquisition'!C4390","v":0},{"$f":"'BX Language acquisition'!D4390","v":0}]
[{"$f":"'BX Language acquisition'!A4391","v":0},{"$f":"'BX Language acquisition'!B4391","v":0},null,{"$f":"'BX Language acquisition'!C4391","v":0},{"$f":"'BX Language acquisition'!D4391","v":0}]
[{"$f":"'BX Language acquisition'!A4392","v":0},{"$f":"'BX Language acquisition'!B4392","v":0},null,{"$f":"'BX Language acquisition'!C4392","v":0},{"$f":"'BX Language acquisition'!D4392","v":0}]
[{"$f":"'BX Language acquisition'!A4393","v":0},{"$f":"'BX Language acquisition'!B4393","v":0},null,{"$f":"'BX Language acquisition'!C4393","v":0},{"$f":"'BX Language acquisition'!D4393","v":0}]
[{"$f":"'BX Language acquisition'!A4394","v":0},{"$f":"'BX Language acquisition'!B4394","v":0},null,{"$f":"'BX Language acquisition'!C4394","v":0},{"$f":"'BX Language acquisition'!D4394","v":0}]
[{"$f":"'BX Language acquisition'!A4395","v":0},{"$f":"'BX Language acquisition'!B4395","v":0},null,{"$f":"'BX Language acquisition'!C4395","v":0},{"$f":"'BX Language acquisition'!D4395","v":0}]
[{"$f":"'BX Language acquisition'!A4396","v":0},{"$f":"'BX Language acquisition'!B4396","v":0},null,{"$f":"'BX Language acquisition'!C4396","v":0},{"$f":"'BX Language acquisition'!D4396","v":0}]
[{"$f":"'BX Language acquisition'!A4397","v":0},{"$f":"'BX Language acquisition'!B4397","v":0},null,{"$f":"'BX Language acquisition'!C4397","v":0},{"$f":"'BX Language acquisition'!D4397","v":0}]
[{"$f":"'BX Language acquisition'!A4398","v":0},{"$f":"'BX Language acquisition'!B4398","v":0},null,{"$f":"'BX Language acquisition'!C4398","v":0},{"$f":"'BX Language acquisition'!D4398","v":0}]
[{"$f":"'BX Language acquisition'!A4399","v":0},{"$f":"'BX Language acquisition'!B4399","v":0},null,{"$f":"'BX Language acquisition'!C4399","v":0},{"$f":"'BX Language acquisition'!D4399","v":0}]
[{"$f":"'BX Language acquisition'!A4400","v":0},{"$f":"'BX Language acquisition'!B4400","v":0},null,{"$f":"'BX Language acquisition'!C4400","v":0},{"$f":"'BX Language acquisition'!D4400","v":0}]
[{"$f":"'BX Language acquisition'!A4401","v":0},{"$f":"'BX Language acquisition'!B4401","v":0},null,{"$f":"'BX Language acquisition'!C4401","v":0},{"$f":"'BX Language acquisition'!D4401","v":0}]
[{"$f":"'BX Language acquisition'!A4402","v":0},{"$f":"'BX Language acquisition'!B4402","v":0},null,{"$f":"'BX Language acquisition'!C4402","v":0},{"$f":"'BX Language acquisition'!D4402","v":0}]
[{"$f":"'BX Language acquisition'!A4403","v":0},{"$f":"'BX Language acquisition'!B4403","v":0},null,{"$f":"'BX Language acquisition'!C4403","v":0},{"$f":"'BX Language acquisition'!D4403","v":0}]
[{"$f":"'BX Language acquisition'!A4404","v":0},{"$f":"'BX Language acquisition'!B4404","v":0},null,{"$f":"'BX Language acquisition'!C4404","v":0},{"$f":"'BX Language acquisition'!D4404","v":0}]
[{"$f":"'BX Language acquisition'!A4405","v":0},{"$f":"'BX Language acquisition'!B4405","v":0},null,{"$f":"'BX Language acquisition'!C4405","v":0},{"$f":"'BX Language acquisition'!D4405","v":0}]
[{"$f":"'BX Language acquisition'!A4406","v":0},{"$f":"'BX Language acquisition'!B4406","v":0},null,{"$f":"'BX Language acquisition'!C4406","v":0},{"$f":"'BX Language acquisition'!D4406","v":0}]
[{"$f":"'BX Language acquisition'!A4407","v":0},{"$f":"'BX Language acquisition'!B4407","v":0},null,{"$f":"'BX Language acquisition'!C4407","v":0},{"$f":"'BX Language acquisition'!D4407","v":0}]
[{"$f":"'BX Language acquisition'!A4408","v":0},{"$f":"'BX Language acquisition'!B4408","v":0},null,{"$f":"'BX Language acquisition'!C4408","v":0},{"$f":"'BX Language acquisition'!D4408","v":0}]
[{"$f":"'BX Language acquisition'!A4409","v":0},{"$f":"'BX Language acquisition'!B4409","v":0},null,{"$f":"'BX Language acquisition'!C4409","v":0},{"$f":"'BX Language acquisition'!D4409","v":0}]
[{"$f":"'BX Language acquisition'!A4410","v":0},{"$f":"'BX Language acquisition'!B4410","v":0},null,{"$f":"'BX Language acquisition'!C4410","v":0},{"$f":"'BX Language acquisition'!D4410","v":0}]
[{"$f":"'BX Language acquisition'!A4411","v":0},{"$f":"'BX Language acquisition'!B4411","v":0},null,{"$f":"'BX Language acquisition'!C4411","v":0},{"$f":"'BX Language acquisition'!D4411","v":0}]
[{"$f":"'BX Language acquisition'!A4412","v":0},{"$f":"'BX Language acquisition'!B4412","v":0},null,{"$f":"'BX Language acquisition'!C4412","v":0},{"$f":"'BX Language acquisition'!D4412","v":0}]
[{"$f":"'BX Language acquisition'!A4413","v":0},{"$f":"'BX Language acquisition'!B4413","v":0},null,{"$f":"'BX Language acquisition'!C4413","v":0},{"$f":"'BX Language acquisition'!D4413","v":0}]
[{"$f":"'BX Language acquisition'!A4414","v":0},{"$f":"'BX Language acquisition'!B4414","v":0},null,{"$f":"'BX Language acquisition'!C4414","v":0},{"$f":"'BX Language acquisition'!D4414","v":0}]
[{"$f":"'BX Language acquisition'!A4415","v":0},{"$f":"'BX Language acquisition'!B4415","v":0},null,{"$f":"'BX Language acquisition'!C4415","v":0},{"$f":"'BX Language acquisition'!D4415","v":0}]
[{"$f":"'BX Language acquisition'!A4416","v":0},{"$f":"'BX Language acquisition'!B4416","v":0},null,{"$f":"'BX Language acquisition'!C4416","v":0},{"$f":"'BX Language acquisition'!D4416","v":0}]
[{"$f":"'BX Language acquisition'!A4417","v":0},{"$f":"'BX Language acquisition'!B4417","v":0},null,{"$f":"'BX Language acquisition'!C4417","v":0},{"$f":"'BX Language acquisition'!D4417","v":0}]
[{"$f":"'BX Language acquisition'!A4418","v":0},{"$f":"'BX Language acquisition'!B4418","v":0},null,{"$f":"'BX Language acquisition'!C4418","v":0},{"$f":"'BX Language acquisition'!D4418","v":0}]
[{"$f":"'BX Language acquisition'!A4419","v":0},{"$f":"'BX Language acquisition'!B4419","v":0},null,{"$f":"'BX Language acquisition'!C4419","v":0},{"$f":"'BX Language acquisition'!D4419","v":0}]
[{"$f":"'BX Language acquisition'!A4420","v":0},{"$f":"'BX Language acquisition'!B4420","v":0},null,{"$f":"'BX Language acquisition'!C4420","v":0},{"$f":"'BX Language acquisition'!D4420","v":0}]
[{"$f":"'BX Language acquisition'!A4421","v":0},{"$f":"'BX Language acquisition'!B4421","v":0},null,{"$f":"'BX Language acquisition'!C4421","v":0},{"$f":"'BX Language acquisition'!D4421","v":0}]
[{"$f":"'BX Language acquisition'!A4422","v":0},{"$f":"'BX Language acquisition'!B4422","v":0},null,{"$f":"'BX Language acquisition'!C4422","v":0},{"$f":"'BX Language acquisition'!D4422","v":0}]
[{"$f":"'BX Language acquisition'!A4423","v":0},{"$f":"'BX Language acquisition'!B4423","v":0},null,{"$f":"'BX Language acquisition'!C4423","v":0},{"$f":"'BX Language acquisition'!D4423","v":0}]
[{"$f":"'BX Language acquisition'!A4424","v":0},{"$f":"'BX Language acquisition'!B4424","v":0},null,{"$f":"'BX Language acquisition'!C4424","v":0},{"$f":"'BX Language acquisition'!D4424","v":0}]
[{"$f":"'BX Language acquisition'!A4425","v":0},{"$f":"'BX Language acquisition'!B4425","v":0},null,{"$f":"'BX Language acquisition'!C4425","v":0},{"$f":"'BX Language acquisition'!D4425","v":0}]
[{"$f":"'BX Language acquisition'!A4426","v":0},{"$f":"'BX Language acquisition'!B4426","v":0},null,{"$f":"'BX Language acquisition'!C4426","v":0},{"$f":"'BX Language acquisition'!D4426","v":0}]
[{"$f":"'BX Language acquisition'!A4427","v":0},{"$f":"'BX Language acquisition'!B4427","v":0},null,{"$f":"'BX Language acquisition'!C4427","v":0},{"$f":"'BX Language acquisition'!D4427","v":0}]
[{"$f":"'BX Language acquisition'!A4428","v":0},{"$f":"'BX Language acquisition'!B4428","v":0},null,{"$f":"'BX Language acquisition'!C4428","v":0},{"$f":"'BX Language acquisition'!D4428","v":0}]
[{"$f":"'BX Language acquisition'!A4429","v":0},{"$f":"'BX Language acquisition'!B4429","v":0},null,{"$f":"'BX Language acquisition'!C4429","v":0},{"$f":"'BX Language acquisition'!D4429","v":0}]
[{"$f":"'BX Language acquisition'!A4430","v":0},{"$f":"'BX Language acquisition'!B4430","v":0},null,{"$f":"'BX Language acquisition'!C4430","v":0},{"$f":"'BX Language acquisition'!D4430","v":0}]
[{"$f":"'BX Language acquisition'!A4431","v":0},{"$f":"'BX Language acquisition'!B4431","v":0},null,{"$f":"'BX Language acquisition'!C4431","v":0},{"$f":"'BX Language acquisition'!D4431","v":0}]
[{"$f":"'BX Language acquisition'!A4432","v":0},{"$f":"'BX Language acquisition'!B4432","v":0},null,{"$f":"'BX Language acquisition'!C4432","v":0},{"$f":"'BX Language acquisition'!D4432","v":0}]
[{"$f":"'BX Language acquisition'!A4433","v":0},{"$f":"'BX Language acquisition'!B4433","v":0},null,{"$f":"'BX Language acquisition'!C4433","v":0},{"$f":"'BX Language acquisition'!D4433","v":0}]
[{"$f":"'BX Language acquisition'!A4434","v":0},{"$f":"'BX Language acquisition'!B4434","v":0},null,{"$f":"'BX Language acquisition'!C4434","v":0},{"$f":"'BX Language acquisition'!D4434","v":0}]
[{"$f":"'BX Language acquisition'!A4435","v":0},{"$f":"'BX Language acquisition'!B4435","v":0},null,{"$f":"'BX Language acquisition'!C4435","v":0},{"$f":"'BX Language acquisition'!D4435","v":0}]
[{"$f":"'BX Language acquisition'!A4436","v":0},{"$f":"'BX Language acquisition'!B4436","v":0},null,{"$f":"'BX Language acquisition'!C4436","v":0},{"$f":"'BX Language acquisition'!D4436","v":0}]
[{"$f":"'BX Language acquisition'!A4437","v":0},{"$f":"'BX Language acquisition'!B4437","v":0},null,{"$f":"'BX Language acquisition'!C4437","v":0},{"$f":"'BX Language acquisition'!D4437","v":0}]
[{"$f":"'BX Language acquisition'!A4438","v":0},{"$f":"'BX Language acquisition'!B4438","v":0},null,{"$f":"'BX Language acquisition'!C4438","v":0},{"$f":"'BX Language acquisition'!D4438","v":0}]
[{"$f":"'BX Language acquisition'!A4439","v":0},{"$f":"'BX Language acquisition'!B4439","v":0},null,{"$f":"'BX Language acquisition'!C4439","v":0},{"$f":"'BX Language acquisition'!D4439","v":0}]
[{"$f":"'BX Language acquisition'!A4440","v":0},{"$f":"'BX Language acquisition'!B4440","v":0},null,{"$f":"'BX Language acquisition'!C4440","v":0},{"$f":"'BX Language acquisition'!D4440","v":0}]
[{"$f":"'BX Language acquisition'!A4441","v":0},{"$f":"'BX Language acquisition'!B4441","v":0},null,{"$f":"'BX Language acquisition'!C4441","v":0},{"$f":"'BX Language acquisition'!D4441","v":0}]
[{"$f":"'BX Language acquisition'!A4442","v":0},{"$f":"'BX Language acquisition'!B4442","v":0},null,{"$f":"'BX Language acquisition'!C4442","v":0},{"$f":"'BX Language acquisition'!D4442","v":0}]
[{"$f":"'BX Language acquisition'!A4443","v":0},{"$f":"'BX Language acquisition'!B4443","v":0},null,{"$f":"'BX Language acquisition'!C4443","v":0},{"$f":"'BX Language acquisition'!D4443","v":0}]
[{"$f":"'BX Language acquisition'!A4444","v":0},{"$f":"'BX Language acquisition'!B4444","v":0},null,{"$f":"'BX Language acquisition'!C4444","v":0},{"$f":"'BX Language acquisition'!D4444","v":0}]
[{"$f":"'BX Language acquisition'!A4445","v":0},{"$f":"'BX Language acquisition'!B4445","v":0},null,{"$f":"'BX Language acquisition'!C4445","v":0},{"$f":"'BX Language acquisition'!D4445","v":0}]
[{"$f":"'BX Language acquisition'!A4446","v":0},{"$f":"'BX Language acquisition'!B4446","v":0},null,{"$f":"'BX Language acquisition'!C4446","v":0},{"$f":"'BX Language acquisition'!D4446","v":0}]
[{"$f":"'BX Language acquisition'!A4447","v":0},{"$f":"'BX Language acquisition'!B4447","v":0},null,{"$f":"'BX Language acquisition'!C4447","v":0},{"$f":"'BX Language acquisition'!D4447","v":0}]
[{"$f":"'BX Language acquisition'!A4448","v":0},{"$f":"'BX Language acquisition'!B4448","v":0},null,{"$f":"'BX Language acquisition'!C4448","v":0},{"$f":"'BX Language acquisition'!D4448","v":0}]
[{"$f":"'BX Language acquisition'!A4449","v":0},{"$f":"'BX Language acquisition'!B4449","v":0},null,{"$f":"'BX Language acquisition'!C4449","v":0},{"$f":"'BX Language acquisition'!D4449","v":0}]
[{"$f":"'BX Language acquisition'!A4450","v":0},{"$f":"'BX Language acquisition'!B4450","v":0},null,{"$f":"'BX Language acquisition'!C4450","v":0},{"$f":"'BX Language acquisition'!D4450","v":0}]
[{"$f":"'BX Language acquisition'!A4451","v":0},{"$f":"'BX Language acquisition'!B4451","v":0},null,{"$f":"'BX Language acquisition'!C4451","v":0},{"$f":"'BX Language acquisition'!D4451","v":0}]
[{"$f":"'BX Language acquisition'!A4452","v":0},{"$f":"'BX Language acquisition'!B4452","v":0},null,{"$f":"'BX Language acquisition'!C4452","v":0},{"$f":"'BX Language acquisition'!D4452","v":0}]
[{"$f":"'BX Language acquisition'!A4453","v":0},{"$f":"'BX Language acquisition'!B4453","v":0},null,{"$f":"'BX Language acquisition'!C4453","v":0},{"$f":"'BX Language acquisition'!D4453","v":0}]
[{"$f":"'BX Language acquisition'!A4454","v":0},{"$f":"'BX Language acquisition'!B4454","v":0},null,{"$f":"'BX Language acquisition'!C4454","v":0},{"$f":"'BX Language acquisition'!D4454","v":0}]
[{"$f":"'BX Language acquisition'!A4455","v":0},{"$f":"'BX Language acquisition'!B4455","v":0},null,{"$f":"'BX Language acquisition'!C4455","v":0},{"$f":"'BX Language acquisition'!D4455","v":0}]
[{"$f":"'BX Language acquisition'!A4456","v":0},{"$f":"'BX Language acquisition'!B4456","v":0},null,{"$f":"'BX Language acquisition'!C4456","v":0},{"$f":"'BX Language acquisition'!D4456","v":0}]
[{"$f":"'BX Language acquisition'!A4457","v":0},{"$f":"'BX Language acquisition'!B4457","v":0},null,{"$f":"'BX Language acquisition'!C4457","v":0},{"$f":"'BX Language acquisition'!D4457","v":0}]
[{"$f":"'BX Language acquisition'!A4458","v":0},{"$f":"'BX Language acquisition'!B4458","v":0},null,{"$f":"'BX Language acquisition'!C4458","v":0},{"$f":"'BX Language acquisition'!D4458","v":0}]
[{"$f":"'BX Language acquisition'!A4459","v":0},{"$f":"'BX Language acquisition'!B4459","v":0},null,{"$f":"'BX Language acquisition'!C4459","v":0},{"$f":"'BX Language acquisition'!D4459","v":0}]
[{"$f":"'BX Language acquisition'!A4460","v":0},{"$f":"'BX Language acquisition'!B4460","v":0},null,{"$f":"'BX Language acquisition'!C4460","v":0},{"$f":"'BX Language acquisition'!D4460","v":0}]
[{"$f":"'BX Language acquisition'!A4461","v":0},{"$f":"'BX Language acquisition'!B4461","v":0},null,{"$f":"'BX Language acquisition'!C4461","v":0},{"$f":"'BX Language acquisition'!D4461","v":0}]
[{"$f":"'BX Language acquisition'!A4462","v":0},{"$f":"'BX Language acquisition'!B4462","v":0},null,{"$f":"'BX Language acquisition'!C4462","v":0},{"$f":"'BX Language acquisition'!D4462","v":0}]
[{"$f":"'BX Language acquisition'!A4463","v":0},{"$f":"'BX Language acquisition'!B4463","v":0},null,{"$f":"'BX Language acquisition'!C4463","v":0},{"$f":"'BX Language acquisition'!D4463","v":0}]
[{"$f":"'BX Language acquisition'!A4464","v":0},{"$f":"'BX Language acquisition'!B4464","v":0},null,{"$f":"'BX Language acquisition'!C4464","v":0},{"$f":"'BX Language acquisition'!D4464","v":0}]
[{"$f":"'BX Language acquisition'!A4465","v":0},{"$f":"'BX Language acquisition'!B4465","v":0},null,{"$f":"'BX Language acquisition'!C4465","v":0},{"$f":"'BX Language acquisition'!D4465","v":0}]
[{"$f":"'BX Language acquisition'!A4466","v":0},{"$f":"'BX Language acquisition'!B4466","v":0},null,{"$f":"'BX Language acquisition'!C4466","v":0},{"$f":"'BX Language acquisition'!D4466","v":0}]
[{"$f":"'BX Language acquisition'!A4467","v":0},{"$f":"'BX Language acquisition'!B4467","v":0},null,{"$f":"'BX Language acquisition'!C4467","v":0},{"$f":"'BX Language acquisition'!D4467","v":0}]
[{"$f":"'BX Language acquisition'!A4468","v":0},{"$f":"'BX Language acquisition'!B4468","v":0},null,{"$f":"'BX Language acquisition'!C4468","v":0},{"$f":"'BX Language acquisition'!D4468","v":0}]
[{"$f":"'BX Language acquisition'!A4469","v":0},{"$f":"'BX Language acquisition'!B4469","v":0},null,{"$f":"'BX Language acquisition'!C4469","v":0},{"$f":"'BX Language acquisition'!D4469","v":0}]
[{"$f":"'BX Language acquisition'!A4470","v":0},{"$f":"'BX Language acquisition'!B4470","v":0},null,{"$f":"'BX Language acquisition'!C4470","v":0},{"$f":"'BX Language acquisition'!D4470","v":0}]
[{"$f":"'BX Language acquisition'!A4471","v":0},{"$f":"'BX Language acquisition'!B4471","v":0},null,{"$f":"'BX Language acquisition'!C4471","v":0},{"$f":"'BX Language acquisition'!D4471","v":0}]
[{"$f":"'BX Language acquisition'!A4472","v":0},{"$f":"'BX Language acquisition'!B4472","v":0},null,{"$f":"'BX Language acquisition'!C4472","v":0},{"$f":"'BX Language acquisition'!D4472","v":0}]
[{"$f":"'BX Language acquisition'!A4473","v":0},{"$f":"'BX Language acquisition'!B4473","v":0},null,{"$f":"'BX Language acquisition'!C4473","v":0},{"$f":"'BX Language acquisition'!D4473","v":0}]
[{"$f":"'BX Language acquisition'!A4474","v":0},{"$f":"'BX Language acquisition'!B4474","v":0},null,{"$f":"'BX Language acquisition'!C4474","v":0},{"$f":"'BX Language acquisition'!D4474","v":0}]
[{"$f":"'BX Language acquisition'!A4475","v":0},{"$f":"'BX Language acquisition'!B4475","v":0},null,{"$f":"'BX Language acquisition'!C4475","v":0},{"$f":"'BX Language acquisition'!D4475","v":0}]
[{"$f":"'BX Language acquisition'!A4476","v":0},{"$f":"'BX Language acquisition'!B4476","v":0},null,{"$f":"'BX Language acquisition'!C4476","v":0},{"$f":"'BX Language acquisition'!D4476","v":0}]
[{"$f":"'BX Language acquisition'!A4477","v":0},{"$f":"'BX Language acquisition'!B4477","v":0},null,{"$f":"'BX Language acquisition'!C4477","v":0},{"$f":"'BX Language acquisition'!D4477","v":0}]
[{"$f":"'BX Language acquisition'!A4478","v":0},{"$f":"'BX Language acquisition'!B4478","v":0},null,{"$f":"'BX Language acquisition'!C4478","v":0},{"$f":"'BX Language acquisition'!D4478","v":0}]
[{"$f":"'BX Language acquisition'!A4479","v":0},{"$f":"'BX Language acquisition'!B4479","v":0},null,{"$f":"'BX Language acquisition'!C4479","v":0},{"$f":"'BX Language acquisition'!D4479","v":0}]
[{"$f":"'BX Language acquisition'!A4480","v":0},{"$f":"'BX Language acquisition'!B4480","v":0},null,{"$f":"'BX Language acquisition'!C4480","v":0},{"$f":"'BX Language acquisition'!D4480","v":0}]
[{"$f":"'BX Language acquisition'!A4481","v":0},{"$f":"'BX Language acquisition'!B4481","v":0},null,{"$f":"'BX Language acquisition'!C4481","v":0},{"$f":"'BX Language acquisition'!D4481","v":0}]
[{"$f":"'BX Language acquisition'!A4482","v":0},{"$f":"'BX Language acquisition'!B4482","v":0},null,{"$f":"'BX Language acquisition'!C4482","v":0},{"$f":"'BX Language acquisition'!D4482","v":0}]
[{"$f":"'BX Language acquisition'!A4483","v":0},{"$f":"'BX Language acquisition'!B4483","v":0},null,{"$f":"'BX Language acquisition'!C4483","v":0},{"$f":"'BX Language acquisition'!D4483","v":0}]
[{"$f":"'BX Language acquisition'!A4484","v":0},{"$f":"'BX Language acquisition'!B4484","v":0},null,{"$f":"'BX Language acquisition'!C4484","v":0},{"$f":"'BX Language acquisition'!D4484","v":0}]
[{"$f":"'BX Language acquisition'!A4485","v":0},{"$f":"'BX Language acquisition'!B4485","v":0},null,{"$f":"'BX Language acquisition'!C4485","v":0},{"$f":"'BX Language acquisition'!D4485","v":0}]
[{"$f":"'BX Language acquisition'!A4486","v":0},{"$f":"'BX Language acquisition'!B4486","v":0},null,{"$f":"'BX Language acquisition'!C4486","v":0},{"$f":"'BX Language acquisition'!D4486","v":0}]
[{"$f":"'BX Language acquisition'!A4487","v":0},{"$f":"'BX Language acquisition'!B4487","v":0},null,{"$f":"'BX Language acquisition'!C4487","v":0},{"$f":"'BX Language acquisition'!D4487","v":0}]
[{"$f":"'BX Language acquisition'!A4488","v":0},{"$f":"'BX Language acquisition'!B4488","v":0},null,{"$f":"'BX Language acquisition'!C4488","v":0},{"$f":"'BX Language acquisition'!D4488","v":0}]
[{"$f":"'BX Language acquisition'!A4489","v":0},{"$f":"'BX Language acquisition'!B4489","v":0},null,{"$f":"'BX Language acquisition'!C4489","v":0},{"$f":"'BX Language acquisition'!D4489","v":0}]
[{"$f":"'BX Language acquisition'!A4490","v":0},{"$f":"'BX Language acquisition'!B4490","v":0},null,{"$f":"'BX Language acquisition'!C4490","v":0},{"$f":"'BX Language acquisition'!D4490","v":0}]
[{"$f":"'BX Language acquisition'!A4491","v":0},{"$f":"'BX Language acquisition'!B4491","v":0},null,{"$f":"'BX Language acquisition'!C4491","v":0},{"$f":"'BX Language acquisition'!D4491","v":0}]
[{"$f":"'BX Language acquisition'!A4492","v":0},{"$f":"'BX Language acquisition'!B4492","v":0},null,{"$f":"'BX Language acquisition'!C4492","v":0},{"$f":"'BX Language acquisition'!D4492","v":0}]
[{"$f":"'BX Language acquisition'!A4493","v":0},{"$f":"'BX Language acquisition'!B4493","v":0},null,{"$f":"'BX Language acquisition'!C4493","v":0},{"$f":"'BX Language acquisition'!D4493","v":0}]
[{"$f":"'BX Language acquisition'!A4494","v":0},{"$f":"'BX Language acquisition'!B4494","v":0},null,{"$f":"'BX Language acquisition'!C4494","v":0},{"$f":"'BX Language acquisition'!D4494","v":0}]
[{"$f":"'BX Language acquisition'!A4495","v":0},{"$f":"'BX Language acquisition'!B4495","v":0},null,{"$f":"'BX Language acquisition'!C4495","v":0},{"$f":"'BX Language acquisition'!D4495","v":0}]
[{"$f":"'BX Language acquisition'!A4496","v":0},{"$f":"'BX Language acquisition'!B4496","v":0},null,{"$f":"'BX Language acquisition'!C4496","v":0},{"$f":"'BX Language acquisition'!D4496","v":0}]
[{"$f":"'BX Language acquisition'!A4497","v":0},{"$f":"'BX Language acquisition'!B4497","v":0},null,{"$f":"'BX Language acquisition'!C4497","v":0},{"$f":"'BX Language acquisition'!D4497","v":0}]
[{"$f":"'BX Language acquisition'!A4498","v":0},{"$f":"'BX Language acquisition'!B4498","v":0},null,{"$f":"'BX Language acquisition'!C4498","v":0},{"$f":"'BX Language acquisition'!D4498","v":0}]
[{"$f":"'BX Language acquisition'!A4499","v":0},{"$f":"'BX Language acquisition'!B4499","v":0},null,{"$f":"'BX Language acquisition'!C4499","v":0},{"$f":"'BX Language acquisition'!D4499","v":0}]
[{"$f":"'BX Language acquisition'!A4500","v":0},{"$f":"'BX Language acquisition'!B4500","v":0},null,{"$f":"'BX Language acquisition'!C4500","v":0},{"$f":"'BX Language acquisition'!D4500","v":0}]
[{"$f":"'BX Language acquisition'!A4501","v":0},{"$f":"'BX Language acquisition'!B4501","v":0},null,{"$f":"'BX Language acquisition'!C4501","v":0},{"$f":"'BX Language acquisition'!D4501","v":0}]
[{"$f":"'BX Language acquisition'!A4502","v":0},{"$f":"'BX Language acquisition'!B4502","v":0},null,{"$f":"'BX Language acquisition'!C4502","v":0},{"$f":"'BX Language acquisition'!D4502","v":0}]
[{"$f":"'BX Language acquisition'!A4503","v":0},{"$f":"'BX Language acquisition'!B4503","v":0},null,{"$f":"'BX Language acquisition'!C4503","v":0},{"$f":"'BX Language acquisition'!D4503","v":0}]
[{"$f":"'BX Language acquisition'!A4504","v":0},{"$f":"'BX Language acquisition'!B4504","v":0},null,{"$f":"'BX Language acquisition'!C4504","v":0},{"$f":"'BX Language acquisition'!D4504","v":0}]
[{"$f":"'BX Language acquisition'!A4505","v":0},{"$f":"'BX Language acquisition'!B4505","v":0},null,{"$f":"'BX Language acquisition'!C4505","v":0},{"$f":"'BX Language acquisition'!D4505","v":0}]
[{"$f":"'BX Language acquisition'!A4506","v":0},{"$f":"'BX Language acquisition'!B4506","v":0},null,{"$f":"'BX Language acquisition'!C4506","v":0},{"$f":"'BX Language acquisition'!D4506","v":0}]
[{"$f":"'BX Language acquisition'!A4507","v":0},{"$f":"'BX Language acquisition'!B4507","v":0},null,{"$f":"'BX Language acquisition'!C4507","v":0},{"$f":"'BX Language acquisition'!D4507","v":0}]
[{"$f":"'BX Language acquisition'!A4508","v":0},{"$f":"'BX Language acquisition'!B4508","v":0},null,{"$f":"'BX Language acquisition'!C4508","v":0},{"$f":"'BX Language acquisition'!D4508","v":0}]
[{"$f":"'BX Language acquisition'!A4509","v":0},{"$f":"'BX Language acquisition'!B4509","v":0},null,{"$f":"'BX Language acquisition'!C4509","v":0},{"$f":"'BX Language acquisition'!D4509","v":0}]
[{"$f":"'BX Language acquisition'!A4510","v":0},{"$f":"'BX Language acquisition'!B4510","v":0},null,{"$f":"'BX Language acquisition'!C4510","v":0},{"$f":"'BX Language acquisition'!D4510","v":0}]
[{"$f":"'BX Language acquisition'!A4511","v":0},{"$f":"'BX Language acquisition'!B4511","v":0},null,{"$f":"'BX Language acquisition'!C4511","v":0},{"$f":"'BX Language acquisition'!D4511","v":0}]
[{"$f":"'BX Language acquisition'!A4512","v":0},{"$f":"'BX Language acquisition'!B4512","v":0},null,{"$f":"'BX Language acquisition'!C4512","v":0},{"$f":"'BX Language acquisition'!D4512","v":0}]
[{"$f":"'BX Language acquisition'!A4513","v":0},{"$f":"'BX Language acquisition'!B4513","v":0},null,{"$f":"'BX Language acquisition'!C4513","v":0},{"$f":"'BX Language acquisition'!D4513","v":0}]
[{"$f":"'BX Language acquisition'!A4514","v":0},{"$f":"'BX Language acquisition'!B4514","v":0},null,{"$f":"'BX Language acquisition'!C4514","v":0},{"$f":"'BX Language acquisition'!D4514","v":0}]
[{"$f":"'BX Language acquisition'!A4515","v":0},{"$f":"'BX Language acquisition'!B4515","v":0},null,{"$f":"'BX Language acquisition'!C4515","v":0},{"$f":"'BX Language acquisition'!D4515","v":0}]
[{"$f":"'BX Language acquisition'!A4516","v":0},{"$f":"'BX Language acquisition'!B4516","v":0},null,{"$f":"'BX Language acquisition'!C4516","v":0},{"$f":"'BX Language acquisition'!D4516","v":0}]
[{"$f":"'BX Language acquisition'!A4517","v":0},{"$f":"'BX Language acquisition'!B4517","v":0},null,{"$f":"'BX Language acquisition'!C4517","v":0},{"$f":"'BX Language acquisition'!D4517","v":0}]
[{"$f":"'BX Language acquisition'!A4518","v":0},{"$f":"'BX Language acquisition'!B4518","v":0},null,{"$f":"'BX Language acquisition'!C4518","v":0},{"$f":"'BX Language acquisition'!D4518","v":0}]
[{"$f":"'BX Language acquisition'!A4519","v":0},{"$f":"'BX Language acquisition'!B4519","v":0},null,{"$f":"'BX Language acquisition'!C4519","v":0},{"$f":"'BX Language acquisition'!D4519","v":0}]
[{"$f":"'BX Language acquisition'!A4520","v":0},{"$f":"'BX Language acquisition'!B4520","v":0},null,{"$f":"'BX Language acquisition'!C4520","v":0},{"$f":"'BX Language acquisition'!D4520","v":0}]
[{"$f":"'BX Language acquisition'!A4521","v":0},{"$f":"'BX Language acquisition'!B4521","v":0},null,{"$f":"'BX Language acquisition'!C4521","v":0},{"$f":"'BX Language acquisition'!D4521","v":0}]
[{"$f":"'BX Language acquisition'!A4522","v":0},{"$f":"'BX Language acquisition'!B4522","v":0},null,{"$f":"'BX Language acquisition'!C4522","v":0},{"$f":"'BX Language acquisition'!D4522","v":0}]
[{"$f":"'BX Language acquisition'!A4523","v":0},{"$f":"'BX Language acquisition'!B4523","v":0},null,{"$f":"'BX Language acquisition'!C4523","v":0},{"$f":"'BX Language acquisition'!D4523","v":0}]
[{"$f":"'BX Language acquisition'!A4524","v":0},{"$f":"'BX Language acquisition'!B4524","v":0},null,{"$f":"'BX Language acquisition'!C4524","v":0},{"$f":"'BX Language acquisition'!D4524","v":0}]
[{"$f":"'BX Language acquisition'!A4525","v":0},{"$f":"'BX Language acquisition'!B4525","v":0},null,{"$f":"'BX Language acquisition'!C4525","v":0},{"$f":"'BX Language acquisition'!D4525","v":0}]
[{"$f":"'BX Language acquisition'!A4526","v":0},{"$f":"'BX Language acquisition'!B4526","v":0},null,{"$f":"'BX Language acquisition'!C4526","v":0},{"$f":"'BX Language acquisition'!D4526","v":0}]
[{"$f":"'BX Language acquisition'!A4527","v":0},{"$f":"'BX Language acquisition'!B4527","v":0},null,{"$f":"'BX Language acquisition'!C4527","v":0},{"$f":"'BX Language acquisition'!D4527","v":0}]
[{"$f":"'BX Language acquisition'!A4528","v":0},{"$f":"'BX Language acquisition'!B4528","v":0},null,{"$f":"'BX Language acquisition'!C4528","v":0},{"$f":"'BX Language acquisition'!D4528","v":0}]
[{"$f":"'BX Language acquisition'!A4529","v":0},{"$f":"'BX Language acquisition'!B4529","v":0},null,{"$f":"'BX Language acquisition'!C4529","v":0},{"$f":"'BX Language acquisition'!D4529","v":0}]
[{"$f":"'BX Language acquisition'!A4530","v":0},{"$f":"'BX Language acquisition'!B4530","v":0},null,{"$f":"'BX Language acquisition'!C4530","v":0},{"$f":"'BX Language acquisition'!D4530","v":0}]
[{"$f":"'BX Language acquisition'!A4531","v":0},{"$f":"'BX Language acquisition'!B4531","v":0},null,{"$f":"'BX Language acquisition'!C4531","v":0},{"$f":"'BX Language acquisition'!D4531","v":0}]
[{"$f":"'BX Language acquisition'!A4532","v":0},{"$f":"'BX Language acquisition'!B4532","v":0},null,{"$f":"'BX Language acquisition'!C4532","v":0},{"$f":"'BX Language acquisition'!D4532","v":0}]
[{"$f":"'BX Language acquisition'!A4533","v":0},{"$f":"'BX Language acquisition'!B4533","v":0},null,{"$f":"'BX Language acquisition'!C4533","v":0},{"$f":"'BX Language acquisition'!D4533","v":0}]
[{"$f":"'BX Language acquisition'!A4534","v":0},{"$f":"'BX Language acquisition'!B4534","v":0},null,{"$f":"'BX Language acquisition'!C4534","v":0},{"$f":"'BX Language acquisition'!D4534","v":0}]
[{"$f":"'BX Language acquisition'!A4535","v":0},{"$f":"'BX Language acquisition'!B4535","v":0},null,{"$f":"'BX Language acquisition'!C4535","v":0},{"$f":"'BX Language acquisition'!D4535","v":0}]
[{"$f":"'BX Language acquisition'!A4536","v":0},{"$f":"'BX Language acquisition'!B4536","v":0},null,{"$f":"'BX Language acquisition'!C4536","v":0},{"$f":"'BX Language acquisition'!D4536","v":0}]
[{"$f":"'BX Language acquisition'!A4537","v":0},{"$f":"'BX Language acquisition'!B4537","v":0},null,{"$f":"'BX Language acquisition'!C4537","v":0},{"$f":"'BX Language acquisition'!D4537","v":0}]
[{"$f":"'BX Language acquisition'!A4538","v":0},{"$f":"'BX Language acquisition'!B4538","v":0},null,{"$f":"'BX Language acquisition'!C4538","v":0},{"$f":"'BX Language acquisition'!D4538","v":0}]
[{"$f":"'BX Language acquisition'!A4539","v":0},{"$f":"'BX Language acquisition'!B4539","v":0},null,{"$f":"'BX Language acquisition'!C4539","v":0},{"$f":"'BX Language acquisition'!D4539","v":0}]
[{"$f":"'BX Language acquisition'!A4540","v":0},{"$f":"'BX Language acquisition'!B4540","v":0},null,{"$f":"'BX Language acquisition'!C4540","v":0},{"$f":"'BX Language acquisition'!D4540","v":0}]
[{"$f":"'BX Language acquisition'!A4541","v":0},{"$f":"'BX Language acquisition'!B4541","v":0},null,{"$f":"'BX Language acquisition'!C4541","v":0},{"$f":"'BX Language acquisition'!D4541","v":0}]
[{"$f":"'BX Language acquisition'!A4542","v":0},{"$f":"'BX Language acquisition'!B4542","v":0},null,{"$f":"'BX Language acquisition'!C4542","v":0},{"$f":"'BX Language acquisition'!D4542","v":0}]
[{"$f":"'BX Language acquisition'!A4543","v":0},{"$f":"'BX Language acquisition'!B4543","v":0},null,{"$f":"'BX Language acquisition'!C4543","v":0},{"$f":"'BX Language acquisition'!D4543","v":0}]
[{"$f":"'BX Language acquisition'!A4544","v":0},{"$f":"'BX Language acquisition'!B4544","v":0},null,{"$f":"'BX Language acquisition'!C4544","v":0},{"$f":"'BX Language acquisition'!D4544","v":0}]
[{"$f":"'BX Language acquisition'!A4545","v":0},{"$f":"'BX Language acquisition'!B4545","v":0},null,{"$f":"'BX Language acquisition'!C4545","v":0},{"$f":"'BX Language acquisition'!D4545","v":0}]
[{"$f":"'BX Language acquisition'!A4546","v":0},{"$f":"'BX Language acquisition'!B4546","v":0},null,{"$f":"'BX Language acquisition'!C4546","v":0},{"$f":"'BX Language acquisition'!D4546","v":0}]
[{"$f":"'BX Language acquisition'!A4547","v":0},{"$f":"'BX Language acquisition'!B4547","v":0},null,{"$f":"'BX Language acquisition'!C4547","v":0},{"$f":"'BX Language acquisition'!D4547","v":0}]
[{"$f":"'BX Language acquisition'!A4548","v":0},{"$f":"'BX Language acquisition'!B4548","v":0},null,{"$f":"'BX Language acquisition'!C4548","v":0},{"$f":"'BX Language acquisition'!D4548","v":0}]
[{"$f":"'BX Language acquisition'!A4549","v":0},{"$f":"'BX Language acquisition'!B4549","v":0},null,{"$f":"'BX Language acquisition'!C4549","v":0},{"$f":"'BX Language acquisition'!D4549","v":0}]
[{"$f":"'BX Language acquisition'!A4550","v":0},{"$f":"'BX Language acquisition'!B4550","v":0},null,{"$f":"'BX Language acquisition'!C4550","v":0},{"$f":"'BX Language acquisition'!D4550","v":0}]
[{"$f":"'BX Language acquisition'!A4551","v":0},{"$f":"'BX Language acquisition'!B4551","v":0},null,{"$f":"'BX Language acquisition'!C4551","v":0},{"$f":"'BX Language acquisition'!D4551","v":0}]
[{"$f":"'BX Language acquisition'!A4552","v":0},{"$f":"'BX Language acquisition'!B4552","v":0},null,{"$f":"'BX Language acquisition'!C4552","v":0},{"$f":"'BX Language acquisition'!D4552","v":0}]
[{"$f":"'BX Language acquisition'!A4553","v":0},{"$f":"'BX Language acquisition'!B4553","v":0},null,{"$f":"'BX Language acquisition'!C4553","v":0},{"$f":"'BX Language acquisition'!D4553","v":0}]
[{"$f":"'BX Language acquisition'!A4554","v":0},{"$f":"'BX Language acquisition'!B4554","v":0},null,{"$f":"'BX Language acquisition'!C4554","v":0},{"$f":"'BX Language acquisition'!D4554","v":0}]
[{"$f":"'BX Language acquisition'!A4555","v":0},{"$f":"'BX Language acquisition'!B4555","v":0},null,{"$f":"'BX Language acquisition'!C4555","v":0},{"$f":"'BX Language acquisition'!D4555","v":0}]
[{"$f":"'BX Language acquisition'!A4556","v":0},{"$f":"'BX Language acquisition'!B4556","v":0},null,{"$f":"'BX Language acquisition'!C4556","v":0},{"$f":"'BX Language acquisition'!D4556","v":0}]
[{"$f":"'BX Language acquisition'!A4557","v":0},{"$f":"'BX Language acquisition'!B4557","v":0},null,{"$f":"'BX Language acquisition'!C4557","v":0},{"$f":"'BX Language acquisition'!D4557","v":0}]
[{"$f":"'BX Language acquisition'!A4558","v":0},{"$f":"'BX Language acquisition'!B4558","v":0},null,{"$f":"'BX Language acquisition'!C4558","v":0},{"$f":"'BX Language acquisition'!D4558","v":0}]
[{"$f":"'BX Language acquisition'!A4559","v":0},{"$f":"'BX Language acquisition'!B4559","v":0},null,{"$f":"'BX Language acquisition'!C4559","v":0},{"$f":"'BX Language acquisition'!D4559","v":0}]
[{"$f":"'BX Language acquisition'!A4560","v":0},{"$f":"'BX Language acquisition'!B4560","v":0},null,{"$f":"'BX Language acquisition'!C4560","v":0},{"$f":"'BX Language acquisition'!D4560","v":0}]
[{"$f":"'BX Language acquisition'!A4561","v":0},{"$f":"'BX Language acquisition'!B4561","v":0},null,{"$f":"'BX Language acquisition'!C4561","v":0},{"$f":"'BX Language acquisition'!D4561","v":0}]
[{"$f":"'BX Language acquisition'!A4562","v":0},{"$f":"'BX Language acquisition'!B4562","v":0},null,{"$f":"'BX Language acquisition'!C4562","v":0},{"$f":"'BX Language acquisition'!D4562","v":0}]
[{"$f":"'BX Language acquisition'!A4563","v":0},{"$f":"'BX Language acquisition'!B4563","v":0},null,{"$f":"'BX Language acquisition'!C4563","v":0},{"$f":"'BX Language acquisition'!D4563","v":0}]
[{"$f":"'BX Language acquisition'!A4564","v":0},{"$f":"'BX Language acquisition'!B4564","v":0},null,{"$f":"'BX Language acquisition'!C4564","v":0},{"$f":"'BX Language acquisition'!D4564","v":0}]
[{"$f":"'BX Language acquisition'!A4565","v":0},{"$f":"'BX Language acquisition'!B4565","v":0},null,{"$f":"'BX Language acquisition'!C4565","v":0},{"$f":"'BX Language acquisition'!D4565","v":0}]
[{"$f":"'BX Language acquisition'!A4566","v":0},{"$f":"'BX Language acquisition'!B4566","v":0},null,{"$f":"'BX Language acquisition'!C4566","v":0},{"$f":"'BX Language acquisition'!D4566","v":0}]
[{"$f":"'BX Language acquisition'!A4567","v":0},{"$f":"'BX Language acquisition'!B4567","v":0},null,{"$f":"'BX Language acquisition'!C4567","v":0},{"$f":"'BX Language acquisition'!D4567","v":0}]
[{"$f":"'BX Language acquisition'!A4568","v":0},{"$f":"'BX Language acquisition'!B4568","v":0},null,{"$f":"'BX Language acquisition'!C4568","v":0},{"$f":"'BX Language acquisition'!D4568","v":0}]
[{"$f":"'BX Language acquisition'!A4569","v":0},{"$f":"'BX Language acquisition'!B4569","v":0},null,{"$f":"'BX Language acquisition'!C4569","v":0},{"$f":"'BX Language acquisition'!D4569","v":0}]
[{"$f":"'BX Language acquisition'!A4570","v":0},{"$f":"'BX Language acquisition'!B4570","v":0},null,{"$f":"'BX Language acquisition'!C4570","v":0},{"$f":"'BX Language acquisition'!D4570","v":0}]
[{"$f":"'BX Language acquisition'!A4571","v":0},{"$f":"'BX Language acquisition'!B4571","v":0},null,{"$f":"'BX Language acquisition'!C4571","v":0},{"$f":"'BX Language acquisition'!D4571","v":0}]
[{"$f":"'BX Language acquisition'!A4572","v":0},{"$f":"'BX Language acquisition'!B4572","v":0},null,{"$f":"'BX Language acquisition'!C4572","v":0},{"$f":"'BX Language acquisition'!D4572","v":0}]
[{"$f":"'BX Language acquisition'!A4573","v":0},{"$f":"'BX Language acquisition'!B4573","v":0},null,{"$f":"'BX Language acquisition'!C4573","v":0},{"$f":"'BX Language acquisition'!D4573","v":0}]
[{"$f":"'BX Language acquisition'!A4574","v":0},{"$f":"'BX Language acquisition'!B4574","v":0},null,{"$f":"'BX Language acquisition'!C4574","v":0},{"$f":"'BX Language acquisition'!D4574","v":0}]
[{"$f":"'BX Language acquisition'!A4575","v":0},{"$f":"'BX Language acquisition'!B4575","v":0},null,{"$f":"'BX Language acquisition'!C4575","v":0},{"$f":"'BX Language acquisition'!D4575","v":0}]
[{"$f":"'BX Language acquisition'!A4576","v":0},{"$f":"'BX Language acquisition'!B4576","v":0},null,{"$f":"'BX Language acquisition'!C4576","v":0},{"$f":"'BX Language acquisition'!D4576","v":0}]
[{"$f":"'BX Language acquisition'!A4577","v":0},{"$f":"'BX Language acquisition'!B4577","v":0},null,{"$f":"'BX Language acquisition'!C4577","v":0},{"$f":"'BX Language acquisition'!D4577","v":0}]
[{"$f":"'BX Language acquisition'!A4578","v":0},{"$f":"'BX Language acquisition'!B4578","v":0},null,{"$f":"'BX Language acquisition'!C4578","v":0},{"$f":"'BX Language acquisition'!D4578","v":0}]
[{"$f":"'BX Language acquisition'!A4579","v":0},{"$f":"'BX Language acquisition'!B4579","v":0},null,{"$f":"'BX Language acquisition'!C4579","v":0},{"$f":"'BX Language acquisition'!D4579","v":0}]
[{"$f":"'BX Language acquisition'!A4580","v":0},{"$f":"'BX Language acquisition'!B4580","v":0},null,{"$f":"'BX Language acquisition'!C4580","v":0},{"$f":"'BX Language acquisition'!D4580","v":0}]
[{"$f":"'BX Language acquisition'!A4581","v":0},{"$f":"'BX Language acquisition'!B4581","v":0},null,{"$f":"'BX Language acquisition'!C4581","v":0},{"$f":"'BX Language acquisition'!D4581","v":0}]
[{"$f":"'BX Language acquisition'!A4582","v":0},{"$f":"'BX Language acquisition'!B4582","v":0},null,{"$f":"'BX Language acquisition'!C4582","v":0},{"$f":"'BX Language acquisition'!D4582","v":0}]
[{"$f":"'BX Language acquisition'!A4583","v":0},{"$f":"'BX Language acquisition'!B4583","v":0},null,{"$f":"'BX Language acquisition'!C4583","v":0},{"$f":"'BX Language acquisition'!D4583","v":0}]
[{"$f":"'BX Language acquisition'!A4584","v":0},{"$f":"'BX Language acquisition'!B4584","v":0},null,{"$f":"'BX Language acquisition'!C4584","v":0},{"$f":"'BX Language acquisition'!D4584","v":0}]
[{"$f":"'BX Language acquisition'!A4585","v":0},{"$f":"'BX Language acquisition'!B4585","v":0},null,{"$f":"'BX Language acquisition'!C4585","v":0},{"$f":"'BX Language acquisition'!D4585","v":0}]
[{"$f":"'BX Language acquisition'!A4586","v":0},{"$f":"'BX Language acquisition'!B4586","v":0},null,{"$f":"'BX Language acquisition'!C4586","v":0},{"$f":"'BX Language acquisition'!D4586","v":0}]
[{"$f":"'BX Language acquisition'!A4587","v":0},{"$f":"'BX Language acquisition'!B4587","v":0},null,{"$f":"'BX Language acquisition'!C4587","v":0},{"$f":"'BX Language acquisition'!D4587","v":0}]
[{"$f":"'BX Language acquisition'!A4588","v":0},{"$f":"'BX Language acquisition'!B4588","v":0},null,{"$f":"'BX Language acquisition'!C4588","v":0},{"$f":"'BX Language acquisition'!D4588","v":0}]
[{"$f":"'BX Language acquisition'!A4589","v":0},{"$f":"'BX Language acquisition'!B4589","v":0},null,{"$f":"'BX Language acquisition'!C4589","v":0},{"$f":"'BX Language acquisition'!D4589","v":0}]
[{"$f":"'BX Language acquisition'!A4590","v":0},{"$f":"'BX Language acquisition'!B4590","v":0},null,{"$f":"'BX Language acquisition'!C4590","v":0},{"$f":"'BX Language acquisition'!D4590","v":0}]
[{"$f":"'BX Language acquisition'!A4591","v":0},{"$f":"'BX Language acquisition'!B4591","v":0},null,{"$f":"'BX Language acquisition'!C4591","v":0},{"$f":"'BX Language acquisition'!D4591","v":0}]
[{"$f":"'BX Language acquisition'!A4592","v":0},{"$f":"'BX Language acquisition'!B4592","v":0},null,{"$f":"'BX Language acquisition'!C4592","v":0},{"$f":"'BX Language acquisition'!D4592","v":0}]
[{"$f":"'BX Language acquisition'!A4593","v":0},{"$f":"'BX Language acquisition'!B4593","v":0},null,{"$f":"'BX Language acquisition'!C4593","v":0},{"$f":"'BX Language acquisition'!D4593","v":0}]
[{"$f":"'BX Language acquisition'!A4594","v":0},{"$f":"'BX Language acquisition'!B4594","v":0},null,{"$f":"'BX Language acquisition'!C4594","v":0},{"$f":"'BX Language acquisition'!D4594","v":0}]
[{"$f":"'BX Language acquisition'!A4595","v":0},{"$f":"'BX Language acquisition'!B4595","v":0},null,{"$f":"'BX Language acquisition'!C4595","v":0},{"$f":"'BX Language acquisition'!D4595","v":0}]
[{"$f":"'BX Language acquisition'!A4596","v":0},{"$f":"'BX Language acquisition'!B4596","v":0},null,{"$f":"'BX Language acquisition'!C4596","v":0},{"$f":"'BX Language acquisition'!D4596","v":0}]
[{"$f":"'BX Language acquisition'!A4597","v":0},{"$f":"'BX Language acquisition'!B4597","v":0},null,{"$f":"'BX Language acquisition'!C4597","v":0},{"$f":"'BX Language acquisition'!D4597","v":0}]
[{"$f":"'BX Language acquisition'!A4598","v":0},{"$f":"'BX Language acquisition'!B4598","v":0},null,{"$f":"'BX Language acquisition'!C4598","v":0},{"$f":"'BX Language acquisition'!D4598","v":0}]
[{"$f":"'BX Language acquisition'!A4599","v":0},{"$f":"'BX Language acquisition'!B4599","v":0},null,{"$f":"'BX Language acquisition'!C4599","v":0},{"$f":"'BX Language acquisition'!D4599","v":0}]
[{"$f":"'BX Language acquisition'!A4600","v":0},{"$f":"'BX Language acquisition'!B4600","v":0},null,{"$f":"'BX Language acquisition'!C4600","v":0},{"$f":"'BX Language acquisition'!D4600","v":0}]
[{"$f":"'BX Language acquisition'!A4601","v":0},{"$f":"'BX Language acquisition'!B4601","v":0},null,{"$f":"'BX Language acquisition'!C4601","v":0},{"$f":"'BX Language acquisition'!D4601","v":0}]
[{"$f":"'BX Language acquisition'!A4602","v":0},{"$f":"'BX Language acquisition'!B4602","v":0},null,{"$f":"'BX Language acquisition'!C4602","v":0},{"$f":"'BX Language acquisition'!D4602","v":0}]
[{"$f":"'BX Language acquisition'!A4603","v":0},{"$f":"'BX Language acquisition'!B4603","v":0},null,{"$f":"'BX Language acquisition'!C4603","v":0},{"$f":"'BX Language acquisition'!D4603","v":0}]
[{"$f":"'BX Language acquisition'!A4604","v":0},{"$f":"'BX Language acquisition'!B4604","v":0},null,{"$f":"'BX Language acquisition'!C4604","v":0},{"$f":"'BX Language acquisition'!D4604","v":0}]
[{"$f":"'BX Language acquisition'!A4605","v":0},{"$f":"'BX Language acquisition'!B4605","v":0},null,{"$f":"'BX Language acquisition'!C4605","v":0},{"$f":"'BX Language acquisition'!D4605","v":0}]
[{"$f":"'BX Language acquisition'!A4606","v":0},{"$f":"'BX Language acquisition'!B4606","v":0},null,{"$f":"'BX Language acquisition'!C4606","v":0},{"$f":"'BX Language acquisition'!D4606","v":0}]
[{"$f":"'BX Language acquisition'!A4607","v":0},{"$f":"'BX Language acquisition'!B4607","v":0},null,{"$f":"'BX Language acquisition'!C4607","v":0},{"$f":"'BX Language acquisition'!D4607","v":0}]
[{"$f":"'BX Language acquisition'!A4608","v":0},{"$f":"'BX Language acquisition'!B4608","v":0},null,{"$f":"'BX Language acquisition'!C4608","v":0},{"$f":"'BX Language acquisition'!D4608","v":0}]
[{"$f":"'BX Language acquisition'!A4609","v":0},{"$f":"'BX Language acquisition'!B4609","v":0},null,{"$f":"'BX Language acquisition'!C4609","v":0},{"$f":"'BX Language acquisition'!D4609","v":0}]
[{"$f":"'BX Language acquisition'!A4610","v":0},{"$f":"'BX Language acquisition'!B4610","v":0},null,{"$f":"'BX Language acquisition'!C4610","v":0},{"$f":"'BX Language acquisition'!D4610","v":0}]
[{"$f":"'BX Language acquisition'!A4611","v":0},{"$f":"'BX Language acquisition'!B4611","v":0},null,{"$f":"'BX Language acquisition'!C4611","v":0},{"$f":"'BX Language acquisition'!D4611","v":0}]
[{"$f":"'BX Language acquisition'!A4612","v":0},{"$f":"'BX Language acquisition'!B4612","v":0},null,{"$f":"'BX Language acquisition'!C4612","v":0},{"$f":"'BX Language acquisition'!D4612","v":0}]
[{"$f":"'BX Language acquisition'!A4613","v":0},{"$f":"'BX Language acquisition'!B4613","v":0},null,{"$f":"'BX Language acquisition'!C4613","v":0},{"$f":"'BX Language acquisition'!D4613","v":0}]
[{"$f":"'BX Language acquisition'!A4614","v":0},{"$f":"'BX Language acquisition'!B4614","v":0},null,{"$f":"'BX Language acquisition'!C4614","v":0},{"$f":"'BX Language acquisition'!D4614","v":0}]
[{"$f":"'BX Language acquisition'!A4615","v":0},{"$f":"'BX Language acquisition'!B4615","v":0},null,{"$f":"'BX Language acquisition'!C4615","v":0},{"$f":"'BX Language acquisition'!D4615","v":0}]
[{"$f":"'BX Language acquisition'!A4616","v":0},{"$f":"'BX Language acquisition'!B4616","v":0},null,{"$f":"'BX Language acquisition'!C4616","v":0},{"$f":"'BX Language acquisition'!D4616","v":0}]
[{"$f":"'BX Language acquisition'!A4617","v":0},{"$f":"'BX Language acquisition'!B4617","v":0},null,{"$f":"'BX Language acquisition'!C4617","v":0},{"$f":"'BX Language acquisition'!D4617","v":0}]
[{"$f":"'BX Language acquisition'!A4618","v":0},{"$f":"'BX Language acquisition'!B4618","v":0},null,{"$f":"'BX Language acquisition'!C4618","v":0},{"$f":"'BX Language acquisition'!D4618","v":0}]
[{"$f":"'BX Language acquisition'!A4619","v":0},{"$f":"'BX Language acquisition'!B4619","v":0},null,{"$f":"'BX Language acquisition'!C4619","v":0},{"$f":"'BX Language acquisition'!D4619","v":0}]
[{"$f":"'BX Language acquisition'!A4620","v":0},{"$f":"'BX Language acquisition'!B4620","v":0},null,{"$f":"'BX Language acquisition'!C4620","v":0},{"$f":"'BX Language acquisition'!D4620","v":0}]
[{"$f":"'BX Language acquisition'!A4621","v":0},{"$f":"'BX Language acquisition'!B4621","v":0},null,{"$f":"'BX Language acquisition'!C4621","v":0},{"$f":"'BX Language acquisition'!D4621","v":0}]
[{"$f":"'BX Language acquisition'!A4622","v":0},{"$f":"'BX Language acquisition'!B4622","v":0},null,{"$f":"'BX Language acquisition'!C4622","v":0},{"$f":"'BX Language acquisition'!D4622","v":0}]
[{"$f":"'BX Language acquisition'!A4623","v":0},{"$f":"'BX Language acquisition'!B4623","v":0},null,{"$f":"'BX Language acquisition'!C4623","v":0},{"$f":"'BX Language acquisition'!D4623","v":0}]
[{"$f":"'BX Language acquisition'!A4624","v":0},{"$f":"'BX Language acquisition'!B4624","v":0},null,{"$f":"'BX Language acquisition'!C4624","v":0},{"$f":"'BX Language acquisition'!D4624","v":0}]
[{"$f":"'BX Language acquisition'!A4625","v":0},{"$f":"'BX Language acquisition'!B4625","v":0},null,{"$f":"'BX Language acquisition'!C4625","v":0},{"$f":"'BX Language acquisition'!D4625","v":0}]
[{"$f":"'BX Language acquisition'!A4626","v":0},{"$f":"'BX Language acquisition'!B4626","v":0},null,{"$f":"'BX Language acquisition'!C4626","v":0},{"$f":"'BX Language acquisition'!D4626","v":0}]
[{"$f":"'BX Language acquisition'!A4627","v":0},{"$f":"'BX Language acquisition'!B4627","v":0},null,{"$f":"'BX Language acquisition'!C4627","v":0},{"$f":"'BX Language acquisition'!D4627","v":0}]
[{"$f":"'BX Language acquisition'!A4628","v":0},{"$f":"'BX Language acquisition'!B4628","v":0},null,{"$f":"'BX Language acquisition'!C4628","v":0},{"$f":"'BX Language acquisition'!D4628","v":0}]
[{"$f":"'BX Language acquisition'!A4629","v":0},{"$f":"'BX Language acquisition'!B4629","v":0},null,{"$f":"'BX Language acquisition'!C4629","v":0},{"$f":"'BX Language acquisition'!D4629","v":0}]
[{"$f":"'BX Language acquisition'!A4630","v":0},{"$f":"'BX Language acquisition'!B4630","v":0},null,{"$f":"'BX Language acquisition'!C4630","v":0},{"$f":"'BX Language acquisition'!D4630","v":0}]
[{"$f":"'BX Language acquisition'!A4631","v":0},{"$f":"'BX Language acquisition'!B4631","v":0},null,{"$f":"'BX Language acquisition'!C4631","v":0},{"$f":"'BX Language acquisition'!D4631","v":0}]
[{"$f":"'BX Language acquisition'!A4632","v":0},{"$f":"'BX Language acquisition'!B4632","v":0},null,{"$f":"'BX Language acquisition'!C4632","v":0},{"$f":"'BX Language acquisition'!D4632","v":0}]
[{"$f":"'BX Language acquisition'!A4633","v":0},{"$f":"'BX Language acquisition'!B4633","v":0},null,{"$f":"'BX Language acquisition'!C4633","v":0},{"$f":"'BX Language acquisition'!D4633","v":0}]
[{"$f":"'BX Language acquisition'!A4634","v":0},{"$f":"'BX Language acquisition'!B4634","v":0},null,{"$f":"'BX Language acquisition'!C4634","v":0},{"$f":"'BX Language acquisition'!D4634","v":0}]
[{"$f":"'BX Language acquisition'!A4635","v":0},{"$f":"'BX Language acquisition'!B4635","v":0},null,{"$f":"'BX Language acquisition'!C4635","v":0},{"$f":"'BX Language acquisition'!D4635","v":0}]
[{"$f":"'BX Language acquisition'!A4636","v":0},{"$f":"'BX Language acquisition'!B4636","v":0},null,{"$f":"'BX Language acquisition'!C4636","v":0},{"$f":"'BX Language acquisition'!D4636","v":0}]
[{"$f":"'BX Language acquisition'!A4637","v":0},{"$f":"'BX Language acquisition'!B4637","v":0},null,{"$f":"'BX Language acquisition'!C4637","v":0},{"$f":"'BX Language acquisition'!D4637","v":0}]
[{"$f":"'BX Language acquisition'!A4638","v":0},{"$f":"'BX Language acquisition'!B4638","v":0},null,{"$f":"'BX Language acquisition'!C4638","v":0},{"$f":"'BX Language acquisition'!D4638","v":0}]
[{"$f":"'BX Language acquisition'!A4639","v":0},{"$f":"'BX Language acquisition'!B4639","v":0},null,{"$f":"'BX Language acquisition'!C4639","v":0},{"$f":"'BX Language acquisition'!D4639","v":0}]
[{"$f":"'BX Language acquisition'!A4640","v":0},{"$f":"'BX Language acquisition'!B4640","v":0},null,{"$f":"'BX Language acquisition'!C4640","v":0},{"$f":"'BX Language acquisition'!D4640","v":0}]
[{"$f":"'BX Language acquisition'!A4641","v":0},{"$f":"'BX Language acquisition'!B4641","v":0},null,{"$f":"'BX Language acquisition'!C4641","v":0},{"$f":"'BX Language acquisition'!D4641","v":0}]
[{"$f":"'BX Language acquisition'!A4642","v":0},{"$f":"'BX Language acquisition'!B4642","v":0},null,{"$f":"'BX Language acquisition'!C4642","v":0},{"$f":"'BX Language acquisition'!D4642","v":0}]
[{"$f":"'BX Language acquisition'!A4643","v":0},{"$f":"'BX Language acquisition'!B4643","v":0},null,{"$f":"'BX Language acquisition'!C4643","v":0},{"$f":"'BX Language acquisition'!D4643","v":0}]
[{"$f":"'BX Language acquisition'!A4644","v":0},{"$f":"'BX Language acquisition'!B4644","v":0},null,{"$f":"'BX Language acquisition'!C4644","v":0},{"$f":"'BX Language acquisition'!D4644","v":0}]
[{"$f":"'BX Language acquisition'!A4645","v":0},{"$f":"'BX Language acquisition'!B4645","v":0},null,{"$f":"'BX Language acquisition'!C4645","v":0},{"$f":"'BX Language acquisition'!D4645","v":0}]
[{"$f":"'BX Language acquisition'!A4646","v":0},{"$f":"'BX Language acquisition'!B4646","v":0},null,{"$f":"'BX Language acquisition'!C4646","v":0},{"$f":"'BX Language acquisition'!D4646","v":0}]
[{"$f":"'BX Language acquisition'!A4647","v":0},{"$f":"'BX Language acquisition'!B4647","v":0},null,{"$f":"'BX Language acquisition'!C4647","v":0},{"$f":"'BX Language acquisition'!D4647","v":0}]
[{"$f":"'BX Language acquisition'!A4648","v":0},{"$f":"'BX Language acquisition'!B4648","v":0},null,{"$f":"'BX Language acquisition'!C4648","v":0},{"$f":"'BX Language acquisition'!D4648","v":0}]
[{"$f":"'BX Language acquisition'!A4649","v":0},{"$f":"'BX Language acquisition'!B4649","v":0},null,{"$f":"'BX Language acquisition'!C4649","v":0},{"$f":"'BX Language acquisition'!D4649","v":0}]
[{"$f":"'BX Language acquisition'!A4650","v":0},{"$f":"'BX Language acquisition'!B4650","v":0},null,{"$f":"'BX Language acquisition'!C4650","v":0},{"$f":"'BX Language acquisition'!D4650","v":0}]
[{"$f":"'BX Language acquisition'!A4651","v":0},{"$f":"'BX Language acquisition'!B4651","v":0},null,{"$f":"'BX Language acquisition'!C4651","v":0},{"$f":"'BX Language acquisition'!D4651","v":0}]
[{"$f":"'BX Language acquisition'!A4652","v":0},{"$f":"'BX Language acquisition'!B4652","v":0},null,{"$f":"'BX Language acquisition'!C4652","v":0},{"$f":"'BX Language acquisition'!D4652","v":0}]
[{"$f":"'BX Language acquisition'!A4653","v":0},{"$f":"'BX Language acquisition'!B4653","v":0},null,{"$f":"'BX Language acquisition'!C4653","v":0},{"$f":"'BX Language acquisition'!D4653","v":0}]
[{"$f":"'BX Language acquisition'!A4654","v":0},{"$f":"'BX Language acquisition'!B4654","v":0},null,{"$f":"'BX Language acquisition'!C4654","v":0},{"$f":"'BX Language acquisition'!D4654","v":0}]
[{"$f":"'BX Language acquisition'!A4655","v":0},{"$f":"'BX Language acquisition'!B4655","v":0},null,{"$f":"'BX Language acquisition'!C4655","v":0},{"$f":"'BX Language acquisition'!D4655","v":0}]
[{"$f":"'BX Language acquisition'!A4656","v":0},{"$f":"'BX Language acquisition'!B4656","v":0},null,{"$f":"'BX Language acquisition'!C4656","v":0},{"$f":"'BX Language acquisition'!D4656","v":0}]
[{"$f":"'BX Language acquisition'!A4657","v":0},{"$f":"'BX Language acquisition'!B4657","v":0},null,{"$f":"'BX Language acquisition'!C4657","v":0},{"$f":"'BX Language acquisition'!D4657","v":0}]
[{"$f":"'BX Language acquisition'!A4658","v":0},{"$f":"'BX Language acquisition'!B4658","v":0},null,{"$f":"'BX Language acquisition'!C4658","v":0},{"$f":"'BX Language acquisition'!D4658","v":0}]
[{"$f":"'BX Language acquisition'!A4659","v":0},{"$f":"'BX Language acquisition'!B4659","v":0},null,{"$f":"'BX Language acquisition'!C4659","v":0},{"$f":"'BX Language acquisition'!D4659","v":0}]
[{"$f":"'BX Language acquisition'!A4660","v":0},{"$f":"'BX Language acquisition'!B4660","v":0},null,{"$f":"'BX Language acquisition'!C4660","v":0},{"$f":"'BX Language acquisition'!D4660","v":0}]
[{"$f":"'BX Language acquisition'!A4661","v":0},{"$f":"'BX Language acquisition'!B4661","v":0},null,{"$f":"'BX Language acquisition'!C4661","v":0},{"$f":"'BX Language acquisition'!D4661","v":0}]
[{"$f":"'BX Language acquisition'!A4662","v":0},{"$f":"'BX Language acquisition'!B4662","v":0},null,{"$f":"'BX Language acquisition'!C4662","v":0},{"$f":"'BX Language acquisition'!D4662","v":0}]
[{"$f":"'BX Language acquisition'!A4663","v":0},{"$f":"'BX Language acquisition'!B4663","v":0},null,{"$f":"'BX Language acquisition'!C4663","v":0},{"$f":"'BX Language acquisition'!D4663","v":0}]
[{"$f":"'BX Language acquisition'!A4664","v":0},{"$f":"'BX Language acquisition'!B4664","v":0},null,{"$f":"'BX Language acquisition'!C4664","v":0},{"$f":"'BX Language acquisition'!D4664","v":0}]
[{"$f":"'BX Language acquisition'!A4665","v":0},{"$f":"'BX Language acquisition'!B4665","v":0},null,{"$f":"'BX Language acquisition'!C4665","v":0},{"$f":"'BX Language acquisition'!D4665","v":0}]
[{"$f":"'BX Language acquisition'!A4666","v":0},{"$f":"'BX Language acquisition'!B4666","v":0},null,{"$f":"'BX Language acquisition'!C4666","v":0},{"$f":"'BX Language acquisition'!D4666","v":0}]
[{"$f":"'BX Language acquisition'!A4667","v":0},{"$f":"'BX Language acquisition'!B4667","v":0},null,{"$f":"'BX Language acquisition'!C4667","v":0},{"$f":"'BX Language acquisition'!D4667","v":0}]
[{"$f":"'BX Language acquisition'!A4668","v":0},{"$f":"'BX Language acquisition'!B4668","v":0},null,{"$f":"'BX Language acquisition'!C4668","v":0},{"$f":"'BX Language acquisition'!D4668","v":0}]
[{"$f":"'BX Language acquisition'!A4669","v":0},{"$f":"'BX Language acquisition'!B4669","v":0},null,{"$f":"'BX Language acquisition'!C4669","v":0},{"$f":"'BX Language acquisition'!D4669","v":0}]
[{"$f":"'BX Language acquisition'!A4670","v":0},{"$f":"'BX Language acquisition'!B4670","v":0},null,{"$f":"'BX Language acquisition'!C4670","v":0},{"$f":"'BX Language acquisition'!D4670","v":0}]
[{"$f":"'BX Language acquisition'!A4671","v":0},{"$f":"'BX Language acquisition'!B4671","v":0},null,{"$f":"'BX Language acquisition'!C4671","v":0},{"$f":"'BX Language acquisition'!D4671","v":0}]
[{"$f":"'BX Language acquisition'!A4672","v":0},{"$f":"'BX Language acquisition'!B4672","v":0},null,{"$f":"'BX Language acquisition'!C4672","v":0},{"$f":"'BX Language acquisition'!D4672","v":0}]
[{"$f":"'BX Language acquisition'!A4673","v":0},{"$f":"'BX Language acquisition'!B4673","v":0},null,{"$f":"'BX Language acquisition'!C4673","v":0},{"$f":"'BX Language acquisition'!D4673","v":0}]
[{"$f":"'BX Language acquisition'!A4674","v":0},{"$f":"'BX Language acquisition'!B4674","v":0},null,{"$f":"'BX Language acquisition'!C4674","v":0},{"$f":"'BX Language acquisition'!D4674","v":0}]
[{"$f":"'BX Language acquisition'!A4675","v":0},{"$f":"'BX Language acquisition'!B4675","v":0},null,{"$f":"'BX Language acquisition'!C4675","v":0},{"$f":"'BX Language acquisition'!D4675","v":0}]
[{"$f":"'BX Language acquisition'!A4676","v":0},{"$f":"'BX Language acquisition'!B4676","v":0},null,{"$f":"'BX Language acquisition'!C4676","v":0},{"$f":"'BX Language acquisition'!D4676","v":0}]
[{"$f":"'BX Language acquisition'!A4677","v":0},{"$f":"'BX Language acquisition'!B4677","v":0},null,{"$f":"'BX Language acquisition'!C4677","v":0},{"$f":"'BX Language acquisition'!D4677","v":0}]
[{"$f":"'BX Language acquisition'!A4678","v":0},{"$f":"'BX Language acquisition'!B4678","v":0},null,{"$f":"'BX Language acquisition'!C4678","v":0},{"$f":"'BX Language acquisition'!D4678","v":0}]
[{"$f":"'BX Language acquisition'!A4679","v":0},{"$f":"'BX Language acquisition'!B4679","v":0},null,{"$f":"'BX Language acquisition'!C4679","v":0},{"$f":"'BX Language acquisition'!D4679","v":0}]
[{"$f":"'BX Language acquisition'!A4680","v":0},{"$f":"'BX Language acquisition'!B4680","v":0},null,{"$f":"'BX Language acquisition'!C4680","v":0},{"$f":"'BX Language acquisition'!D4680","v":0}]
[{"$f":"'BX Language acquisition'!A4681","v":0},{"$f":"'BX Language acquisition'!B4681","v":0},null,{"$f":"'BX Language acquisition'!C4681","v":0},{"$f":"'BX Language acquisition'!D4681","v":0}]
[{"$f":"'BX Language acquisition'!A4682","v":0},{"$f":"'BX Language acquisition'!B4682","v":0},null,{"$f":"'BX Language acquisition'!C4682","v":0},{"$f":"'BX Language acquisition'!D4682","v":0}]
[{"$f":"'BX Language acquisition'!A4683","v":0},{"$f":"'BX Language acquisition'!B4683","v":0},null,{"$f":"'BX Language acquisition'!C4683","v":0},{"$f":"'BX Language acquisition'!D4683","v":0}]
[{"$f":"'BX Language acquisition'!A4684","v":0},{"$f":"'BX Language acquisition'!B4684","v":0},null,{"$f":"'BX Language acquisition'!C4684","v":0},{"$f":"'BX Language acquisition'!D4684","v":0}]
[{"$f":"'BX Language acquisition'!A4685","v":0},{"$f":"'BX Language acquisition'!B4685","v":0},null,{"$f":"'BX Language acquisition'!C4685","v":0},{"$f":"'BX Language acquisition'!D4685","v":0}]
[{"$f":"'BX Language acquisition'!A4686","v":0},{"$f":"'BX Language acquisition'!B4686","v":0},null,{"$f":"'BX Language acquisition'!C4686","v":0},{"$f":"'BX Language acquisition'!D4686","v":0}]
[{"$f":"'BX Language acquisition'!A4687","v":0},{"$f":"'BX Language acquisition'!B4687","v":0},null,{"$f":"'BX Language acquisition'!C4687","v":0},{"$f":"'BX Language acquisition'!D4687","v":0}]
[{"$f":"'BX Language acquisition'!A4688","v":0},{"$f":"'BX Language acquisition'!B4688","v":0},null,{"$f":"'BX Language acquisition'!C4688","v":0},{"$f":"'BX Language acquisition'!D4688","v":0}]
[{"$f":"'BX Language acquisition'!A4689","v":0},{"$f":"'BX Language acquisition'!B4689","v":0},null,{"$f":"'BX Language acquisition'!C4689","v":0},{"$f":"'BX Language acquisition'!D4689","v":0}]
[{"$f":"'BX Language acquisition'!A4690","v":0},{"$f":"'BX Language acquisition'!B4690","v":0},null,{"$f":"'BX Language acquisition'!C4690","v":0},{"$f":"'BX Language acquisition'!D4690","v":0}]
[{"$f":"'BX Language acquisition'!A4691","v":0},{"$f":"'BX Language acquisition'!B4691","v":0},null,{"$f":"'BX Language acquisition'!C4691","v":0},{"$f":"'BX Language acquisition'!D4691","v":0}]
[{"$f":"'BX Language acquisition'!A4692","v":0},{"$f":"'BX Language acquisition'!B4692","v":0},null,{"$f":"'BX Language acquisition'!C4692","v":0},{"$f":"'BX Language acquisition'!D4692","v":0}]
[{"$f":"'BX Language acquisition'!A4693","v":0},{"$f":"'BX Language acquisition'!B4693","v":0},null,{"$f":"'BX Language acquisition'!C4693","v":0},{"$f":"'BX Language acquisition'!D4693","v":0}]
[{"$f":"'BX Language acquisition'!A4694","v":0},{"$f":"'BX Language acquisition'!B4694","v":0},null,{"$f":"'BX Language acquisition'!C4694","v":0},{"$f":"'BX Language acquisition'!D4694","v":0}]
[{"$f":"'BX Language acquisition'!A4695","v":0},{"$f":"'BX Language acquisition'!B4695","v":0},null,{"$f":"'BX Language acquisition'!C4695","v":0},{"$f":"'BX Language acquisition'!D4695","v":0}]
[{"$f":"'BX Language acquisition'!A4696","v":0},{"$f":"'BX Language acquisition'!B4696","v":0},null,{"$f":"'BX Language acquisition'!C4696","v":0},{"$f":"'BX Language acquisition'!D4696","v":0}]
[{"$f":"'BX Language acquisition'!A4697","v":0},{"$f":"'BX Language acquisition'!B4697","v":0},null,{"$f":"'BX Language acquisition'!C4697","v":0},{"$f":"'BX Language acquisition'!D4697","v":0}]
[{"$f":"'BX Language acquisition'!A4698","v":0},{"$f":"'BX Language acquisition'!B4698","v":0},null,{"$f":"'BX Language acquisition'!C4698","v":0},{"$f":"'BX Language acquisition'!D4698","v":0}]
[{"$f":"'BX Language acquisition'!A4699","v":0},{"$f":"'BX Language acquisition'!B4699","v":0},null,{"$f":"'BX Language acquisition'!C4699","v":0},{"$f":"'BX Language acquisition'!D4699","v":0}]
[{"$f":"'BX Language acquisition'!A4700","v":0},{"$f":"'BX Language acquisition'!B4700","v":0},null,{"$f":"'BX Language acquisition'!C4700","v":0},{"$f":"'BX Language acquisition'!D4700","v":0}]
[{"$f":"'BX Language acquisition'!A4701","v":0},{"$f":"'BX Language acquisition'!B4701","v":0},null,{"$f":"'BX Language acquisition'!C4701","v":0},{"$f":"'BX Language acquisition'!D4701","v":0}]
[{"$f":"'BX Language acquisition'!A4702","v":0},{"$f":"'BX Language acquisition'!B4702","v":0},null,{"$f":"'BX Language acquisition'!C4702","v":0},{"$f":"'BX Language acquisition'!D4702","v":0}]
[{"$f":"'BX Language acquisition'!A4703","v":0},{"$f":"'BX Language acquisition'!B4703","v":0},null,{"$f":"'BX Language acquisition'!C4703","v":0},{"$f":"'BX Language acquisition'!D4703","v":0}]
[{"$f":"'BX Language acquisition'!A4704","v":0},{"$f":"'BX Language acquisition'!B4704","v":0},null,{"$f":"'BX Language acquisition'!C4704","v":0},{"$f":"'BX Language acquisition'!D4704","v":0}]
[{"$f":"'BX Language acquisition'!A4705","v":0},{"$f":"'BX Language acquisition'!B4705","v":0},null,{"$f":"'BX Language acquisition'!C4705","v":0},{"$f":"'BX Language acquisition'!D4705","v":0}]
[{"$f":"'BX Language acquisition'!A4706","v":0},{"$f":"'BX Language acquisition'!B4706","v":0},null,{"$f":"'BX Language acquisition'!C4706","v":0},{"$f":"'BX Language acquisition'!D4706","v":0}]
[{"$f":"'BX Language acquisition'!A4707","v":0},{"$f":"'BX Language acquisition'!B4707","v":0},null,{"$f":"'BX Language acquisition'!C4707","v":0},{"$f":"'BX Language acquisition'!D4707","v":0}]
[{"$f":"'BX Language acquisition'!A4708","v":0},{"$f":"'BX Language acquisition'!B4708","v":0},null,{"$f":"'BX Language acquisition'!C4708","v":0},{"$f":"'BX Language acquisition'!D4708","v":0}]
[{"$f":"'BX Language acquisition'!A4709","v":0},{"$f":"'BX Language acquisition'!B4709","v":0},null,{"$f":"'BX Language acquisition'!C4709","v":0},{"$f":"'BX Language acquisition'!D4709","v":0}]
[{"$f":"'BX Language acquisition'!A4710","v":0},{"$f":"'BX Language acquisition'!B4710","v":0},null,{"$f":"'BX Language acquisition'!C4710","v":0},{"$f":"'BX Language acquisition'!D4710","v":0}]
[{"$f":"'BX Language acquisition'!A4711","v":0},{"$f":"'BX Language acquisition'!B4711","v":0},null,{"$f":"'BX Language acquisition'!C4711","v":0},{"$f":"'BX Language acquisition'!D4711","v":0}]
[{"$f":"'BX Language acquisition'!A4712","v":0},{"$f":"'BX Language acquisition'!B4712","v":0},null,{"$f":"'BX Language acquisition'!C4712","v":0},{"$f":"'BX Language acquisition'!D4712","v":0}]
[{"$f":"'BX Language acquisition'!A4713","v":0},{"$f":"'BX Language acquisition'!B4713","v":0},null,{"$f":"'BX Language acquisition'!C4713","v":0},{"$f":"'BX Language acquisition'!D4713","v":0}]
[{"$f":"'BX Language acquisition'!A4714","v":0},{"$f":"'BX Language acquisition'!B4714","v":0},null,{"$f":"'BX Language acquisition'!C4714","v":0},{"$f":"'BX Language acquisition'!D4714","v":0}]
[{"$f":"'BX Language acquisition'!A4715","v":0},{"$f":"'BX Language acquisition'!B4715","v":0},null,{"$f":"'BX Language acquisition'!C4715","v":0},{"$f":"'BX Language acquisition'!D4715","v":0}]
[{"$f":"'BX Language acquisition'!A4716","v":0},{"$f":"'BX Language acquisition'!B4716","v":0},null,{"$f":"'BX Language acquisition'!C4716","v":0},{"$f":"'BX Language acquisition'!D4716","v":0}]
[{"$f":"'BX Language acquisition'!A4717","v":0},{"$f":"'BX Language acquisition'!B4717","v":0},null,{"$f":"'BX Language acquisition'!C4717","v":0},{"$f":"'BX Language acquisition'!D4717","v":0}]
[{"$f":"'BX Language acquisition'!A4718","v":0},{"$f":"'BX Language acquisition'!B4718","v":0},null,{"$f":"'BX Language acquisition'!C4718","v":0},{"$f":"'BX Language acquisition'!D4718","v":0}]
[{"$f":"'BX Language acquisition'!A4719","v":0},{"$f":"'BX Language acquisition'!B4719","v":0},null,{"$f":"'BX Language acquisition'!C4719","v":0},{"$f":"'BX Language acquisition'!D4719","v":0}]
[{"$f":"'BX Language acquisition'!A4720","v":0},{"$f":"'BX Language acquisition'!B4720","v":0},null,{"$f":"'BX Language acquisition'!C4720","v":0},{"$f":"'BX Language acquisition'!D4720","v":0}]
[{"$f":"'BX Language acquisition'!A4721","v":0},{"$f":"'BX Language acquisition'!B4721","v":0},null,{"$f":"'BX Language acquisition'!C4721","v":0},{"$f":"'BX Language acquisition'!D4721","v":0}]
[{"$f":"'BX Language acquisition'!A4722","v":0},{"$f":"'BX Language acquisition'!B4722","v":0},null,{"$f":"'BX Language acquisition'!C4722","v":0},{"$f":"'BX Language acquisition'!D4722","v":0}]
[{"$f":"'BX Language acquisition'!A4723","v":0},{"$f":"'BX Language acquisition'!B4723","v":0},null,{"$f":"'BX Language acquisition'!C4723","v":0},{"$f":"'BX Language acquisition'!D4723","v":0}]
[{"$f":"'BX Language acquisition'!A4724","v":0},{"$f":"'BX Language acquisition'!B4724","v":0},null,{"$f":"'BX Language acquisition'!C4724","v":0},{"$f":"'BX Language acquisition'!D4724","v":0}]
[{"$f":"'BX Language acquisition'!A4725","v":0},{"$f":"'BX Language acquisition'!B4725","v":0},null,{"$f":"'BX Language acquisition'!C4725","v":0},{"$f":"'BX Language acquisition'!D4725","v":0}]
[{"$f":"'BX Language acquisition'!A4726","v":0},{"$f":"'BX Language acquisition'!B4726","v":0},null,{"$f":"'BX Language acquisition'!C4726","v":0},{"$f":"'BX Language acquisition'!D4726","v":0}]
[{"$f":"'BX Language acquisition'!A4727","v":0},{"$f":"'BX Language acquisition'!B4727","v":0},null,{"$f":"'BX Language acquisition'!C4727","v":0},{"$f":"'BX Language acquisition'!D4727","v":0}]
[{"$f":"'BX Language acquisition'!A4728","v":0},{"$f":"'BX Language acquisition'!B4728","v":0},null,{"$f":"'BX Language acquisition'!C4728","v":0},{"$f":"'BX Language acquisition'!D4728","v":0}]
[{"$f":"'BX Language acquisition'!A4729","v":0},{"$f":"'BX Language acquisition'!B4729","v":0},null,{"$f":"'BX Language acquisition'!C4729","v":0},{"$f":"'BX Language acquisition'!D4729","v":0}]
[{"$f":"'BX Language acquisition'!A4730","v":0},{"$f":"'BX Language acquisition'!B4730","v":0},null,{"$f":"'BX Language acquisition'!C4730","v":0},{"$f":"'BX Language acquisition'!D4730","v":0}]
[{"$f":"'BX Language acquisition'!A4731","v":0},{"$f":"'BX Language acquisition'!B4731","v":0},null,{"$f":"'BX Language acquisition'!C4731","v":0},{"$f":"'BX Language acquisition'!D4731","v":0}]
[{"$f":"'BX Language acquisition'!A4732","v":0},{"$f":"'BX Language acquisition'!B4732","v":0},null,{"$f":"'BX Language acquisition'!C4732","v":0},{"$f":"'BX Language acquisition'!D4732","v":0}]
[{"$f":"'BX Language acquisition'!A4733","v":0},{"$f":"'BX Language acquisition'!B4733","v":0},null,{"$f":"'BX Language acquisition'!C4733","v":0},{"$f":"'BX Language acquisition'!D4733","v":0}]
[{"$f":"'BX Language acquisition'!A4734","v":0},{"$f":"'BX Language acquisition'!B4734","v":0},null,{"$f":"'BX Language acquisition'!C4734","v":0},{"$f":"'BX Language acquisition'!D4734","v":0}]
[{"$f":"'BX Language acquisition'!A4735","v":0},{"$f":"'BX Language acquisition'!B4735","v":0},null,{"$f":"'BX Language acquisition'!C4735","v":0},{"$f":"'BX Language acquisition'!D4735","v":0}]
[{"$f":"'BX Language acquisition'!A4736","v":0},{"$f":"'BX Language acquisition'!B4736","v":0},null,{"$f":"'BX Language acquisition'!C4736","v":0},{"$f":"'BX Language acquisition'!D4736","v":0}]
[{"$f":"'BX Language acquisition'!A4737","v":0},{"$f":"'BX Language acquisition'!B4737","v":0},null,{"$f":"'BX Language acquisition'!C4737","v":0},{"$f":"'BX Language acquisition'!D4737","v":0}]
[{"$f":"'BX Language acquisition'!A4738","v":0},{"$f":"'BX Language acquisition'!B4738","v":0},null,{"$f":"'BX Language acquisition'!C4738","v":0},{"$f":"'BX Language acquisition'!D4738","v":0}]
[{"$f":"'BX Language acquisition'!A4739","v":0},{"$f":"'BX Language acquisition'!B4739","v":0},null,{"$f":"'BX Language acquisition'!C4739","v":0},{"$f":"'BX Language acquisition'!D4739","v":0}]
[{"$f":"'BX Language acquisition'!A4740","v":0},{"$f":"'BX Language acquisition'!B4740","v":0},null,{"$f":"'BX Language acquisition'!C4740","v":0},{"$f":"'BX Language acquisition'!D4740","v":0}]
[{"$f":"'BX Language acquisition'!A4741","v":0},{"$f":"'BX Language acquisition'!B4741","v":0},null,{"$f":"'BX Language acquisition'!C4741","v":0},{"$f":"'BX Language acquisition'!D4741","v":0}]
[{"$f":"'BX Language acquisition'!A4742","v":0},{"$f":"'BX Language acquisition'!B4742","v":0},null,{"$f":"'BX Language acquisition'!C4742","v":0},{"$f":"'BX Language acquisition'!D4742","v":0}]
[{"$f":"'BX Language acquisition'!A4743","v":0},{"$f":"'BX Language acquisition'!B4743","v":0},null,{"$f":"'BX Language acquisition'!C4743","v":0},{"$f":"'BX Language acquisition'!D4743","v":0}]
[{"$f":"'BX Language acquisition'!A4744","v":0},{"$f":"'BX Language acquisition'!B4744","v":0},null,{"$f":"'BX Language acquisition'!C4744","v":0},{"$f":"'BX Language acquisition'!D4744","v":0}]
[{"$f":"'BX Language acquisition'!A4745","v":0},{"$f":"'BX Language acquisition'!B4745","v":0},null,{"$f":"'BX Language acquisition'!C4745","v":0},{"$f":"'BX Language acquisition'!D4745","v":0}]
[{"$f":"'BX Language acquisition'!A4746","v":0},{"$f":"'BX Language acquisition'!B4746","v":0},null,{"$f":"'BX Language acquisition'!C4746","v":0},{"$f":"'BX Language acquisition'!D4746","v":0}]
[{"$f":"'BX Language acquisition'!A4747","v":0},{"$f":"'BX Language acquisition'!B4747","v":0},null,{"$f":"'BX Language acquisition'!C4747","v":0},{"$f":"'BX Language acquisition'!D4747","v":0}]
[{"$f":"'BX Language acquisition'!A4748","v":0},{"$f":"'BX Language acquisition'!B4748","v":0},null,{"$f":"'BX Language acquisition'!C4748","v":0},{"$f":"'BX Language acquisition'!D4748","v":0}]
[{"$f":"'BX Language acquisition'!A4749","v":0},{"$f":"'BX Language acquisition'!B4749","v":0},null,{"$f":"'BX Language acquisition'!C4749","v":0},{"$f":"'BX Language acquisition'!D4749","v":0}]
[{"$f":"'BX Language acquisition'!A4750","v":0},{"$f":"'BX Language acquisition'!B4750","v":0},null,{"$f":"'BX Language acquisition'!C4750","v":0},{"$f":"'BX Language acquisition'!D4750","v":0}]
[{"$f":"'BX Language acquisition'!A4751","v":0},{"$f":"'BX Language acquisition'!B4751","v":0},null,{"$f":"'BX Language acquisition'!C4751","v":0},{"$f":"'BX Language acquisition'!D4751","v":0}]
[{"$f":"'BX Language acquisition'!A4752","v":0},{"$f":"'BX Language acquisition'!B4752","v":0},null,{"$f":"'BX Language acquisition'!C4752","v":0},{"$f":"'BX Language acquisition'!D4752","v":0}]
[{"$f":"'BX Language acquisition'!A4753","v":0},{"$f":"'BX Language acquisition'!B4753","v":0},null,{"$f":"'BX Language acquisition'!C4753","v":0},{"$f":"'BX Language acquisition'!D4753","v":0}]
[{"$f":"'BX Language acquisition'!A4754","v":0},{"$f":"'BX Language acquisition'!B4754","v":0},null,{"$f":"'BX Language acquisition'!C4754","v":0},{"$f":"'BX Language acquisition'!D4754","v":0}]
[{"$f":"'BX Language acquisition'!A4755","v":0},{"$f":"'BX Language acquisition'!B4755","v":0},null,{"$f":"'BX Language acquisition'!C4755","v":0},{"$f":"'BX Language acquisition'!D4755","v":0}]
[{"$f":"'BX Language acquisition'!A4756","v":0},{"$f":"'BX Language acquisition'!B4756","v":0},null,{"$f":"'BX Language acquisition'!C4756","v":0},{"$f":"'BX Language acquisition'!D4756","v":0}]
[{"$f":"'BX Language acquisition'!A4757","v":0},{"$f":"'BX Language acquisition'!B4757","v":0},null,{"$f":"'BX Language acquisition'!C4757","v":0},{"$f":"'BX Language acquisition'!D4757","v":0}]
[{"$f":"'BX Language acquisition'!A4758","v":0},{"$f":"'BX Language acquisition'!B4758","v":0},null,{"$f":"'BX Language acquisition'!C4758","v":0},{"$f":"'BX Language acquisition'!D4758","v":0}]
[{"$f":"'BX Language acquisition'!A4759","v":0},{"$f":"'BX Language acquisition'!B4759","v":0},null,{"$f":"'BX Language acquisition'!C4759","v":0},{"$f":"'BX Language acquisition'!D4759","v":0}]
[{"$f":"'BX Language acquisition'!A4760","v":0},{"$f":"'BX Language acquisition'!B4760","v":0},null,{"$f":"'BX Language acquisition'!C4760","v":0},{"$f":"'BX Language acquisition'!D4760","v":0}]
[{"$f":"'BX Language acquisition'!A4761","v":0},{"$f":"'BX Language acquisition'!B4761","v":0},null,{"$f":"'BX Language acquisition'!C4761","v":0},{"$f":"'BX Language acquisition'!D4761","v":0}]
[{"$f":"'BX Language acquisition'!A4762","v":0},{"$f":"'BX Language acquisition'!B4762","v":0},null,{"$f":"'BX Language acquisition'!C4762","v":0},{"$f":"'BX Language acquisition'!D4762","v":0}]
[{"$f":"'BX Language acquisition'!A4763","v":0},{"$f":"'BX Language acquisition'!B4763","v":0},null,{"$f":"'BX Language acquisition'!C4763","v":0},{"$f":"'BX Language acquisition'!D4763","v":0}]
[{"$f":"'BX Language acquisition'!A4764","v":0},{"$f":"'BX Language acquisition'!B4764","v":0},null,{"$f":"'BX Language acquisition'!C4764","v":0},{"$f":"'BX Language acquisition'!D4764","v":0}]
[{"$f":"'BX Language acquisition'!A4765","v":0},{"$f":"'BX Language acquisition'!B4765","v":0},null,{"$f":"'BX Language acquisition'!C4765","v":0},{"$f":"'BX Language acquisition'!D4765","v":0}]
[{"$f":"'BX Language acquisition'!A4766","v":0},{"$f":"'BX Language acquisition'!B4766","v":0},null,{"$f":"'BX Language acquisition'!C4766","v":0},{"$f":"'BX Language acquisition'!D4766","v":0}]
[{"$f":"'BX Language acquisition'!A4767","v":0},{"$f":"'BX Language acquisition'!B4767","v":0},null,{"$f":"'BX Language acquisition'!C4767","v":0},{"$f":"'BX Language acquisition'!D4767","v":0}]
[{"$f":"'BX Language acquisition'!A4768","v":0},{"$f":"'BX Language acquisition'!B4768","v":0},null,{"$f":"'BX Language acquisition'!C4768","v":0},{"$f":"'BX Language acquisition'!D4768","v":0}]
[{"$f":"'BX Language acquisition'!A4769","v":0},{"$f":"'BX Language acquisition'!B4769","v":0},null,{"$f":"'BX Language acquisition'!C4769","v":0},{"$f":"'BX Language acquisition'!D4769","v":0}]
[{"$f":"'BX Language acquisition'!A4770","v":0},{"$f":"'BX Language acquisition'!B4770","v":0},null,{"$f":"'BX Language acquisition'!C4770","v":0},{"$f":"'BX Language acquisition'!D4770","v":0}]
[{"$f":"'BX Language acquisition'!A4771","v":0},{"$f":"'BX Language acquisition'!B4771","v":0},null,{"$f":"'BX Language acquisition'!C4771","v":0},{"$f":"'BX Language acquisition'!D4771","v":0}]
[{"$f":"'BX Language acquisition'!A4772","v":0},{"$f":"'BX Language acquisition'!B4772","v":0},null,{"$f":"'BX Language acquisition'!C4772","v":0},{"$f":"'BX Language acquisition'!D4772","v":0}]
[{"$f":"'BX Language acquisition'!A4773","v":0},{"$f":"'BX Language acquisition'!B4773","v":0},null,{"$f":"'BX Language acquisition'!C4773","v":0},{"$f":"'BX Language acquisition'!D4773","v":0}]
[{"$f":"'BX Language acquisition'!A4774","v":0},{"$f":"'BX Language acquisition'!B4774","v":0},null,{"$f":"'BX Language acquisition'!C4774","v":0},{"$f":"'BX Language acquisition'!D4774","v":0}]
[{"$f":"'BX Language acquisition'!A4775","v":0},{"$f":"'BX Language acquisition'!B4775","v":0},null,{"$f":"'BX Language acquisition'!C4775","v":0},{"$f":"'BX Language acquisition'!D4775","v":0}]
[{"$f":"'BX Language acquisition'!A4776","v":0},{"$f":"'BX Language acquisition'!B4776","v":0},null,{"$f":"'BX Language acquisition'!C4776","v":0},{"$f":"'BX Language acquisition'!D4776","v":0}]
[{"$f":"'BX Language acquisition'!A4777","v":0},{"$f":"'BX Language acquisition'!B4777","v":0},null,{"$f":"'BX Language acquisition'!C4777","v":0},{"$f":"'BX Language acquisition'!D4777","v":0}]
[{"$f":"'BX Language acquisition'!A4778","v":0},{"$f":"'BX Language acquisition'!B4778","v":0},null,{"$f":"'BX Language acquisition'!C4778","v":0},{"$f":"'BX Language acquisition'!D4778","v":0}]
[{"$f":"'BX Language acquisition'!A4779","v":0},{"$f":"'BX Language acquisition'!B4779","v":0},null,{"$f":"'BX Language acquisition'!C4779","v":0},{"$f":"'BX Language acquisition'!D4779","v":0}]
[{"$f":"'BX Language acquisition'!A4780","v":0},{"$f":"'BX Language acquisition'!B4780","v":0},null,{"$f":"'BX Language acquisition'!C4780","v":0},{"$f":"'BX Language acquisition'!D4780","v":0}]
[{"$f":"'BX Language acquisition'!A4781","v":0},{"$f":"'BX Language acquisition'!B4781","v":0},null,{"$f":"'BX Language acquisition'!C4781","v":0},{"$f":"'BX Language acquisition'!D4781","v":0}]
[{"$f":"'BX Language acquisition'!A4782","v":0},{"$f":"'BX Language acquisition'!B4782","v":0},null,{"$f":"'BX Language acquisition'!C4782","v":0},{"$f":"'BX Language acquisition'!D4782","v":0}]
[{"$f":"'BX Language acquisition'!A4783","v":0},{"$f":"'BX Language acquisition'!B4783","v":0},null,{"$f":"'BX Language acquisition'!C4783","v":0},{"$f":"'BX Language acquisition'!D4783","v":0}]
[{"$f":"'BX Language acquisition'!A4784","v":0},{"$f":"'BX Language acquisition'!B4784","v":0},null,{"$f":"'BX Language acquisition'!C4784","v":0},{"$f":"'BX Language acquisition'!D4784","v":0}]
[{"$f":"'BX Language acquisition'!A4785","v":0},{"$f":"'BX Language acquisition'!B4785","v":0},null,{"$f":"'BX Language acquisition'!C4785","v":0},{"$f":"'BX Language acquisition'!D4785","v":0}]
[{"$f":"'BX Language acquisition'!A4786","v":0},{"$f":"'BX Language acquisition'!B4786","v":0},null,{"$f":"'BX Language acquisition'!C4786","v":0},{"$f":"'BX Language acquisition'!D4786","v":0}]
[{"$f":"'BX Language acquisition'!A4787","v":0},{"$f":"'BX Language acquisition'!B4787","v":0},null,{"$f":"'BX Language acquisition'!C4787","v":0},{"$f":"'BX Language acquisition'!D4787","v":0}]
[{"$f":"'BX Language acquisition'!A4788","v":0},{"$f":"'BX Language acquisition'!B4788","v":0},null,{"$f":"'BX Language acquisition'!C4788","v":0},{"$f":"'BX Language acquisition'!D4788","v":0}]
[{"$f":"'BX Language acquisition'!A4789","v":0},{"$f":"'BX Language acquisition'!B4789","v":0},null,{"$f":"'BX Language acquisition'!C4789","v":0},{"$f":"'BX Language acquisition'!D4789","v":0}]
[{"$f":"'BX Language acquisition'!A4790","v":0},{"$f":"'BX Language acquisition'!B4790","v":0},null,{"$f":"'BX Language acquisition'!C4790","v":0},{"$f":"'BX Language acquisition'!D4790","v":0}]
[{"$f":"'BX Language acquisition'!A4791","v":0},{"$f":"'BX Language acquisition'!B4791","v":0},null,{"$f":"'BX Language acquisition'!C4791","v":0},{"$f":"'BX Language acquisition'!D4791","v":0}]
[{"$f":"'BX Language acquisition'!A4792","v":0},{"$f":"'BX Language acquisition'!B4792","v":0},null,{"$f":"'BX Language acquisition'!C4792","v":0},{"$f":"'BX Language acquisition'!D4792","v":0}]
[{"$f":"'BX Language acquisition'!A4793","v":0},{"$f":"'BX Language acquisition'!B4793","v":0},null,{"$f":"'BX Language acquisition'!C4793","v":0},{"$f":"'BX Language acquisition'!D4793","v":0}]
[{"$f":"'BX Language acquisition'!A4794","v":0},{"$f":"'BX Language acquisition'!B4794","v":0},null,{"$f":"'BX Language acquisition'!C4794","v":0},{"$f":"'BX Language acquisition'!D4794","v":0}]
[{"$f":"'BX Language acquisition'!A4795","v":0},{"$f":"'BX Language acquisition'!B4795","v":0},null,{"$f":"'BX Language acquisition'!C4795","v":0},{"$f":"'BX Language acquisition'!D4795","v":0}]
[{"$f":"'BX Language acquisition'!A4796","v":0},{"$f":"'BX Language acquisition'!B4796","v":0},null,{"$f":"'BX Language acquisition'!C4796","v":0},{"$f":"'BX Language acquisition'!D4796","v":0}]
[{"$f":"'BX Language acquisition'!A4797","v":0},{"$f":"'BX Language acquisition'!B4797","v":0},null,{"$f":"'BX Language acquisition'!C4797","v":0},{"$f":"'BX Language acquisition'!D4797","v":0}]
[{"$f":"'BX Language acquisition'!A4798","v":0},{"$f":"'BX Language acquisition'!B4798","v":0},null,{"$f":"'BX Language acquisition'!C4798","v":0},{"$f":"'BX Language acquisition'!D4798","v":0}]
[{"$f":"'BX Language acquisition'!A4799","v":0},{"$f":"'BX Language acquisition'!B4799","v":0},null,{"$f":"'BX Language acquisition'!C4799","v":0},{"$f":"'BX Language acquisition'!D4799","v":0}]
[{"$f":"'BX Language acquisition'!A4800","v":0},{"$f":"'BX Language acquisition'!B4800","v":0},null,{"$f":"'BX Language acquisition'!C4800","v":0},{"$f":"'BX Language acquisition'!D4800","v":0}]
[{"$f":"'BX Language acquisition'!A4801","v":0},{"$f":"'BX Language acquisition'!B4801","v":0},null,{"$f":"'BX Language acquisition'!C4801","v":0},{"$f":"'BX Language acquisition'!D4801","v":0}]
[{"$f":"'BX Language acquisition'!A4802","v":0},{"$f":"'BX Language acquisition'!B4802","v":0},null,{"$f":"'BX Language acquisition'!C4802","v":0},{"$f":"'BX Language acquisition'!D4802","v":0}]
[{"$f":"'BX Language acquisition'!A4803","v":0},{"$f":"'BX Language acquisition'!B4803","v":0},null,{"$f":"'BX Language acquisition'!C4803","v":0},{"$f":"'BX Language acquisition'!D4803","v":0}]
[{"$f":"'BX Language acquisition'!A4804","v":0},{"$f":"'BX Language acquisition'!B4804","v":0},null,{"$f":"'BX Language acquisition'!C4804","v":0},{"$f":"'BX Language acquisition'!D4804","v":0}]
[{"$f":"'BX Language acquisition'!A4805","v":0},{"$f":"'BX Language acquisition'!B4805","v":0},null,{"$f":"'BX Language acquisition'!C4805","v":0},{"$f":"'BX Language acquisition'!D4805","v":0}]
[{"$f":"'BX Language acquisition'!A4806","v":0},{"$f":"'BX Language acquisition'!B4806","v":0},null,{"$f":"'BX Language acquisition'!C4806","v":0},{"$f":"'BX Language acquisition'!D4806","v":0}]
[{"$f":"'BX Language acquisition'!A4807","v":0},{"$f":"'BX Language acquisition'!B4807","v":0},null,{"$f":"'BX Language acquisition'!C4807","v":0},{"$f":"'BX Language acquisition'!D4807","v":0}]
[{"$f":"'BX Language acquisition'!A4808","v":0},{"$f":"'BX Language acquisition'!B4808","v":0},null,{"$f":"'BX Language acquisition'!C4808","v":0},{"$f":"'BX Language acquisition'!D4808","v":0}]
[{"$f":"'BX Language acquisition'!A4809","v":0},{"$f":"'BX Language acquisition'!B4809","v":0},null,{"$f":"'BX Language acquisition'!C4809","v":0},{"$f":"'BX Language acquisition'!D4809","v":0}]
[{"$f":"'BX Language acquisition'!A4810","v":0},{"$f":"'BX Language acquisition'!B4810","v":0},null,{"$f":"'BX Language acquisition'!C4810","v":0},{"$f":"'BX Language acquisition'!D4810","v":0}]
[{"$f":"'BX Language acquisition'!A4811","v":0},{"$f":"'BX Language acquisition'!B4811","v":0},null,{"$f":"'BX Language acquisition'!C4811","v":0},{"$f":"'BX Language acquisition'!D4811","v":0}]
[{"$f":"'BX Language acquisition'!A4812","v":0},{"$f":"'BX Language acquisition'!B4812","v":0},null,{"$f":"'BX Language acquisition'!C4812","v":0},{"$f":"'BX Language acquisition'!D4812","v":0}]
[{"$f":"'BX Language acquisition'!A4813","v":0},{"$f":"'BX Language acquisition'!B4813","v":0},null,{"$f":"'BX Language acquisition'!C4813","v":0},{"$f":"'BX Language acquisition'!D4813","v":0}]
[{"$f":"'BX Language acquisition'!A4814","v":0},{"$f":"'BX Language acquisition'!B4814","v":0},null,{"$f":"'BX Language acquisition'!C4814","v":0},{"$f":"'BX Language acquisition'!D4814","v":0}]
[{"$f":"'BX Language acquisition'!A4815","v":0},{"$f":"'BX Language acquisition'!B4815","v":0},null,{"$f":"'BX Language acquisition'!C4815","v":0},{"$f":"'BX Language acquisition'!D4815","v":0}]
[{"$f":"'BX Language acquisition'!A4816","v":0},{"$f":"'BX Language acquisition'!B4816","v":0},null,{"$f":"'BX Language acquisition'!C4816","v":0},{"$f":"'BX Language acquisition'!D4816","v":0}]
[{"$f":"'BX Language acquisition'!A4817","v":0},{"$f":"'BX Language acquisition'!B4817","v":0},null,{"$f":"'BX Language acquisition'!C4817","v":0},{"$f":"'BX Language acquisition'!D4817","v":0}]
[{"$f":"'BX Language acquisition'!A4818","v":0},{"$f":"'BX Language acquisition'!B4818","v":0},null,{"$f":"'BX Language acquisition'!C4818","v":0},{"$f":"'BX Language acquisition'!D4818","v":0}]
[{"$f":"'BX Language acquisition'!A4819","v":0},{"$f":"'BX Language acquisition'!B4819","v":0},null,{"$f":"'BX Language acquisition'!C4819","v":0},{"$f":"'BX Language acquisition'!D4819","v":0}]
[{"$f":"'BX Language acquisition'!A4820","v":0},{"$f":"'BX Language acquisition'!B4820","v":0},null,{"$f":"'BX Language acquisition'!C4820","v":0},{"$f":"'BX Language acquisition'!D4820","v":0}]
[{"$f":"'BX Language acquisition'!A4821","v":0},{"$f":"'BX Language acquisition'!B4821","v":0},null,{"$f":"'BX Language acquisition'!C4821","v":0},{"$f":"'BX Language acquisition'!D4821","v":0}]
[{"$f":"'BX Language acquisition'!A4822","v":0},{"$f":"'BX Language acquisition'!B4822","v":0},null,{"$f":"'BX Language acquisition'!C4822","v":0},{"$f":"'BX Language acquisition'!D4822","v":0}]
[{"$f":"'BX Language acquisition'!A4823","v":0},{"$f":"'BX Language acquisition'!B4823","v":0},null,{"$f":"'BX Language acquisition'!C4823","v":0},{"$f":"'BX Language acquisition'!D4823","v":0}]
[{"$f":"'BX Language acquisition'!A4824","v":0},{"$f":"'BX Language acquisition'!B4824","v":0},null,{"$f":"'BX Language acquisition'!C4824","v":0},{"$f":"'BX Language acquisition'!D4824","v":0}]
[{"$f":"'BX Language acquisition'!A4825","v":0},{"$f":"'BX Language acquisition'!B4825","v":0},null,{"$f":"'BX Language acquisition'!C4825","v":0},{"$f":"'BX Language acquisition'!D4825","v":0}]
[{"$f":"'BX Language acquisition'!A4826","v":0},{"$f":"'BX Language acquisition'!B4826","v":0},null,{"$f":"'BX Language acquisition'!C4826","v":0},{"$f":"'BX Language acquisition'!D4826","v":0}]
[{"$f":"'BX Language acquisition'!A4827","v":0},{"$f":"'BX Language acquisition'!B4827","v":0},null,{"$f":"'BX Language acquisition'!C4827","v":0},{"$f":"'BX Language acquisition'!D4827","v":0}]
[{"$f":"'BX Language acquisition'!A4828","v":0},{"$f":"'BX Language acquisition'!B4828","v":0},null,{"$f":"'BX Language acquisition'!C4828","v":0},{"$f":"'BX Language acquisition'!D4828","v":0}]
[{"$f":"'BX Language acquisition'!A4829","v":0},{"$f":"'BX Language acquisition'!B4829","v":0},null,{"$f":"'BX Language acquisition'!C4829","v":0},{"$f":"'BX Language acquisition'!D4829","v":0}]
[{"$f":"'BX Language acquisition'!A4830","v":0},{"$f":"'BX Language acquisition'!B4830","v":0},null,{"$f":"'BX Language acquisition'!C4830","v":0},{"$f":"'BX Language acquisition'!D4830","v":0}]
[{"$f":"'BX Language acquisition'!A4831","v":0},{"$f":"'BX Language acquisition'!B4831","v":0},null,{"$f":"'BX Language acquisition'!C4831","v":0},{"$f":"'BX Language acquisition'!D4831","v":0}]
[{"$f":"'BX Language acquisition'!A4832","v":0},{"$f":"'BX Language acquisition'!B4832","v":0},null,{"$f":"'BX Language acquisition'!C4832","v":0},{"$f":"'BX Language acquisition'!D4832","v":0}]
[{"$f":"'BX Language acquisition'!A4833","v":0},{"$f":"'BX Language acquisition'!B4833","v":0},null,{"$f":"'BX Language acquisition'!C4833","v":0},{"$f":"'BX Language acquisition'!D4833","v":0}]
[{"$f":"'BX Language acquisition'!A4834","v":0},{"$f":"'BX Language acquisition'!B4834","v":0},null,{"$f":"'BX Language acquisition'!C4834","v":0},{"$f":"'BX Language acquisition'!D4834","v":0}]
[{"$f":"'BX Language acquisition'!A4835","v":0},{"$f":"'BX Language acquisition'!B4835","v":0},null,{"$f":"'BX Language acquisition'!C4835","v":0},{"$f":"'BX Language acquisition'!D4835","v":0}]
[{"$f":"'BX Language acquisition'!A4836","v":0},{"$f":"'BX Language acquisition'!B4836","v":0},null,{"$f":"'BX Language acquisition'!C4836","v":0},{"$f":"'BX Language acquisition'!D4836","v":0}]
[{"$f":"'BX Language acquisition'!A4837","v":0},{"$f":"'BX Language acquisition'!B4837","v":0},null,{"$f":"'BX Language acquisition'!C4837","v":0},{"$f":"'BX Language acquisition'!D4837","v":0}]
[{"$f":"'BX Language acquisition'!A4838","v":0},{"$f":"'BX Language acquisition'!B4838","v":0},null,{"$f":"'BX Language acquisition'!C4838","v":0},{"$f":"'BX Language acquisition'!D4838","v":0}]
[{"$f":"'BX Language acquisition'!A4839","v":0},{"$f":"'BX Language acquisition'!B4839","v":0},null,{"$f":"'BX Language acquisition'!C4839","v":0},{"$f":"'BX Language acquisition'!D4839","v":0}]
[{"$f":"'BX Language acquisition'!A4840","v":0},{"$f":"'BX Language acquisition'!B4840","v":0},null,{"$f":"'BX Language acquisition'!C4840","v":0},{"$f":"'BX Language acquisition'!D4840","v":0}]
[{"$f":"'BX Language acquisition'!A4841","v":0},{"$f":"'BX Language acquisition'!B4841","v":0},null,{"$f":"'BX Language acquisition'!C4841","v":0},{"$f":"'BX Language acquisition'!D4841","v":0}]
[{"$f":"'BX Language acquisition'!A4842","v":0},{"$f":"'BX Language acquisition'!B4842","v":0},null,{"$f":"'BX Language acquisition'!C4842","v":0},{"$f":"'BX Language acquisition'!D4842","v":0}]
[{"$f":"'BX Language acquisition'!A4843","v":0},{"$f":"'BX Language acquisition'!B4843","v":0},null,{"$f":"'BX Language acquisition'!C4843","v":0},{"$f":"'BX Language acquisition'!D4843","v":0}]
[{"$f":"'BX Language acquisition'!A4844","v":0},{"$f":"'BX Language acquisition'!B4844","v":0},null,{"$f":"'BX Language acquisition'!C4844","v":0},{"$f":"'BX Language acquisition'!D4844","v":0}]
[{"$f":"'BX Language acquisition'!A4845","v":0},{"$f":"'BX Language acquisition'!B4845","v":0},null,{"$f":"'BX Language acquisition'!C4845","v":0},{"$f":"'BX Language acquisition'!D4845","v":0}]
[{"$f":"'BX Language acquisition'!A4846","v":0},{"$f":"'BX Language acquisition'!B4846","v":0},null,{"$f":"'BX Language acquisition'!C4846","v":0},{"$f":"'BX Language acquisition'!D4846","v":0}]
[{"$f":"'BX Language acquisition'!A4847","v":0},{"$f":"'BX Language acquisition'!B4847","v":0},null,{"$f":"'BX Language acquisition'!C4847","v":0},{"$f":"'BX Language acquisition'!D4847","v":0}]
[{"$f":"'BX Language acquisition'!A4848","v":0},{"$f":"'BX Language acquisition'!B4848","v":0},null,{"$f":"'BX Language acquisition'!C4848","v":0},{"$f":"'BX Language acquisition'!D4848","v":0}]
[{"$f":"'BX Language acquisition'!A4849","v":0},{"$f":"'BX Language acquisition'!B4849","v":0},null,{"$f":"'BX Language acquisition'!C4849","v":0},{"$f":"'BX Language acquisition'!D4849","v":0}]
[{"$f":"'BX Language acquisition'!A4850","v":0},{"$f":"'BX Language acquisition'!B4850","v":0},null,{"$f":"'BX Language acquisition'!C4850","v":0},{"$f":"'BX Language acquisition'!D4850","v":0}]
[{"$f":"'BX Language acquisition'!A4851","v":0},{"$f":"'BX Language acquisition'!B4851","v":0},null,{"$f":"'BX Language acquisition'!C4851","v":0},{"$f":"'BX Language acquisition'!D4851","v":0}]
[{"$f":"'BX Language acquisition'!A4852","v":0},{"$f":"'BX Language acquisition'!B4852","v":0},null,{"$f":"'BX Language acquisition'!C4852","v":0},{"$f":"'BX Language acquisition'!D4852","v":0}]
[{"$f":"'BX Language acquisition'!A4853","v":0},{"$f":"'BX Language acquisition'!B4853","v":0},null,{"$f":"'BX Language acquisition'!C4853","v":0},{"$f":"'BX Language acquisition'!D4853","v":0}]
[{"$f":"'BX Language acquisition'!A4854","v":0},{"$f":"'BX Language acquisition'!B4854","v":0},null,{"$f":"'BX Language acquisition'!C4854","v":0},{"$f":"'BX Language acquisition'!D4854","v":0}]
[{"$f":"'BX Language acquisition'!A4855","v":0},{"$f":"'BX Language acquisition'!B4855","v":0},null,{"$f":"'BX Language acquisition'!C4855","v":0},{"$f":"'BX Language acquisition'!D4855","v":0}]
[{"$f":"'BX Language acquisition'!A4856","v":0},{"$f":"'BX Language acquisition'!B4856","v":0},null,{"$f":"'BX Language acquisition'!C4856","v":0},{"$f":"'BX Language acquisition'!D4856","v":0}]
[{"$f":"'BX Language acquisition'!A4857","v":0},{"$f":"'BX Language acquisition'!B4857","v":0},null,{"$f":"'BX Language acquisition'!C4857","v":0},{"$f":"'BX Language acquisition'!D4857","v":0}]
[{"$f":"'BX Language acquisition'!A4858","v":0},{"$f":"'BX Language acquisition'!B4858","v":0},null,{"$f":"'BX Language acquisition'!C4858","v":0},{"$f":"'BX Language acquisition'!D4858","v":0}]
[{"$f":"'BX Language acquisition'!A4859","v":0},{"$f":"'BX Language acquisition'!B4859","v":0},null,{"$f":"'BX Language acquisition'!C4859","v":0},{"$f":"'BX Language acquisition'!D4859","v":0}]
[{"$f":"'BX Language acquisition'!A4860","v":0},{"$f":"'BX Language acquisition'!B4860","v":0},null,{"$f":"'BX Language acquisition'!C4860","v":0},{"$f":"'BX Language acquisition'!D4860","v":0}]
[{"$f":"'BX Language acquisition'!A4861","v":0},{"$f":"'BX Language acquisition'!B4861","v":0},null,{"$f":"'BX Language acquisition'!C4861","v":0},{"$f":"'BX Language acquisition'!D4861","v":0}]
[{"$f":"'BX Language acquisition'!A4862","v":0},{"$f":"'BX Language acquisition'!B4862","v":0},null,{"$f":"'BX Language acquisition'!C4862","v":0},{"$f":"'BX Language acquisition'!D4862","v":0}]
[{"$f":"'BX Language acquisition'!A4863","v":0},{"$f":"'BX Language acquisition'!B4863","v":0},null,{"$f":"'BX Language acquisition'!C4863","v":0},{"$f":"'BX Language acquisition'!D4863","v":0}]
[{"$f":"'BX Language acquisition'!A4864","v":0},{"$f":"'BX Language acquisition'!B4864","v":0},null,{"$f":"'BX Language acquisition'!C4864","v":0},{"$f":"'BX Language acquisition'!D4864","v":0}]
[{"$f":"'BX Language acquisition'!A4865","v":0},{"$f":"'BX Language acquisition'!B4865","v":0},null,{"$f":"'BX Language acquisition'!C4865","v":0},{"$f":"'BX Language acquisition'!D4865","v":0}]
[{"$f":"'BX Language acquisition'!A4866","v":0},{"$f":"'BX Language acquisition'!B4866","v":0},null,{"$f":"'BX Language acquisition'!C4866","v":0},{"$f":"'BX Language acquisition'!D4866","v":0}]
[{"$f":"'BX Language acquisition'!A4867","v":0},{"$f":"'BX Language acquisition'!B4867","v":0},null,{"$f":"'BX Language acquisition'!C4867","v":0},{"$f":"'BX Language acquisition'!D4867","v":0}]
[{"$f":"'BX Language acquisition'!A4868","v":0},{"$f":"'BX Language acquisition'!B4868","v":0},null,{"$f":"'BX Language acquisition'!C4868","v":0},{"$f":"'BX Language acquisition'!D4868","v":0}]
[{"$f":"'BX Language acquisition'!A4869","v":0},{"$f":"'BX Language acquisition'!B4869","v":0},null,{"$f":"'BX Language acquisition'!C4869","v":0},{"$f":"'BX Language acquisition'!D4869","v":0}]
[{"$f":"'BX Language acquisition'!A4870","v":0},{"$f":"'BX Language acquisition'!B4870","v":0},null,{"$f":"'BX Language acquisition'!C4870","v":0},{"$f":"'BX Language acquisition'!D4870","v":0}]
[{"$f":"'BX Language acquisition'!A4871","v":0},{"$f":"'BX Language acquisition'!B4871","v":0},null,{"$f":"'BX Language acquisition'!C4871","v":0},{"$f":"'BX Language acquisition'!D4871","v":0}]
[{"$f":"'BX Language acquisition'!A4872","v":0},{"$f":"'BX Language acquisition'!B4872","v":0},null,{"$f":"'BX Language acquisition'!C4872","v":0},{"$f":"'BX Language acquisition'!D4872","v":0}]
[{"$f":"'BX Language acquisition'!A4873","v":0},{"$f":"'BX Language acquisition'!B4873","v":0},null,{"$f":"'BX Language acquisition'!C4873","v":0},{"$f":"'BX Language acquisition'!D4873","v":0}]
[{"$f":"'BX Language acquisition'!A4874","v":0},{"$f":"'BX Language acquisition'!B4874","v":0},null,{"$f":"'BX Language acquisition'!C4874","v":0},{"$f":"'BX Language acquisition'!D4874","v":0}]
[{"$f":"'BX Language acquisition'!A4875","v":0},{"$f":"'BX Language acquisition'!B4875","v":0},null,{"$f":"'BX Language acquisition'!C4875","v":0},{"$f":"'BX Language acquisition'!D4875","v":0}]
[{"$f":"'BX Language acquisition'!A4876","v":0},{"$f":"'BX Language acquisition'!B4876","v":0},null,{"$f":"'BX Language acquisition'!C4876","v":0},{"$f":"'BX Language acquisition'!D4876","v":0}]
[{"$f":"'BX Language acquisition'!A4877","v":0},{"$f":"'BX Language acquisition'!B4877","v":0},null,{"$f":"'BX Language acquisition'!C4877","v":0},{"$f":"'BX Language acquisition'!D4877","v":0}]
[{"$f":"'BX Language acquisition'!A4878","v":0},{"$f":"'BX Language acquisition'!B4878","v":0},null,{"$f":"'BX Language acquisition'!C4878","v":0},{"$f":"'BX Language acquisition'!D4878","v":0}]
[{"$f":"'BX Language acquisition'!A4879","v":0},{"$f":"'BX Language acquisition'!B4879","v":0},null,{"$f":"'BX Language acquisition'!C4879","v":0},{"$f":"'BX Language acquisition'!D4879","v":0}]
[{"$f":"'BX Language acquisition'!A4880","v":0},{"$f":"'BX Language acquisition'!B4880","v":0},null,{"$f":"'BX Language acquisition'!C4880","v":0},{"$f":"'BX Language acquisition'!D4880","v":0}]
[{"$f":"'BX Language acquisition'!A4881","v":0},{"$f":"'BX Language acquisition'!B4881","v":0},null,{"$f":"'BX Language acquisition'!C4881","v":0},{"$f":"'BX Language acquisition'!D4881","v":0}]
[{"$f":"'BX Language acquisition'!A4882","v":0},{"$f":"'BX Language acquisition'!B4882","v":0},null,{"$f":"'BX Language acquisition'!C4882","v":0},{"$f":"'BX Language acquisition'!D4882","v":0}]
[{"$f":"'BX Language acquisition'!A4883","v":0},{"$f":"'BX Language acquisition'!B4883","v":0},null,{"$f":"'BX Language acquisition'!C4883","v":0},{"$f":"'BX Language acquisition'!D4883","v":0}]
[{"$f":"'BX Language acquisition'!A4884","v":0},{"$f":"'BX Language acquisition'!B4884","v":0},null,{"$f":"'BX Language acquisition'!C4884","v":0},{"$f":"'BX Language acquisition'!D4884","v":0}]
[{"$f":"'BX Language acquisition'!A4885","v":0},{"$f":"'BX Language acquisition'!B4885","v":0},null,{"$f":"'BX Language acquisition'!C4885","v":0},{"$f":"'BX Language acquisition'!D4885","v":0}]
[{"$f":"'BX Language acquisition'!A4886","v":0},{"$f":"'BX Language acquisition'!B4886","v":0},null,{"$f":"'BX Language acquisition'!C4886","v":0},{"$f":"'BX Language acquisition'!D4886","v":0}]
[{"$f":"'BX Language acquisition'!A4887","v":0},{"$f":"'BX Language acquisition'!B4887","v":0},null,{"$f":"'BX Language acquisition'!C4887","v":0},{"$f":"'BX Language acquisition'!D4887","v":0}]
[{"$f":"'BX Language acquisition'!A4888","v":0},{"$f":"'BX Language acquisition'!B4888","v":0},null,{"$f":"'BX Language acquisition'!C4888","v":0},{"$f":"'BX Language acquisition'!D4888","v":0}]
[{"$f":"'BX Language acquisition'!A4889","v":0},{"$f":"'BX Language acquisition'!B4889","v":0},null,{"$f":"'BX Language acquisition'!C4889","v":0},{"$f":"'BX Language acquisition'!D4889","v":0}]
[{"$f":"'BX Language acquisition'!A4890","v":0},{"$f":"'BX Language acquisition'!B4890","v":0},null,{"$f":"'BX Language acquisition'!C4890","v":0},{"$f":"'BX Language acquisition'!D4890","v":0}]
[{"$f":"'BX Language acquisition'!A4891","v":0},{"$f":"'BX Language acquisition'!B4891","v":0},null,{"$f":"'BX Language acquisition'!C4891","v":0},{"$f":"'BX Language acquisition'!D4891","v":0}]
[{"$f":"'BX Language acquisition'!A4892","v":0},{"$f":"'BX Language acquisition'!B4892","v":0},null,{"$f":"'BX Language acquisition'!C4892","v":0},{"$f":"'BX Language acquisition'!D4892","v":0}]
[{"$f":"'BX Language acquisition'!A4893","v":0},{"$f":"'BX Language acquisition'!B4893","v":0},null,{"$f":"'BX Language acquisition'!C4893","v":0},{"$f":"'BX Language acquisition'!D4893","v":0}]
[{"$f":"'BX Language acquisition'!A4894","v":0},{"$f":"'BX Language acquisition'!B4894","v":0},null,{"$f":"'BX Language acquisition'!C4894","v":0},{"$f":"'BX Language acquisition'!D4894","v":0}]
[{"$f":"'BX Language acquisition'!A4895","v":0},{"$f":"'BX Language acquisition'!B4895","v":0},null,{"$f":"'BX Language acquisition'!C4895","v":0},{"$f":"'BX Language acquisition'!D4895","v":0}]
[{"$f":"'BX Language acquisition'!A4896","v":0},{"$f":"'BX Language acquisition'!B4896","v":0},null,{"$f":"'BX Language acquisition'!C4896","v":0},{"$f":"'BX Language acquisition'!D4896","v":0}]
[{"$f":"'BX Language acquisition'!A4897","v":0},{"$f":"'BX Language acquisition'!B4897","v":0},null,{"$f":"'BX Language acquisition'!C4897","v":0},{"$f":"'BX Language acquisition'!D4897","v":0}]
[{"$f":"'BX Language acquisition'!A4898","v":0},{"$f":"'BX Language acquisition'!B4898","v":0},null,{"$f":"'BX Language acquisition'!C4898","v":0},{"$f":"'BX Language acquisition'!D4898","v":0}]
[{"$f":"'BX Language acquisition'!A4899","v":0},{"$f":"'BX Language acquisition'!B4899","v":0},null,{"$f":"'BX Language acquisition'!C4899","v":0},{"$f":"'BX Language acquisition'!D4899","v":0}]
[{"$f":"'BX Language acquisition'!A4900","v":0},{"$f":"'BX Language acquisition'!B4900","v":0},null,{"$f":"'BX Language acquisition'!C4900","v":0},{"$f":"'BX Language acquisition'!D4900","v":0}]
[{"$f":"'BX Language acquisition'!A4901","v":0},{"$f":"'BX Language acquisition'!B4901","v":0},null,{"$f":"'BX Language acquisition'!C4901","v":0},{"$f":"'BX Language acquisition'!D4901","v":0}]
[{"$f":"'BX Language acquisition'!A4902","v":0},{"$f":"'BX Language acquisition'!B4902","v":0},null,{"$f":"'BX Language acquisition'!C4902","v":0},{"$f":"'BX Language acquisition'!D4902","v":0}]
[{"$f":"'BX Language acquisition'!A4903","v":0},{"$f":"'BX Language acquisition'!B4903","v":0},null,{"$f":"'BX Language acquisition'!C4903","v":0},{"$f":"'BX Language acquisition'!D4903","v":0}]
[{"$f":"'BX Language acquisition'!A4904","v":0},{"$f":"'BX Language acquisition'!B4904","v":0},null,{"$f":"'BX Language acquisition'!C4904","v":0},{"$f":"'BX Language acquisition'!D4904","v":0}]
[{"$f":"'BX Language acquisition'!A4905","v":0},{"$f":"'BX Language acquisition'!B4905","v":0},null,{"$f":"'BX Language acquisition'!C4905","v":0},{"$f":"'BX Language acquisition'!D4905","v":0}]
[{"$f":"'BX Language acquisition'!A4906","v":0},{"$f":"'BX Language acquisition'!B4906","v":0},null,{"$f":"'BX Language acquisition'!C4906","v":0},{"$f":"'BX Language acquisition'!D4906","v":0}]
[{"$f":"'BX Language acquisition'!A4907","v":0},{"$f":"'BX Language acquisition'!B4907","v":0},null,{"$f":"'BX Language acquisition'!C4907","v":0},{"$f":"'BX Language acquisition'!D4907","v":0}]
[{"$f":"'BX Language acquisition'!A4908","v":0},{"$f":"'BX Language acquisition'!B4908","v":0},null,{"$f":"'BX Language acquisition'!C4908","v":0},{"$f":"'BX Language acquisition'!D4908","v":0}]
[{"$f":"'BX Language acquisition'!A4909","v":0},{"$f":"'BX Language acquisition'!B4909","v":0},null,{"$f":"'BX Language acquisition'!C4909","v":0},{"$f":"'BX Language acquisition'!D4909","v":0}]
[{"$f":"'BX Language acquisition'!A4910","v":0},{"$f":"'BX Language acquisition'!B4910","v":0},null,{"$f":"'BX Language acquisition'!C4910","v":0},{"$f":"'BX Language acquisition'!D4910","v":0}]
[{"$f":"'BX Language acquisition'!A4911","v":0},{"$f":"'BX Language acquisition'!B4911","v":0},null,{"$f":"'BX Language acquisition'!C4911","v":0},{"$f":"'BX Language acquisition'!D4911","v":0}]
[{"$f":"'BX Language acquisition'!A4912","v":0},{"$f":"'BX Language acquisition'!B4912","v":0},null,{"$f":"'BX Language acquisition'!C4912","v":0},{"$f":"'BX Language acquisition'!D4912","v":0}]
[{"$f":"'BX Language acquisition'!A4913","v":0},{"$f":"'BX Language acquisition'!B4913","v":0},null,{"$f":"'BX Language acquisition'!C4913","v":0},{"$f":"'BX Language acquisition'!D4913","v":0}]
[{"$f":"'BX Language acquisition'!A4914","v":0},{"$f":"'BX Language acquisition'!B4914","v":0},null,{"$f":"'BX Language acquisition'!C4914","v":0},{"$f":"'BX Language acquisition'!D4914","v":0}]
[{"$f":"'BX Language acquisition'!A4915","v":0},{"$f":"'BX Language acquisition'!B4915","v":0},null,{"$f":"'BX Language acquisition'!C4915","v":0},{"$f":"'BX Language acquisition'!D4915","v":0}]
[{"$f":"'BX Language acquisition'!A4916","v":0},{"$f":"'BX Language acquisition'!B4916","v":0},null,{"$f":"'BX Language acquisition'!C4916","v":0},{"$f":"'BX Language acquisition'!D4916","v":0}]
[{"$f":"'BX Language acquisition'!A4917","v":0},{"$f":"'BX Language acquisition'!B4917","v":0},null,{"$f":"'BX Language acquisition'!C4917","v":0},{"$f":"'BX Language acquisition'!D4917","v":0}]
[{"$f":"'BX Language acquisition'!A4918","v":0},{"$f":"'BX Language acquisition'!B4918","v":0},null,{"$f":"'BX Language acquisition'!C4918","v":0},{"$f":"'BX Language acquisition'!D4918","v":0}]
[{"$f":"'BX Language acquisition'!A4919","v":0},{"$f":"'BX Language acquisition'!B4919","v":0},null,{"$f":"'BX Language acquisition'!C4919","v":0},{"$f":"'BX Language acquisition'!D4919","v":0}]
[{"$f":"'BX Language acquisition'!A4920","v":0},{"$f":"'BX Language acquisition'!B4920","v":0},null,{"$f":"'BX Language acquisition'!C4920","v":0},{"$f":"'BX Language acquisition'!D4920","v":0}]
[{"$f":"'BX Language acquisition'!A4921","v":0},{"$f":"'BX Language acquisition'!B4921","v":0},null,{"$f":"'BX Language acquisition'!C4921","v":0},{"$f":"'BX Language acquisition'!D4921","v":0}]
[{"$f":"'BX Language acquisition'!A4922","v":0},{"$f":"'BX Language acquisition'!B4922","v":0},null,{"$f":"'BX Language acquisition'!C4922","v":0},{"$f":"'BX Language acquisition'!D4922","v":0}]
[{"$f":"'BX Language acquisition'!A4923","v":0},{"$f":"'BX Language acquisition'!B4923","v":0},null,{"$f":"'BX Language acquisition'!C4923","v":0},{"$f":"'BX Language acquisition'!D4923","v":0}]
[{"$f":"'BX Language acquisition'!A4924","v":0},{"$f":"'BX Language acquisition'!B4924","v":0},null,{"$f":"'BX Language acquisition'!C4924","v":0},{"$f":"'BX Language acquisition'!D4924","v":0}]
[{"$f":"'BX Language acquisition'!A4925","v":0},{"$f":"'BX Language acquisition'!B4925","v":0},null,{"$f":"'BX Language acquisition'!C4925","v":0},{"$f":"'BX Language acquisition'!D4925","v":0}]
[{"$f":"'BX Language acquisition'!A4926","v":0},{"$f":"'BX Language acquisition'!B4926","v":0},null,{"$f":"'BX Language acquisition'!C4926","v":0},{"$f":"'BX Language acquisition'!D4926","v":0}]
[{"$f":"'BX Language acquisition'!A4927","v":0},{"$f":"'BX Language acquisition'!B4927","v":0},null,{"$f":"'BX Language acquisition'!C4927","v":0},{"$f":"'BX Language acquisition'!D4927","v":0}]
[{"$f":"'BX Language acquisition'!A4928","v":0},{"$f":"'BX Language acquisition'!B4928","v":0},null,{"$f":"'BX Language acquisition'!C4928","v":0},{"$f":"'BX Language acquisition'!D4928","v":0}]
[{"$f":"'BX Language acquisition'!A4929","v":0},{"$f":"'BX Language acquisition'!B4929","v":0},null,{"$f":"'BX Language acquisition'!C4929","v":0},{"$f":"'BX Language acquisition'!D4929","v":0}]
[{"$f":"'BX Language acquisition'!A4930","v":0},{"$f":"'BX Language acquisition'!B4930","v":0},null,{"$f":"'BX Language acquisition'!C4930","v":0},{"$f":"'BX Language acquisition'!D4930","v":0}]
[{"$f":"'BX Language acquisition'!A4931","v":0},{"$f":"'BX Language acquisition'!B4931","v":0},null,{"$f":"'BX Language acquisition'!C4931","v":0},{"$f":"'BX Language acquisition'!D4931","v":0}]
[{"$f":"'BX Language acquisition'!A4932","v":0},{"$f":"'BX Language acquisition'!B4932","v":0},null,{"$f":"'BX Language acquisition'!C4932","v":0},{"$f":"'BX Language acquisition'!D4932","v":0}]
[{"$f":"'BX Language acquisition'!A4933","v":0},{"$f":"'BX Language acquisition'!B4933","v":0},null,{"$f":"'BX Language acquisition'!C4933","v":0},{"$f":"'BX Language acquisition'!D4933","v":0}]
[{"$f":"'BX Language acquisition'!A4934","v":0},{"$f":"'BX Language acquisition'!B4934","v":0},null,{"$f":"'BX Language acquisition'!C4934","v":0},{"$f":"'BX Language acquisition'!D4934","v":0}]
[{"$f":"'BX Language acquisition'!A4935","v":0},{"$f":"'BX Language acquisition'!B4935","v":0},null,{"$f":"'BX Language acquisition'!C4935","v":0},{"$f":"'BX Language acquisition'!D4935","v":0}]
[{"$f":"'BX Language acquisition'!A4936","v":0},{"$f":"'BX Language acquisition'!B4936","v":0},null,{"$f":"'BX Language acquisition'!C4936","v":0},{"$f":"'BX Language acquisition'!D4936","v":0}]
[{"$f":"'BX Language acquisition'!A4937","v":0},{"$f":"'BX Language acquisition'!B4937","v":0},null,{"$f":"'BX Language acquisition'!C4937","v":0},{"$f":"'BX Language acquisition'!D4937","v":0}]
[{"$f":"'BX Language acquisition'!A4938","v":0},{"$f":"'BX Language acquisition'!B4938","v":0},null,{"$f":"'BX Language acquisition'!C4938","v":0},{"$f":"'BX Language acquisition'!D4938","v":0}]
[{"$f":"'BX Language acquisition'!A4939","v":0},{"$f":"'BX Language acquisition'!B4939","v":0},null,{"$f":"'BX Language acquisition'!C4939","v":0},{"$f":"'BX Language acquisition'!D4939","v":0}]
[{"$f":"'BX Language acquisition'!A4940","v":0},{"$f":"'BX Language acquisition'!B4940","v":0},null,{"$f":"'BX Language acquisition'!C4940","v":0},{"$f":"'BX Language acquisition'!D4940","v":0}]
[{"$f":"'BX Language acquisition'!A4941","v":0},{"$f":"'BX Language acquisition'!B4941","v":0},null,{"$f":"'BX Language acquisition'!C4941","v":0},{"$f":"'BX Language acquisition'!D4941","v":0}]
[{"$f":"'BX Language acquisition'!A4942","v":0},{"$f":"'BX Language acquisition'!B4942","v":0},null,{"$f":"'BX Language acquisition'!C4942","v":0},{"$f":"'BX Language acquisition'!D4942","v":0}]
[{"$f":"'BX Language acquisition'!A4943","v":0},{"$f":"'BX Language acquisition'!B4943","v":0},null,{"$f":"'BX Language acquisition'!C4943","v":0},{"$f":"'BX Language acquisition'!D4943","v":0}]
[{"$f":"'BX Language acquisition'!A4944","v":0},{"$f":"'BX Language acquisition'!B4944","v":0},null,{"$f":"'BX Language acquisition'!C4944","v":0},{"$f":"'BX Language acquisition'!D4944","v":0}]
[{"$f":"'BX Language acquisition'!A4945","v":0},{"$f":"'BX Language acquisition'!B4945","v":0},null,{"$f":"'BX Language acquisition'!C4945","v":0},{"$f":"'BX Language acquisition'!D4945","v":0}]
[{"$f":"'BX Language acquisition'!A4946","v":0},{"$f":"'BX Language acquisition'!B4946","v":0},null,{"$f":"'BX Language acquisition'!C4946","v":0},{"$f":"'BX Language acquisition'!D4946","v":0}]
[{"$f":"'BX Language acquisition'!A4947","v":0},{"$f":"'BX Language acquisition'!B4947","v":0},null,{"$f":"'BX Language acquisition'!C4947","v":0},{"$f":"'BX Language acquisition'!D4947","v":0}]
[{"$f":"'BX Language acquisition'!A4948","v":0},{"$f":"'BX Language acquisition'!B4948","v":0},null,{"$f":"'BX Language acquisition'!C4948","v":0},{"$f":"'BX Language acquisition'!D4948","v":0}]
[{"$f":"'BX Language acquisition'!A4949","v":0},{"$f":"'BX Language acquisition'!B4949","v":0},null,{"$f":"'BX Language acquisition'!C4949","v":0},{"$f":"'BX Language acquisition'!D4949","v":0}]
[{"$f":"'BX Language acquisition'!A4950","v":0},{"$f":"'BX Language acquisition'!B4950","v":0},null,{"$f":"'BX Language acquisition'!C4950","v":0},{"$f":"'BX Language acquisition'!D4950","v":0}]
[{"$f":"'BX Language acquisition'!A4951","v":0},{"$f":"'BX Language acquisition'!B4951","v":0},null,{"$f":"'BX Language acquisition'!C4951","v":0},{"$f":"'BX Language acquisition'!D4951","v":0}]
[{"$f":"'BX Language acquisition'!A4952","v":0},{"$f":"'BX Language acquisition'!B4952","v":0},null,{"$f":"'BX Language acquisition'!C4952","v":0},{"$f":"'BX Language acquisition'!D4952","v":0}]
[{"$f":"'BX Language acquisition'!A4953","v":0},{"$f":"'BX Language acquisition'!B4953","v":0},null,{"$f":"'BX Language acquisition'!C4953","v":0},{"$f":"'BX Language acquisition'!D4953","v":0}]
[{"$f":"'BX Language acquisition'!A4954","v":0},{"$f":"'BX Language acquisition'!B4954","v":0},null,{"$f":"'BX Language acquisition'!C4954","v":0},{"$f":"'BX Language acquisition'!D4954","v":0}]
[{"$f":"'BX Language acquisition'!A4955","v":0},{"$f":"'BX Language acquisition'!B4955","v":0},null,{"$f":"'BX Language acquisition'!C4955","v":0},{"$f":"'BX Language acquisition'!D4955","v":0}]
[{"$f":"'BX Language acquisition'!A4956","v":0},{"$f":"'BX Language acquisition'!B4956","v":0},null,{"$f":"'BX Language acquisition'!C4956","v":0},{"$f":"'BX Language acquisition'!D4956","v":0}]
[{"$f":"'BX Language acquisition'!A4957","v":0},{"$f":"'BX Language acquisition'!B4957","v":0},null,{"$f":"'BX Language acquisition'!C4957","v":0},{"$f":"'BX Language acquisition'!D4957","v":0}]
[{"$f":"'BX Language acquisition'!A4958","v":0},{"$f":"'BX Language acquisition'!B4958","v":0},null,{"$f":"'BX Language acquisition'!C4958","v":0},{"$f":"'BX Language acquisition'!D4958","v":0}]
[{"$f":"'BX Language acquisition'!A4959","v":0},{"$f":"'BX Language acquisition'!B4959","v":0},null,{"$f":"'BX Language acquisition'!C4959","v":0},{"$f":"'BX Language acquisition'!D4959","v":0}]
[{"$f":"'BX Language acquisition'!A4960","v":0},{"$f":"'BX Language acquisition'!B4960","v":0},null,{"$f":"'BX Language acquisition'!C4960","v":0},{"$f":"'BX Language acquisition'!D4960","v":0}]
[{"$f":"'BX Language acquisition'!A4961","v":0},{"$f":"'BX Language acquisition'!B4961","v":0},null,{"$f":"'BX Language acquisition'!C4961","v":0},{"$f":"'BX Language acquisition'!D4961","v":0}]
[{"$f":"'BX Language acquisition'!A4962","v":0},{"$f":"'BX Language acquisition'!B4962","v":0},null,{"$f":"'BX Language acquisition'!C4962","v":0},{"$f":"'BX Language acquisition'!D4962","v":0}]
[{"$f":"'BX Language acquisition'!A4963","v":0},{"$f":"'BX Language acquisition'!B4963","v":0},null,{"$f":"'BX Language acquisition'!C4963","v":0},{"$f":"'BX Language acquisition'!D4963","v":0}]
[{"$f":"'BX Language acquisition'!A4964","v":0},{"$f":"'BX Language acquisition'!B4964","v":0},null,{"$f":"'BX Language acquisition'!C4964","v":0},{"$f":"'BX Language acquisition'!D4964","v":0}]
[{"$f":"'BX Language acquisition'!A4965","v":0},{"$f":"'BX Language acquisition'!B4965","v":0},null,{"$f":"'BX Language acquisition'!C4965","v":0},{"$f":"'BX Language acquisition'!D4965","v":0}]
[{"$f":"'BX Language acquisition'!A4966","v":0},{"$f":"'BX Language acquisition'!B4966","v":0},null,{"$f":"'BX Language acquisition'!C4966","v":0},{"$f":"'BX Language acquisition'!D4966","v":0}]
[{"$f":"'BX Language acquisition'!A4967","v":0},{"$f":"'BX Language acquisition'!B4967","v":0},null,{"$f":"'BX Language acquisition'!C4967","v":0},{"$f":"'BX Language acquisition'!D4967","v":0}]
[{"$f":"'BX Language acquisition'!A4968","v":0},{"$f":"'BX Language acquisition'!B4968","v":0},null,{"$f":"'BX Language acquisition'!C4968","v":0},{"$f":"'BX Language acquisition'!D4968","v":0}]
[{"$f":"'BX Language acquisition'!A4969","v":0},{"$f":"'BX Language acquisition'!B4969","v":0},null,{"$f":"'BX Language acquisition'!C4969","v":0},{"$f":"'BX Language acquisition'!D4969","v":0}]
[{"$f":"'BX Language acquisition'!A4970","v":0},{"$f":"'BX Language acquisition'!B4970","v":0},null,{"$f":"'BX Language acquisition'!C4970","v":0},{"$f":"'BX Language acquisition'!D4970","v":0}]
[{"$f":"'BX Language acquisition'!A4971","v":0},{"$f":"'BX Language acquisition'!B4971","v":0},null,{"$f":"'BX Language acquisition'!C4971","v":0},{"$f":"'BX Language acquisition'!D4971","v":0}]
[{"$f":"'BX Language acquisition'!A4972","v":0},{"$f":"'BX Language acquisition'!B4972","v":0},null,{"$f":"'BX Language acquisition'!C4972","v":0},{"$f":"'BX Language acquisition'!D4972","v":0}]
[{"$f":"'BX Language acquisition'!A4973","v":0},{"$f":"'BX Language acquisition'!B4973","v":0},null,{"$f":"'BX Language acquisition'!C4973","v":0},{"$f":"'BX Language acquisition'!D4973","v":0}]
[{"$f":"'BX Language acquisition'!A4974","v":0},{"$f":"'BX Language acquisition'!B4974","v":0},null,{"$f":"'BX Language acquisition'!C4974","v":0},{"$f":"'BX Language acquisition'!D4974","v":0}]
[{"$f":"'BX Language acquisition'!A4975","v":0},{"$f":"'BX Language acquisition'!B4975","v":0},null,{"$f":"'BX Language acquisition'!C4975","v":0},{"$f":"'BX Language acquisition'!D4975","v":0}]
[{"$f":"'BX Language acquisition'!A4976","v":0},{"$f":"'BX Language acquisition'!B4976","v":0},null,{"$f":"'BX Language acquisition'!C4976","v":0},{"$f":"'BX Language acquisition'!D4976","v":0}]
[{"$f":"'BX Language acquisition'!A4977","v":0},{"$f":"'BX Language acquisition'!B4977","v":0},null,{"$f":"'BX Language acquisition'!C4977","v":0},{"$f":"'BX Language acquisition'!D4977","v":0}]
[{"$f":"'BX Language acquisition'!A4978","v":0},{"$f":"'BX Language acquisition'!B4978","v":0},null,{"$f":"'BX Language acquisition'!C4978","v":0},{"$f":"'BX Language acquisition'!D4978","v":0}]
[{"$f":"'BX Language acquisition'!A4979","v":0},{"$f":"'BX Language acquisition'!B4979","v":0},null,{"$f":"'BX Language acquisition'!C4979","v":0},{"$f":"'BX Language acquisition'!D4979","v":0}]
[{"$f":"'BX Language acquisition'!A4980","v":0},{"$f":"'BX Language acquisition'!B4980","v":0},null,{"$f":"'BX Language acquisition'!C4980","v":0},{"$f":"'BX Language acquisition'!D4980","v":0}]
[{"$f":"'BX Language acquisition'!A4981","v":0},{"$f":"'BX Language acquisition'!B4981","v":0},null,{"$f":"'BX Language acquisition'!C4981","v":0},{"$f":"'BX Language acquisition'!D4981","v":0}]
[{"$f":"'BX Language acquisition'!A4982","v":0},{"$f":"'BX Language acquisition'!B4982","v":0},null,{"$f":"'BX Language acquisition'!C4982","v":0},{"$f":"'BX Language acquisition'!D4982","v":0}]
[{"$f":"'BX Language acquisition'!A4983","v":0},{"$f":"'BX Language acquisition'!B4983","v":0},null,{"$f":"'BX Language acquisition'!C4983","v":0},{"$f":"'BX Language acquisition'!D4983","v":0}]
[{"$f":"'BX Language acquisition'!A4984","v":0},{"$f":"'BX Language acquisition'!B4984","v":0},null,{"$f":"'BX Language acquisition'!C4984","v":0},{"$f":"'BX Language acquisition'!D4984","v":0}]
[{"$f":"'BX Language acquisition'!A4985","v":0},{"$f":"'BX Language acquisition'!B4985","v":0},null,{"$f":"'BX Language acquisition'!C4985","v":0},{"$f":"'BX Language acquisition'!D4985","v":0}]
[{"$f":"'BX Language acquisition'!A4986","v":0},{"$f":"'BX Language acquisition'!B4986","v":0},null,{"$f":"'BX Language acquisition'!C4986","v":0},{"$f":"'BX Language acquisition'!D4986","v":0}]
[{"$f":"'BX Language acquisition'!A4987","v":0},{"$f":"'BX Language acquisition'!B4987","v":0},null,{"$f":"'BX Language acquisition'!C4987","v":0},{"$f":"'BX Language acquisition'!D4987","v":0}]
[{"$f":"'BX Language acquisition'!A4988","v":0},{"$f":"'BX Language acquisition'!B4988","v":0},null,{"$f":"'BX Language acquisition'!C4988","v":0},{"$f":"'BX Language acquisition'!D4988","v":0}]
[{"$f":"'BX Language acquisition'!A4989","v":0},{"$f":"'BX Language acquisition'!B4989","v":0},null,{"$f":"'BX Language acquisition'!C4989","v":0},{"$f":"'BX Language acquisition'!D4989","v":0}]
[{"$f":"'BX Language acquisition'!A4990","v":0},{"$f":"'BX Language acquisition'!B4990","v":0},null,{"$f":"'BX Language acquisition'!C4990","v":0},{"$f":"'BX Language acquisition'!D4990","v":0}]
[{"$f":"'BX Language acquisition'!A4991","v":0},{"$f":"'BX Language acquisition'!B4991","v":0},null,{"$f":"'BX Language acquisition'!C4991","v":0},{"$f":"'BX Language acquisition'!D4991","v":0}]
[{"$f":"'BX Language acquisition'!A4992","v":0},{"$f":"'BX Language acquisition'!B4992","v":0},null,{"$f":"'BX Language acquisition'!C4992","v":0},{"$f":"'BX Language acquisition'!D4992","v":0}]
[{"$f":"'BX Language acquisition'!A4993","v":0},{"$f":"'BX Language acquisition'!B4993","v":0},null,{"$f":"'BX Language acquisition'!C4993","v":0},{"$f":"'BX Language acquisition'!D4993","v":0}]
[{"$f":"'BX Language acquisition'!A4994","v":0},{"$f":"'BX Language acquisition'!B4994","v":0},null,{"$f":"'BX Language acquisition'!C4994","v":0},{"$f":"'BX Language acquisition'!D4994","v":0}]
[{"$f":"'BX Language acquisition'!A4995","v":0},{"$f":"'BX Language acquisition'!B4995","v":0},null,{"$f":"'BX Language acquisition'!C4995","v":0},{"$f":"'BX Language acquisition'!D4995","v":0}]
[{"$f":"'BX Language acquisition'!A4996","v":0},{"$f":"'BX Language acquisition'!B4996","v":0},null,{"$f":"'BX Language acquisition'!C4996","v":0},{"$f":"'BX Language acquisition'!D4996","v":0}]
[{"$f":"'BX Language acquisition'!A4997","v":0},{"$f":"'BX Language acquisition'!B4997","v":0},null,{"$f":"'BX Language acquisition'!C4997","v":0},{"$f":"'BX Language acquisition'!D4997","v":0}]

{"sheet":"В > BX Language acquisition","index":3,"n_rows":100,"n_cols":5,"rows_kept":100,"cut":false,"hidden":false,"merged":[]}
[{"$f":"Anki!A11","v":"aboard"},{"$f":"Anki!D11","v":"на борту, вдоль"},{"$f":"Anki!B11","v":"[ǝʹbɔ:d]"},{"$f":"IF(Anki!E11=0, \"\", Anki!E11)","v":"АБОРТ ей сделали на борту самолета"},{"$f":"IF(Anki!G11=0, \"\", Anki!G11)","v":""}]
[{"$f":"Anki!A12","v":"about"},{"$f":"Anki!D12","v":"о, около, вокруг"},{"$f":"Anki!B12","v":"[ǝʹbaut]"},{"$f":"IF(Anki!E12=0, \"\", Anki!E12)","v":"О чем репортаж? Да вокру все ЭБАНУТые"},{"$f":"IF(Anki!G12=0, \"\", Anki!G12)","v":""}]
[{"$f":"Anki!A13","v":"above"},{"$f":"Anki!D13","v":"над, до"},{"$f":"Anki!B13","v":"[ǝʹbʌv]"},{"$f":"IF(Anki!E13=0, \"\", Anki!E13)","v":"А БОг Выше нас всех находится"},{"$f":"IF(Anki!G13=0, \"\", Anki!G13)","v":""}]
[{"$f":"Anki!A14","v":"according to"},{"$f":"Anki!D14","v":"в соответствии с"},{"$f":"Anki!B14","v":"[ǝʹkɔ:dıŋ tu:]"},{"$f":"IF(Anki!E14=0, \"\", Anki!E14)","v":"Учительница музыки говорит ученику: Возьми АКОРД согласно нотам"},{"$f":"IF(Anki!G14=0, \"\", Anki!G14)","v":""}]
[{"$f":"Anki!A15","v":"across"},{"$f":"Anki!D15","v":"через, поперек"},{"$f":"Anki!B15","v":"[ǝʹkrɔs]"},{"$f":"IF(Anki!E15=0, \"\", Anki!E15)","v":"А КРОСС всемирный собрал всех бегунов через препятствие"},{"$f":"IF(Anki!G15=0, \"\", Anki!G15)","v":""}]
[{"$f":"Anki!A16","v":"after"},{"$f":"Anki!D16","v":"после"},{"$f":"Anki!B16","v":"[ʹɑ:ftǝ]"},{"$f":"IF(Anki!E16=0, \"\", Anki!E16)","v":"После АВТО-мобиля следует мотоцикл"},{"$f":"IF(Anki!G16=0, \"\", Anki!G16)","v":""}]
[{"$f":"Anki!A17","v":"against"},{"$f":"Anki!D17","v":"против"},{"$f":"Anki!B17","v":"[ǝʹgenst]"},{"$f":"IF(Anki!E17=0, \"\", Anki!E17)","v":"Против работников ЭГЕНСТва (агентства) недвижимости выдвинуто обвинение"},{"$f":"IF(Anki!G17=0, \"\", Anki!G17)","v":""}]
[{"$f":"Anki!A18","v":"along"},{"$f":"Anki!D18","v":"вдоль, по"},{"$f":"Anki!B18","v":"[ǝʹlɔŋ]"},{"$f":"IF(Anki!E18=0, \"\", Anki!E18)","v":"ЭшЕЛОНг шел вдоль леса по шпалам"},{"$f":"IF(Anki!G18=0, \"\", Anki!G18)","v":""}]
[{"$f":"Anki!A19","v":"among"},{"$f":"Anki!D19","v":"среди"},{"$f":"Anki!B19","v":"[ǝʹmʌŋ]"},{"$f":"IF(Anki!E19=0, \"\", Anki!E19)","v":"А МАНГолы среди узкоглазых самые ускоглазые."},{"$f":"IF(Anki!G19=0, \"\", Anki!G19)","v":""}]
[{"$f":"Anki!A20","v":"around"},{"$f":"Anki!D20","v":"около, вокруг"},{"$f":"Anki!B20","v":"[ǝʹraund]"},{"$f":"IF(Anki!E20=0, \"\", Anki!E20)","v":"хотя пЕрвый РАУНД еще не начался, вокруг ринга уже собралось много народа"},{"$f":"IF(Anki!G20=0, \"\", Anki!G20)","v":""}]
[{"$f":"Anki!A21","v":"as"},{"$f":"Anki!D21","v":"как"},{"$f":"Anki!B21","v":"[æz]"},{"$f":"IF(Anki!E21=0, \"\", Anki!E21)","v":"Так как ЭЗбука Морзе придумана гениально…"},{"$f":"IF(Anki!G21=0, \"\", Anki!G21)","v":""}]
[{"$f":"Anki!A22","v":"at"},{"$f":"Anki!D22","v":"в, у (где?)"},{"$f":"Anki!B22","v":"[æt]"},{"$f":"IF(Anki!E22=0, \"\", Anki!E22)","v":"на кАТке, в хАТе"},{"$f":"IF(Anki!G22=0, \"\", Anki!G22)","v":""}]
[{"$f":"Anki!A23","v":"because of"},{"$f":"Anki!D23","v":"из-за"},{"$f":"Anki!B23","v":"[bıʹkɔz ɔv]"},{"$f":"IF(Anki!E23=0, \"\", Anki!E23)","v":"ПолюБИшь и КОЗла потому что любовь зла! (be-быть, cause-причинять, вызывать)"},{"$f":"IF(Anki!G23=0, \"\", Anki!G23)","v":""}]
[{"$f":"Anki!A24","v":"before"},{"$f":"Anki!D24","v":"до, прежде"},{"$f":"Anki!B24","v":"[bıʹfɔ:]"},{"$f":"IF(Anki!E24=0, \"\", Anki!E24)","v":"ЛюБИ ФОрель прежде чем стать рыбаком"},{"$f":"IF(Anki!G24=0, \"\", Anki!G24)","v":""}]
[{"$f":"Anki!A25","v":"behind"},{"$f":"Anki!D25","v":"за, позади"},{"$f":"Anki!B25","v":"[bıʹhaınd]"},{"$f":"IF(Anki!E25=0, \"\", Anki!E25)","v":"Сзади он ее ПИХАЕТ"},{"$f":"IF(Anki!G25=0, \"\", Anki!G25)","v":""}]
[{"$f":"Anki!A26","v":"below"},{"$f":"Anki!D26","v":"ниже"},{"$f":"Anki!B26","v":"[bıʹlǝu]"},{"$f":"IF(Anki!E26=0, \"\", Anki!E26)","v":"Внизу все БЕЛО"},{"$f":"IF(Anki!G26=0, \"\", Anki!G26)","v":""}]
[{"$f":"Anki!A27","v":"beside"},{"$f":"Anki!D27","v":"рядом"},{"$f":"Anki!B27","v":"[bıʹsaıd]"},{"$f":"IF(Anki!E27=0, \"\", Anki!E27)","v":"БЕСЕДка рядом с домом~ садись рядом будем БЕСЕДовать"},{"$f":"IF(Anki!G27=0, \"\", Anki!G27)","v":""}]
[{"$f":"Anki!A28","v":"besides"},{"$f":"Anki!D28","v":"кроме того"},{"$f":"Anki!B28","v":"[bıʹsaıdz]"},{"$f":"IF(Anki!E28=0, \"\", Anki!E28)","v":"кроме того, ваша собака Была в САДу и повредила лапу"},{"$f":"IF(Anki!G28=0, \"\", Anki!G28)","v":""}]
[{"$f":"Anki!A29","v":"between"},{"$f":"Anki!D29","v":"между"},{"$f":"Anki!B29","v":"[bıʹtwi:n]"},{"$f":"IF(Anki!E29=0, \"\", Anki!E29)","v":"Среди БИТВы между ИНвалидами, я чувствовал себя неуютно~ БЕДУИН между ног почесал себе"},{"$f":"IF(Anki!G29=0, \"\", Anki!G29)","v":""}]
[{"$f":"Anki!A30","v":"beyond"},{"$f":"Anki!D30","v":"за, по ту сторону"},{"$f":"Anki!B30","v":"[bıʹjɔnd]"},{"$f":"IF(Anki!E30=0, \"\", Anki!E30)","v":"За забором лежит БИЙОНДца (пьяница)"},{"$f":"IF(Anki!G30=0, \"\", Anki!G30)","v":""}]
[{"$f":"Anki!A31","v":"but"},{"$f":"Anki!D31","v":"но, кроме"},{"$f":"Anki!B31","v":"[bʌt]"},{"$f":"IF(Anki!E31=0, \"\", Anki!E31)","v":"Но кроме БАТона он ничего не принес на закуску~ Но, БАТый ведь новый уже у стен кремля?"},{"$f":"IF(Anki!G31=0, \"\", Anki!G31)","v":""}]
[{"$f":"Anki!A32","v":"by"},{"$f":"Anki!D32","v":"по, около, у"},{"$f":"Anki!B32","v":"[baı]"},{"$f":"IF(Anki!E32=0, \"\", Anki!E32)","v":"мы ночуем у БАЙкала"},{"$f":"IF(Anki!G32=0, \"\", Anki!G32)","v":""}]
[{"$f":"Anki!A33","v":"down"},{"$f":"Anki!D33","v":"вниз"},{"$f":"Anki!B33","v":"[daun]"},{"$f":"IF(Anki!E33=0, \"\", Anki!E33)","v":"при болезни ДАУНа развитие идет не вверх, а вниз~ Болезнь ДАУНа вниз бросает людей"},{"$f":"IF(Anki!G33=0, \"\", Anki!G33)","v":""}]
[{"$f":"Anki!A34","v":"during"},{"$f":"Anki!D34","v":"во время"},{"$f":"Anki!B34","v":"[ʹdjuǝrıŋ]"},{"$f":"IF(Anki!E34=0, \"\", Anki!E34)","v":"Во время учебы мы валяли ДЙУРИКа и от того ничего и не знаем"},{"$f":"IF(Anki!G34=0, \"\", Anki!G34)","v":""}]
[{"$f":"Anki!A35","v":"following"},{"$f":"Anki!D35","v":"после, следующий"},{"$f":"Anki!B35","v":"[ʹfɔlǝuıŋ]"},{"$f":"IF(Anki!E35=0, \"\", Anki!E35)","v":"Все женщины следуют за крепким ФОЛОУсом (фалосом)"},{"$f":"IF(Anki!G35=0, \"\", Anki!G35)","v":""}]
[{"$f":"Anki!A36","v":"for"},{"$f":"Anki!D36","v":"для, за"},{"$f":"Anki!B36","v":"[fɔ:]"},{"$f":"IF(Anki!E36=0, \"\", Anki!E36)","v":"для ФОРмулы, за ней есть описание"},{"$f":"IF(Anki!G36=0, \"\", Anki!G36)","v":""}]
[{"$f":"Anki!A37","v":"from"},{"$f":"Anki!D37","v":"от, из"},{"$f":"Anki!B37","v":"[frɔm]"},{"$f":"IF(Anki!E37=0, \"\", Anki!E37)","v":"гость из ФРанции отказался от рОМа"},{"$f":"IF(Anki!G37=0, \"\", Anki!G37)","v":""}]
[{"$f":"Anki!A38","v":"in"},{"$f":"Anki!D38","v":"в"},{"$f":"Anki!B38","v":"[ın]"},{"$f":"IF(Anki!E38=0, \"\", Anki!E38)","v":"в ИНкубаторе"},{"$f":"IF(Anki!G38=0, \"\", Anki!G38)","v":""}]
[{"$f":"Anki!A39","v":"inside"},{"$f":"Anki!D39","v":"внутри"},{"$f":"Anki!B39","v":"[ʹınʹsaıd]"},{"$f":"IF(Anki!E39=0, \"\", Anki!E39)","v":"И НаСАДили внутри рассаду"},{"$f":"IF(Anki!G39=0, \"\", Anki!G39)","v":""}]
[{"$f":"Anki!A40","v":"into"},{"$f":"Anki!D40","v":"во, в, внутрь"},{"$f":"Anki!B40","v":"[ʹıntu]"},{"$f":"IF(Anki!E40=0, \"\", Anki!E40)","v":"Внутри каждого человека живет ИНТУиция"},{"$f":"IF(Anki!G40=0, \"\", Anki!G40)","v":""}]
[{"$f":"Anki!A41","v":"like"},{"$f":"Anki!D41","v":"как, нравится, подобно"},{"$f":"Anki!B41","v":"[laık]"},{"$f":"IF(Anki!E41=0, \"\", Anki!E41)","v":"Мне нравится ЛАЙКа~ Ему нравится ЛАЙКовая куртка"},{"$f":"IF(Anki!G41=0, \"\", Anki!G41)","v":""}]
[{"$f":"Anki!A42","v":"near"},{"$f":"Anki!D42","v":"около"},{"$f":"Anki!B42","v":"[nıǝ]"},{"$f":"IF(Anki!E42=0, \"\", Anki!E42)","v":"НИ Я рядом был~ Ни я был рядом с ней"},{"$f":"IF(Anki!G42=0, \"\", Anki!G42)","v":""}]
[{"$f":"Anki!A43","v":"next"},{"$f":"Anki!D43","v":"рядом, следующий"},{"$f":"Anki!B43","v":"[nekst]"},{"$f":"IF(Anki!E43=0, \"\", Anki!E43)","v":"Вы пришли НЕ КСТати, в следующий раз приходите"},{"$f":"IF(Anki!G43=0, \"\", Anki!G43)","v":""}]
[{"$f":"Anki!A44","v":"of"},{"$f":"Anki!D44","v":"из, от, к"},{"$f":"Anki!B44","v":"[ɔv]"},{"$f":"IF(Anki!E44=0, \"\", Anki!E44)","v":"OFицер из штаба?"},{"$f":"IF(Anki!G44=0, \"\", Anki!G44)","v":""}]
[{"$f":"Anki!A45","v":"off"},{"$f":"Anki!D45","v":"от, выкл., прочь"},{"$f":"Anki!B45","v":"[ɔf]"},{"$f":"IF(Anki!E45=0, \"\", Anki!E45)","v":"прочь из Афгана"},{"$f":"IF(Anki!G45=0, \"\", Anki!G45)","v":""}]
[{"$f":"Anki!A46","v":"on"},{"$f":"Anki!D46","v":"на"},{"$f":"Anki!B46","v":"[ɔn]"},{"$f":"IF(Anki!E46=0, \"\", Anki!E46)","v":"ON находиться на высокой крыше"},{"$f":"IF(Anki!G46=0, \"\", Anki!G46)","v":""}]
[{"$f":"Anki!A47","v":"out"},{"$f":"Anki!D47","v":"из, вне, снаружи"},{"$f":"Anki!B47","v":"[aut]"},{"$f":"IF(Anki!E47=0, \"\", Anki!E47)","v":"АУТсайдер - вне жизни оказывается"},{"$f":"IF(Anki!G47=0, \"\", Anki!G47)","v":""}]
[{"$f":"Anki!A48","v":"outside"},{"$f":"Anki!D48","v":"за пределами"},{"$f":"Anki!B48","v":"[ʹautʹsaıd]"},{"$f":"IF(Anki!E48=0, \"\", Anki!E48)","v":"За пределами дома - снаружи стороны дома (out - снуружи, side - сторона)"},{"$f":"IF(Anki!G48=0, \"\", Anki!G48)","v":""}]
[{"$f":"Anki!A49","v":"over"},{"$f":"Anki!D49","v":"над, выше, более"},{"$f":"Anki!B49","v":"[ʹǝuvǝ]"},{"$f":"IF(Anki!E49=0, \"\", Anki!E49)","v":"Он ОУВЭжает (уважает) только тех, кто стоит над ним"},{"$f":"IF(Anki!G49=0, \"\", Anki!G49)","v":""}]
[{"$f":"Anki!A50","v":"past"},{"$f":"Anki!D50","v":"мимо, за, после"},{"$f":"Anki!B50","v":"[pɑ:st]"},{"$f":"IF(Anki!E50=0, \"\", Anki!E50)","v":"В прошлом ПАСТы зубной не было"},{"$f":"IF(Anki!G50=0, \"\", Anki!G50)","v":""}]
[{"$f":"Anki!A51","v":"per"},{"$f":"Anki!D51","v":"по, согласно"},{"$f":"Anki!B51","v":"[pǝ:]"},{"$f":"IF(Anki!E51=0, \"\", Anki!E51)","v":"ПЭ - по"},{"$f":"IF(Anki!G51=0, \"\", Anki!G51)","v":""}]
[{"$f":"Anki!A52","v":"round"},{"$f":"Anki!D52","v":"кругом, вокруг"},{"$f":"Anki!B52","v":"[raund]"},{"$f":"IF(Anki!E52=0, \"\", Anki!E52)","v":"Весь РАУНД арбитр крутился вокруг боксеров"},{"$f":"IF(Anki!G52=0, \"\", Anki!G52)","v":""}]
[{"$f":"Anki!A53","v":"since"},{"$f":"Anki!D53","v":"с тех пор"},{"$f":"Anki!B53","v":"[sıns]"},{"$f":"IF(Anki!E53=0, \"\", Anki!E53)","v":"С тех пор СИНСация (сенсация) следовала за сенсацией"},{"$f":"IF(Anki!G53=0, \"\", Anki!G53)","v":""}]
[{"$f":"Anki!A54","v":"through"},{"$f":"Anki!D54","v":"через"},{"$f":"Anki!B54","v":"[Өru:]"},{"$f":"IF(Anki!E54=0, \"\", Anki!E54)","v":"Через колодезный СРУб достали воду"},{"$f":"IF(Anki!G54=0, \"\", Anki!G54)","v":""}]
[{"$f":"Anki!A55","v":"till"},{"$f":"Anki!D55","v":"до, пока"},{"$f":"Anki!B55","v":"[tıl]"},{"$f":"IF(Anki!E55=0, \"\", Anki!E55)","v":"потерпи пока не доберёмся до ТЫЛа"},{"$f":"IF(Anki!G55=0, \"\", Anki!G55)","v":""}]
[{"$f":"Anki!A56","v":"to"},{"$f":"Anki!D56","v":"к"},{"$f":"Anki!B56","v":"[tu:]"},{"$f":"IF(Anki!E56=0, \"\", Anki!E56)","v":"ТУда "},{"$f":"IF(Anki!G56=0, \"\", Anki!G56)","v":""}]
[{"$f":"Anki!A57","v":"under"},{"$f":"Anki!D57","v":"под"},{"$f":"Anki!B57","v":"[ʹʌndǝ]"},{"$f":"IF(Anki!E57=0, \"\", Anki!E57)","v":"Под горы АНДЫ заложена бомба"},{"$f":"IF(Anki!G57=0, \"\", Anki!G57)","v":""}]
[{"$f":"Anki!A58","v":"until"},{"$f":"Anki!D58","v":"до того как"},{"$f":"Anki!B58","v":"[ǝnʹtıl]"},{"$f":"IF(Anki!E58=0, \"\", Anki!E58)","v":"До тех пор пока не съем ЭНТИЛопу (антилопу), не успокоюсь"},{"$f":"IF(Anki!G58=0, \"\", Anki!G58)","v":""}]
[{"$f":"Anki!A59","v":"up"},{"$f":"Anki!D59","v":"вверх по"},{"$f":"Anki!B59","v":"[ʌp]"},{"$f":"IF(Anki!E59=0, \"\", Anki!E59)","v":"Собаке кричим: АП! АП! и вверх она прыгает"},{"$f":"IF(Anki!G59=0, \"\", Anki!G59)","v":""}]
[{"$f":"Anki!A60","v":"with"},{"$f":"Anki!D60","v":"с"},{"$f":"Anki!B60","v":"[wıð]"},{"$f":"IF(Anki!E60=0, \"\", Anki!E60)","v":"УВИЗите его с вещами"},{"$f":"IF(Anki!G60=0, \"\", Anki!G60)","v":""}]
[{"$f":"Anki!A61","v":"within"},{"$f":"Anki!D61","v":"внутри, в пределах"},{"$f":"Anki!B61","v":"[wıʹðın]"},{"$f":"IF(Anki!E61=0, \"\", Anki!E61)","v":"ВИжу дЖИН внутри - жизнь хороша (with - c, in - в)"},{"$f":"IF(Anki!G61=0, \"\", Anki!G61)","v":""}]
[{"$f":"Anki!A62","v":"without"},{"$f":"Anki!D62","v":"без, снаружи"},{"$f":"Anki!B62","v":"[wıʹðaut]"},{"$f":"IF(Anki!E62=0, \"\", Anki!E62)","v":"ВЯЗАТь без спиц трудно"},{"$f":"IF(Anki!G62=0, \"\", Anki!G62)","v":""}]
[{"$f":"Anki!A63","v":"I"},{"$f":"Anki!D63","v":"я"},{"$f":"Anki!B63","v":"[aı]"},{"$f":"IF(Anki!E63=0, \"\", Anki!E63)","v":"АЙ, какой Я парень"},{"$f":"IF(Anki!G63=0, \"\", Anki!G63)","v":""}]
[{"$f":"Anki!A64","v":"all"},{"$f":"Anki!D64","v":"все, весь, вся, всё"},{"$f":"Anki!B64","v":"[ɔ:l]"},{"$f":"IF(Anki!E64=0, \"\", Anki!E64)","v":"Все ОЛи хороши"},{"$f":"IF(Anki!G64=0, \"\", Anki!G64)","v":""}]
[{"$f":"Anki!A65","v":"another"},{"$f":"Anki!D65","v":"другой, другие"},{"$f":"Anki!B65","v":"[ǝʹnʌðǝ]"},{"$f":"IF(Anki!E65=0, \"\", Anki!E65)","v":"ОНА дошла до ЗАбора по другой тропинке (any - любой, there - там - нам другой)"},{"$f":"IF(Anki!G65=0, \"\", Anki!G65)","v":""}]
[{"$f":"Anki!A66","v":"any"},{"$f":"Anki!D66","v":"какой-то, любой"},{"$f":"Anki!B66","v":"[ʹenı]"},{"$f":"IF(Anki!E66=0, \"\", Anki!E66)","v":"В лЕНИ любой мечтает жить"},{"$f":"IF(Anki!G66=0, \"\", Anki!G66)","v":""}]
[{"$f":"Anki!A67","v":"both"},{"$f":"Anki!D67","v":"оба"},{"$f":"Anki!B67","v":"[bǝuӨ]"},{"$f":"IF(Anki!E67=0, \"\", Anki!E67)","v":"Они оба у БОФСа (босса) должны быть"},{"$f":"IF(Anki!G67=0, \"\", Anki!G67)","v":""}]
[{"$f":"Anki!A68","v":"each"},{"$f":"Anki!D68","v":"каждый"},{"$f":"Anki!B68","v":"[i:tʃ]"},{"$f":"IF(Anki!E68=0, \"\", Anki!E68)","v":"Вирусом вИЧ каждая шлюха заражена!~ Вирус ИЧ поразил каждого."},{"$f":"IF(Anki!G68=0, \"\", Anki!G68)","v":""}]
[{"$f":"Anki!A69","v":"either"},{"$f":"Anki!D69","v":"тот или другой, и тот и другой"},{"$f":"Anki!B69","v":"[ʹaıðǝ]"},{"$f":"IF(Anki!E69=0, \"\", Anki!E69)","v":"оба АЗЕРбайджанцы (амер. [ʹıðǝr])"},{"$f":"IF(Anki!G69=0, \"\", Anki!G69)","v":""}]
[{"$f":"Anki!A70","v":"every"},{"$f":"Anki!D70","v":"каждый, всякий"},{"$f":"Anki!B70","v":"[ʹevrı]"},{"$f":"IF(Anki!E70=0, \"\", Anki!E70)","v":"ЭВРИка! Каждый раз кричал Архимед~ каждый знает что ЭВИРест (Эверест) высочайшая вершина"},{"$f":"IF(Anki!G70=0, \"\", Anki!G70)","v":""}]
[{"$f":"Anki!A71","v":"few"},{"$f":"Anki!D71","v":"мало, немногие"},{"$f":"Anki!B71","v":"[fju:]"},{"$f":"IF(Anki!E71=0, \"\", Anki!E71)","v":"я ФЬЮ (пью) мало и немного, сказал заплетающимся языком пьяница"},{"$f":"IF(Anki!G71=0, \"\", Anki!G71)","v":""}]
[{"$f":"Anki!A72","v":"he"},{"$f":"Anki!D72","v":"он"},{"$f":"Anki!B72","v":"[hi:]"},{"$f":"IF(Anki!E72=0, \"\", Anki!E72)","v":"Он ХИтёр, как чёрт"},{"$f":"IF(Anki!G72=0, \"\", Anki!G72)","v":""}]
[{"$f":"Anki!A73","v":"her"},{"$f":"Anki!D73","v":"её"},{"$f":"Anki!B73","v":"[hǝ:]"},{"$f":"IF(Anki!E73=0, \"\", Anki!E73)","v":"он (he) чей? Он хеё"},{"$f":"IF(Anki!G73=0, \"\", Anki!G73)","v":""}]
[{"$f":"Anki!A74","v":"him"},{"$f":"Anki!D74","v":"ему, его (кого?)"},{"$f":"Anki!B74","v":"[hım]"},{"$f":"IF(Anki!E74=0, \"\", Anki!E74)","v":"ему - хим-у"},{"$f":"IF(Anki!G74=0, \"\", Anki!G74)","v":""}]
[{"$f":"Anki!A75","v":"his"},{"$f":"Anki!D75","v":"его, свой (чей?)"},{"$f":"Anki!B75","v":"[hız]"},{"$f":"IF(Anki!E75=0, \"\", Anki!E75)","v":"Хи-с его (-s на конце может обозначать принадлежность предмета кому-либо)"},{"$f":"IF(Anki!G75=0, \"\", Anki!G75)","v":""}]
[{"$f":"Anki!A76","v":"it"},{"$f":"Anki!D76","v":"это, он, она, оно (неуд.)"},{"$f":"Anki!B76","v":"[ıt]"},{"$f":"IF(Anki!E76=0, \"\", Anki!E76)","v":"И Тварь это оно"},{"$f":"IF(Anki!G76=0, \"\", Anki!G76)","v":""}]
[{"$f":"Anki!A77","v":"its"},{"$f":"Anki!D77","v":"его, её ( для it)"},{"$f":"Anki!B77","v":"[ıts]"},{"$f":"IF(Anki!E77=0, \"\", Anki!E77)","v":" (-s на конце может обозначать принадлежность предмета кому-либо)"},{"$f":"IF(Anki!G77=0, \"\", Anki!G77)","v":""}]
[{"$f":"Anki!A78","v":"little"},{"$f":"Anki!D78","v":"мало, немногие"},{"$f":"Anki!B78","v":"[ʹlıtl]"},{"$f":"IF(Anki!E78=0, \"\", Anki!E78)","v":"Самолёт маленький ЛИТаЛ в облаках"},{"$f":"IF(Anki!G78=0, \"\", Anki!G78)","v":""}]
[{"$f":"Anki!A79","v":"many"},{"$f":"Anki!D79","v":"много, многие"},{"$f":"Anki!B79","v":"[ʹmenı]"},{"$f":"IF(Anki!E79=0, \"\", Anki!E79)","v":"В МЕНИатюре (миниатюре) много цветов"},{"$f":"IF(Anki!G79=0, \"\", Anki!G79)","v":""}]
[{"$f":"Anki!A80","v":"me"},{"$f":"Anki!D80","v":"мне, меня"},{"$f":"Anki!B80","v":"[mi:]"},{"$f":"IF(Anki!E80=0, \"\", Anki!E80)","v":"МИмо меня"},{"$f":"IF(Anki!G80=0, \"\", Anki!G80)","v":""}]
[{"$f":"Anki!A81","v":"mine"},{"$f":"Anki!D81","v":"мой, моя, мое, мои"},{"$f":"Anki!B81","v":"[maın]"},{"$f":"IF(Anki!E81=0, \"\", Anki!E81)","v":"книга Гитлера Майн Кампф - Моя борьба."},{"$f":"IF(Anki!G81=0, \"\", Anki!G81)","v":""}]
[{"$f":"Anki!A82","v":"much"},{"$f":"Anki!D82","v":"много"},{"$f":"Anki!B82","v":"[mʌtʃ]"},{"$f":"IF(Anki!E82=0, \"\", Anki!E82)","v":"Футбольный МАТЧ много зрителей собрал"},{"$f":"IF(Anki!G82=0, \"\", Anki!G82)","v":""}]
[{"$f":"Anki!A83","v":"my"},{"$f":"Anki!D83","v":"мой, моя, мое, мои"},{"$f":"Anki!B83","v":"[maı]"},{"$f":"IF(Anki!E83=0, \"\", Anki!E83)","v":"мой МАЙ"},{"$f":"IF(Anki!G83=0, \"\", Anki!G83)","v":""}]
[{"$f":"Anki!A84","v":"myself"},{"$f":"Anki!D84","v":"себя (сам)"},{"$f":"Anki!B84","v":"[maıʹself]"},{"$f":"IF(Anki!E84=0, \"\", Anki!E84)","v":"(my - мой, self - личность = себя)"},{"$f":"IF(Anki!G84=0, \"\", Anki!G84)","v":""}]
[{"$f":"Anki!A85","v":"neither"},{"$f":"Anki!D85","v":"ни тот, ни другой"},{"$f":"Anki!B85","v":"[ʹnaıðǝ]"},{"$f":"IF(Anki!E85=0, \"\", Anki!E85)","v":"НИ ЗА тот, НИ ЗА другой вариант никто голосовать не будет"},{"$f":"IF(Anki!G85=0, \"\", Anki!G85)","v":""}]
[{"$f":"Anki!A86","v":"no"},{"$f":"Anki!D86","v":"нет, никакой"},{"$f":"Anki!B86","v":"[nǝu]"},{"$f":"IF(Anki!E86=0, \"\", Anki!E86)","v":"НО У меня нет денег!"},{"$f":"IF(Anki!G86=0, \"\", Anki!G86)","v":""}]
[{"$f":"Anki!A87","v":"none"},{"$f":"Anki!D87","v":"ни один из, никто"},{"$f":"Anki!B87","v":"[nʌn]"},{"$f":"IF(Anki!E87=0, \"\", Anki!E87)","v":"у хорошей НЯНьки – никто не шалит~ НАНька никто для  меня"},{"$f":"IF(Anki!G87=0, \"\", Anki!G87)","v":""}]
[{"$f":"Anki!A88","v":"one"},{"$f":"Anki!D88","v":"один, некто, кто-то"},{"$f":"Anki!B88","v":"[wʌn]"},{"$f":"IF(Anki!E88=0, \"\", Anki!E88)","v":"У ВАНи один рубль всего"},{"$f":"IF(Anki!G88=0, \"\", Anki!G88)","v":""}]
[{"$f":"Anki!A89","v":"our"},{"$f":"Anki!D89","v":"наш, наша, наше, наши"},{"$f":"Anki!B89","v":"[ʹauǝ]"},{"$f":"IF(Anki!E89=0, \"\", Anki!E89)","v":"Ау, Э! Тут все наши!"},{"$f":"IF(Anki!G89=0, \"\", Anki!G89)","v":""}]
[{"$f":"Anki!A90","v":"same"},{"$f":"Anki!D90","v":"тот же самый, то же"},{"$f":"Anki!B90","v":"[seım]"},{"$f":"IF(Anki!E90=0, \"\", Anki!E90)","v":"В Польше тот же самый СЕЙМ, что и раньше."},{"$f":"IF(Anki!G90=0, \"\", Anki!G90)","v":""}]
[{"$f":"Anki!A91","v":"she"},{"$f":"Anki!D91","v":"она"},{"$f":"Anki!B91","v":"[ʃi:]"},{"$f":"IF(Anki!E91=0, \"\", Anki!E91)","v":"Она ШИпит как змея"},{"$f":"IF(Anki!G91=0, \"\", Anki!G91)","v":""}]
[{"$f":"Anki!A92","v":"some"},{"$f":"Anki!D92","v":"какой-то, некоторые, немного"},{"$f":"Anki!B92","v":"[sʌm]"},{"$f":"IF(Anki!E92=0, \"\", Anki!E92)","v":"Некоторые проблемы ты реши САМ"},{"$f":"IF(Anki!G92=0, \"\", Anki!G92)","v":""}]
[{"$f":"Anki!A93","v":"such"},{"$f":"Anki!D93","v":"такой"},{"$f":"Anki!B93","v":"[sʌtʃ]"},{"$f":"IF(Anki!E93=0, \"\", Anki!E93)","v":"Ты такой САЧок (сленг - Человек, отлынивающий от выполнения своих обязанностей)"},{"$f":"IF(Anki!G93=0, \"\", Anki!G93)","v":""}]
[{"$f":"Anki!A94","v":"that"},{"$f":"Anki!D94","v":"тот (далеко)"},{"$f":"Anki!B94","v":"[ðæt]"},{"$f":"IF(Anki!E94=0, \"\", Anki!E94)","v":"я трогаю тот ЗАД и в тот же час получил по ЗАДу"},{"$f":"IF(Anki!G94=0, \"\", Anki!G94)","v":""}]
[{"$f":"Anki!A95","v":"their"},{"$f":"Anki!D95","v":"их (чей?)"},{"$f":"Anki!B95","v":"[ðɛǝ]"},{"$f":"IF(Anki!E95=0, \"\", Anki!E95)","v":"Их дети ЗЕЯдлые курильщики~ это их THEIRно (ЗЕРно)"},{"$f":"IF(Anki!G95=0, \"\", Anki!G95)","v":""}]
[{"$f":"Anki!A96","v":"them"},{"$f":"Anki!D96","v":"их (кого?), им"},{"$f":"Anki!B96","v":"[ðǝm]"},{"$f":"IF(Anki!E96=0, \"\", Anki!E96)","v":"Их в ЗЕМлю закопай!~ (опустить) их наЗЕМь"},{"$f":"IF(Anki!G96=0, \"\", Anki!G96)","v":""}]
[{"$f":"Anki!A97","v":"these"},{"$f":"Anki!D97","v":"эти (рядом)"},{"$f":"Anki!B97","v":"[ði:z]"},{"$f":"IF(Anki!E97=0, \"\", Anki!E97)","v":"это старый ржавый автомобиль THESE (ЗИС)"},{"$f":"IF(Anki!G97=0, \"\", Anki!G97)","v":""}]
[{"$f":"Anki!A98","v":"they"},{"$f":"Anki!D98","v":"они"},{"$f":"Anki!B98","v":"[ðeı]"},{"$f":"IF(Anki!E98=0, \"\", Anki!E98)","v":"Они в КолиЗЕЙ заехали~ они взяли друЗЕЙ и пошли в муЗЕЙ, где стоял ротоЗЕЙ"},{"$f":"IF(Anki!G98=0, \"\", Anki!G98)","v":""}]
[{"$f":"Anki!A99","v":"this"},{"$f":"Anki!D99","v":"этот (рядом)"},{"$f":"Anki!B99","v":"[ðıs]"},{"$f":"IF(Anki!E99=0, \"\", Anki!E99)","v":"Этот ДИСк для этой ДИСкуссии не подойдет"},{"$f":"IF(Anki!G99=0, \"\", Anki!G99)","v":""}]
[{"$f":"Anki!A100","v":"those"},{"$f":"Anki!D100","v":"те (далеко)"},{"$f":"Anki!B100","v":"[ðǝuz]"},{"$f":"IF(Anki!E100=0, \"\", Anki!E100)","v":"те THOSE(СОУСы) густые и горячие"},{"$f":"IF(Anki!G100=0, \"\", Anki!G100)","v":""}]
[{"$f":"Anki!A101","v":"us"},{"$f":"Anki!D101","v":"нас, нам"},{"$f":"Anki!B101","v":"[ʌs]"},{"$f":"IF(Anki!E101=0, \"\", Anki!E101)","v":"АС (мастер) научил нас"},{"$f":"IF(Anki!G101=0, \"\", Anki!G101)","v":""}]
[{"$f":"Anki!A102","v":"we"},{"$f":"Anki!D102","v":"мы"},{"$f":"Anki!B102","v":"[wi:]"},{"$f":"IF(Anki!E102=0, \"\", Anki!E102)","v":"уВИ - это мы"},{"$f":"IF(Anki!G102=0, \"\", Anki!G102)","v":""}]
[{"$f":"Anki!A103","v":"what"},{"$f":"Anki!D103","v":"что, какой"},{"$f":"Anki!B103","v":"[wɔt]"},{"$f":"IF(Anki!E103=0, \"\", Anki!E103)","v":"уВОТ, какой рассеянный с улицы Бассейной"},{"$f":"IF(Anki!G103=0, \"\", Anki!G103)","v":""}]
[{"$f":"Anki!A104","v":"whatever"},{"$f":"Anki!D104","v":"какой бы ни"},{"$f":"Anki!B104","v":"[wɔtʹevǝ]"},{"$f":"IF(Anki!E104=0, \"\", Anki!E104)","v":"В ОТТАВЕ (столица их) любой канадец хоккеист (дословно перевод - что каждый)"},{"$f":"IF(Anki!G104=0, \"\", Anki!G104)","v":""}]
[{"$f":"Anki!A105","v":"which"},{"$f":"Anki!D105","v":"который, какой, кто, что"},{"$f":"Anki!B105","v":"[wıtʃ]"},{"$f":"IF(Anki!E105=0, \"\", Anki!E105)","v":"Вирус ВИЧ который миллион людей уничтожил?~ ВЫ Чудо, которое я буду помнить всю жизнь"},{"$f":"IF(Anki!G105=0, \"\", Anki!G105)","v":""}]
[{"$f":"Anki!A106","v":"who"},{"$f":"Anki!D106","v":"кто"},{"$f":"Anki!B106","v":"[hu:]"},{"$f":"IF(Anki!E106=0, \"\", Anki!E106)","v":"с ХУтора кто?~ ХУдожественный фильм, который получил 'оскар"},{"$f":"IF(Anki!G106=0, \"\", Anki!G106)","v":""}]
[{"$f":"Anki!A107","v":"whose"},{"$f":"Anki!D107","v":"чей"},{"$f":"Anki!B107","v":"[hu:z]"},{"$f":"IF(Anki!E107=0, \"\", Anki!E107)","v":"саддам ХУСейн чей-то родственник~ ГУСь чей?"},{"$f":"IF(Anki!G107=0, \"\", Anki!G107)","v":""}]
[{"$f":"Anki!A108","v":"you"},{"$f":"Anki!D108","v":"ты, вы, вас, вам"},{"$f":"Anki!B108","v":"[ju:d]"},{"$f":"IF(Anki!E108=0, \"\", Anki!E108)","v":"Вы - люди Юморные~ ты Юнгой будешь"},{"$f":"IF(Anki!G108=0, \"\", Anki!G108)","v":""}]
[{"$f":"Anki!A109","v":"your"},{"$f":"Anki!D109","v":"ваш, ваша, ваше, ваши"},{"$f":"Anki!B109","v":"[jɔ:]"},{"$f":"IF(Anki!E109=0, \"\", Anki!E109)","v":"твой маЙОР"},{"$f":"IF(Anki!G109=0, \"\", Anki!G109)","v":""}]
[{"$f":"Anki!A110","v":"yourself"},{"$f":"Anki!D110","v":"сами, самим собой"},{"$f":"Anki!B110","v":"[jɔ:ʹself]"},{"$f":"IF(Anki!E110=0, \"\", Anki!E110)","v":"(your - ваш, self - личность = себя)"},{"$f":"IF(Anki!G110=0, \"\", Anki!G110)","v":""}]

{"sheet":"Найти WAV","index":4,"n_rows":110,"n_cols":4,"rows_kept":110,"cut":false,"hidden":false,"merged":[]}
[]
[]
[]
[]
[]
[]
[]
[]
[]
["НАЙТИ","Не найдены из НАЙТИ",null,"Найдены"]
[{"$f":"Anki!A11 & \".wav\"","v":"aboard.wav"},{"$f":"MATCH(A11,$D$11:$D$110,0)+10","v":11},null,"aboard.wav"]
[{"$f":"Anki!A12 & \".wav\"","v":"about.wav"},{"$f":"MATCH(A12,$D$11:$D$110,0)+10","v":12},null,"about.wav"]
[{"$f":"Anki!A13 & \".wav\"","v":"above.wav"},{"$f":"MATCH(A13,$D$11:$D$110,0)+10","v":13},null,"above.wav"]
[{"$f":"Anki!A14 & \".wav\"","v":"according to.wav"},{"$f":"MATCH(A14,$D$11:$D$110,0)+10","v":{"$error":"#N/A"}},null,"according.wav"]
[{"$f":"Anki!A15 & \".wav\"","v":"across.wav"},{"$f":"MATCH(A15,$D$11:$D$110,0)+10","v":15},null,"across.wav"]
[{"$f":"Anki!A16 & \".wav\"","v":"after.wav"},{"$f":"MATCH(A16,$D$11:$D$110,0)+10","v":16},null,"after.wav"]
[{"$f":"Anki!A17 & \".wav\"","v":"against.wav"},{"$f":"MATCH(A17,$D$11:$D$110,0)+10","v":17},null,"against.wav"]
[{"$f":"Anki!A18 & \".wav\"","v":"along.wav"},{"$f":"MATCH(A18,$D$11:$D$110,0)+10","v":19},null,"all.wav"]
[{"$f":"Anki!A19 & \".wav\"","v":"among.wav"},{"$f":"MATCH(A19,$D$11:$D$110,0)+10","v":20},null,"along.wav"]
[{"$f":"Anki!A20 & \".wav\"","v":"around.wav"},{"$f":"MATCH(A20,$D$11:$D$110,0)+10","v":23},null,"among.wav"]
[{"$f":"Anki!A21 & \".wav\"","v":"as.wav"},{"$f":"MATCH(A21,$D$11:$D$110,0)+10","v":24},null,"another.wav"]
[{"$f":"Anki!A22 & \".wav\"","v":"at.wav"},{"$f":"MATCH(A22,$D$11:$D$110,0)+10","v":25},null,"any.wav"]
[{"$f":"Anki!A23 & \".wav\"","v":"because of.wav"},{"$f":"MATCH(A23,$D$11:$D$110,0)+10","v":{"$error":"#N/A"}},null,"around.wav"]
[{"$f":"Anki!A24 & \".wav\"","v":"before.wav"},{"$f":"MATCH(A24,$D$11:$D$110,0)+10","v":27},null,"as.wav"]
[{"$f":"Anki!A25 & \".wav\"","v":"behind.wav"},{"$f":"MATCH(A25,$D$11:$D$110,0)+10","v":28},null,"at.wav"]
[{"$f":"Anki!A26 & \".wav\"","v":"below.wav"},{"$f":"MATCH(A26,$D$11:$D$110,0)+10","v":29},null,"because.wav"]
[{"$f":"Anki!A27 & \".wav\"","v":"beside.wav"},{"$f":"MATCH(A27,$D$11:$D$110,0)+10","v":30},null,"before.wav"]
[{"$f":"Anki!A28 & \".wav\"","v":"besides.wav"},{"$f":"MATCH(A28,$D$11:$D$110,0)+10","v":31},null,"behind.wav"]
[{"$f":"Anki!A29 & \".wav\"","v":"between.wav"},{"$f":"MATCH(A29,$D$11:$D$110,0)+10","v":32},null,"below.wav"]
[{"$f":"Anki!A30 & \".wav\"","v":"beyond.wav"},{"$f":"MATCH(A30,$D$11:$D$110,0)+10","v":33},null,"beside.wav"]
[{"$f":"Anki!A31 & \".wav\"","v":"but.wav"},{"$f":"MATCH(A31,$D$11:$D$110,0)+10","v":35},null,"besides.wav"]
[{"$f":"Anki!A32 & \".wav\"","v":"by.wav"},{"$f":"MATCH(A32,$D$11:$D$110,0)+10","v":36},null,"between.wav"]
[{"$f":"Anki!A33 & \".wav\"","v":"down.wav"},{"$f":"MATCH(A33,$D$11:$D$110,0)+10","v":37},null,"beyond.wav"]
[{"$f":"Anki!A34 & \".wav\"","v":"during.wav"},{"$f":"MATCH(A34,$D$11:$D$110,0)+10","v":38},null,"both.wav"]
[{"$f":"Anki!A35 & \".wav\"","v":"following.wav"},{"$f":"MATCH(A35,$D$11:$D$110,0)+10","v":43},null,"but.wav"]
[{"$f":"Anki!A36 & \".wav\"","v":"for.wav"},{"$f":"MATCH(A36,$D$11:$D$110,0)+10","v":44},null,"by.wav"]
[{"$f":"Anki!A37 & \".wav\"","v":"from.wav"},{"$f":"MATCH(A37,$D$11:$D$110,0)+10","v":45},null,"down.wav"]
[{"$f":"Anki!A38 & \".wav\"","v":"in.wav"},{"$f":"MATCH(A38,$D$11:$D$110,0)+10","v":51},null,"during.wav"]
[{"$f":"Anki!A39 & \".wav\"","v":"inside.wav"},{"$f":"MATCH(A39,$D$11:$D$110,0)+10","v":52},null,"each.wav"]
[{"$f":"Anki!A40 & \".wav\"","v":"into.wav"},{"$f":"MATCH(A40,$D$11:$D$110,0)+10","v":53},null,"either.wav"]
[{"$f":"Anki!A41 & \".wav\"","v":"like.wav"},{"$f":"MATCH(A41,$D$11:$D$110,0)+10","v":56},null,"every.wav"]
[{"$f":"Anki!A42 & \".wav\"","v":"near.wav"},{"$f":"MATCH(A42,$D$11:$D$110,0)+10","v":64},null,"few.wav"]
[{"$f":"Anki!A43 & \".wav\"","v":"next.wav"},{"$f":"MATCH(A43,$D$11:$D$110,0)+10","v":66},null,"following.wav"]
[{"$f":"Anki!A44 & \".wav\"","v":"of.wav"},{"$f":"MATCH(A44,$D$11:$D$110,0)+10","v":{"$error":"#N/A"}},null,"for.wav"]
[{"$f":"Anki!A45 & \".wav\"","v":"off.wav"},{"$f":"MATCH(A45,$D$11:$D$110,0)+10","v":{"$error":"#N/A"}},null,"from.wav"]
[{"$f":"Anki!A46 & \".wav\"","v":"on.wav"},{"$f":"MATCH(A46,$D$11:$D$110,0)+10","v":69},null,"he.wav"]
[{"$f":"Anki!A47 & \".wav\"","v":"out.wav"},{"$f":"MATCH(A47,$D$11:$D$110,0)+10","v":72},null,"her.wav"]
[{"$f":"Anki!A48 & \".wav\"","v":"outside.wav"},{"$f":"MATCH(A48,$D$11:$D$110,0)+10","v":73},null,"him.wav"]
[{"$f":"Anki!A49 & \".wav\"","v":"over.wav"},{"$f":"MATCH(A49,$D$11:$D$110,0)+10","v":74},null,"his.wav"]
[{"$f":"Anki!A50 & \".wav\"","v":"past.wav"},{"$f":"MATCH(A50,$D$11:$D$110,0)+10","v":75},null,"i.wav"]
[{"$f":"Anki!A51 & \".wav\"","v":"per.wav"},{"$f":"MATCH(A51,$D$11:$D$110,0)+10","v":76},null,"in.wav"]
[{"$f":"Anki!A52 & \".wav\"","v":"round.wav"},{"$f":"MATCH(A52,$D$11:$D$110,0)+10","v":77},null,"inside.wav"]
[{"$f":"Anki!A53 & \".wav\"","v":"since.wav"},{"$f":"MATCH(A53,$D$11:$D$110,0)+10","v":80},null,"into.wav"]
[{"$f":"Anki!A54 & \".wav\"","v":"through.wav"},{"$f":"MATCH(A54,$D$11:$D$110,0)+10","v":88},null,"it.wav"]
[{"$f":"Anki!A55 & \".wav\"","v":"till.wav"},{"$f":"MATCH(A55,$D$11:$D$110,0)+10","v":89},null,"its.wav"]
[{"$f":"Anki!A56 & \".wav\"","v":"to.wav"},{"$f":"MATCH(A56,$D$11:$D$110,0)+10","v":{"$error":"#N/A"}},null,"like.wav"]
[{"$f":"Anki!A57 & \".wav\"","v":"under.wav"},{"$f":"MATCH(A57,$D$11:$D$110,0)+10","v":90},null,"little.wav"]
[{"$f":"Anki!A58 & \".wav\"","v":"until.wav"},{"$f":"MATCH(A58,$D$11:$D$110,0)+10","v":91},null,"many.wav"]
[{"$f":"Anki!A59 & \".wav\"","v":"up.wav"},{"$f":"MATCH(A59,$D$11:$D$110,0)+10","v":92},null,"me.wav"]
[{"$f":"Anki!A60 & \".wav\"","v":"with.wav"},{"$f":"MATCH(A60,$D$11:$D$110,0)+10","v":100},null,"mine.wav"]
[{"$f":"Anki!A61 & \".wav\"","v":"within.wav"},{"$f":"MATCH(A61,$D$11:$D$110,0)+10","v":101},null,"much.wav"]
[{"$f":"Anki!A62 & \".wav\"","v":"without.wav"},{"$f":"MATCH(A62,$D$11:$D$110,0)+10","v":102},null,"my.wav"]
[{"$f":"Anki!A63 & \".wav\"","v":"I.wav"},{"$f":"MATCH(A63,$D$11:$D$110,0)+10","v":50},null,"myself.wav"]
[{"$f":"Anki!A64 & \".wav\"","v":"all.wav"},{"$f":"MATCH(A64,$D$11:$D$110,0)+10","v":18},null,"near.wav"]
[{"$f":"Anki!A65 & \".wav\"","v":"another.wav"},{"$f":"MATCH(A65,$D$11:$D$110,0)+10","v":21},null,"neither.wav"]
[{"$f":"Anki!A66 & \".wav\"","v":"any.wav"},{"$f":"MATCH(A66,$D$11:$D$110,0)+10","v":22},null,"next.wav"]
[{"$f":"Anki!A67 & \".wav\"","v":"both.wav"},{"$f":"MATCH(A67,$D$11:$D$110,0)+10","v":34},null,"no.wav"]
[{"$f":"Anki!A68 & \".wav\"","v":"each.wav"},{"$f":"MATCH(A68,$D$11:$D$110,0)+10","v":39},null,"none.wav"]
[{"$f":"Anki!A69 & \".wav\"","v":"either.wav"},{"$f":"MATCH(A69,$D$11:$D$110,0)+10","v":40},null,"on.wav"]
[{"$f":"Anki!A70 & \".wav\"","v":"every.wav"},{"$f":"MATCH(A70,$D$11:$D$110,0)+10","v":41},null,"one.wav"]
[{"$f":"Anki!A71 & \".wav\"","v":"few.wav"},{"$f":"MATCH(A71,$D$11:$D$110,0)+10","v":42},null,"our.wav"]
[{"$f":"Anki!A72 & \".wav\"","v":"he.wav"},{"$f":"MATCH(A72,$D$11:$D$110,0)+10","v":46},null,"out.wav"]
[{"$f":"Anki!A73 & \".wav\"","v":"her.wav"},{"$f":"MATCH(A73,$D$11:$D$110,0)+10","v":47},null,"outside.wav"]
[{"$f":"Anki!A74 & \".wav\"","v":"him.wav"},{"$f":"MATCH(A74,$D$11:$D$110,0)+10","v":48},null,"over.wav"]
[{"$f":"Anki!A75 & \".wav\"","v":"his.wav"},{"$f":"MATCH(A75,$D$11:$D$110,0)+10","v":49},null,"past.wav"]
[{"$f":"Anki!A76 & \".wav\"","v":"it.wav"},{"$f":"MATCH(A76,$D$11:$D$110,0)+10","v":54},null,"per.wav"]
[{"$f":"Anki!A77 & \".wav\"","v":"its.wav"},{"$f":"MATCH(A77,$D$11:$D$110,0)+10","v":55},null,"round.wav"]
[{"$f":"Anki!A78 & \".wav\"","v":"little.wav"},{"$f":"MATCH(A78,$D$11:$D$110,0)+10","v":57},null,"same.wav"]
[{"$f":"Anki!A79 & \".wav\"","v":"many.wav"},{"$f":"MATCH(A79,$D$11:$D$110,0)+10","v":58},null,"she.wav"]
[{"$f":"Anki!A80 & \".wav\"","v":"me.wav"},{"$f":"MATCH(A80,$D$11:$D$110,0)+10","v":59},null,"since.wav"]
[{"$f":"Anki!A81 & \".wav\"","v":"mine.wav"},{"$f":"MATCH(A81,$D$11:$D$110,0)+10","v":60},null,"some.wav"]
[{"$f":"Anki!A82 & \".wav\"","v":"much.wav"},{"$f":"MATCH(A82,$D$11:$D$110,0)+10","v":61},null,"such.wav"]
[{"$f":"Anki!A83 & \".wav\"","v":"my.wav"},{"$f":"MATCH(A83,$D$11:$D$110,0)+10","v":62},null,"that.wav"]
[{"$f":"Anki!A84 & \".wav\"","v":"myself.wav"},{"$f":"MATCH(A84,$D$11:$D$110,0)+10","v":63},null,"their.wav"]
[{"$f":"Anki!A85 & \".wav\"","v":"neither.wav"},{"$f":"MATCH(A85,$D$11:$D$110,0)+10","v":65},null,"them.wav"]
[{"$f":"Anki!A86 & \".wav\"","v":"no.wav"},{"$f":"MATCH(A86,$D$11:$D$110,0)+10","v":67},null,"they.wav"]
[{"$f":"Anki!A87 & \".wav\"","v":"none.wav"},{"$f":"MATCH(A87,$D$11:$D$110,0)+10","v":68},null,"this.wav"]
[{"$f":"Anki!A88 & \".wav\"","v":"one.wav"},{"$f":"MATCH(A88,$D$11:$D$110,0)+10","v":70},null,"through.wav"]
[{"$f":"Anki!A89 & \".wav\"","v":"our.wav"},{"$f":"MATCH(A89,$D$11:$D$110,0)+10","v":71},null,"till.wav"]
[{"$f":"Anki!A90 & \".wav\"","v":"same.wav"},{"$f":"MATCH(A90,$D$11:$D$110,0)+10","v":78},null,"under.wav"]
[{"$f":"Anki!A91 & \".wav\"","v":"she.wav"},{"$f":"MATCH(A91,$D$11:$D$110,0)+10","v":79},null,"until.wav"]
[{"$f":"Anki!A92 & \".wav\"","v":"some.wav"},{"$f":"MATCH(A92,$D$11:$D$110,0)+10","v":81},null,"up.wav"]
[{"$f":"Anki!A93 & \".wav\"","v":"such.wav"},{"$f":"MATCH(A93,$D$11:$D$110,0)+10","v":82},null,"us.wav"]
[{"$f":"Anki!A94 & \".wav\"","v":"that.wav"},{"$f":"MATCH(A94,$D$11:$D$110,0)+10","v":83},null,"we.wav"]
[{"$f":"Anki!A95 & \".wav\"","v":"their.wav"},{"$f":"MATCH(A95,$D$11:$D$110,0)+10","v":84},null,"what.wav"]
[{"$f":"Anki!A96 & \".wav\"","v":"them.wav"},{"$f":"MATCH(A96,$D$11:$D$110,0)+10","v":85},null,"whatever.wav"]
[{"$f":"Anki!A97 & \".wav\"","v":"these.wav"},{"$f":"MATCH(A97,$D$11:$D$110,0)+10","v":{"$error":"#N/A"}},null,"which.wav"]
[{"$f":"Anki!A98 & \".wav\"","v":"they.wav"},{"$f":"MATCH(A98,$D$11:$D$110,0)+10","v":86},null,"who.wav"]
[{"$f":"Anki!A99 & \".wav\"","v":"this.wav"},{"$f":"MATCH(A99,$D$11:$D$110,0)+10","v":87},null,"whose.wav"]
[{"$f":"Anki!A100 & \".wav\"","v":"those.wav"},{"$f":"MATCH(A100,$D$11:$D$110,0)+10","v":{"$error":"#N/A"}},null,"with.wav"]
[{"$f":"Anki!A101 & \".wav\"","v":"us.wav"},{"$f":"MATCH(A101,$D$11:$D$110,0)+10","v":93},null,"within.wav"]
[{"$f":"Anki!A102 & \".wav\"","v":"we.wav"},{"$f":"MATCH(A102,$D$11:$D$110,0)+10","v":94},null,"without.wav"]
[{"$f":"Anki!A103 & \".wav\"","v":"what.wav"},{"$f":"MATCH(A103,$D$11:$D$110,0)+10","v":95},null,"you.wav"]
[{"$f":"Anki!A104 & \".wav\"","v":"whatever.wav"},{"$f":"MATCH(A104,$D$11:$D$110,0)+10","v":96},null,"your.wav"]
[{"$f":"Anki!A105 & \".wav\"","v":"which.wav"},{"$f":"MATCH(A105,$D$11:$D$110,0)+10","v":97},null,"yourself.wav"]
[{"$f":"Anki!A106 & \".wav\"","v":"who.wav"},{"$f":"MATCH(A106,$D$11:$D$110,0)+10","v":98}]
[{"$f":"Anki!A107 & \".wav\"","v":"whose.wav"},{"$f":"MATCH(A107,$D$11:$D$110,0)+10","v":99}]
[{"$f":"Anki!A108 & \".wav\"","v":"you.wav"},{"$f":"MATCH(A108,$D$11:$D$110,0)+10","v":103}]
[{"$f":"Anki!A109 & \".wav\"","v":"your.wav"},{"$f":"MATCH(A109,$D$11:$D$110,0)+10","v":104}]
[{"$f":"Anki!A110 & \".wav\"","v":"yourself.wav"},{"$f":"MATCH(A110,$D$11:$D$110,0)+10","v":105}]

{"sheet":"Найти JPG","index":5,"n_rows":110,"n_cols":2,"rows_kept":110,"cut":false,"hidden":false,"merged":[]}
[]
[]
[]
[]
[]
[]
[]
["Вроде все файлы и так у меня есть, но пусть эта страница будет"]
[]
["НАЙТИ"]
[{"$f":"IF(ISBLANK(Anki!F11), \"\",Anki!F11)","v":""},{"$f":"IFERROR(REPLACE(REPLACE(A11,1,10,\"\"),FIND(\">\",REPLACE(A11,1,10,\"\"),1)-1,2,\"\"), \"\")","v":""}]
[{"$f":"IF(ISBLANK(Anki!F12), \"\",Anki!F12)","v":""},{"$f":"IFERROR(REPLACE(REPLACE(A12,1,10,\"\"),FIND(\">\",REPLACE(A12,1,10,\"\"),1)-1,2,\"\"), \"\")","v":""}]
[{"$f":"IF(ISBLANK(Anki!F13), \"\",Anki!F13)","v":""},""]
[{"$f":"IF(ISBLANK(Anki!F14), \"\",Anki!F14)","v":""},""]
[{"$f":"IF(ISBLANK(Anki!F15), \"\",Anki!F15)","v":""},""]
[{"$f":"IF(ISBLANK(Anki!F16), \"\",Anki!F16)","v":"<img src=\"after.jpg\">"},"after.jpg"]
[{"$f":"IF(ISBLANK(Anki!F17), \"\",Anki!F17)","v":""},""]
[{"$f":"IF(ISBLANK(Anki!F18), \"\",Anki!F18)","v":""},""]
[{"$f":"IF(ISBLANK(Anki!F19), \"\",Anki!F19)","v":"<img src=\"among.jpg\">"},"among.jpg"]
[{"$f":"IF(ISBLANK(Anki!F20), \"\",Anki!F20)","v":""},""]
[{"$f":"IF(ISBLANK(Anki!F21), \"\",Anki!F21)","v":""},""]
[{"$f":"IF(ISBLANK(Anki!F22), \"\",Anki!F22)","v":""},""]
[{"$f":"IF(ISBLANK(Anki!F23), \"\",Anki!F23)","v":""},""]
[{"$f":"IF(ISBLANK(Anki!F24), \"\",Anki!F24)","v":"<img src=\"before.jpg\">"},"before.jpg"]
[{"$f":"IF(ISBLANK(Anki!F25), \"\",Anki!F25)","v":"<img src=\"behind.jpg\">"},"behind.jpg"]
[{"$f":"IF(ISBLANK(Anki!F26), \"\",Anki!F26)","v":"<img src=\"below.jpg\">"},"below.jpg"]
[{"$f":"IF(ISBLANK(Anki!F27), \"\",Anki!F27)","v":""},""]
[{"$f":"IF(ISBLANK(Anki!F28), \"\",Anki!F28)","v":""},""]
[{"$f":"IF(ISBLANK(Anki!F29), \"\",Anki!F29)","v":"<img src=\"between.jpg\">"},"between.jpg"]
[{"$f":"IF(ISBLANK(Anki!F30), \"\",Anki!F30)","v":""},""]
[{"$f":"IF(ISBLANK(Anki!F31), \"\",Anki!F31)","v":"<img src=\"but.jpg\">"},"but.jpg"]
[{"$f":"IF(ISBLANK(Anki!F32), \"\",Anki!F32)","v":""},""]
[{"$f":"IF(ISBLANK(Anki!F33), \"\",Anki!F33)","v":"<img src=\"down.jpg\">"},"down.jpg"]
[{"$f":"IF(ISBLANK(Anki!F34), \"\",Anki!F34)","v":""},""]
[{"$f":"IF(ISBLANK(Anki!F35), \"\",Anki!F35)","v":""},""]
[{"$f":"IF(ISBLANK(Anki!F36), \"\",Anki!F36)","v":""},""]
[{"$f":"IF(ISBLANK(Anki!F37), \"\",Anki!F37)","v":""},""]
[{"$f":"IF(ISBLANK(Anki!F38), \"\",Anki!F38)","v":""},""]
[{"$f":"IF(ISBLANK(Anki!F39), \"\",Anki!F39)","v":""},""]
[{"$f":"IF(ISBLANK(Anki!F40), \"\",Anki!F40)","v":""},""]
[{"$f":"IF(ISBLANK(Anki!F41), \"\",Anki!F41)","v":"<img src=\"like.jpg\">"},"like.jpg"]
[{"$f":"IF(ISBLANK(Anki!F42), \"\",Anki!F42)","v":"<img src=\"near.jpg\">"},"near.jpg"]
[{"$f":"IF(ISBLANK(Anki!F43), \"\",Anki!F43)","v":"<img src=\"next.jpg\">"},"next.jpg"]
[{"$f":"IF(ISBLANK(Anki!F44), \"\",Anki!F44)","v":""},""]
[{"$f":"IF(ISBLANK(Anki!F45), \"\",Anki!F45)","v":""},""]
[{"$f":"IF(ISBLANK(Anki!F46), \"\",Anki!F46)","v":""},""]
[{"$f":"IF(ISBLANK(Anki!F47), \"\",Anki!F47)","v":"<img src=\"out.jpg\">"},"out.jpg"]
[{"$f":"IF(ISBLANK(Anki!F48), \"\",Anki!F48)","v":""},""]
[{"$f":"IF(ISBLANK(Anki!F49), \"\",Anki!F49)","v":"<img src=\"over.jpg\">"},"over.jpg"]
[{"$f":"IF(ISBLANK(Anki!F50), \"\",Anki!F50)","v":"<img src=\"past.jpg\">"},"past.jpg"]
[{"$f":"IF(ISBLANK(Anki!F51), \"\",Anki!F51)","v":""},""]
[{"$f":"IF(ISBLANK(Anki!F52), \"\",Anki!F52)","v":"<img src=\"round.jpg\">"},"round.jpg"]
[{"$f":"IF(ISBLANK(Anki!F53), \"\",Anki!F53)","v":"<img src=\"since.jpg\">"},"since.jpg"]
[{"$f":"IF(ISBLANK(Anki!F54), \"\",Anki!F54)","v":""},""]
[{"$f":"IF(ISBLANK(Anki!F55), \"\",Anki!F55)","v":""},""]
[{"$f":"IF(ISBLANK(Anki!F56), \"\",Anki!F56)","v":""},""]
[{"$f":"IF(ISBLANK(Anki!F57), \"\",Anki!F57)","v":"<img src=\"under.jpg\">"},"under.jpg"]
[{"$f":"IF(ISBLANK(Anki!F58), \"\",Anki!F58)","v":"<img src=\"until.jpg\">"},"until.jpg"]
[{"$f":"IF(ISBLANK(Anki!F59), \"\",Anki!F59)","v":"<img src=\"up.jpg\">"},"up.jpg"]
[{"$f":"IF(ISBLANK(Anki!F60), \"\",Anki!F60)","v":"<img src=\"with.jpg\">"},"with.jpg"]
[{"$f":"IF(ISBLANK(Anki!F61), \"\",Anki!F61)","v":""},""]
[{"$f":"IF(ISBLANK(Anki!F62), \"\",Anki!F62)","v":""},""]
[{"$f":"IF(ISBLANK(Anki!F63), \"\",Anki!F63)","v":"<img src=\"I.jpg\">"},"I.jpg"]
[{"$f":"IF(ISBLANK(Anki!F64), \"\",Anki!F64)","v":""},""]
[{"$f":"IF(ISBLANK(Anki!F65), \"\",Anki!F65)","v":""},""]
[{"$f":"IF(ISBLANK(Anki!F66), \"\",Anki!F66)","v":"<img src=\"any.jpg\">"},"any.jpg"]
[{"$f":"IF(ISBLANK(Anki!F67), \"\",Anki!F67)","v":"<img src=\"both.jpg\">"},"both.jpg"]
[{"$f":"IF(ISBLANK(Anki!F68), \"\",Anki!F68)","v":"<img src=\"each.jpg\">"},"each.jpg"]
[{"$f":"IF(ISBLANK(Anki!F69), \"\",Anki!F69)","v":""},""]
[{"$f":"IF(ISBLANK(Anki!F70), \"\",Anki!F70)","v":"<img src=\"every.jpg\">"},"every.jpg"]
[{"$f":"IF(ISBLANK(Anki!F71), \"\",Anki!F71)","v":""},""]
[{"$f":"IF(ISBLANK(Anki!F72), \"\",Anki!F72)","v":"<img src=\"he.jpg\">"},"he.jpg"]
[{"$f":"IF(ISBLANK(Anki!F73), \"\",Anki!F73)","v":""},""]
[{"$f":"IF(ISBLANK(Anki!F74), \"\",Anki!F74)","v":""},""]
[{"$f":"IF(ISBLANK(Anki!F75), \"\",Anki!F75)","v":""},""]
[{"$f":"IF(ISBLANK(Anki!F76), \"\",Anki!F76)","v":""},{"$f":"IFERROR(REPLACE(REPLACE(A76,1,10,\"\"),FIND(\">\",REPLACE(A76,1,10,\"\"),1)-1,2,\"\"), \"\")","v":""}]
[{"$f":"IF(ISBLANK(Anki!F77), \"\",Anki!F77)","v":""},""]
[{"$f":"IF(ISBLANK(Anki!F78), \"\",Anki!F78)","v":"<img src=\"little.jpg\">"},"little.jpg"]
[{"$f":"IF(ISBLANK(Anki!F79), \"\",Anki!F79)","v":"<img src=\"many.jpg\">"},"many.jpg"]
[{"$f":"IF(ISBLANK(Anki!F80), \"\",Anki!F80)","v":""},""]
[{"$f":"IF(ISBLANK(Anki!F81), \"\",Anki!F81)","v":""},""]
[{"$f":"IF(ISBLANK(Anki!F82), \"\",Anki!F82)","v":"<img src=\"much.jpg\">"},"much.jpg"]
[{"$f":"IF(ISBLANK(Anki!F83), \"\",Anki!F83)","v":""},""]
[{"$f":"IF(ISBLANK(Anki!F84), \"\",Anki!F84)","v":""},""]
[{"$f":"IF(ISBLANK(Anki!F85), \"\",Anki!F85)","v":""},""]
[{"$f":"IF(ISBLANK(Anki!F86), \"\",Anki!F86)","v":"<img src=\"no.jpg\">"},"no.jpg"]
[{"$f":"IF(ISBLANK(Anki!F87), \"\",Anki!F87)","v":""},""]
[{"$f":"IF(ISBLANK(Anki!F88), \"\",Anki!F88)","v":"<img src=\"one.jpg\">"},"one.jpg"]
[{"$f":"IF(ISBLANK(Anki!F89), \"\",Anki!F89)","v":"<img src=\"our.jpg\">"},"our.jpg"]
[{"$f":"IF(ISBLANK(Anki!F90), \"\",Anki!F90)","v":""},""]
[{"$f":"IF(ISBLANK(Anki!F91), \"\",Anki!F91)","v":"<img src=\"she.jpg\">"},"she.jpg"]
[{"$f":"IF(ISBLANK(Anki!F92), \"\",Anki!F92)","v":""},""]
[{"$f":"IF(ISBLANK(Anki!F93), \"\",Anki!F93)","v":""},""]
[{"$f":"IF(ISBLANK(Anki!F94), \"\",Anki!F94)","v":""},""]
[{"$f":"IF(ISBLANK(Anki!F95), \"\",Anki!F95)","v":"<img src=\"their.jpg\">"},"their.jpg"]
[{"$f":"IF(ISBLANK(Anki!F96), \"\",Anki!F96)","v":"<img src=\"them.jpg\">"},"them.jpg"]
[{"$f":"IF(ISBLANK(Anki!F97), \"\",Anki!F97)","v":""},""]
[{"$f":"IF(ISBLANK(Anki!F98), \"\",Anki!F98)","v":"<img src=\"they.jpg\">"},"they.jpg"]
[{"$f":"IF(ISBLANK(Anki!F99), \"\",Anki!F99)","v":""},""]
[{"$f":"IF(ISBLANK(Anki!F100), \"\",Anki!F100)","v":""},""]
[{"$f":"IF(ISBLANK(Anki!F101), \"\",Anki!F101)","v":""},""]
[{"$f":"IF(ISBLANK(Anki!F102), \"\",Anki!F102)","v":"<img src=\"we.jpg\">"},"we.jpg"]
[{"$f":"IF(ISBLANK(Anki!F103), \"\",Anki!F103)","v":"<img src=\"what.jpg\">"},"what.jpg"]
[{"$f":"IF(ISBLANK(Anki!F104), \"\",Anki!F104)","v":""},""]
[{"$f":"IF(ISBLANK(Anki!F105), \"\",Anki!F105)","v":"<img src=\"which.jpg\">"},"which.jpg"]
[{"$f":"IF(ISBLANK(Anki!F106), \"\",Anki!F106)","v":""},""]
[{"$f":"IF(ISBLANK(Anki!F107), \"\",Anki!F107)","v":""},""]
[{"$f":"IF(ISBLANK(Anki!F108), \"\",Anki!F108)","v":"<img src=\"you.jpg\">"},"you.jpg"]
[{"$f":"IF(ISBLANK(Anki!F109), \"\",Anki!F109)","v":""},""]
[{"$f":"IF(ISBLANK(Anki!F110), \"\",Anki!F110)","v":""},""]